{"text_format":"1","workbook":"xlsx","n_sheets":9,"sheets":["Instrucciones","Presupuesto","Hoja1","Movimientos","Cuenta Corriente","Stock ","Lista de precios","Clientes","Stock"],"not_rendered":{"charts":0,"images":0,"macros":1,"external_links":2,"defined_names":10,"comments":0,"pivot_tables":2},"unopened":[],"bounds":{"document_bytes":16777216,"sheet_cells":100000,"rows_first":2000,"rows_last":500,"rows_between":2000,"halvings":0,"cell_chars":16384,"cell_head_chars":4096},"cells_cut":0,"cells_raw":0,"read":"whole","date_system":"1900"}

{"sheet":"Instrucciones","index":0,"n_rows":0,"n_cols":0,"rows_kept":0,"cut":false,"hidden":false,"merged":[]}

{"sheet":"Presupuesto","index":1,"n_rows":63,"n_cols":12,"rows_kept":63,"cut":false,"hidden":false,"merged":[[9,3,9,4],[2,1,2,5]]}
[]
[]
[null,"PRESUPUESTO"]
[]
[null,"FECHA",null,null,"Número Pres.",1]
[null,"Cliente",null,"CUIT",{"$f":"IF(C6=\"\",\"\",VLOOKUP(Presupuesto!$C$6,Clientes!$B$7:$H$1000,7,0))","v":""}]
[null,"Dirección",{"$f":"IF(C6=\"\",\"\",VLOOKUP(Presupuesto!$C$6,Clientes!$B$7:$H$1000,6,0))","v":""},"Localidad",{"$f":"IF(C6=\"\",\"\",VLOOKUP(Presupuesto!$C$6,Clientes!$B$7:$H$1000,2,0))","v":""}]
[null,"Teléfono",{"$f":"IF(C7=\"\",\"\",VLOOKUP(Presupuesto!$C$6,Clientes!$B$7:$H$1000,4,0))","v":""},"Provincia",{"$f":"IF(C6=\"\",\"\",VLOOKUP(Presupuesto!$C$6,Clientes!$B$7:$H$1000,3,0))","v":""}]
[null,"Email",{"$f":"IF(C6=\"\",\"\",VLOOKUP(Presupuesto!$C$6,Clientes!$B$7:$H$1000,5,0))","v":""}]
[]
[null,"CODIGO","PRODUCTO","PRECIO","CANTIDAD","TOTAL",null,null,"Stock Actual","A vender","Stock Mínimo","Advertencia"]
[null,"X"]
[null,null,{"$f":"IF(B13=\"\",\"\",VLOOKUP($B13,'Lista de precios'!$B$7:$C$2500,2,0))","v":""},{"$f":"IF(B13=\"\",\"\",VLOOKUP($B13,'Lista de precios'!$B$7:$D$1500,3,0))","v":""},null,{"$f":"IF(D13=\"\",\"\",D13*E13)","v":""},null,null,{"$f":"IF(C13=\"\",\"\",SUMIF(Movimientos!$H$8:$H$10446,Presupuesto!C13,Movimientos!$I$8:$I$10446))","v":""},{"$f":"IF(E13=\"\",0,E13)","v":0},{"$f":"IF(C13=\"\",\"\",VLOOKUP(C13,'Lista de precios'!C7:$E$1000,3,0))","v":""},{"$f":"IF(E13=\"\",\"\",IF((I13-J13)<=K13,\"El stock Actual es menor al mínimo\",\"El stock es suficiente\"))","v":""}]
[null,null,{"$f":"IF(B14=\"\",\"\",VLOOKUP($B14,'Lista de precios'!$B$7:$C$2500,2,0))","v":""},{"$f":"IF(B14=\"\",\"\",VLOOKUP($B14,'Lista de precios'!$B$7:$D$1500,3,0))","v":""},null,{"$f":"IF(D14=\"\",\"\",D14*E14)","v":""},null,null,{"$f":"IF(C14=\"\",\"\",SUMIF(Movimientos!$H$8:$H$10446,Presupuesto!C14,Movimientos!$I$8:$I$10446))","v":""},{"$f":"IF(E14=\"\",\"\",E14)","v":""},{"$f":"IF(C14=\"\",\"\",VLOOKUP(C14,'Lista de precios'!C8:$E$1000,3,0))","v":""},{"$f":"IF(E14=\"\",\"\",IF((I14-J14)<=K14,\"El stock Actual es menor al mínimo\",\"El stock es suficiente\"))","v":""}]
[null,null,{"$f":"IF(B15=\"\",\"\",VLOOKUP($B15,'Lista de precios'!$B$7:$C$2500,2,0))","v":""},{"$f":"IF(B15=\"\",\"\",VLOOKUP($B15,'Lista de precios'!$B$7:$D$1500,3,0))","v":""},null,{"$f":"IF(D15=\"\",\"\",D15*E15)","v":""},null,null,{"$f":"IF(C15=\"\",\"\",SUMIF(Movimientos!$H$8:$H$10446,Presupuesto!C15,Movimientos!$I$8:$I$10446))","v":""},"",{"$f":"IF(C15=\"\",\"\",VLOOKUP(C15,'Lista de precios'!C9:$E$1000,3,0))","v":""},""]
[null,null,{"$f":"IF(B16=\"\",\"\",VLOOKUP($B16,'Lista de precios'!$B$7:$C$2500,2,0))","v":""},{"$f":"IF(B16=\"\",\"\",VLOOKUP($B16,'Lista de precios'!$B$7:$D$1500,3,0))","v":""},null,"",null,null,{"$f":"IF(C16=\"\",\"\",SUMIF(Movimientos!$H$8:$H$10446,Presupuesto!C16,Movimientos!$I$8:$I$10446))","v":""},"",{"$f":"IF(C16=\"\",\"\",VLOOKUP(C16,'Lista de precios'!C10:$E$1000,3,0))","v":""},""]
[null,null,{"$f":"IF(B17=\"\",\"\",VLOOKUP($B17,'Lista de precios'!$B$7:$C$2500,2,0))","v":""},{"$f":"IF(B17=\"\",\"\",VLOOKUP($B17,'Lista de precios'!$B$7:$D$1500,3,0))","v":""},null,"",null,null,{"$f":"IF(C17=\"\",\"\",SUMIF(Movimientos!$H$8:$H$10446,Presupuesto!C17,Movimientos!$I$8:$I$10446))","v":""},"",{"$f":"IF(C17=\"\",\"\",VLOOKUP(C17,'Lista de precios'!C11:$E$1000,3,0))","v":""},""]
[null,null,{"$f":"IF(B18=\"\",\"\",VLOOKUP($B18,'Lista de precios'!$B$7:$C$2500,2,0))","v":""},{"$f":"IF(B18=\"\",\"\",VLOOKUP($B18,'Lista de precios'!$B$7:$D$1500,3,0))","v":""},null,"",null,null,{"$f":"IF(C18=\"\",\"\",SUMIF(Movimientos!$H$8:$H$10446,Presupuesto!C18,Movimientos!$I$8:$I$10446))","v":""},"",{"$f":"IF(C18=\"\",\"\",VLOOKUP(C18,'Lista de precios'!C12:$E$1000,3,0))","v":""},""]
[null,null,{"$f":"IF(B19=\"\",\"\",VLOOKUP($B19,'Lista de precios'!$B$7:$C$2500,2,0))","v":""},{"$f":"IF(B19=\"\",\"\",VLOOKUP($B19,'Lista de precios'!$B$7:$D$1500,3,0))","v":""},null,"",null,null,{"$f":"IF(C19=\"\",\"\",SUMIF(Movimientos!$H$8:$H$10446,Presupuesto!C19,Movimientos!$I$8:$I$10446))","v":""},"",{"$f":"IF(C19=\"\",\"\",VLOOKUP(C19,'Lista de precios'!C13:$E$1000,3,0))","v":""},""]
[null,null,{"$f":"IF(B20=\"\",\"\",VLOOKUP($B20,'Lista de precios'!$B$7:$C$2500,2,0))","v":""},{"$f":"IF(B20=\"\",\"\",VLOOKUP($B20,'Lista de precios'!$B$7:$D$1500,3,0))","v":""},null,{"$f":"IF(D20=\"\",\"\",D20*E20)","v":""},null,null,{"$f":"IF(C20=\"\",\"\",SUMIF(Movimientos!$H$8:$H$10446,Presupuesto!C20,Movimientos!$I$8:$I$10446))","v":""},"",{"$f":"IF(C20=\"\",\"\",VLOOKUP(C20,'Lista de precios'!C14:$E$1000,3,0))","v":""},""]
[null,null,{"$f":"IF(B21=\"\",\"\",VLOOKUP($B21,'Lista de precios'!$B$7:$C$2500,2,0))","v":""},{"$f":"IF(B21=\"\",\"\",VLOOKUP($B21,'Lista de precios'!$B$7:$D$1500,3,0))","v":""},null,"",null,null,{"$f":"IF(C21=\"\",\"\",SUMIF(Movimientos!$H$8:$H$10446,Presupuesto!C21,Movimientos!$I$8:$I$10446))","v":""},"",{"$f":"IF(C21=\"\",\"\",VLOOKUP(C21,'Lista de precios'!C15:$E$1000,3,0))","v":""},""]
[null,null,{"$f":"IF(B22=\"\",\"\",VLOOKUP($B22,'Lista de precios'!$B$7:$C$2500,2,0))","v":""},{"$f":"IF(B22=\"\",\"\",VLOOKUP($B22,'Lista de precios'!$B$7:$D$1500,3,0))","v":""},null,"",null,null,{"$f":"IF(C22=\"\",\"\",SUMIF(Movimientos!$H$8:$H$10446,Presupuesto!C22,Movimientos!$I$8:$I$10446))","v":""},"",{"$f":"IF(C22=\"\",\"\",VLOOKUP(C22,'Lista de precios'!C16:$E$1000,3,0))","v":""},""]
[null,null,{"$f":"IF(B23=\"\",\"\",VLOOKUP($B23,'Lista de precios'!$B$7:$C$2500,2,0))","v":""},{"$f":"IF(B23=\"\",\"\",VLOOKUP($B23,'Lista de precios'!$B$7:$D$1500,3,0))","v":""},null,"",null,null,{"$f":"IF(C23=\"\",\"\",SUMIF(Movimientos!$H$8:$H$10446,Presupuesto!C23,Movimientos!$I$8:$I$10446))","v":""},"",{"$f":"IF(C23=\"\",\"\",VLOOKUP(C23,'Lista de precios'!C17:$E$1000,3,0))","v":""},""]
[null,null,{"$f":"IF(B24=\"\",\"\",VLOOKUP($B24,'Lista de precios'!$B$7:$C$2500,2,0))","v":""},{"$f":"IF(B24=\"\",\"\",VLOOKUP($B24,'Lista de precios'!$B$7:$D$1500,3,0))","v":""},null,"",null,null,{"$f":"IF(C24=\"\",\"\",SUMIF(Movimientos!$H$8:$H$10446,Presupuesto!C24,Movimientos!$I$8:$I$10446))","v":""},"",{"$f":"IF(C24=\"\",\"\",VLOOKUP(C24,'Lista de precios'!C18:$E$1000,3,0))","v":""},""]
[null,null,{"$f":"IF(B25=\"\",\"\",VLOOKUP($B25,'Lista de precios'!$B$7:$C$2500,2,0))","v":""},{"$f":"IF(B25=\"\",\"\",VLOOKUP($B25,'Lista de precios'!$B$7:$D$1500,3,0))","v":""},null,"",null,null,{"$f":"IF(C25=\"\",\"\",SUMIF(Movimientos!$H$8:$H$10446,Presupuesto!C25,Movimientos!$I$8:$I$10446))","v":""},"",{"$f":"IF(C25=\"\",\"\",VLOOKUP(C25,'Lista de precios'!C19:$E$1000,3,0))","v":""},""]
[null,null,{"$f":"IF(B26=\"\",\"\",VLOOKUP($B26,'Lista de precios'!$B$7:$C$2500,2,0))","v":""},{"$f":"IF(B26=\"\",\"\",VLOOKUP($B26,'Lista de precios'!$B$7:$D$1500,3,0))","v":""},null,"",null,null,{"$f":"IF(C26=\"\",\"\",SUMIF(Movimientos!$H$8:$H$10446,Presupuesto!C26,Movimientos!$I$8:$I$10446))","v":""},"",{"$f":"IF(C26=\"\",\"\",VLOOKUP(C26,'Lista de precios'!C20:$E$1000,3,0))","v":""},""]
[null,null,{"$f":"IF(B27=\"\",\"\",VLOOKUP($B27,'Lista de precios'!$B$7:$C$2500,2,0))","v":""},{"$f":"IF(B27=\"\",\"\",VLOOKUP($B27,'Lista de precios'!$B$7:$D$1500,3,0))","v":""},null,"",null,null,{"$f":"IF(C27=\"\",\"\",SUMIF(Movimientos!$H$8:$H$10446,Presupuesto!C27,Movimientos!$I$8:$I$10446))","v":""},"",{"$f":"IF(C27=\"\",\"\",VLOOKUP(C27,'Lista de precios'!C21:$E$1000,3,0))","v":""},""]
[null,null,{"$f":"IF(B28=\"\",\"\",VLOOKUP($B28,'Lista de precios'!$B$7:$C$2500,2,0))","v":""},{"$f":"IF(B28=\"\",\"\",VLOOKUP($B28,'Lista de precios'!$B$7:$D$1500,3,0))","v":""},null,"",null,null,{"$f":"IF(C28=\"\",\"\",SUMIF(Movimientos!$H$8:$H$10446,Presupuesto!C28,Movimientos!$I$8:$I$10446))","v":""},"",{"$f":"IF(C28=\"\",\"\",VLOOKUP(C28,'Lista de precios'!C22:$E$1000,3,0))","v":""},""]
[null,null,{"$f":"IF(B29=\"\",\"\",VLOOKUP($B29,'Lista de precios'!$B$7:$C$2500,2,0))","v":""},{"$f":"IF(B29=\"\",\"\",VLOOKUP($B29,'Lista de precios'!$B$7:$D$1500,3,0))","v":""},null,{"$f":"IF(D29=\"\",\"\",D29*E29)","v":""},null,null,{"$f":"IF(C29=\"\",\"\",SUMIF(Movimientos!$H$8:$H$10446,Presupuesto!C29,Movimientos!$I$8:$I$10446))","v":""},"",{"$f":"IF(C29=\"\",\"\",VLOOKUP(C29,'Lista de precios'!C23:$E$1000,3,0))","v":""},""]
[null,null,{"$f":"IF(B30=\"\",\"\",VLOOKUP($B30,'Lista de precios'!$B$7:$C$2500,2,0))","v":""},{"$f":"IF(B30=\"\",\"\",VLOOKUP($B30,'Lista de precios'!$B$7:$D$1500,3,0))","v":""},null,"",null,null,{"$f":"IF(C30=\"\",\"\",SUMIF(Movimientos!$H$8:$H$10446,Presupuesto!C30,Movimientos!$I$8:$I$10446))","v":""},"",{"$f":"IF(C30=\"\",\"\",VLOOKUP(C30,'Lista de precios'!C24:$E$1000,3,0))","v":""},""]
[null,null,{"$f":"IF(B31=\"\",\"\",VLOOKUP($B31,'Lista de precios'!$B$7:$C$2500,2,0))","v":""},{"$f":"IF(B31=\"\",\"\",VLOOKUP($B31,'Lista de precios'!$B$7:$D$1500,3,0))","v":""},null,"",null,null,{"$f":"IF(C31=\"\",\"\",SUMIF(Movimientos!$H$8:$H$10446,Presupuesto!C31,Movimientos!$I$8:$I$10446))","v":""},"",{"$f":"IF(C31=\"\",\"\",VLOOKUP(C31,'Lista de precios'!C25:$E$1000,3,0))","v":""},""]
[null,null,{"$f":"IF(B32=\"\",\"\",VLOOKUP($B32,'Lista de precios'!$B$7:$C$2500,2,0))","v":""},{"$f":"IF(B32=\"\",\"\",VLOOKUP($B32,'Lista de precios'!$B$7:$D$1500,3,0))","v":""},null,"",null,null,{"$f":"IF(C32=\"\",\"\",SUMIF(Movimientos!$H$8:$H$10446,Presupuesto!C32,Movimientos!$I$8:$I$10446))","v":""},"",{"$f":"IF(C32=\"\",\"\",VLOOKUP(C32,'Lista de precios'!C26:$E$1000,3,0))","v":""},""]
[null,null,{"$f":"IF(B33=\"\",\"\",VLOOKUP($B33,'Lista de precios'!$B$7:$C$2500,2,0))","v":""},{"$f":"IF(B33=\"\",\"\",VLOOKUP($B33,'Lista de precios'!$B$7:$D$1500,3,0))","v":""},null,"",null,null,{"$f":"IF(C33=\"\",\"\",SUMIF(Movimientos!$H$8:$H$10446,Presupuesto!C33,Movimientos!$I$8:$I$10446))","v":""},"",{"$f":"IF(C33=\"\",\"\",VLOOKUP(C33,'Lista de precios'!C27:$E$1000,3,0))","v":""},""]
[null,null,{"$f":"IF(B34=\"\",\"\",VLOOKUP($B34,'Lista de precios'!$B$7:$C$2500,2,0))","v":""},{"$f":"IF(B34=\"\",\"\",VLOOKUP($B34,'Lista de precios'!$B$7:$D$1500,3,0))","v":""},null,"",null,null,{"$f":"IF(C34=\"\",\"\",SUMIF(Movimientos!$H$8:$H$10446,Presupuesto!C34,Movimientos!$I$8:$I$10446))","v":""},"",{"$f":"IF(C34=\"\",\"\",VLOOKUP(C34,'Lista de precios'!C28:$E$1000,3,0))","v":""},""]
[null,null,{"$f":"IF(B35=\"\",\"\",VLOOKUP($B35,'Lista de precios'!$B$7:$C$2500,2,0))","v":""},{"$f":"IF(B35=\"\",\"\",VLOOKUP($B35,'Lista de precios'!$B$7:$D$1500,3,0))","v":""},null,"",null,null,{"$f":"IF(C35=\"\",\"\",SUMIF(Movimientos!$H$8:$H$10446,Presupuesto!C35,Movimientos!$I$8:$I$10446))","v":""},"",{"$f":"IF(C35=\"\",\"\",VLOOKUP(C35,'Lista de precios'!C29:$E$1000,3,0))","v":""},""]
[null,null,{"$f":"IF(B36=\"\",\"\",VLOOKUP($B36,'Lista de precios'!$B$7:$C$2500,2,0))","v":""},{"$f":"IF(B36=\"\",\"\",VLOOKUP($B36,'Lista de precios'!$B$7:$D$1500,3,0))","v":""},null,"",null,null,{"$f":"IF(C36=\"\",\"\",SUMIF(Movimientos!$H$8:$H$10446,Presupuesto!C36,Movimientos!$I$8:$I$10446))","v":""},"",{"$f":"IF(C36=\"\",\"\",VLOOKUP(C36,'Lista de precios'!C30:$E$1000,3,0))","v":""},""]
[null,null,{"$f":"IF(B37=\"\",\"\",VLOOKUP($B37,'Lista de precios'!$B$7:$C$2500,2,0))","v":""},{"$f":"IF(B37=\"\",\"\",VLOOKUP($B37,'Lista de precios'!$B$7:$D$1500,3,0))","v":""},null,"",null,null,{"$f":"IF(C37=\"\",\"\",SUMIF(Movimientos!$H$8:$H$10446,Presupuesto!C37,Movimientos!$I$8:$I$10446))","v":""},"",{"$f":"IF(C37=\"\",\"\",VLOOKUP(C37,'Lista de precios'!C31:$E$1000,3,0))","v":""},""]
[null,null,{"$f":"IF(B38=\"\",\"\",VLOOKUP($B38,'Lista de precios'!$B$7:$C$2500,2,0))","v":""},{"$f":"IF(B38=\"\",\"\",VLOOKUP($B38,'Lista de precios'!$B$7:$D$1500,3,0))","v":""},null,"",null,null,{"$f":"IF(C38=\"\",\"\",SUMIF(Movimientos!$H$8:$H$10446,Presupuesto!C38,Movimientos!$I$8:$I$10446))","v":""},"",{"$f":"IF(C38=\"\",\"\",VLOOKUP(C38,'Lista de precios'!C32:$E$1000,3,0))","v":""},""]
[null,null,{"$f":"IF(B39=\"\",\"\",VLOOKUP($B39,'Lista de precios'!$B$7:$C$2500,2,0))","v":""},{"$f":"IF(B39=\"\",\"\",VLOOKUP($B39,'Lista de precios'!$B$7:$D$1500,3,0))","v":""},null,"",null,null,{"$f":"IF(C39=\"\",\"\",SUMIF(Movimientos!$H$8:$H$10446,Presupuesto!C39,Movimientos!$I$8:$I$10446))","v":""},"",{"$f":"IF(C39=\"\",\"\",VLOOKUP(C39,'Lista de precios'!C33:$E$1000,3,0))","v":""},""]
[null,null,{"$f":"IF(B40=\"\",\"\",VLOOKUP($B40,'Lista de precios'!$B$7:$C$2500,2,0))","v":""},{"$f":"IF(B40=\"\",\"\",VLOOKUP($B40,'Lista de precios'!$B$7:$D$1500,3,0))","v":""},null,"",null,null,{"$f":"IF(C40=\"\",\"\",SUMIF(Movimientos!$H$8:$H$10446,Presupuesto!C40,Movimientos!$I$8:$I$10446))","v":""},"",{"$f":"IF(C40=\"\",\"\",VLOOKUP(C40,'Lista de precios'!C34:$E$1000,3,0))","v":""},""]
[null,null,{"$f":"IF(B41=\"\",\"\",VLOOKUP($B41,'Lista de precios'!$B$7:$C$2500,2,0))","v":""},{"$f":"IF(B41=\"\",\"\",VLOOKUP($B41,'Lista de precios'!$B$7:$D$1500,3,0))","v":""},null,"",null,null,{"$f":"IF(C41=\"\",\"\",SUMIF(Movimientos!$H$8:$H$10446,Presupuesto!C41,Movimientos!$I$8:$I$10446))","v":""},"",{"$f":"IF(C41=\"\",\"\",VLOOKUP(C41,'Lista de precios'!C35:$E$1000,3,0))","v":""},""]
[null,null,{"$f":"IF(B42=\"\",\"\",VLOOKUP($B42,'Lista de precios'!$B$7:$C$2500,2,0))","v":""},{"$f":"IF(B42=\"\",\"\",VLOOKUP($B42,'Lista de precios'!$B$7:$D$1500,3,0))","v":""},null,"",null,null,{"$f":"IF(C42=\"\",\"\",SUMIF(Movimientos!$H$8:$H$10446,Presupuesto!C42,Movimientos!$I$8:$I$10446))","v":""},"",{"$f":"IF(C42=\"\",\"\",VLOOKUP(C42,'Lista de precios'!C36:$E$1000,3,0))","v":""},""]
[null,null,{"$f":"IF(B43=\"\",\"\",VLOOKUP($B43,'Lista de precios'!$B$7:$C$2500,2,0))","v":""},{"$f":"IF(B43=\"\",\"\",VLOOKUP($B43,'Lista de precios'!$B$7:$D$1500,3,0))","v":""},null,"",null,null,{"$f":"IF(C43=\"\",\"\",SUMIF(Movimientos!$H$8:$H$10446,Presupuesto!C43,Movimientos!$I$8:$I$10446))","v":""},"",{"$f":"IF(C43=\"\",\"\",VLOOKUP(C43,'Lista de precios'!C37:$E$1000,3,0))","v":""},""]
[null,null,{"$f":"IF(B44=\"\",\"\",VLOOKUP($B44,'Lista de precios'!$B$7:$C$2500,2,0))","v":""},{"$f":"IF(B44=\"\",\"\",VLOOKUP($B44,'Lista de precios'!$B$7:$D$1500,3,0))","v":""},null,"",null,null,{"$f":"IF(C44=\"\",\"\",SUMIF(Movimientos!$H$8:$H$10446,Presupuesto!C44,Movimientos!$I$8:$I$10446))","v":""},"",{"$f":"IF(C44=\"\",\"\",VLOOKUP(C44,'Lista de precios'!C38:$E$1000,3,0))","v":""},""]
[null,null,{"$f":"IF(B45=\"\",\"\",VLOOKUP($B45,'Lista de precios'!$B$7:$C$2500,2,0))","v":""},{"$f":"IF(B45=\"\",\"\",VLOOKUP($B45,'Lista de precios'!$B$7:$D$1500,3,0))","v":""},null,"",null,null,{"$f":"IF(C45=\"\",\"\",SUMIF(Movimientos!$H$8:$H$10446,Presupuesto!C45,Movimientos!$I$8:$I$10446))","v":""},"",{"$f":"IF(C45=\"\",\"\",VLOOKUP(C45,'Lista de precios'!C39:$E$1000,3,0))","v":""},""]
[null,null,{"$f":"IF(B46=\"\",\"\",VLOOKUP($B46,'Lista de precios'!$B$7:$C$2500,2,0))","v":""},{"$f":"IF(B46=\"\",\"\",VLOOKUP($B46,'Lista de precios'!$B$7:$D$1500,3,0))","v":""},null,"",null,null,{"$f":"IF(C46=\"\",\"\",SUMIF(Movimientos!$H$8:$H$10446,Presupuesto!C46,Movimientos!$I$8:$I$10446))","v":""},"",{"$f":"IF(C46=\"\",\"\",VLOOKUP(C46,'Lista de precios'!C40:$E$1000,3,0))","v":""},""]
[null,null,{"$f":"IF(B47=\"\",\"\",VLOOKUP($B47,'Lista de precios'!$B$7:$C$2500,2,0))","v":""},{"$f":"IF(B47=\"\",\"\",VLOOKUP($B47,'Lista de precios'!$B$7:$D$1500,3,0))","v":""},null,"",null,null,{"$f":"IF(C47=\"\",\"\",SUMIF(Movimientos!$H$8:$H$10446,Presupuesto!C47,Movimientos!$I$8:$I$10446))","v":""},"",{"$f":"IF(C47=\"\",\"\",VLOOKUP(C47,'Lista de precios'!C41:$E$1000,3,0))","v":""},""]
[null,null,{"$f":"IF(B48=\"\",\"\",VLOOKUP($B48,'Lista de precios'!$B$7:$C$2500,2,0))","v":""},{"$f":"IF(B48=\"\",\"\",VLOOKUP($B48,'Lista de precios'!$B$7:$D$1500,3,0))","v":""},null,"",null,null,{"$f":"IF(C48=\"\",\"\",SUMIF(Movimientos!$H$8:$H$10446,Presupuesto!C48,Movimientos!$I$8:$I$10446))","v":""},"",{"$f":"IF(C48=\"\",\"\",VLOOKUP(C48,'Lista de precios'!C42:$E$1000,3,0))","v":""},""]
[null,null,{"$f":"IF(B49=\"\",\"\",VLOOKUP($B49,'Lista de precios'!$B$7:$C$2500,2,0))","v":""},{"$f":"IF(B49=\"\",\"\",VLOOKUP($B49,'Lista de precios'!$B$7:$D$1500,3,0))","v":""},null,"",null,null,{"$f":"IF(C49=\"\",\"\",SUMIF(Movimientos!$H$8:$H$10446,Presupuesto!C49,Movimientos!$I$8:$I$10446))","v":""},"",{"$f":"IF(C49=\"\",\"\",VLOOKUP(C49,'Lista de precios'!C43:$E$1000,3,0))","v":""},""]
[null,null,{"$f":"IF(B50=\"\",\"\",VLOOKUP($B50,'Lista de precios'!$B$7:$C$2500,2,0))","v":""},{"$f":"IF(B50=\"\",\"\",VLOOKUP($B50,'Lista de precios'!$B$7:$D$1500,3,0))","v":""},null,"",null,null,{"$f":"IF(C50=\"\",\"\",SUMIF(Movimientos!$H$8:$H$10446,Presupuesto!C50,Movimientos!$I$8:$I$10446))","v":""},"",{"$f":"IF(C50=\"\",\"\",VLOOKUP(C50,'Lista de precios'!C44:$E$1000,3,0))","v":""},""]
[null,null,{"$f":"IF(B51=\"\",\"\",VLOOKUP($B51,'Lista de precios'!$B$7:$C$2500,2,0))","v":""},{"$f":"IF(B51=\"\",\"\",VLOOKUP($B51,'Lista de precios'!$B$7:$D$1500,3,0))","v":""},null,{"$f":"IF(D51=\"\",\"\",D51*E51)","v":""},null,null,{"$f":"IF(C51=\"\",\"\",SUMIF(Movimientos!$H$8:$H$10446,Presupuesto!C51,Movimientos!$I$8:$I$10446))","v":""},"",{"$f":"IF(C51=\"\",\"\",VLOOKUP(C51,'Lista de precios'!C45:$E$1000,3,0))","v":""},""]
[null,null,{"$f":"IF(B52=\"\",\"\",VLOOKUP($B52,'Lista de precios'!$B$7:$C$2500,2,0))","v":""},{"$f":"IF(B52=\"\",\"\",VLOOKUP($B52,'Lista de precios'!$B$7:$D$1500,3,0))","v":""},null,"",null,null,{"$f":"IF(C52=\"\",\"\",SUMIF(Movimientos!$H$8:$H$10446,Presupuesto!C52,Movimientos!$I$8:$I$10446))","v":""},"",{"$f":"IF(C52=\"\",\"\",VLOOKUP(C52,'Lista de precios'!C46:$E$1000,3,0))","v":""},""]
[null,null,{"$f":"IF(B53=\"\",\"\",VLOOKUP($B53,'Lista de precios'!$B$7:$C$2500,2,0))","v":""},{"$f":"IF(B53=\"\",\"\",VLOOKUP($B53,'Lista de precios'!$B$7:$D$1500,3,0))","v":""},null,"",null,null,{"$f":"IF(C53=\"\",\"\",SUMIF(Movimientos!$H$8:$H$10446,Presupuesto!C53,Movimientos!$I$8:$I$10446))","v":""},"",{"$f":"IF(C53=\"\",\"\",VLOOKUP(C53,'Lista de precios'!C47:$E$1000,3,0))","v":""},""]
[null,null,{"$f":"IF(B54=\"\",\"\",VLOOKUP($B54,'Lista de precios'!$B$7:$C$2500,2,0))","v":""},{"$f":"IF(B54=\"\",\"\",VLOOKUP($B54,'Lista de precios'!$B$7:$D$1500,3,0))","v":""},null,"",null,null,{"$f":"IF(C54=\"\",\"\",SUMIF(Movimientos!$H$8:$H$10446,Presupuesto!C54,Movimientos!$I$8:$I$10446))","v":""},"",{"$f":"IF(C54=\"\",\"\",VLOOKUP(C54,'Lista de precios'!C48:$E$1000,3,0))","v":""},""]
[null,null,{"$f":"IF(B55=\"\",\"\",VLOOKUP($B55,'Lista de precios'!$B$7:$C$2500,2,0))","v":""},{"$f":"IF(B55=\"\",\"\",VLOOKUP($B55,'Lista de precios'!$B$7:$D$1500,3,0))","v":""},null,"",null,null,{"$f":"IF(C55=\"\",\"\",SUMIF(Movimientos!$H$8:$H$10446,Presupuesto!C55,Movimientos!$I$8:$I$10446))","v":""},"",{"$f":"IF(C55=\"\",\"\",VLOOKUP(C55,'Lista de precios'!C49:$E$1000,3,0))","v":""},""]
[null,null,{"$f":"IF(B56=\"\",\"\",VLOOKUP($B56,'Lista de precios'!$B$7:$C$2500,2,0))","v":""},{"$f":"IF(B56=\"\",\"\",VLOOKUP($B56,'Lista de precios'!$B$7:$D$1500,3,0))","v":""},null,"",null,null,{"$f":"IF(C56=\"\",\"\",SUMIF(Movimientos!$H$8:$H$10446,Presupuesto!C56,Movimientos!$I$8:$I$10446))","v":""},"",{"$f":"IF(C56=\"\",\"\",VLOOKUP(C56,'Lista de precios'!C50:$E$1000,3,0))","v":""},""]
[null,null,{"$f":"IF(B57=\"\",\"\",VLOOKUP($B57,'Lista de precios'!$B$7:$C$2500,2,0))","v":""},{"$f":"IF(B57=\"\",\"\",VLOOKUP($B57,'Lista de precios'!$B$7:$D$1500,3,0))","v":""},null,"",null,null,{"$f":"IF(C57=\"\",\"\",SUMIF(Movimientos!$H$8:$H$10446,Presupuesto!C57,Movimientos!$I$8:$I$10446))","v":""},"",{"$f":"IF(C57=\"\",\"\",VLOOKUP(C57,'Lista de precios'!C51:$E$1000,3,0))","v":""},""]
[null,null,{"$f":"IF(B58=\"\",\"\",VLOOKUP($B58,'Lista de precios'!$B$7:$C$2500,2,0))","v":""},{"$f":"IF(B58=\"\",\"\",VLOOKUP($B58,'Lista de precios'!$B$7:$D$1500,3,0))","v":""},null,{"$f":"IF(D58=\"\",\"\",D58*E58)","v":""},null,null,{"$f":"IF(C58=\"\",\"\",SUMIF(Movimientos!$H$8:$H$10446,Presupuesto!C58,Movimientos!$I$8:$I$10446))","v":""},"",{"$f":"IF(C58=\"\",\"\",VLOOKUP(C58,'Lista de precios'!C52:$E$1000,3,0))","v":""},""]
[]
[null,null,null,"Subtotal",null,{"$f":"SUM(F13:F58)","v":0}]
[null,null,null,"Subtotal con descuento",0.05,{"$f":"(F60*(1-E61))","v":0}]
[null,null,null,"IVA",0.21,{"$f":"F61*E62","v":0}]
[null,null,null,"Total",null,{"$f":"F60+F62","v":0}]

{"sheet":"Hoja1","index":2,"n_rows":1242,"n_cols":4,"rows_kept":1242,"cut":false,"hidden":true,"merged":[]}
[]
[]
[]
[]
[{"$f":"'Lista de precios'!A7","v":0},{"$f":"'Lista de precios'!B7","v":"osa15"},null,1]
[{"$f":"'Lista de precios'!A8","v":0},{"$f":"'Lista de precios'!B8","v":"lla6"},null,2]
[{"$f":"'Lista de precios'!A9","v":0},{"$f":"'Lista de precios'!B9","v":"gra18"},null,3]
[{"$f":"'Lista de precios'!A10","v":0},{"$f":"'Lista de precios'!B10","v":"ral16"},null,4]
[{"$f":"'Lista de precios'!A11","v":0},{"$f":"'Lista de precios'!B11","v":"bra17"},null,5]
[{"$f":"'Lista de precios'!A12","v":0},{"$f":"'Lista de precios'!B12","v":"nca18"},null,6]
[{"$f":"'Lista de precios'!A13","v":0},{"$f":"'Lista de precios'!B13","v":"zul20"},null,7]
[{"$f":"'Lista de precios'!A14","v":0},{"$f":"'Lista de precios'!B14","v":"eta1"},null,8]
[{"$f":"'Lista de precios'!A15","v":0},{"$f":"'Lista de precios'!B15","v":"mel8"},null,9]
[{"$f":"'Lista de precios'!A16","v":0},{"$f":"'Lista de precios'!B16","v":"gra8"},null,10]
[{"$f":"'Lista de precios'!A17","v":0},{"$f":"'Lista de precios'!B17","v":"zul3"},null,11]
[{"$f":"'Lista de precios'!A18","v":0},{"$f":"'Lista de precios'!B18","v":"ris10"},null,12]
[{"$f":"'Lista de precios'!A19","v":0},{"$f":"'Lista de precios'!B19","v":0},null,13]
[{"$f":"'Lista de precios'!A20","v":0},{"$f":"'Lista de precios'!B20","v":0},null,14]
[{"$f":"'Lista de precios'!A21","v":0},{"$f":"'Lista de precios'!B21","v":0},null,15]
[{"$f":"'Lista de precios'!A22","v":0},{"$f":"'Lista de precios'!B22","v":0},null,16]
[{"$f":"'Lista de precios'!A23","v":0},{"$f":"'Lista de precios'!B23","v":0},null,17]
[{"$f":"'Lista de precios'!A24","v":0},{"$f":"'Lista de precios'!B24","v":0},null,18]
[{"$f":"'Lista de precios'!A25","v":0},{"$f":"'Lista de precios'!B25","v":0},null,19]
[{"$f":"'Lista de precios'!A26","v":0},{"$f":"'Lista de precios'!B26","v":0},null,20]
[{"$f":"'Lista de precios'!A27","v":0},{"$f":"'Lista de precios'!B27","v":0},null,21]
[{"$f":"'Lista de precios'!A28","v":0},{"$f":"'Lista de precios'!B28","v":0},null,22]
[{"$f":"'Lista de precios'!A29","v":0},{"$f":"'Lista de precios'!B29","v":0},null,23]
[{"$f":"'Lista de precios'!A30","v":0},{"$f":"'Lista de precios'!B30","v":0},null,24]
[{"$f":"'Lista de precios'!A31","v":0},{"$f":"'Lista de precios'!B31","v":0},null,25]
[{"$f":"'Lista de precios'!A32","v":0},{"$f":"'Lista de precios'!B32","v":0},null,26]
[{"$f":"'Lista de precios'!A33","v":0},{"$f":"'Lista de precios'!B33","v":0},null,27]
[{"$f":"'Lista de precios'!A34","v":0},{"$f":"'Lista de precios'!B34","v":0},null,28]
[{"$f":"'Lista de precios'!A35","v":0},{"$f":"'Lista de precios'!B35","v":0},null,29]
[{"$f":"'Lista de precios'!A36","v":0},{"$f":"'Lista de precios'!B36","v":0},null,30]
[{"$f":"'Lista de precios'!A37","v":0},{"$f":"'Lista de precios'!B37","v":0},null,31]
[{"$f":"'Lista de precios'!A38","v":0},{"$f":"'Lista de precios'!B38","v":0},null,32]
[{"$f":"'Lista de precios'!A39","v":0},{"$f":"'Lista de precios'!B39","v":0},null,33]
[{"$f":"'Lista de precios'!A40","v":0},{"$f":"'Lista de precios'!B40","v":0},null,34]
[{"$f":"'Lista de precios'!A41","v":0},{"$f":"'Lista de precios'!B41","v":0},null,35]
[{"$f":"'Lista de precios'!A42","v":0},{"$f":"'Lista de precios'!B42","v":0},null,36]
[{"$f":"'Lista de precios'!A43","v":0},{"$f":"'Lista de precios'!B43","v":0},null,37]
[{"$f":"'Lista de precios'!A44","v":0},{"$f":"'Lista de precios'!B44","v":0},null,38]
[{"$f":"'Lista de precios'!A45","v":0},{"$f":"'Lista de precios'!B45","v":0},null,39]
[{"$f":"'Lista de precios'!A46","v":0},{"$f":"'Lista de precios'!B46","v":0},null,40]
[{"$f":"'Lista de precios'!A47","v":0},{"$f":"'Lista de precios'!B47","v":0},null,41]
[{"$f":"'Lista de precios'!A48","v":0},{"$f":"'Lista de precios'!B48","v":0},null,42]
[{"$f":"'Lista de precios'!A49","v":0},{"$f":"'Lista de precios'!B49","v":0},null,43]
[{"$f":"'Lista de precios'!A50","v":0},{"$f":"'Lista de precios'!B50","v":0},null,44]
[{"$f":"'Lista de precios'!A51","v":0},{"$f":"'Lista de precios'!B51","v":0},null,45]
[{"$f":"'Lista de precios'!A52","v":0},{"$f":"'Lista de precios'!B52","v":0},null,46]
[{"$f":"'Lista de precios'!A53","v":0},{"$f":"'Lista de precios'!B53","v":0},null,47]
[{"$f":"'Lista de precios'!A54","v":0},{"$f":"'Lista de precios'!B54","v":0},null,48]
[{"$f":"'Lista de precios'!A55","v":0},{"$f":"'Lista de precios'!B55","v":0},null,49]
[{"$f":"'Lista de precios'!A56","v":0},{"$f":"'Lista de precios'!B56","v":0},null,50]
[{"$f":"'Lista de precios'!A57","v":0},{"$f":"'Lista de precios'!B57","v":0},null,51]
[{"$f":"'Lista de precios'!A58","v":0},{"$f":"'Lista de precios'!B58","v":0},null,52]
[{"$f":"'Lista de precios'!A59","v":0},{"$f":"'Lista de precios'!B59","v":0},null,53]
[{"$f":"'Lista de precios'!A60","v":0},{"$f":"'Lista de precios'!B60","v":0},null,54]
[{"$f":"'Lista de precios'!A61","v":0},{"$f":"'Lista de precios'!B61","v":0},null,55]
[{"$f":"'Lista de precios'!A62","v":0},{"$f":"'Lista de precios'!B62","v":0},null,56]
[{"$f":"'Lista de precios'!A63","v":0},{"$f":"'Lista de precios'!B63","v":0},null,57]
[{"$f":"'Lista de precios'!A64","v":0},{"$f":"'Lista de precios'!B64","v":0},null,58]
[{"$f":"'Lista de precios'!A65","v":0},{"$f":"'Lista de precios'!B65","v":0},null,59]
[{"$f":"'Lista de precios'!A66","v":0},{"$f":"'Lista de precios'!B66","v":0},null,60]
[{"$f":"'Lista de precios'!A67","v":0},{"$f":"'Lista de precios'!B67","v":0},null,61]
[{"$f":"'Lista de precios'!A68","v":0},{"$f":"'Lista de precios'!B68","v":0},null,62]
[{"$f":"'Lista de precios'!A69","v":0},{"$f":"'Lista de precios'!B69","v":0},null,63]
[{"$f":"'Lista de precios'!A70","v":0},{"$f":"'Lista de precios'!B70","v":0},null,64]
[{"$f":"'Lista de precios'!A71","v":0},{"$f":"'Lista de precios'!B71","v":0},null,65]
[{"$f":"'Lista de precios'!A72","v":0},{"$f":"'Lista de precios'!B72","v":0},null,66]
[{"$f":"'Lista de precios'!A73","v":0},{"$f":"'Lista de precios'!B73","v":0},null,67]
[{"$f":"'Lista de precios'!A74","v":0},{"$f":"'Lista de precios'!B74","v":0},null,68]
[{"$f":"'Lista de precios'!A75","v":0},{"$f":"'Lista de precios'!B75","v":0},null,69]
[{"$f":"'Lista de precios'!A76","v":0},{"$f":"'Lista de precios'!B76","v":0},null,70]
[{"$f":"'Lista de precios'!A77","v":0},{"$f":"'Lista de precios'!B77","v":0},null,71]
[{"$f":"'Lista de precios'!A78","v":0},{"$f":"'Lista de precios'!B78","v":0},null,72]
[{"$f":"'Lista de precios'!A79","v":0},{"$f":"'Lista de precios'!B79","v":0},null,73]
[{"$f":"'Lista de precios'!A80","v":0},{"$f":"'Lista de precios'!B80","v":0},null,74]
[{"$f":"'Lista de precios'!A81","v":0},{"$f":"'Lista de precios'!B81","v":0},null,75]
[{"$f":"'Lista de precios'!A82","v":0},{"$f":"'Lista de precios'!B82","v":0},null,76]
[{"$f":"'Lista de precios'!A83","v":0},{"$f":"'Lista de precios'!B83","v":0},null,77]
[{"$f":"'Lista de precios'!A84","v":0},{"$f":"'Lista de precios'!B84","v":0},null,78]
[{"$f":"'Lista de precios'!A85","v":0},{"$f":"'Lista de precios'!B85","v":0},null,79]
[{"$f":"'Lista de precios'!A86","v":0},{"$f":"'Lista de precios'!B86","v":0},null,80]
[{"$f":"'Lista de precios'!A87","v":0},{"$f":"'Lista de precios'!B87","v":0},null,81]
[{"$f":"'Lista de precios'!A88","v":0},{"$f":"'Lista de precios'!B88","v":0},null,82]
[{"$f":"'Lista de precios'!A89","v":0},{"$f":"'Lista de precios'!B89","v":0},null,83]
[{"$f":"'Lista de precios'!A90","v":0},{"$f":"'Lista de precios'!B90","v":0},null,84]
[{"$f":"'Lista de precios'!A91","v":0},{"$f":"'Lista de precios'!B91","v":0},null,85]
[{"$f":"'Lista de precios'!A92","v":0},{"$f":"'Lista de precios'!B92","v":0},null,86]
[{"$f":"'Lista de precios'!A93","v":0},{"$f":"'Lista de precios'!B93","v":0},null,87]
[{"$f":"'Lista de precios'!A94","v":0},{"$f":"'Lista de precios'!B94","v":0},null,88]
[{"$f":"'Lista de precios'!A95","v":0},{"$f":"'Lista de precios'!B95","v":0},null,89]
[{"$f":"'Lista de precios'!A96","v":0},{"$f":"'Lista de precios'!B96","v":0},null,90]
[{"$f":"'Lista de precios'!A97","v":0},{"$f":"'Lista de precios'!B97","v":0},null,91]
[{"$f":"'Lista de precios'!A98","v":0},{"$f":"'Lista de precios'!B98","v":0},null,92]
[{"$f":"'Lista de precios'!A99","v":0},{"$f":"'Lista de precios'!B99","v":0},null,93]
[{"$f":"'Lista de precios'!A100","v":0},{"$f":"'Lista de precios'!B100","v":0},null,94]
[{"$f":"'Lista de precios'!A101","v":0},{"$f":"'Lista de precios'!B101","v":0},null,95]
[{"$f":"'Lista de precios'!A102","v":0},{"$f":"'Lista de precios'!B102","v":0},null,96]
[{"$f":"'Lista de precios'!A103","v":0},{"$f":"'Lista de precios'!B103","v":0},null,97]
[{"$f":"'Lista de precios'!A104","v":0},{"$f":"'Lista de precios'!B104","v":0},null,98]
[{"$f":"'Lista de precios'!A105","v":0},{"$f":"'Lista de precios'!B105","v":0},null,99]
[{"$f":"'Lista de precios'!A106","v":0},{"$f":"'Lista de precios'!B106","v":0},null,100]
[{"$f":"'Lista de precios'!A107","v":0},{"$f":"'Lista de precios'!B107","v":0},null,101]
[{"$f":"'Lista de precios'!A108","v":0},{"$f":"'Lista de precios'!B108","v":0},null,102]
[{"$f":"'Lista de precios'!A109","v":0},{"$f":"'Lista de precios'!B109","v":0},null,103]
[{"$f":"'Lista de precios'!A110","v":0},{"$f":"'Lista de precios'!B110","v":0},null,104]
[{"$f":"'Lista de precios'!A111","v":0},{"$f":"'Lista de precios'!B111","v":0},null,105]
[{"$f":"'Lista de precios'!A112","v":0},{"$f":"'Lista de precios'!B112","v":0},null,106]
[{"$f":"'Lista de precios'!A113","v":0},{"$f":"'Lista de precios'!B113","v":0},null,107]
[{"$f":"'Lista de precios'!A114","v":0},{"$f":"'Lista de precios'!B114","v":0},null,108]
[{"$f":"'Lista de precios'!A115","v":0},{"$f":"'Lista de precios'!B115","v":0},null,109]
[{"$f":"'Lista de precios'!A116","v":0},{"$f":"'Lista de precios'!B116","v":0},null,110]
[{"$f":"'Lista de precios'!A117","v":0},{"$f":"'Lista de precios'!B117","v":0},null,111]
[{"$f":"'Lista de precios'!A118","v":0},{"$f":"'Lista de precios'!B118","v":0},null,112]
[{"$f":"'Lista de precios'!A119","v":0},{"$f":"'Lista de precios'!B119","v":0},null,113]
[{"$f":"'Lista de precios'!A120","v":0},{"$f":"'Lista de precios'!B120","v":0},null,114]
[{"$f":"'Lista de precios'!A121","v":0},{"$f":"'Lista de precios'!B121","v":0},null,115]
[{"$f":"'Lista de precios'!A122","v":0},{"$f":"'Lista de precios'!B122","v":0},null,116]
[{"$f":"'Lista de precios'!A123","v":0},{"$f":"'Lista de precios'!B123","v":0},null,117]
[{"$f":"'Lista de precios'!A124","v":0},{"$f":"'Lista de precios'!B124","v":0},null,118]
[{"$f":"'Lista de precios'!A125","v":0},{"$f":"'Lista de precios'!B125","v":0},null,119]
[{"$f":"'Lista de precios'!A126","v":0},{"$f":"'Lista de precios'!B126","v":0},null,120]
[{"$f":"'Lista de precios'!A127","v":0},{"$f":"'Lista de precios'!B127","v":0},null,121]
[{"$f":"'Lista de precios'!A128","v":0},{"$f":"'Lista de precios'!B128","v":0},null,122]
[{"$f":"'Lista de precios'!A129","v":0},{"$f":"'Lista de precios'!B129","v":0},null,123]
[{"$f":"'Lista de precios'!A130","v":0},{"$f":"'Lista de precios'!B130","v":0},null,124]
[{"$f":"'Lista de precios'!A131","v":0},{"$f":"'Lista de precios'!B131","v":0},null,125]
[{"$f":"'Lista de precios'!A132","v":0},{"$f":"'Lista de precios'!B132","v":0},null,126]
[{"$f":"'Lista de precios'!A133","v":0},{"$f":"'Lista de precios'!B133","v":0},null,127]
[{"$f":"'Lista de precios'!A134","v":0},{"$f":"'Lista de precios'!B134","v":0},null,128]
[{"$f":"'Lista de precios'!A135","v":0},{"$f":"'Lista de precios'!B135","v":0},null,129]
[{"$f":"'Lista de precios'!A136","v":0},{"$f":"'Lista de precios'!B136","v":0},null,130]
[{"$f":"'Lista de precios'!A137","v":0},{"$f":"'Lista de precios'!B137","v":0},null,131]
[{"$f":"'Lista de precios'!A138","v":0},{"$f":"'Lista de precios'!B138","v":0},null,132]
[{"$f":"'Lista de precios'!A139","v":0},{"$f":"'Lista de precios'!B139","v":0},null,133]
[{"$f":"'Lista de precios'!A140","v":0},{"$f":"'Lista de precios'!B140","v":0},null,134]
[{"$f":"'Lista de precios'!A141","v":0},{"$f":"'Lista de precios'!B141","v":0},null,135]
[{"$f":"'Lista de precios'!A142","v":0},{"$f":"'Lista de precios'!B142","v":0},null,136]
[{"$f":"'Lista de precios'!A143","v":0},{"$f":"'Lista de precios'!B143","v":0},null,137]
[{"$f":"'Lista de precios'!A144","v":0},{"$f":"'Lista de precios'!B144","v":0},null,138]
[{"$f":"'Lista de precios'!A145","v":0},{"$f":"'Lista de precios'!B145","v":0},null,139]
[{"$f":"'Lista de precios'!A146","v":0},{"$f":"'Lista de precios'!B146","v":0},null,140]
[{"$f":"'Lista de precios'!A147","v":0},{"$f":"'Lista de precios'!B147","v":0},null,141]
[{"$f":"'Lista de precios'!A148","v":0},{"$f":"'Lista de precios'!B148","v":0},null,142]
[{"$f":"'Lista de precios'!A149","v":0},{"$f":"'Lista de precios'!B149","v":0},null,143]
[{"$f":"'Lista de precios'!A150","v":0},{"$f":"'Lista de precios'!B150","v":0},null,144]
[{"$f":"'Lista de precios'!A151","v":0},{"$f":"'Lista de precios'!B151","v":0},null,145]
[{"$f":"'Lista de precios'!A152","v":0},{"$f":"'Lista de precios'!B152","v":0},null,146]
[{"$f":"'Lista de precios'!A153","v":0},{"$f":"'Lista de precios'!B153","v":0},null,147]
[{"$f":"'Lista de precios'!A154","v":0},{"$f":"'Lista de precios'!B154","v":0},null,148]
[{"$f":"'Lista de precios'!A155","v":0},{"$f":"'Lista de precios'!B155","v":0},null,149]
[{"$f":"'Lista de precios'!A156","v":0},{"$f":"'Lista de precios'!B156","v":0},null,150]
[{"$f":"'Lista de precios'!A157","v":0},{"$f":"'Lista de precios'!B157","v":0},null,151]
[{"$f":"'Lista de precios'!A158","v":0},{"$f":"'Lista de precios'!B158","v":0},null,152]
[{"$f":"'Lista de precios'!A159","v":0},{"$f":"'Lista de precios'!B159","v":0},null,153]
[{"$f":"'Lista de precios'!A160","v":0},{"$f":"'Lista de precios'!B160","v":0},null,154]
[{"$f":"'Lista de precios'!A161","v":0},{"$f":"'Lista de precios'!B161","v":0},null,155]
[{"$f":"'Lista de precios'!A162","v":0},{"$f":"'Lista de precios'!B162","v":0},null,156]
[{"$f":"'Lista de precios'!A163","v":0},{"$f":"'Lista de precios'!B163","v":0},null,157]
[{"$f":"'Lista de precios'!A164","v":0},{"$f":"'Lista de precios'!B164","v":0},null,158]
[{"$f":"'Lista de precios'!A165","v":0},{"$f":"'Lista de precios'!B165","v":0},null,159]
[{"$f":"'Lista de precios'!A166","v":0},{"$f":"'Lista de precios'!B166","v":0},null,160]
[{"$f":"'Lista de precios'!A167","v":0},{"$f":"'Lista de precios'!B167","v":0},null,161]
[{"$f":"'Lista de precios'!A168","v":0},{"$f":"'Lista de precios'!B168","v":0},null,162]
[{"$f":"'Lista de precios'!A169","v":0},{"$f":"'Lista de precios'!B169","v":0},null,163]
[{"$f":"'Lista de precios'!A170","v":0},{"$f":"'Lista de precios'!B170","v":0},null,164]
[{"$f":"'Lista de precios'!A171","v":0},{"$f":"'Lista de precios'!B171","v":0},null,165]
[{"$f":"'Lista de precios'!A172","v":0},{"$f":"'Lista de precios'!B172","v":0},null,166]
[{"$f":"'Lista de precios'!A173","v":0},{"$f":"'Lista de precios'!B173","v":0},null,167]
[{"$f":"'Lista de precios'!A174","v":0},{"$f":"'Lista de precios'!B174","v":0},null,168]
[{"$f":"'Lista de precios'!A175","v":0},{"$f":"'Lista de precios'!B175","v":0},null,169]
[{"$f":"'Lista de precios'!A176","v":0},{"$f":"'Lista de precios'!B176","v":0},null,170]
[{"$f":"'Lista de precios'!A177","v":0},{"$f":"'Lista de precios'!B177","v":0},null,171]
[{"$f":"'Lista de precios'!A178","v":0},{"$f":"'Lista de precios'!B178","v":0},null,172]
[{"$f":"'Lista de precios'!A179","v":0},{"$f":"'Lista de precios'!B179","v":0},null,173]
[{"$f":"'Lista de precios'!A180","v":0},{"$f":"'Lista de precios'!B180","v":0},null,174]
[{"$f":"'Lista de precios'!A181","v":0},{"$f":"'Lista de precios'!B181","v":0},null,175]
[{"$f":"'Lista de precios'!A182","v":0},{"$f":"'Lista de precios'!B182","v":0},null,176]
[{"$f":"'Lista de precios'!A183","v":0},{"$f":"'Lista de precios'!B183","v":0},null,177]
[{"$f":"'Lista de precios'!A184","v":0},{"$f":"'Lista de precios'!B184","v":0},null,178]
[{"$f":"'Lista de precios'!A185","v":0},{"$f":"'Lista de precios'!B185","v":0},null,179]
[{"$f":"'Lista de precios'!A186","v":0},{"$f":"'Lista de precios'!B186","v":0},null,180]
[{"$f":"'Lista de precios'!A187","v":0},{"$f":"'Lista de precios'!B187","v":0},null,181]
[{"$f":"'Lista de precios'!A188","v":0},{"$f":"'Lista de precios'!B188","v":0},null,182]
[{"$f":"'Lista de precios'!A189","v":0},{"$f":"'Lista de precios'!B189","v":0},null,183]
[{"$f":"'Lista de precios'!A190","v":0},{"$f":"'Lista de precios'!B190","v":0},null,184]
[{"$f":"'Lista de precios'!A191","v":0},{"$f":"'Lista de precios'!B191","v":0},null,185]
[{"$f":"'Lista de precios'!A192","v":0},{"$f":"'Lista de precios'!B192","v":0},null,186]
[{"$f":"'Lista de precios'!A193","v":0},{"$f":"'Lista de precios'!B193","v":0},null,187]
[{"$f":"'Lista de precios'!A194","v":0},{"$f":"'Lista de precios'!B194","v":0},null,188]
[{"$f":"'Lista de precios'!A195","v":0},{"$f":"'Lista de precios'!B195","v":0},null,189]
[{"$f":"'Lista de precios'!A196","v":0},{"$f":"'Lista de precios'!B196","v":0},null,190]
[{"$f":"'Lista de precios'!A197","v":0},{"$f":"'Lista de precios'!B197","v":0},null,191]
[{"$f":"'Lista de precios'!A198","v":0},{"$f":"'Lista de precios'!B198","v":0},null,192]
[{"$f":"'Lista de precios'!A199","v":0},{"$f":"'Lista de precios'!B199","v":0},null,193]
[{"$f":"'Lista de precios'!A200","v":0},{"$f":"'Lista de precios'!B200","v":0},null,194]
[{"$f":"'Lista de precios'!A201","v":0},{"$f":"'Lista de precios'!B201","v":0},null,195]
[{"$f":"'Lista de precios'!A202","v":0},{"$f":"'Lista de precios'!B202","v":0},null,196]
[{"$f":"'Lista de precios'!A203","v":0},{"$f":"'Lista de precios'!B203","v":0},null,197]
[{"$f":"'Lista de precios'!A204","v":0},{"$f":"'Lista de precios'!B204","v":0},null,198]
[{"$f":"'Lista de precios'!A205","v":0},{"$f":"'Lista de precios'!B205","v":0},null,199]
[{"$f":"'Lista de precios'!A206","v":0},{"$f":"'Lista de precios'!B206","v":0},null,200]
[{"$f":"'Lista de precios'!A207","v":0},{"$f":"'Lista de precios'!B207","v":0},null,201]
[{"$f":"'Lista de precios'!A208","v":0},{"$f":"'Lista de precios'!B208","v":0},null,202]
[{"$f":"'Lista de precios'!A209","v":0},{"$f":"'Lista de precios'!B209","v":0},null,203]
[{"$f":"'Lista de precios'!A210","v":0},{"$f":"'Lista de precios'!B210","v":0},null,204]
[{"$f":"'Lista de precios'!A211","v":0},{"$f":"'Lista de precios'!B211","v":0},null,205]
[{"$f":"'Lista de precios'!A212","v":0},{"$f":"'Lista de precios'!B212","v":0},null,206]
[{"$f":"'Lista de precios'!A213","v":0},{"$f":"'Lista de precios'!B213","v":0},null,207]
[{"$f":"'Lista de precios'!A214","v":0},{"$f":"'Lista de precios'!B214","v":0},null,208]
[{"$f":"'Lista de precios'!A215","v":0},{"$f":"'Lista de precios'!B215","v":0},null,209]
[{"$f":"'Lista de precios'!A216","v":0},{"$f":"'Lista de precios'!B216","v":0},null,210]
[{"$f":"'Lista de precios'!A217","v":0},{"$f":"'Lista de precios'!B217","v":0},null,211]
[{"$f":"'Lista de precios'!A218","v":0},{"$f":"'Lista de precios'!B218","v":0},null,212]
[{"$f":"'Lista de precios'!A219","v":0},{"$f":"'Lista de precios'!B219","v":0},null,213]
[{"$f":"'Lista de precios'!A220","v":0},{"$f":"'Lista de precios'!B220","v":0},null,214]
[{"$f":"'Lista de precios'!A221","v":0},{"$f":"'Lista de precios'!B221","v":0},null,215]
[{"$f":"'Lista de precios'!A222","v":0},{"$f":"'Lista de precios'!B222","v":0},null,216]
[{"$f":"'Lista de precios'!A223","v":0},{"$f":"'Lista de precios'!B223","v":0},null,217]
[{"$f":"'Lista de precios'!A224","v":0},{"$f":"'Lista de precios'!B224","v":0},null,218]
[{"$f":"'Lista de precios'!A225","v":0},{"$f":"'Lista de precios'!B225","v":0},null,219]
[{"$f":"'Lista de precios'!A226","v":0},{"$f":"'Lista de precios'!B226","v":0},null,220]
[{"$f":"'Lista de precios'!A227","v":0},{"$f":"'Lista de precios'!B227","v":0},null,221]
[{"$f":"'Lista de precios'!A228","v":0},{"$f":"'Lista de precios'!B228","v":0},null,222]
[{"$f":"'Lista de precios'!A229","v":0},{"$f":"'Lista de precios'!B229","v":0},null,223]
[{"$f":"'Lista de precios'!A230","v":0},{"$f":"'Lista de precios'!B230","v":0},null,224]
[{"$f":"'Lista de precios'!A231","v":0},{"$f":"'Lista de precios'!B231","v":0},null,225]
[{"$f":"'Lista de precios'!A232","v":0},{"$f":"'Lista de precios'!B232","v":0},null,226]
[{"$f":"'Lista de precios'!A233","v":0},{"$f":"'Lista de precios'!B233","v":0},null,227]
[{"$f":"'Lista de precios'!A234","v":0},{"$f":"'Lista de precios'!B234","v":0},null,228]
[{"$f":"'Lista de precios'!A235","v":0},{"$f":"'Lista de precios'!B235","v":0},null,229]
[{"$f":"'Lista de precios'!A236","v":0},{"$f":"'Lista de precios'!B236","v":0},null,230]
[{"$f":"'Lista de precios'!A237","v":0},{"$f":"'Lista de precios'!B237","v":0},null,231]
[{"$f":"'Lista de precios'!A238","v":0},{"$f":"'Lista de precios'!B238","v":0},null,232]
[{"$f":"'Lista de precios'!A239","v":0},{"$f":"'Lista de precios'!B239","v":0},null,233]
[{"$f":"'Lista de precios'!A240","v":0},{"$f":"'Lista de precios'!B240","v":0},null,234]
[{"$f":"'Lista de precios'!A241","v":0},{"$f":"'Lista de precios'!B241","v":0},null,235]
[{"$f":"'Lista de precios'!A242","v":0},{"$f":"'Lista de precios'!B242","v":0},null,236]
[{"$f":"'Lista de precios'!A243","v":0},{"$f":"'Lista de precios'!B243","v":0},null,237]
[{"$f":"'Lista de precios'!A244","v":0},{"$f":"'Lista de precios'!B244","v":0},null,238]
[{"$f":"'Lista de precios'!A245","v":0},{"$f":"'Lista de precios'!B245","v":0},null,239]
[{"$f":"'Lista de precios'!A246","v":0},{"$f":"'Lista de precios'!B246","v":0},null,240]
[{"$f":"'Lista de precios'!A247","v":0},{"$f":"'Lista de precios'!B247","v":0},null,241]
[{"$f":"'Lista de precios'!A248","v":0},{"$f":"'Lista de precios'!B248","v":0},null,242]
[{"$f":"'Lista de precios'!A249","v":0},{"$f":"'Lista de precios'!B249","v":0},null,243]
[{"$f":"'Lista de precios'!A250","v":0},{"$f":"'Lista de precios'!B250","v":0},null,244]
[{"$f":"'Lista de precios'!A251","v":0},{"$f":"'Lista de precios'!B251","v":0},null,245]
[{"$f":"'Lista de precios'!A252","v":0},{"$f":"'Lista de precios'!B252","v":0},null,246]
[{"$f":"'Lista de precios'!A253","v":0},{"$f":"'Lista de precios'!B253","v":0},null,247]
[{"$f":"'Lista de precios'!A254","v":0},{"$f":"'Lista de precios'!B254","v":0},null,248]
[{"$f":"'Lista de precios'!A255","v":0},{"$f":"'Lista de precios'!B255","v":0},null,249]
[{"$f":"'Lista de precios'!A256","v":0},{"$f":"'Lista de precios'!B256","v":0},null,250]
[{"$f":"'Lista de precios'!A257","v":0},{"$f":"'Lista de precios'!B257","v":0},null,251]
[{"$f":"'Lista de precios'!A258","v":0},{"$f":"'Lista de precios'!B258","v":0},null,252]
[{"$f":"'Lista de precios'!A259","v":0},{"$f":"'Lista de precios'!B259","v":0},null,253]
[{"$f":"'Lista de precios'!A260","v":0},{"$f":"'Lista de precios'!B260","v":0},null,254]
[{"$f":"'Lista de precios'!A261","v":0},{"$f":"'Lista de precios'!B261","v":0},null,255]
[{"$f":"'Lista de precios'!A262","v":0},{"$f":"'Lista de precios'!B262","v":0},null,256]
[{"$f":"'Lista de precios'!A263","v":0},{"$f":"'Lista de precios'!B263","v":0},null,257]
[{"$f":"'Lista de precios'!A264","v":0},{"$f":"'Lista de precios'!B264","v":0},null,258]
[{"$f":"'Lista de precios'!A265","v":0},{"$f":"'Lista de precios'!B265","v":0},null,259]
[{"$f":"'Lista de precios'!A266","v":0},{"$f":"'Lista de precios'!B266","v":0},null,260]
[{"$f":"'Lista de precios'!A267","v":0},{"$f":"'Lista de precios'!B267","v":0},null,261]
[{"$f":"'Lista de precios'!A268","v":0},{"$f":"'Lista de precios'!B268","v":0},null,262]
[{"$f":"'Lista de precios'!A269","v":0},{"$f":"'Lista de precios'!B269","v":0},null,263]
[{"$f":"'Lista de precios'!A270","v":0},{"$f":"'Lista de precios'!B270","v":0},null,264]
[{"$f":"'Lista de precios'!A271","v":0},{"$f":"'Lista de precios'!B271","v":0},null,265]
[{"$f":"'Lista de precios'!A272","v":0},{"$f":"'Lista de precios'!B272","v":0},null,266]
[{"$f":"'Lista de precios'!A273","v":0},{"$f":"'Lista de precios'!B273","v":0},null,267]
[{"$f":"'Lista de precios'!A274","v":0},{"$f":"'Lista de precios'!B274","v":0},null,268]
[{"$f":"'Lista de precios'!A275","v":0},{"$f":"'Lista de precios'!B275","v":0},null,269]
[{"$f":"'Lista de precios'!A276","v":0},{"$f":"'Lista de precios'!B276","v":0},null,270]
[{"$f":"'Lista de precios'!A277","v":0},{"$f":"'Lista de precios'!B277","v":0},null,271]
[{"$f":"'Lista de precios'!A278","v":0},{"$f":"'Lista de precios'!B278","v":0},null,272]
[{"$f":"'Lista de precios'!A279","v":0},{"$f":"'Lista de precios'!B279","v":0},null,273]
[{"$f":"'Lista de precios'!A280","v":0},{"$f":"'Lista de precios'!B280","v":0},null,274]
[{"$f":"'Lista de precios'!A281","v":0},{"$f":"'Lista de precios'!B281","v":0},null,275]
[{"$f":"'Lista de precios'!A282","v":0},{"$f":"'Lista de precios'!B282","v":0},null,276]
[{"$f":"'Lista de precios'!A283","v":0},{"$f":"'Lista de precios'!B283","v":0},null,277]
[{"$f":"'Lista de precios'!A284","v":0},{"$f":"'Lista de precios'!B284","v":0},null,278]
[{"$f":"'Lista de precios'!A285","v":0},{"$f":"'Lista de precios'!B285","v":0},null,279]
[{"$f":"'Lista de precios'!A286","v":0},{"$f":"'Lista de precios'!B286","v":0},null,280]
[{"$f":"'Lista de precios'!A287","v":0},{"$f":"'Lista de precios'!B287","v":0},null,281]
[{"$f":"'Lista de precios'!A288","v":0},{"$f":"'Lista de precios'!B288","v":0},null,282]
[{"$f":"'Lista de precios'!A289","v":0},{"$f":"'Lista de precios'!B289","v":0},null,283]
[{"$f":"'Lista de precios'!A290","v":0},{"$f":"'Lista de precios'!B290","v":0},null,284]
[{"$f":"'Lista de precios'!A291","v":0},{"$f":"'Lista de precios'!B291","v":0},null,285]
[{"$f":"'Lista de precios'!A292","v":0},{"$f":"'Lista de precios'!B292","v":0},null,286]
[{"$f":"'Lista de precios'!A293","v":0},{"$f":"'Lista de precios'!B293","v":0},null,287]
[{"$f":"'Lista de precios'!A294","v":0},{"$f":"'Lista de precios'!B294","v":0},null,288]
[{"$f":"'Lista de precios'!A295","v":0},{"$f":"'Lista de precios'!B295","v":0},null,289]
[{"$f":"'Lista de precios'!A296","v":0},{"$f":"'Lista de precios'!B296","v":0},null,290]
[{"$f":"'Lista de precios'!A297","v":0},{"$f":"'Lista de precios'!B297","v":0},null,291]
[{"$f":"'Lista de precios'!A298","v":0},{"$f":"'Lista de precios'!B298","v":0},null,292]
[{"$f":"'Lista de precios'!A299","v":0},{"$f":"'Lista de precios'!B299","v":0},null,293]
[{"$f":"'Lista de precios'!A300","v":0},{"$f":"'Lista de precios'!B300","v":0},null,294]
[{"$f":"'Lista de precios'!A301","v":0},{"$f":"'Lista de precios'!B301","v":0},null,295]
[{"$f":"'Lista de precios'!A302","v":0},{"$f":"'Lista de precios'!B302","v":0},null,296]
[{"$f":"'Lista de precios'!A303","v":0},{"$f":"'Lista de precios'!B303","v":0},null,297]
[{"$f":"'Lista de precios'!A304","v":0},{"$f":"'Lista de precios'!B304","v":0},null,298]
[{"$f":"'Lista de precios'!A305","v":0},{"$f":"'Lista de precios'!B305","v":0},null,299]
[{"$f":"'Lista de precios'!A306","v":0},{"$f":"'Lista de precios'!B306","v":0},null,300]
[{"$f":"'Lista de precios'!A307","v":0},{"$f":"'Lista de precios'!B307","v":0},null,301]
[{"$f":"'Lista de precios'!A308","v":0},{"$f":"'Lista de precios'!B308","v":0},null,302]
[{"$f":"'Lista de precios'!A309","v":0},{"$f":"'Lista de precios'!B309","v":0},null,303]
[{"$f":"'Lista de precios'!A310","v":0},{"$f":"'Lista de precios'!B310","v":0},null,304]
[{"$f":"'Lista de precios'!A311","v":0},{"$f":"'Lista de precios'!B311","v":0},null,305]
[{"$f":"'Lista de precios'!A312","v":0},{"$f":"'Lista de precios'!B312","v":0},null,306]
[{"$f":"'Lista de precios'!A313","v":0},{"$f":"'Lista de precios'!B313","v":0},null,307]
[{"$f":"'Lista de precios'!A314","v":0},{"$f":"'Lista de precios'!B314","v":0},null,308]
[{"$f":"'Lista de precios'!A315","v":0},{"$f":"'Lista de precios'!B315","v":0},null,309]
[{"$f":"'Lista de precios'!A316","v":0},{"$f":"'Lista de precios'!B316","v":0},null,310]
[{"$f":"'Lista de precios'!A317","v":0},{"$f":"'Lista de precios'!B317","v":0},null,311]
[{"$f":"'Lista de precios'!A318","v":0},{"$f":"'Lista de precios'!B318","v":0},null,312]
[{"$f":"'Lista de precios'!A319","v":0},{"$f":"'Lista de precios'!B319","v":0},null,313]
[{"$f":"'Lista de precios'!A320","v":0},{"$f":"'Lista de precios'!B320","v":0},null,314]
[{"$f":"'Lista de precios'!A321","v":0},{"$f":"'Lista de precios'!B321","v":0},null,315]
[{"$f":"'Lista de precios'!A322","v":0},{"$f":"'Lista de precios'!B322","v":0},null,316]
[{"$f":"'Lista de precios'!A323","v":0},{"$f":"'Lista de precios'!B323","v":0},null,317]
[{"$f":"'Lista de precios'!A324","v":0},{"$f":"'Lista de precios'!B324","v":0},null,318]
[{"$f":"'Lista de precios'!A325","v":0},{"$f":"'Lista de precios'!B325","v":0},null,319]
[{"$f":"'Lista de precios'!A326","v":0},{"$f":"'Lista de precios'!B326","v":0},null,320]
[{"$f":"'Lista de precios'!A327","v":0},{"$f":"'Lista de precios'!B327","v":0},null,321]
[{"$f":"'Lista de precios'!A328","v":0},{"$f":"'Lista de precios'!B328","v":0},null,322]
[{"$f":"'Lista de precios'!A329","v":0},{"$f":"'Lista de precios'!B329","v":0},null,323]
[{"$f":"'Lista de precios'!A330","v":0},{"$f":"'Lista de precios'!B330","v":0},null,324]
[{"$f":"'Lista de precios'!A331","v":0},{"$f":"'Lista de precios'!B331","v":0},null,325]
[{"$f":"'Lista de precios'!A332","v":0},{"$f":"'Lista de precios'!B332","v":0},null,326]
[{"$f":"'Lista de precios'!A333","v":0},{"$f":"'Lista de precios'!B333","v":0},null,327]
[{"$f":"'Lista de precios'!A334","v":0},{"$f":"'Lista de precios'!B334","v":0},null,328]
[{"$f":"'Lista de precios'!A335","v":0},{"$f":"'Lista de precios'!B335","v":0},null,329]
[{"$f":"'Lista de precios'!A336","v":0},{"$f":"'Lista de precios'!B336","v":0},null,330]
[{"$f":"'Lista de precios'!A337","v":0},{"$f":"'Lista de precios'!B337","v":0},null,331]
[{"$f":"'Lista de precios'!A338","v":0},{"$f":"'Lista de precios'!B338","v":0},null,332]
[{"$f":"'Lista de precios'!A339","v":0},{"$f":"'Lista de precios'!B339","v":0},null,333]
[{"$f":"'Lista de precios'!A340","v":0},{"$f":"'Lista de precios'!B340","v":0},null,334]
[{"$f":"'Lista de precios'!A341","v":0},{"$f":"'Lista de precios'!B341","v":0},null,335]
[{"$f":"'Lista de precios'!A342","v":0},{"$f":"'Lista de precios'!B342","v":0},null,336]
[{"$f":"'Lista de precios'!A343","v":0},{"$f":"'Lista de precios'!B343","v":0},null,337]
[{"$f":"'Lista de precios'!A344","v":0},{"$f":"'Lista de precios'!B344","v":0},null,338]
[{"$f":"'Lista de precios'!A345","v":0},{"$f":"'Lista de precios'!B345","v":0},null,339]
[{"$f":"'Lista de precios'!A346","v":0},{"$f":"'Lista de precios'!B346","v":0},null,340]
[{"$f":"'Lista de precios'!A347","v":0},{"$f":"'Lista de precios'!B347","v":0},null,341]
[{"$f":"'Lista de precios'!A348","v":0},{"$f":"'Lista de precios'!B348","v":0},null,342]
[{"$f":"'Lista de precios'!A349","v":0},{"$f":"'Lista de precios'!B349","v":0},null,343]
[{"$f":"'Lista de precios'!A350","v":0},{"$f":"'Lista de precios'!B350","v":0},null,344]
[{"$f":"'Lista de precios'!A351","v":0},{"$f":"'Lista de precios'!B351","v":0},null,345]
[{"$f":"'Lista de precios'!A352","v":0},{"$f":"'Lista de precios'!B352","v":0},null,346]
[{"$f":"'Lista de precios'!A353","v":0},{"$f":"'Lista de precios'!B353","v":0},null,347]
[{"$f":"'Lista de precios'!A354","v":0},{"$f":"'Lista de precios'!B354","v":0},null,348]
[{"$f":"'Lista de precios'!A355","v":0},{"$f":"'Lista de precios'!B355","v":0},null,349]
[{"$f":"'Lista de precios'!A356","v":0},{"$f":"'Lista de precios'!B356","v":0},null,350]
[{"$f":"'Lista de precios'!A357","v":0},{"$f":"'Lista de precios'!B357","v":0},null,351]
[{"$f":"'Lista de precios'!A358","v":0},{"$f":"'Lista de precios'!B358","v":0},null,352]
[{"$f":"'Lista de precios'!A359","v":0},{"$f":"'Lista de precios'!B359","v":0},null,353]
[{"$f":"'Lista de precios'!A360","v":0},{"$f":"'Lista de precios'!B360","v":0},null,354]
[{"$f":"'Lista de precios'!A361","v":0},{"$f":"'Lista de precios'!B361","v":0},null,355]
[{"$f":"'Lista de precios'!A362","v":0},{"$f":"'Lista de precios'!B362","v":0},null,356]
[{"$f":"'Lista de precios'!A363","v":0},{"$f":"'Lista de precios'!B363","v":0},null,357]
[{"$f":"'Lista de precios'!A364","v":0},{"$f":"'Lista de precios'!B364","v":0},null,358]
[{"$f":"'Lista de precios'!A365","v":0},{"$f":"'Lista de precios'!B365","v":0},null,359]
[{"$f":"'Lista de precios'!A366","v":0},{"$f":"'Lista de precios'!B366","v":0},null,360]
[{"$f":"'Lista de precios'!A367","v":0},{"$f":"'Lista de precios'!B367","v":0},null,361]
[{"$f":"'Lista de precios'!A368","v":0},{"$f":"'Lista de precios'!B368","v":0},null,362]
[{"$f":"'Lista de precios'!A369","v":0},{"$f":"'Lista de precios'!B369","v":0},null,363]
[{"$f":"'Lista de precios'!A370","v":0},{"$f":"'Lista de precios'!B370","v":0},null,364]
[{"$f":"'Lista de precios'!A371","v":0},{"$f":"'Lista de precios'!B371","v":0},null,365]
[{"$f":"'Lista de precios'!A372","v":0},{"$f":"'Lista de precios'!B372","v":0},null,366]
[{"$f":"'Lista de precios'!A373","v":0},{"$f":"'Lista de precios'!B373","v":0},null,367]
[{"$f":"'Lista de precios'!A374","v":0},{"$f":"'Lista de precios'!B374","v":0},null,368]
[{"$f":"'Lista de precios'!A375","v":0},{"$f":"'Lista de precios'!B375","v":0},null,369]
[{"$f":"'Lista de precios'!A376","v":0},{"$f":"'Lista de precios'!B376","v":0},null,370]
[{"$f":"'Lista de precios'!A377","v":0},{"$f":"'Lista de precios'!B377","v":0},null,371]
[{"$f":"'Lista de precios'!A378","v":0},{"$f":"'Lista de precios'!B378","v":0},null,372]
[{"$f":"'Lista de precios'!A379","v":0},{"$f":"'Lista de precios'!B379","v":0},null,373]
[{"$f":"'Lista de precios'!A380","v":0},{"$f":"'Lista de precios'!B380","v":0},null,374]
[{"$f":"'Lista de precios'!A381","v":0},{"$f":"'Lista de precios'!B381","v":0},null,375]
[{"$f":"'Lista de precios'!A382","v":0},{"$f":"'Lista de precios'!B382","v":0},null,376]
[{"$f":"'Lista de precios'!A383","v":0},{"$f":"'Lista de precios'!B383","v":0},null,377]
[{"$f":"'Lista de precios'!A384","v":0},{"$f":"'Lista de precios'!B384","v":0},null,378]
[{"$f":"'Lista de precios'!A385","v":0},{"$f":"'Lista de precios'!B385","v":0},null,379]
[{"$f":"'Lista de precios'!A386","v":0},{"$f":"'Lista de precios'!B386","v":0},null,380]
[{"$f":"'Lista de precios'!A387","v":0},{"$f":"'Lista de precios'!B387","v":0},null,381]
[{"$f":"'Lista de precios'!A388","v":0},{"$f":"'Lista de precios'!B388","v":0},null,382]
[{"$f":"'Lista de precios'!A389","v":0},{"$f":"'Lista de precios'!B389","v":0},null,383]
[{"$f":"'Lista de precios'!A390","v":0},{"$f":"'Lista de precios'!B390","v":0},null,384]
[{"$f":"'Lista de precios'!A391","v":0},{"$f":"'Lista de precios'!B391","v":0},null,385]
[{"$f":"'Lista de precios'!A392","v":0},{"$f":"'Lista de precios'!B392","v":0},null,386]
[{"$f":"'Lista de precios'!A393","v":0},{"$f":"'Lista de precios'!B393","v":0},null,387]
[{"$f":"'Lista de precios'!A394","v":0},{"$f":"'Lista de precios'!B394","v":0},null,388]
[{"$f":"'Lista de precios'!A395","v":0},{"$f":"'Lista de precios'!B395","v":0},null,389]
[{"$f":"'Lista de precios'!A396","v":0},{"$f":"'Lista de precios'!B396","v":0},null,390]
[{"$f":"'Lista de precios'!A397","v":0},{"$f":"'Lista de precios'!B397","v":0},null,391]
[{"$f":"'Lista de precios'!A398","v":0},{"$f":"'Lista de precios'!B398","v":0},null,392]
[{"$f":"'Lista de precios'!A399","v":0},{"$f":"'Lista de precios'!B399","v":0},null,393]
[{"$f":"'Lista de precios'!A400","v":0},{"$f":"'Lista de precios'!B400","v":0},null,394]
[{"$f":"'Lista de precios'!A401","v":0},{"$f":"'Lista de precios'!B401","v":0},null,395]
[{"$f":"'Lista de precios'!A402","v":0},{"$f":"'Lista de precios'!B402","v":0},null,396]
[{"$f":"'Lista de precios'!A403","v":0},{"$f":"'Lista de precios'!B403","v":0},null,397]
[{"$f":"'Lista de precios'!A404","v":0},{"$f":"'Lista de precios'!B404","v":0},null,398]
[{"$f":"'Lista de precios'!A405","v":0},{"$f":"'Lista de precios'!B405","v":0},null,399]
[{"$f":"'Lista de precios'!A406","v":0},{"$f":"'Lista de precios'!B406","v":0},null,400]
[{"$f":"'Lista de precios'!A407","v":0},{"$f":"'Lista de precios'!B407","v":0},null,401]
[{"$f":"'Lista de precios'!A408","v":0},{"$f":"'Lista de precios'!B408","v":0},null,402]
[{"$f":"'Lista de precios'!A409","v":0},{"$f":"'Lista de precios'!B409","v":0},null,403]
[{"$f":"'Lista de precios'!A410","v":0},{"$f":"'Lista de precios'!B410","v":0},null,404]
[{"$f":"'Lista de precios'!A411","v":0},{"$f":"'Lista de precios'!B411","v":0},null,405]
[{"$f":"'Lista de precios'!A412","v":0},{"$f":"'Lista de precios'!B412","v":0},null,406]
[{"$f":"'Lista de precios'!A413","v":0},{"$f":"'Lista de precios'!B413","v":0},null,407]
[{"$f":"'Lista de precios'!A414","v":0},{"$f":"'Lista de precios'!B414","v":0},null,408]
[{"$f":"'Lista de precios'!A415","v":0},{"$f":"'Lista de precios'!B415","v":0},null,409]
[{"$f":"'Lista de precios'!A416","v":0},{"$f":"'Lista de precios'!B416","v":0},null,410]
[{"$f":"'Lista de precios'!A417","v":0},{"$f":"'Lista de precios'!B417","v":0},null,411]
[{"$f":"'Lista de precios'!A418","v":0},{"$f":"'Lista de precios'!B418","v":0},null,412]
[{"$f":"'Lista de precios'!A419","v":0},{"$f":"'Lista de precios'!B419","v":0},null,413]
[{"$f":"'Lista de precios'!A420","v":0},{"$f":"'Lista de precios'!B420","v":0},null,414]
[{"$f":"'Lista de precios'!A421","v":0},{"$f":"'Lista de precios'!B421","v":0},null,415]
[{"$f":"'Lista de precios'!A422","v":0},{"$f":"'Lista de precios'!B422","v":0},null,416]
[{"$f":"'Lista de precios'!A423","v":0},{"$f":"'Lista de precios'!B423","v":0},null,417]
[{"$f":"'Lista de precios'!A424","v":0},{"$f":"'Lista de precios'!B424","v":0},null,418]
[{"$f":"'Lista de precios'!A425","v":0},{"$f":"'Lista de precios'!B425","v":0},null,419]
[{"$f":"'Lista de precios'!A426","v":0},{"$f":"'Lista de precios'!B426","v":0},null,420]
[{"$f":"'Lista de precios'!A427","v":0},{"$f":"'Lista de precios'!B427","v":0},null,421]
[{"$f":"'Lista de precios'!A428","v":0},{"$f":"'Lista de precios'!B428","v":0},null,422]
[{"$f":"'Lista de precios'!A429","v":0},{"$f":"'Lista de precios'!B429","v":0},null,423]
[{"$f":"'Lista de precios'!A430","v":0},{"$f":"'Lista de precios'!B430","v":0},null,424]
[{"$f":"'Lista de precios'!A431","v":0},{"$f":"'Lista de precios'!B431","v":0},null,425]
[{"$f":"'Lista de precios'!A432","v":0},{"$f":"'Lista de precios'!B432","v":0},null,426]
[{"$f":"'Lista de precios'!A433","v":0},{"$f":"'Lista de precios'!B433","v":0},null,427]
[{"$f":"'Lista de precios'!A434","v":0},{"$f":"'Lista de precios'!B434","v":0},null,428]
[{"$f":"'Lista de precios'!A435","v":0},{"$f":"'Lista de precios'!B435","v":0},null,429]
[{"$f":"'Lista de precios'!A436","v":0},{"$f":"'Lista de precios'!B436","v":0},null,430]
[{"$f":"'Lista de precios'!A437","v":0},{"$f":"'Lista de precios'!B437","v":0},null,431]
[{"$f":"'Lista de precios'!A438","v":0},{"$f":"'Lista de precios'!B438","v":0},null,432]
[{"$f":"'Lista de precios'!A439","v":0},{"$f":"'Lista de precios'!B439","v":0},null,433]
[{"$f":"'Lista de precios'!A440","v":0},{"$f":"'Lista de precios'!B440","v":0},null,434]
[{"$f":"'Lista de precios'!A441","v":0},{"$f":"'Lista de precios'!B441","v":0},null,435]
[{"$f":"'Lista de precios'!A442","v":0},{"$f":"'Lista de precios'!B442","v":0},null,436]
[{"$f":"'Lista de precios'!A443","v":0},{"$f":"'Lista de precios'!B443","v":0},null,437]
[{"$f":"'Lista de precios'!A444","v":0},{"$f":"'Lista de precios'!B444","v":0},null,438]
[{"$f":"'Lista de precios'!A445","v":0},{"$f":"'Lista de precios'!B445","v":0},null,439]
[{"$f":"'Lista de precios'!A446","v":0},{"$f":"'Lista de precios'!B446","v":0},null,440]
[{"$f":"'Lista de precios'!A447","v":0},{"$f":"'Lista de precios'!B447","v":0},null,441]
[{"$f":"'Lista de precios'!A448","v":0},{"$f":"'Lista de precios'!B448","v":0},null,442]
[{"$f":"'Lista de precios'!A449","v":0},{"$f":"'Lista de precios'!B449","v":0},null,443]
[{"$f":"'Lista de precios'!A450","v":0},{"$f":"'Lista de precios'!B450","v":0},null,444]
[{"$f":"'Lista de precios'!A451","v":0},{"$f":"'Lista de precios'!B451","v":0},null,445]
[{"$f":"'Lista de precios'!A452","v":0},{"$f":"'Lista de precios'!B452","v":0},null,446]
[{"$f":"'Lista de precios'!A453","v":0},{"$f":"'Lista de precios'!B453","v":0},null,447]
[{"$f":"'Lista de precios'!A454","v":0},{"$f":"'Lista de precios'!B454","v":0},null,448]
[{"$f":"'Lista de precios'!A455","v":0},{"$f":"'Lista de precios'!B455","v":0},null,449]
[{"$f":"'Lista de precios'!A456","v":0},{"$f":"'Lista de precios'!B456","v":0},null,450]
[{"$f":"'Lista de precios'!A457","v":0},{"$f":"'Lista de precios'!B457","v":0},null,451]
[{"$f":"'Lista de precios'!A458","v":0},{"$f":"'Lista de precios'!B458","v":0},null,452]
[{"$f":"'Lista de precios'!A459","v":0},{"$f":"'Lista de precios'!B459","v":0},null,453]
[{"$f":"'Lista de precios'!A460","v":0},{"$f":"'Lista de precios'!B460","v":0},null,454]
[{"$f":"'Lista de precios'!A461","v":0},{"$f":"'Lista de precios'!B461","v":0},null,455]
[{"$f":"'Lista de precios'!A462","v":0},{"$f":"'Lista de precios'!B462","v":0},null,456]
[{"$f":"'Lista de precios'!A463","v":0},{"$f":"'Lista de precios'!B463","v":0},null,457]
[{"$f":"'Lista de precios'!A464","v":0},{"$f":"'Lista de precios'!B464","v":0},null,458]
[{"$f":"'Lista de precios'!A465","v":0},{"$f":"'Lista de precios'!B465","v":0},null,459]
[{"$f":"'Lista de precios'!A466","v":0},{"$f":"'Lista de precios'!B466","v":0},null,460]
[{"$f":"'Lista de precios'!A467","v":0},{"$f":"'Lista de precios'!B467","v":0},null,461]
[{"$f":"'Lista de precios'!A468","v":0},{"$f":"'Lista de precios'!B468","v":0},null,462]
[{"$f":"'Lista de precios'!A469","v":0},{"$f":"'Lista de precios'!B469","v":0},null,463]
[{"$f":"'Lista de precios'!A470","v":0},{"$f":"'Lista de precios'!B470","v":0},null,464]
[{"$f":"'Lista de precios'!A471","v":0},{"$f":"'Lista de precios'!B471","v":0},null,465]
[{"$f":"'Lista de precios'!A472","v":0},{"$f":"'Lista de precios'!B472","v":0},null,466]
[{"$f":"'Lista de precios'!A473","v":0},{"$f":"'Lista de precios'!B473","v":0},null,467]
[{"$f":"'Lista de precios'!A474","v":0},{"$f":"'Lista de precios'!B474","v":0},null,468]
[{"$f":"'Lista de precios'!A475","v":0},{"$f":"'Lista de precios'!B475","v":0},null,469]
[{"$f":"'Lista de precios'!A476","v":0},{"$f":"'Lista de precios'!B476","v":0},null,470]
[{"$f":"'Lista de precios'!A477","v":0},{"$f":"'Lista de precios'!B477","v":0},null,471]
[{"$f":"'Lista de precios'!A478","v":0},{"$f":"'Lista de precios'!B478","v":0},null,472]
[{"$f":"'Lista de precios'!A479","v":0},{"$f":"'Lista de precios'!B479","v":0},null,473]
[{"$f":"'Lista de precios'!A480","v":0},{"$f":"'Lista de precios'!B480","v":0},null,474]
[{"$f":"'Lista de precios'!A481","v":0},{"$f":"'Lista de precios'!B481","v":0},null,475]
[{"$f":"'Lista de precios'!A482","v":0},{"$f":"'Lista de precios'!B482","v":0},null,476]
[{"$f":"'Lista de precios'!A483","v":0},{"$f":"'Lista de precios'!B483","v":0},null,477]
[{"$f":"'Lista de precios'!A484","v":0},{"$f":"'Lista de precios'!B484","v":0},null,478]
[{"$f":"'Lista de precios'!A485","v":0},{"$f":"'Lista de precios'!B485","v":0},null,479]
[{"$f":"'Lista de precios'!A486","v":0},{"$f":"'Lista de precios'!B486","v":0},null,480]
[{"$f":"'Lista de precios'!A487","v":0},{"$f":"'Lista de precios'!B487","v":0},null,481]
[{"$f":"'Lista de precios'!A488","v":0},{"$f":"'Lista de precios'!B488","v":0},null,482]
[{"$f":"'Lista de precios'!A489","v":0},{"$f":"'Lista de precios'!B489","v":0},null,483]
[{"$f":"'Lista de precios'!A490","v":0},{"$f":"'Lista de precios'!B490","v":0},null,484]
[{"$f":"'Lista de precios'!A491","v":0},{"$f":"'Lista de precios'!B491","v":0},null,485]
[{"$f":"'Lista de precios'!A492","v":0},{"$f":"'Lista de precios'!B492","v":0},null,486]
[{"$f":"'Lista de precios'!A493","v":0},{"$f":"'Lista de precios'!B493","v":0},null,487]
[{"$f":"'Lista de precios'!A494","v":0},{"$f":"'Lista de precios'!B494","v":0},null,488]
[{"$f":"'Lista de precios'!A495","v":0},{"$f":"'Lista de precios'!B495","v":0},null,489]
[{"$f":"'Lista de precios'!A496","v":0},{"$f":"'Lista de precios'!B496","v":0},null,490]
[{"$f":"'Lista de precios'!A497","v":0},{"$f":"'Lista de precios'!B497","v":0},null,491]
[{"$f":"'Lista de precios'!A498","v":0},{"$f":"'Lista de precios'!B498","v":0},null,492]
[{"$f":"'Lista de precios'!A499","v":0},{"$f":"'Lista de precios'!B499","v":0},null,493]
[{"$f":"'Lista de precios'!A500","v":0},{"$f":"'Lista de precios'!B500","v":0},null,494]
[{"$f":"'Lista de precios'!A501","v":0},{"$f":"'Lista de precios'!B501","v":0},null,495]
[{"$f":"'Lista de precios'!A502","v":0},{"$f":"'Lista de precios'!B502","v":0},null,496]
[{"$f":"'Lista de precios'!A503","v":0},{"$f":"'Lista de precios'!B503","v":0},null,497]
[{"$f":"'Lista de precios'!A504","v":0},{"$f":"'Lista de precios'!B504","v":0},null,498]
[{"$f":"'Lista de precios'!A505","v":0},{"$f":"'Lista de precios'!B505","v":0},null,499]
[{"$f":"'Lista de precios'!A506","v":0},{"$f":"'Lista de precios'!B506","v":0},null,500]
[{"$f":"'Lista de precios'!A507","v":0},{"$f":"'Lista de precios'!B507","v":0},null,501]
[{"$f":"'Lista de precios'!A508","v":0},{"$f":"'Lista de precios'!B508","v":0},null,502]
[{"$f":"'Lista de precios'!A509","v":0},{"$f":"'Lista de precios'!B509","v":0},null,503]
[{"$f":"'Lista de precios'!A510","v":0},{"$f":"'Lista de precios'!B510","v":0},null,504]
[{"$f":"'Lista de precios'!A511","v":0},{"$f":"'Lista de precios'!B511","v":0},null,505]
[{"$f":"'Lista de precios'!A512","v":0},{"$f":"'Lista de precios'!B512","v":0},null,506]
[{"$f":"'Lista de precios'!A513","v":0},{"$f":"'Lista de precios'!B513","v":0},null,507]
[{"$f":"'Lista de precios'!A514","v":0},{"$f":"'Lista de precios'!B514","v":0},null,508]
[{"$f":"'Lista de precios'!A515","v":0},{"$f":"'Lista de precios'!B515","v":0},null,509]
[{"$f":"'Lista de precios'!A516","v":0},{"$f":"'Lista de precios'!B516","v":0},null,510]
[{"$f":"'Lista de precios'!A517","v":0},{"$f":"'Lista de precios'!B517","v":0},null,511]
[{"$f":"'Lista de precios'!A518","v":0},{"$f":"'Lista de precios'!B518","v":0},null,512]
[{"$f":"'Lista de precios'!A519","v":0},{"$f":"'Lista de precios'!B519","v":0},null,513]
[{"$f":"'Lista de precios'!A520","v":0},{"$f":"'Lista de precios'!B520","v":0},null,514]
[{"$f":"'Lista de precios'!A521","v":0},{"$f":"'Lista de precios'!B521","v":0},null,515]
[{"$f":"'Lista de precios'!A522","v":0},{"$f":"'Lista de precios'!B522","v":0},null,516]
[{"$f":"'Lista de precios'!A523","v":0},{"$f":"'Lista de precios'!B523","v":0},null,517]
[{"$f":"'Lista de precios'!A524","v":0},{"$f":"'Lista de precios'!B524","v":0},null,518]
[{"$f":"'Lista de precios'!A525","v":0},{"$f":"'Lista de precios'!B525","v":0},null,519]
[{"$f":"'Lista de precios'!A526","v":0},{"$f":"'Lista de precios'!B526","v":0},null,520]
[{"$f":"'Lista de precios'!A527","v":0},{"$f":"'Lista de precios'!B527","v":0},null,521]
[{"$f":"'Lista de precios'!A528","v":0},{"$f":"'Lista de precios'!B528","v":0},null,522]
[{"$f":"'Lista de precios'!A529","v":0},{"$f":"'Lista de precios'!B529","v":0},null,523]
[{"$f":"'Lista de precios'!A530","v":0},{"$f":"'Lista de precios'!B530","v":0},null,524]
[{"$f":"'Lista de precios'!A531","v":0},{"$f":"'Lista de precios'!B531","v":0},null,525]
[{"$f":"'Lista de precios'!A532","v":0},{"$f":"'Lista de precios'!B532","v":0},null,526]
[{"$f":"'Lista de precios'!A533","v":0},{"$f":"'Lista de precios'!B533","v":0},null,527]
[{"$f":"'Lista de precios'!A534","v":0},{"$f":"'Lista de precios'!B534","v":0},null,528]
[{"$f":"'Lista de precios'!A535","v":0},{"$f":"'Lista de precios'!B535","v":0},null,529]
[{"$f":"'Lista de precios'!A536","v":0},{"$f":"'Lista de precios'!B536","v":0},null,530]
[{"$f":"'Lista de precios'!A537","v":0},{"$f":"'Lista de precios'!B537","v":0},null,531]
[{"$f":"'Lista de precios'!A538","v":0},{"$f":"'Lista de precios'!B538","v":0},null,532]
[{"$f":"'Lista de precios'!A539","v":0},{"$f":"'Lista de precios'!B539","v":0},null,533]
[{"$f":"'Lista de precios'!A540","v":0},{"$f":"'Lista de precios'!B540","v":0},null,534]
[{"$f":"'Lista de precios'!A541","v":0},{"$f":"'Lista de precios'!B541","v":0},null,535]
[{"$f":"'Lista de precios'!A542","v":0},{"$f":"'Lista de precios'!B542","v":0},null,536]
[{"$f":"'Lista de precios'!A543","v":0},{"$f":"'Lista de precios'!B543","v":0},null,537]
[{"$f":"'Lista de precios'!A544","v":0},{"$f":"'Lista de precios'!B544","v":0},null,538]
[{"$f":"'Lista de precios'!A545","v":0},{"$f":"'Lista de precios'!B545","v":0},null,539]
[{"$f":"'Lista de precios'!A546","v":0},{"$f":"'Lista de precios'!B546","v":0},null,540]
[{"$f":"'Lista de precios'!A547","v":0},{"$f":"'Lista de precios'!B547","v":0},null,541]
[{"$f":"'Lista de precios'!A548","v":0},{"$f":"'Lista de precios'!B548","v":0},null,542]
[{"$f":"'Lista de precios'!A549","v":0},{"$f":"'Lista de precios'!B549","v":0},null,543]
[{"$f":"'Lista de precios'!A550","v":0},{"$f":"'Lista de precios'!B550","v":0},null,544]
[{"$f":"'Lista de precios'!A551","v":0},{"$f":"'Lista de precios'!B551","v":0},null,545]
[{"$f":"'Lista de precios'!A552","v":0},{"$f":"'Lista de precios'!B552","v":0},null,546]
[{"$f":"'Lista de precios'!A553","v":0},{"$f":"'Lista de precios'!B553","v":0},null,547]
[{"$f":"'Lista de precios'!A554","v":0},{"$f":"'Lista de precios'!B554","v":0},null,548]
[{"$f":"'Lista de precios'!A555","v":0},{"$f":"'Lista de precios'!B555","v":0},null,549]
[{"$f":"'Lista de precios'!A556","v":0},{"$f":"'Lista de precios'!B556","v":0},null,550]
[{"$f":"'Lista de precios'!A557","v":0},{"$f":"'Lista de precios'!B557","v":0},null,551]
[{"$f":"'Lista de precios'!A558","v":0},{"$f":"'Lista de precios'!B558","v":0},null,552]
[{"$f":"'Lista de precios'!A559","v":0},{"$f":"'Lista de precios'!B559","v":0},null,553]
[{"$f":"'Lista de precios'!A560","v":0},{"$f":"'Lista de precios'!B560","v":0},null,554]
[{"$f":"'Lista de precios'!A561","v":0},{"$f":"'Lista de precios'!B561","v":0},null,555]
[{"$f":"'Lista de precios'!A562","v":0},{"$f":"'Lista de precios'!B562","v":0},null,556]
[{"$f":"'Lista de precios'!A563","v":0},{"$f":"'Lista de precios'!B563","v":0},null,557]
[{"$f":"'Lista de precios'!A564","v":0},{"$f":"'Lista de precios'!B564","v":0},null,558]
[{"$f":"'Lista de precios'!A565","v":0},{"$f":"'Lista de precios'!B565","v":0},null,559]
[{"$f":"'Lista de precios'!A566","v":0},{"$f":"'Lista de precios'!B566","v":0},null,560]
[{"$f":"'Lista de precios'!A567","v":0},{"$f":"'Lista de precios'!B567","v":0},null,561]
[{"$f":"'Lista de precios'!A568","v":0},{"$f":"'Lista de precios'!B568","v":0},null,562]
[{"$f":"'Lista de precios'!A569","v":0},{"$f":"'Lista de precios'!B569","v":0},null,563]
[{"$f":"'Lista de precios'!A570","v":0},{"$f":"'Lista de precios'!B570","v":0},null,564]
[{"$f":"'Lista de precios'!A571","v":0},{"$f":"'Lista de precios'!B571","v":0},null,565]
[{"$f":"'Lista de precios'!A572","v":0},{"$f":"'Lista de precios'!B572","v":0},null,566]
[{"$f":"'Lista de precios'!A573","v":0},{"$f":"'Lista de precios'!B573","v":0},null,567]
[{"$f":"'Lista de precios'!A574","v":0},{"$f":"'Lista de precios'!B574","v":0},null,568]
[{"$f":"'Lista de precios'!A575","v":0},{"$f":"'Lista de precios'!B575","v":0},null,569]
[{"$f":"'Lista de precios'!A576","v":0},{"$f":"'Lista de precios'!B576","v":0},null,570]
[{"$f":"'Lista de precios'!A577","v":0},{"$f":"'Lista de precios'!B577","v":0},null,571]
[{"$f":"'Lista de precios'!A578","v":0},{"$f":"'Lista de precios'!B578","v":0},null,572]
[{"$f":"'Lista de precios'!A579","v":0},{"$f":"'Lista de precios'!B579","v":0},null,573]
[{"$f":"'Lista de precios'!A580","v":0},{"$f":"'Lista de precios'!B580","v":0},null,574]
[{"$f":"'Lista de precios'!A581","v":0},{"$f":"'Lista de precios'!B581","v":0},null,575]
[{"$f":"'Lista de precios'!A582","v":0},{"$f":"'Lista de precios'!B582","v":0},null,576]
[{"$f":"'Lista de precios'!A583","v":0},{"$f":"'Lista de precios'!B583","v":0},null,577]
[{"$f":"'Lista de precios'!A584","v":0},{"$f":"'Lista de precios'!B584","v":0},null,578]
[{"$f":"'Lista de precios'!A585","v":0},{"$f":"'Lista de precios'!B585","v":0},null,579]
[{"$f":"'Lista de precios'!A586","v":0},{"$f":"'Lista de precios'!B586","v":0},null,580]
[{"$f":"'Lista de precios'!A587","v":0},{"$f":"'Lista de precios'!B587","v":0},null,581]
[{"$f":"'Lista de precios'!A588","v":0},{"$f":"'Lista de precios'!B588","v":0},null,582]
[{"$f":"'Lista de precios'!A589","v":0},{"$f":"'Lista de precios'!B589","v":0},null,583]
[{"$f":"'Lista de precios'!A590","v":0},{"$f":"'Lista de precios'!B590","v":0},null,584]
[{"$f":"'Lista de precios'!A591","v":0},{"$f":"'Lista de precios'!B591","v":0},null,585]
[{"$f":"'Lista de precios'!A592","v":0},{"$f":"'Lista de precios'!B592","v":0},null,586]
[{"$f":"'Lista de precios'!A593","v":0},{"$f":"'Lista de precios'!B593","v":0},null,587]
[{"$f":"'Lista de precios'!A594","v":0},{"$f":"'Lista de precios'!B594","v":0},null,588]
[{"$f":"'Lista de precios'!A595","v":0},{"$f":"'Lista de precios'!B595","v":0},null,589]
[{"$f":"'Lista de precios'!A596","v":0},{"$f":"'Lista de precios'!B596","v":0},null,590]
[{"$f":"'Lista de precios'!A597","v":0},{"$f":"'Lista de precios'!B597","v":0},null,591]
[{"$f":"'Lista de precios'!A598","v":0},{"$f":"'Lista de precios'!B598","v":0},null,592]
[{"$f":"'Lista de precios'!A599","v":0},{"$f":"'Lista de precios'!B599","v":0},null,593]
[{"$f":"'Lista de precios'!A600","v":0},{"$f":"'Lista de precios'!B600","v":0},null,594]
[{"$f":"'Lista de precios'!A601","v":0},{"$f":"'Lista de precios'!B601","v":0},null,595]
[{"$f":"'Lista de precios'!A602","v":0},{"$f":"'Lista de precios'!B602","v":0},null,596]
[{"$f":"'Lista de precios'!A603","v":0},{"$f":"'Lista de precios'!B603","v":0},null,597]
[{"$f":"'Lista de precios'!A604","v":0},{"$f":"'Lista de precios'!B604","v":0},null,598]
[{"$f":"'Lista de precios'!A605","v":0},{"$f":"'Lista de precios'!B605","v":0},null,599]
[{"$f":"'Lista de precios'!A606","v":0},{"$f":"'Lista de precios'!B606","v":0},null,600]
[{"$f":"'Lista de precios'!A607","v":0},{"$f":"'Lista de precios'!B607","v":0},null,601]
[{"$f":"'Lista de precios'!A608","v":0},{"$f":"'Lista de precios'!B608","v":0},null,602]
[{"$f":"'Lista de precios'!A609","v":0},{"$f":"'Lista de precios'!B609","v":0},null,603]
[{"$f":"'Lista de precios'!A610","v":0},{"$f":"'Lista de precios'!B610","v":0},null,604]
[{"$f":"'Lista de precios'!A611","v":0},{"$f":"'Lista de precios'!B611","v":0},null,605]
[{"$f":"'Lista de precios'!A612","v":0},{"$f":"'Lista de precios'!B612","v":0},null,606]
[{"$f":"'Lista de precios'!A613","v":0},{"$f":"'Lista de precios'!B613","v":0},null,607]
[{"$f":"'Lista de precios'!A614","v":0},{"$f":"'Lista de precios'!B614","v":0},null,608]
[{"$f":"'Lista de precios'!A615","v":0},{"$f":"'Lista de precios'!B615","v":0},null,609]
[{"$f":"'Lista de precios'!A616","v":0},{"$f":"'Lista de precios'!B616","v":0},null,610]
[{"$f":"'Lista de precios'!A617","v":0},{"$f":"'Lista de precios'!B617","v":0},null,611]
[{"$f":"'Lista de precios'!A618","v":0},{"$f":"'Lista de precios'!B618","v":0},null,612]
[{"$f":"'Lista de precios'!A619","v":0},{"$f":"'Lista de precios'!B619","v":0},null,613]
[{"$f":"'Lista de precios'!A620","v":0},{"$f":"'Lista de precios'!B620","v":0},null,614]
[{"$f":"'Lista de precios'!A621","v":0},{"$f":"'Lista de precios'!B621","v":0},null,615]
[{"$f":"'Lista de precios'!A622","v":0},{"$f":"'Lista de precios'!B622","v":0},null,616]
[{"$f":"'Lista de precios'!A623","v":0},{"$f":"'Lista de precios'!B623","v":0},null,617]
[{"$f":"'Lista de precios'!A624","v":0},{"$f":"'Lista de precios'!B624","v":0},null,618]
[{"$f":"'Lista de precios'!A625","v":0},{"$f":"'Lista de precios'!B625","v":0},null,619]
[{"$f":"'Lista de precios'!A626","v":0},{"$f":"'Lista de precios'!B626","v":0},null,620]
[{"$f":"'Lista de precios'!A627","v":0},{"$f":"'Lista de precios'!B627","v":0},null,621]
[{"$f":"'Lista de precios'!A628","v":0},{"$f":"'Lista de precios'!B628","v":0},null,622]
[{"$f":"'Lista de precios'!A629","v":0},{"$f":"'Lista de precios'!B629","v":0},null,623]
[{"$f":"'Lista de precios'!A630","v":0},{"$f":"'Lista de precios'!B630","v":0},null,624]
[{"$f":"'Lista de precios'!A631","v":0},{"$f":"'Lista de precios'!B631","v":0},null,625]
[{"$f":"'Lista de precios'!A632","v":0},{"$f":"'Lista de precios'!B632","v":0},null,626]
[{"$f":"'Lista de precios'!A633","v":0},{"$f":"'Lista de precios'!B633","v":0},null,627]
[{"$f":"'Lista de precios'!A634","v":0},{"$f":"'Lista de precios'!B634","v":0},null,628]
[{"$f":"'Lista de precios'!A635","v":0},{"$f":"'Lista de precios'!B635","v":0},null,629]
[{"$f":"'Lista de precios'!A636","v":0},{"$f":"'Lista de precios'!B636","v":0},null,630]
[{"$f":"'Lista de precios'!A637","v":0},{"$f":"'Lista de precios'!B637","v":0},null,631]
[{"$f":"'Lista de precios'!A638","v":0},{"$f":"'Lista de precios'!B638","v":0},null,632]
[{"$f":"'Lista de precios'!A639","v":0},{"$f":"'Lista de precios'!B639","v":0},null,633]
[{"$f":"'Lista de precios'!A640","v":0},{"$f":"'Lista de precios'!B640","v":0},null,634]
[{"$f":"'Lista de precios'!A641","v":0},{"$f":"'Lista de precios'!B641","v":0},null,635]
[{"$f":"'Lista de precios'!A642","v":0},{"$f":"'Lista de precios'!B642","v":0},null,636]
[{"$f":"'Lista de precios'!A643","v":0},{"$f":"'Lista de precios'!B643","v":0},null,637]
[{"$f":"'Lista de precios'!A644","v":0},{"$f":"'Lista de precios'!B644","v":0},null,638]
[{"$f":"'Lista de precios'!A645","v":0},{"$f":"'Lista de precios'!B645","v":0},null,639]
[{"$f":"'Lista de precios'!A646","v":0},{"$f":"'Lista de precios'!B646","v":0},null,640]
[{"$f":"'Lista de precios'!A647","v":0},{"$f":"'Lista de precios'!B647","v":0},null,641]
[{"$f":"'Lista de precios'!A648","v":0},{"$f":"'Lista de precios'!B648","v":0},null,642]
[{"$f":"'Lista de precios'!A649","v":0},{"$f":"'Lista de precios'!B649","v":0},null,643]
[{"$f":"'Lista de precios'!A650","v":0},{"$f":"'Lista de precios'!B650","v":0},null,644]
[{"$f":"'Lista de precios'!A651","v":0},{"$f":"'Lista de precios'!B651","v":0},null,645]
[{"$f":"'Lista de precios'!A652","v":0},{"$f":"'Lista de precios'!B652","v":0},null,646]
[{"$f":"'Lista de precios'!A653","v":0},{"$f":"'Lista de precios'!B653","v":0},null,647]
[{"$f":"'Lista de precios'!A654","v":0},{"$f":"'Lista de precios'!B654","v":0},null,648]
[{"$f":"'Lista de precios'!A655","v":0},{"$f":"'Lista de precios'!B655","v":0},null,649]
[{"$f":"'Lista de precios'!A656","v":0},{"$f":"'Lista de precios'!B656","v":0},null,650]
[{"$f":"'Lista de precios'!A657","v":0},{"$f":"'Lista de precios'!B657","v":0},null,651]
[{"$f":"'Lista de precios'!A658","v":0},{"$f":"'Lista de precios'!B658","v":0},null,652]
[{"$f":"'Lista de precios'!A659","v":0},{"$f":"'Lista de precios'!B659","v":0},null,653]
[{"$f":"'Lista de precios'!A660","v":0},{"$f":"'Lista de precios'!B660","v":0},null,654]
[{"$f":"'Lista de precios'!A661","v":0},{"$f":"'Lista de precios'!B661","v":0},null,655]
[{"$f":"'Lista de precios'!A662","v":0},{"$f":"'Lista de precios'!B662","v":0},null,656]
[{"$f":"'Lista de precios'!A663","v":0},{"$f":"'Lista de precios'!B663","v":0},null,657]
[{"$f":"'Lista de precios'!A664","v":0},{"$f":"'Lista de precios'!B664","v":0},null,658]
[{"$f":"'Lista de precios'!A665","v":0},{"$f":"'Lista de precios'!B665","v":0},null,659]
[{"$f":"'Lista de precios'!A666","v":0},{"$f":"'Lista de precios'!B666","v":0},null,660]
[{"$f":"'Lista de precios'!A667","v":0},{"$f":"'Lista de precios'!B667","v":0},null,661]
[{"$f":"'Lista de precios'!A668","v":0},{"$f":"'Lista de precios'!B668","v":0},null,662]
[{"$f":"'Lista de precios'!A669","v":0},{"$f":"'Lista de precios'!B669","v":0},null,663]
[{"$f":"'Lista de precios'!A670","v":0},{"$f":"'Lista de precios'!B670","v":0},null,664]
[{"$f":"'Lista de precios'!A671","v":0},{"$f":"'Lista de precios'!B671","v":0},null,665]
[{"$f":"'Lista de precios'!A672","v":0},{"$f":"'Lista de precios'!B672","v":0},null,666]
[{"$f":"'Lista de precios'!A673","v":0},{"$f":"'Lista de precios'!B673","v":0},null,667]
[{"$f":"'Lista de precios'!A674","v":0},{"$f":"'Lista de precios'!B674","v":0},null,668]
[{"$f":"'Lista de precios'!A675","v":0},{"$f":"'Lista de precios'!B675","v":0},null,669]
[{"$f":"'Lista de precios'!A676","v":0},{"$f":"'Lista de precios'!B676","v":0},null,670]
[{"$f":"'Lista de precios'!A677","v":0},{"$f":"'Lista de precios'!B677","v":0},null,671]
[{"$f":"'Lista de precios'!A678","v":0},{"$f":"'Lista de precios'!B678","v":0},null,672]
[{"$f":"'Lista de precios'!A679","v":0},{"$f":"'Lista de precios'!B679","v":0},null,673]
[{"$f":"'Lista de precios'!A680","v":0},{"$f":"'Lista de precios'!B680","v":0},null,674]
[{"$f":"'Lista de precios'!A681","v":0},{"$f":"'Lista de precios'!B681","v":0},null,675]
[{"$f":"'Lista de precios'!A682","v":0},{"$f":"'Lista de precios'!B682","v":0},null,676]
[{"$f":"'Lista de precios'!A683","v":0},{"$f":"'Lista de precios'!B683","v":0},null,677]
[{"$f":"'Lista de precios'!A684","v":0},{"$f":"'Lista de precios'!B684","v":0},null,678]
[{"$f":"'Lista de precios'!A685","v":0},{"$f":"'Lista de precios'!B685","v":0},null,679]
[{"$f":"'Lista de precios'!A686","v":0},{"$f":"'Lista de precios'!B686","v":0},null,680]
[{"$f":"'Lista de precios'!A687","v":0},{"$f":"'Lista de precios'!B687","v":0},null,681]
[{"$f":"'Lista de precios'!A688","v":0},{"$f":"'Lista de precios'!B688","v":0},null,682]
[{"$f":"'Lista de precios'!A689","v":0},{"$f":"'Lista de precios'!B689","v":0},null,683]
[{"$f":"'Lista de precios'!A690","v":0},{"$f":"'Lista de precios'!B690","v":0},null,684]
[{"$f":"'Lista de precios'!A691","v":0},{"$f":"'Lista de precios'!B691","v":0},null,685]
[{"$f":"'Lista de precios'!A692","v":0},{"$f":"'Lista de precios'!B692","v":0},null,686]
[{"$f":"'Lista de precios'!A693","v":0},{"$f":"'Lista de precios'!B693","v":0},null,687]
[{"$f":"'Lista de precios'!A694","v":0},{"$f":"'Lista de precios'!B694","v":0},null,688]
[{"$f":"'Lista de precios'!A695","v":0},{"$f":"'Lista de precios'!B695","v":0},null,689]
[{"$f":"'Lista de precios'!A696","v":0},{"$f":"'Lista de precios'!B696","v":0},null,690]
[{"$f":"'Lista de precios'!A697","v":0},{"$f":"'Lista de precios'!B697","v":0},null,691]
[{"$f":"'Lista de precios'!A698","v":0},{"$f":"'Lista de precios'!B698","v":0},null,692]
[{"$f":"'Lista de precios'!A699","v":0},{"$f":"'Lista de precios'!B699","v":0},null,693]
[{"$f":"'Lista de precios'!A700","v":0},{"$f":"'Lista de precios'!B700","v":0},null,694]
[{"$f":"'Lista de precios'!A701","v":0},{"$f":"'Lista de precios'!B701","v":0},null,695]
[{"$f":"'Lista de precios'!A702","v":0},{"$f":"'Lista de precios'!B702","v":0},null,696]
[{"$f":"'Lista de precios'!A703","v":0},{"$f":"'Lista de precios'!B703","v":0},null,697]
[{"$f":"'Lista de precios'!A704","v":0},{"$f":"'Lista de precios'!B704","v":0},null,698]
[{"$f":"'Lista de precios'!A705","v":0},{"$f":"'Lista de precios'!B705","v":0},null,699]
[{"$f":"'Lista de precios'!A706","v":0},{"$f":"'Lista de precios'!B706","v":0},null,700]
[{"$f":"'Lista de precios'!A707","v":0},{"$f":"'Lista de precios'!B707","v":0},null,701]
[{"$f":"'Lista de precios'!A708","v":0},{"$f":"'Lista de precios'!B708","v":0},null,702]
[{"$f":"'Lista de precios'!A709","v":0},{"$f":"'Lista de precios'!B709","v":0},null,703]
[{"$f":"'Lista de precios'!A710","v":0},{"$f":"'Lista de precios'!B710","v":0},null,704]
[{"$f":"'Lista de precios'!A711","v":0},{"$f":"'Lista de precios'!B711","v":0},null,705]
[{"$f":"'Lista de precios'!A712","v":0},{"$f":"'Lista de precios'!B712","v":0},null,706]
[{"$f":"'Lista de precios'!A713","v":0},{"$f":"'Lista de precios'!B713","v":0},null,707]
[{"$f":"'Lista de precios'!A714","v":0},{"$f":"'Lista de precios'!B714","v":0},null,708]
[{"$f":"'Lista de precios'!A715","v":0},{"$f":"'Lista de precios'!B715","v":0},null,709]
[{"$f":"'Lista de precios'!A716","v":0},{"$f":"'Lista de precios'!B716","v":0},null,710]
[{"$f":"'Lista de precios'!A717","v":0},{"$f":"'Lista de precios'!B717","v":0},null,711]
[{"$f":"'Lista de precios'!A718","v":0},{"$f":"'Lista de precios'!B718","v":0},null,712]
[{"$f":"'Lista de precios'!A719","v":0},{"$f":"'Lista de precios'!B719","v":0},null,713]
[{"$f":"'Lista de precios'!A720","v":0},{"$f":"'Lista de precios'!B720","v":0},null,714]
[{"$f":"'Lista de precios'!A721","v":0},{"$f":"'Lista de precios'!B721","v":0},null,715]
[{"$f":"'Lista de precios'!A722","v":0},{"$f":"'Lista de precios'!B722","v":0},null,716]
[{"$f":"'Lista de precios'!A723","v":0},{"$f":"'Lista de precios'!B723","v":0},null,717]
[{"$f":"'Lista de precios'!A724","v":0},{"$f":"'Lista de precios'!B724","v":0},null,718]
[{"$f":"'Lista de precios'!A725","v":0},{"$f":"'Lista de precios'!B725","v":0},null,719]
[{"$f":"'Lista de precios'!A726","v":0},{"$f":"'Lista de precios'!B726","v":0},null,720]
[{"$f":"'Lista de precios'!A727","v":0},{"$f":"'Lista de precios'!B727","v":0},null,721]
[{"$f":"'Lista de precios'!A728","v":0},{"$f":"'Lista de precios'!B728","v":0},null,722]
[{"$f":"'Lista de precios'!A729","v":0},{"$f":"'Lista de precios'!B729","v":0},null,723]
[{"$f":"'Lista de precios'!A730","v":0},{"$f":"'Lista de precios'!B730","v":0},null,724]
[{"$f":"'Lista de precios'!A731","v":0},{"$f":"'Lista de precios'!B731","v":0},null,725]
[{"$f":"'Lista de precios'!A732","v":0},{"$f":"'Lista de precios'!B732","v":0},null,726]
[{"$f":"'Lista de precios'!A733","v":0},{"$f":"'Lista de precios'!B733","v":0},null,727]
[{"$f":"'Lista de precios'!A734","v":0},{"$f":"'Lista de precios'!B734","v":0},null,728]
[{"$f":"'Lista de precios'!A735","v":0},{"$f":"'Lista de precios'!B735","v":0},null,729]
[{"$f":"'Lista de precios'!A736","v":0},{"$f":"'Lista de precios'!B736","v":0},null,730]
[{"$f":"'Lista de precios'!A737","v":0},{"$f":"'Lista de precios'!B737","v":0},null,731]
[{"$f":"'Lista de precios'!A738","v":0},{"$f":"'Lista de precios'!B738","v":0},null,732]
[{"$f":"'Lista de precios'!A739","v":0},{"$f":"'Lista de precios'!B739","v":0},null,733]
[{"$f":"'Lista de precios'!A740","v":0},{"$f":"'Lista de precios'!B740","v":0},null,734]
[{"$f":"'Lista de precios'!A741","v":0},{"$f":"'Lista de precios'!B741","v":0},null,735]
[{"$f":"'Lista de precios'!A742","v":0},{"$f":"'Lista de precios'!B742","v":0},null,736]
[{"$f":"'Lista de precios'!A743","v":0},{"$f":"'Lista de precios'!B743","v":0},null,737]
[{"$f":"'Lista de precios'!A744","v":0},{"$f":"'Lista de precios'!B744","v":0},null,738]
[{"$f":"'Lista de precios'!A745","v":0},{"$f":"'Lista de precios'!B745","v":0},null,739]
[{"$f":"'Lista de precios'!A746","v":0},{"$f":"'Lista de precios'!B746","v":0},null,740]
[{"$f":"'Lista de precios'!A747","v":0},{"$f":"'Lista de precios'!B747","v":0},null,741]
[{"$f":"'Lista de precios'!A748","v":0},{"$f":"'Lista de precios'!B748","v":0},null,742]
[{"$f":"'Lista de precios'!A749","v":0},{"$f":"'Lista de precios'!B749","v":0},null,743]
[{"$f":"'Lista de precios'!A750","v":0},{"$f":"'Lista de precios'!B750","v":0},null,744]
[{"$f":"'Lista de precios'!A751","v":0},{"$f":"'Lista de precios'!B751","v":0},null,745]
[{"$f":"'Lista de precios'!A752","v":0},{"$f":"'Lista de precios'!B752","v":0},null,746]
[{"$f":"'Lista de precios'!A753","v":0},{"$f":"'Lista de precios'!B753","v":0},null,747]
[{"$f":"'Lista de precios'!A754","v":0},{"$f":"'Lista de precios'!B754","v":0},null,748]
[{"$f":"'Lista de precios'!A755","v":0},{"$f":"'Lista de precios'!B755","v":0},null,749]
[{"$f":"'Lista de precios'!A756","v":0},{"$f":"'Lista de precios'!B756","v":0},null,750]
[{"$f":"'Lista de precios'!A757","v":0},{"$f":"'Lista de precios'!B757","v":0},null,751]
[{"$f":"'Lista de precios'!A758","v":0},{"$f":"'Lista de precios'!B758","v":0},null,752]
[{"$f":"'Lista de precios'!A759","v":0},{"$f":"'Lista de precios'!B759","v":0},null,753]
[{"$f":"'Lista de precios'!A760","v":0},{"$f":"'Lista de precios'!B760","v":0},null,754]
[{"$f":"'Lista de precios'!A761","v":0},{"$f":"'Lista de precios'!B761","v":0},null,755]
[{"$f":"'Lista de precios'!A762","v":0},{"$f":"'Lista de precios'!B762","v":0},null,756]
[{"$f":"'Lista de precios'!A763","v":0},{"$f":"'Lista de precios'!B763","v":0},null,757]
[{"$f":"'Lista de precios'!A764","v":0},{"$f":"'Lista de precios'!B764","v":0},null,758]
[{"$f":"'Lista de precios'!A765","v":0},{"$f":"'Lista de precios'!B765","v":0},null,759]
[{"$f":"'Lista de precios'!A766","v":0},{"$f":"'Lista de precios'!B766","v":0},null,760]
[{"$f":"'Lista de precios'!A767","v":0},{"$f":"'Lista de precios'!B767","v":0},null,761]
[{"$f":"'Lista de precios'!A768","v":0},{"$f":"'Lista de precios'!B768","v":0},null,762]
[{"$f":"'Lista de precios'!A769","v":0},{"$f":"'Lista de precios'!B769","v":0},null,763]
[{"$f":"'Lista de precios'!A770","v":0},{"$f":"'Lista de precios'!B770","v":0},null,764]
[{"$f":"'Lista de precios'!A771","v":0},{"$f":"'Lista de precios'!B771","v":0},null,765]
[{"$f":"'Lista de precios'!A772","v":0},{"$f":"'Lista de precios'!B772","v":0},null,766]
[{"$f":"'Lista de precios'!A773","v":0},{"$f":"'Lista de precios'!B773","v":0},null,767]
[{"$f":"'Lista de precios'!A774","v":0},{"$f":"'Lista de precios'!B774","v":0},null,768]
[{"$f":"'Lista de precios'!A775","v":0},{"$f":"'Lista de precios'!B775","v":0},null,769]
[{"$f":"'Lista de precios'!A776","v":0},{"$f":"'Lista de precios'!B776","v":0},null,770]
[{"$f":"'Lista de precios'!A777","v":0},{"$f":"'Lista de precios'!B777","v":0},null,771]
[{"$f":"'Lista de precios'!A778","v":0},{"$f":"'Lista de precios'!B778","v":0},null,772]
[{"$f":"'Lista de precios'!A779","v":0},{"$f":"'Lista de precios'!B779","v":0},null,773]
[{"$f":"'Lista de precios'!A780","v":0},{"$f":"'Lista de precios'!B780","v":0},null,774]
[{"$f":"'Lista de precios'!A781","v":0},{"$f":"'Lista de precios'!B781","v":0},null,775]
[{"$f":"'Lista de precios'!A782","v":0},{"$f":"'Lista de precios'!B782","v":0},null,776]
[{"$f":"'Lista de precios'!A783","v":0},{"$f":"'Lista de precios'!B783","v":0},null,777]
[{"$f":"'Lista de precios'!A784","v":0},{"$f":"'Lista de precios'!B784","v":0},null,778]
[{"$f":"'Lista de precios'!A785","v":0},{"$f":"'Lista de precios'!B785","v":0},null,779]
[{"$f":"'Lista de precios'!A786","v":0},{"$f":"'Lista de precios'!B786","v":0},null,780]
[{"$f":"'Lista de precios'!A787","v":0},{"$f":"'Lista de precios'!B787","v":0},null,781]
[{"$f":"'Lista de precios'!A788","v":0},{"$f":"'Lista de precios'!B788","v":0},null,782]
[{"$f":"'Lista de precios'!A789","v":0},{"$f":"'Lista de precios'!B789","v":0},null,783]
[{"$f":"'Lista de precios'!A790","v":0},{"$f":"'Lista de precios'!B790","v":0},null,784]
[{"$f":"'Lista de precios'!A791","v":0},{"$f":"'Lista de precios'!B791","v":0},null,785]
[{"$f":"'Lista de precios'!A792","v":0},{"$f":"'Lista de precios'!B792","v":0},null,786]
[{"$f":"'Lista de precios'!A793","v":0},{"$f":"'Lista de precios'!B793","v":0},null,787]
[{"$f":"'Lista de precios'!A794","v":0},{"$f":"'Lista de precios'!B794","v":0},null,788]
[{"$f":"'Lista de precios'!A795","v":0},{"$f":"'Lista de precios'!B795","v":0},null,789]
[{"$f":"'Lista de precios'!A796","v":0},{"$f":"'Lista de precios'!B796","v":0},null,790]
[{"$f":"'Lista de precios'!A797","v":0},{"$f":"'Lista de precios'!B797","v":0},null,791]
[{"$f":"'Lista de precios'!A798","v":0},{"$f":"'Lista de precios'!B798","v":0},null,792]
[{"$f":"'Lista de precios'!A799","v":0},{"$f":"'Lista de precios'!B799","v":0},null,793]
[{"$f":"'Lista de precios'!A800","v":0},{"$f":"'Lista de precios'!B800","v":0},null,794]
[{"$f":"'Lista de precios'!A801","v":0},{"$f":"'Lista de precios'!B801","v":0},null,795]
[{"$f":"'Lista de precios'!A802","v":0},{"$f":"'Lista de precios'!B802","v":0},null,796]
[{"$f":"'Lista de precios'!A803","v":0},{"$f":"'Lista de precios'!B803","v":0},null,797]
[{"$f":"'Lista de precios'!A804","v":0},{"$f":"'Lista de precios'!B804","v":0},null,798]
[{"$f":"'Lista de precios'!A805","v":0},{"$f":"'Lista de precios'!B805","v":0},null,799]
[{"$f":"'Lista de precios'!A806","v":0},{"$f":"'Lista de precios'!B806","v":0},null,800]
[{"$f":"'Lista de precios'!A807","v":0},{"$f":"'Lista de precios'!B807","v":0},null,801]
[{"$f":"'Lista de precios'!A808","v":0},{"$f":"'Lista de precios'!B808","v":0},null,802]
[{"$f":"'Lista de precios'!A809","v":0},{"$f":"'Lista de precios'!B809","v":0},null,803]
[{"$f":"'Lista de precios'!A810","v":0},{"$f":"'Lista de precios'!B810","v":0},null,804]
[{"$f":"'Lista de precios'!A811","v":0},{"$f":"'Lista de precios'!B811","v":0},null,805]
[{"$f":"'Lista de precios'!A812","v":0},{"$f":"'Lista de precios'!B812","v":0},null,806]
[{"$f":"'Lista de precios'!A813","v":0},{"$f":"'Lista de precios'!B813","v":0},null,807]
[{"$f":"'Lista de precios'!A814","v":0},{"$f":"'Lista de precios'!B814","v":0},null,808]
[{"$f":"'Lista de precios'!A815","v":0},{"$f":"'Lista de precios'!B815","v":0},null,809]
[{"$f":"'Lista de precios'!A816","v":0},{"$f":"'Lista de precios'!B816","v":0},null,810]
[{"$f":"'Lista de precios'!A817","v":0},{"$f":"'Lista de precios'!B817","v":0},null,811]
[{"$f":"'Lista de precios'!A818","v":0},{"$f":"'Lista de precios'!B818","v":0},null,812]
[{"$f":"'Lista de precios'!A819","v":0},{"$f":"'Lista de precios'!B819","v":0},null,813]
[{"$f":"'Lista de precios'!A820","v":0},{"$f":"'Lista de precios'!B820","v":0},null,814]
[{"$f":"'Lista de precios'!A821","v":0},{"$f":"'Lista de precios'!B821","v":0},null,815]
[{"$f":"'Lista de precios'!A822","v":0},{"$f":"'Lista de precios'!B822","v":0},null,816]
[{"$f":"'Lista de precios'!A823","v":0},{"$f":"'Lista de precios'!B823","v":0},null,817]
[{"$f":"'Lista de precios'!A824","v":0},{"$f":"'Lista de precios'!B824","v":0},null,818]
[{"$f":"'Lista de precios'!A825","v":0},{"$f":"'Lista de precios'!B825","v":0},null,819]
[{"$f":"'Lista de precios'!A826","v":0},{"$f":"'Lista de precios'!B826","v":0},null,820]
[{"$f":"'Lista de precios'!A827","v":0},{"$f":"'Lista de precios'!B827","v":0},null,821]
[{"$f":"'Lista de precios'!A828","v":0},{"$f":"'Lista de precios'!B828","v":0},null,822]
[{"$f":"'Lista de precios'!A829","v":0},{"$f":"'Lista de precios'!B829","v":0},null,823]
[{"$f":"'Lista de precios'!A830","v":0},{"$f":"'Lista de precios'!B830","v":0},null,824]
[{"$f":"'Lista de precios'!A831","v":0},{"$f":"'Lista de precios'!B831","v":0},null,825]
[{"$f":"'Lista de precios'!A832","v":0},{"$f":"'Lista de precios'!B832","v":0},null,826]
[{"$f":"'Lista de precios'!A833","v":0},{"$f":"'Lista de precios'!B833","v":0},null,827]
[{"$f":"'Lista de precios'!A834","v":0},{"$f":"'Lista de precios'!B834","v":0},null,828]
[{"$f":"'Lista de precios'!A835","v":0},{"$f":"'Lista de precios'!B835","v":0},null,829]
[{"$f":"'Lista de precios'!A836","v":0},{"$f":"'Lista de precios'!B836","v":0},null,830]
[{"$f":"'Lista de precios'!A837","v":0},{"$f":"'Lista de precios'!B837","v":0},null,831]
[{"$f":"'Lista de precios'!A838","v":0},{"$f":"'Lista de precios'!B838","v":0},null,832]
[{"$f":"'Lista de precios'!A839","v":0},{"$f":"'Lista de precios'!B839","v":0},null,833]
[{"$f":"'Lista de precios'!A840","v":0},{"$f":"'Lista de precios'!B840","v":0},null,834]
[{"$f":"'Lista de precios'!A841","v":0},{"$f":"'Lista de precios'!B841","v":0},null,835]
[{"$f":"'Lista de precios'!A842","v":0},{"$f":"'Lista de precios'!B842","v":0},null,836]
[{"$f":"'Lista de precios'!A843","v":0},{"$f":"'Lista de precios'!B843","v":0},null,837]
[{"$f":"'Lista de precios'!A844","v":0},{"$f":"'Lista de precios'!B844","v":0},null,838]
[{"$f":"'Lista de precios'!A845","v":0},{"$f":"'Lista de precios'!B845","v":0},null,839]
[{"$f":"'Lista de precios'!A846","v":0},{"$f":"'Lista de precios'!B846","v":0},null,840]
[{"$f":"'Lista de precios'!A847","v":0},{"$f":"'Lista de precios'!B847","v":0},null,841]
[{"$f":"'Lista de precios'!A848","v":0},{"$f":"'Lista de precios'!B848","v":0},null,842]
[{"$f":"'Lista de precios'!A849","v":0},{"$f":"'Lista de precios'!B849","v":0},null,843]
[{"$f":"'Lista de precios'!A850","v":0},{"$f":"'Lista de precios'!B850","v":0},null,844]
[{"$f":"'Lista de precios'!A851","v":0},{"$f":"'Lista de precios'!B851","v":0},null,845]
[{"$f":"'Lista de precios'!A852","v":0},{"$f":"'Lista de precios'!B852","v":0},null,846]
[{"$f":"'Lista de precios'!A853","v":0},{"$f":"'Lista de precios'!B853","v":0},null,847]
[{"$f":"'Lista de precios'!A854","v":0},{"$f":"'Lista de precios'!B854","v":0},null,848]
[{"$f":"'Lista de precios'!A855","v":0},{"$f":"'Lista de precios'!B855","v":0},null,849]
[{"$f":"'Lista de precios'!A856","v":0},{"$f":"'Lista de precios'!B856","v":0},null,850]
[{"$f":"'Lista de precios'!A857","v":0},{"$f":"'Lista de precios'!B857","v":0},null,851]
[{"$f":"'Lista de precios'!A858","v":0},{"$f":"'Lista de precios'!B858","v":0},null,852]
[{"$f":"'Lista de precios'!A859","v":0},{"$f":"'Lista de precios'!B859","v":0},null,853]
[{"$f":"'Lista de precios'!A860","v":0},{"$f":"'Lista de precios'!B860","v":0},null,854]
[{"$f":"'Lista de precios'!A861","v":0},{"$f":"'Lista de precios'!B861","v":0},null,855]
[{"$f":"'Lista de precios'!A862","v":0},{"$f":"'Lista de precios'!B862","v":0},null,856]
[{"$f":"'Lista de precios'!A863","v":0},{"$f":"'Lista de precios'!B863","v":0},null,857]
[{"$f":"'Lista de precios'!A864","v":0},{"$f":"'Lista de precios'!B864","v":0},null,858]
[{"$f":"'Lista de precios'!A865","v":0},{"$f":"'Lista de precios'!B865","v":0},null,859]
[{"$f":"'Lista de precios'!A866","v":0},{"$f":"'Lista de precios'!B866","v":0},null,860]
[{"$f":"'Lista de precios'!A867","v":0},{"$f":"'Lista de precios'!B867","v":0},null,861]
[{"$f":"'Lista de precios'!A868","v":0},{"$f":"'Lista de precios'!B868","v":0},null,862]
[{"$f":"'Lista de precios'!A869","v":0},{"$f":"'Lista de precios'!B869","v":0},null,863]
[{"$f":"'Lista de precios'!A870","v":0},{"$f":"'Lista de precios'!B870","v":0},null,864]
[{"$f":"'Lista de precios'!A871","v":0},{"$f":"'Lista de precios'!B871","v":0},null,865]
[{"$f":"'Lista de precios'!A872","v":0},{"$f":"'Lista de precios'!B872","v":0},null,866]
[{"$f":"'Lista de precios'!A873","v":0},{"$f":"'Lista de precios'!B873","v":0},null,867]
[{"$f":"'Lista de precios'!A874","v":0},{"$f":"'Lista de precios'!B874","v":0},null,868]
[{"$f":"'Lista de precios'!A875","v":0},{"$f":"'Lista de precios'!B875","v":0},null,869]
[{"$f":"'Lista de precios'!A876","v":0},{"$f":"'Lista de precios'!B876","v":0},null,870]
[{"$f":"'Lista de precios'!A877","v":0},{"$f":"'Lista de precios'!B877","v":0},null,871]
[{"$f":"'Lista de precios'!A878","v":0},{"$f":"'Lista de precios'!B878","v":0},null,872]
[{"$f":"'Lista de precios'!A879","v":0},{"$f":"'Lista de precios'!B879","v":0},null,873]
[{"$f":"'Lista de precios'!A880","v":0},{"$f":"'Lista de precios'!B880","v":0},null,874]
[{"$f":"'Lista de precios'!A881","v":0},{"$f":"'Lista de precios'!B881","v":0},null,875]
[{"$f":"'Lista de precios'!A882","v":0},{"$f":"'Lista de precios'!B882","v":0},null,876]
[{"$f":"'Lista de precios'!A883","v":0},{"$f":"'Lista de precios'!B883","v":0},null,877]
[{"$f":"'Lista de precios'!A884","v":0},{"$f":"'Lista de precios'!B884","v":0},null,878]
[{"$f":"'Lista de precios'!A885","v":0},{"$f":"'Lista de precios'!B885","v":0},null,879]
[{"$f":"'Lista de precios'!A886","v":0},{"$f":"'Lista de precios'!B886","v":0},null,880]
[{"$f":"'Lista de precios'!A887","v":0},{"$f":"'Lista de precios'!B887","v":0},null,881]
[{"$f":"'Lista de precios'!A888","v":0},{"$f":"'Lista de precios'!B888","v":0},null,882]
[{"$f":"'Lista de precios'!A889","v":0},{"$f":"'Lista de precios'!B889","v":0},null,883]
[{"$f":"'Lista de precios'!A890","v":0},{"$f":"'Lista de precios'!B890","v":0},null,884]
[{"$f":"'Lista de precios'!A891","v":0},{"$f":"'Lista de precios'!B891","v":0},null,885]
[{"$f":"'Lista de precios'!A892","v":0},{"$f":"'Lista de precios'!B892","v":0},null,886]
[{"$f":"'Lista de precios'!A893","v":0},{"$f":"'Lista de precios'!B893","v":0},null,887]
[{"$f":"'Lista de precios'!A894","v":0},{"$f":"'Lista de precios'!B894","v":0},null,888]
[{"$f":"'Lista de precios'!A895","v":0},{"$f":"'Lista de precios'!B895","v":0},null,889]
[{"$f":"'Lista de precios'!A896","v":0},{"$f":"'Lista de precios'!B896","v":0},null,890]
[{"$f":"'Lista de precios'!A897","v":0},{"$f":"'Lista de precios'!B897","v":0},null,891]
[{"$f":"'Lista de precios'!A898","v":0},{"$f":"'Lista de precios'!B898","v":0},null,892]
[{"$f":"'Lista de precios'!A899","v":0},{"$f":"'Lista de precios'!B899","v":0},null,893]
[{"$f":"'Lista de precios'!A900","v":0},{"$f":"'Lista de precios'!B900","v":0},null,894]
[{"$f":"'Lista de precios'!A901","v":0},{"$f":"'Lista de precios'!B901","v":0},null,895]
[{"$f":"'Lista de precios'!A902","v":0},{"$f":"'Lista de precios'!B902","v":0},null,896]
[{"$f":"'Lista de precios'!A903","v":0},{"$f":"'Lista de precios'!B903","v":0},null,897]
[{"$f":"'Lista de precios'!A904","v":0},{"$f":"'Lista de precios'!B904","v":0},null,898]
[{"$f":"'Lista de precios'!A905","v":0},{"$f":"'Lista de precios'!B905","v":0},null,899]
[{"$f":"'Lista de precios'!A906","v":0},{"$f":"'Lista de precios'!B906","v":0},null,900]
[{"$f":"'Lista de precios'!A907","v":0},{"$f":"'Lista de precios'!B907","v":0},null,901]
[{"$f":"'Lista de precios'!A908","v":0},{"$f":"'Lista de precios'!B908","v":0},null,902]
[{"$f":"'Lista de precios'!A909","v":0},{"$f":"'Lista de precios'!B909","v":0},null,903]
[{"$f":"'Lista de precios'!A910","v":0},{"$f":"'Lista de precios'!B910","v":0},null,904]
[{"$f":"'Lista de precios'!A911","v":0},{"$f":"'Lista de precios'!B911","v":0},null,905]
[{"$f":"'Lista de precios'!A912","v":0},{"$f":"'Lista de precios'!B912","v":0},null,906]
[{"$f":"'Lista de precios'!A913","v":0},{"$f":"'Lista de precios'!B913","v":0},null,907]
[{"$f":"'Lista de precios'!A914","v":0},{"$f":"'Lista de precios'!B914","v":0},null,908]
[{"$f":"'Lista de precios'!A915","v":0},{"$f":"'Lista de precios'!B915","v":0},null,909]
[{"$f":"'Lista de precios'!A916","v":0},{"$f":"'Lista de precios'!B916","v":0},null,910]
[{"$f":"'Lista de precios'!A917","v":0},{"$f":"'Lista de precios'!B917","v":0},null,911]
[{"$f":"'Lista de precios'!A918","v":0},{"$f":"'Lista de precios'!B918","v":0},null,912]
[{"$f":"'Lista de precios'!A919","v":0},{"$f":"'Lista de precios'!B919","v":0},null,913]
[{"$f":"'Lista de precios'!A920","v":0},{"$f":"'Lista de precios'!B920","v":0},null,914]
[{"$f":"'Lista de precios'!A921","v":0},{"$f":"'Lista de precios'!B921","v":0},null,915]
[{"$f":"'Lista de precios'!A922","v":0},{"$f":"'Lista de precios'!B922","v":0},null,916]
[{"$f":"'Lista de precios'!A923","v":0},{"$f":"'Lista de precios'!B923","v":0},null,917]
[{"$f":"'Lista de precios'!A924","v":0},{"$f":"'Lista de precios'!B924","v":0},null,918]
[{"$f":"'Lista de precios'!A925","v":0},{"$f":"'Lista de precios'!B925","v":0},null,919]
[{"$f":"'Lista de precios'!A926","v":0},{"$f":"'Lista de precios'!B926","v":0},null,920]
[{"$f":"'Lista de precios'!A927","v":0},{"$f":"'Lista de precios'!B927","v":0},null,921]
[{"$f":"'Lista de precios'!A928","v":0},{"$f":"'Lista de precios'!B928","v":0},null,922]
[{"$f":"'Lista de precios'!A929","v":0},{"$f":"'Lista de precios'!B929","v":0},null,923]
[{"$f":"'Lista de precios'!A930","v":0},{"$f":"'Lista de precios'!B930","v":0},null,924]
[{"$f":"'Lista de precios'!A931","v":0},{"$f":"'Lista de precios'!B931","v":0},null,925]
[{"$f":"'Lista de precios'!A932","v":0},{"$f":"'Lista de precios'!B932","v":0},null,926]
[{"$f":"'Lista de precios'!A933","v":0},{"$f":"'Lista de precios'!B933","v":0},null,927]
[{"$f":"'Lista de precios'!A934","v":0},{"$f":"'Lista de precios'!B934","v":0},null,928]
[{"$f":"'Lista de precios'!A935","v":0},{"$f":"'Lista de precios'!B935","v":0},null,929]
[{"$f":"'Lista de precios'!A936","v":0},{"$f":"'Lista de precios'!B936","v":0},null,930]
[{"$f":"'Lista de precios'!A937","v":0},{"$f":"'Lista de precios'!B937","v":0},null,931]
[{"$f":"'Lista de precios'!A938","v":0},{"$f":"'Lista de precios'!B938","v":0},null,932]
[{"$f":"'Lista de precios'!A939","v":0},{"$f":"'Lista de precios'!B939","v":0},null,933]
[{"$f":"'Lista de precios'!A940","v":0},{"$f":"'Lista de precios'!B940","v":0},null,934]
[{"$f":"'Lista de precios'!A941","v":0},{"$f":"'Lista de precios'!B941","v":0},null,935]
[{"$f":"'Lista de precios'!A942","v":0},{"$f":"'Lista de precios'!B942","v":0},null,936]
[{"$f":"'Lista de precios'!A943","v":0},{"$f":"'Lista de precios'!B943","v":0},null,937]
[{"$f":"'Lista de precios'!A944","v":0},{"$f":"'Lista de precios'!B944","v":0},null,938]
[{"$f":"'Lista de precios'!A945","v":0},{"$f":"'Lista de precios'!B945","v":0},null,939]
[{"$f":"'Lista de precios'!A946","v":0},{"$f":"'Lista de precios'!B946","v":0},null,940]
[{"$f":"'Lista de precios'!A947","v":0},{"$f":"'Lista de precios'!B947","v":0},null,941]
[{"$f":"'Lista de precios'!A948","v":0},{"$f":"'Lista de precios'!B948","v":0},null,942]
[{"$f":"'Lista de precios'!A949","v":0},{"$f":"'Lista de precios'!B949","v":0},null,943]
[{"$f":"'Lista de precios'!A950","v":0},{"$f":"'Lista de precios'!B950","v":0},null,944]
[{"$f":"'Lista de precios'!A951","v":0},{"$f":"'Lista de precios'!B951","v":0},null,945]
[{"$f":"'Lista de precios'!A952","v":0},{"$f":"'Lista de precios'!B952","v":0},null,946]
[{"$f":"'Lista de precios'!A953","v":0},{"$f":"'Lista de precios'!B953","v":0},null,947]
[{"$f":"'Lista de precios'!A954","v":0},{"$f":"'Lista de precios'!B954","v":0},null,948]
[{"$f":"'Lista de precios'!A955","v":0},{"$f":"'Lista de precios'!B955","v":0},null,949]
[{"$f":"'Lista de precios'!A956","v":0},{"$f":"'Lista de precios'!B956","v":0},null,950]
[{"$f":"'Lista de precios'!A957","v":0},{"$f":"'Lista de precios'!B957","v":0},null,951]
[{"$f":"'Lista de precios'!A958","v":0},{"$f":"'Lista de precios'!B958","v":0},null,952]
[{"$f":"'Lista de precios'!A959","v":0},{"$f":"'Lista de precios'!B959","v":0},null,953]
[{"$f":"'Lista de precios'!A960","v":0},{"$f":"'Lista de precios'!B960","v":0},null,954]
[{"$f":"'Lista de precios'!A961","v":0},{"$f":"'Lista de precios'!B961","v":0},null,955]
[{"$f":"'Lista de precios'!A962","v":0},{"$f":"'Lista de precios'!B962","v":0},null,956]
[{"$f":"'Lista de precios'!A963","v":0},{"$f":"'Lista de precios'!B963","v":0},null,957]
[{"$f":"'Lista de precios'!A964","v":0},{"$f":"'Lista de precios'!B964","v":0},null,958]
[{"$f":"'Lista de precios'!A965","v":0},{"$f":"'Lista de precios'!B965","v":0},null,959]
[{"$f":"'Lista de precios'!A966","v":0},{"$f":"'Lista de precios'!B966","v":0},null,960]
[{"$f":"'Lista de precios'!A967","v":0},{"$f":"'Lista de precios'!B967","v":0},null,961]
[{"$f":"'Lista de precios'!A968","v":0},{"$f":"'Lista de precios'!B968","v":0},null,962]
[{"$f":"'Lista de precios'!A969","v":0},{"$f":"'Lista de precios'!B969","v":0},null,963]
[{"$f":"'Lista de precios'!A970","v":0},{"$f":"'Lista de precios'!B970","v":0},null,964]
[{"$f":"'Lista de precios'!A971","v":0},{"$f":"'Lista de precios'!B971","v":0},null,965]
[{"$f":"'Lista de precios'!A972","v":0},{"$f":"'Lista de precios'!B972","v":0},null,966]
[{"$f":"'Lista de precios'!A973","v":0},{"$f":"'Lista de precios'!B973","v":0},null,967]
[{"$f":"'Lista de precios'!A974","v":0},{"$f":"'Lista de precios'!B974","v":0},null,968]
[{"$f":"'Lista de precios'!A975","v":0},{"$f":"'Lista de precios'!B975","v":0},null,969]
[{"$f":"'Lista de precios'!A976","v":0},{"$f":"'Lista de precios'!B976","v":0},null,970]
[{"$f":"'Lista de precios'!A977","v":0},{"$f":"'Lista de precios'!B977","v":0},null,971]
[{"$f":"'Lista de precios'!A978","v":0},{"$f":"'Lista de precios'!B978","v":0},null,972]
[{"$f":"'Lista de precios'!A979","v":0},{"$f":"'Lista de precios'!B979","v":0},null,973]
[{"$f":"'Lista de precios'!A980","v":0},{"$f":"'Lista de precios'!B980","v":0},null,974]
[{"$f":"'Lista de precios'!A981","v":0},{"$f":"'Lista de precios'!B981","v":0},null,975]
[{"$f":"'Lista de precios'!A982","v":0},{"$f":"'Lista de precios'!B982","v":0},null,976]
[{"$f":"'Lista de precios'!A983","v":0},{"$f":"'Lista de precios'!B983","v":0},null,977]
[{"$f":"'Lista de precios'!A984","v":0},{"$f":"'Lista de precios'!B984","v":0},null,978]
[{"$f":"'Lista de precios'!A985","v":0},{"$f":"'Lista de precios'!B985","v":0},null,979]
[{"$f":"'Lista de precios'!A986","v":0},{"$f":"'Lista de precios'!B986","v":0},null,980]
[{"$f":"'Lista de precios'!A987","v":0},{"$f":"'Lista de precios'!B987","v":0},null,981]
[{"$f":"'Lista de precios'!A988","v":0},{"$f":"'Lista de precios'!B988","v":0},null,982]
[{"$f":"'Lista de precios'!A989","v":0},{"$f":"'Lista de precios'!B989","v":0},null,983]
[{"$f":"'Lista de precios'!A990","v":0},{"$f":"'Lista de precios'!B990","v":0},null,984]
[{"$f":"'Lista de precios'!A991","v":0},{"$f":"'Lista de precios'!B991","v":0},null,985]
[{"$f":"'Lista de precios'!A992","v":0},{"$f":"'Lista de precios'!B992","v":0},null,986]
[{"$f":"'Lista de precios'!A993","v":0},{"$f":"'Lista de precios'!B993","v":0},null,987]
[{"$f":"'Lista de precios'!A994","v":0},{"$f":"'Lista de precios'!B994","v":0},null,988]
[{"$f":"'Lista de precios'!A995","v":0},{"$f":"'Lista de precios'!B995","v":0},null,989]
[{"$f":"'Lista de precios'!A996","v":0},{"$f":"'Lista de precios'!B996","v":0},null,990]
[{"$f":"'Lista de precios'!A997","v":0},{"$f":"'Lista de precios'!B997","v":0},null,991]
[{"$f":"'Lista de precios'!A998","v":0},{"$f":"'Lista de precios'!B998","v":0},null,992]
[{"$f":"'Lista de precios'!A999","v":0},{"$f":"'Lista de precios'!B999","v":0},null,993]
[{"$f":"'Lista de precios'!A1000","v":0},{"$f":"'Lista de precios'!B1000","v":0},null,994]
[{"$f":"'Lista de precios'!A1001","v":0},{"$f":"'Lista de precios'!B1001","v":0},null,995]
[{"$f":"'Lista de precios'!A1002","v":0},{"$f":"'Lista de precios'!B1002","v":0},null,996]
[{"$f":"'Lista de precios'!A1003","v":0},{"$f":"'Lista de precios'!B1003","v":0},null,997]
[{"$f":"'Lista de precios'!A1004","v":0},{"$f":"'Lista de precios'!B1004","v":0},null,998]
[{"$f":"'Lista de precios'!A1005","v":0},{"$f":"'Lista de precios'!B1005","v":0},null,999]
[{"$f":"'Lista de precios'!A1006","v":0},{"$f":"'Lista de precios'!B1006","v":0},null,1000]
[{"$f":"'Lista de precios'!A1007","v":0},{"$f":"'Lista de precios'!B1007","v":0},null,1001]
[{"$f":"'Lista de precios'!A1008","v":0},{"$f":"'Lista de precios'!B1008","v":0},null,1002]
[{"$f":"'Lista de precios'!A1009","v":0},{"$f":"'Lista de precios'!B1009","v":0},null,1003]
[{"$f":"'Lista de precios'!A1010","v":0},{"$f":"'Lista de precios'!B1010","v":0},null,1004]
[{"$f":"'Lista de precios'!A1011","v":0},{"$f":"'Lista de precios'!B1011","v":0},null,1005]
[{"$f":"'Lista de precios'!A1012","v":0},{"$f":"'Lista de precios'!B1012","v":0},null,1006]
[{"$f":"'Lista de precios'!A1013","v":0},{"$f":"'Lista de precios'!B1013","v":0},null,1007]
[{"$f":"'Lista de precios'!A1014","v":0},{"$f":"'Lista de precios'!B1014","v":0},null,1008]
[{"$f":"'Lista de precios'!A1015","v":0},{"$f":"'Lista de precios'!B1015","v":0},null,1009]
[{"$f":"'Lista de precios'!A1016","v":0},{"$f":"'Lista de precios'!B1016","v":0},null,1010]
[{"$f":"'Lista de precios'!A1017","v":0},{"$f":"'Lista de precios'!B1017","v":0},null,1011]
[{"$f":"'Lista de precios'!A1018","v":0},{"$f":"'Lista de precios'!B1018","v":0},null,1012]
[{"$f":"'Lista de precios'!A1019","v":0},{"$f":"'Lista de precios'!B1019","v":0},null,1013]
[{"$f":"'Lista de precios'!A1020","v":0},{"$f":"'Lista de precios'!B1020","v":0},null,1014]
[{"$f":"'Lista de precios'!A1021","v":0},{"$f":"'Lista de precios'!B1021","v":0},null,1015]
[{"$f":"'Lista de precios'!A1022","v":0},{"$f":"'Lista de precios'!B1022","v":0},null,1016]
[{"$f":"'Lista de precios'!A1023","v":0},{"$f":"'Lista de precios'!B1023","v":0},null,1017]
[{"$f":"'Lista de precios'!A1024","v":0},{"$f":"'Lista de precios'!B1024","v":0},null,1018]
[{"$f":"'Lista de precios'!A1025","v":0},{"$f":"'Lista de precios'!B1025","v":0},null,1019]
[{"$f":"'Lista de precios'!A1026","v":0},{"$f":"'Lista de precios'!B1026","v":0},null,1020]
[{"$f":"'Lista de precios'!A1027","v":0},{"$f":"'Lista de precios'!B1027","v":0},null,1021]
[{"$f":"'Lista de precios'!A1028","v":0},{"$f":"'Lista de precios'!B1028","v":0},null,1022]
[{"$f":"'Lista de precios'!A1029","v":0},{"$f":"'Lista de precios'!B1029","v":0},null,1023]
[{"$f":"'Lista de precios'!A1030","v":0},{"$f":"'Lista de precios'!B1030","v":0},null,1024]
[{"$f":"'Lista de precios'!A1031","v":0},{"$f":"'Lista de precios'!B1031","v":0},null,1025]
[{"$f":"'Lista de precios'!A1032","v":0},{"$f":"'Lista de precios'!B1032","v":0},null,1026]
[{"$f":"'Lista de precios'!A1033","v":0},{"$f":"'Lista de precios'!B1033","v":0},null,1027]
[{"$f":"'Lista de precios'!A1034","v":0},{"$f":"'Lista de precios'!B1034","v":0},null,1028]
[{"$f":"'Lista de precios'!A1035","v":0},{"$f":"'Lista de precios'!B1035","v":0},null,1029]
[{"$f":"'Lista de precios'!A1036","v":0},{"$f":"'Lista de precios'!B1036","v":0},null,1030]
[{"$f":"'Lista de precios'!A1037","v":0},{"$f":"'Lista de precios'!B1037","v":0},null,1031]
[{"$f":"'Lista de precios'!A1038","v":0},{"$f":"'Lista de precios'!B1038","v":0},null,1032]
[{"$f":"'Lista de precios'!A1039","v":0},{"$f":"'Lista de precios'!B1039","v":0},null,1033]
[{"$f":"'Lista de precios'!A1040","v":0},{"$f":"'Lista de precios'!B1040","v":0},null,1034]
[{"$f":"'Lista de precios'!A1041","v":0},{"$f":"'Lista de precios'!B1041","v":0},null,1035]
[{"$f":"'Lista de precios'!A1042","v":0},{"$f":"'Lista de precios'!B1042","v":0},null,1036]
[{"$f":"'Lista de precios'!A1043","v":0},{"$f":"'Lista de precios'!B1043","v":0},null,1037]
[{"$f":"'Lista de precios'!A1044","v":0},{"$f":"'Lista de precios'!B1044","v":0},null,1038]
[{"$f":"'Lista de precios'!A1045","v":0},{"$f":"'Lista de precios'!B1045","v":0},null,1039]
[{"$f":"'Lista de precios'!A1046","v":0},{"$f":"'Lista de precios'!B1046","v":0},null,1040]
[{"$f":"'Lista de precios'!A1047","v":0},{"$f":"'Lista de precios'!B1047","v":0},null,1041]
[{"$f":"'Lista de precios'!A1048","v":0},{"$f":"'Lista de precios'!B1048","v":0},null,1042]
[{"$f":"'Lista de precios'!A1049","v":0},{"$f":"'Lista de precios'!B1049","v":0},null,1043]
[{"$f":"'Lista de precios'!A1050","v":0},{"$f":"'Lista de precios'!B1050","v":0},null,1044]
[{"$f":"'Lista de precios'!A1051","v":0},{"$f":"'Lista de precios'!B1051","v":0},null,1045]
[{"$f":"'Lista de precios'!A1052","v":0},{"$f":"'Lista de precios'!B1052","v":0},null,1046]
[{"$f":"'Lista de precios'!A1053","v":0},{"$f":"'Lista de precios'!B1053","v":0},null,1047]
[{"$f":"'Lista de precios'!A1054","v":0},{"$f":"'Lista de precios'!B1054","v":0},null,1048]
[{"$f":"'Lista de precios'!A1055","v":0},{"$f":"'Lista de precios'!B1055","v":0},null,1049]
[{"$f":"'Lista de precios'!A1056","v":0},{"$f":"'Lista de precios'!B1056","v":0},null,1050]
[{"$f":"'Lista de precios'!A1057","v":0},{"$f":"'Lista de precios'!B1057","v":0},null,1051]
[{"$f":"'Lista de precios'!A1058","v":0},{"$f":"'Lista de precios'!B1058","v":0},null,1052]
[{"$f":"'Lista de precios'!A1059","v":0},{"$f":"'Lista de precios'!B1059","v":0},null,1053]
[{"$f":"'Lista de precios'!A1060","v":0},{"$f":"'Lista de precios'!B1060","v":0},null,1054]
[{"$f":"'Lista de precios'!A1061","v":0},{"$f":"'Lista de precios'!B1061","v":0},null,1055]
[{"$f":"'Lista de precios'!A1062","v":0},{"$f":"'Lista de precios'!B1062","v":0},null,1056]
[{"$f":"'Lista de precios'!A1063","v":0},{"$f":"'Lista de precios'!B1063","v":0},null,1057]
[{"$f":"'Lista de precios'!A1064","v":0},{"$f":"'Lista de precios'!B1064","v":0},null,1058]
[{"$f":"'Lista de precios'!A1065","v":0},{"$f":"'Lista de precios'!B1065","v":0},null,1059]
[{"$f":"'Lista de precios'!A1066","v":0},{"$f":"'Lista de precios'!B1066","v":0},null,1060]
[{"$f":"'Lista de precios'!A1067","v":0},{"$f":"'Lista de precios'!B1067","v":0},null,1061]
[{"$f":"'Lista de precios'!A1068","v":0},{"$f":"'Lista de precios'!B1068","v":0},null,1062]
[{"$f":"'Lista de precios'!A1069","v":0},{"$f":"'Lista de precios'!B1069","v":0},null,1063]
[{"$f":"'Lista de precios'!A1070","v":0},{"$f":"'Lista de precios'!B1070","v":0},null,1064]
[{"$f":"'Lista de precios'!A1071","v":0},{"$f":"'Lista de precios'!B1071","v":0},null,1065]
[{"$f":"'Lista de precios'!A1072","v":0},{"$f":"'Lista de precios'!B1072","v":0},null,1066]
[{"$f":"'Lista de precios'!A1073","v":0},{"$f":"'Lista de precios'!B1073","v":0},null,1067]
[{"$f":"'Lista de precios'!A1074","v":0},{"$f":"'Lista de precios'!B1074","v":0},null,1068]
[{"$f":"'Lista de precios'!A1075","v":0},{"$f":"'Lista de precios'!B1075","v":0},null,1069]
[{"$f":"'Lista de precios'!A1076","v":0},{"$f":"'Lista de precios'!B1076","v":0},null,1070]
[{"$f":"'Lista de precios'!A1077","v":0},{"$f":"'Lista de precios'!B1077","v":0},null,1071]
[{"$f":"'Lista de precios'!A1078","v":0},{"$f":"'Lista de precios'!B1078","v":0},null,1072]
[{"$f":"'Lista de precios'!A1079","v":0},{"$f":"'Lista de precios'!B1079","v":0},null,1073]
[{"$f":"'Lista de precios'!A1080","v":0},{"$f":"'Lista de precios'!B1080","v":0},null,1074]
[{"$f":"'Lista de precios'!A1081","v":0},{"$f":"'Lista de precios'!B1081","v":0},null,1075]
[{"$f":"'Lista de precios'!A1082","v":0},{"$f":"'Lista de precios'!B1082","v":0},null,1076]
[{"$f":"'Lista de precios'!A1083","v":0},{"$f":"'Lista de precios'!B1083","v":0},null,1077]
[{"$f":"'Lista de precios'!A1084","v":0},{"$f":"'Lista de precios'!B1084","v":0},null,1078]
[{"$f":"'Lista de precios'!A1085","v":0},{"$f":"'Lista de precios'!B1085","v":0},null,1079]
[{"$f":"'Lista de precios'!A1086","v":0},{"$f":"'Lista de precios'!B1086","v":0},null,1080]
[{"$f":"'Lista de precios'!A1087","v":0},{"$f":"'Lista de precios'!B1087","v":0},null,1081]
[{"$f":"'Lista de precios'!A1088","v":0},{"$f":"'Lista de precios'!B1088","v":0},null,1082]
[{"$f":"'Lista de precios'!A1089","v":0},{"$f":"'Lista de precios'!B1089","v":0},null,1083]
[{"$f":"'Lista de precios'!A1090","v":0},{"$f":"'Lista de precios'!B1090","v":0},null,1084]
[{"$f":"'Lista de precios'!A1091","v":0},{"$f":"'Lista de precios'!B1091","v":0},null,1085]
[{"$f":"'Lista de precios'!A1092","v":0},{"$f":"'Lista de precios'!B1092","v":0},null,1086]
[{"$f":"'Lista de precios'!A1093","v":0},{"$f":"'Lista de precios'!B1093","v":0},null,1087]
[{"$f":"'Lista de precios'!A1094","v":0},{"$f":"'Lista de precios'!B1094","v":0},null,1088]
[{"$f":"'Lista de precios'!A1095","v":0},{"$f":"'Lista de precios'!B1095","v":0},null,1089]
[{"$f":"'Lista de precios'!A1096","v":0},{"$f":"'Lista de precios'!B1096","v":0},null,1090]
[{"$f":"'Lista de precios'!A1097","v":0},{"$f":"'Lista de precios'!B1097","v":0},null,1091]
[{"$f":"'Lista de precios'!A1098","v":0},{"$f":"'Lista de precios'!B1098","v":0},null,1092]
[{"$f":"'Lista de precios'!A1099","v":0},{"$f":"'Lista de precios'!B1099","v":0},null,1093]
[{"$f":"'Lista de precios'!A1100","v":0},{"$f":"'Lista de precios'!B1100","v":0},null,1094]
[{"$f":"'Lista de precios'!A1101","v":0},{"$f":"'Lista de precios'!B1101","v":0},null,1095]
[{"$f":"'Lista de precios'!A1102","v":0},{"$f":"'Lista de precios'!B1102","v":0},null,1096]
[{"$f":"'Lista de precios'!A1103","v":0},{"$f":"'Lista de precios'!B1103","v":0},null,1097]
[{"$f":"'Lista de precios'!A1104","v":0},{"$f":"'Lista de precios'!B1104","v":0},null,1098]
[{"$f":"'Lista de precios'!A1105","v":0},{"$f":"'Lista de precios'!B1105","v":0},null,1099]
[{"$f":"'Lista de precios'!A1106","v":0},{"$f":"'Lista de precios'!B1106","v":0},null,1100]
[{"$f":"'Lista de precios'!A1107","v":0},{"$f":"'Lista de precios'!B1107","v":0},null,1101]
[{"$f":"'Lista de precios'!A1108","v":0},{"$f":"'Lista de precios'!B1108","v":0},null,1102]
[{"$f":"'Lista de precios'!A1109","v":0},{"$f":"'Lista de precios'!B1109","v":0},null,1103]
[{"$f":"'Lista de precios'!A1110","v":0},{"$f":"'Lista de precios'!B1110","v":0},null,1104]
[{"$f":"'Lista de precios'!A1111","v":0},{"$f":"'Lista de precios'!B1111","v":0},null,1105]
[{"$f":"'Lista de precios'!A1112","v":0},{"$f":"'Lista de precios'!B1112","v":0},null,1106]
[{"$f":"'Lista de precios'!A1113","v":0},{"$f":"'Lista de precios'!B1113","v":0},null,1107]
[{"$f":"'Lista de precios'!A1114","v":0},{"$f":"'Lista de precios'!B1114","v":0},null,1108]
[{"$f":"'Lista de precios'!A1115","v":0},{"$f":"'Lista de precios'!B1115","v":0},null,1109]
[{"$f":"'Lista de precios'!A1116","v":0},{"$f":"'Lista de precios'!B1116","v":0},null,1110]
[{"$f":"'Lista de precios'!A1117","v":0},{"$f":"'Lista de precios'!B1117","v":0},null,1111]
[{"$f":"'Lista de precios'!A1118","v":0},{"$f":"'Lista de precios'!B1118","v":0},null,1112]
[{"$f":"'Lista de precios'!A1119","v":0},{"$f":"'Lista de precios'!B1119","v":0},null,1113]
[{"$f":"'Lista de precios'!A1120","v":0},{"$f":"'Lista de precios'!B1120","v":0},null,1114]
[{"$f":"'Lista de precios'!A1121","v":0},{"$f":"'Lista de precios'!B1121","v":0},null,1115]
[{"$f":"'Lista de precios'!A1122","v":0},{"$f":"'Lista de precios'!B1122","v":0},null,1116]
[{"$f":"'Lista de precios'!A1123","v":0},{"$f":"'Lista de precios'!B1123","v":0},null,1117]
[{"$f":"'Lista de precios'!A1124","v":0},{"$f":"'Lista de precios'!B1124","v":0},null,1118]
[{"$f":"'Lista de precios'!A1125","v":0},{"$f":"'Lista de precios'!B1125","v":0},null,1119]
[{"$f":"'Lista de precios'!A1126","v":0},{"$f":"'Lista de precios'!B1126","v":0},null,1120]
[{"$f":"'Lista de precios'!A1127","v":0},{"$f":"'Lista de precios'!B1127","v":0},null,1121]
[{"$f":"'Lista de precios'!A1128","v":0},{"$f":"'Lista de precios'!B1128","v":0},null,1122]
[{"$f":"'Lista de precios'!A1129","v":0},{"$f":"'Lista de precios'!B1129","v":0},null,1123]
[{"$f":"'Lista de precios'!A1130","v":0},{"$f":"'Lista de precios'!B1130","v":0},null,1124]
[{"$f":"'Lista de precios'!A1131","v":0},{"$f":"'Lista de precios'!B1131","v":0},null,1125]
[{"$f":"'Lista de precios'!A1132","v":0},{"$f":"'Lista de precios'!B1132","v":0},null,1126]
[{"$f":"'Lista de precios'!A1133","v":0},{"$f":"'Lista de precios'!B1133","v":0},null,1127]
[{"$f":"'Lista de precios'!A1134","v":0},{"$f":"'Lista de precios'!B1134","v":0},null,1128]
[{"$f":"'Lista de precios'!A1135","v":0},{"$f":"'Lista de precios'!B1135","v":0},null,1129]
[{"$f":"'Lista de precios'!A1136","v":0},{"$f":"'Lista de precios'!B1136","v":0},null,1130]
[{"$f":"'Lista de precios'!A1137","v":0},{"$f":"'Lista de precios'!B1137","v":0},null,1131]
[{"$f":"'Lista de precios'!A1138","v":0},{"$f":"'Lista de precios'!B1138","v":0},null,1132]
[{"$f":"'Lista de precios'!A1139","v":0},{"$f":"'Lista de precios'!B1139","v":0},null,1133]
[{"$f":"'Lista de precios'!A1140","v":0},{"$f":"'Lista de precios'!B1140","v":0},null,1134]
[{"$f":"'Lista de precios'!A1141","v":0},{"$f":"'Lista de precios'!B1141","v":0},null,1135]
[{"$f":"'Lista de precios'!A1142","v":0},{"$f":"'Lista de precios'!B1142","v":0},null,1136]
[{"$f":"'Lista de precios'!A1143","v":0},{"$f":"'Lista de precios'!B1143","v":0},null,1137]
[{"$f":"'Lista de precios'!A1144","v":0},{"$f":"'Lista de precios'!B1144","v":0},null,1138]
[{"$f":"'Lista de precios'!A1145","v":0},{"$f":"'Lista de precios'!B1145","v":0},null,1139]
[{"$f":"'Lista de precios'!A1146","v":0},{"$f":"'Lista de precios'!B1146","v":0},null,1140]
[{"$f":"'Lista de precios'!A1147","v":0},{"$f":"'Lista de precios'!B1147","v":0},null,1141]
[{"$f":"'Lista de precios'!A1148","v":0},{"$f":"'Lista de precios'!B1148","v":0},null,1142]
[{"$f":"'Lista de precios'!A1149","v":0},{"$f":"'Lista de precios'!B1149","v":0},null,1143]
[{"$f":"'Lista de precios'!A1150","v":0},{"$f":"'Lista de precios'!B1150","v":0},null,1144]
[{"$f":"'Lista de precios'!A1151","v":0},{"$f":"'Lista de precios'!B1151","v":0},null,1145]
[{"$f":"'Lista de precios'!A1152","v":0},{"$f":"'Lista de precios'!B1152","v":0},null,1146]
[{"$f":"'Lista de precios'!A1153","v":0},{"$f":"'Lista de precios'!B1153","v":0},null,1147]
[{"$f":"'Lista de precios'!A1154","v":0},{"$f":"'Lista de precios'!B1154","v":0},null,1148]
[{"$f":"'Lista de precios'!A1155","v":0},{"$f":"'Lista de precios'!B1155","v":0},null,1149]
[{"$f":"'Lista de precios'!A1156","v":0},{"$f":"'Lista de precios'!B1156","v":0},null,1150]
[{"$f":"'Lista de precios'!A1157","v":0},{"$f":"'Lista de precios'!B1157","v":0},null,1151]
[{"$f":"'Lista de precios'!A1158","v":0},{"$f":"'Lista de precios'!B1158","v":0},null,1152]
[{"$f":"'Lista de precios'!A1159","v":0},{"$f":"'Lista de precios'!B1159","v":0},null,1153]
[{"$f":"'Lista de precios'!A1160","v":0},{"$f":"'Lista de precios'!B1160","v":0},null,1154]
[{"$f":"'Lista de precios'!A1161","v":0},{"$f":"'Lista de precios'!B1161","v":0},null,1155]
[{"$f":"'Lista de precios'!A1162","v":0},{"$f":"'Lista de precios'!B1162","v":0},null,1156]
[{"$f":"'Lista de precios'!A1163","v":0},{"$f":"'Lista de precios'!B1163","v":0},null,1157]
[{"$f":"'Lista de precios'!A1164","v":0},{"$f":"'Lista de precios'!B1164","v":0},null,1158]
[{"$f":"'Lista de precios'!A1165","v":0},{"$f":"'Lista de precios'!B1165","v":0},null,1159]
[{"$f":"'Lista de precios'!A1166","v":0},{"$f":"'Lista de precios'!B1166","v":0},null,1160]
[{"$f":"'Lista de precios'!A1167","v":0},{"$f":"'Lista de precios'!B1167","v":0},null,1161]
[{"$f":"'Lista de precios'!A1168","v":0},{"$f":"'Lista de precios'!B1168","v":0},null,1162]
[{"$f":"'Lista de precios'!A1169","v":0},{"$f":"'Lista de precios'!B1169","v":0},null,1163]
[{"$f":"'Lista de precios'!A1170","v":0},{"$f":"'Lista de precios'!B1170","v":0},null,1164]
[{"$f":"'Lista de precios'!A1171","v":0},{"$f":"'Lista de precios'!B1171","v":0},null,1165]
[{"$f":"'Lista de precios'!A1172","v":0},{"$f":"'Lista de precios'!B1172","v":0},null,1166]
[{"$f":"'Lista de precios'!A1173","v":0},{"$f":"'Lista de precios'!B1173","v":0},null,1167]
[{"$f":"'Lista de precios'!A1174","v":0},{"$f":"'Lista de precios'!B1174","v":0},null,1168]
[{"$f":"'Lista de precios'!A1175","v":0},{"$f":"'Lista de precios'!B1175","v":0},null,1169]
[{"$f":"'Lista de precios'!A1176","v":0},{"$f":"'Lista de precios'!B1176","v":0},null,1170]
[{"$f":"'Lista de precios'!A1177","v":0},{"$f":"'Lista de precios'!B1177","v":0},null,1171]
[{"$f":"'Lista de precios'!A1178","v":0},{"$f":"'Lista de precios'!B1178","v":0},null,1172]
[{"$f":"'Lista de precios'!A1179","v":0},{"$f":"'Lista de precios'!B1179","v":0},null,1173]
[{"$f":"'Lista de precios'!A1180","v":0},{"$f":"'Lista de precios'!B1180","v":0},null,1174]
[{"$f":"'Lista de precios'!A1181","v":0},{"$f":"'Lista de precios'!B1181","v":0},null,1175]
[{"$f":"'Lista de precios'!A1182","v":0},{"$f":"'Lista de precios'!B1182","v":0},null,1176]
[{"$f":"'Lista de precios'!A1183","v":0},{"$f":"'Lista de precios'!B1183","v":0},null,1177]
[{"$f":"'Lista de precios'!A1184","v":0},{"$f":"'Lista de precios'!B1184","v":0},null,1178]
[{"$f":"'Lista de precios'!A1185","v":0},{"$f":"'Lista de precios'!B1185","v":0},null,1179]
[{"$f":"'Lista de precios'!A1186","v":0},{"$f":"'Lista de precios'!B1186","v":0},null,1180]
[{"$f":"'Lista de precios'!A1187","v":0},{"$f":"'Lista de precios'!B1187","v":0},null,1181]
[{"$f":"'Lista de precios'!A1188","v":0},{"$f":"'Lista de precios'!B1188","v":0},null,1182]
[{"$f":"'Lista de precios'!A1189","v":0},{"$f":"'Lista de precios'!B1189","v":0},null,1183]
[{"$f":"'Lista de precios'!A1190","v":0},{"$f":"'Lista de precios'!B1190","v":0},null,1184]
[{"$f":"'Lista de precios'!A1191","v":0},{"$f":"'Lista de precios'!B1191","v":0},null,1185]
[{"$f":"'Lista de precios'!A1192","v":0},{"$f":"'Lista de precios'!B1192","v":0},null,1186]
[{"$f":"'Lista de precios'!A1193","v":0},{"$f":"'Lista de precios'!B1193","v":0},null,1187]
[{"$f":"'Lista de precios'!A1194","v":0},{"$f":"'Lista de precios'!B1194","v":0},null,1188]
[{"$f":"'Lista de precios'!A1195","v":0},{"$f":"'Lista de precios'!B1195","v":0},null,1189]
[{"$f":"'Lista de precios'!A1196","v":0},{"$f":"'Lista de precios'!B1196","v":0},null,1190]
[{"$f":"'Lista de precios'!A1197","v":0},{"$f":"'Lista de precios'!B1197","v":0},null,1191]
[{"$f":"'Lista de precios'!A1198","v":0},{"$f":"'Lista de precios'!B1198","v":0},null,1192]
[{"$f":"'Lista de precios'!A1199","v":0},{"$f":"'Lista de precios'!B1199","v":0},null,1193]
[{"$f":"'Lista de precios'!A1200","v":0},{"$f":"'Lista de precios'!B1200","v":0},null,1194]
[{"$f":"'Lista de precios'!A1201","v":0},{"$f":"'Lista de precios'!B1201","v":0},null,1195]
[{"$f":"'Lista de precios'!A1202","v":0},{"$f":"'Lista de precios'!B1202","v":0},null,1196]
[{"$f":"'Lista de precios'!A1203","v":0},{"$f":"'Lista de precios'!B1203","v":0},null,1197]
[{"$f":"'Lista de precios'!A1204","v":0},{"$f":"'Lista de precios'!B1204","v":0},null,1198]
[{"$f":"'Lista de precios'!A1205","v":0},{"$f":"'Lista de precios'!B1205","v":0},null,1199]
[{"$f":"'Lista de precios'!A1206","v":0},{"$f":"'Lista de precios'!B1206","v":0},null,1200]
[{"$f":"'Lista de precios'!A1207","v":0},{"$f":"'Lista de precios'!B1207","v":0},null,1201]
[{"$f":"'Lista de precios'!A1208","v":0},{"$f":"'Lista de precios'!B1208","v":0},null,1202]
[{"$f":"'Lista de precios'!A1209","v":0},{"$f":"'Lista de precios'!B1209","v":0},null,1203]
[{"$f":"'Lista de precios'!A1210","v":0},{"$f":"'Lista de precios'!B1210","v":0},null,1204]
[{"$f":"'Lista de precios'!A1211","v":0},{"$f":"'Lista de precios'!B1211","v":0},null,1205]
[{"$f":"'Lista de precios'!A1212","v":0},{"$f":"'Lista de precios'!B1212","v":0},null,1206]
[{"$f":"'Lista de precios'!A1213","v":0},{"$f":"'Lista de precios'!B1213","v":0},null,1207]
[{"$f":"'Lista de precios'!A1214","v":0},{"$f":"'Lista de precios'!B1214","v":0},null,1208]
[{"$f":"'Lista de precios'!A1215","v":0},{"$f":"'Lista de precios'!B1215","v":0},null,1209]
[{"$f":"'Lista de precios'!A1216","v":0},{"$f":"'Lista de precios'!B1216","v":0},null,1210]
[{"$f":"'Lista de precios'!A1217","v":0},{"$f":"'Lista de precios'!B1217","v":0},null,1211]
[{"$f":"'Lista de precios'!A1218","v":0},{"$f":"'Lista de precios'!B1218","v":0},null,1212]
[{"$f":"'Lista de precios'!A1219","v":0},{"$f":"'Lista de precios'!B1219","v":0},null,1213]
[{"$f":"'Lista de precios'!A1220","v":0},{"$f":"'Lista de precios'!B1220","v":0},null,1214]
[{"$f":"'Lista de precios'!A1221","v":0},{"$f":"'Lista de precios'!B1221","v":0},null,1215]
[{"$f":"'Lista de precios'!A1222","v":0},{"$f":"'Lista de precios'!B1222","v":0},null,1216]
[{"$f":"'Lista de precios'!A1223","v":0},{"$f":"'Lista de precios'!B1223","v":0},null,1217]
[{"$f":"'Lista de precios'!A1224","v":0},{"$f":"'Lista de precios'!B1224","v":0},null,1218]
[{"$f":"'Lista de precios'!A1225","v":0},{"$f":"'Lista de precios'!B1225","v":0},null,1219]
[{"$f":"'Lista de precios'!A1226","v":0},{"$f":"'Lista de precios'!B1226","v":0},null,1220]
[{"$f":"'Lista de precios'!A1227","v":0},{"$f":"'Lista de precios'!B1227","v":0},null,1221]
[{"$f":"'Lista de precios'!A1228","v":0},{"$f":"'Lista de precios'!B1228","v":0},null,1222]
[{"$f":"'Lista de precios'!A1229","v":0},{"$f":"'Lista de precios'!B1229","v":0},null,1223]
[{"$f":"'Lista de precios'!A1230","v":0},{"$f":"'Lista de precios'!B1230","v":0},null,1224]
[{"$f":"'Lista de precios'!A1231","v":0},{"$f":"'Lista de precios'!B1231","v":0},null,1225]
[{"$f":"'Lista de precios'!A1232","v":0},{"$f":"'Lista de precios'!B1232","v":0},null,1226]
[{"$f":"'Lista de precios'!A1233","v":0},{"$f":"'Lista de precios'!B1233","v":0},null,1227]
[{"$f":"'Lista de precios'!A1234","v":0},{"$f":"'Lista de precios'!B1234","v":0},null,1228]
[{"$f":"'Lista de precios'!A1235","v":0},{"$f":"'Lista de precios'!B1235","v":0},null,1229]
[{"$f":"'Lista de precios'!A1236","v":0},{"$f":"'Lista de precios'!B1236","v":0},null,1230]
[{"$f":"'Lista de precios'!A1237","v":0},{"$f":"'Lista de precios'!B1237","v":0},null,1231]
[{"$f":"'Lista de precios'!A1238","v":0},{"$f":"'Lista de precios'!B1238","v":0},null,1232]
[{"$f":"'Lista de precios'!A1239","v":0},{"$f":"'Lista de precios'!B1239","v":0}]
[{"$f":"'Lista de precios'!A1240","v":0},{"$f":"'Lista de precios'!B1240","v":0}]
[{"$f":"'Lista de precios'!A1241","v":0},{"$f":"'Lista de precios'!B1241","v":0}]
[{"$f":"'Lista de precios'!A1242","v":0},{"$f":"'Lista de precios'!B1242","v":0}]
[{"$f":"'Lista de precios'!A1243","v":0},{"$f":"'Lista de precios'!B1243","v":0}]
[{"$f":"'Lista de precios'!A1244","v":0},{"$f":"'Lista de precios'!B1244","v":0}]

{"sheet":"Movimientos","index":3,"n_rows":10446,"n_cols":10,"rows_kept":10446,"cut":false,"hidden":false,"merged":[[4,1,4,9]]}
[]
[]
[]
[]
[null,"MOVIMIENTOS DE STOCK"]
[]
[null,"FECHA","MES","DESCRIPCIÓN","PROVEEDOR","CLIENTE","CODIGO","PRODUCTO","CANTIDAD","PRESUPUESTO N"]
[null,null,{"$f":"IF(B8=\"\",\"\",TEXT(B8,\"Mmmm\"))","v":""},null,null,null,null,{"$f":"IF(G8=\"\",\"\",VLOOKUP(G8,'Lista de precios'!$B$7:$C$5000,2,0))","v":""}]
[null,null,{"$f":"IF(B9=\"\",\"\",TEXT(B9,\"Mmmm\"))","v":""},null,null,null,null,{"$f":"IF(G9=\"\",\"\",VLOOKUP(G9,'Lista de precios'!$B$7:$C$5000,2,0))","v":""}]
[null,null,{"$f":"IF(B10=\"\",\"\",TEXT(B10,\"Mmmm\"))","v":""},null,null,null,null,{"$f":"IF(G10=\"\",\"\",VLOOKUP(G10,'Lista de precios'!$B$7:$C$5000,2,0))","v":""}]
[null,null,"",null,null,null,null,{"$f":"IF(G11=\"\",\"\",VLOOKUP(G11,'Lista de precios'!$B$7:$C$5000,2,0))","v":""}]
[null,null,"",null,null,null,null,{"$f":"IF(G12=\"\",\"\",VLOOKUP(G12,'Lista de precios'!$B$7:$C$5000,2,0))","v":""}]
[null,null,"",null,null,null,null,{"$f":"IF(G13=\"\",\"\",VLOOKUP(G13,'Lista de precios'!$B$7:$C$5000,2,0))","v":""}]
[null,null,"",null,null,null,null,{"$f":"IF(G14=\"\",\"\",VLOOKUP(G14,'Lista de precios'!$B$7:$C$5000,2,0))","v":""}]
[null,null,"",null,null,null,null,{"$f":"IF(G15=\"\",\"\",VLOOKUP(G15,'Lista de precios'!$B$7:$C$5000,2,0))","v":""}]
[null,null,{"$f":"IF(B16=\"\",\"\",TEXT(B16,\"Mmmm\"))","v":""},null,null,null,null,{"$f":"IF(G16=\"\",\"\",VLOOKUP(G16,'Lista de precios'!$B$7:$C$5000,2,0))","v":""}]
[null,null,"",null,null,null,null,{"$f":"IF(G17=\"\",\"\",VLOOKUP(G17,'Lista de precios'!$B$7:$C$5000,2,0))","v":""}]
[null,null,"",null,null,null,null,{"$f":"IF(G18=\"\",\"\",VLOOKUP(G18,'Lista de precios'!$B$7:$C$5000,2,0))","v":""}]
[null,null,"",null,null,null,null,{"$f":"IF(G19=\"\",\"\",VLOOKUP(G19,'Lista de precios'!$B$7:$C$5000,2,0))","v":""}]
[null,null,"",null,null,null,null,{"$f":"IF(G20=\"\",\"\",VLOOKUP(G20,'Lista de precios'!$B$7:$C$5000,2,0))","v":""}]
[null,null,{"$f":"IF(B21=\"\",\"\",TEXT(B21,\"Mmmm\"))","v":""},null,null,null,null,{"$f":"IF(G21=\"\",\"\",VLOOKUP(G21,'Lista de precios'!$B$7:$C$5000,2,0))","v":""}]
[null,null,"",null,null,null,null,{"$f":"IF(G22=\"\",\"\",VLOOKUP(G22,'Lista de precios'!$B$7:$C$5000,2,0))","v":""}]
[null,null,"",null,null,null,null,{"$f":"IF(G23=\"\",\"\",VLOOKUP(G23,'Lista de precios'!$B$7:$C$5000,2,0))","v":""}]
[null,null,"",null,null,null,null,{"$f":"IF(G24=\"\",\"\",VLOOKUP(G24,'Lista de precios'!$B$7:$C$5000,2,0))","v":""}]
[null,null,"",null,null,null,null,{"$f":"IF(G25=\"\",\"\",VLOOKUP(G25,'Lista de precios'!$B$7:$C$5000,2,0))","v":""}]
[null,null,"",null,null,null,null,{"$f":"IF(G26=\"\",\"\",VLOOKUP(G26,'Lista de precios'!$B$7:$C$5000,2,0))","v":""}]
[null,null,"",null,null,null,null,{"$f":"IF(G27=\"\",\"\",VLOOKUP(G27,'Lista de precios'!$B$7:$C$5000,2,0))","v":""}]
[null,null,"",null,null,null,null,{"$f":"IF(G28=\"\",\"\",VLOOKUP(G28,'Lista de precios'!$B$7:$C$5000,2,0))","v":""}]
[null,null,"",null,null,null,null,{"$f":"IF(G29=\"\",\"\",VLOOKUP(G29,'Lista de precios'!$B$7:$C$5000,2,0))","v":""}]
[null,null,"",null,null,null,null,{"$f":"IF(G30=\"\",\"\",VLOOKUP(G30,'Lista de precios'!$B$7:$C$5000,2,0))","v":""}]
[null,null,"",null,null,null,null,{"$f":"IF(G31=\"\",\"\",VLOOKUP(G31,'Lista de precios'!$B$7:$C$5000,2,0))","v":""}]
[null,null,"",null,null,null,null,{"$f":"IF(G32=\"\",\"\",VLOOKUP(G32,'Lista de precios'!$B$7:$C$5000,2,0))","v":""}]
[null,null,"",null,null,null,null,{"$f":"IF(G33=\"\",\"\",VLOOKUP(G33,'Lista de precios'!$B$7:$C$5000,2,0))","v":""}]
[null,null,"",null,null,null,null,{"$f":"IF(G34=\"\",\"\",VLOOKUP(G34,'Lista de precios'!$B$7:$C$5000,2,0))","v":""}]
[null,null,"",null,null,null,null,{"$f":"IF(G35=\"\",\"\",VLOOKUP(G35,'Lista de precios'!$B$7:$C$5000,2,0))","v":""}]
[null,null,"",null,null,null,null,{"$f":"IF(G36=\"\",\"\",VLOOKUP(G36,'Lista de precios'!$B$7:$C$5000,2,0))","v":""}]
[null,null,"",null,null,null,null,{"$f":"IF(G37=\"\",\"\",VLOOKUP(G37,'Lista de precios'!$B$7:$C$5000,2,0))","v":""}]
[null,null,"",null,null,null,null,{"$f":"IF(G38=\"\",\"\",VLOOKUP(G38,'Lista de precios'!$B$7:$C$5000,2,0))","v":""}]
[null,null,"",null,null,null,null,{"$f":"IF(G39=\"\",\"\",VLOOKUP(G39,'Lista de precios'!$B$7:$C$5000,2,0))","v":""}]
[null,null,"",null,null,null,null,{"$f":"IF(G40=\"\",\"\",VLOOKUP(G40,'Lista de precios'!$B$7:$C$5000,2,0))","v":""}]
[null,null,"",null,null,null,null,{"$f":"IF(G41=\"\",\"\",VLOOKUP(G41,'Lista de precios'!$B$7:$C$5000,2,0))","v":""}]
[null,null,"",null,null,null,null,{"$f":"IF(G42=\"\",\"\",VLOOKUP(G42,'Lista de precios'!$B$7:$C$5000,2,0))","v":""}]
[null,null,"",null,null,null,null,{"$f":"IF(G43=\"\",\"\",VLOOKUP(G43,'Lista de precios'!$B$7:$C$5000,2,0))","v":""}]
[null,null,"",null,null,null,null,{"$f":"IF(G44=\"\",\"\",VLOOKUP(G44,'Lista de precios'!$B$7:$C$5000,2,0))","v":""}]
[null,null,"",null,null,null,null,{"$f":"IF(G45=\"\",\"\",VLOOKUP(G45,'Lista de precios'!$B$7:$C$5000,2,0))","v":""}]
[null,null,"",null,null,null,null,{"$f":"IF(G46=\"\",\"\",VLOOKUP(G46,'Lista de precios'!$B$7:$C$5000,2,0))","v":""}]
[null,null,"",null,null,null,null,{"$f":"IF(G47=\"\",\"\",VLOOKUP(G47,'Lista de precios'!$B$7:$C$5000,2,0))","v":""}]
[null,null,"",null,null,null,null,{"$f":"IF(G48=\"\",\"\",VLOOKUP(G48,'Lista de precios'!$B$7:$C$5000,2,0))","v":""}]
[null,null,"",null,null,null,null,{"$f":"IF(G49=\"\",\"\",VLOOKUP(G49,'Lista de precios'!$B$7:$C$5000,2,0))","v":""}]
[null,null,"",null,null,null,null,{"$f":"IF(G50=\"\",\"\",VLOOKUP(G50,'Lista de precios'!$B$7:$C$5000,2,0))","v":""}]
[null,null,"",null,null,null,null,{"$f":"IF(G51=\"\",\"\",VLOOKUP(G51,'Lista de precios'!$B$7:$C$5000,2,0))","v":""}]
[null,null,"",null,null,null,null,{"$f":"IF(G52=\"\",\"\",VLOOKUP(G52,'Lista de precios'!$B$7:$C$5000,2,0))","v":""}]
[null,null,"",null,null,null,null,{"$f":"IF(G53=\"\",\"\",VLOOKUP(G53,'Lista de precios'!$B$7:$C$5000,2,0))","v":""}]
[null,null,"",null,null,null,null,{"$f":"IF(G54=\"\",\"\",VLOOKUP(G54,'Lista de precios'!$B$7:$C$5000,2,0))","v":""}]
[null,null,"",null,null,null,null,{"$f":"IF(G55=\"\",\"\",VLOOKUP(G55,'Lista de precios'!$B$7:$C$5000,2,0))","v":""}]
[null,null,"",null,null,null,null,{"$f":"IF(G56=\"\",\"\",VLOOKUP(G56,'Lista de precios'!$B$7:$C$5000,2,0))","v":""}]
[null,null,"",null,null,null,null,{"$f":"IF(G57=\"\",\"\",VLOOKUP(G57,'Lista de precios'!$B$7:$C$5000,2,0))","v":""}]
[null,null,"",null,null,null,null,{"$f":"IF(G58=\"\",\"\",VLOOKUP(G58,'Lista de precios'!$B$7:$C$5000,2,0))","v":""}]
[null,null,"",null,null,null,null,{"$f":"IF(G59=\"\",\"\",VLOOKUP(G59,'Lista de precios'!$B$7:$C$5000,2,0))","v":""}]
[null,null,"",null,null,null,null,{"$f":"IF(G60=\"\",\"\",VLOOKUP(G60,'Lista de precios'!$B$7:$C$5000,2,0))","v":""}]
[null,null,"",null,null,null,null,{"$f":"IF(G61=\"\",\"\",VLOOKUP(G61,'Lista de precios'!$B$7:$C$5000,2,0))","v":""}]
[null,null,"",null,null,null,null,{"$f":"IF(G62=\"\",\"\",VLOOKUP(G62,'Lista de precios'!$B$7:$C$5000,2,0))","v":""}]
[null,null,"",null,null,null,null,{"$f":"IF(G63=\"\",\"\",VLOOKUP(G63,'Lista de precios'!$B$7:$C$5000,2,0))","v":""}]
[null,null,"",null,null,null,null,{"$f":"IF(G64=\"\",\"\",VLOOKUP(G64,'Lista de precios'!$B$7:$C$5000,2,0))","v":""}]
[null,null,"",null,null,null,null,{"$f":"IF(G65=\"\",\"\",VLOOKUP(G65,'Lista de precios'!$B$7:$C$5000,2,0))","v":""}]
[null,null,"",null,null,null,null,{"$f":"IF(G66=\"\",\"\",VLOOKUP(G66,'Lista de precios'!$B$7:$C$5000,2,0))","v":""}]
[null,null,"",null,null,null,null,{"$f":"IF(G67=\"\",\"\",VLOOKUP(G67,'Lista de precios'!$B$7:$C$5000,2,0))","v":""}]
[null,null,"",null,null,null,null,{"$f":"IF(G68=\"\",\"\",VLOOKUP(G68,'Lista de precios'!$B$7:$C$5000,2,0))","v":""}]
[null,null,"",null,null,null,null,{"$f":"IF(G69=\"\",\"\",VLOOKUP(G69,'Lista de precios'!$B$7:$C$5000,2,0))","v":""}]
[null,null,"",null,null,null,null,{"$f":"IF(G70=\"\",\"\",VLOOKUP(G70,'Lista de precios'!$B$7:$C$5000,2,0))","v":""}]
[null,null,"",null,null,null,null,{"$f":"IF(G71=\"\",\"\",VLOOKUP(G71,'Lista de precios'!$B$7:$C$5000,2,0))","v":""}]
[null,null,"",null,null,null,null,{"$f":"IF(G72=\"\",\"\",VLOOKUP(G72,'Lista de precios'!$B$7:$C$5000,2,0))","v":""}]
[null,null,"",null,null,null,null,{"$f":"IF(G73=\"\",\"\",VLOOKUP(G73,'Lista de precios'!$B$7:$C$5000,2,0))","v":""}]
[null,null,"",null,null,null,null,{"$f":"IF(G74=\"\",\"\",VLOOKUP(G74,'Lista de precios'!$B$7:$C$5000,2,0))","v":""}]
[null,null,"",null,null,null,null,{"$f":"IF(G75=\"\",\"\",VLOOKUP(G75,'Lista de precios'!$B$7:$C$5000,2,0))","v":""}]
[null,null,"",null,null,null,null,{"$f":"IF(G76=\"\",\"\",VLOOKUP(G76,'Lista de precios'!$B$7:$C$5000,2,0))","v":""}]
[null,null,"",null,null,null,null,{"$f":"IF(G77=\"\",\"\",VLOOKUP(G77,'Lista de precios'!$B$7:$C$5000,2,0))","v":""}]
[null,null,"",null,null,null,null,{"$f":"IF(G78=\"\",\"\",VLOOKUP(G78,'Lista de precios'!$B$7:$C$5000,2,0))","v":""}]
[null,null,"",null,null,null,null,{"$f":"IF(G79=\"\",\"\",VLOOKUP(G79,'Lista de precios'!$B$7:$C$5000,2,0))","v":""}]
[null,null,"",null,null,null,null,{"$f":"IF(G80=\"\",\"\",VLOOKUP(G80,'Lista de precios'!$B$7:$C$5000,2,0))","v":""}]
[null,null,"",null,null,null,null,{"$f":"IF(G81=\"\",\"\",VLOOKUP(G81,'Lista de precios'!$B$7:$C$5000,2,0))","v":""}]
[null,null,"",null,null,null,null,{"$f":"IF(G82=\"\",\"\",VLOOKUP(G82,'Lista de precios'!$B$7:$C$5000,2,0))","v":""}]
[null,null,"",null,null,null,null,{"$f":"IF(G83=\"\",\"\",VLOOKUP(G83,'Lista de precios'!$B$7:$C$5000,2,0))","v":""}]
[null,null,"",null,null,null,null,{"$f":"IF(G84=\"\",\"\",VLOOKUP(G84,'Lista de precios'!$B$7:$C$5000,2,0))","v":""}]
[null,null,{"$f":"IF(B85=\"\",\"\",TEXT(B85,\"Mmmm\"))","v":""},null,null,null,null,{"$f":"IF(G85=\"\",\"\",VLOOKUP(G85,'Lista de precios'!$B$7:$C$5000,2,0))","v":""}]
[null,null,"",null,null,null,null,{"$f":"IF(G86=\"\",\"\",VLOOKUP(G86,'Lista de precios'!$B$7:$C$5000,2,0))","v":""}]
[null,null,"",null,null,null,null,{"$f":"IF(G87=\"\",\"\",VLOOKUP(G87,'Lista de precios'!$B$7:$C$5000,2,0))","v":""}]
[null,null,"",null,null,null,null,{"$f":"IF(G88=\"\",\"\",VLOOKUP(G88,'Lista de precios'!$B$7:$C$5000,2,0))","v":""}]
[null,null,"",null,null,null,null,{"$f":"IF(G89=\"\",\"\",VLOOKUP(G89,'Lista de precios'!$B$7:$C$5000,2,0))","v":""}]
[null,null,"",null,null,null,null,{"$f":"IF(G90=\"\",\"\",VLOOKUP(G90,'Lista de precios'!$B$7:$C$5000,2,0))","v":""}]
[null,null,"",null,null,null,null,{"$f":"IF(G91=\"\",\"\",VLOOKUP(G91,'Lista de precios'!$B$7:$C$5000,2,0))","v":""}]
[null,null,"",null,null,null,null,{"$f":"IF(G92=\"\",\"\",VLOOKUP(G92,'Lista de precios'!$B$7:$C$5000,2,0))","v":""}]
[null,null,"",null,null,null,null,{"$f":"IF(G93=\"\",\"\",VLOOKUP(G93,'Lista de precios'!$B$7:$C$5000,2,0))","v":""}]
[null,null,"",null,null,null,null,{"$f":"IF(G94=\"\",\"\",VLOOKUP(G94,'Lista de precios'!$B$7:$C$5000,2,0))","v":""}]
[null,null,"",null,null,null,null,{"$f":"IF(G95=\"\",\"\",VLOOKUP(G95,'Lista de precios'!$B$7:$C$5000,2,0))","v":""}]
[null,null,"",null,null,null,null,{"$f":"IF(G96=\"\",\"\",VLOOKUP(G96,'Lista de precios'!$B$7:$C$5000,2,0))","v":""}]
[null,null,"",null,null,null,null,{"$f":"IF(G97=\"\",\"\",VLOOKUP(G97,'Lista de precios'!$B$7:$C$5000,2,0))","v":""}]
[null,null,"",null,null,null,null,{"$f":"IF(G98=\"\",\"\",VLOOKUP(G98,'Lista de precios'!$B$7:$C$5000,2,0))","v":""}]
[null,null,"",null,null,null,null,{"$f":"IF(G99=\"\",\"\",VLOOKUP(G99,'Lista de precios'!$B$7:$C$5000,2,0))","v":""}]
[null,null,"",null,null,null,null,{"$f":"IF(G100=\"\",\"\",VLOOKUP(G100,'Lista de precios'!$B$7:$C$5000,2,0))","v":""}]
[null,null,"",null,null,null,null,{"$f":"IF(G101=\"\",\"\",VLOOKUP(G101,'Lista de precios'!$B$7:$C$5000,2,0))","v":""}]
[null,null,"",null,null,null,null,{"$f":"IF(G102=\"\",\"\",VLOOKUP(G102,'Lista de precios'!$B$7:$C$5000,2,0))","v":""}]
[null,null,"",null,null,null,null,{"$f":"IF(G103=\"\",\"\",VLOOKUP(G103,'Lista de precios'!$B$7:$C$5000,2,0))","v":""}]
[null,null,"",null,null,null,null,{"$f":"IF(G104=\"\",\"\",VLOOKUP(G104,'Lista de precios'!$B$7:$C$5000,2,0))","v":""}]
[null,null,"",null,null,null,null,{"$f":"IF(G105=\"\",\"\",VLOOKUP(G105,'Lista de precios'!$B$7:$C$5000,2,0))","v":""}]
[null,null,"",null,null,null,null,{"$f":"IF(G106=\"\",\"\",VLOOKUP(G106,'Lista de precios'!$B$7:$C$5000,2,0))","v":""}]
[null,null,"",null,null,null,null,{"$f":"IF(G107=\"\",\"\",VLOOKUP(G107,'Lista de precios'!$B$7:$C$5000,2,0))","v":""}]
[null,null,"",null,null,null,null,{"$f":"IF(G108=\"\",\"\",VLOOKUP(G108,'Lista de precios'!$B$7:$C$5000,2,0))","v":""}]
[null,null,"",null,null,null,null,{"$f":"IF(G109=\"\",\"\",VLOOKUP(G109,'Lista de precios'!$B$7:$C$5000,2,0))","v":""}]
[null,null,"",null,null,null,null,{"$f":"IF(G110=\"\",\"\",VLOOKUP(G110,'Lista de precios'!$B$7:$C$5000,2,0))","v":""}]
[null,null,"",null,null,null,null,{"$f":"IF(G111=\"\",\"\",VLOOKUP(G111,'Lista de precios'!$B$7:$C$5000,2,0))","v":""}]
[null,null,"",null,null,null,null,{"$f":"IF(G112=\"\",\"\",VLOOKUP(G112,'Lista de precios'!$B$7:$C$5000,2,0))","v":""}]
[null,null,"",null,null,null,null,{"$f":"IF(G113=\"\",\"\",VLOOKUP(G113,'Lista de precios'!$B$7:$C$5000,2,0))","v":""}]
[null,null,"",null,null,null,null,{"$f":"IF(G114=\"\",\"\",VLOOKUP(G114,'Lista de precios'!$B$7:$C$5000,2,0))","v":""}]
[null,null,"",null,null,null,null,{"$f":"IF(G115=\"\",\"\",VLOOKUP(G115,'Lista de precios'!$B$7:$C$5000,2,0))","v":""}]
[null,null,"",null,null,null,null,{"$f":"IF(G116=\"\",\"\",VLOOKUP(G116,'Lista de precios'!$B$7:$C$5000,2,0))","v":""}]
[null,null,"",null,null,null,null,{"$f":"IF(G117=\"\",\"\",VLOOKUP(G117,'Lista de precios'!$B$7:$C$5000,2,0))","v":""}]
[null,null,"",null,null,null,null,{"$f":"IF(G118=\"\",\"\",VLOOKUP(G118,'Lista de precios'!$B$7:$C$5000,2,0))","v":""}]
[null,null,"",null,null,null,null,{"$f":"IF(G119=\"\",\"\",VLOOKUP(G119,'Lista de precios'!$B$7:$C$5000,2,0))","v":""}]
[null,null,"",null,null,null,null,{"$f":"IF(G120=\"\",\"\",VLOOKUP(G120,'Lista de precios'!$B$7:$C$5000,2,0))","v":""}]
[null,null,"",null,null,null,null,{"$f":"IF(G121=\"\",\"\",VLOOKUP(G121,'Lista de precios'!$B$7:$C$5000,2,0))","v":""}]
[null,null,"",null,null,null,null,{"$f":"IF(G122=\"\",\"\",VLOOKUP(G122,'Lista de precios'!$B$7:$C$5000,2,0))","v":""}]
[null,null,"",null,null,null,null,{"$f":"IF(G123=\"\",\"\",VLOOKUP(G123,'Lista de precios'!$B$7:$C$5000,2,0))","v":""}]
[null,null,"",null,null,null,null,{"$f":"IF(G124=\"\",\"\",VLOOKUP(G124,'Lista de precios'!$B$7:$C$5000,2,0))","v":""}]
[null,null,"",null,null,null,null,{"$f":"IF(G125=\"\",\"\",VLOOKUP(G125,'Lista de precios'!$B$7:$C$5000,2,0))","v":""}]
[null,null,"",null,null,null,null,{"$f":"IF(G126=\"\",\"\",VLOOKUP(G126,'Lista de precios'!$B$7:$C$5000,2,0))","v":""}]
[null,null,"",null,null,null,null,{"$f":"IF(G127=\"\",\"\",VLOOKUP(G127,'Lista de precios'!$B$7:$C$5000,2,0))","v":""}]
[null,null,"",null,null,null,null,{"$f":"IF(G128=\"\",\"\",VLOOKUP(G128,'Lista de precios'!$B$7:$C$5000,2,0))","v":""}]
[null,null,"",null,null,null,null,{"$f":"IF(G129=\"\",\"\",VLOOKUP(G129,'Lista de precios'!$B$7:$C$5000,2,0))","v":""}]
[null,null,"",null,null,null,null,{"$f":"IF(G130=\"\",\"\",VLOOKUP(G130,'Lista de precios'!$B$7:$C$5000,2,0))","v":""}]
[null,null,"",null,null,null,null,{"$f":"IF(G131=\"\",\"\",VLOOKUP(G131,'Lista de precios'!$B$7:$C$5000,2,0))","v":""}]
[null,null,"",null,null,null,null,{"$f":"IF(G132=\"\",\"\",VLOOKUP(G132,'Lista de precios'!$B$7:$C$5000,2,0))","v":""}]
[null,null,"",null,null,null,null,{"$f":"IF(G133=\"\",\"\",VLOOKUP(G133,'Lista de precios'!$B$7:$C$5000,2,0))","v":""}]
[null,null,"",null,null,null,null,{"$f":"IF(G134=\"\",\"\",VLOOKUP(G134,'Lista de precios'!$B$7:$C$5000,2,0))","v":""}]
[null,null,"",null,null,null,null,{"$f":"IF(G135=\"\",\"\",VLOOKUP(G135,'Lista de precios'!$B$7:$C$5000,2,0))","v":""}]
[null,null,"",null,null,null,null,{"$f":"IF(G136=\"\",\"\",VLOOKUP(G136,'Lista de precios'!$B$7:$C$5000,2,0))","v":""}]
[null,null,"",null,null,null,null,{"$f":"IF(G137=\"\",\"\",VLOOKUP(G137,'Lista de precios'!$B$7:$C$5000,2,0))","v":""}]
[null,null,"",null,null,null,null,{"$f":"IF(G138=\"\",\"\",VLOOKUP(G138,'Lista de precios'!$B$7:$C$5000,2,0))","v":""}]
[null,null,"",null,null,null,null,{"$f":"IF(G139=\"\",\"\",VLOOKUP(G139,'Lista de precios'!$B$7:$C$5000,2,0))","v":""}]
[null,null,"",null,null,null,null,{"$f":"IF(G140=\"\",\"\",VLOOKUP(G140,'Lista de precios'!$B$7:$C$5000,2,0))","v":""}]
[null,null,"",null,null,null,null,{"$f":"IF(G141=\"\",\"\",VLOOKUP(G141,'Lista de precios'!$B$7:$C$5000,2,0))","v":""}]
[null,null,"",null,null,null,null,{"$f":"IF(G142=\"\",\"\",VLOOKUP(G142,'Lista de precios'!$B$7:$C$5000,2,0))","v":""}]
[null,null,"",null,null,null,null,{"$f":"IF(G143=\"\",\"\",VLOOKUP(G143,'Lista de precios'!$B$7:$C$5000,2,0))","v":""}]
[null,null,"",null,null,null,null,{"$f":"IF(G144=\"\",\"\",VLOOKUP(G144,'Lista de precios'!$B$7:$C$5000,2,0))","v":""}]
[null,null,"",null,null,null,null,{"$f":"IF(G145=\"\",\"\",VLOOKUP(G145,'Lista de precios'!$B$7:$C$5000,2,0))","v":""}]
[null,null,"",null,null,null,null,{"$f":"IF(G146=\"\",\"\",VLOOKUP(G146,'Lista de precios'!$B$7:$C$5000,2,0))","v":""}]
[null,null,"",null,null,null,null,{"$f":"IF(G147=\"\",\"\",VLOOKUP(G147,'Lista de precios'!$B$7:$C$5000,2,0))","v":""}]
[null,null,"",null,null,null,null,{"$f":"IF(G148=\"\",\"\",VLOOKUP(G148,'Lista de precios'!$B$7:$C$5000,2,0))","v":""}]
[null,null,{"$f":"IF(B149=\"\",\"\",TEXT(B149,\"Mmmm\"))","v":""},null,null,null,null,{"$f":"IF(G149=\"\",\"\",VLOOKUP(G149,'Lista de precios'!$B$7:$C$5000,2,0))","v":""}]
[null,null,"",null,null,null,null,{"$f":"IF(G150=\"\",\"\",VLOOKUP(G150,'Lista de precios'!$B$7:$C$5000,2,0))","v":""}]
[null,null,"",null,null,null,null,{"$f":"IF(G151=\"\",\"\",VLOOKUP(G151,'Lista de precios'!$B$7:$C$5000,2,0))","v":""}]
[null,null,"",null,null,null,null,{"$f":"IF(G152=\"\",\"\",VLOOKUP(G152,'Lista de precios'!$B$7:$C$5000,2,0))","v":""}]
[null,null,"",null,null,null,null,{"$f":"IF(G153=\"\",\"\",VLOOKUP(G153,'Lista de precios'!$B$7:$C$5000,2,0))","v":""}]
[null,null,"",null,null,null,null,{"$f":"IF(G154=\"\",\"\",VLOOKUP(G154,'Lista de precios'!$B$7:$C$5000,2,0))","v":""}]
[null,null,"",null,null,null,null,{"$f":"IF(G155=\"\",\"\",VLOOKUP(G155,'Lista de precios'!$B$7:$C$5000,2,0))","v":""}]
[null,null,"",null,null,null,null,{"$f":"IF(G156=\"\",\"\",VLOOKUP(G156,'Lista de precios'!$B$7:$C$5000,2,0))","v":""}]
[null,null,"",null,null,null,null,{"$f":"IF(G157=\"\",\"\",VLOOKUP(G157,'Lista de precios'!$B$7:$C$5000,2,0))","v":""}]
[null,null,"",null,null,null,null,{"$f":"IF(G158=\"\",\"\",VLOOKUP(G158,'Lista de precios'!$B$7:$C$5000,2,0))","v":""}]
[null,null,"",null,null,null,null,{"$f":"IF(G159=\"\",\"\",VLOOKUP(G159,'Lista de precios'!$B$7:$C$5000,2,0))","v":""}]
[null,null,"",null,null,null,null,{"$f":"IF(G160=\"\",\"\",VLOOKUP(G160,'Lista de precios'!$B$7:$C$5000,2,0))","v":""}]
[null,null,"",null,null,null,null,{"$f":"IF(G161=\"\",\"\",VLOOKUP(G161,'Lista de precios'!$B$7:$C$5000,2,0))","v":""}]
[null,null,"",null,null,null,null,{"$f":"IF(G162=\"\",\"\",VLOOKUP(G162,'Lista de precios'!$B$7:$C$5000,2,0))","v":""}]
[null,null,"",null,null,null,null,{"$f":"IF(G163=\"\",\"\",VLOOKUP(G163,'Lista de precios'!$B$7:$C$5000,2,0))","v":""}]
[null,null,"",null,null,null,null,{"$f":"IF(G164=\"\",\"\",VLOOKUP(G164,'Lista de precios'!$B$7:$C$5000,2,0))","v":""}]
[null,null,"",null,null,null,null,{"$f":"IF(G165=\"\",\"\",VLOOKUP(G165,'Lista de precios'!$B$7:$C$5000,2,0))","v":""}]
[null,null,"",null,null,null,null,{"$f":"IF(G166=\"\",\"\",VLOOKUP(G166,'Lista de precios'!$B$7:$C$5000,2,0))","v":""}]
[null,null,"",null,null,null,null,{"$f":"IF(G167=\"\",\"\",VLOOKUP(G167,'Lista de precios'!$B$7:$C$5000,2,0))","v":""}]
[null,null,"",null,null,null,null,{"$f":"IF(G168=\"\",\"\",VLOOKUP(G168,'Lista de precios'!$B$7:$C$5000,2,0))","v":""}]
[null,null,"",null,null,null,null,{"$f":"IF(G169=\"\",\"\",VLOOKUP(G169,'Lista de precios'!$B$7:$C$5000,2,0))","v":""}]
[null,null,"",null,null,null,null,{"$f":"IF(G170=\"\",\"\",VLOOKUP(G170,'Lista de precios'!$B$7:$C$5000,2,0))","v":""}]
[null,null,"",null,null,null,null,{"$f":"IF(G171=\"\",\"\",VLOOKUP(G171,'Lista de precios'!$B$7:$C$5000,2,0))","v":""}]
[null,null,"",null,null,null,null,{"$f":"IF(G172=\"\",\"\",VLOOKUP(G172,'Lista de precios'!$B$7:$C$5000,2,0))","v":""}]
[null,null,"",null,null,null,null,{"$f":"IF(G173=\"\",\"\",VLOOKUP(G173,'Lista de precios'!$B$7:$C$5000,2,0))","v":""}]
[null,null,"",null,null,null,null,{"$f":"IF(G174=\"\",\"\",VLOOKUP(G174,'Lista de precios'!$B$7:$C$5000,2,0))","v":""}]
[null,null,"",null,null,null,null,{"$f":"IF(G175=\"\",\"\",VLOOKUP(G175,'Lista de precios'!$B$7:$C$5000,2,0))","v":""}]
[null,null,"",null,null,null,null,{"$f":"IF(G176=\"\",\"\",VLOOKUP(G176,'Lista de precios'!$B$7:$C$5000,2,0))","v":""}]
[null,null,"",null,null,null,null,{"$f":"IF(G177=\"\",\"\",VLOOKUP(G177,'Lista de precios'!$B$7:$C$5000,2,0))","v":""}]
[null,null,"",null,null,null,null,{"$f":"IF(G178=\"\",\"\",VLOOKUP(G178,'Lista de precios'!$B$7:$C$5000,2,0))","v":""}]
[null,null,"",null,null,null,null,{"$f":"IF(G179=\"\",\"\",VLOOKUP(G179,'Lista de precios'!$B$7:$C$5000,2,0))","v":""}]
[null,null,"",null,null,null,null,{"$f":"IF(G180=\"\",\"\",VLOOKUP(G180,'Lista de precios'!$B$7:$C$5000,2,0))","v":""}]
[null,null,"",null,null,null,null,{"$f":"IF(G181=\"\",\"\",VLOOKUP(G181,'Lista de precios'!$B$7:$C$5000,2,0))","v":""}]
[null,null,"",null,null,null,null,{"$f":"IF(G182=\"\",\"\",VLOOKUP(G182,'Lista de precios'!$B$7:$C$5000,2,0))","v":""}]
[null,null,"",null,null,null,null,{"$f":"IF(G183=\"\",\"\",VLOOKUP(G183,'Lista de precios'!$B$7:$C$5000,2,0))","v":""}]
[null,null,"",null,null,null,null,{"$f":"IF(G184=\"\",\"\",VLOOKUP(G184,'Lista de precios'!$B$7:$C$5000,2,0))","v":""}]
[null,null,"",null,null,null,null,{"$f":"IF(G185=\"\",\"\",VLOOKUP(G185,'Lista de precios'!$B$7:$C$5000,2,0))","v":""}]
[null,null,"",null,null,null,null,{"$f":"IF(G186=\"\",\"\",VLOOKUP(G186,'Lista de precios'!$B$7:$C$5000,2,0))","v":""}]
[null,null,"",null,null,null,null,{"$f":"IF(G187=\"\",\"\",VLOOKUP(G187,'Lista de precios'!$B$7:$C$5000,2,0))","v":""}]
[null,null,"",null,null,null,null,{"$f":"IF(G188=\"\",\"\",VLOOKUP(G188,'Lista de precios'!$B$7:$C$5000,2,0))","v":""}]
[null,null,"",null,null,null,null,{"$f":"IF(G189=\"\",\"\",VLOOKUP(G189,'Lista de precios'!$B$7:$C$5000,2,0))","v":""}]
[null,null,"",null,null,null,null,{"$f":"IF(G190=\"\",\"\",VLOOKUP(G190,'Lista de precios'!$B$7:$C$5000,2,0))","v":""}]
[null,null,"",null,null,null,null,{"$f":"IF(G191=\"\",\"\",VLOOKUP(G191,'Lista de precios'!$B$7:$C$5000,2,0))","v":""}]
[null,null,"",null,null,null,null,{"$f":"IF(G192=\"\",\"\",VLOOKUP(G192,'Lista de precios'!$B$7:$C$5000,2,0))","v":""}]
[null,null,"",null,null,null,null,{"$f":"IF(G193=\"\",\"\",VLOOKUP(G193,'Lista de precios'!$B$7:$C$5000,2,0))","v":""}]
[null,null,"",null,null,null,null,{"$f":"IF(G194=\"\",\"\",VLOOKUP(G194,'Lista de precios'!$B$7:$C$5000,2,0))","v":""}]
[null,null,"",null,null,null,null,{"$f":"IF(G195=\"\",\"\",VLOOKUP(G195,'Lista de precios'!$B$7:$C$5000,2,0))","v":""}]
[null,null,"",null,null,null,null,{"$f":"IF(G196=\"\",\"\",VLOOKUP(G196,'Lista de precios'!$B$7:$C$5000,2,0))","v":""}]
[null,null,"",null,null,null,null,{"$f":"IF(G197=\"\",\"\",VLOOKUP(G197,'Lista de precios'!$B$7:$C$5000,2,0))","v":""}]
[null,null,"",null,null,null,null,{"$f":"IF(G198=\"\",\"\",VLOOKUP(G198,'Lista de precios'!$B$7:$C$5000,2,0))","v":""}]
[null,null,"",null,null,null,null,{"$f":"IF(G199=\"\",\"\",VLOOKUP(G199,'Lista de precios'!$B$7:$C$5000,2,0))","v":""}]
[null,null,"",null,null,null,null,{"$f":"IF(G200=\"\",\"\",VLOOKUP(G200,'Lista de precios'!$B$7:$C$5000,2,0))","v":""}]
[null,null,"",null,null,null,null,{"$f":"IF(G201=\"\",\"\",VLOOKUP(G201,'Lista de precios'!$B$7:$C$5000,2,0))","v":""}]
[null,null,"",null,null,null,null,{"$f":"IF(G202=\"\",\"\",VLOOKUP(G202,'Lista de precios'!$B$7:$C$5000,2,0))","v":""}]
[null,null,"",null,null,null,null,{"$f":"IF(G203=\"\",\"\",VLOOKUP(G203,'Lista de precios'!$B$7:$C$5000,2,0))","v":""}]
[null,null,"",null,null,null,null,{"$f":"IF(G204=\"\",\"\",VLOOKUP(G204,'Lista de precios'!$B$7:$C$5000,2,0))","v":""}]
[null,null,"",null,null,null,null,{"$f":"IF(G205=\"\",\"\",VLOOKUP(G205,'Lista de precios'!$B$7:$C$5000,2,0))","v":""}]
[null,null,"",null,null,null,null,{"$f":"IF(G206=\"\",\"\",VLOOKUP(G206,'Lista de precios'!$B$7:$C$5000,2,0))","v":""}]
[null,null,"",null,null,null,null,{"$f":"IF(G207=\"\",\"\",VLOOKUP(G207,'Lista de precios'!$B$7:$C$5000,2,0))","v":""}]
[null,null,"",null,null,null,null,{"$f":"IF(G208=\"\",\"\",VLOOKUP(G208,'Lista de precios'!$B$7:$C$5000,2,0))","v":""}]
[null,null,"",null,null,null,null,{"$f":"IF(G209=\"\",\"\",VLOOKUP(G209,'Lista de precios'!$B$7:$C$5000,2,0))","v":""}]
[null,null,"",null,null,null,null,{"$f":"IF(G210=\"\",\"\",VLOOKUP(G210,'Lista de precios'!$B$7:$C$5000,2,0))","v":""}]
[null,null,"",null,null,null,null,{"$f":"IF(G211=\"\",\"\",VLOOKUP(G211,'Lista de precios'!$B$7:$C$5000,2,0))","v":""}]
[null,null,"",null,null,null,null,{"$f":"IF(G212=\"\",\"\",VLOOKUP(G212,'Lista de precios'!$B$7:$C$5000,2,0))","v":""}]
[null,null,{"$f":"IF(B213=\"\",\"\",TEXT(B213,\"Mmmm\"))","v":""},null,null,null,null,{"$f":"IF(G213=\"\",\"\",VLOOKUP(G213,'Lista de precios'!$B$7:$C$5000,2,0))","v":""}]
[null,null,"",null,null,null,null,{"$f":"IF(G214=\"\",\"\",VLOOKUP(G214,'Lista de precios'!$B$7:$C$5000,2,0))","v":""}]
[null,null,"",null,null,null,null,{"$f":"IF(G215=\"\",\"\",VLOOKUP(G215,'Lista de precios'!$B$7:$C$5000,2,0))","v":""}]
[null,null,"",null,null,null,null,{"$f":"IF(G216=\"\",\"\",VLOOKUP(G216,'Lista de precios'!$B$7:$C$5000,2,0))","v":""}]
[null,null,"",null,null,null,null,{"$f":"IF(G217=\"\",\"\",VLOOKUP(G217,'Lista de precios'!$B$7:$C$5000,2,0))","v":""}]
[null,null,"",null,null,null,null,{"$f":"IF(G218=\"\",\"\",VLOOKUP(G218,'Lista de precios'!$B$7:$C$5000,2,0))","v":""}]
[null,null,"",null,null,null,null,{"$f":"IF(G219=\"\",\"\",VLOOKUP(G219,'Lista de precios'!$B$7:$C$5000,2,0))","v":""}]
[null,null,"",null,null,null,null,{"$f":"IF(G220=\"\",\"\",VLOOKUP(G220,'Lista de precios'!$B$7:$C$5000,2,0))","v":""}]
[null,null,"",null,null,null,null,{"$f":"IF(G221=\"\",\"\",VLOOKUP(G221,'Lista de precios'!$B$7:$C$5000,2,0))","v":""}]
[null,null,"",null,null,null,null,{"$f":"IF(G222=\"\",\"\",VLOOKUP(G222,'Lista de precios'!$B$7:$C$5000,2,0))","v":""}]
[null,null,"",null,null,null,null,{"$f":"IF(G223=\"\",\"\",VLOOKUP(G223,'Lista de precios'!$B$7:$C$5000,2,0))","v":""}]
[null,null,"",null,null,null,null,{"$f":"IF(G224=\"\",\"\",VLOOKUP(G224,'Lista de precios'!$B$7:$C$5000,2,0))","v":""}]
[null,null,"",null,null,null,null,{"$f":"IF(G225=\"\",\"\",VLOOKUP(G225,'Lista de precios'!$B$7:$C$5000,2,0))","v":""}]
[null,null,"",null,null,null,null,{"$f":"IF(G226=\"\",\"\",VLOOKUP(G226,'Lista de precios'!$B$7:$C$5000,2,0))","v":""}]
[null,null,"",null,null,null,null,{"$f":"IF(G227=\"\",\"\",VLOOKUP(G227,'Lista de precios'!$B$7:$C$5000,2,0))","v":""}]
[null,null,"",null,null,null,null,{"$f":"IF(G228=\"\",\"\",VLOOKUP(G228,'Lista de precios'!$B$7:$C$5000,2,0))","v":""}]
[null,null,"",null,null,null,null,{"$f":"IF(G229=\"\",\"\",VLOOKUP(G229,'Lista de precios'!$B$7:$C$5000,2,0))","v":""}]
[null,null,"",null,null,null,null,{"$f":"IF(G230=\"\",\"\",VLOOKUP(G230,'Lista de precios'!$B$7:$C$5000,2,0))","v":""}]
[null,null,"",null,null,null,null,{"$f":"IF(G231=\"\",\"\",VLOOKUP(G231,'Lista de precios'!$B$7:$C$5000,2,0))","v":""}]
[null,null,"",null,null,null,null,{"$f":"IF(G232=\"\",\"\",VLOOKUP(G232,'Lista de precios'!$B$7:$C$5000,2,0))","v":""}]
[null,null,"",null,null,null,null,{"$f":"IF(G233=\"\",\"\",VLOOKUP(G233,'Lista de precios'!$B$7:$C$5000,2,0))","v":""}]
[null,null,"",null,null,null,null,{"$f":"IF(G234=\"\",\"\",VLOOKUP(G234,'Lista de precios'!$B$7:$C$5000,2,0))","v":""}]
[null,null,"",null,null,null,null,{"$f":"IF(G235=\"\",\"\",VLOOKUP(G235,'Lista de precios'!$B$7:$C$5000,2,0))","v":""}]
[null,null,"",null,null,null,null,{"$f":"IF(G236=\"\",\"\",VLOOKUP(G236,'Lista de precios'!$B$7:$C$5000,2,0))","v":""}]
[null,null,"",null,null,null,null,{"$f":"IF(G237=\"\",\"\",VLOOKUP(G237,'Lista de precios'!$B$7:$C$5000,2,0))","v":""}]
[null,null,"",null,null,null,null,{"$f":"IF(G238=\"\",\"\",VLOOKUP(G238,'Lista de precios'!$B$7:$C$5000,2,0))","v":""}]
[null,null,"",null,null,null,null,{"$f":"IF(G239=\"\",\"\",VLOOKUP(G239,'Lista de precios'!$B$7:$C$5000,2,0))","v":""}]
[null,null,"",null,null,null,null,{"$f":"IF(G240=\"\",\"\",VLOOKUP(G240,'Lista de precios'!$B$7:$C$5000,2,0))","v":""}]
[null,null,"",null,null,null,null,{"$f":"IF(G241=\"\",\"\",VLOOKUP(G241,'Lista de precios'!$B$7:$C$5000,2,0))","v":""}]
[null,null,"",null,null,null,null,{"$f":"IF(G242=\"\",\"\",VLOOKUP(G242,'Lista de precios'!$B$7:$C$5000,2,0))","v":""}]
[null,null,"",null,null,null,null,{"$f":"IF(G243=\"\",\"\",VLOOKUP(G243,'Lista de precios'!$B$7:$C$5000,2,0))","v":""}]
[null,null,"",null,null,null,null,{"$f":"IF(G244=\"\",\"\",VLOOKUP(G244,'Lista de precios'!$B$7:$C$5000,2,0))","v":""}]
[null,null,"",null,null,null,null,{"$f":"IF(G245=\"\",\"\",VLOOKUP(G245,'Lista de precios'!$B$7:$C$5000,2,0))","v":""}]
[null,null,"",null,null,null,null,{"$f":"IF(G246=\"\",\"\",VLOOKUP(G246,'Lista de precios'!$B$7:$C$5000,2,0))","v":""}]
[null,null,"",null,null,null,null,{"$f":"IF(G247=\"\",\"\",VLOOKUP(G247,'Lista de precios'!$B$7:$C$5000,2,0))","v":""}]
[null,null,"",null,null,null,null,{"$f":"IF(G248=\"\",\"\",VLOOKUP(G248,'Lista de precios'!$B$7:$C$5000,2,0))","v":""}]
[null,null,"",null,null,null,null,{"$f":"IF(G249=\"\",\"\",VLOOKUP(G249,'Lista de precios'!$B$7:$C$5000,2,0))","v":""}]
[null,null,"",null,null,null,null,{"$f":"IF(G250=\"\",\"\",VLOOKUP(G250,'Lista de precios'!$B$7:$C$5000,2,0))","v":""}]
[null,null,"",null,null,null,null,{"$f":"IF(G251=\"\",\"\",VLOOKUP(G251,'Lista de precios'!$B$7:$C$5000,2,0))","v":""}]
[null,null,"",null,null,null,null,{"$f":"IF(G252=\"\",\"\",VLOOKUP(G252,'Lista de precios'!$B$7:$C$5000,2,0))","v":""}]
[null,null,"",null,null,null,null,{"$f":"IF(G253=\"\",\"\",VLOOKUP(G253,'Lista de precios'!$B$7:$C$5000,2,0))","v":""}]
[null,null,"",null,null,null,null,{"$f":"IF(G254=\"\",\"\",VLOOKUP(G254,'Lista de precios'!$B$7:$C$5000,2,0))","v":""}]
[null,null,"",null,null,null,null,{"$f":"IF(G255=\"\",\"\",VLOOKUP(G255,'Lista de precios'!$B$7:$C$5000,2,0))","v":""}]
[null,null,"",null,null,null,null,{"$f":"IF(G256=\"\",\"\",VLOOKUP(G256,'Lista de precios'!$B$7:$C$5000,2,0))","v":""}]
[null,null,"",null,null,null,null,{"$f":"IF(G257=\"\",\"\",VLOOKUP(G257,'Lista de precios'!$B$7:$C$5000,2,0))","v":""}]
[null,null,"",null,null,null,null,{"$f":"IF(G258=\"\",\"\",VLOOKUP(G258,'Lista de precios'!$B$7:$C$5000,2,0))","v":""}]
[null,null,"",null,null,null,null,{"$f":"IF(G259=\"\",\"\",VLOOKUP(G259,'Lista de precios'!$B$7:$C$5000,2,0))","v":""}]
[null,null,"",null,null,null,null,{"$f":"IF(G260=\"\",\"\",VLOOKUP(G260,'Lista de precios'!$B$7:$C$5000,2,0))","v":""}]
[null,null,"",null,null,null,null,{"$f":"IF(G261=\"\",\"\",VLOOKUP(G261,'Lista de precios'!$B$7:$C$5000,2,0))","v":""}]
[null,null,"",null,null,null,null,{"$f":"IF(G262=\"\",\"\",VLOOKUP(G262,'Lista de precios'!$B$7:$C$5000,2,0))","v":""}]
[null,null,"",null,null,null,null,{"$f":"IF(G263=\"\",\"\",VLOOKUP(G263,'Lista de precios'!$B$7:$C$5000,2,0))","v":""}]
[null,null,"",null,null,null,null,{"$f":"IF(G264=\"\",\"\",VLOOKUP(G264,'Lista de precios'!$B$7:$C$5000,2,0))","v":""}]
[null,null,"",null,null,null,null,{"$f":"IF(G265=\"\",\"\",VLOOKUP(G265,'Lista de precios'!$B$7:$C$5000,2,0))","v":""}]
[null,null,"",null,null,null,null,{"$f":"IF(G266=\"\",\"\",VLOOKUP(G266,'Lista de precios'!$B$7:$C$5000,2,0))","v":""}]
[null,null,"",null,null,null,null,{"$f":"IF(G267=\"\",\"\",VLOOKUP(G267,'Lista de precios'!$B$7:$C$5000,2,0))","v":""}]
[null,null,"",null,null,null,null,{"$f":"IF(G268=\"\",\"\",VLOOKUP(G268,'Lista de precios'!$B$7:$C$5000,2,0))","v":""}]
[null,null,"",null,null,null,null,{"$f":"IF(G269=\"\",\"\",VLOOKUP(G269,'Lista de precios'!$B$7:$C$5000,2,0))","v":""}]
[null,null,"",null,null,null,null,{"$f":"IF(G270=\"\",\"\",VLOOKUP(G270,'Lista de precios'!$B$7:$C$5000,2,0))","v":""}]
[null,null,"",null,null,null,null,{"$f":"IF(G271=\"\",\"\",VLOOKUP(G271,'Lista de precios'!$B$7:$C$5000,2,0))","v":""}]
[null,null,"",null,null,null,null,{"$f":"IF(G272=\"\",\"\",VLOOKUP(G272,'Lista de precios'!$B$7:$C$5000,2,0))","v":""}]
[null,null,"",null,null,null,null,{"$f":"IF(G273=\"\",\"\",VLOOKUP(G273,'Lista de precios'!$B$7:$C$5000,2,0))","v":""}]
[null,null,"",null,null,null,null,{"$f":"IF(G274=\"\",\"\",VLOOKUP(G274,'Lista de precios'!$B$7:$C$5000,2,0))","v":""}]
[null,null,"",null,null,null,null,{"$f":"IF(G275=\"\",\"\",VLOOKUP(G275,'Lista de precios'!$B$7:$C$5000,2,0))","v":""}]
[null,null,"",null,null,null,null,{"$f":"IF(G276=\"\",\"\",VLOOKUP(G276,'Lista de precios'!$B$7:$C$5000,2,0))","v":""}]
[null,null,{"$f":"IF(B277=\"\",\"\",TEXT(B277,\"Mmmm\"))","v":""},null,null,null,null,{"$f":"IF(G277=\"\",\"\",VLOOKUP(G277,'Lista de precios'!$B$7:$C$5000,2,0))","v":""}]
[null,null,"",null,null,null,null,{"$f":"IF(G278=\"\",\"\",VLOOKUP(G278,'Lista de precios'!$B$7:$C$5000,2,0))","v":""}]
[null,null,"",null,null,null,null,{"$f":"IF(G279=\"\",\"\",VLOOKUP(G279,'Lista de precios'!$B$7:$C$5000,2,0))","v":""}]
[null,null,"",null,null,null,null,{"$f":"IF(G280=\"\",\"\",VLOOKUP(G280,'Lista de precios'!$B$7:$C$5000,2,0))","v":""}]
[null,null,"",null,null,null,null,{"$f":"IF(G281=\"\",\"\",VLOOKUP(G281,'Lista de precios'!$B$7:$C$5000,2,0))","v":""}]
[null,null,"",null,null,null,null,{"$f":"IF(G282=\"\",\"\",VLOOKUP(G282,'Lista de precios'!$B$7:$C$5000,2,0))","v":""}]
[null,null,"",null,null,null,null,{"$f":"IF(G283=\"\",\"\",VLOOKUP(G283,'Lista de precios'!$B$7:$C$5000,2,0))","v":""}]
[null,null,"",null,null,null,null,{"$f":"IF(G284=\"\",\"\",VLOOKUP(G284,'Lista de precios'!$B$7:$C$5000,2,0))","v":""}]
[null,null,"",null,null,null,null,{"$f":"IF(G285=\"\",\"\",VLOOKUP(G285,'Lista de precios'!$B$7:$C$5000,2,0))","v":""}]
[null,null,"",null,null,null,null,{"$f":"IF(G286=\"\",\"\",VLOOKUP(G286,'Lista de precios'!$B$7:$C$5000,2,0))","v":""}]
[null,null,"",null,null,null,null,{"$f":"IF(G287=\"\",\"\",VLOOKUP(G287,'Lista de precios'!$B$7:$C$5000,2,0))","v":""}]
[null,null,"",null,null,null,null,{"$f":"IF(G288=\"\",\"\",VLOOKUP(G288,'Lista de precios'!$B$7:$C$5000,2,0))","v":""}]
[null,null,"",null,null,null,null,{"$f":"IF(G289=\"\",\"\",VLOOKUP(G289,'Lista de precios'!$B$7:$C$5000,2,0))","v":""}]
[null,null,"",null,null,null,null,{"$f":"IF(G290=\"\",\"\",VLOOKUP(G290,'Lista de precios'!$B$7:$C$5000,2,0))","v":""}]
[null,null,"",null,null,null,null,{"$f":"IF(G291=\"\",\"\",VLOOKUP(G291,'Lista de precios'!$B$7:$C$5000,2,0))","v":""}]
[null,null,"",null,null,null,null,{"$f":"IF(G292=\"\",\"\",VLOOKUP(G292,'Lista de precios'!$B$7:$C$5000,2,0))","v":""}]
[null,null,"",null,null,null,null,{"$f":"IF(G293=\"\",\"\",VLOOKUP(G293,'Lista de precios'!$B$7:$C$5000,2,0))","v":""}]
[null,null,"",null,null,null,null,{"$f":"IF(G294=\"\",\"\",VLOOKUP(G294,'Lista de precios'!$B$7:$C$5000,2,0))","v":""}]
[null,null,"",null,null,null,null,{"$f":"IF(G295=\"\",\"\",VLOOKUP(G295,'Lista de precios'!$B$7:$C$5000,2,0))","v":""}]
[null,null,"",null,null,null,null,{"$f":"IF(G296=\"\",\"\",VLOOKUP(G296,'Lista de precios'!$B$7:$C$5000,2,0))","v":""}]
[null,null,"",null,null,null,null,{"$f":"IF(G297=\"\",\"\",VLOOKUP(G297,'Lista de precios'!$B$7:$C$5000,2,0))","v":""}]
[null,null,"",null,null,null,null,{"$f":"IF(G298=\"\",\"\",VLOOKUP(G298,'Lista de precios'!$B$7:$C$5000,2,0))","v":""}]
[null,null,"",null,null,null,null,{"$f":"IF(G299=\"\",\"\",VLOOKUP(G299,'Lista de precios'!$B$7:$C$5000,2,0))","v":""}]
[null,null,"",null,null,null,null,{"$f":"IF(G300=\"\",\"\",VLOOKUP(G300,'Lista de precios'!$B$7:$C$5000,2,0))","v":""}]
[null,null,"",null,null,null,null,{"$f":"IF(G301=\"\",\"\",VLOOKUP(G301,'Lista de precios'!$B$7:$C$5000,2,0))","v":""}]
[null,null,"",null,null,null,null,{"$f":"IF(G302=\"\",\"\",VLOOKUP(G302,'Lista de precios'!$B$7:$C$5000,2,0))","v":""}]
[null,null,"",null,null,null,null,{"$f":"IF(G303=\"\",\"\",VLOOKUP(G303,'Lista de precios'!$B$7:$C$5000,2,0))","v":""}]
[null,null,"",null,null,null,null,{"$f":"IF(G304=\"\",\"\",VLOOKUP(G304,'Lista de precios'!$B$7:$C$5000,2,0))","v":""}]
[null,null,"",null,null,null,null,{"$f":"IF(G305=\"\",\"\",VLOOKUP(G305,'Lista de precios'!$B$7:$C$5000,2,0))","v":""}]
[null,null,"",null,null,null,null,{"$f":"IF(G306=\"\",\"\",VLOOKUP(G306,'Lista de precios'!$B$7:$C$5000,2,0))","v":""}]
[null,null,"",null,null,null,null,{"$f":"IF(G307=\"\",\"\",VLOOKUP(G307,'Lista de precios'!$B$7:$C$5000,2,0))","v":""}]
[null,null,"",null,null,null,null,{"$f":"IF(G308=\"\",\"\",VLOOKUP(G308,'Lista de precios'!$B$7:$C$5000,2,0))","v":""}]
[null,null,"",null,null,null,null,{"$f":"IF(G309=\"\",\"\",VLOOKUP(G309,'Lista de precios'!$B$7:$C$5000,2,0))","v":""}]
[null,null,"",null,null,null,null,{"$f":"IF(G310=\"\",\"\",VLOOKUP(G310,'Lista de precios'!$B$7:$C$5000,2,0))","v":""}]
[null,null,"",null,null,null,null,{"$f":"IF(G311=\"\",\"\",VLOOKUP(G311,'Lista de precios'!$B$7:$C$5000,2,0))","v":""}]
[null,null,"",null,null,null,null,{"$f":"IF(G312=\"\",\"\",VLOOKUP(G312,'Lista de precios'!$B$7:$C$5000,2,0))","v":""}]
[null,null,"",null,null,null,null,{"$f":"IF(G313=\"\",\"\",VLOOKUP(G313,'Lista de precios'!$B$7:$C$5000,2,0))","v":""}]
[null,null,"",null,null,null,null,{"$f":"IF(G314=\"\",\"\",VLOOKUP(G314,'Lista de precios'!$B$7:$C$5000,2,0))","v":""}]
[null,null,"",null,null,null,null,{"$f":"IF(G315=\"\",\"\",VLOOKUP(G315,'Lista de precios'!$B$7:$C$5000,2,0))","v":""}]
[null,null,"",null,null,null,null,{"$f":"IF(G316=\"\",\"\",VLOOKUP(G316,'Lista de precios'!$B$7:$C$5000,2,0))","v":""}]
[null,null,"",null,null,null,null,{"$f":"IF(G317=\"\",\"\",VLOOKUP(G317,'Lista de precios'!$B$7:$C$5000,2,0))","v":""}]
[null,null,"",null,null,null,null,{"$f":"IF(G318=\"\",\"\",VLOOKUP(G318,'Lista de precios'!$B$7:$C$5000,2,0))","v":""}]
[null,null,"",null,null,null,null,{"$f":"IF(G319=\"\",\"\",VLOOKUP(G319,'Lista de precios'!$B$7:$C$5000,2,0))","v":""}]
[null,null,"",null,null,null,null,{"$f":"IF(G320=\"\",\"\",VLOOKUP(G320,'Lista de precios'!$B$7:$C$5000,2,0))","v":""}]
[null,null,"",null,null,null,null,{"$f":"IF(G321=\"\",\"\",VLOOKUP(G321,'Lista de precios'!$B$7:$C$5000,2,0))","v":""}]
[null,null,"",null,null,null,null,{"$f":"IF(G322=\"\",\"\",VLOOKUP(G322,'Lista de precios'!$B$7:$C$5000,2,0))","v":""}]
[null,null,"",null,null,null,null,{"$f":"IF(G323=\"\",\"\",VLOOKUP(G323,'Lista de precios'!$B$7:$C$5000,2,0))","v":""}]
[null,null,"",null,null,null,null,{"$f":"IF(G324=\"\",\"\",VLOOKUP(G324,'Lista de precios'!$B$7:$C$5000,2,0))","v":""}]
[null,null,"",null,null,null,null,{"$f":"IF(G325=\"\",\"\",VLOOKUP(G325,'Lista de precios'!$B$7:$C$5000,2,0))","v":""}]
[null,null,"",null,null,null,null,{"$f":"IF(G326=\"\",\"\",VLOOKUP(G326,'Lista de precios'!$B$7:$C$5000,2,0))","v":""}]
[null,null,"",null,null,null,null,{"$f":"IF(G327=\"\",\"\",VLOOKUP(G327,'Lista de precios'!$B$7:$C$5000,2,0))","v":""}]
[null,null,"",null,null,null,null,{"$f":"IF(G328=\"\",\"\",VLOOKUP(G328,'Lista de precios'!$B$7:$C$5000,2,0))","v":""}]
[null,null,"",null,null,null,null,{"$f":"IF(G329=\"\",\"\",VLOOKUP(G329,'Lista de precios'!$B$7:$C$5000,2,0))","v":""}]
[null,null,"",null,null,null,null,{"$f":"IF(G330=\"\",\"\",VLOOKUP(G330,'Lista de precios'!$B$7:$C$5000,2,0))","v":""}]
[null,null,"",null,null,null,null,{"$f":"IF(G331=\"\",\"\",VLOOKUP(G331,'Lista de precios'!$B$7:$C$5000,2,0))","v":""}]
[null,null,"",null,null,null,null,{"$f":"IF(G332=\"\",\"\",VLOOKUP(G332,'Lista de precios'!$B$7:$C$5000,2,0))","v":""}]
[null,null,"",null,null,null,null,{"$f":"IF(G333=\"\",\"\",VLOOKUP(G333,'Lista de precios'!$B$7:$C$5000,2,0))","v":""}]
[null,null,"",null,null,null,null,{"$f":"IF(G334=\"\",\"\",VLOOKUP(G334,'Lista de precios'!$B$7:$C$5000,2,0))","v":""}]
[null,null,"",null,null,null,null,{"$f":"IF(G335=\"\",\"\",VLOOKUP(G335,'Lista de precios'!$B$7:$C$5000,2,0))","v":""}]
[null,null,"",null,null,null,null,{"$f":"IF(G336=\"\",\"\",VLOOKUP(G336,'Lista de precios'!$B$7:$C$5000,2,0))","v":""}]
[null,null,"",null,null,null,null,{"$f":"IF(G337=\"\",\"\",VLOOKUP(G337,'Lista de precios'!$B$7:$C$5000,2,0))","v":""}]
[null,null,"",null,null,null,null,{"$f":"IF(G338=\"\",\"\",VLOOKUP(G338,'Lista de precios'!$B$7:$C$5000,2,0))","v":""}]
[null,null,"",null,null,null,null,{"$f":"IF(G339=\"\",\"\",VLOOKUP(G339,'Lista de precios'!$B$7:$C$5000,2,0))","v":""}]
[null,null,"",null,null,null,null,{"$f":"IF(G340=\"\",\"\",VLOOKUP(G340,'Lista de precios'!$B$7:$C$5000,2,0))","v":""}]
[null,null,{"$f":"IF(B341=\"\",\"\",TEXT(B341,\"Mmmm\"))","v":""},null,null,null,null,{"$f":"IF(G341=\"\",\"\",VLOOKUP(G341,'Lista de precios'!$B$7:$C$5000,2,0))","v":""}]
[null,null,"",null,null,null,null,{"$f":"IF(G342=\"\",\"\",VLOOKUP(G342,'Lista de precios'!$B$7:$C$5000,2,0))","v":""}]
[null,null,"",null,null,null,null,{"$f":"IF(G343=\"\",\"\",VLOOKUP(G343,'Lista de precios'!$B$7:$C$5000,2,0))","v":""}]
[null,null,"",null,null,null,null,{"$f":"IF(G344=\"\",\"\",VLOOKUP(G344,'Lista de precios'!$B$7:$C$5000,2,0))","v":""}]
[null,null,"",null,null,null,null,{"$f":"IF(G345=\"\",\"\",VLOOKUP(G345,'Lista de precios'!$B$7:$C$5000,2,0))","v":""}]
[null,null,"",null,null,null,null,{"$f":"IF(G346=\"\",\"\",VLOOKUP(G346,'Lista de precios'!$B$7:$C$5000,2,0))","v":""}]
[null,null,"",null,null,null,null,{"$f":"IF(G347=\"\",\"\",VLOOKUP(G347,'Lista de precios'!$B$7:$C$5000,2,0))","v":""}]
[null,null,"",null,null,null,null,{"$f":"IF(G348=\"\",\"\",VLOOKUP(G348,'Lista de precios'!$B$7:$C$5000,2,0))","v":""}]
[null,null,"",null,null,null,null,{"$f":"IF(G349=\"\",\"\",VLOOKUP(G349,'Lista de precios'!$B$7:$C$5000,2,0))","v":""}]
[null,null,"",null,null,null,null,{"$f":"IF(G350=\"\",\"\",VLOOKUP(G350,'Lista de precios'!$B$7:$C$5000,2,0))","v":""}]
[null,null,"",null,null,null,null,{"$f":"IF(G351=\"\",\"\",VLOOKUP(G351,'Lista de precios'!$B$7:$C$5000,2,0))","v":""}]
[null,null,"",null,null,null,null,{"$f":"IF(G352=\"\",\"\",VLOOKUP(G352,'Lista de precios'!$B$7:$C$5000,2,0))","v":""}]
[null,null,"",null,null,null,null,{"$f":"IF(G353=\"\",\"\",VLOOKUP(G353,'Lista de precios'!$B$7:$C$5000,2,0))","v":""}]
[null,null,"",null,null,null,null,{"$f":"IF(G354=\"\",\"\",VLOOKUP(G354,'Lista de precios'!$B$7:$C$5000,2,0))","v":""}]
[null,null,"",null,null,null,null,{"$f":"IF(G355=\"\",\"\",VLOOKUP(G355,'Lista de precios'!$B$7:$C$5000,2,0))","v":""}]
[null,null,"",null,null,null,null,{"$f":"IF(G356=\"\",\"\",VLOOKUP(G356,'Lista de precios'!$B$7:$C$5000,2,0))","v":""}]
[null,null,"",null,null,null,null,{"$f":"IF(G357=\"\",\"\",VLOOKUP(G357,'Lista de precios'!$B$7:$C$5000,2,0))","v":""}]
[null,null,"",null,null,null,null,{"$f":"IF(G358=\"\",\"\",VLOOKUP(G358,'Lista de precios'!$B$7:$C$5000,2,0))","v":""}]
[null,null,"",null,null,null,null,{"$f":"IF(G359=\"\",\"\",VLOOKUP(G359,'Lista de precios'!$B$7:$C$5000,2,0))","v":""}]
[null,null,"",null,null,null,null,{"$f":"IF(G360=\"\",\"\",VLOOKUP(G360,'Lista de precios'!$B$7:$C$5000,2,0))","v":""}]
[null,null,"",null,null,null,null,{"$f":"IF(G361=\"\",\"\",VLOOKUP(G361,'Lista de precios'!$B$7:$C$5000,2,0))","v":""}]
[null,null,"",null,null,null,null,{"$f":"IF(G362=\"\",\"\",VLOOKUP(G362,'Lista de precios'!$B$7:$C$5000,2,0))","v":""}]
[null,null,"",null,null,null,null,{"$f":"IF(G363=\"\",\"\",VLOOKUP(G363,'Lista de precios'!$B$7:$C$5000,2,0))","v":""}]
[null,null,"",null,null,null,null,{"$f":"IF(G364=\"\",\"\",VLOOKUP(G364,'Lista de precios'!$B$7:$C$5000,2,0))","v":""}]
[null,null,"",null,null,null,null,{"$f":"IF(G365=\"\",\"\",VLOOKUP(G365,'Lista de precios'!$B$7:$C$5000,2,0))","v":""}]
[null,null,"",null,null,null,null,{"$f":"IF(G366=\"\",\"\",VLOOKUP(G366,'Lista de precios'!$B$7:$C$5000,2,0))","v":""}]
[null,null,"",null,null,null,null,{"$f":"IF(G367=\"\",\"\",VLOOKUP(G367,'Lista de precios'!$B$7:$C$5000,2,0))","v":""}]
[null,null,"",null,null,null,null,{"$f":"IF(G368=\"\",\"\",VLOOKUP(G368,'Lista de precios'!$B$7:$C$5000,2,0))","v":""}]
[null,null,"",null,null,null,null,{"$f":"IF(G369=\"\",\"\",VLOOKUP(G369,'Lista de precios'!$B$7:$C$5000,2,0))","v":""}]
[null,null,"",null,null,null,null,{"$f":"IF(G370=\"\",\"\",VLOOKUP(G370,'Lista de precios'!$B$7:$C$5000,2,0))","v":""}]
[null,null,"",null,null,null,null,{"$f":"IF(G371=\"\",\"\",VLOOKUP(G371,'Lista de precios'!$B$7:$C$5000,2,0))","v":""}]
[null,null,"",null,null,null,null,{"$f":"IF(G372=\"\",\"\",VLOOKUP(G372,'Lista de precios'!$B$7:$C$5000,2,0))","v":""}]
[null,null,"",null,null,null,null,{"$f":"IF(G373=\"\",\"\",VLOOKUP(G373,'Lista de precios'!$B$7:$C$5000,2,0))","v":""}]
[null,null,"",null,null,null,null,{"$f":"IF(G374=\"\",\"\",VLOOKUP(G374,'Lista de precios'!$B$7:$C$5000,2,0))","v":""}]
[null,null,"",null,null,null,null,{"$f":"IF(G375=\"\",\"\",VLOOKUP(G375,'Lista de precios'!$B$7:$C$5000,2,0))","v":""}]
[null,null,"",null,null,null,null,{"$f":"IF(G376=\"\",\"\",VLOOKUP(G376,'Lista de precios'!$B$7:$C$5000,2,0))","v":""}]
[null,null,"",null,null,null,null,{"$f":"IF(G377=\"\",\"\",VLOOKUP(G377,'Lista de precios'!$B$7:$C$5000,2,0))","v":""}]
[null,null,"",null,null,null,null,{"$f":"IF(G378=\"\",\"\",VLOOKUP(G378,'Lista de precios'!$B$7:$C$5000,2,0))","v":""}]
[null,null,"",null,null,null,null,{"$f":"IF(G379=\"\",\"\",VLOOKUP(G379,'Lista de precios'!$B$7:$C$5000,2,0))","v":""}]
[null,null,"",null,null,null,null,{"$f":"IF(G380=\"\",\"\",VLOOKUP(G380,'Lista de precios'!$B$7:$C$5000,2,0))","v":""}]
[null,null,"",null,null,null,null,{"$f":"IF(G381=\"\",\"\",VLOOKUP(G381,'Lista de precios'!$B$7:$C$5000,2,0))","v":""}]
[null,null,"",null,null,null,null,{"$f":"IF(G382=\"\",\"\",VLOOKUP(G382,'Lista de precios'!$B$7:$C$5000,2,0))","v":""}]
[null,null,"",null,null,null,null,{"$f":"IF(G383=\"\",\"\",VLOOKUP(G383,'Lista de precios'!$B$7:$C$5000,2,0))","v":""}]
[null,null,"",null,null,null,null,{"$f":"IF(G384=\"\",\"\",VLOOKUP(G384,'Lista de precios'!$B$7:$C$5000,2,0))","v":""}]
[null,null,"",null,null,null,null,{"$f":"IF(G385=\"\",\"\",VLOOKUP(G385,'Lista de precios'!$B$7:$C$5000,2,0))","v":""}]
[null,null,"",null,null,null,null,{"$f":"IF(G386=\"\",\"\",VLOOKUP(G386,'Lista de precios'!$B$7:$C$5000,2,0))","v":""}]
[null,null,"",null,null,null,null,{"$f":"IF(G387=\"\",\"\",VLOOKUP(G387,'Lista de precios'!$B$7:$C$5000,2,0))","v":""}]
[null,null,"",null,null,null,null,{"$f":"IF(G388=\"\",\"\",VLOOKUP(G388,'Lista de precios'!$B$7:$C$5000,2,0))","v":""}]
[null,null,"",null,null,null,null,{"$f":"IF(G389=\"\",\"\",VLOOKUP(G389,'Lista de precios'!$B$7:$C$5000,2,0))","v":""}]
[null,null,"",null,null,null,null,{"$f":"IF(G390=\"\",\"\",VLOOKUP(G390,'Lista de precios'!$B$7:$C$5000,2,0))","v":""}]
[null,null,"",null,null,null,null,{"$f":"IF(G391=\"\",\"\",VLOOKUP(G391,'Lista de precios'!$B$7:$C$5000,2,0))","v":""}]
[null,null,"",null,null,null,null,{"$f":"IF(G392=\"\",\"\",VLOOKUP(G392,'Lista de precios'!$B$7:$C$5000,2,0))","v":""}]
[null,null,"",null,null,null,null,{"$f":"IF(G393=\"\",\"\",VLOOKUP(G393,'Lista de precios'!$B$7:$C$5000,2,0))","v":""}]
[null,null,"",null,null,null,null,{"$f":"IF(G394=\"\",\"\",VLOOKUP(G394,'Lista de precios'!$B$7:$C$5000,2,0))","v":""}]
[null,null,"",null,null,null,null,{"$f":"IF(G395=\"\",\"\",VLOOKUP(G395,'Lista de precios'!$B$7:$C$5000,2,0))","v":""}]
[null,null,"",null,null,null,null,{"$f":"IF(G396=\"\",\"\",VLOOKUP(G396,'Lista de precios'!$B$7:$C$5000,2,0))","v":""}]
[null,null,"",null,null,null,null,{"$f":"IF(G397=\"\",\"\",VLOOKUP(G397,'Lista de precios'!$B$7:$C$5000,2,0))","v":""}]
[null,null,"",null,null,null,null,{"$f":"IF(G398=\"\",\"\",VLOOKUP(G398,'Lista de precios'!$B$7:$C$5000,2,0))","v":""}]
[null,null,"",null,null,null,null,{"$f":"IF(G399=\"\",\"\",VLOOKUP(G399,'Lista de precios'!$B$7:$C$5000,2,0))","v":""}]
[null,null,"",null,null,null,null,{"$f":"IF(G400=\"\",\"\",VLOOKUP(G400,'Lista de precios'!$B$7:$C$5000,2,0))","v":""}]
[null,null,"",null,null,null,null,{"$f":"IF(G401=\"\",\"\",VLOOKUP(G401,'Lista de precios'!$B$7:$C$5000,2,0))","v":""}]
[null,null,"",null,null,null,null,{"$f":"IF(G402=\"\",\"\",VLOOKUP(G402,'Lista de precios'!$B$7:$C$5000,2,0))","v":""}]
[null,null,"",null,null,null,null,{"$f":"IF(G403=\"\",\"\",VLOOKUP(G403,'Lista de precios'!$B$7:$C$5000,2,0))","v":""}]
[null,null,"",null,null,null,null,{"$f":"IF(G404=\"\",\"\",VLOOKUP(G404,'Lista de precios'!$B$7:$C$5000,2,0))","v":""}]
[null,null,{"$f":"IF(B405=\"\",\"\",TEXT(B405,\"Mmmm\"))","v":""},null,null,null,null,{"$f":"IF(G405=\"\",\"\",VLOOKUP(G405,'Lista de precios'!$B$7:$C$5000,2,0))","v":""}]
[null,null,"",null,null,null,null,{"$f":"IF(G406=\"\",\"\",VLOOKUP(G406,'Lista de precios'!$B$7:$C$5000,2,0))","v":""}]
[null,null,"",null,null,null,null,{"$f":"IF(G407=\"\",\"\",VLOOKUP(G407,'Lista de precios'!$B$7:$C$5000,2,0))","v":""}]
[null,null,"",null,null,null,null,{"$f":"IF(G408=\"\",\"\",VLOOKUP(G408,'Lista de precios'!$B$7:$C$5000,2,0))","v":""}]
[null,null,"",null,null,null,null,{"$f":"IF(G409=\"\",\"\",VLOOKUP(G409,'Lista de precios'!$B$7:$C$5000,2,0))","v":""}]
[null,null,"",null,null,null,null,{"$f":"IF(G410=\"\",\"\",VLOOKUP(G410,'Lista de precios'!$B$7:$C$5000,2,0))","v":""}]
[null,null,"",null,null,null,null,{"$f":"IF(G411=\"\",\"\",VLOOKUP(G411,'Lista de precios'!$B$7:$C$5000,2,0))","v":""}]
[null,null,"",null,null,null,null,{"$f":"IF(G412=\"\",\"\",VLOOKUP(G412,'Lista de precios'!$B$7:$C$5000,2,0))","v":""}]
[null,null,"",null,null,null,null,{"$f":"IF(G413=\"\",\"\",VLOOKUP(G413,'Lista de precios'!$B$7:$C$5000,2,0))","v":""}]
[null,null,"",null,null,null,null,{"$f":"IF(G414=\"\",\"\",VLOOKUP(G414,'Lista de precios'!$B$7:$C$5000,2,0))","v":""}]
[null,null,"",null,null,null,null,{"$f":"IF(G415=\"\",\"\",VLOOKUP(G415,'Lista de precios'!$B$7:$C$5000,2,0))","v":""}]
[null,null,"",null,null,null,null,{"$f":"IF(G416=\"\",\"\",VLOOKUP(G416,'Lista de precios'!$B$7:$C$5000,2,0))","v":""}]
[null,null,"",null,null,null,null,{"$f":"IF(G417=\"\",\"\",VLOOKUP(G417,'Lista de precios'!$B$7:$C$5000,2,0))","v":""}]
[null,null,"",null,null,null,null,{"$f":"IF(G418=\"\",\"\",VLOOKUP(G418,'Lista de precios'!$B$7:$C$5000,2,0))","v":""}]
[null,null,"",null,null,null,null,{"$f":"IF(G419=\"\",\"\",VLOOKUP(G419,'Lista de precios'!$B$7:$C$5000,2,0))","v":""}]
[null,null,"",null,null,null,null,{"$f":"IF(G420=\"\",\"\",VLOOKUP(G420,'Lista de precios'!$B$7:$C$5000,2,0))","v":""}]
[null,null,"",null,null,null,null,{"$f":"IF(G421=\"\",\"\",VLOOKUP(G421,'Lista de precios'!$B$7:$C$5000,2,0))","v":""}]
[null,null,"",null,null,null,null,{"$f":"IF(G422=\"\",\"\",VLOOKUP(G422,'Lista de precios'!$B$7:$C$5000,2,0))","v":""}]
[null,null,"",null,null,null,null,{"$f":"IF(G423=\"\",\"\",VLOOKUP(G423,'Lista de precios'!$B$7:$C$5000,2,0))","v":""}]
[null,null,"",null,null,null,null,{"$f":"IF(G424=\"\",\"\",VLOOKUP(G424,'Lista de precios'!$B$7:$C$5000,2,0))","v":""}]
[null,null,"",null,null,null,null,{"$f":"IF(G425=\"\",\"\",VLOOKUP(G425,'Lista de precios'!$B$7:$C$5000,2,0))","v":""}]
[null,null,"",null,null,null,null,{"$f":"IF(G426=\"\",\"\",VLOOKUP(G426,'Lista de precios'!$B$7:$C$5000,2,0))","v":""}]
[null,null,"",null,null,null,null,{"$f":"IF(G427=\"\",\"\",VLOOKUP(G427,'Lista de precios'!$B$7:$C$5000,2,0))","v":""}]
[null,null,"",null,null,null,null,{"$f":"IF(G428=\"\",\"\",VLOOKUP(G428,'Lista de precios'!$B$7:$C$5000,2,0))","v":""}]
[null,null,"",null,null,null,null,{"$f":"IF(G429=\"\",\"\",VLOOKUP(G429,'Lista de precios'!$B$7:$C$5000,2,0))","v":""}]
[null,null,"",null,null,null,null,{"$f":"IF(G430=\"\",\"\",VLOOKUP(G430,'Lista de precios'!$B$7:$C$5000,2,0))","v":""}]
[null,null,"",null,null,null,null,{"$f":"IF(G431=\"\",\"\",VLOOKUP(G431,'Lista de precios'!$B$7:$C$5000,2,0))","v":""}]
[null,null,"",null,null,null,null,{"$f":"IF(G432=\"\",\"\",VLOOKUP(G432,'Lista de precios'!$B$7:$C$5000,2,0))","v":""}]
[null,null,"",null,null,null,null,{"$f":"IF(G433=\"\",\"\",VLOOKUP(G433,'Lista de precios'!$B$7:$C$5000,2,0))","v":""}]
[null,null,"",null,null,null,null,{"$f":"IF(G434=\"\",\"\",VLOOKUP(G434,'Lista de precios'!$B$7:$C$5000,2,0))","v":""}]
[null,null,"",null,null,null,null,{"$f":"IF(G435=\"\",\"\",VLOOKUP(G435,'Lista de precios'!$B$7:$C$5000,2,0))","v":""}]
[null,null,"",null,null,null,null,{"$f":"IF(G436=\"\",\"\",VLOOKUP(G436,'Lista de precios'!$B$7:$C$5000,2,0))","v":""}]
[null,null,"",null,null,null,null,{"$f":"IF(G437=\"\",\"\",VLOOKUP(G437,'Lista de precios'!$B$7:$C$5000,2,0))","v":""}]
[null,null,"",null,null,null,null,{"$f":"IF(G438=\"\",\"\",VLOOKUP(G438,'Lista de precios'!$B$7:$C$5000,2,0))","v":""}]
[null,null,"",null,null,null,null,{"$f":"IF(G439=\"\",\"\",VLOOKUP(G439,'Lista de precios'!$B$7:$C$5000,2,0))","v":""}]
[null,null,"",null,null,null,null,{"$f":"IF(G440=\"\",\"\",VLOOKUP(G440,'Lista de precios'!$B$7:$C$5000,2,0))","v":""}]
[null,null,"",null,null,null,null,{"$f":"IF(G441=\"\",\"\",VLOOKUP(G441,'Lista de precios'!$B$7:$C$5000,2,0))","v":""}]
[null,null,"",null,null,null,null,{"$f":"IF(G442=\"\",\"\",VLOOKUP(G442,'Lista de precios'!$B$7:$C$5000,2,0))","v":""}]
[null,null,"",null,null,null,null,{"$f":"IF(G443=\"\",\"\",VLOOKUP(G443,'Lista de precios'!$B$7:$C$5000,2,0))","v":""}]
[null,null,"",null,null,null,null,{"$f":"IF(G444=\"\",\"\",VLOOKUP(G444,'Lista de precios'!$B$7:$C$5000,2,0))","v":""}]
[null,null,"",null,null,null,null,{"$f":"IF(G445=\"\",\"\",VLOOKUP(G445,'Lista de precios'!$B$7:$C$5000,2,0))","v":""}]
[null,null,"",null,null,null,null,{"$f":"IF(G446=\"\",\"\",VLOOKUP(G446,'Lista de precios'!$B$7:$C$5000,2,0))","v":""}]
[null,null,"",null,null,null,null,{"$f":"IF(G447=\"\",\"\",VLOOKUP(G447,'Lista de precios'!$B$7:$C$5000,2,0))","v":""}]
[null,null,"",null,null,null,null,{"$f":"IF(G448=\"\",\"\",VLOOKUP(G448,'Lista de precios'!$B$7:$C$5000,2,0))","v":""}]
[null,null,"",null,null,null,null,{"$f":"IF(G449=\"\",\"\",VLOOKUP(G449,'Lista de precios'!$B$7:$C$5000,2,0))","v":""}]
[null,null,"",null,null,null,null,{"$f":"IF(G450=\"\",\"\",VLOOKUP(G450,'Lista de precios'!$B$7:$C$5000,2,0))","v":""}]
[null,null,"",null,null,null,null,{"$f":"IF(G451=\"\",\"\",VLOOKUP(G451,'Lista de precios'!$B$7:$C$5000,2,0))","v":""}]
[null,null,"",null,null,null,null,{"$f":"IF(G452=\"\",\"\",VLOOKUP(G452,'Lista de precios'!$B$7:$C$5000,2,0))","v":""}]
[null,null,"",null,null,null,null,{"$f":"IF(G453=\"\",\"\",VLOOKUP(G453,'Lista de precios'!$B$7:$C$5000,2,0))","v":""}]
[null,null,"",null,null,null,null,{"$f":"IF(G454=\"\",\"\",VLOOKUP(G454,'Lista de precios'!$B$7:$C$5000,2,0))","v":""}]
[null,null,"",null,null,null,null,{"$f":"IF(G455=\"\",\"\",VLOOKUP(G455,'Lista de precios'!$B$7:$C$5000,2,0))","v":""}]
[null,null,"",null,null,null,null,{"$f":"IF(G456=\"\",\"\",VLOOKUP(G456,'Lista de precios'!$B$7:$C$5000,2,0))","v":""}]
[null,null,"",null,null,null,null,{"$f":"IF(G457=\"\",\"\",VLOOKUP(G457,'Lista de precios'!$B$7:$C$5000,2,0))","v":""}]
[null,null,"",null,null,null,null,{"$f":"IF(G458=\"\",\"\",VLOOKUP(G458,'Lista de precios'!$B$7:$C$5000,2,0))","v":""}]
[null,null,"",null,null,null,null,{"$f":"IF(G459=\"\",\"\",VLOOKUP(G459,'Lista de precios'!$B$7:$C$5000,2,0))","v":""}]
[null,null,"",null,null,null,null,{"$f":"IF(G460=\"\",\"\",VLOOKUP(G460,'Lista de precios'!$B$7:$C$5000,2,0))","v":""}]
[null,null,"",null,null,null,null,{"$f":"IF(G461=\"\",\"\",VLOOKUP(G461,'Lista de precios'!$B$7:$C$5000,2,0))","v":""}]
[null,null,"",null,null,null,null,{"$f":"IF(G462=\"\",\"\",VLOOKUP(G462,'Lista de precios'!$B$7:$C$5000,2,0))","v":""}]
[null,null,"",null,null,null,null,{"$f":"IF(G463=\"\",\"\",VLOOKUP(G463,'Lista de precios'!$B$7:$C$5000,2,0))","v":""}]
[null,null,"",null,null,null,null,{"$f":"IF(G464=\"\",\"\",VLOOKUP(G464,'Lista de precios'!$B$7:$C$5000,2,0))","v":""}]
[null,null,"",null,null,null,null,{"$f":"IF(G465=\"\",\"\",VLOOKUP(G465,'Lista de precios'!$B$7:$C$5000,2,0))","v":""}]
[null,null,"",null,null,null,null,{"$f":"IF(G466=\"\",\"\",VLOOKUP(G466,'Lista de precios'!$B$7:$C$5000,2,0))","v":""}]
[null,null,"",null,null,null,null,{"$f":"IF(G467=\"\",\"\",VLOOKUP(G467,'Lista de precios'!$B$7:$C$5000,2,0))","v":""}]
[null,null,"",null,null,null,null,{"$f":"IF(G468=\"\",\"\",VLOOKUP(G468,'Lista de precios'!$B$7:$C$5000,2,0))","v":""}]
[null,null,{"$f":"IF(B469=\"\",\"\",TEXT(B469,\"Mmmm\"))","v":""},null,null,null,null,{"$f":"IF(G469=\"\",\"\",VLOOKUP(G469,'Lista de precios'!$B$7:$C$5000,2,0))","v":""}]
[null,null,"",null,null,null,null,{"$f":"IF(G470=\"\",\"\",VLOOKUP(G470,'Lista de precios'!$B$7:$C$5000,2,0))","v":""}]
[null,null,"",null,null,null,null,{"$f":"IF(G471=\"\",\"\",VLOOKUP(G471,'Lista de precios'!$B$7:$C$5000,2,0))","v":""}]
[null,null,"",null,null,null,null,{"$f":"IF(G472=\"\",\"\",VLOOKUP(G472,'Lista de precios'!$B$7:$C$5000,2,0))","v":""}]
[null,null,"",null,null,null,null,{"$f":"IF(G473=\"\",\"\",VLOOKUP(G473,'Lista de precios'!$B$7:$C$5000,2,0))","v":""}]
[null,null,"",null,null,null,null,{"$f":"IF(G474=\"\",\"\",VLOOKUP(G474,'Lista de precios'!$B$7:$C$5000,2,0))","v":""}]
[null,null,"",null,null,null,null,{"$f":"IF(G475=\"\",\"\",VLOOKUP(G475,'Lista de precios'!$B$7:$C$5000,2,0))","v":""}]
[null,null,"",null,null,null,null,{"$f":"IF(G476=\"\",\"\",VLOOKUP(G476,'Lista de precios'!$B$7:$C$5000,2,0))","v":""}]
[null,null,"",null,null,null,null,{"$f":"IF(G477=\"\",\"\",VLOOKUP(G477,'Lista de precios'!$B$7:$C$5000,2,0))","v":""}]
[null,null,"",null,null,null,null,{"$f":"IF(G478=\"\",\"\",VLOOKUP(G478,'Lista de precios'!$B$7:$C$5000,2,0))","v":""}]
[null,null,"",null,null,null,null,{"$f":"IF(G479=\"\",\"\",VLOOKUP(G479,'Lista de precios'!$B$7:$C$5000,2,0))","v":""}]
[null,null,"",null,null,null,null,{"$f":"IF(G480=\"\",\"\",VLOOKUP(G480,'Lista de precios'!$B$7:$C$5000,2,0))","v":""}]
[null,null,"",null,null,null,null,{"$f":"IF(G481=\"\",\"\",VLOOKUP(G481,'Lista de precios'!$B$7:$C$5000,2,0))","v":""}]
[null,null,"",null,null,null,null,{"$f":"IF(G482=\"\",\"\",VLOOKUP(G482,'Lista de precios'!$B$7:$C$5000,2,0))","v":""}]
[null,null,"",null,null,null,null,{"$f":"IF(G483=\"\",\"\",VLOOKUP(G483,'Lista de precios'!$B$7:$C$5000,2,0))","v":""}]
[null,null,"",null,null,null,null,{"$f":"IF(G484=\"\",\"\",VLOOKUP(G484,'Lista de precios'!$B$7:$C$5000,2,0))","v":""}]
[null,null,"",null,null,null,null,{"$f":"IF(G485=\"\",\"\",VLOOKUP(G485,'Lista de precios'!$B$7:$C$5000,2,0))","v":""}]
[null,null,"",null,null,null,null,{"$f":"IF(G486=\"\",\"\",VLOOKUP(G486,'Lista de precios'!$B$7:$C$5000,2,0))","v":""}]
[null,null,"",null,null,null,null,{"$f":"IF(G487=\"\",\"\",VLOOKUP(G487,'Lista de precios'!$B$7:$C$5000,2,0))","v":""}]
[null,null,"",null,null,null,null,{"$f":"IF(G488=\"\",\"\",VLOOKUP(G488,'Lista de precios'!$B$7:$C$5000,2,0))","v":""}]
[null,null,"",null,null,null,null,{"$f":"IF(G489=\"\",\"\",VLOOKUP(G489,'Lista de precios'!$B$7:$C$5000,2,0))","v":""}]
[null,null,"",null,null,null,null,{"$f":"IF(G490=\"\",\"\",VLOOKUP(G490,'Lista de precios'!$B$7:$C$5000,2,0))","v":""}]
[null,null,"",null,null,null,null,{"$f":"IF(G491=\"\",\"\",VLOOKUP(G491,'Lista de precios'!$B$7:$C$5000,2,0))","v":""}]
[null,null,"",null,null,null,null,{"$f":"IF(G492=\"\",\"\",VLOOKUP(G492,'Lista de precios'!$B$7:$C$5000,2,0))","v":""}]
[null,null,"",null,null,null,null,{"$f":"IF(G493=\"\",\"\",VLOOKUP(G493,'Lista de precios'!$B$7:$C$5000,2,0))","v":""}]
[null,null,"",null,null,null,null,{"$f":"IF(G494=\"\",\"\",VLOOKUP(G494,'Lista de precios'!$B$7:$C$5000,2,0))","v":""}]
[null,null,"",null,null,null,null,{"$f":"IF(G495=\"\",\"\",VLOOKUP(G495,'Lista de precios'!$B$7:$C$5000,2,0))","v":""}]
[null,null,"",null,null,null,null,{"$f":"IF(G496=\"\",\"\",VLOOKUP(G496,'Lista de precios'!$B$7:$C$5000,2,0))","v":""}]
[null,null,"",null,null,null,null,{"$f":"IF(G497=\"\",\"\",VLOOKUP(G497,'Lista de precios'!$B$7:$C$5000,2,0))","v":""}]
[null,null,"",null,null,null,null,{"$f":"IF(G498=\"\",\"\",VLOOKUP(G498,'Lista de precios'!$B$7:$C$5000,2,0))","v":""}]
[null,null,"",null,null,null,null,{"$f":"IF(G499=\"\",\"\",VLOOKUP(G499,'Lista de precios'!$B$7:$C$5000,2,0))","v":""}]
[null,null,"",null,null,null,null,{"$f":"IF(G500=\"\",\"\",VLOOKUP(G500,'Lista de precios'!$B$7:$C$5000,2,0))","v":""}]
[null,null,"",null,null,null,null,{"$f":"IF(G501=\"\",\"\",VLOOKUP(G501,'Lista de precios'!$B$7:$C$5000,2,0))","v":""}]
[null,null,"",null,null,null,null,{"$f":"IF(G502=\"\",\"\",VLOOKUP(G502,'Lista de precios'!$B$7:$C$5000,2,0))","v":""}]
[null,null,"",null,null,null,null,{"$f":"IF(G503=\"\",\"\",VLOOKUP(G503,'Lista de precios'!$B$7:$C$5000,2,0))","v":""}]
[null,null,"",null,null,null,null,{"$f":"IF(G504=\"\",\"\",VLOOKUP(G504,'Lista de precios'!$B$7:$C$5000,2,0))","v":""}]
[null,null,"",null,null,null,null,{"$f":"IF(G505=\"\",\"\",VLOOKUP(G505,'Lista de precios'!$B$7:$C$5000,2,0))","v":""}]
[null,null,"",null,null,null,null,{"$f":"IF(G506=\"\",\"\",VLOOKUP(G506,'Lista de precios'!$B$7:$C$5000,2,0))","v":""}]
[null,null,"",null,null,null,null,{"$f":"IF(G507=\"\",\"\",VLOOKUP(G507,'Lista de precios'!$B$7:$C$5000,2,0))","v":""}]
[null,null,"",null,null,null,null,{"$f":"IF(G508=\"\",\"\",VLOOKUP(G508,'Lista de precios'!$B$7:$C$5000,2,0))","v":""}]
[null,null,"",null,null,null,null,{"$f":"IF(G509=\"\",\"\",VLOOKUP(G509,'Lista de precios'!$B$7:$C$5000,2,0))","v":""}]
[null,null,"",null,null,null,null,{"$f":"IF(G510=\"\",\"\",VLOOKUP(G510,'Lista de precios'!$B$7:$C$5000,2,0))","v":""}]
[null,null,"",null,null,null,null,{"$f":"IF(G511=\"\",\"\",VLOOKUP(G511,'Lista de precios'!$B$7:$C$5000,2,0))","v":""}]
[null,null,"",null,null,null,null,{"$f":"IF(G512=\"\",\"\",VLOOKUP(G512,'Lista de precios'!$B$7:$C$5000,2,0))","v":""}]
[null,null,"",null,null,null,null,{"$f":"IF(G513=\"\",\"\",VLOOKUP(G513,'Lista de precios'!$B$7:$C$5000,2,0))","v":""}]
[null,null,"",null,null,null,null,{"$f":"IF(G514=\"\",\"\",VLOOKUP(G514,'Lista de precios'!$B$7:$C$5000,2,0))","v":""}]
[null,null,"",null,null,null,null,{"$f":"IF(G515=\"\",\"\",VLOOKUP(G515,'Lista de precios'!$B$7:$C$5000,2,0))","v":""}]
[null,null,"",null,null,null,null,{"$f":"IF(G516=\"\",\"\",VLOOKUP(G516,'Lista de precios'!$B$7:$C$5000,2,0))","v":""}]
[null,null,"",null,null,null,null,{"$f":"IF(G517=\"\",\"\",VLOOKUP(G517,'Lista de precios'!$B$7:$C$5000,2,0))","v":""}]
[null,null,"",null,null,null,null,{"$f":"IF(G518=\"\",\"\",VLOOKUP(G518,'Lista de precios'!$B$7:$C$5000,2,0))","v":""}]
[null,null,"",null,null,null,null,{"$f":"IF(G519=\"\",\"\",VLOOKUP(G519,'Lista de precios'!$B$7:$C$5000,2,0))","v":""}]
[null,null,"",null,null,null,null,{"$f":"IF(G520=\"\",\"\",VLOOKUP(G520,'Lista de precios'!$B$7:$C$5000,2,0))","v":""}]
[null,null,"",null,null,null,null,{"$f":"IF(G521=\"\",\"\",VLOOKUP(G521,'Lista de precios'!$B$7:$C$5000,2,0))","v":""}]
[null,null,"",null,null,null,null,{"$f":"IF(G522=\"\",\"\",VLOOKUP(G522,'Lista de precios'!$B$7:$C$5000,2,0))","v":""}]
[null,null,"",null,null,null,null,{"$f":"IF(G523=\"\",\"\",VLOOKUP(G523,'Lista de precios'!$B$7:$C$5000,2,0))","v":""}]
[null,null,"",null,null,null,null,{"$f":"IF(G524=\"\",\"\",VLOOKUP(G524,'Lista de precios'!$B$7:$C$5000,2,0))","v":""}]
[null,null,"",null,null,null,null,{"$f":"IF(G525=\"\",\"\",VLOOKUP(G525,'Lista de precios'!$B$7:$C$5000,2,0))","v":""}]
[null,null,"",null,null,null,null,{"$f":"IF(G526=\"\",\"\",VLOOKUP(G526,'Lista de precios'!$B$7:$C$5000,2,0))","v":""}]
[null,null,"",null,null,null,null,{"$f":"IF(G527=\"\",\"\",VLOOKUP(G527,'Lista de precios'!$B$7:$C$5000,2,0))","v":""}]
[null,null,"",null,null,null,null,{"$f":"IF(G528=\"\",\"\",VLOOKUP(G528,'Lista de precios'!$B$7:$C$5000,2,0))","v":""}]
[null,null,"",null,null,null,null,{"$f":"IF(G529=\"\",\"\",VLOOKUP(G529,'Lista de precios'!$B$7:$C$5000,2,0))","v":""}]
[null,null,"",null,null,null,null,{"$f":"IF(G530=\"\",\"\",VLOOKUP(G530,'Lista de precios'!$B$7:$C$5000,2,0))","v":""}]
[null,null,"",null,null,null,null,{"$f":"IF(G531=\"\",\"\",VLOOKUP(G531,'Lista de precios'!$B$7:$C$5000,2,0))","v":""}]
[null,null,"",null,null,null,null,{"$f":"IF(G532=\"\",\"\",VLOOKUP(G532,'Lista de precios'!$B$7:$C$5000,2,0))","v":""}]
[null,null,{"$f":"IF(B533=\"\",\"\",TEXT(B533,\"Mmmm\"))","v":""},null,null,null,null,{"$f":"IF(G533=\"\",\"\",VLOOKUP(G533,'Lista de precios'!$B$7:$C$5000,2,0))","v":""}]
[null,null,"",null,null,null,null,{"$f":"IF(G534=\"\",\"\",VLOOKUP(G534,'Lista de precios'!$B$7:$C$5000,2,0))","v":""}]
[null,null,"",null,null,null,null,{"$f":"IF(G535=\"\",\"\",VLOOKUP(G535,'Lista de precios'!$B$7:$C$5000,2,0))","v":""}]
[null,null,"",null,null,null,null,{"$f":"IF(G536=\"\",\"\",VLOOKUP(G536,'Lista de precios'!$B$7:$C$5000,2,0))","v":""}]
[null,null,"",null,null,null,null,{"$f":"IF(G537=\"\",\"\",VLOOKUP(G537,'Lista de precios'!$B$7:$C$5000,2,0))","v":""}]
[null,null,"",null,null,null,null,{"$f":"IF(G538=\"\",\"\",VLOOKUP(G538,'Lista de precios'!$B$7:$C$5000,2,0))","v":""}]
[null,null,"",null,null,null,null,{"$f":"IF(G539=\"\",\"\",VLOOKUP(G539,'Lista de precios'!$B$7:$C$5000,2,0))","v":""}]
[null,null,"",null,null,null,null,{"$f":"IF(G540=\"\",\"\",VLOOKUP(G540,'Lista de precios'!$B$7:$C$5000,2,0))","v":""}]
[null,null,"",null,null,null,null,{"$f":"IF(G541=\"\",\"\",VLOOKUP(G541,'Lista de precios'!$B$7:$C$5000,2,0))","v":""}]
[null,null,"",null,null,null,null,{"$f":"IF(G542=\"\",\"\",VLOOKUP(G542,'Lista de precios'!$B$7:$C$5000,2,0))","v":""}]
[null,null,"",null,null,null,null,{"$f":"IF(G543=\"\",\"\",VLOOKUP(G543,'Lista de precios'!$B$7:$C$5000,2,0))","v":""}]
[null,null,"",null,null,null,null,{"$f":"IF(G544=\"\",\"\",VLOOKUP(G544,'Lista de precios'!$B$7:$C$5000,2,0))","v":""}]
[null,null,"",null,null,null,null,{"$f":"IF(G545=\"\",\"\",VLOOKUP(G545,'Lista de precios'!$B$7:$C$5000,2,0))","v":""}]
[null,null,"",null,null,null,null,{"$f":"IF(G546=\"\",\"\",VLOOKUP(G546,'Lista de precios'!$B$7:$C$5000,2,0))","v":""}]
[null,null,"",null,null,null,null,{"$f":"IF(G547=\"\",\"\",VLOOKUP(G547,'Lista de precios'!$B$7:$C$5000,2,0))","v":""}]
[null,null,"",null,null,null,null,{"$f":"IF(G548=\"\",\"\",VLOOKUP(G548,'Lista de precios'!$B$7:$C$5000,2,0))","v":""}]
[null,null,"",null,null,null,null,{"$f":"IF(G549=\"\",\"\",VLOOKUP(G549,'Lista de precios'!$B$7:$C$5000,2,0))","v":""}]
[null,null,"",null,null,null,null,{"$f":"IF(G550=\"\",\"\",VLOOKUP(G550,'Lista de precios'!$B$7:$C$5000,2,0))","v":""}]
[null,null,"",null,null,null,null,{"$f":"IF(G551=\"\",\"\",VLOOKUP(G551,'Lista de precios'!$B$7:$C$5000,2,0))","v":""}]
[null,null,"",null,null,null,null,{"$f":"IF(G552=\"\",\"\",VLOOKUP(G552,'Lista de precios'!$B$7:$C$5000,2,0))","v":""}]
[null,null,"",null,null,null,null,{"$f":"IF(G553=\"\",\"\",VLOOKUP(G553,'Lista de precios'!$B$7:$C$5000,2,0))","v":""}]
[null,null,"",null,null,null,null,{"$f":"IF(G554=\"\",\"\",VLOOKUP(G554,'Lista de precios'!$B$7:$C$5000,2,0))","v":""}]
[null,null,"",null,null,null,null,{"$f":"IF(G555=\"\",\"\",VLOOKUP(G555,'Lista de precios'!$B$7:$C$5000,2,0))","v":""}]
[null,null,"",null,null,null,null,{"$f":"IF(G556=\"\",\"\",VLOOKUP(G556,'Lista de precios'!$B$7:$C$5000,2,0))","v":""}]
[null,null,"",null,null,null,null,{"$f":"IF(G557=\"\",\"\",VLOOKUP(G557,'Lista de precios'!$B$7:$C$5000,2,0))","v":""}]
[null,null,"",null,null,null,null,{"$f":"IF(G558=\"\",\"\",VLOOKUP(G558,'Lista de precios'!$B$7:$C$5000,2,0))","v":""}]
[null,null,"",null,null,null,null,{"$f":"IF(G559=\"\",\"\",VLOOKUP(G559,'Lista de precios'!$B$7:$C$5000,2,0))","v":""}]
[null,null,"",null,null,null,null,{"$f":"IF(G560=\"\",\"\",VLOOKUP(G560,'Lista de precios'!$B$7:$C$5000,2,0))","v":""}]
[null,null,"",null,null,null,null,{"$f":"IF(G561=\"\",\"\",VLOOKUP(G561,'Lista de precios'!$B$7:$C$5000,2,0))","v":""}]
[null,null,"",null,null,null,null,{"$f":"IF(G562=\"\",\"\",VLOOKUP(G562,'Lista de precios'!$B$7:$C$5000,2,0))","v":""}]
[null,null,"",null,null,null,null,{"$f":"IF(G563=\"\",\"\",VLOOKUP(G563,'Lista de precios'!$B$7:$C$5000,2,0))","v":""}]
[null,null,"",null,null,null,null,{"$f":"IF(G564=\"\",\"\",VLOOKUP(G564,'Lista de precios'!$B$7:$C$5000,2,0))","v":""}]
[null,null,"",null,null,null,null,{"$f":"IF(G565=\"\",\"\",VLOOKUP(G565,'Lista de precios'!$B$7:$C$5000,2,0))","v":""}]
[null,null,"",null,null,null,null,{"$f":"IF(G566=\"\",\"\",VLOOKUP(G566,'Lista de precios'!$B$7:$C$5000,2,0))","v":""}]
[null,null,"",null,null,null,null,{"$f":"IF(G567=\"\",\"\",VLOOKUP(G567,'Lista de precios'!$B$7:$C$5000,2,0))","v":""}]
[null,null,"",null,null,null,null,{"$f":"IF(G568=\"\",\"\",VLOOKUP(G568,'Lista de precios'!$B$7:$C$5000,2,0))","v":""}]
[null,null,"",null,null,null,null,{"$f":"IF(G569=\"\",\"\",VLOOKUP(G569,'Lista de precios'!$B$7:$C$5000,2,0))","v":""}]
[null,null,"",null,null,null,null,{"$f":"IF(G570=\"\",\"\",VLOOKUP(G570,'Lista de precios'!$B$7:$C$5000,2,0))","v":""}]
[null,null,"",null,null,null,null,{"$f":"IF(G571=\"\",\"\",VLOOKUP(G571,'Lista de precios'!$B$7:$C$5000,2,0))","v":""}]
[null,null,"",null,null,null,null,{"$f":"IF(G572=\"\",\"\",VLOOKUP(G572,'Lista de precios'!$B$7:$C$5000,2,0))","v":""}]
[null,null,"",null,null,null,null,{"$f":"IF(G573=\"\",\"\",VLOOKUP(G573,'Lista de precios'!$B$7:$C$5000,2,0))","v":""}]
[null,null,"",null,null,null,null,{"$f":"IF(G574=\"\",\"\",VLOOKUP(G574,'Lista de precios'!$B$7:$C$5000,2,0))","v":""}]
[null,null,"",null,null,null,null,{"$f":"IF(G575=\"\",\"\",VLOOKUP(G575,'Lista de precios'!$B$7:$C$5000,2,0))","v":""}]
[null,null,"",null,null,null,null,{"$f":"IF(G576=\"\",\"\",VLOOKUP(G576,'Lista de precios'!$B$7:$C$5000,2,0))","v":""}]
[null,null,"",null,null,null,null,{"$f":"IF(G577=\"\",\"\",VLOOKUP(G577,'Lista de precios'!$B$7:$C$5000,2,0))","v":""}]
[null,null,"",null,null,null,null,{"$f":"IF(G578=\"\",\"\",VLOOKUP(G578,'Lista de precios'!$B$7:$C$5000,2,0))","v":""}]
[null,null,"",null,null,null,null,{"$f":"IF(G579=\"\",\"\",VLOOKUP(G579,'Lista de precios'!$B$7:$C$5000,2,0))","v":""}]
[null,null,"",null,null,null,null,{"$f":"IF(G580=\"\",\"\",VLOOKUP(G580,'Lista de precios'!$B$7:$C$5000,2,0))","v":""}]
[null,null,"",null,null,null,null,{"$f":"IF(G581=\"\",\"\",VLOOKUP(G581,'Lista de precios'!$B$7:$C$5000,2,0))","v":""}]
[null,null,"",null,null,null,null,{"$f":"IF(G582=\"\",\"\",VLOOKUP(G582,'Lista de precios'!$B$7:$C$5000,2,0))","v":""}]
[null,null,"",null,null,null,null,{"$f":"IF(G583=\"\",\"\",VLOOKUP(G583,'Lista de precios'!$B$7:$C$5000,2,0))","v":""}]
[null,null,"",null,null,null,null,{"$f":"IF(G584=\"\",\"\",VLOOKUP(G584,'Lista de precios'!$B$7:$C$5000,2,0))","v":""}]
[null,null,"",null,null,null,null,{"$f":"IF(G585=\"\",\"\",VLOOKUP(G585,'Lista de precios'!$B$7:$C$5000,2,0))","v":""}]
[null,null,"",null,null,null,null,{"$f":"IF(G586=\"\",\"\",VLOOKUP(G586,'Lista de precios'!$B$7:$C$5000,2,0))","v":""}]
[null,null,"",null,null,null,null,{"$f":"IF(G587=\"\",\"\",VLOOKUP(G587,'Lista de precios'!$B$7:$C$5000,2,0))","v":""}]
[null,null,"",null,null,null,null,{"$f":"IF(G588=\"\",\"\",VLOOKUP(G588,'Lista de precios'!$B$7:$C$5000,2,0))","v":""}]
[null,null,"",null,null,null,null,{"$f":"IF(G589=\"\",\"\",VLOOKUP(G589,'Lista de precios'!$B$7:$C$5000,2,0))","v":""}]
[null,null,"",null,null,null,null,{"$f":"IF(G590=\"\",\"\",VLOOKUP(G590,'Lista de precios'!$B$7:$C$5000,2,0))","v":""}]
[null,null,"",null,null,null,null,{"$f":"IF(G591=\"\",\"\",VLOOKUP(G591,'Lista de precios'!$B$7:$C$5000,2,0))","v":""}]
[null,null,"",null,null,null,null,{"$f":"IF(G592=\"\",\"\",VLOOKUP(G592,'Lista de precios'!$B$7:$C$5000,2,0))","v":""}]
[null,null,"",null,null,null,null,{"$f":"IF(G593=\"\",\"\",VLOOKUP(G593,'Lista de precios'!$B$7:$C$5000,2,0))","v":""}]
[null,null,"",null,null,null,null,{"$f":"IF(G594=\"\",\"\",VLOOKUP(G594,'Lista de precios'!$B$7:$C$5000,2,0))","v":""}]
[null,null,"",null,null,null,null,{"$f":"IF(G595=\"\",\"\",VLOOKUP(G595,'Lista de precios'!$B$7:$C$5000,2,0))","v":""}]
[null,null,"",null,null,null,null,{"$f":"IF(G596=\"\",\"\",VLOOKUP(G596,'Lista de precios'!$B$7:$C$5000,2,0))","v":""}]
[null,null,{"$f":"IF(B597=\"\",\"\",TEXT(B597,\"Mmmm\"))","v":""},null,null,null,null,{"$f":"IF(G597=\"\",\"\",VLOOKUP(G597,'Lista de precios'!$B$7:$C$5000,2,0))","v":""}]
[null,null,"",null,null,null,null,{"$f":"IF(G598=\"\",\"\",VLOOKUP(G598,'Lista de precios'!$B$7:$C$5000,2,0))","v":""}]
[null,null,"",null,null,null,null,{"$f":"IF(G599=\"\",\"\",VLOOKUP(G599,'Lista de precios'!$B$7:$C$5000,2,0))","v":""}]
[null,null,"",null,null,null,null,{"$f":"IF(G600=\"\",\"\",VLOOKUP(G600,'Lista de precios'!$B$7:$C$5000,2,0))","v":""}]
[null,null,"",null,null,null,null,{"$f":"IF(G601=\"\",\"\",VLOOKUP(G601,'Lista de precios'!$B$7:$C$5000,2,0))","v":""}]
[null,null,"",null,null,null,null,{"$f":"IF(G602=\"\",\"\",VLOOKUP(G602,'Lista de precios'!$B$7:$C$5000,2,0))","v":""}]
[null,null,"",null,null,null,null,{"$f":"IF(G603=\"\",\"\",VLOOKUP(G603,'Lista de precios'!$B$7:$C$5000,2,0))","v":""}]
[null,null,"",null,null,null,null,{"$f":"IF(G604=\"\",\"\",VLOOKUP(G604,'Lista de precios'!$B$7:$C$5000,2,0))","v":""}]
[null,null,"",null,null,null,null,{"$f":"IF(G605=\"\",\"\",VLOOKUP(G605,'Lista de precios'!$B$7:$C$5000,2,0))","v":""}]
[null,null,"",null,null,null,null,{"$f":"IF(G606=\"\",\"\",VLOOKUP(G606,'Lista de precios'!$B$7:$C$5000,2,0))","v":""}]
[null,null,"",null,null,null,null,{"$f":"IF(G607=\"\",\"\",VLOOKUP(G607,'Lista de precios'!$B$7:$C$5000,2,0))","v":""}]
[null,null,"",null,null,null,null,{"$f":"IF(G608=\"\",\"\",VLOOKUP(G608,'Lista de precios'!$B$7:$C$5000,2,0))","v":""}]
[null,null,"",null,null,null,null,{"$f":"IF(G609=\"\",\"\",VLOOKUP(G609,'Lista de precios'!$B$7:$C$5000,2,0))","v":""}]
[null,null,"",null,null,null,null,{"$f":"IF(G610=\"\",\"\",VLOOKUP(G610,'Lista de precios'!$B$7:$C$5000,2,0))","v":""}]
[null,null,"",null,null,null,null,{"$f":"IF(G611=\"\",\"\",VLOOKUP(G611,'Lista de precios'!$B$7:$C$5000,2,0))","v":""}]
[null,null,"",null,null,null,null,{"$f":"IF(G612=\"\",\"\",VLOOKUP(G612,'Lista de precios'!$B$7:$C$5000,2,0))","v":""}]
[null,null,"",null,null,null,null,{"$f":"IF(G613=\"\",\"\",VLOOKUP(G613,'Lista de precios'!$B$7:$C$5000,2,0))","v":""}]
[null,null,"",null,null,null,null,{"$f":"IF(G614=\"\",\"\",VLOOKUP(G614,'Lista de precios'!$B$7:$C$5000,2,0))","v":""}]
[null,null,"",null,null,null,null,{"$f":"IF(G615=\"\",\"\",VLOOKUP(G615,'Lista de precios'!$B$7:$C$5000,2,0))","v":""}]
[null,null,"",null,null,null,null,{"$f":"IF(G616=\"\",\"\",VLOOKUP(G616,'Lista de precios'!$B$7:$C$5000,2,0))","v":""}]
[null,null,"",null,null,null,null,{"$f":"IF(G617=\"\",\"\",VLOOKUP(G617,'Lista de precios'!$B$7:$C$5000,2,0))","v":""}]
[null,null,"",null,null,null,null,{"$f":"IF(G618=\"\",\"\",VLOOKUP(G618,'Lista de precios'!$B$7:$C$5000,2,0))","v":""}]
[null,null,"",null,null,null,null,{"$f":"IF(G619=\"\",\"\",VLOOKUP(G619,'Lista de precios'!$B$7:$C$5000,2,0))","v":""}]
[null,null,"",null,null,null,null,{"$f":"IF(G620=\"\",\"\",VLOOKUP(G620,'Lista de precios'!$B$7:$C$5000,2,0))","v":""}]
[null,null,"",null,null,null,null,{"$f":"IF(G621=\"\",\"\",VLOOKUP(G621,'Lista de precios'!$B$7:$C$5000,2,0))","v":""}]
[null,null,"",null,null,null,null,{"$f":"IF(G622=\"\",\"\",VLOOKUP(G622,'Lista de precios'!$B$7:$C$5000,2,0))","v":""}]
[null,null,"",null,null,null,null,{"$f":"IF(G623=\"\",\"\",VLOOKUP(G623,'Lista de precios'!$B$7:$C$5000,2,0))","v":""}]
[null,null,"",null,null,null,null,{"$f":"IF(G624=\"\",\"\",VLOOKUP(G624,'Lista de precios'!$B$7:$C$5000,2,0))","v":""}]
[null,null,"",null,null,null,null,{"$f":"IF(G625=\"\",\"\",VLOOKUP(G625,'Lista de precios'!$B$7:$C$5000,2,0))","v":""}]
[null,null,"",null,null,null,null,{"$f":"IF(G626=\"\",\"\",VLOOKUP(G626,'Lista de precios'!$B$7:$C$5000,2,0))","v":""}]
[null,null,"",null,null,null,null,{"$f":"IF(G627=\"\",\"\",VLOOKUP(G627,'Lista de precios'!$B$7:$C$5000,2,0))","v":""}]
[null,null,"",null,null,null,null,{"$f":"IF(G628=\"\",\"\",VLOOKUP(G628,'Lista de precios'!$B$7:$C$5000,2,0))","v":""}]
[null,null,"",null,null,null,null,{"$f":"IF(G629=\"\",\"\",VLOOKUP(G629,'Lista de precios'!$B$7:$C$5000,2,0))","v":""}]
[null,null,"",null,null,null,null,{"$f":"IF(G630=\"\",\"\",VLOOKUP(G630,'Lista de precios'!$B$7:$C$5000,2,0))","v":""}]
[null,null,"",null,null,null,null,{"$f":"IF(G631=\"\",\"\",VLOOKUP(G631,'Lista de precios'!$B$7:$C$5000,2,0))","v":""}]
[null,null,"",null,null,null,null,{"$f":"IF(G632=\"\",\"\",VLOOKUP(G632,'Lista de precios'!$B$7:$C$5000,2,0))","v":""}]
[null,null,"",null,null,null,null,{"$f":"IF(G633=\"\",\"\",VLOOKUP(G633,'Lista de precios'!$B$7:$C$5000,2,0))","v":""}]
[null,null,"",null,null,null,null,{"$f":"IF(G634=\"\",\"\",VLOOKUP(G634,'Lista de precios'!$B$7:$C$5000,2,0))","v":""}]
[null,null,"",null,null,null,null,{"$f":"IF(G635=\"\",\"\",VLOOKUP(G635,'Lista de precios'!$B$7:$C$5000,2,0))","v":""}]
[null,null,"",null,null,null,null,{"$f":"IF(G636=\"\",\"\",VLOOKUP(G636,'Lista de precios'!$B$7:$C$5000,2,0))","v":""}]
[null,null,"",null,null,null,null,{"$f":"IF(G637=\"\",\"\",VLOOKUP(G637,'Lista de precios'!$B$7:$C$5000,2,0))","v":""}]
[null,null,"",null,null,null,null,{"$f":"IF(G638=\"\",\"\",VLOOKUP(G638,'Lista de precios'!$B$7:$C$5000,2,0))","v":""}]
[null,null,"",null,null,null,null,{"$f":"IF(G639=\"\",\"\",VLOOKUP(G639,'Lista de precios'!$B$7:$C$5000,2,0))","v":""}]
[null,null,"",null,null,null,null,{"$f":"IF(G640=\"\",\"\",VLOOKUP(G640,'Lista de precios'!$B$7:$C$5000,2,0))","v":""}]
[null,null,"",null,null,null,null,{"$f":"IF(G641=\"\",\"\",VLOOKUP(G641,'Lista de precios'!$B$7:$C$5000,2,0))","v":""}]
[null,null,"",null,null,null,null,{"$f":"IF(G642=\"\",\"\",VLOOKUP(G642,'Lista de precios'!$B$7:$C$5000,2,0))","v":""}]
[null,null,"",null,null,null,null,{"$f":"IF(G643=\"\",\"\",VLOOKUP(G643,'Lista de precios'!$B$7:$C$5000,2,0))","v":""}]
[null,null,"",null,null,null,null,{"$f":"IF(G644=\"\",\"\",VLOOKUP(G644,'Lista de precios'!$B$7:$C$5000,2,0))","v":""}]
[null,null,"",null,null,null,null,{"$f":"IF(G645=\"\",\"\",VLOOKUP(G645,'Lista de precios'!$B$7:$C$5000,2,0))","v":""}]
[null,null,"",null,null,null,null,{"$f":"IF(G646=\"\",\"\",VLOOKUP(G646,'Lista de precios'!$B$7:$C$5000,2,0))","v":""}]
[null,null,"",null,null,null,null,{"$f":"IF(G647=\"\",\"\",VLOOKUP(G647,'Lista de precios'!$B$7:$C$5000,2,0))","v":""}]
[null,null,"",null,null,null,null,{"$f":"IF(G648=\"\",\"\",VLOOKUP(G648,'Lista de precios'!$B$7:$C$5000,2,0))","v":""}]
[null,null,"",null,null,null,null,{"$f":"IF(G649=\"\",\"\",VLOOKUP(G649,'Lista de precios'!$B$7:$C$5000,2,0))","v":""}]
[null,null,"",null,null,null,null,{"$f":"IF(G650=\"\",\"\",VLOOKUP(G650,'Lista de precios'!$B$7:$C$5000,2,0))","v":""}]
[null,null,"",null,null,null,null,{"$f":"IF(G651=\"\",\"\",VLOOKUP(G651,'Lista de precios'!$B$7:$C$5000,2,0))","v":""}]
[null,null,"",null,null,null,null,{"$f":"IF(G652=\"\",\"\",VLOOKUP(G652,'Lista de precios'!$B$7:$C$5000,2,0))","v":""}]
[null,null,"",null,null,null,null,{"$f":"IF(G653=\"\",\"\",VLOOKUP(G653,'Lista de precios'!$B$7:$C$5000,2,0))","v":""}]
[null,null,"",null,null,null,null,{"$f":"IF(G654=\"\",\"\",VLOOKUP(G654,'Lista de precios'!$B$7:$C$5000,2,0))","v":""}]
[null,null,"",null,null,null,null,{"$f":"IF(G655=\"\",\"\",VLOOKUP(G655,'Lista de precios'!$B$7:$C$5000,2,0))","v":""}]
[null,null,"",null,null,null,null,{"$f":"IF(G656=\"\",\"\",VLOOKUP(G656,'Lista de precios'!$B$7:$C$5000,2,0))","v":""}]
[null,null,"",null,null,null,null,{"$f":"IF(G657=\"\",\"\",VLOOKUP(G657,'Lista de precios'!$B$7:$C$5000,2,0))","v":""}]
[null,null,"",null,null,null,null,{"$f":"IF(G658=\"\",\"\",VLOOKUP(G658,'Lista de precios'!$B$7:$C$5000,2,0))","v":""}]
[null,null,"",null,null,null,null,{"$f":"IF(G659=\"\",\"\",VLOOKUP(G659,'Lista de precios'!$B$7:$C$5000,2,0))","v":""}]
[null,null,"",null,null,null,null,{"$f":"IF(G660=\"\",\"\",VLOOKUP(G660,'Lista de precios'!$B$7:$C$5000,2,0))","v":""}]
[null,null,{"$f":"IF(B661=\"\",\"\",TEXT(B661,\"Mmmm\"))","v":""},null,null,null,null,{"$f":"IF(G661=\"\",\"\",VLOOKUP(G661,'Lista de precios'!$B$7:$C$5000,2,0))","v":""}]
[null,null,"",null,null,null,null,{"$f":"IF(G662=\"\",\"\",VLOOKUP(G662,'Lista de precios'!$B$7:$C$5000,2,0))","v":""}]
[null,null,"",null,null,null,null,{"$f":"IF(G663=\"\",\"\",VLOOKUP(G663,'Lista de precios'!$B$7:$C$5000,2,0))","v":""}]
[null,null,"",null,null,null,null,{"$f":"IF(G664=\"\",\"\",VLOOKUP(G664,'Lista de precios'!$B$7:$C$5000,2,0))","v":""}]
[null,null,"",null,null,null,null,{"$f":"IF(G665=\"\",\"\",VLOOKUP(G665,'Lista de precios'!$B$7:$C$5000,2,0))","v":""}]
[null,null,"",null,null,null,null,{"$f":"IF(G666=\"\",\"\",VLOOKUP(G666,'Lista de precios'!$B$7:$C$5000,2,0))","v":""}]
[null,null,"",null,null,null,null,{"$f":"IF(G667=\"\",\"\",VLOOKUP(G667,'Lista de precios'!$B$7:$C$5000,2,0))","v":""}]
[null,null,"",null,null,null,null,{"$f":"IF(G668=\"\",\"\",VLOOKUP(G668,'Lista de precios'!$B$7:$C$5000,2,0))","v":""}]
[null,null,"",null,null,null,null,{"$f":"IF(G669=\"\",\"\",VLOOKUP(G669,'Lista de precios'!$B$7:$C$5000,2,0))","v":""}]
[null,null,"",null,null,null,null,{"$f":"IF(G670=\"\",\"\",VLOOKUP(G670,'Lista de precios'!$B$7:$C$5000,2,0))","v":""}]
[null,null,"",null,null,null,null,{"$f":"IF(G671=\"\",\"\",VLOOKUP(G671,'Lista de precios'!$B$7:$C$5000,2,0))","v":""}]
[null,null,"",null,null,null,null,{"$f":"IF(G672=\"\",\"\",VLOOKUP(G672,'Lista de precios'!$B$7:$C$5000,2,0))","v":""}]
[null,null,"",null,null,null,null,{"$f":"IF(G673=\"\",\"\",VLOOKUP(G673,'Lista de precios'!$B$7:$C$5000,2,0))","v":""}]
[null,null,"",null,null,null,null,{"$f":"IF(G674=\"\",\"\",VLOOKUP(G674,'Lista de precios'!$B$7:$C$5000,2,0))","v":""}]
[null,null,"",null,null,null,null,{"$f":"IF(G675=\"\",\"\",VLOOKUP(G675,'Lista de precios'!$B$7:$C$5000,2,0))","v":""}]
[null,null,"",null,null,null,null,{"$f":"IF(G676=\"\",\"\",VLOOKUP(G676,'Lista de precios'!$B$7:$C$5000,2,0))","v":""}]
[null,null,"",null,null,null,null,{"$f":"IF(G677=\"\",\"\",VLOOKUP(G677,'Lista de precios'!$B$7:$C$5000,2,0))","v":""}]
[null,null,"",null,null,null,null,{"$f":"IF(G678=\"\",\"\",VLOOKUP(G678,'Lista de precios'!$B$7:$C$5000,2,0))","v":""}]
[null,null,"",null,null,null,null,{"$f":"IF(G679=\"\",\"\",VLOOKUP(G679,'Lista de precios'!$B$7:$C$5000,2,0))","v":""}]
[null,null,"",null,null,null,null,{"$f":"IF(G680=\"\",\"\",VLOOKUP(G680,'Lista de precios'!$B$7:$C$5000,2,0))","v":""}]
[null,null,"",null,null,null,null,{"$f":"IF(G681=\"\",\"\",VLOOKUP(G681,'Lista de precios'!$B$7:$C$5000,2,0))","v":""}]
[null,null,"",null,null,null,null,{"$f":"IF(G682=\"\",\"\",VLOOKUP(G682,'Lista de precios'!$B$7:$C$5000,2,0))","v":""}]
[null,null,"",null,null,null,null,{"$f":"IF(G683=\"\",\"\",VLOOKUP(G683,'Lista de precios'!$B$7:$C$5000,2,0))","v":""}]
[null,null,"",null,null,null,null,{"$f":"IF(G684=\"\",\"\",VLOOKUP(G684,'Lista de precios'!$B$7:$C$5000,2,0))","v":""}]
[null,null,"",null,null,null,null,{"$f":"IF(G685=\"\",\"\",VLOOKUP(G685,'Lista de precios'!$B$7:$C$5000,2,0))","v":""}]
[null,null,"",null,null,null,null,{"$f":"IF(G686=\"\",\"\",VLOOKUP(G686,'Lista de precios'!$B$7:$C$5000,2,0))","v":""}]
[null,null,"",null,null,null,null,{"$f":"IF(G687=\"\",\"\",VLOOKUP(G687,'Lista de precios'!$B$7:$C$5000,2,0))","v":""}]
[null,null,"",null,null,null,null,{"$f":"IF(G688=\"\",\"\",VLOOKUP(G688,'Lista de precios'!$B$7:$C$5000,2,0))","v":""}]
[null,null,"",null,null,null,null,{"$f":"IF(G689=\"\",\"\",VLOOKUP(G689,'Lista de precios'!$B$7:$C$5000,2,0))","v":""}]
[null,null,"",null,null,null,null,{"$f":"IF(G690=\"\",\"\",VLOOKUP(G690,'Lista de precios'!$B$7:$C$5000,2,0))","v":""}]
[null,null,"",null,null,null,null,{"$f":"IF(G691=\"\",\"\",VLOOKUP(G691,'Lista de precios'!$B$7:$C$5000,2,0))","v":""}]
[null,null,"",null,null,null,null,{"$f":"IF(G692=\"\",\"\",VLOOKUP(G692,'Lista de precios'!$B$7:$C$5000,2,0))","v":""}]
[null,null,"",null,null,null,null,{"$f":"IF(G693=\"\",\"\",VLOOKUP(G693,'Lista de precios'!$B$7:$C$5000,2,0))","v":""}]
[null,null,"",null,null,null,null,{"$f":"IF(G694=\"\",\"\",VLOOKUP(G694,'Lista de precios'!$B$7:$C$5000,2,0))","v":""}]
[null,null,"",null,null,null,null,{"$f":"IF(G695=\"\",\"\",VLOOKUP(G695,'Lista de precios'!$B$7:$C$5000,2,0))","v":""}]
[null,null,"",null,null,null,null,{"$f":"IF(G696=\"\",\"\",VLOOKUP(G696,'Lista de precios'!$B$7:$C$5000,2,0))","v":""}]
[null,null,"",null,null,null,null,{"$f":"IF(G697=\"\",\"\",VLOOKUP(G697,'Lista de precios'!$B$7:$C$5000,2,0))","v":""}]
[null,null,"",null,null,null,null,{"$f":"IF(G698=\"\",\"\",VLOOKUP(G698,'Lista de precios'!$B$7:$C$5000,2,0))","v":""}]
[null,null,"",null,null,null,null,{"$f":"IF(G699=\"\",\"\",VLOOKUP(G699,'Lista de precios'!$B$7:$C$5000,2,0))","v":""}]
[null,null,"",null,null,null,null,{"$f":"IF(G700=\"\",\"\",VLOOKUP(G700,'Lista de precios'!$B$7:$C$5000,2,0))","v":""}]
[null,null,"",null,null,null,null,{"$f":"IF(G701=\"\",\"\",VLOOKUP(G701,'Lista de precios'!$B$7:$C$5000,2,0))","v":""}]
[null,null,"",null,null,null,null,{"$f":"IF(G702=\"\",\"\",VLOOKUP(G702,'Lista de precios'!$B$7:$C$5000,2,0))","v":""}]
[null,null,"",null,null,null,null,{"$f":"IF(G703=\"\",\"\",VLOOKUP(G703,'Lista de precios'!$B$7:$C$5000,2,0))","v":""}]
[null,null,"",null,null,null,null,{"$f":"IF(G704=\"\",\"\",VLOOKUP(G704,'Lista de precios'!$B$7:$C$5000,2,0))","v":""}]
[null,null,"",null,null,null,null,{"$f":"IF(G705=\"\",\"\",VLOOKUP(G705,'Lista de precios'!$B$7:$C$5000,2,0))","v":""}]
[null,null,"",null,null,null,null,{"$f":"IF(G706=\"\",\"\",VLOOKUP(G706,'Lista de precios'!$B$7:$C$5000,2,0))","v":""}]
[null,null,"",null,null,null,null,{"$f":"IF(G707=\"\",\"\",VLOOKUP(G707,'Lista de precios'!$B$7:$C$5000,2,0))","v":""}]
[null,null,"",null,null,null,null,{"$f":"IF(G708=\"\",\"\",VLOOKUP(G708,'Lista de precios'!$B$7:$C$5000,2,0))","v":""}]
[null,null,"",null,null,null,null,{"$f":"IF(G709=\"\",\"\",VLOOKUP(G709,'Lista de precios'!$B$7:$C$5000,2,0))","v":""}]
[null,null,"",null,null,null,null,{"$f":"IF(G710=\"\",\"\",VLOOKUP(G710,'Lista de precios'!$B$7:$C$5000,2,0))","v":""}]
[null,null,"",null,null,null,null,{"$f":"IF(G711=\"\",\"\",VLOOKUP(G711,'Lista de precios'!$B$7:$C$5000,2,0))","v":""}]
[null,null,"",null,null,null,null,{"$f":"IF(G712=\"\",\"\",VLOOKUP(G712,'Lista de precios'!$B$7:$C$5000,2,0))","v":""}]
[null,null,"",null,null,null,null,{"$f":"IF(G713=\"\",\"\",VLOOKUP(G713,'Lista de precios'!$B$7:$C$5000,2,0))","v":""}]
[null,null,"",null,null,null,null,{"$f":"IF(G714=\"\",\"\",VLOOKUP(G714,'Lista de precios'!$B$7:$C$5000,2,0))","v":""}]
[null,null,"",null,null,null,null,{"$f":"IF(G715=\"\",\"\",VLOOKUP(G715,'Lista de precios'!$B$7:$C$5000,2,0))","v":""}]
[null,null,"",null,null,null,null,{"$f":"IF(G716=\"\",\"\",VLOOKUP(G716,'Lista de precios'!$B$7:$C$5000,2,0))","v":""}]
[null,null,"",null,null,null,null,{"$f":"IF(G717=\"\",\"\",VLOOKUP(G717,'Lista de precios'!$B$7:$C$5000,2,0))","v":""}]
[null,null,"",null,null,null,null,{"$f":"IF(G718=\"\",\"\",VLOOKUP(G718,'Lista de precios'!$B$7:$C$5000,2,0))","v":""}]
[null,null,"",null,null,null,null,{"$f":"IF(G719=\"\",\"\",VLOOKUP(G719,'Lista de precios'!$B$7:$C$5000,2,0))","v":""}]
[null,null,"",null,null,null,null,{"$f":"IF(G720=\"\",\"\",VLOOKUP(G720,'Lista de precios'!$B$7:$C$5000,2,0))","v":""}]
[null,null,"",null,null,null,null,{"$f":"IF(G721=\"\",\"\",VLOOKUP(G721,'Lista de precios'!$B$7:$C$5000,2,0))","v":""}]
[null,null,"",null,null,null,null,{"$f":"IF(G722=\"\",\"\",VLOOKUP(G722,'Lista de precios'!$B$7:$C$5000,2,0))","v":""}]
[null,null,"",null,null,null,null,{"$f":"IF(G723=\"\",\"\",VLOOKUP(G723,'Lista de precios'!$B$7:$C$5000,2,0))","v":""}]
[null,null,"",null,null,null,null,{"$f":"IF(G724=\"\",\"\",VLOOKUP(G724,'Lista de precios'!$B$7:$C$5000,2,0))","v":""}]
[null,null,{"$f":"IF(B725=\"\",\"\",TEXT(B725,\"Mmmm\"))","v":""},null,null,null,null,{"$f":"IF(G725=\"\",\"\",VLOOKUP(G725,'Lista de precios'!$B$7:$C$5000,2,0))","v":""}]
[null,null,"",null,null,null,null,{"$f":"IF(G726=\"\",\"\",VLOOKUP(G726,'Lista de precios'!$B$7:$C$5000,2,0))","v":""}]
[null,null,"",null,null,null,null,{"$f":"IF(G727=\"\",\"\",VLOOKUP(G727,'Lista de precios'!$B$7:$C$5000,2,0))","v":""}]
[null,null,"",null,null,null,null,{"$f":"IF(G728=\"\",\"\",VLOOKUP(G728,'Lista de precios'!$B$7:$C$5000,2,0))","v":""}]
[null,null,"",null,null,null,null,{"$f":"IF(G729=\"\",\"\",VLOOKUP(G729,'Lista de precios'!$B$7:$C$5000,2,0))","v":""}]
[null,null,"",null,null,null,null,{"$f":"IF(G730=\"\",\"\",VLOOKUP(G730,'Lista de precios'!$B$7:$C$5000,2,0))","v":""}]
[null,null,"",null,null,null,null,{"$f":"IF(G731=\"\",\"\",VLOOKUP(G731,'Lista de precios'!$B$7:$C$5000,2,0))","v":""}]
[null,null,"",null,null,null,null,{"$f":"IF(G732=\"\",\"\",VLOOKUP(G732,'Lista de precios'!$B$7:$C$5000,2,0))","v":""}]
[null,null,"",null,null,null,null,{"$f":"IF(G733=\"\",\"\",VLOOKUP(G733,'Lista de precios'!$B$7:$C$5000,2,0))","v":""}]
[null,null,"",null,null,null,null,{"$f":"IF(G734=\"\",\"\",VLOOKUP(G734,'Lista de precios'!$B$7:$C$5000,2,0))","v":""}]
[null,null,"",null,null,null,null,{"$f":"IF(G735=\"\",\"\",VLOOKUP(G735,'Lista de precios'!$B$7:$C$5000,2,0))","v":""}]
[null,null,"",null,null,null,null,{"$f":"IF(G736=\"\",\"\",VLOOKUP(G736,'Lista de precios'!$B$7:$C$5000,2,0))","v":""}]
[null,null,"",null,null,null,null,{"$f":"IF(G737=\"\",\"\",VLOOKUP(G737,'Lista de precios'!$B$7:$C$5000,2,0))","v":""}]
[null,null,"",null,null,null,null,{"$f":"IF(G738=\"\",\"\",VLOOKUP(G738,'Lista de precios'!$B$7:$C$5000,2,0))","v":""}]
[null,null,"",null,null,null,null,{"$f":"IF(G739=\"\",\"\",VLOOKUP(G739,'Lista de precios'!$B$7:$C$5000,2,0))","v":""}]
[null,null,"",null,null,null,null,{"$f":"IF(G740=\"\",\"\",VLOOKUP(G740,'Lista de precios'!$B$7:$C$5000,2,0))","v":""}]
[null,null,"",null,null,null,null,{"$f":"IF(G741=\"\",\"\",VLOOKUP(G741,'Lista de precios'!$B$7:$C$5000,2,0))","v":""}]
[null,null,"",null,null,null,null,{"$f":"IF(G742=\"\",\"\",VLOOKUP(G742,'Lista de precios'!$B$7:$C$5000,2,0))","v":""}]
[null,null,"",null,null,null,null,{"$f":"IF(G743=\"\",\"\",VLOOKUP(G743,'Lista de precios'!$B$7:$C$5000,2,0))","v":""}]
[null,null,"",null,null,null,null,{"$f":"IF(G744=\"\",\"\",VLOOKUP(G744,'Lista de precios'!$B$7:$C$5000,2,0))","v":""}]
[null,null,"",null,null,null,null,{"$f":"IF(G745=\"\",\"\",VLOOKUP(G745,'Lista de precios'!$B$7:$C$5000,2,0))","v":""}]
[null,null,"",null,null,null,null,{"$f":"IF(G746=\"\",\"\",VLOOKUP(G746,'Lista de precios'!$B$7:$C$5000,2,0))","v":""}]
[null,null,"",null,null,null,null,{"$f":"IF(G747=\"\",\"\",VLOOKUP(G747,'Lista de precios'!$B$7:$C$5000,2,0))","v":""}]
[null,null,"",null,null,null,null,{"$f":"IF(G748=\"\",\"\",VLOOKUP(G748,'Lista de precios'!$B$7:$C$5000,2,0))","v":""}]
[null,null,"",null,null,null,null,{"$f":"IF(G749=\"\",\"\",VLOOKUP(G749,'Lista de precios'!$B$7:$C$5000,2,0))","v":""}]
[null,null,"",null,null,null,null,{"$f":"IF(G750=\"\",\"\",VLOOKUP(G750,'Lista de precios'!$B$7:$C$5000,2,0))","v":""}]
[null,null,"",null,null,null,null,{"$f":"IF(G751=\"\",\"\",VLOOKUP(G751,'Lista de precios'!$B$7:$C$5000,2,0))","v":""}]
[null,null,"",null,null,null,null,{"$f":"IF(G752=\"\",\"\",VLOOKUP(G752,'Lista de precios'!$B$7:$C$5000,2,0))","v":""}]
[null,null,"",null,null,null,null,{"$f":"IF(G753=\"\",\"\",VLOOKUP(G753,'Lista de precios'!$B$7:$C$5000,2,0))","v":""}]
[null,null,"",null,null,null,null,{"$f":"IF(G754=\"\",\"\",VLOOKUP(G754,'Lista de precios'!$B$7:$C$5000,2,0))","v":""}]
[null,null,"",null,null,null,null,{"$f":"IF(G755=\"\",\"\",VLOOKUP(G755,'Lista de precios'!$B$7:$C$5000,2,0))","v":""}]
[null,null,"",null,null,null,null,{"$f":"IF(G756=\"\",\"\",VLOOKUP(G756,'Lista de precios'!$B$7:$C$5000,2,0))","v":""}]
[null,null,"",null,null,null,null,{"$f":"IF(G757=\"\",\"\",VLOOKUP(G757,'Lista de precios'!$B$7:$C$5000,2,0))","v":""}]
[null,null,"",null,null,null,null,{"$f":"IF(G758=\"\",\"\",VLOOKUP(G758,'Lista de precios'!$B$7:$C$5000,2,0))","v":""}]
[null,null,"",null,null,null,null,{"$f":"IF(G759=\"\",\"\",VLOOKUP(G759,'Lista de precios'!$B$7:$C$5000,2,0))","v":""}]
[null,null,"",null,null,null,null,{"$f":"IF(G760=\"\",\"\",VLOOKUP(G760,'Lista de precios'!$B$7:$C$5000,2,0))","v":""}]
[null,null,"",null,null,null,null,{"$f":"IF(G761=\"\",\"\",VLOOKUP(G761,'Lista de precios'!$B$7:$C$5000,2,0))","v":""}]
[null,null,"",null,null,null,null,{"$f":"IF(G762=\"\",\"\",VLOOKUP(G762,'Lista de precios'!$B$7:$C$5000,2,0))","v":""}]
[null,null,"",null,null,null,null,{"$f":"IF(G763=\"\",\"\",VLOOKUP(G763,'Lista de precios'!$B$7:$C$5000,2,0))","v":""}]
[null,null,"",null,null,null,null,{"$f":"IF(G764=\"\",\"\",VLOOKUP(G764,'Lista de precios'!$B$7:$C$5000,2,0))","v":""}]
[null,null,"",null,null,null,null,{"$f":"IF(G765=\"\",\"\",VLOOKUP(G765,'Lista de precios'!$B$7:$C$5000,2,0))","v":""}]
[null,null,"",null,null,null,null,{"$f":"IF(G766=\"\",\"\",VLOOKUP(G766,'Lista de precios'!$B$7:$C$5000,2,0))","v":""}]
[null,null,"",null,null,null,null,{"$f":"IF(G767=\"\",\"\",VLOOKUP(G767,'Lista de precios'!$B$7:$C$5000,2,0))","v":""}]
[null,null,"",null,null,null,null,{"$f":"IF(G768=\"\",\"\",VLOOKUP(G768,'Lista de precios'!$B$7:$C$5000,2,0))","v":""}]
[null,null,"",null,null,null,null,{"$f":"IF(G769=\"\",\"\",VLOOKUP(G769,'Lista de precios'!$B$7:$C$5000,2,0))","v":""}]
[null,null,"",null,null,null,null,{"$f":"IF(G770=\"\",\"\",VLOOKUP(G770,'Lista de precios'!$B$7:$C$5000,2,0))","v":""}]
[null,null,"",null,null,null,null,{"$f":"IF(G771=\"\",\"\",VLOOKUP(G771,'Lista de precios'!$B$7:$C$5000,2,0))","v":""}]
[null,null,"",null,null,null,null,{"$f":"IF(G772=\"\",\"\",VLOOKUP(G772,'Lista de precios'!$B$7:$C$5000,2,0))","v":""}]
[null,null,"",null,null,null,null,{"$f":"IF(G773=\"\",\"\",VLOOKUP(G773,'Lista de precios'!$B$7:$C$5000,2,0))","v":""}]
[null,null,"",null,null,null,null,{"$f":"IF(G774=\"\",\"\",VLOOKUP(G774,'Lista de precios'!$B$7:$C$5000,2,0))","v":""}]
[null,null,"",null,null,null,null,{"$f":"IF(G775=\"\",\"\",VLOOKUP(G775,'Lista de precios'!$B$7:$C$5000,2,0))","v":""}]
[null,null,"",null,null,null,null,{"$f":"IF(G776=\"\",\"\",VLOOKUP(G776,'Lista de precios'!$B$7:$C$5000,2,0))","v":""}]
[null,null,"",null,null,null,null,{"$f":"IF(G777=\"\",\"\",VLOOKUP(G777,'Lista de precios'!$B$7:$C$5000,2,0))","v":""}]
[null,null,"",null,null,null,null,{"$f":"IF(G778=\"\",\"\",VLOOKUP(G778,'Lista de precios'!$B$7:$C$5000,2,0))","v":""}]
[null,null,"",null,null,null,null,{"$f":"IF(G779=\"\",\"\",VLOOKUP(G779,'Lista de precios'!$B$7:$C$5000,2,0))","v":""}]
[null,null,"",null,null,null,null,{"$f":"IF(G780=\"\",\"\",VLOOKUP(G780,'Lista de precios'!$B$7:$C$5000,2,0))","v":""}]
[null,null,"",null,null,null,null,{"$f":"IF(G781=\"\",\"\",VLOOKUP(G781,'Lista de precios'!$B$7:$C$5000,2,0))","v":""}]
[null,null,"",null,null,null,null,{"$f":"IF(G782=\"\",\"\",VLOOKUP(G782,'Lista de precios'!$B$7:$C$5000,2,0))","v":""}]
[null,null,"",null,null,null,null,{"$f":"IF(G783=\"\",\"\",VLOOKUP(G783,'Lista de precios'!$B$7:$C$5000,2,0))","v":""}]
[null,null,"",null,null,null,null,{"$f":"IF(G784=\"\",\"\",VLOOKUP(G784,'Lista de precios'!$B$7:$C$5000,2,0))","v":""}]
[null,null,"",null,null,null,null,{"$f":"IF(G785=\"\",\"\",VLOOKUP(G785,'Lista de precios'!$B$7:$C$5000,2,0))","v":""}]
[null,null,"",null,null,null,null,{"$f":"IF(G786=\"\",\"\",VLOOKUP(G786,'Lista de precios'!$B$7:$C$5000,2,0))","v":""}]
[null,null,"",null,null,null,null,{"$f":"IF(G787=\"\",\"\",VLOOKUP(G787,'Lista de precios'!$B$7:$C$5000,2,0))","v":""}]
[null,null,"",null,null,null,null,{"$f":"IF(G788=\"\",\"\",VLOOKUP(G788,'Lista de precios'!$B$7:$C$5000,2,0))","v":""}]
[null,null,{"$f":"IF(B789=\"\",\"\",TEXT(B789,\"Mmmm\"))","v":""},null,null,null,null,{"$f":"IF(G789=\"\",\"\",VLOOKUP(G789,'Lista de precios'!$B$7:$C$5000,2,0))","v":""}]
[null,null,"",null,null,null,null,{"$f":"IF(G790=\"\",\"\",VLOOKUP(G790,'Lista de precios'!$B$7:$C$5000,2,0))","v":""}]
[null,null,"",null,null,null,null,{"$f":"IF(G791=\"\",\"\",VLOOKUP(G791,'Lista de precios'!$B$7:$C$5000,2,0))","v":""}]
[null,null,"",null,null,null,null,{"$f":"IF(G792=\"\",\"\",VLOOKUP(G792,'Lista de precios'!$B$7:$C$5000,2,0))","v":""}]
[null,null,"",null,null,null,null,{"$f":"IF(G793=\"\",\"\",VLOOKUP(G793,'Lista de precios'!$B$7:$C$5000,2,0))","v":""}]
[null,null,"",null,null,null,null,{"$f":"IF(G794=\"\",\"\",VLOOKUP(G794,'Lista de precios'!$B$7:$C$5000,2,0))","v":""}]
[null,null,"",null,null,null,null,{"$f":"IF(G795=\"\",\"\",VLOOKUP(G795,'Lista de precios'!$B$7:$C$5000,2,0))","v":""}]
[null,null,"",null,null,null,null,{"$f":"IF(G796=\"\",\"\",VLOOKUP(G796,'Lista de precios'!$B$7:$C$5000,2,0))","v":""}]
[null,null,"",null,null,null,null,{"$f":"IF(G797=\"\",\"\",VLOOKUP(G797,'Lista de precios'!$B$7:$C$5000,2,0))","v":""}]
[null,null,"",null,null,null,null,{"$f":"IF(G798=\"\",\"\",VLOOKUP(G798,'Lista de precios'!$B$7:$C$5000,2,0))","v":""}]
[null,null,"",null,null,null,null,{"$f":"IF(G799=\"\",\"\",VLOOKUP(G799,'Lista de precios'!$B$7:$C$5000,2,0))","v":""}]
[null,null,"",null,null,null,null,{"$f":"IF(G800=\"\",\"\",VLOOKUP(G800,'Lista de precios'!$B$7:$C$5000,2,0))","v":""}]
[null,null,"",null,null,null,null,{"$f":"IF(G801=\"\",\"\",VLOOKUP(G801,'Lista de precios'!$B$7:$C$5000,2,0))","v":""}]
[null,null,"",null,null,null,null,{"$f":"IF(G802=\"\",\"\",VLOOKUP(G802,'Lista de precios'!$B$7:$C$5000,2,0))","v":""}]
[null,null,"",null,null,null,null,{"$f":"IF(G803=\"\",\"\",VLOOKUP(G803,'Lista de precios'!$B$7:$C$5000,2,0))","v":""}]
[null,null,"",null,null,null,null,{"$f":"IF(G804=\"\",\"\",VLOOKUP(G804,'Lista de precios'!$B$7:$C$5000,2,0))","v":""}]
[null,null,"",null,null,null,null,{"$f":"IF(G805=\"\",\"\",VLOOKUP(G805,'Lista de precios'!$B$7:$C$5000,2,0))","v":""}]
[null,null,"",null,null,null,null,{"$f":"IF(G806=\"\",\"\",VLOOKUP(G806,'Lista de precios'!$B$7:$C$5000,2,0))","v":""}]
[null,null,"",null,null,null,null,{"$f":"IF(G807=\"\",\"\",VLOOKUP(G807,'Lista de precios'!$B$7:$C$5000,2,0))","v":""}]
[null,null,"",null,null,null,null,{"$f":"IF(G808=\"\",\"\",VLOOKUP(G808,'Lista de precios'!$B$7:$C$5000,2,0))","v":""}]
[null,null,"",null,null,null,null,{"$f":"IF(G809=\"\",\"\",VLOOKUP(G809,'Lista de precios'!$B$7:$C$5000,2,0))","v":""}]
[null,null,"",null,null,null,null,{"$f":"IF(G810=\"\",\"\",VLOOKUP(G810,'Lista de precios'!$B$7:$C$5000,2,0))","v":""}]
[null,null,"",null,null,null,null,{"$f":"IF(G811=\"\",\"\",VLOOKUP(G811,'Lista de precios'!$B$7:$C$5000,2,0))","v":""}]
[null,null,"",null,null,null,null,{"$f":"IF(G812=\"\",\"\",VLOOKUP(G812,'Lista de precios'!$B$7:$C$5000,2,0))","v":""}]
[null,null,"",null,null,null,null,{"$f":"IF(G813=\"\",\"\",VLOOKUP(G813,'Lista de precios'!$B$7:$C$5000,2,0))","v":""}]
[null,null,"",null,null,null,null,{"$f":"IF(G814=\"\",\"\",VLOOKUP(G814,'Lista de precios'!$B$7:$C$5000,2,0))","v":""}]
[null,null,"",null,null,null,null,{"$f":"IF(G815=\"\",\"\",VLOOKUP(G815,'Lista de precios'!$B$7:$C$5000,2,0))","v":""}]
[null,null,"",null,null,null,null,{"$f":"IF(G816=\"\",\"\",VLOOKUP(G816,'Lista de precios'!$B$7:$C$5000,2,0))","v":""}]
[null,null,"",null,null,null,null,{"$f":"IF(G817=\"\",\"\",VLOOKUP(G817,'Lista de precios'!$B$7:$C$5000,2,0))","v":""}]
[null,null,"",null,null,null,null,{"$f":"IF(G818=\"\",\"\",VLOOKUP(G818,'Lista de precios'!$B$7:$C$5000,2,0))","v":""}]
[null,null,"",null,null,null,null,{"$f":"IF(G819=\"\",\"\",VLOOKUP(G819,'Lista de precios'!$B$7:$C$5000,2,0))","v":""}]
[null,null,"",null,null,null,null,{"$f":"IF(G820=\"\",\"\",VLOOKUP(G820,'Lista de precios'!$B$7:$C$5000,2,0))","v":""}]
[null,null,"",null,null,null,null,{"$f":"IF(G821=\"\",\"\",VLOOKUP(G821,'Lista de precios'!$B$7:$C$5000,2,0))","v":""}]
[null,null,"",null,null,null,null,{"$f":"IF(G822=\"\",\"\",VLOOKUP(G822,'Lista de precios'!$B$7:$C$5000,2,0))","v":""}]
[null,null,"",null,null,null,null,{"$f":"IF(G823=\"\",\"\",VLOOKUP(G823,'Lista de precios'!$B$7:$C$5000,2,0))","v":""}]
[null,null,"",null,null,null,null,{"$f":"IF(G824=\"\",\"\",VLOOKUP(G824,'Lista de precios'!$B$7:$C$5000,2,0))","v":""}]
[null,null,"",null,null,null,null,{"$f":"IF(G825=\"\",\"\",VLOOKUP(G825,'Lista de precios'!$B$7:$C$5000,2,0))","v":""}]
[null,null,"",null,null,null,null,{"$f":"IF(G826=\"\",\"\",VLOOKUP(G826,'Lista de precios'!$B$7:$C$5000,2,0))","v":""}]
[null,null,"",null,null,null,null,{"$f":"IF(G827=\"\",\"\",VLOOKUP(G827,'Lista de precios'!$B$7:$C$5000,2,0))","v":""}]
[null,null,"",null,null,null,null,{"$f":"IF(G828=\"\",\"\",VLOOKUP(G828,'Lista de precios'!$B$7:$C$5000,2,0))","v":""}]
[null,null,"",null,null,null,null,{"$f":"IF(G829=\"\",\"\",VLOOKUP(G829,'Lista de precios'!$B$7:$C$5000,2,0))","v":""}]
[null,null,"",null,null,null,null,{"$f":"IF(G830=\"\",\"\",VLOOKUP(G830,'Lista de precios'!$B$7:$C$5000,2,0))","v":""}]
[null,null,"",null,null,null,null,{"$f":"IF(G831=\"\",\"\",VLOOKUP(G831,'Lista de precios'!$B$7:$C$5000,2,0))","v":""}]
[null,null,"",null,null,null,null,{"$f":"IF(G832=\"\",\"\",VLOOKUP(G832,'Lista de precios'!$B$7:$C$5000,2,0))","v":""}]
[null,null,"",null,null,null,null,{"$f":"IF(G833=\"\",\"\",VLOOKUP(G833,'Lista de precios'!$B$7:$C$5000,2,0))","v":""}]
[null,null,"",null,null,null,null,{"$f":"IF(G834=\"\",\"\",VLOOKUP(G834,'Lista de precios'!$B$7:$C$5000,2,0))","v":""}]
[null,null,"",null,null,null,null,{"$f":"IF(G835=\"\",\"\",VLOOKUP(G835,'Lista de precios'!$B$7:$C$5000,2,0))","v":""}]
[null,null,"",null,null,null,null,{"$f":"IF(G836=\"\",\"\",VLOOKUP(G836,'Lista de precios'!$B$7:$C$5000,2,0))","v":""}]
[null,null,"",null,null,null,null,{"$f":"IF(G837=\"\",\"\",VLOOKUP(G837,'Lista de precios'!$B$7:$C$5000,2,0))","v":""}]
[null,null,"",null,null,null,null,{"$f":"IF(G838=\"\",\"\",VLOOKUP(G838,'Lista de precios'!$B$7:$C$5000,2,0))","v":""}]
[null,null,"",null,null,null,null,{"$f":"IF(G839=\"\",\"\",VLOOKUP(G839,'Lista de precios'!$B$7:$C$5000,2,0))","v":""}]
[null,null,"",null,null,null,null,{"$f":"IF(G840=\"\",\"\",VLOOKUP(G840,'Lista de precios'!$B$7:$C$5000,2,0))","v":""}]
[null,null,"",null,null,null,null,{"$f":"IF(G841=\"\",\"\",VLOOKUP(G841,'Lista de precios'!$B$7:$C$5000,2,0))","v":""}]
[null,null,"",null,null,null,null,{"$f":"IF(G842=\"\",\"\",VLOOKUP(G842,'Lista de precios'!$B$7:$C$5000,2,0))","v":""}]
[null,null,"",null,null,null,null,{"$f":"IF(G843=\"\",\"\",VLOOKUP(G843,'Lista de precios'!$B$7:$C$5000,2,0))","v":""}]
[null,null,"",null,null,null,null,{"$f":"IF(G844=\"\",\"\",VLOOKUP(G844,'Lista de precios'!$B$7:$C$5000,2,0))","v":""}]
[null,null,"",null,null,null,null,{"$f":"IF(G845=\"\",\"\",VLOOKUP(G845,'Lista de precios'!$B$7:$C$5000,2,0))","v":""}]
[null,null,"",null,null,null,null,{"$f":"IF(G846=\"\",\"\",VLOOKUP(G846,'Lista de precios'!$B$7:$C$5000,2,0))","v":""}]
[null,null,"",null,null,null,null,{"$f":"IF(G847=\"\",\"\",VLOOKUP(G847,'Lista de precios'!$B$7:$C$5000,2,0))","v":""}]
[null,null,"",null,null,null,null,{"$f":"IF(G848=\"\",\"\",VLOOKUP(G848,'Lista de precios'!$B$7:$C$5000,2,0))","v":""}]
[null,null,"",null,null,null,null,{"$f":"IF(G849=\"\",\"\",VLOOKUP(G849,'Lista de precios'!$B$7:$C$5000,2,0))","v":""}]
[null,null,"",null,null,null,null,{"$f":"IF(G850=\"\",\"\",VLOOKUP(G850,'Lista de precios'!$B$7:$C$5000,2,0))","v":""}]
[null,null,"",null,null,null,null,{"$f":"IF(G851=\"\",\"\",VLOOKUP(G851,'Lista de precios'!$B$7:$C$5000,2,0))","v":""}]
[null,null,"",null,null,null,null,{"$f":"IF(G852=\"\",\"\",VLOOKUP(G852,'Lista de precios'!$B$7:$C$5000,2,0))","v":""}]
[null,null,{"$f":"IF(B853=\"\",\"\",TEXT(B853,\"Mmmm\"))","v":""},null,null,null,null,{"$f":"IF(G853=\"\",\"\",VLOOKUP(G853,'Lista de precios'!$B$7:$C$5000,2,0))","v":""}]
[null,null,"",null,null,null,null,{"$f":"IF(G854=\"\",\"\",VLOOKUP(G854,'Lista de precios'!$B$7:$C$5000,2,0))","v":""}]
[null,null,"",null,null,null,null,{"$f":"IF(G855=\"\",\"\",VLOOKUP(G855,'Lista de precios'!$B$7:$C$5000,2,0))","v":""}]
[null,null,"",null,null,null,null,{"$f":"IF(G856=\"\",\"\",VLOOKUP(G856,'Lista de precios'!$B$7:$C$5000,2,0))","v":""}]
[null,null,"",null,null,null,null,{"$f":"IF(G857=\"\",\"\",VLOOKUP(G857,'Lista de precios'!$B$7:$C$5000,2,0))","v":""}]
[null,null,"",null,null,null,null,{"$f":"IF(G858=\"\",\"\",VLOOKUP(G858,'Lista de precios'!$B$7:$C$5000,2,0))","v":""}]
[null,null,"",null,null,null,null,{"$f":"IF(G859=\"\",\"\",VLOOKUP(G859,'Lista de precios'!$B$7:$C$5000,2,0))","v":""}]
[null,null,"",null,null,null,null,{"$f":"IF(G860=\"\",\"\",VLOOKUP(G860,'Lista de precios'!$B$7:$C$5000,2,0))","v":""}]
[null,null,"",null,null,null,null,{"$f":"IF(G861=\"\",\"\",VLOOKUP(G861,'Lista de precios'!$B$7:$C$5000,2,0))","v":""}]
[null,null,"",null,null,null,null,{"$f":"IF(G862=\"\",\"\",VLOOKUP(G862,'Lista de precios'!$B$7:$C$5000,2,0))","v":""}]
[null,null,"",null,null,null,null,{"$f":"IF(G863=\"\",\"\",VLOOKUP(G863,'Lista de precios'!$B$7:$C$5000,2,0))","v":""}]
[null,null,"",null,null,null,null,{"$f":"IF(G864=\"\",\"\",VLOOKUP(G864,'Lista de precios'!$B$7:$C$5000,2,0))","v":""}]
[null,null,"",null,null,null,null,{"$f":"IF(G865=\"\",\"\",VLOOKUP(G865,'Lista de precios'!$B$7:$C$5000,2,0))","v":""}]
[null,null,"",null,null,null,null,{"$f":"IF(G866=\"\",\"\",VLOOKUP(G866,'Lista de precios'!$B$7:$C$5000,2,0))","v":""}]
[null,null,"",null,null,null,null,{"$f":"IF(G867=\"\",\"\",VLOOKUP(G867,'Lista de precios'!$B$7:$C$5000,2,0))","v":""}]
[null,null,"",null,null,null,null,{"$f":"IF(G868=\"\",\"\",VLOOKUP(G868,'Lista de precios'!$B$7:$C$5000,2,0))","v":""}]
[null,null,"",null,null,null,null,{"$f":"IF(G869=\"\",\"\",VLOOKUP(G869,'Lista de precios'!$B$7:$C$5000,2,0))","v":""}]
[null,null,"",null,null,null,null,{"$f":"IF(G870=\"\",\"\",VLOOKUP(G870,'Lista de precios'!$B$7:$C$5000,2,0))","v":""}]
[null,null,"",null,null,null,null,{"$f":"IF(G871=\"\",\"\",VLOOKUP(G871,'Lista de precios'!$B$7:$C$5000,2,0))","v":""}]
[null,null,"",null,null,null,null,{"$f":"IF(G872=\"\",\"\",VLOOKUP(G872,'Lista de precios'!$B$7:$C$5000,2,0))","v":""}]
[null,null,"",null,null,null,null,{"$f":"IF(G873=\"\",\"\",VLOOKUP(G873,'Lista de precios'!$B$7:$C$5000,2,0))","v":""}]
[null,null,"",null,null,null,null,{"$f":"IF(G874=\"\",\"\",VLOOKUP(G874,'Lista de precios'!$B$7:$C$5000,2,0))","v":""}]
[null,null,"",null,null,null,null,{"$f":"IF(G875=\"\",\"\",VLOOKUP(G875,'Lista de precios'!$B$7:$C$5000,2,0))","v":""}]
[null,null,"",null,null,null,null,{"$f":"IF(G876=\"\",\"\",VLOOKUP(G876,'Lista de precios'!$B$7:$C$5000,2,0))","v":""}]
[null,null,"",null,null,null,null,{"$f":"IF(G877=\"\",\"\",VLOOKUP(G877,'Lista de precios'!$B$7:$C$5000,2,0))","v":""}]
[null,null,"",null,null,null,null,{"$f":"IF(G878=\"\",\"\",VLOOKUP(G878,'Lista de precios'!$B$7:$C$5000,2,0))","v":""}]
[null,null,"",null,null,null,null,{"$f":"IF(G879=\"\",\"\",VLOOKUP(G879,'Lista de precios'!$B$7:$C$5000,2,0))","v":""}]
[null,null,"",null,null,null,null,{"$f":"IF(G880=\"\",\"\",VLOOKUP(G880,'Lista de precios'!$B$7:$C$5000,2,0))","v":""}]
[null,null,"",null,null,null,null,{"$f":"IF(G881=\"\",\"\",VLOOKUP(G881,'Lista de precios'!$B$7:$C$5000,2,0))","v":""}]
[null,null,"",null,null,null,null,{"$f":"IF(G882=\"\",\"\",VLOOKUP(G882,'Lista de precios'!$B$7:$C$5000,2,0))","v":""}]
[null,null,"",null,null,null,null,{"$f":"IF(G883=\"\",\"\",VLOOKUP(G883,'Lista de precios'!$B$7:$C$5000,2,0))","v":""}]
[null,null,"",null,null,null,null,{"$f":"IF(G884=\"\",\"\",VLOOKUP(G884,'Lista de precios'!$B$7:$C$5000,2,0))","v":""}]
[null,null,"",null,null,null,null,{"$f":"IF(G885=\"\",\"\",VLOOKUP(G885,'Lista de precios'!$B$7:$C$5000,2,0))","v":""}]
[null,null,"",null,null,null,null,{"$f":"IF(G886=\"\",\"\",VLOOKUP(G886,'Lista de precios'!$B$7:$C$5000,2,0))","v":""}]
[null,null,"",null,null,null,null,{"$f":"IF(G887=\"\",\"\",VLOOKUP(G887,'Lista de precios'!$B$7:$C$5000,2,0))","v":""}]
[null,null,"",null,null,null,null,{"$f":"IF(G888=\"\",\"\",VLOOKUP(G888,'Lista de precios'!$B$7:$C$5000,2,0))","v":""}]
[null,null,"",null,null,null,null,{"$f":"IF(G889=\"\",\"\",VLOOKUP(G889,'Lista de precios'!$B$7:$C$5000,2,0))","v":""}]
[null,null,"",null,null,null,null,{"$f":"IF(G890=\"\",\"\",VLOOKUP(G890,'Lista de precios'!$B$7:$C$5000,2,0))","v":""}]
[null,null,"",null,null,null,null,{"$f":"IF(G891=\"\",\"\",VLOOKUP(G891,'Lista de precios'!$B$7:$C$5000,2,0))","v":""}]
[null,null,"",null,null,null,null,{"$f":"IF(G892=\"\",\"\",VLOOKUP(G892,'Lista de precios'!$B$7:$C$5000,2,0))","v":""}]
[null,null,"",null,null,null,null,{"$f":"IF(G893=\"\",\"\",VLOOKUP(G893,'Lista de precios'!$B$7:$C$5000,2,0))","v":""}]
[null,null,"",null,null,null,null,{"$f":"IF(G894=\"\",\"\",VLOOKUP(G894,'Lista de precios'!$B$7:$C$5000,2,0))","v":""}]
[null,null,"",null,null,null,null,{"$f":"IF(G895=\"\",\"\",VLOOKUP(G895,'Lista de precios'!$B$7:$C$5000,2,0))","v":""}]
[null,null,"",null,null,null,null,{"$f":"IF(G896=\"\",\"\",VLOOKUP(G896,'Lista de precios'!$B$7:$C$5000,2,0))","v":""}]
[null,null,"",null,null,null,null,{"$f":"IF(G897=\"\",\"\",VLOOKUP(G897,'Lista de precios'!$B$7:$C$5000,2,0))","v":""}]
[null,null,"",null,null,null,null,{"$f":"IF(G898=\"\",\"\",VLOOKUP(G898,'Lista de precios'!$B$7:$C$5000,2,0))","v":""}]
[null,null,"",null,null,null,null,{"$f":"IF(G899=\"\",\"\",VLOOKUP(G899,'Lista de precios'!$B$7:$C$5000,2,0))","v":""}]
[null,null,"",null,null,null,null,{"$f":"IF(G900=\"\",\"\",VLOOKUP(G900,'Lista de precios'!$B$7:$C$5000,2,0))","v":""}]
[null,null,"",null,null,null,null,{"$f":"IF(G901=\"\",\"\",VLOOKUP(G901,'Lista de precios'!$B$7:$C$5000,2,0))","v":""}]
[null,null,"",null,null,null,null,{"$f":"IF(G902=\"\",\"\",VLOOKUP(G902,'Lista de precios'!$B$7:$C$5000,2,0))","v":""}]
[null,null,"",null,null,null,null,{"$f":"IF(G903=\"\",\"\",VLOOKUP(G903,'Lista de precios'!$B$7:$C$5000,2,0))","v":""}]
[null,null,"",null,null,null,null,{"$f":"IF(G904=\"\",\"\",VLOOKUP(G904,'Lista de precios'!$B$7:$C$5000,2,0))","v":""}]
[null,null,"",null,null,null,null,{"$f":"IF(G905=\"\",\"\",VLOOKUP(G905,'Lista de precios'!$B$7:$C$5000,2,0))","v":""}]
[null,null,"",null,null,null,null,{"$f":"IF(G906=\"\",\"\",VLOOKUP(G906,'Lista de precios'!$B$7:$C$5000,2,0))","v":""}]
[null,null,"",null,null,null,null,{"$f":"IF(G907=\"\",\"\",VLOOKUP(G907,'Lista de precios'!$B$7:$C$5000,2,0))","v":""}]
[null,null,"",null,null,null,null,{"$f":"IF(G908=\"\",\"\",VLOOKUP(G908,'Lista de precios'!$B$7:$C$5000,2,0))","v":""}]
[null,null,"",null,null,null,null,{"$f":"IF(G909=\"\",\"\",VLOOKUP(G909,'Lista de precios'!$B$7:$C$5000,2,0))","v":""}]
[null,null,"",null,null,null,null,{"$f":"IF(G910=\"\",\"\",VLOOKUP(G910,'Lista de precios'!$B$7:$C$5000,2,0))","v":""}]
[null,null,"",null,null,null,null,{"$f":"IF(G911=\"\",\"\",VLOOKUP(G911,'Lista de precios'!$B$7:$C$5000,2,0))","v":""}]
[null,null,"",null,null,null,null,{"$f":"IF(G912=\"\",\"\",VLOOKUP(G912,'Lista de precios'!$B$7:$C$5000,2,0))","v":""}]
[null,null,"",null,null,null,null,{"$f":"IF(G913=\"\",\"\",VLOOKUP(G913,'Lista de precios'!$B$7:$C$5000,2,0))","v":""}]
[null,null,"",null,null,null,null,{"$f":"IF(G914=\"\",\"\",VLOOKUP(G914,'Lista de precios'!$B$7:$C$5000,2,0))","v":""}]
[null,null,"",null,null,null,null,{"$f":"IF(G915=\"\",\"\",VLOOKUP(G915,'Lista de precios'!$B$7:$C$5000,2,0))","v":""}]
[null,null,"",null,null,null,null,{"$f":"IF(G916=\"\",\"\",VLOOKUP(G916,'Lista de precios'!$B$7:$C$5000,2,0))","v":""}]
[null,null,{"$f":"IF(B917=\"\",\"\",TEXT(B917,\"Mmmm\"))","v":""},null,null,null,null,{"$f":"IF(G917=\"\",\"\",VLOOKUP(G917,'Lista de precios'!$B$7:$C$5000,2,0))","v":""}]
[null,null,"",null,null,null,null,{"$f":"IF(G918=\"\",\"\",VLOOKUP(G918,'Lista de precios'!$B$7:$C$5000,2,0))","v":""}]
[null,null,"",null,null,null,null,{"$f":"IF(G919=\"\",\"\",VLOOKUP(G919,'Lista de precios'!$B$7:$C$5000,2,0))","v":""}]
[null,null,"",null,null,null,null,{"$f":"IF(G920=\"\",\"\",VLOOKUP(G920,'Lista de precios'!$B$7:$C$5000,2,0))","v":""}]
[null,null,"",null,null,null,null,{"$f":"IF(G921=\"\",\"\",VLOOKUP(G921,'Lista de precios'!$B$7:$C$5000,2,0))","v":""}]
[null,null,"",null,null,null,null,{"$f":"IF(G922=\"\",\"\",VLOOKUP(G922,'Lista de precios'!$B$7:$C$5000,2,0))","v":""}]
[null,null,"",null,null,null,null,{"$f":"IF(G923=\"\",\"\",VLOOKUP(G923,'Lista de precios'!$B$7:$C$5000,2,0))","v":""}]
[null,null,"",null,null,null,null,{"$f":"IF(G924=\"\",\"\",VLOOKUP(G924,'Lista de precios'!$B$7:$C$5000,2,0))","v":""}]
[null,null,"",null,null,null,null,{"$f":"IF(G925=\"\",\"\",VLOOKUP(G925,'Lista de precios'!$B$7:$C$5000,2,0))","v":""}]
[null,null,"",null,null,null,null,{"$f":"IF(G926=\"\",\"\",VLOOKUP(G926,'Lista de precios'!$B$7:$C$5000,2,0))","v":""}]
[null,null,"",null,null,null,null,{"$f":"IF(G927=\"\",\"\",VLOOKUP(G927,'Lista de precios'!$B$7:$C$5000,2,0))","v":""}]
[null,null,"",null,null,null,null,{"$f":"IF(G928=\"\",\"\",VLOOKUP(G928,'Lista de precios'!$B$7:$C$5000,2,0))","v":""}]
[null,null,"",null,null,null,null,{"$f":"IF(G929=\"\",\"\",VLOOKUP(G929,'Lista de precios'!$B$7:$C$5000,2,0))","v":""}]
[null,null,"",null,null,null,null,{"$f":"IF(G930=\"\",\"\",VLOOKUP(G930,'Lista de precios'!$B$7:$C$5000,2,0))","v":""}]
[null,null,"",null,null,null,null,{"$f":"IF(G931=\"\",\"\",VLOOKUP(G931,'Lista de precios'!$B$7:$C$5000,2,0))","v":""}]
[null,null,"",null,null,null,null,{"$f":"IF(G932=\"\",\"\",VLOOKUP(G932,'Lista de precios'!$B$7:$C$5000,2,0))","v":""}]
[null,null,"",null,null,null,null,{"$f":"IF(G933=\"\",\"\",VLOOKUP(G933,'Lista de precios'!$B$7:$C$5000,2,0))","v":""}]
[null,null,"",null,null,null,null,{"$f":"IF(G934=\"\",\"\",VLOOKUP(G934,'Lista de precios'!$B$7:$C$5000,2,0))","v":""}]
[null,null,"",null,null,null,null,{"$f":"IF(G935=\"\",\"\",VLOOKUP(G935,'Lista de precios'!$B$7:$C$5000,2,0))","v":""}]
[null,null,"",null,null,null,null,{"$f":"IF(G936=\"\",\"\",VLOOKUP(G936,'Lista de precios'!$B$7:$C$5000,2,0))","v":""}]
[null,null,"",null,null,null,null,{"$f":"IF(G937=\"\",\"\",VLOOKUP(G937,'Lista de precios'!$B$7:$C$5000,2,0))","v":""}]
[null,null,"",null,null,null,null,{"$f":"IF(G938=\"\",\"\",VLOOKUP(G938,'Lista de precios'!$B$7:$C$5000,2,0))","v":""}]
[null,null,"",null,null,null,null,{"$f":"IF(G939=\"\",\"\",VLOOKUP(G939,'Lista de precios'!$B$7:$C$5000,2,0))","v":""}]
[null,null,"",null,null,null,null,{"$f":"IF(G940=\"\",\"\",VLOOKUP(G940,'Lista de precios'!$B$7:$C$5000,2,0))","v":""}]
[null,null,"",null,null,null,null,{"$f":"IF(G941=\"\",\"\",VLOOKUP(G941,'Lista de precios'!$B$7:$C$5000,2,0))","v":""}]
[null,null,"",null,null,null,null,{"$f":"IF(G942=\"\",\"\",VLOOKUP(G942,'Lista de precios'!$B$7:$C$5000,2,0))","v":""}]
[null,null,"",null,null,null,null,{"$f":"IF(G943=\"\",\"\",VLOOKUP(G943,'Lista de precios'!$B$7:$C$5000,2,0))","v":""}]
[null,null,"",null,null,null,null,{"$f":"IF(G944=\"\",\"\",VLOOKUP(G944,'Lista de precios'!$B$7:$C$5000,2,0))","v":""}]
[null,null,"",null,null,null,null,{"$f":"IF(G945=\"\",\"\",VLOOKUP(G945,'Lista de precios'!$B$7:$C$5000,2,0))","v":""}]
[null,null,"",null,null,null,null,{"$f":"IF(G946=\"\",\"\",VLOOKUP(G946,'Lista de precios'!$B$7:$C$5000,2,0))","v":""}]
[null,null,"",null,null,null,null,{"$f":"IF(G947=\"\",\"\",VLOOKUP(G947,'Lista de precios'!$B$7:$C$5000,2,0))","v":""}]
[null,null,"",null,null,null,null,{"$f":"IF(G948=\"\",\"\",VLOOKUP(G948,'Lista de precios'!$B$7:$C$5000,2,0))","v":""}]
[null,null,"",null,null,null,null,{"$f":"IF(G949=\"\",\"\",VLOOKUP(G949,'Lista de precios'!$B$7:$C$5000,2,0))","v":""}]
[null,null,"",null,null,null,null,{"$f":"IF(G950=\"\",\"\",VLOOKUP(G950,'Lista de precios'!$B$7:$C$5000,2,0))","v":""}]
[null,null,"",null,null,null,null,{"$f":"IF(G951=\"\",\"\",VLOOKUP(G951,'Lista de precios'!$B$7:$C$5000,2,0))","v":""}]
[null,null,"",null,null,null,null,{"$f":"IF(G952=\"\",\"\",VLOOKUP(G952,'Lista de precios'!$B$7:$C$5000,2,0))","v":""}]
[null,null,"",null,null,null,null,{"$f":"IF(G953=\"\",\"\",VLOOKUP(G953,'Lista de precios'!$B$7:$C$5000,2,0))","v":""}]
[null,null,"",null,null,null,null,{"$f":"IF(G954=\"\",\"\",VLOOKUP(G954,'Lista de precios'!$B$7:$C$5000,2,0))","v":""}]
[null,null,"",null,null,null,null,{"$f":"IF(G955=\"\",\"\",VLOOKUP(G955,'Lista de precios'!$B$7:$C$5000,2,0))","v":""}]
[null,null,"",null,null,null,null,{"$f":"IF(G956=\"\",\"\",VLOOKUP(G956,'Lista de precios'!$B$7:$C$5000,2,0))","v":""}]
[null,null,"",null,null,null,null,{"$f":"IF(G957=\"\",\"\",VLOOKUP(G957,'Lista de precios'!$B$7:$C$5000,2,0))","v":""}]
[null,null,"",null,null,null,null,{"$f":"IF(G958=\"\",\"\",VLOOKUP(G958,'Lista de precios'!$B$7:$C$5000,2,0))","v":""}]
[null,null,"",null,null,null,null,{"$f":"IF(G959=\"\",\"\",VLOOKUP(G959,'Lista de precios'!$B$7:$C$5000,2,0))","v":""}]
[null,null,"",null,null,null,null,{"$f":"IF(G960=\"\",\"\",VLOOKUP(G960,'Lista de precios'!$B$7:$C$5000,2,0))","v":""}]
[null,null,"",null,null,null,null,{"$f":"IF(G961=\"\",\"\",VLOOKUP(G961,'Lista de precios'!$B$7:$C$5000,2,0))","v":""}]
[null,null,"",null,null,null,null,{"$f":"IF(G962=\"\",\"\",VLOOKUP(G962,'Lista de precios'!$B$7:$C$5000,2,0))","v":""}]
[null,null,"",null,null,null,null,{"$f":"IF(G963=\"\",\"\",VLOOKUP(G963,'Lista de precios'!$B$7:$C$5000,2,0))","v":""}]
[null,null,"",null,null,null,null,{"$f":"IF(G964=\"\",\"\",VLOOKUP(G964,'Lista de precios'!$B$7:$C$5000,2,0))","v":""}]
[null,null,"",null,null,null,null,{"$f":"IF(G965=\"\",\"\",VLOOKUP(G965,'Lista de precios'!$B$7:$C$5000,2,0))","v":""}]
[null,null,"",null,null,null,null,{"$f":"IF(G966=\"\",\"\",VLOOKUP(G966,'Lista de precios'!$B$7:$C$5000,2,0))","v":""}]
[null,null,"",null,null,null,null,{"$f":"IF(G967=\"\",\"\",VLOOKUP(G967,'Lista de precios'!$B$7:$C$5000,2,0))","v":""}]
[null,null,"",null,null,null,null,{"$f":"IF(G968=\"\",\"\",VLOOKUP(G968,'Lista de precios'!$B$7:$C$5000,2,0))","v":""}]
[null,null,"",null,null,null,null,{"$f":"IF(G969=\"\",\"\",VLOOKUP(G969,'Lista de precios'!$B$7:$C$5000,2,0))","v":""}]
[null,null,"",null,null,null,null,{"$f":"IF(G970=\"\",\"\",VLOOKUP(G970,'Lista de precios'!$B$7:$C$5000,2,0))","v":""}]
[null,null,"",null,null,null,null,{"$f":"IF(G971=\"\",\"\",VLOOKUP(G971,'Lista de precios'!$B$7:$C$5000,2,0))","v":""}]
[null,null,"",null,null,null,null,{"$f":"IF(G972=\"\",\"\",VLOOKUP(G972,'Lista de precios'!$B$7:$C$5000,2,0))","v":""}]
[null,null,"",null,null,null,null,{"$f":"IF(G973=\"\",\"\",VLOOKUP(G973,'Lista de precios'!$B$7:$C$5000,2,0))","v":""}]
[null,null,"",null,null,null,null,{"$f":"IF(G974=\"\",\"\",VLOOKUP(G974,'Lista de precios'!$B$7:$C$5000,2,0))","v":""}]
[null,null,"",null,null,null,null,{"$f":"IF(G975=\"\",\"\",VLOOKUP(G975,'Lista de precios'!$B$7:$C$5000,2,0))","v":""}]
[null,null,"",null,null,null,null,{"$f":"IF(G976=\"\",\"\",VLOOKUP(G976,'Lista de precios'!$B$7:$C$5000,2,0))","v":""}]
[null,null,"",null,null,null,null,{"$f":"IF(G977=\"\",\"\",VLOOKUP(G977,'Lista de precios'!$B$7:$C$5000,2,0))","v":""}]
[null,null,"",null,null,null,null,{"$f":"IF(G978=\"\",\"\",VLOOKUP(G978,'Lista de precios'!$B$7:$C$5000,2,0))","v":""}]
[null,null,"",null,null,null,null,{"$f":"IF(G979=\"\",\"\",VLOOKUP(G979,'Lista de precios'!$B$7:$C$5000,2,0))","v":""}]
[null,null,"",null,null,null,null,{"$f":"IF(G980=\"\",\"\",VLOOKUP(G980,'Lista de precios'!$B$7:$C$5000,2,0))","v":""}]
[null,null,{"$f":"IF(B981=\"\",\"\",TEXT(B981,\"Mmmm\"))","v":""},null,null,null,null,{"$f":"IF(G981=\"\",\"\",VLOOKUP(G981,'Lista de precios'!$B$7:$C$5000,2,0))","v":""}]
[null,null,"",null,null,null,null,{"$f":"IF(G982=\"\",\"\",VLOOKUP(G982,'Lista de precios'!$B$7:$C$5000,2,0))","v":""}]
[null,null,"",null,null,null,null,{"$f":"IF(G983=\"\",\"\",VLOOKUP(G983,'Lista de precios'!$B$7:$C$5000,2,0))","v":""}]
[null,null,"",null,null,null,null,{"$f":"IF(G984=\"\",\"\",VLOOKUP(G984,'Lista de precios'!$B$7:$C$5000,2,0))","v":""}]
[null,null,"",null,null,null,null,{"$f":"IF(G985=\"\",\"\",VLOOKUP(G985,'Lista de precios'!$B$7:$C$5000,2,0))","v":""}]
[null,null,"",null,null,null,null,{"$f":"IF(G986=\"\",\"\",VLOOKUP(G986,'Lista de precios'!$B$7:$C$5000,2,0))","v":""}]
[null,null,"",null,null,null,null,{"$f":"IF(G987=\"\",\"\",VLOOKUP(G987,'Lista de precios'!$B$7:$C$5000,2,0))","v":""}]
[null,null,"",null,null,null,null,{"$f":"IF(G988=\"\",\"\",VLOOKUP(G988,'Lista de precios'!$B$7:$C$5000,2,0))","v":""}]
[null,null,"",null,null,null,null,{"$f":"IF(G989=\"\",\"\",VLOOKUP(G989,'Lista de precios'!$B$7:$C$5000,2,0))","v":""}]
[null,null,"",null,null,null,null,{"$f":"IF(G990=\"\",\"\",VLOOKUP(G990,'Lista de precios'!$B$7:$C$5000,2,0))","v":""}]
[null,null,"",null,null,null,null,{"$f":"IF(G991=\"\",\"\",VLOOKUP(G991,'Lista de precios'!$B$7:$C$5000,2,0))","v":""}]
[null,null,"",null,null,null,null,{"$f":"IF(G992=\"\",\"\",VLOOKUP(G992,'Lista de precios'!$B$7:$C$5000,2,0))","v":""}]
[null,null,"",null,null,null,null,{"$f":"IF(G993=\"\",\"\",VLOOKUP(G993,'Lista de precios'!$B$7:$C$5000,2,0))","v":""}]
[null,null,"",null,null,null,null,{"$f":"IF(G994=\"\",\"\",VLOOKUP(G994,'Lista de precios'!$B$7:$C$5000,2,0))","v":""}]
[null,null,"",null,null,null,null,{"$f":"IF(G995=\"\",\"\",VLOOKUP(G995,'Lista de precios'!$B$7:$C$5000,2,0))","v":""}]
[null,null,"",null,null,null,null,{"$f":"IF(G996=\"\",\"\",VLOOKUP(G996,'Lista de precios'!$B$7:$C$5000,2,0))","v":""}]
[null,null,"",null,null,null,null,{"$f":"IF(G997=\"\",\"\",VLOOKUP(G997,'Lista de precios'!$B$7:$C$5000,2,0))","v":""}]
[null,null,"",null,null,null,null,{"$f":"IF(G998=\"\",\"\",VLOOKUP(G998,'Lista de precios'!$B$7:$C$5000,2,0))","v":""}]
[null,null,"",null,null,null,null,{"$f":"IF(G999=\"\",\"\",VLOOKUP(G999,'Lista de precios'!$B$7:$C$5000,2,0))","v":""}]
[null,null,"",null,null,null,null,{"$f":"IF(G1000=\"\",\"\",VLOOKUP(G1000,'Lista de precios'!$B$7:$C$5000,2,0))","v":""}]
[null,null,"",null,null,null,null,{"$f":"IF(G1001=\"\",\"\",VLOOKUP(G1001,'Lista de precios'!$B$7:$C$5000,2,0))","v":""}]
[null,null,"",null,null,null,null,{"$f":"IF(G1002=\"\",\"\",VLOOKUP(G1002,'Lista de precios'!$B$7:$C$5000,2,0))","v":""}]
[null,null,"",null,null,null,null,{"$f":"IF(G1003=\"\",\"\",VLOOKUP(G1003,'Lista de precios'!$B$7:$C$5000,2,0))","v":""}]
[null,null,"",null,null,null,null,{"$f":"IF(G1004=\"\",\"\",VLOOKUP(G1004,'Lista de precios'!$B$7:$C$5000,2,0))","v":""}]
[null,null,"",null,null,null,null,{"$f":"IF(G1005=\"\",\"\",VLOOKUP(G1005,'Lista de precios'!$B$7:$C$5000,2,0))","v":""}]
[null,null,"",null,null,null,null,{"$f":"IF(G1006=\"\",\"\",VLOOKUP(G1006,'Lista de precios'!$B$7:$C$5000,2,0))","v":""}]
[null,null,"",null,null,null,null,{"$f":"IF(G1007=\"\",\"\",VLOOKUP(G1007,'Lista de precios'!$B$7:$C$5000,2,0))","v":""}]
[null,null,"",null,null,null,null,{"$f":"IF(G1008=\"\",\"\",VLOOKUP(G1008,'Lista de precios'!$B$7:$C$5000,2,0))","v":""}]
[null,null,"",null,null,null,null,{"$f":"IF(G1009=\"\",\"\",VLOOKUP(G1009,'Lista de precios'!$B$7:$C$5000,2,0))","v":""}]
[null,null,"",null,null,null,null,{"$f":"IF(G1010=\"\",\"\",VLOOKUP(G1010,'Lista de precios'!$B$7:$C$5000,2,0))","v":""}]
[null,null,"",null,null,null,null,{"$f":"IF(G1011=\"\",\"\",VLOOKUP(G1011,'Lista de precios'!$B$7:$C$5000,2,0))","v":""}]
[null,null,"",null,null,null,null,{"$f":"IF(G1012=\"\",\"\",VLOOKUP(G1012,'Lista de precios'!$B$7:$C$5000,2,0))","v":""}]
[null,null,"",null,null,null,null,{"$f":"IF(G1013=\"\",\"\",VLOOKUP(G1013,'Lista de precios'!$B$7:$C$5000,2,0))","v":""}]
[null,null,"",null,null,null,null,{"$f":"IF(G1014=\"\",\"\",VLOOKUP(G1014,'Lista de precios'!$B$7:$C$5000,2,0))","v":""}]
[null,null,"",null,null,null,null,{"$f":"IF(G1015=\"\",\"\",VLOOKUP(G1015,'Lista de precios'!$B$7:$C$5000,2,0))","v":""}]
[null,null,"",null,null,null,null,{"$f":"IF(G1016=\"\",\"\",VLOOKUP(G1016,'Lista de precios'!$B$7:$C$5000,2,0))","v":""}]
[null,null,"",null,null,null,null,{"$f":"IF(G1017=\"\",\"\",VLOOKUP(G1017,'Lista de precios'!$B$7:$C$5000,2,0))","v":""}]
[null,null,"",null,null,null,null,{"$f":"IF(G1018=\"\",\"\",VLOOKUP(G1018,'Lista de precios'!$B$7:$C$5000,2,0))","v":""}]
[null,null,"",null,null,null,null,{"$f":"IF(G1019=\"\",\"\",VLOOKUP(G1019,'Lista de precios'!$B$7:$C$5000,2,0))","v":""}]
[null,null,"",null,null,null,null,{"$f":"IF(G1020=\"\",\"\",VLOOKUP(G1020,'Lista de precios'!$B$7:$C$5000,2,0))","v":""}]
[null,null,"",null,null,null,null,{"$f":"IF(G1021=\"\",\"\",VLOOKUP(G1021,'Lista de precios'!$B$7:$C$5000,2,0))","v":""}]
[null,null,"",null,null,null,null,{"$f":"IF(G1022=\"\",\"\",VLOOKUP(G1022,'Lista de precios'!$B$7:$C$5000,2,0))","v":""}]
[null,null,"",null,null,null,null,{"$f":"IF(G1023=\"\",\"\",VLOOKUP(G1023,'Lista de precios'!$B$7:$C$5000,2,0))","v":""}]
[null,null,"",null,null,null,null,{"$f":"IF(G1024=\"\",\"\",VLOOKUP(G1024,'Lista de precios'!$B$7:$C$5000,2,0))","v":""}]
[null,null,"",null,null,null,null,{"$f":"IF(G1025=\"\",\"\",VLOOKUP(G1025,'Lista de precios'!$B$7:$C$5000,2,0))","v":""}]
[null,null,"",null,null,null,null,{"$f":"IF(G1026=\"\",\"\",VLOOKUP(G1026,'Lista de precios'!$B$7:$C$5000,2,0))","v":""}]
[null,null,"",null,null,null,null,{"$f":"IF(G1027=\"\",\"\",VLOOKUP(G1027,'Lista de precios'!$B$7:$C$5000,2,0))","v":""}]
[null,null,"",null,null,null,null,{"$f":"IF(G1028=\"\",\"\",VLOOKUP(G1028,'Lista de precios'!$B$7:$C$5000,2,0))","v":""}]
[null,null,"",null,null,null,null,{"$f":"IF(G1029=\"\",\"\",VLOOKUP(G1029,'Lista de precios'!$B$7:$C$5000,2,0))","v":""}]
[null,null,"",null,null,null,null,{"$f":"IF(G1030=\"\",\"\",VLOOKUP(G1030,'Lista de precios'!$B$7:$C$5000,2,0))","v":""}]
[null,null,"",null,null,null,null,{"$f":"IF(G1031=\"\",\"\",VLOOKUP(G1031,'Lista de precios'!$B$7:$C$5000,2,0))","v":""}]
[null,null,"",null,null,null,null,{"$f":"IF(G1032=\"\",\"\",VLOOKUP(G1032,'Lista de precios'!$B$7:$C$5000,2,0))","v":""}]
[null,null,"",null,null,null,null,{"$f":"IF(G1033=\"\",\"\",VLOOKUP(G1033,'Lista de precios'!$B$7:$C$5000,2,0))","v":""}]
[null,null,"",null,null,null,null,{"$f":"IF(G1034=\"\",\"\",VLOOKUP(G1034,'Lista de precios'!$B$7:$C$5000,2,0))","v":""}]
[null,null,"",null,null,null,null,{"$f":"IF(G1035=\"\",\"\",VLOOKUP(G1035,'Lista de precios'!$B$7:$C$5000,2,0))","v":""}]
[null,null,{"$f":"IF(B1036=\"\",\"\",TEXT(B1036,\"Mmmm\"))","v":""},null,null,null,null,{"$f":"IF(G1036=\"\",\"\",VLOOKUP(G1036,'Lista de precios'!$B$7:$C$5000,2,0))","v":""}]
[null,null,"",null,null,null,null,{"$f":"IF(G1037=\"\",\"\",VLOOKUP(G1037,'Lista de precios'!$B$7:$C$5000,2,0))","v":""}]
[null,null,"",null,null,null,null,{"$f":"IF(G1038=\"\",\"\",VLOOKUP(G1038,'Lista de precios'!$B$7:$C$5000,2,0))","v":""}]
[null,null,"",null,null,null,null,{"$f":"IF(G1039=\"\",\"\",VLOOKUP(G1039,'Lista de precios'!$B$7:$C$5000,2,0))","v":""}]
[null,null,"",null,null,null,null,{"$f":"IF(G1040=\"\",\"\",VLOOKUP(G1040,'Lista de precios'!$B$7:$C$5000,2,0))","v":""}]
[null,null,"",null,null,null,null,{"$f":"IF(G1041=\"\",\"\",VLOOKUP(G1041,'Lista de precios'!$B$7:$C$5000,2,0))","v":""}]
[null,null,"",null,null,null,null,{"$f":"IF(G1042=\"\",\"\",VLOOKUP(G1042,'Lista de precios'!$B$7:$C$5000,2,0))","v":""}]
[null,null,"",null,null,null,null,{"$f":"IF(G1043=\"\",\"\",VLOOKUP(G1043,'Lista de precios'!$B$7:$C$5000,2,0))","v":""}]
[null,null,"",null,null,null,null,{"$f":"IF(G1044=\"\",\"\",VLOOKUP(G1044,'Lista de precios'!$B$7:$C$5000,2,0))","v":""}]
[null,null,"",null,null,null,null,{"$f":"IF(G1045=\"\",\"\",VLOOKUP(G1045,'Lista de precios'!$B$7:$C$5000,2,0))","v":""}]
[null,null,"",null,null,null,null,{"$f":"IF(G1046=\"\",\"\",VLOOKUP(G1046,'Lista de precios'!$B$7:$C$5000,2,0))","v":""}]
[null,null,"",null,null,null,null,{"$f":"IF(G1047=\"\",\"\",VLOOKUP(G1047,'Lista de precios'!$B$7:$C$5000,2,0))","v":""}]
[null,null,"",null,null,null,null,{"$f":"IF(G1048=\"\",\"\",VLOOKUP(G1048,'Lista de precios'!$B$7:$C$5000,2,0))","v":""}]
[null,null,"",null,null,null,null,{"$f":"IF(G1049=\"\",\"\",VLOOKUP(G1049,'Lista de precios'!$B$7:$C$5000,2,0))","v":""}]
[null,null,"",null,null,null,null,{"$f":"IF(G1050=\"\",\"\",VLOOKUP(G1050,'Lista de precios'!$B$7:$C$5000,2,0))","v":""}]
[null,null,"",null,null,null,null,{"$f":"IF(G1051=\"\",\"\",VLOOKUP(G1051,'Lista de precios'!$B$7:$C$5000,2,0))","v":""}]
[null,null,"",null,null,null,null,{"$f":"IF(G1052=\"\",\"\",VLOOKUP(G1052,'Lista de precios'!$B$7:$C$5000,2,0))","v":""}]
[null,null,"",null,null,null,null,{"$f":"IF(G1053=\"\",\"\",VLOOKUP(G1053,'Lista de precios'!$B$7:$C$5000,2,0))","v":""}]
[null,null,"",null,null,null,null,{"$f":"IF(G1054=\"\",\"\",VLOOKUP(G1054,'Lista de precios'!$B$7:$C$5000,2,0))","v":""}]
[null,null,"",null,null,null,null,{"$f":"IF(G1055=\"\",\"\",VLOOKUP(G1055,'Lista de precios'!$B$7:$C$5000,2,0))","v":""}]
[null,null,"",null,null,null,null,{"$f":"IF(G1056=\"\",\"\",VLOOKUP(G1056,'Lista de precios'!$B$7:$C$5000,2,0))","v":""}]
[null,null,"",null,null,null,null,{"$f":"IF(G1057=\"\",\"\",VLOOKUP(G1057,'Lista de precios'!$B$7:$C$5000,2,0))","v":""}]
[null,null,"",null,null,null,null,{"$f":"IF(G1058=\"\",\"\",VLOOKUP(G1058,'Lista de precios'!$B$7:$C$5000,2,0))","v":""}]
[null,null,"",null,null,null,null,{"$f":"IF(G1059=\"\",\"\",VLOOKUP(G1059,'Lista de precios'!$B$7:$C$5000,2,0))","v":""}]
[null,null,"",null,null,null,null,{"$f":"IF(G1060=\"\",\"\",VLOOKUP(G1060,'Lista de precios'!$B$7:$C$5000,2,0))","v":""}]
[null,null,"",null,null,null,null,{"$f":"IF(G1061=\"\",\"\",VLOOKUP(G1061,'Lista de precios'!$B$7:$C$5000,2,0))","v":""}]
[null,null,"",null,null,null,null,{"$f":"IF(G1062=\"\",\"\",VLOOKUP(G1062,'Lista de precios'!$B$7:$C$5000,2,0))","v":""}]
[null,null,"",null,null,null,null,{"$f":"IF(G1063=\"\",\"\",VLOOKUP(G1063,'Lista de precios'!$B$7:$C$5000,2,0))","v":""}]
[null,null,"",null,null,null,null,{"$f":"IF(G1064=\"\",\"\",VLOOKUP(G1064,'Lista de precios'!$B$7:$C$5000,2,0))","v":""}]
[null,null,"",null,null,null,null,{"$f":"IF(G1065=\"\",\"\",VLOOKUP(G1065,'Lista de precios'!$B$7:$C$5000,2,0))","v":""}]
[null,null,"",null,null,null,null,{"$f":"IF(G1066=\"\",\"\",VLOOKUP(G1066,'Lista de precios'!$B$7:$C$5000,2,0))","v":""}]
[null,null,"",null,null,null,null,{"$f":"IF(G1067=\"\",\"\",VLOOKUP(G1067,'Lista de precios'!$B$7:$C$5000,2,0))","v":""}]
[null,null,"",null,null,null,null,{"$f":"IF(G1068=\"\",\"\",VLOOKUP(G1068,'Lista de precios'!$B$7:$C$5000,2,0))","v":""}]
[null,null,"",null,null,null,null,{"$f":"IF(G1069=\"\",\"\",VLOOKUP(G1069,'Lista de precios'!$B$7:$C$5000,2,0))","v":""}]
[null,null,"",null,null,null,null,{"$f":"IF(G1070=\"\",\"\",VLOOKUP(G1070,'Lista de precios'!$B$7:$C$5000,2,0))","v":""}]
[null,null,"",null,null,null,null,{"$f":"IF(G1071=\"\",\"\",VLOOKUP(G1071,'Lista de precios'!$B$7:$C$5000,2,0))","v":""}]
[null,null,"",null,null,null,null,{"$f":"IF(G1072=\"\",\"\",VLOOKUP(G1072,'Lista de precios'!$B$7:$C$5000,2,0))","v":""}]
[null,null,"",null,null,null,null,{"$f":"IF(G1073=\"\",\"\",VLOOKUP(G1073,'Lista de precios'!$B$7:$C$5000,2,0))","v":""}]
[null,null,"",null,null,null,null,{"$f":"IF(G1074=\"\",\"\",VLOOKUP(G1074,'Lista de precios'!$B$7:$C$5000,2,0))","v":""}]
[null,null,"",null,null,null,null,{"$f":"IF(G1075=\"\",\"\",VLOOKUP(G1075,'Lista de precios'!$B$7:$C$5000,2,0))","v":""}]
[null,null,"",null,null,null,null,{"$f":"IF(G1076=\"\",\"\",VLOOKUP(G1076,'Lista de precios'!$B$7:$C$5000,2,0))","v":""}]
[null,null,"",null,null,null,null,{"$f":"IF(G1077=\"\",\"\",VLOOKUP(G1077,'Lista de precios'!$B$7:$C$5000,2,0))","v":""}]
[null,null,"",null,null,null,null,{"$f":"IF(G1078=\"\",\"\",VLOOKUP(G1078,'Lista de precios'!$B$7:$C$5000,2,0))","v":""}]
[null,null,"",null,null,null,null,{"$f":"IF(G1079=\"\",\"\",VLOOKUP(G1079,'Lista de precios'!$B$7:$C$5000,2,0))","v":""}]
[null,null,"",null,null,null,null,{"$f":"IF(G1080=\"\",\"\",VLOOKUP(G1080,'Lista de precios'!$B$7:$C$5000,2,0))","v":""}]
[null,null,"",null,null,null,null,{"$f":"IF(G1081=\"\",\"\",VLOOKUP(G1081,'Lista de precios'!$B$7:$C$5000,2,0))","v":""}]
[null,null,"",null,null,null,null,{"$f":"IF(G1082=\"\",\"\",VLOOKUP(G1082,'Lista de precios'!$B$7:$C$5000,2,0))","v":""}]
[null,null,"",null,null,null,null,{"$f":"IF(G1083=\"\",\"\",VLOOKUP(G1083,'Lista de precios'!$B$7:$C$5000,2,0))","v":""}]
[null,null,"",null,null,null,null,{"$f":"IF(G1084=\"\",\"\",VLOOKUP(G1084,'Lista de precios'!$B$7:$C$5000,2,0))","v":""}]
[null,null,"",null,null,null,null,{"$f":"IF(G1085=\"\",\"\",VLOOKUP(G1085,'Lista de precios'!$B$7:$C$5000,2,0))","v":""}]
[null,null,"",null,null,null,null,{"$f":"IF(G1086=\"\",\"\",VLOOKUP(G1086,'Lista de precios'!$B$7:$C$5000,2,0))","v":""}]
[null,null,"",null,null,null,null,{"$f":"IF(G1087=\"\",\"\",VLOOKUP(G1087,'Lista de precios'!$B$7:$C$5000,2,0))","v":""}]
[null,null,"",null,null,null,null,{"$f":"IF(G1088=\"\",\"\",VLOOKUP(G1088,'Lista de precios'!$B$7:$C$5000,2,0))","v":""}]
[null,null,"",null,null,null,null,{"$f":"IF(G1089=\"\",\"\",VLOOKUP(G1089,'Lista de precios'!$B$7:$C$5000,2,0))","v":""}]
[null,null,"",null,null,null,null,{"$f":"IF(G1090=\"\",\"\",VLOOKUP(G1090,'Lista de precios'!$B$7:$C$5000,2,0))","v":""}]
[null,null,"",null,null,null,null,{"$f":"IF(G1091=\"\",\"\",VLOOKUP(G1091,'Lista de precios'!$B$7:$C$5000,2,0))","v":""}]
[null,null,"",null,null,null,null,{"$f":"IF(G1092=\"\",\"\",VLOOKUP(G1092,'Lista de precios'!$B$7:$C$5000,2,0))","v":""}]
[null,null,"",null,null,null,null,{"$f":"IF(G1093=\"\",\"\",VLOOKUP(G1093,'Lista de precios'!$B$7:$C$5000,2,0))","v":""}]
[null,null,"",null,null,null,null,{"$f":"IF(G1094=\"\",\"\",VLOOKUP(G1094,'Lista de precios'!$B$7:$C$5000,2,0))","v":""}]
[null,null,"",null,null,null,null,{"$f":"IF(G1095=\"\",\"\",VLOOKUP(G1095,'Lista de precios'!$B$7:$C$5000,2,0))","v":""}]
[null,null,"",null,null,null,null,{"$f":"IF(G1096=\"\",\"\",VLOOKUP(G1096,'Lista de precios'!$B$7:$C$5000,2,0))","v":""}]
[null,null,"",null,null,null,null,{"$f":"IF(G1097=\"\",\"\",VLOOKUP(G1097,'Lista de precios'!$B$7:$C$5000,2,0))","v":""}]
[null,null,"",null,null,null,null,{"$f":"IF(G1098=\"\",\"\",VLOOKUP(G1098,'Lista de precios'!$B$7:$C$5000,2,0))","v":""}]
[null,null,"",null,null,null,null,{"$f":"IF(G1099=\"\",\"\",VLOOKUP(G1099,'Lista de precios'!$B$7:$C$5000,2,0))","v":""}]
[null,null,{"$f":"IF(B1100=\"\",\"\",TEXT(B1100,\"Mmmm\"))","v":""},null,null,null,null,{"$f":"IF(G1100=\"\",\"\",VLOOKUP(G1100,'Lista de precios'!$B$7:$C$5000,2,0))","v":""}]
[null,null,"",null,null,null,null,{"$f":"IF(G1101=\"\",\"\",VLOOKUP(G1101,'Lista de precios'!$B$7:$C$5000,2,0))","v":""}]
[null,null,"",null,null,null,null,{"$f":"IF(G1102=\"\",\"\",VLOOKUP(G1102,'Lista de precios'!$B$7:$C$5000,2,0))","v":""}]
[null,null,"",null,null,null,null,{"$f":"IF(G1103=\"\",\"\",VLOOKUP(G1103,'Lista de precios'!$B$7:$C$5000,2,0))","v":""}]
[null,null,"",null,null,null,null,{"$f":"IF(G1104=\"\",\"\",VLOOKUP(G1104,'Lista de precios'!$B$7:$C$5000,2,0))","v":""}]
[null,null,"",null,null,null,null,{"$f":"IF(G1105=\"\",\"\",VLOOKUP(G1105,'Lista de precios'!$B$7:$C$5000,2,0))","v":""}]
[null,null,"",null,null,null,null,{"$f":"IF(G1106=\"\",\"\",VLOOKUP(G1106,'Lista de precios'!$B$7:$C$5000,2,0))","v":""}]
[null,null,"",null,null,null,null,{"$f":"IF(G1107=\"\",\"\",VLOOKUP(G1107,'Lista de precios'!$B$7:$C$5000,2,0))","v":""}]
[null,null,"",null,null,null,null,{"$f":"IF(G1108=\"\",\"\",VLOOKUP(G1108,'Lista de precios'!$B$7:$C$5000,2,0))","v":""}]
[null,null,"",null,null,null,null,{"$f":"IF(G1109=\"\",\"\",VLOOKUP(G1109,'Lista de precios'!$B$7:$C$5000,2,0))","v":""}]
[null,null,"",null,null,null,null,{"$f":"IF(G1110=\"\",\"\",VLOOKUP(G1110,'Lista de precios'!$B$7:$C$5000,2,0))","v":""}]
[null,null,"",null,null,null,null,{"$f":"IF(G1111=\"\",\"\",VLOOKUP(G1111,'Lista de precios'!$B$7:$C$5000,2,0))","v":""}]
[null,null,"",null,null,null,null,{"$f":"IF(G1112=\"\",\"\",VLOOKUP(G1112,'Lista de precios'!$B$7:$C$5000,2,0))","v":""}]
[null,null,"",null,null,null,null,{"$f":"IF(G1113=\"\",\"\",VLOOKUP(G1113,'Lista de precios'!$B$7:$C$5000,2,0))","v":""}]
[null,null,"",null,null,null,null,{"$f":"IF(G1114=\"\",\"\",VLOOKUP(G1114,'Lista de precios'!$B$7:$C$5000,2,0))","v":""}]
[null,null,"",null,null,null,null,{"$f":"IF(G1115=\"\",\"\",VLOOKUP(G1115,'Lista de precios'!$B$7:$C$5000,2,0))","v":""}]
[null,null,"",null,null,null,null,{"$f":"IF(G1116=\"\",\"\",VLOOKUP(G1116,'Lista de precios'!$B$7:$C$5000,2,0))","v":""}]
[null,null,"",null,null,null,null,{"$f":"IF(G1117=\"\",\"\",VLOOKUP(G1117,'Lista de precios'!$B$7:$C$5000,2,0))","v":""}]
[null,null,"",null,null,null,null,{"$f":"IF(G1118=\"\",\"\",VLOOKUP(G1118,'Lista de precios'!$B$7:$C$5000,2,0))","v":""}]
[null,null,"",null,null,null,null,{"$f":"IF(G1119=\"\",\"\",VLOOKUP(G1119,'Lista de precios'!$B$7:$C$5000,2,0))","v":""}]
[null,null,"",null,null,null,null,{"$f":"IF(G1120=\"\",\"\",VLOOKUP(G1120,'Lista de precios'!$B$7:$C$5000,2,0))","v":""}]
[null,null,"",null,null,null,null,{"$f":"IF(G1121=\"\",\"\",VLOOKUP(G1121,'Lista de precios'!$B$7:$C$5000,2,0))","v":""}]
[null,null,"",null,null,null,null,{"$f":"IF(G1122=\"\",\"\",VLOOKUP(G1122,'Lista de precios'!$B$7:$C$5000,2,0))","v":""}]
[null,null,"",null,null,null,null,{"$f":"IF(G1123=\"\",\"\",VLOOKUP(G1123,'Lista de precios'!$B$7:$C$5000,2,0))","v":""}]
[null,null,"",null,null,null,null,{"$f":"IF(G1124=\"\",\"\",VLOOKUP(G1124,'Lista de precios'!$B$7:$C$5000,2,0))","v":""}]
[null,null,"",null,null,null,null,{"$f":"IF(G1125=\"\",\"\",VLOOKUP(G1125,'Lista de precios'!$B$7:$C$5000,2,0))","v":""}]
[null,null,"",null,null,null,null,{"$f":"IF(G1126=\"\",\"\",VLOOKUP(G1126,'Lista de precios'!$B$7:$C$5000,2,0))","v":""}]
[null,null,"",null,null,null,null,{"$f":"IF(G1127=\"\",\"\",VLOOKUP(G1127,'Lista de precios'!$B$7:$C$5000,2,0))","v":""}]
[null,null,"",null,null,null,null,{"$f":"IF(G1128=\"\",\"\",VLOOKUP(G1128,'Lista de precios'!$B$7:$C$5000,2,0))","v":""}]
[null,null,"",null,null,null,null,{"$f":"IF(G1129=\"\",\"\",VLOOKUP(G1129,'Lista de precios'!$B$7:$C$5000,2,0))","v":""}]
[null,null,"",null,null,null,null,{"$f":"IF(G1130=\"\",\"\",VLOOKUP(G1130,'Lista de precios'!$B$7:$C$5000,2,0))","v":""}]
[null,null,"",null,null,null,null,{"$f":"IF(G1131=\"\",\"\",VLOOKUP(G1131,'Lista de precios'!$B$7:$C$5000,2,0))","v":""}]
[null,null,"",null,null,null,null,{"$f":"IF(G1132=\"\",\"\",VLOOKUP(G1132,'Lista de precios'!$B$7:$C$5000,2,0))","v":""}]
[null,null,"",null,null,null,null,{"$f":"IF(G1133=\"\",\"\",VLOOKUP(G1133,'Lista de precios'!$B$7:$C$5000,2,0))","v":""}]
[null,null,"",null,null,null,null,{"$f":"IF(G1134=\"\",\"\",VLOOKUP(G1134,'Lista de precios'!$B$7:$C$5000,2,0))","v":""}]
[null,null,"",null,null,null,null,{"$f":"IF(G1135=\"\",\"\",VLOOKUP(G1135,'Lista de precios'!$B$7:$C$5000,2,0))","v":""}]
[null,null,"",null,null,null,null,{"$f":"IF(G1136=\"\",\"\",VLOOKUP(G1136,'Lista de precios'!$B$7:$C$5000,2,0))","v":""}]
[null,null,"",null,null,null,null,{"$f":"IF(G1137=\"\",\"\",VLOOKUP(G1137,'Lista de precios'!$B$7:$C$5000,2,0))","v":""}]
[null,null,"",null,null,null,null,{"$f":"IF(G1138=\"\",\"\",VLOOKUP(G1138,'Lista de precios'!$B$7:$C$5000,2,0))","v":""}]
[null,null,"",null,null,null,null,{"$f":"IF(G1139=\"\",\"\",VLOOKUP(G1139,'Lista de precios'!$B$7:$C$5000,2,0))","v":""}]
[null,null,"",null,null,null,null,{"$f":"IF(G1140=\"\",\"\",VLOOKUP(G1140,'Lista de precios'!$B$7:$C$5000,2,0))","v":""}]
[null,null,"",null,null,null,null,{"$f":"IF(G1141=\"\",\"\",VLOOKUP(G1141,'Lista de precios'!$B$7:$C$5000,2,0))","v":""}]
[null,null,"",null,null,null,null,{"$f":"IF(G1142=\"\",\"\",VLOOKUP(G1142,'Lista de precios'!$B$7:$C$5000,2,0))","v":""}]
[null,null,"",null,null,null,null,{"$f":"IF(G1143=\"\",\"\",VLOOKUP(G1143,'Lista de precios'!$B$7:$C$5000,2,0))","v":""}]
[null,null,"",null,null,null,null,{"$f":"IF(G1144=\"\",\"\",VLOOKUP(G1144,'Lista de precios'!$B$7:$C$5000,2,0))","v":""}]
[null,null,"",null,null,null,null,{"$f":"IF(G1145=\"\",\"\",VLOOKUP(G1145,'Lista de precios'!$B$7:$C$5000,2,0))","v":""}]
[null,null,"",null,null,null,null,{"$f":"IF(G1146=\"\",\"\",VLOOKUP(G1146,'Lista de precios'!$B$7:$C$5000,2,0))","v":""}]
[null,null,"",null,null,null,null,{"$f":"IF(G1147=\"\",\"\",VLOOKUP(G1147,'Lista de precios'!$B$7:$C$5000,2,0))","v":""}]
[null,null,"",null,null,null,null,{"$f":"IF(G1148=\"\",\"\",VLOOKUP(G1148,'Lista de precios'!$B$7:$C$5000,2,0))","v":""}]
[null,null,"",null,null,null,null,{"$f":"IF(G1149=\"\",\"\",VLOOKUP(G1149,'Lista de precios'!$B$7:$C$5000,2,0))","v":""}]
[null,null,"",null,null,null,null,{"$f":"IF(G1150=\"\",\"\",VLOOKUP(G1150,'Lista de precios'!$B$7:$C$5000,2,0))","v":""}]
[null,null,"",null,null,null,null,{"$f":"IF(G1151=\"\",\"\",VLOOKUP(G1151,'Lista de precios'!$B$7:$C$5000,2,0))","v":""}]
[null,null,"",null,null,null,null,{"$f":"IF(G1152=\"\",\"\",VLOOKUP(G1152,'Lista de precios'!$B$7:$C$5000,2,0))","v":""}]
[null,null,"",null,null,null,null,{"$f":"IF(G1153=\"\",\"\",VLOOKUP(G1153,'Lista de precios'!$B$7:$C$5000,2,0))","v":""}]
[null,null,"",null,null,null,null,{"$f":"IF(G1154=\"\",\"\",VLOOKUP(G1154,'Lista de precios'!$B$7:$C$5000,2,0))","v":""}]
[null,null,"",null,null,null,null,{"$f":"IF(G1155=\"\",\"\",VLOOKUP(G1155,'Lista de precios'!$B$7:$C$5000,2,0))","v":""}]
[null,null,"",null,null,null,null,{"$f":"IF(G1156=\"\",\"\",VLOOKUP(G1156,'Lista de precios'!$B$7:$C$5000,2,0))","v":""}]
[null,null,"",null,null,null,null,{"$f":"IF(G1157=\"\",\"\",VLOOKUP(G1157,'Lista de precios'!$B$7:$C$5000,2,0))","v":""}]
[null,null,"",null,null,null,null,{"$f":"IF(G1158=\"\",\"\",VLOOKUP(G1158,'Lista de precios'!$B$7:$C$5000,2,0))","v":""}]
[null,null,"",null,null,null,null,{"$f":"IF(G1159=\"\",\"\",VLOOKUP(G1159,'Lista de precios'!$B$7:$C$5000,2,0))","v":""}]
[null,null,"",null,null,null,null,{"$f":"IF(G1160=\"\",\"\",VLOOKUP(G1160,'Lista de precios'!$B$7:$C$5000,2,0))","v":""}]
[null,null,"",null,null,null,null,{"$f":"IF(G1161=\"\",\"\",VLOOKUP(G1161,'Lista de precios'!$B$7:$C$5000,2,0))","v":""}]
[null,null,"",null,null,null,null,{"$f":"IF(G1162=\"\",\"\",VLOOKUP(G1162,'Lista de precios'!$B$7:$C$5000,2,0))","v":""}]
[null,null,"",null,null,null,null,{"$f":"IF(G1163=\"\",\"\",VLOOKUP(G1163,'Lista de precios'!$B$7:$C$5000,2,0))","v":""}]
[null,null,{"$f":"IF(B1164=\"\",\"\",TEXT(B1164,\"Mmmm\"))","v":""},null,null,null,null,{"$f":"IF(G1164=\"\",\"\",VLOOKUP(G1164,'Lista de precios'!$B$7:$C$5000,2,0))","v":""}]
[null,null,"",null,null,null,null,{"$f":"IF(G1165=\"\",\"\",VLOOKUP(G1165,'Lista de precios'!$B$7:$C$5000,2,0))","v":""}]
[null,null,"",null,null,null,null,{"$f":"IF(G1166=\"\",\"\",VLOOKUP(G1166,'Lista de precios'!$B$7:$C$5000,2,0))","v":""}]
[null,null,"",null,null,null,null,{"$f":"IF(G1167=\"\",\"\",VLOOKUP(G1167,'Lista de precios'!$B$7:$C$5000,2,0))","v":""}]
[null,null,"",null,null,null,null,{"$f":"IF(G1168=\"\",\"\",VLOOKUP(G1168,'Lista de precios'!$B$7:$C$5000,2,0))","v":""}]
[null,null,"",null,null,null,null,{"$f":"IF(G1169=\"\",\"\",VLOOKUP(G1169,'Lista de precios'!$B$7:$C$5000,2,0))","v":""}]
[null,null,"",null,null,null,null,{"$f":"IF(G1170=\"\",\"\",VLOOKUP(G1170,'Lista de precios'!$B$7:$C$5000,2,0))","v":""}]
[null,null,"",null,null,null,null,{"$f":"IF(G1171=\"\",\"\",VLOOKUP(G1171,'Lista de precios'!$B$7:$C$5000,2,0))","v":""}]
[null,null,"",null,null,null,null,{"$f":"IF(G1172=\"\",\"\",VLOOKUP(G1172,'Lista de precios'!$B$7:$C$5000,2,0))","v":""}]
[null,null,"",null,null,null,null,{"$f":"IF(G1173=\"\",\"\",VLOOKUP(G1173,'Lista de precios'!$B$7:$C$5000,2,0))","v":""}]
[null,null,"",null,null,null,null,{"$f":"IF(G1174=\"\",\"\",VLOOKUP(G1174,'Lista de precios'!$B$7:$C$5000,2,0))","v":""}]
[null,null,"",null,null,null,null,{"$f":"IF(G1175=\"\",\"\",VLOOKUP(G1175,'Lista de precios'!$B$7:$C$5000,2,0))","v":""}]
[null,null,"",null,null,null,null,{"$f":"IF(G1176=\"\",\"\",VLOOKUP(G1176,'Lista de precios'!$B$7:$C$5000,2,0))","v":""}]
[null,null,"",null,null,null,null,{"$f":"IF(G1177=\"\",\"\",VLOOKUP(G1177,'Lista de precios'!$B$7:$C$5000,2,0))","v":""}]
[null,null,"",null,null,null,null,{"$f":"IF(G1178=\"\",\"\",VLOOKUP(G1178,'Lista de precios'!$B$7:$C$5000,2,0))","v":""}]
[null,null,"",null,null,null,null,{"$f":"IF(G1179=\"\",\"\",VLOOKUP(G1179,'Lista de precios'!$B$7:$C$5000,2,0))","v":""}]
[null,null,"",null,null,null,null,{"$f":"IF(G1180=\"\",\"\",VLOOKUP(G1180,'Lista de precios'!$B$7:$C$5000,2,0))","v":""}]
[null,null,"",null,null,null,null,{"$f":"IF(G1181=\"\",\"\",VLOOKUP(G1181,'Lista de precios'!$B$7:$C$5000,2,0))","v":""}]
[null,null,"",null,null,null,null,{"$f":"IF(G1182=\"\",\"\",VLOOKUP(G1182,'Lista de precios'!$B$7:$C$5000,2,0))","v":""}]
[null,null,"",null,null,null,null,{"$f":"IF(G1183=\"\",\"\",VLOOKUP(G1183,'Lista de precios'!$B$7:$C$5000,2,0))","v":""}]
[null,null,"",null,null,null,null,{"$f":"IF(G1184=\"\",\"\",VLOOKUP(G1184,'Lista de precios'!$B$7:$C$5000,2,0))","v":""}]
[null,null,"",null,null,null,null,{"$f":"IF(G1185=\"\",\"\",VLOOKUP(G1185,'Lista de precios'!$B$7:$C$5000,2,0))","v":""}]
[null,null,"",null,null,null,null,{"$f":"IF(G1186=\"\",\"\",VLOOKUP(G1186,'Lista de precios'!$B$7:$C$5000,2,0))","v":""}]
[null,null,"",null,null,null,null,{"$f":"IF(G1187=\"\",\"\",VLOOKUP(G1187,'Lista de precios'!$B$7:$C$5000,2,0))","v":""}]
[null,null,"",null,null,null,null,{"$f":"IF(G1188=\"\",\"\",VLOOKUP(G1188,'Lista de precios'!$B$7:$C$5000,2,0))","v":""}]
[null,null,"",null,null,null,null,{"$f":"IF(G1189=\"\",\"\",VLOOKUP(G1189,'Lista de precios'!$B$7:$C$5000,2,0))","v":""}]
[null,null,"",null,null,null,null,{"$f":"IF(G1190=\"\",\"\",VLOOKUP(G1190,'Lista de precios'!$B$7:$C$5000,2,0))","v":""}]
[null,null,"",null,null,null,null,{"$f":"IF(G1191=\"\",\"\",VLOOKUP(G1191,'Lista de precios'!$B$7:$C$5000,2,0))","v":""}]
[null,null,"",null,null,null,null,{"$f":"IF(G1192=\"\",\"\",VLOOKUP(G1192,'Lista de precios'!$B$7:$C$5000,2,0))","v":""}]
[null,null,"",null,null,null,null,{"$f":"IF(G1193=\"\",\"\",VLOOKUP(G1193,'Lista de precios'!$B$7:$C$5000,2,0))","v":""}]
[null,null,"",null,null,null,null,{"$f":"IF(G1194=\"\",\"\",VLOOKUP(G1194,'Lista de precios'!$B$7:$C$5000,2,0))","v":""}]
[null,null,"",null,null,null,null,{"$f":"IF(G1195=\"\",\"\",VLOOKUP(G1195,'Lista de precios'!$B$7:$C$5000,2,0))","v":""}]
[null,null,"",null,null,null,null,{"$f":"IF(G1196=\"\",\"\",VLOOKUP(G1196,'Lista de precios'!$B$7:$C$5000,2,0))","v":""}]
[null,null,"",null,null,null,null,{"$f":"IF(G1197=\"\",\"\",VLOOKUP(G1197,'Lista de precios'!$B$7:$C$5000,2,0))","v":""}]
[null,null,"",null,null,null,null,{"$f":"IF(G1198=\"\",\"\",VLOOKUP(G1198,'Lista de precios'!$B$7:$C$5000,2,0))","v":""}]
[null,null,"",null,null,null,null,{"$f":"IF(G1199=\"\",\"\",VLOOKUP(G1199,'Lista de precios'!$B$7:$C$5000,2,0))","v":""}]
[null,null,"",null,null,null,null,{"$f":"IF(G1200=\"\",\"\",VLOOKUP(G1200,'Lista de precios'!$B$7:$C$5000,2,0))","v":""}]
[null,null,"",null,null,null,null,{"$f":"IF(G1201=\"\",\"\",VLOOKUP(G1201,'Lista de precios'!$B$7:$C$5000,2,0))","v":""}]
[null,null,"",null,null,null,null,{"$f":"IF(G1202=\"\",\"\",VLOOKUP(G1202,'Lista de precios'!$B$7:$C$5000,2,0))","v":""}]
[null,null,"",null,null,null,null,{"$f":"IF(G1203=\"\",\"\",VLOOKUP(G1203,'Lista de precios'!$B$7:$C$5000,2,0))","v":""}]
[null,null,"",null,null,null,null,{"$f":"IF(G1204=\"\",\"\",VLOOKUP(G1204,'Lista de precios'!$B$7:$C$5000,2,0))","v":""}]
[null,null,"",null,null,null,null,{"$f":"IF(G1205=\"\",\"\",VLOOKUP(G1205,'Lista de precios'!$B$7:$C$5000,2,0))","v":""}]
[null,null,"",null,null,null,null,{"$f":"IF(G1206=\"\",\"\",VLOOKUP(G1206,'Lista de precios'!$B$7:$C$5000,2,0))","v":""}]
[null,null,"",null,null,null,null,{"$f":"IF(G1207=\"\",\"\",VLOOKUP(G1207,'Lista de precios'!$B$7:$C$5000,2,0))","v":""}]
[null,null,"",null,null,null,null,{"$f":"IF(G1208=\"\",\"\",VLOOKUP(G1208,'Lista de precios'!$B$7:$C$5000,2,0))","v":""}]
[null,null,"",null,null,null,null,{"$f":"IF(G1209=\"\",\"\",VLOOKUP(G1209,'Lista de precios'!$B$7:$C$5000,2,0))","v":""}]
[null,null,"",null,null,null,null,{"$f":"IF(G1210=\"\",\"\",VLOOKUP(G1210,'Lista de precios'!$B$7:$C$5000,2,0))","v":""}]
[null,null,"",null,null,null,null,{"$f":"IF(G1211=\"\",\"\",VLOOKUP(G1211,'Lista de precios'!$B$7:$C$5000,2,0))","v":""}]
[null,null,"",null,null,null,null,{"$f":"IF(G1212=\"\",\"\",VLOOKUP(G1212,'Lista de precios'!$B$7:$C$5000,2,0))","v":""}]
[null,null,"",null,null,null,null,{"$f":"IF(G1213=\"\",\"\",VLOOKUP(G1213,'Lista de precios'!$B$7:$C$5000,2,0))","v":""}]
[null,null,"",null,null,null,null,{"$f":"IF(G1214=\"\",\"\",VLOOKUP(G1214,'Lista de precios'!$B$7:$C$5000,2,0))","v":""}]
[null,null,"",null,null,null,null,{"$f":"IF(G1215=\"\",\"\",VLOOKUP(G1215,'Lista de precios'!$B$7:$C$5000,2,0))","v":""}]
[null,null,"",null,null,null,null,{"$f":"IF(G1216=\"\",\"\",VLOOKUP(G1216,'Lista de precios'!$B$7:$C$5000,2,0))","v":""}]
[null,null,"",null,null,null,null,{"$f":"IF(G1217=\"\",\"\",VLOOKUP(G1217,'Lista de precios'!$B$7:$C$5000,2,0))","v":""}]
[null,null,"",null,null,null,null,{"$f":"IF(G1218=\"\",\"\",VLOOKUP(G1218,'Lista de precios'!$B$7:$C$5000,2,0))","v":""}]
[null,null,"",null,null,null,null,{"$f":"IF(G1219=\"\",\"\",VLOOKUP(G1219,'Lista de precios'!$B$7:$C$5000,2,0))","v":""}]
[null,null,"",null,null,null,null,{"$f":"IF(G1220=\"\",\"\",VLOOKUP(G1220,'Lista de precios'!$B$7:$C$5000,2,0))","v":""}]
[null,null,"",null,null,null,null,{"$f":"IF(G1221=\"\",\"\",VLOOKUP(G1221,'Lista de precios'!$B$7:$C$5000,2,0))","v":""}]
[null,null,"",null,null,null,null,{"$f":"IF(G1222=\"\",\"\",VLOOKUP(G1222,'Lista de precios'!$B$7:$C$5000,2,0))","v":""}]
[null,null,"",null,null,null,null,{"$f":"IF(G1223=\"\",\"\",VLOOKUP(G1223,'Lista de precios'!$B$7:$C$5000,2,0))","v":""}]
[null,null,"",null,null,null,null,{"$f":"IF(G1224=\"\",\"\",VLOOKUP(G1224,'Lista de precios'!$B$7:$C$5000,2,0))","v":""}]
[null,null,"",null,null,null,null,{"$f":"IF(G1225=\"\",\"\",VLOOKUP(G1225,'Lista de precios'!$B$7:$C$5000,2,0))","v":""}]
[null,null,"",null,null,null,null,{"$f":"IF(G1226=\"\",\"\",VLOOKUP(G1226,'Lista de precios'!$B$7:$C$5000,2,0))","v":""}]
[null,null,"",null,null,null,null,{"$f":"IF(G1227=\"\",\"\",VLOOKUP(G1227,'Lista de precios'!$B$7:$C$5000,2,0))","v":""}]
[null,null,{"$f":"IF(B1228=\"\",\"\",TEXT(B1228,\"Mmmm\"))","v":""},null,null,null,null,{"$f":"IF(G1228=\"\",\"\",VLOOKUP(G1228,'Lista de precios'!$B$7:$C$5000,2,0))","v":""}]
[null,null,"",null,null,null,null,{"$f":"IF(G1229=\"\",\"\",VLOOKUP(G1229,'Lista de precios'!$B$7:$C$5000,2,0))","v":""}]
[null,null,"",null,null,null,null,{"$f":"IF(G1230=\"\",\"\",VLOOKUP(G1230,'Lista de precios'!$B$7:$C$5000,2,0))","v":""}]
[null,null,"",null,null,null,null,{"$f":"IF(G1231=\"\",\"\",VLOOKUP(G1231,'Lista de precios'!$B$7:$C$5000,2,0))","v":""}]
[null,null,"",null,null,null,null,{"$f":"IF(G1232=\"\",\"\",VLOOKUP(G1232,'Lista de precios'!$B$7:$C$5000,2,0))","v":""}]
[null,null,"",null,null,null,null,{"$f":"IF(G1233=\"\",\"\",VLOOKUP(G1233,'Lista de precios'!$B$7:$C$5000,2,0))","v":""}]
[null,null,"",null,null,null,null,{"$f":"IF(G1234=\"\",\"\",VLOOKUP(G1234,'Lista de precios'!$B$7:$C$5000,2,0))","v":""}]
[null,null,"",null,null,null,null,{"$f":"IF(G1235=\"\",\"\",VLOOKUP(G1235,'Lista de precios'!$B$7:$C$5000,2,0))","v":""}]
[null,null,"",null,null,null,null,{"$f":"IF(G1236=\"\",\"\",VLOOKUP(G1236,'Lista de precios'!$B$7:$C$5000,2,0))","v":""}]
[null,null,"",null,null,null,null,{"$f":"IF(G1237=\"\",\"\",VLOOKUP(G1237,'Lista de precios'!$B$7:$C$5000,2,0))","v":""}]
[null,null,"",null,null,null,null,{"$f":"IF(G1238=\"\",\"\",VLOOKUP(G1238,'Lista de precios'!$B$7:$C$5000,2,0))","v":""}]
[null,null,"",null,null,null,null,{"$f":"IF(G1239=\"\",\"\",VLOOKUP(G1239,'Lista de precios'!$B$7:$C$5000,2,0))","v":""}]
[null,null,"",null,null,null,null,{"$f":"IF(G1240=\"\",\"\",VLOOKUP(G1240,'Lista de precios'!$B$7:$C$5000,2,0))","v":""}]
[null,null,"",null,null,null,null,{"$f":"IF(G1241=\"\",\"\",VLOOKUP(G1241,'Lista de precios'!$B$7:$C$5000,2,0))","v":""}]
[null,null,"",null,null,null,null,{"$f":"IF(G1242=\"\",\"\",VLOOKUP(G1242,'Lista de precios'!$B$7:$C$5000,2,0))","v":""}]
[null,null,"",null,null,null,null,{"$f":"IF(G1243=\"\",\"\",VLOOKUP(G1243,'Lista de precios'!$B$7:$C$5000,2,0))","v":""}]
[null,null,"",null,null,null,null,{"$f":"IF(G1244=\"\",\"\",VLOOKUP(G1244,'Lista de precios'!$B$7:$C$5000,2,0))","v":""}]
[null,null,"",null,null,null,null,{"$f":"IF(G1245=\"\",\"\",VLOOKUP(G1245,'Lista de precios'!$B$7:$C$5000,2,0))","v":""}]
[null,null,"",null,null,null,null,{"$f":"IF(G1246=\"\",\"\",VLOOKUP(G1246,'Lista de precios'!$B$7:$C$5000,2,0))","v":""}]
[null,null,"",null,null,null,null,{"$f":"IF(G1247=\"\",\"\",VLOOKUP(G1247,'Lista de precios'!$B$7:$C$5000,2,0))","v":""}]
[null,null,"",null,null,null,null,{"$f":"IF(G1248=\"\",\"\",VLOOKUP(G1248,'Lista de precios'!$B$7:$C$5000,2,0))","v":""}]
[null,null,"",null,null,null,null,{"$f":"IF(G1249=\"\",\"\",VLOOKUP(G1249,'Lista de precios'!$B$7:$C$5000,2,0))","v":""}]
[null,null,"",null,null,null,null,{"$f":"IF(G1250=\"\",\"\",VLOOKUP(G1250,'Lista de precios'!$B$7:$C$5000,2,0))","v":""}]
[null,null,"",null,null,null,null,{"$f":"IF(G1251=\"\",\"\",VLOOKUP(G1251,'Lista de precios'!$B$7:$C$5000,2,0))","v":""}]
[null,null,"",null,null,null,null,{"$f":"IF(G1252=\"\",\"\",VLOOKUP(G1252,'Lista de precios'!$B$7:$C$5000,2,0))","v":""}]
[null,null,"",null,null,null,null,{"$f":"IF(G1253=\"\",\"\",VLOOKUP(G1253,'Lista de precios'!$B$7:$C$5000,2,0))","v":""}]
[null,null,"",null,null,null,null,{"$f":"IF(G1254=\"\",\"\",VLOOKUP(G1254,'Lista de precios'!$B$7:$C$5000,2,0))","v":""}]
[null,null,"",null,null,null,null,{"$f":"IF(G1255=\"\",\"\",VLOOKUP(G1255,'Lista de precios'!$B$7:$C$5000,2,0))","v":""}]
[null,null,"",null,null,null,null,{"$f":"IF(G1256=\"\",\"\",VLOOKUP(G1256,'Lista de precios'!$B$7:$C$5000,2,0))","v":""}]
[null,null,"",null,null,null,null,{"$f":"IF(G1257=\"\",\"\",VLOOKUP(G1257,'Lista de precios'!$B$7:$C$5000,2,0))","v":""}]
[null,null,"",null,null,null,null,{"$f":"IF(G1258=\"\",\"\",VLOOKUP(G1258,'Lista de precios'!$B$7:$C$5000,2,0))","v":""}]
[null,null,"",null,null,null,null,{"$f":"IF(G1259=\"\",\"\",VLOOKUP(G1259,'Lista de precios'!$B$7:$C$5000,2,0))","v":""}]
[null,null,"",null,null,null,null,{"$f":"IF(G1260=\"\",\"\",VLOOKUP(G1260,'Lista de precios'!$B$7:$C$5000,2,0))","v":""}]
[null,null,"",null,null,null,null,{"$f":"IF(G1261=\"\",\"\",VLOOKUP(G1261,'Lista de precios'!$B$7:$C$5000,2,0))","v":""}]
[null,null,"",null,null,null,null,{"$f":"IF(G1262=\"\",\"\",VLOOKUP(G1262,'Lista de precios'!$B$7:$C$5000,2,0))","v":""}]
[null,null,"",null,null,null,null,{"$f":"IF(G1263=\"\",\"\",VLOOKUP(G1263,'Lista de precios'!$B$7:$C$5000,2,0))","v":""}]
[null,null,"",null,null,null,null,{"$f":"IF(G1264=\"\",\"\",VLOOKUP(G1264,'Lista de precios'!$B$7:$C$5000,2,0))","v":""}]
[null,null,"",null,null,null,null,{"$f":"IF(G1265=\"\",\"\",VLOOKUP(G1265,'Lista de precios'!$B$7:$C$5000,2,0))","v":""}]
[null,null,"",null,null,null,null,{"$f":"IF(G1266=\"\",\"\",VLOOKUP(G1266,'Lista de precios'!$B$7:$C$5000,2,0))","v":""}]
[null,null,"",null,null,null,null,{"$f":"IF(G1267=\"\",\"\",VLOOKUP(G1267,'Lista de precios'!$B$7:$C$5000,2,0))","v":""}]
[null,null,"",null,null,null,null,{"$f":"IF(G1268=\"\",\"\",VLOOKUP(G1268,'Lista de precios'!$B$7:$C$5000,2,0))","v":""}]
[null,null,"",null,null,null,null,{"$f":"IF(G1269=\"\",\"\",VLOOKUP(G1269,'Lista de precios'!$B$7:$C$5000,2,0))","v":""}]
[null,null,"",null,null,null,null,{"$f":"IF(G1270=\"\",\"\",VLOOKUP(G1270,'Lista de precios'!$B$7:$C$5000,2,0))","v":""}]
[null,null,"",null,null,null,null,{"$f":"IF(G1271=\"\",\"\",VLOOKUP(G1271,'Lista de precios'!$B$7:$C$5000,2,0))","v":""}]
[null,null,"",null,null,null,null,{"$f":"IF(G1272=\"\",\"\",VLOOKUP(G1272,'Lista de precios'!$B$7:$C$5000,2,0))","v":""}]
[null,null,"",null,null,null,null,{"$f":"IF(G1273=\"\",\"\",VLOOKUP(G1273,'Lista de precios'!$B$7:$C$5000,2,0))","v":""}]
[null,null,"",null,null,null,null,{"$f":"IF(G1274=\"\",\"\",VLOOKUP(G1274,'Lista de precios'!$B$7:$C$5000,2,0))","v":""}]
[null,null,"",null,null,null,null,{"$f":"IF(G1275=\"\",\"\",VLOOKUP(G1275,'Lista de precios'!$B$7:$C$5000,2,0))","v":""}]
[null,null,"",null,null,null,null,{"$f":"IF(G1276=\"\",\"\",VLOOKUP(G1276,'Lista de precios'!$B$7:$C$5000,2,0))","v":""}]
[null,null,"",null,null,null,null,{"$f":"IF(G1277=\"\",\"\",VLOOKUP(G1277,'Lista de precios'!$B$7:$C$5000,2,0))","v":""}]
[null,null,"",null,null,null,null,{"$f":"IF(G1278=\"\",\"\",VLOOKUP(G1278,'Lista de precios'!$B$7:$C$5000,2,0))","v":""}]
[null,null,"",null,null,null,null,{"$f":"IF(G1279=\"\",\"\",VLOOKUP(G1279,'Lista de precios'!$B$7:$C$5000,2,0))","v":""}]
[null,null,"",null,null,null,null,{"$f":"IF(G1280=\"\",\"\",VLOOKUP(G1280,'Lista de precios'!$B$7:$C$5000,2,0))","v":""}]
[null,null,"",null,null,null,null,{"$f":"IF(G1281=\"\",\"\",VLOOKUP(G1281,'Lista de precios'!$B$7:$C$5000,2,0))","v":""}]
[null,null,"",null,null,null,null,{"$f":"IF(G1282=\"\",\"\",VLOOKUP(G1282,'Lista de precios'!$B$7:$C$5000,2,0))","v":""}]
[null,null,"",null,null,null,null,{"$f":"IF(G1283=\"\",\"\",VLOOKUP(G1283,'Lista de precios'!$B$7:$C$5000,2,0))","v":""}]
[null,null,"",null,null,null,null,{"$f":"IF(G1284=\"\",\"\",VLOOKUP(G1284,'Lista de precios'!$B$7:$C$5000,2,0))","v":""}]
[null,null,"",null,null,null,null,{"$f":"IF(G1285=\"\",\"\",VLOOKUP(G1285,'Lista de precios'!$B$7:$C$5000,2,0))","v":""}]
[null,null,"",null,null,null,null,{"$f":"IF(G1286=\"\",\"\",VLOOKUP(G1286,'Lista de precios'!$B$7:$C$5000,2,0))","v":""}]
[null,null,"",null,null,null,null,{"$f":"IF(G1287=\"\",\"\",VLOOKUP(G1287,'Lista de precios'!$B$7:$C$5000,2,0))","v":""}]
[null,null,"",null,null,null,null,{"$f":"IF(G1288=\"\",\"\",VLOOKUP(G1288,'Lista de precios'!$B$7:$C$5000,2,0))","v":""}]
[null,null,"",null,null,null,null,{"$f":"IF(G1289=\"\",\"\",VLOOKUP(G1289,'Lista de precios'!$B$7:$C$5000,2,0))","v":""}]
[null,null,"",null,null,null,null,{"$f":"IF(G1290=\"\",\"\",VLOOKUP(G1290,'Lista de precios'!$B$7:$C$5000,2,0))","v":""}]
[null,null,"",null,null,null,null,{"$f":"IF(G1291=\"\",\"\",VLOOKUP(G1291,'Lista de precios'!$B$7:$C$5000,2,0))","v":""}]
[null,null,{"$f":"IF(B1292=\"\",\"\",TEXT(B1292,\"Mmmm\"))","v":""},null,null,null,null,{"$f":"IF(G1292=\"\",\"\",VLOOKUP(G1292,'Lista de precios'!$B$7:$C$5000,2,0))","v":""}]
[null,null,"",null,null,null,null,{"$f":"IF(G1293=\"\",\"\",VLOOKUP(G1293,'Lista de precios'!$B$7:$C$5000,2,0))","v":""}]
[null,null,"",null,null,null,null,{"$f":"IF(G1294=\"\",\"\",VLOOKUP(G1294,'Lista de precios'!$B$7:$C$5000,2,0))","v":""}]
[null,null,"",null,null,null,null,{"$f":"IF(G1295=\"\",\"\",VLOOKUP(G1295,'Lista de precios'!$B$7:$C$5000,2,0))","v":""}]
[null,null,"",null,null,null,null,{"$f":"IF(G1296=\"\",\"\",VLOOKUP(G1296,'Lista de precios'!$B$7:$C$5000,2,0))","v":""}]
[null,null,"",null,null,null,null,{"$f":"IF(G1297=\"\",\"\",VLOOKUP(G1297,'Lista de precios'!$B$7:$C$5000,2,0))","v":""}]
[null,null,"",null,null,null,null,{"$f":"IF(G1298=\"\",\"\",VLOOKUP(G1298,'Lista de precios'!$B$7:$C$5000,2,0))","v":""}]
[null,null,"",null,null,null,null,{"$f":"IF(G1299=\"\",\"\",VLOOKUP(G1299,'Lista de precios'!$B$7:$C$5000,2,0))","v":""}]
[null,null,"",null,null,null,null,{"$f":"IF(G1300=\"\",\"\",VLOOKUP(G1300,'Lista de precios'!$B$7:$C$5000,2,0))","v":""}]
[null,null,"",null,null,null,null,{"$f":"IF(G1301=\"\",\"\",VLOOKUP(G1301,'Lista de precios'!$B$7:$C$5000,2,0))","v":""}]
[null,null,"",null,null,null,null,{"$f":"IF(G1302=\"\",\"\",VLOOKUP(G1302,'Lista de precios'!$B$7:$C$5000,2,0))","v":""}]
[null,null,"",null,null,null,null,{"$f":"IF(G1303=\"\",\"\",VLOOKUP(G1303,'Lista de precios'!$B$7:$C$5000,2,0))","v":""}]
[null,null,"",null,null,null,null,{"$f":"IF(G1304=\"\",\"\",VLOOKUP(G1304,'Lista de precios'!$B$7:$C$5000,2,0))","v":""}]
[null,null,"",null,null,null,null,{"$f":"IF(G1305=\"\",\"\",VLOOKUP(G1305,'Lista de precios'!$B$7:$C$5000,2,0))","v":""}]
[null,null,"",null,null,null,null,{"$f":"IF(G1306=\"\",\"\",VLOOKUP(G1306,'Lista de precios'!$B$7:$C$5000,2,0))","v":""}]
[null,null,"",null,null,null,null,{"$f":"IF(G1307=\"\",\"\",VLOOKUP(G1307,'Lista de precios'!$B$7:$C$5000,2,0))","v":""}]
[null,null,"",null,null,null,null,{"$f":"IF(G1308=\"\",\"\",VLOOKUP(G1308,'Lista de precios'!$B$7:$C$5000,2,0))","v":""}]
[null,null,"",null,null,null,null,{"$f":"IF(G1309=\"\",\"\",VLOOKUP(G1309,'Lista de precios'!$B$7:$C$5000,2,0))","v":""}]
[null,null,"",null,null,null,null,{"$f":"IF(G1310=\"\",\"\",VLOOKUP(G1310,'Lista de precios'!$B$7:$C$5000,2,0))","v":""}]
[null,null,"",null,null,null,null,{"$f":"IF(G1311=\"\",\"\",VLOOKUP(G1311,'Lista de precios'!$B$7:$C$5000,2,0))","v":""}]
[null,null,"",null,null,null,null,{"$f":"IF(G1312=\"\",\"\",VLOOKUP(G1312,'Lista de precios'!$B$7:$C$5000,2,0))","v":""}]
[null,null,"",null,null,null,null,{"$f":"IF(G1313=\"\",\"\",VLOOKUP(G1313,'Lista de precios'!$B$7:$C$5000,2,0))","v":""}]
[null,null,"",null,null,null,null,{"$f":"IF(G1314=\"\",\"\",VLOOKUP(G1314,'Lista de precios'!$B$7:$C$5000,2,0))","v":""}]
[null,null,"",null,null,null,null,{"$f":"IF(G1315=\"\",\"\",VLOOKUP(G1315,'Lista de precios'!$B$7:$C$5000,2,0))","v":""}]
[null,null,"",null,null,null,null,{"$f":"IF(G1316=\"\",\"\",VLOOKUP(G1316,'Lista de precios'!$B$7:$C$5000,2,0))","v":""}]
[null,null,"",null,null,null,null,{"$f":"IF(G1317=\"\",\"\",VLOOKUP(G1317,'Lista de precios'!$B$7:$C$5000,2,0))","v":""}]
[null,null,"",null,null,null,null,{"$f":"IF(G1318=\"\",\"\",VLOOKUP(G1318,'Lista de precios'!$B$7:$C$5000,2,0))","v":""}]
[null,null,"",null,null,null,null,{"$f":"IF(G1319=\"\",\"\",VLOOKUP(G1319,'Lista de precios'!$B$7:$C$5000,2,0))","v":""}]
[null,null,"",null,null,null,null,{"$f":"IF(G1320=\"\",\"\",VLOOKUP(G1320,'Lista de precios'!$B$7:$C$5000,2,0))","v":""}]
[null,null,"",null,null,null,null,{"$f":"IF(G1321=\"\",\"\",VLOOKUP(G1321,'Lista de precios'!$B$7:$C$5000,2,0))","v":""}]
[null,null,"",null,null,null,null,{"$f":"IF(G1322=\"\",\"\",VLOOKUP(G1322,'Lista de precios'!$B$7:$C$5000,2,0))","v":""}]
[null,null,"",null,null,null,null,{"$f":"IF(G1323=\"\",\"\",VLOOKUP(G1323,'Lista de precios'!$B$7:$C$5000,2,0))","v":""}]
[null,null,"",null,null,null,null,{"$f":"IF(G1324=\"\",\"\",VLOOKUP(G1324,'Lista de precios'!$B$7:$C$5000,2,0))","v":""}]
[null,null,"",null,null,null,null,{"$f":"IF(G1325=\"\",\"\",VLOOKUP(G1325,'Lista de precios'!$B$7:$C$5000,2,0))","v":""}]
[null,null,"",null,null,null,null,{"$f":"IF(G1326=\"\",\"\",VLOOKUP(G1326,'Lista de precios'!$B$7:$C$5000,2,0))","v":""}]
[null,null,"",null,null,null,null,{"$f":"IF(G1327=\"\",\"\",VLOOKUP(G1327,'Lista de precios'!$B$7:$C$5000,2,0))","v":""}]
[null,null,"",null,null,null,null,{"$f":"IF(G1328=\"\",\"\",VLOOKUP(G1328,'Lista de precios'!$B$7:$C$5000,2,0))","v":""}]
[null,null,"",null,null,null,null,{"$f":"IF(G1329=\"\",\"\",VLOOKUP(G1329,'Lista de precios'!$B$7:$C$5000,2,0))","v":""}]
[null,null,"",null,null,null,null,{"$f":"IF(G1330=\"\",\"\",VLOOKUP(G1330,'Lista de precios'!$B$7:$C$5000,2,0))","v":""}]
[null,null,"",null,null,null,null,{"$f":"IF(G1331=\"\",\"\",VLOOKUP(G1331,'Lista de precios'!$B$7:$C$5000,2,0))","v":""}]
[null,null,"",null,null,null,null,{"$f":"IF(G1332=\"\",\"\",VLOOKUP(G1332,'Lista de precios'!$B$7:$C$5000,2,0))","v":""}]
[null,null,"",null,null,null,null,{"$f":"IF(G1333=\"\",\"\",VLOOKUP(G1333,'Lista de precios'!$B$7:$C$5000,2,0))","v":""}]
[null,null,"",null,null,null,null,{"$f":"IF(G1334=\"\",\"\",VLOOKUP(G1334,'Lista de precios'!$B$7:$C$5000,2,0))","v":""}]
[null,null,"",null,null,null,null,{"$f":"IF(G1335=\"\",\"\",VLOOKUP(G1335,'Lista de precios'!$B$7:$C$5000,2,0))","v":""}]
[null,null,"",null,null,null,null,{"$f":"IF(G1336=\"\",\"\",VLOOKUP(G1336,'Lista de precios'!$B$7:$C$5000,2,0))","v":""}]
[null,null,"",null,null,null,null,{"$f":"IF(G1337=\"\",\"\",VLOOKUP(G1337,'Lista de precios'!$B$7:$C$5000,2,0))","v":""}]
[null,null,"",null,null,null,null,{"$f":"IF(G1338=\"\",\"\",VLOOKUP(G1338,'Lista de precios'!$B$7:$C$5000,2,0))","v":""}]
[null,null,"",null,null,null,null,{"$f":"IF(G1339=\"\",\"\",VLOOKUP(G1339,'Lista de precios'!$B$7:$C$5000,2,0))","v":""}]
[null,null,"",null,null,null,null,{"$f":"IF(G1340=\"\",\"\",VLOOKUP(G1340,'Lista de precios'!$B$7:$C$5000,2,0))","v":""}]
[null,null,"",null,null,null,null,{"$f":"IF(G1341=\"\",\"\",VLOOKUP(G1341,'Lista de precios'!$B$7:$C$5000,2,0))","v":""}]
[null,null,"",null,null,null,null,{"$f":"IF(G1342=\"\",\"\",VLOOKUP(G1342,'Lista de precios'!$B$7:$C$5000,2,0))","v":""}]
[null,null,"",null,null,null,null,{"$f":"IF(G1343=\"\",\"\",VLOOKUP(G1343,'Lista de precios'!$B$7:$C$5000,2,0))","v":""}]
[null,null,"",null,null,null,null,{"$f":"IF(G1344=\"\",\"\",VLOOKUP(G1344,'Lista de precios'!$B$7:$C$5000,2,0))","v":""}]
[null,null,"",null,null,null,null,{"$f":"IF(G1345=\"\",\"\",VLOOKUP(G1345,'Lista de precios'!$B$7:$C$5000,2,0))","v":""}]
[null,null,"",null,null,null,null,{"$f":"IF(G1346=\"\",\"\",VLOOKUP(G1346,'Lista de precios'!$B$7:$C$5000,2,0))","v":""}]
[null,null,"",null,null,null,null,{"$f":"IF(G1347=\"\",\"\",VLOOKUP(G1347,'Lista de precios'!$B$7:$C$5000,2,0))","v":""}]
[null,null,"",null,null,null,null,{"$f":"IF(G1348=\"\",\"\",VLOOKUP(G1348,'Lista de precios'!$B$7:$C$5000,2,0))","v":""}]
[null,null,"",null,null,null,null,{"$f":"IF(G1349=\"\",\"\",VLOOKUP(G1349,'Lista de precios'!$B$7:$C$5000,2,0))","v":""}]
[null,null,"",null,null,null,null,{"$f":"IF(G1350=\"\",\"\",VLOOKUP(G1350,'Lista de precios'!$B$7:$C$5000,2,0))","v":""}]
[null,null,"",null,null,null,null,{"$f":"IF(G1351=\"\",\"\",VLOOKUP(G1351,'Lista de precios'!$B$7:$C$5000,2,0))","v":""}]
[null,null,"",null,null,null,null,{"$f":"IF(G1352=\"\",\"\",VLOOKUP(G1352,'Lista de precios'!$B$7:$C$5000,2,0))","v":""}]
[null,null,"",null,null,null,null,{"$f":"IF(G1353=\"\",\"\",VLOOKUP(G1353,'Lista de precios'!$B$7:$C$5000,2,0))","v":""}]
[null,null,"",null,null,null,null,{"$f":"IF(G1354=\"\",\"\",VLOOKUP(G1354,'Lista de precios'!$B$7:$C$5000,2,0))","v":""}]
[null,null,"",null,null,null,null,{"$f":"IF(G1355=\"\",\"\",VLOOKUP(G1355,'Lista de precios'!$B$7:$C$5000,2,0))","v":""}]
[null,null,{"$f":"IF(B1356=\"\",\"\",TEXT(B1356,\"Mmmm\"))","v":""},null,null,null,null,{"$f":"IF(G1356=\"\",\"\",VLOOKUP(G1356,'Lista de precios'!$B$7:$C$5000,2,0))","v":""}]
[null,null,"",null,null,null,null,{"$f":"IF(G1357=\"\",\"\",VLOOKUP(G1357,'Lista de precios'!$B$7:$C$5000,2,0))","v":""}]
[null,null,"",null,null,null,null,{"$f":"IF(G1358=\"\",\"\",VLOOKUP(G1358,'Lista de precios'!$B$7:$C$5000,2,0))","v":""}]
[null,null,"",null,null,null,null,{"$f":"IF(G1359=\"\",\"\",VLOOKUP(G1359,'Lista de precios'!$B$7:$C$5000,2,0))","v":""}]
[null,null,"",null,null,null,null,{"$f":"IF(G1360=\"\",\"\",VLOOKUP(G1360,'Lista de precios'!$B$7:$C$5000,2,0))","v":""}]
[null,null,"",null,null,null,null,{"$f":"IF(G1361=\"\",\"\",VLOOKUP(G1361,'Lista de precios'!$B$7:$C$5000,2,0))","v":""}]
[null,null,"",null,null,null,null,{"$f":"IF(G1362=\"\",\"\",VLOOKUP(G1362,'Lista de precios'!$B$7:$C$5000,2,0))","v":""}]
[null,null,"",null,null,null,null,{"$f":"IF(G1363=\"\",\"\",VLOOKUP(G1363,'Lista de precios'!$B$7:$C$5000,2,0))","v":""}]
[null,null,"",null,null,null,null,{"$f":"IF(G1364=\"\",\"\",VLOOKUP(G1364,'Lista de precios'!$B$7:$C$5000,2,0))","v":""}]
[null,null,"",null,null,null,null,{"$f":"IF(G1365=\"\",\"\",VLOOKUP(G1365,'Lista de precios'!$B$7:$C$5000,2,0))","v":""}]
[null,null,"",null,null,null,null,{"$f":"IF(G1366=\"\",\"\",VLOOKUP(G1366,'Lista de precios'!$B$7:$C$5000,2,0))","v":""}]
[null,null,"",null,null,null,null,{"$f":"IF(G1367=\"\",\"\",VLOOKUP(G1367,'Lista de precios'!$B$7:$C$5000,2,0))","v":""}]
[null,null,"",null,null,null,null,{"$f":"IF(G1368=\"\",\"\",VLOOKUP(G1368,'Lista de precios'!$B$7:$C$5000,2,0))","v":""}]
[null,null,"",null,null,null,null,{"$f":"IF(G1369=\"\",\"\",VLOOKUP(G1369,'Lista de precios'!$B$7:$C$5000,2,0))","v":""}]
[null,null,"",null,null,null,null,{"$f":"IF(G1370=\"\",\"\",VLOOKUP(G1370,'Lista de precios'!$B$7:$C$5000,2,0))","v":""}]
[null,null,"",null,null,null,null,{"$f":"IF(G1371=\"\",\"\",VLOOKUP(G1371,'Lista de precios'!$B$7:$C$5000,2,0))","v":""}]
[null,null,"",null,null,null,null,{"$f":"IF(G1372=\"\",\"\",VLOOKUP(G1372,'Lista de precios'!$B$7:$C$5000,2,0))","v":""}]
[null,null,"",null,null,null,null,{"$f":"IF(G1373=\"\",\"\",VLOOKUP(G1373,'Lista de precios'!$B$7:$C$5000,2,0))","v":""}]
[null,null,"",null,null,null,null,{"$f":"IF(G1374=\"\",\"\",VLOOKUP(G1374,'Lista de precios'!$B$7:$C$5000,2,0))","v":""}]
[null,null,"",null,null,null,null,{"$f":"IF(G1375=\"\",\"\",VLOOKUP(G1375,'Lista de precios'!$B$7:$C$5000,2,0))","v":""}]
[null,null,"",null,null,null,null,{"$f":"IF(G1376=\"\",\"\",VLOOKUP(G1376,'Lista de precios'!$B$7:$C$5000,2,0))","v":""}]
[null,null,"",null,null,null,null,{"$f":"IF(G1377=\"\",\"\",VLOOKUP(G1377,'Lista de precios'!$B$7:$C$5000,2,0))","v":""}]
[null,null,"",null,null,null,null,{"$f":"IF(G1378=\"\",\"\",VLOOKUP(G1378,'Lista de precios'!$B$7:$C$5000,2,0))","v":""}]
[null,null,"",null,null,null,null,{"$f":"IF(G1379=\"\",\"\",VLOOKUP(G1379,'Lista de precios'!$B$7:$C$5000,2,0))","v":""}]
[null,null,"",null,null,null,null,{"$f":"IF(G1380=\"\",\"\",VLOOKUP(G1380,'Lista de precios'!$B$7:$C$5000,2,0))","v":""}]
[null,null,"",null,null,null,null,{"$f":"IF(G1381=\"\",\"\",VLOOKUP(G1381,'Lista de precios'!$B$7:$C$5000,2,0))","v":""}]
[null,null,"",null,null,null,null,{"$f":"IF(G1382=\"\",\"\",VLOOKUP(G1382,'Lista de precios'!$B$7:$C$5000,2,0))","v":""}]
[null,null,"",null,null,null,null,{"$f":"IF(G1383=\"\",\"\",VLOOKUP(G1383,'Lista de precios'!$B$7:$C$5000,2,0))","v":""}]
[null,null,"",null,null,null,null,{"$f":"IF(G1384=\"\",\"\",VLOOKUP(G1384,'Lista de precios'!$B$7:$C$5000,2,0))","v":""}]
[null,null,"",null,null,null,null,{"$f":"IF(G1385=\"\",\"\",VLOOKUP(G1385,'Lista de precios'!$B$7:$C$5000,2,0))","v":""}]
[null,null,"",null,null,null,null,{"$f":"IF(G1386=\"\",\"\",VLOOKUP(G1386,'Lista de precios'!$B$7:$C$5000,2,0))","v":""}]
[null,null,"",null,null,null,null,{"$f":"IF(G1387=\"\",\"\",VLOOKUP(G1387,'Lista de precios'!$B$7:$C$5000,2,0))","v":""}]
[null,null,"",null,null,null,null,{"$f":"IF(G1388=\"\",\"\",VLOOKUP(G1388,'Lista de precios'!$B$7:$C$5000,2,0))","v":""}]
[null,null,"",null,null,null,null,{"$f":"IF(G1389=\"\",\"\",VLOOKUP(G1389,'Lista de precios'!$B$7:$C$5000,2,0))","v":""}]
[null,null,"",null,null,null,null,{"$f":"IF(G1390=\"\",\"\",VLOOKUP(G1390,'Lista de precios'!$B$7:$C$5000,2,0))","v":""}]
[null,null,"",null,null,null,null,{"$f":"IF(G1391=\"\",\"\",VLOOKUP(G1391,'Lista de precios'!$B$7:$C$5000,2,0))","v":""}]
[null,null,"",null,null,null,null,{"$f":"IF(G1392=\"\",\"\",VLOOKUP(G1392,'Lista de precios'!$B$7:$C$5000,2,0))","v":""}]
[null,null,"",null,null,null,null,{"$f":"IF(G1393=\"\",\"\",VLOOKUP(G1393,'Lista de precios'!$B$7:$C$5000,2,0))","v":""}]
[null,null,"",null,null,null,null,{"$f":"IF(G1394=\"\",\"\",VLOOKUP(G1394,'Lista de precios'!$B$7:$C$5000,2,0))","v":""}]
[null,null,"",null,null,null,null,{"$f":"IF(G1395=\"\",\"\",VLOOKUP(G1395,'Lista de precios'!$B$7:$C$5000,2,0))","v":""}]
[null,null,"",null,null,null,null,{"$f":"IF(G1396=\"\",\"\",VLOOKUP(G1396,'Lista de precios'!$B$7:$C$5000,2,0))","v":""}]
[null,null,"",null,null,null,null,{"$f":"IF(G1397=\"\",\"\",VLOOKUP(G1397,'Lista de precios'!$B$7:$C$5000,2,0))","v":""}]
[null,null,"",null,null,null,null,{"$f":"IF(G1398=\"\",\"\",VLOOKUP(G1398,'Lista de precios'!$B$7:$C$5000,2,0))","v":""}]
[null,null,"",null,null,null,null,{"$f":"IF(G1399=\"\",\"\",VLOOKUP(G1399,'Lista de precios'!$B$7:$C$5000,2,0))","v":""}]
[null,null,"",null,null,null,null,{"$f":"IF(G1400=\"\",\"\",VLOOKUP(G1400,'Lista de precios'!$B$7:$C$5000,2,0))","v":""}]
[null,null,"",null,null,null,null,{"$f":"IF(G1401=\"\",\"\",VLOOKUP(G1401,'Lista de precios'!$B$7:$C$5000,2,0))","v":""}]
[null,null,"",null,null,null,null,{"$f":"IF(G1402=\"\",\"\",VLOOKUP(G1402,'Lista de precios'!$B$7:$C$5000,2,0))","v":""}]
[null,null,"",null,null,null,null,{"$f":"IF(G1403=\"\",\"\",VLOOKUP(G1403,'Lista de precios'!$B$7:$C$5000,2,0))","v":""}]
[null,null,"",null,null,null,null,{"$f":"IF(G1404=\"\",\"\",VLOOKUP(G1404,'Lista de precios'!$B$7:$C$5000,2,0))","v":""}]
[null,null,"",null,null,null,null,{"$f":"IF(G1405=\"\",\"\",VLOOKUP(G1405,'Lista de precios'!$B$7:$C$5000,2,0))","v":""}]
[null,null,"",null,null,null,null,{"$f":"IF(G1406=\"\",\"\",VLOOKUP(G1406,'Lista de precios'!$B$7:$C$5000,2,0))","v":""}]
[null,null,"",null,null,null,null,{"$f":"IF(G1407=\"\",\"\",VLOOKUP(G1407,'Lista de precios'!$B$7:$C$5000,2,0))","v":""}]
[null,null,"",null,null,null,null,{"$f":"IF(G1408=\"\",\"\",VLOOKUP(G1408,'Lista de precios'!$B$7:$C$5000,2,0))","v":""}]
[null,null,"",null,null,null,null,{"$f":"IF(G1409=\"\",\"\",VLOOKUP(G1409,'Lista de precios'!$B$7:$C$5000,2,0))","v":""}]
[null,null,"",null,null,null,null,{"$f":"IF(G1410=\"\",\"\",VLOOKUP(G1410,'Lista de precios'!$B$7:$C$5000,2,0))","v":""}]
[null,null,"",null,null,null,null,{"$f":"IF(G1411=\"\",\"\",VLOOKUP(G1411,'Lista de precios'!$B$7:$C$5000,2,0))","v":""}]
[null,null,"",null,null,null,null,{"$f":"IF(G1412=\"\",\"\",VLOOKUP(G1412,'Lista de precios'!$B$7:$C$5000,2,0))","v":""}]
[null,null,"",null,null,null,null,{"$f":"IF(G1413=\"\",\"\",VLOOKUP(G1413,'Lista de precios'!$B$7:$C$5000,2,0))","v":""}]
[null,null,"",null,null,null,null,{"$f":"IF(G1414=\"\",\"\",VLOOKUP(G1414,'Lista de precios'!$B$7:$C$5000,2,0))","v":""}]
[null,null,"",null,null,null,null,{"$f":"IF(G1415=\"\",\"\",VLOOKUP(G1415,'Lista de precios'!$B$7:$C$5000,2,0))","v":""}]
[null,null,"",null,null,null,null,{"$f":"IF(G1416=\"\",\"\",VLOOKUP(G1416,'Lista de precios'!$B$7:$C$5000,2,0))","v":""}]
[null,null,"",null,null,null,null,{"$f":"IF(G1417=\"\",\"\",VLOOKUP(G1417,'Lista de precios'!$B$7:$C$5000,2,0))","v":""}]
[null,null,"",null,null,null,null,{"$f":"IF(G1418=\"\",\"\",VLOOKUP(G1418,'Lista de precios'!$B$7:$C$5000,2,0))","v":""}]
[null,null,"",null,null,null,null,{"$f":"IF(G1419=\"\",\"\",VLOOKUP(G1419,'Lista de precios'!$B$7:$C$5000,2,0))","v":""}]
[null,null,{"$f":"IF(B1420=\"\",\"\",TEXT(B1420,\"Mmmm\"))","v":""},null,null,null,null,{"$f":"IF(G1420=\"\",\"\",VLOOKUP(G1420,'Lista de precios'!$B$7:$C$5000,2,0))","v":""}]
[null,null,"",null,null,null,null,{"$f":"IF(G1421=\"\",\"\",VLOOKUP(G1421,'Lista de precios'!$B$7:$C$5000,2,0))","v":""}]
[null,null,"",null,null,null,null,{"$f":"IF(G1422=\"\",\"\",VLOOKUP(G1422,'Lista de precios'!$B$7:$C$5000,2,0))","v":""}]
[null,null,"",null,null,null,null,{"$f":"IF(G1423=\"\",\"\",VLOOKUP(G1423,'Lista de precios'!$B$7:$C$5000,2,0))","v":""}]
[null,null,"",null,null,null,null,{"$f":"IF(G1424=\"\",\"\",VLOOKUP(G1424,'Lista de precios'!$B$7:$C$5000,2,0))","v":""}]
[null,null,"",null,null,null,null,{"$f":"IF(G1425=\"\",\"\",VLOOKUP(G1425,'Lista de precios'!$B$7:$C$5000,2,0))","v":""}]
[null,null,"",null,null,null,null,{"$f":"IF(G1426=\"\",\"\",VLOOKUP(G1426,'Lista de precios'!$B$7:$C$5000,2,0))","v":""}]
[null,null,"",null,null,null,null,{"$f":"IF(G1427=\"\",\"\",VLOOKUP(G1427,'Lista de precios'!$B$7:$C$5000,2,0))","v":""}]
[null,null,"",null,null,null,null,{"$f":"IF(G1428=\"\",\"\",VLOOKUP(G1428,'Lista de precios'!$B$7:$C$5000,2,0))","v":""}]
[null,null,"",null,null,null,null,{"$f":"IF(G1429=\"\",\"\",VLOOKUP(G1429,'Lista de precios'!$B$7:$C$5000,2,0))","v":""}]
[null,null,"",null,null,null,null,{"$f":"IF(G1430=\"\",\"\",VLOOKUP(G1430,'Lista de precios'!$B$7:$C$5000,2,0))","v":""}]
[null,null,"",null,null,null,null,{"$f":"IF(G1431=\"\",\"\",VLOOKUP(G1431,'Lista de precios'!$B$7:$C$5000,2,0))","v":""}]
[null,null,"",null,null,null,null,{"$f":"IF(G1432=\"\",\"\",VLOOKUP(G1432,'Lista de precios'!$B$7:$C$5000,2,0))","v":""}]
[null,null,"",null,null,null,null,{"$f":"IF(G1433=\"\",\"\",VLOOKUP(G1433,'Lista de precios'!$B$7:$C$5000,2,0))","v":""}]
[null,null,"",null,null,null,null,{"$f":"IF(G1434=\"\",\"\",VLOOKUP(G1434,'Lista de precios'!$B$7:$C$5000,2,0))","v":""}]
[null,null,"",null,null,null,null,{"$f":"IF(G1435=\"\",\"\",VLOOKUP(G1435,'Lista de precios'!$B$7:$C$5000,2,0))","v":""}]
[null,null,"",null,null,null,null,{"$f":"IF(G1436=\"\",\"\",VLOOKUP(G1436,'Lista de precios'!$B$7:$C$5000,2,0))","v":""}]
[null,null,"",null,null,null,null,{"$f":"IF(G1437=\"\",\"\",VLOOKUP(G1437,'Lista de precios'!$B$7:$C$5000,2,0))","v":""}]
[null,null,"",null,null,null,null,{"$f":"IF(G1438=\"\",\"\",VLOOKUP(G1438,'Lista de precios'!$B$7:$C$5000,2,0))","v":""}]
[null,null,"",null,null,null,null,{"$f":"IF(G1439=\"\",\"\",VLOOKUP(G1439,'Lista de precios'!$B$7:$C$5000,2,0))","v":""}]
[null,null,"",null,null,null,null,{"$f":"IF(G1440=\"\",\"\",VLOOKUP(G1440,'Lista de precios'!$B$7:$C$5000,2,0))","v":""}]
[null,null,"",null,null,null,null,{"$f":"IF(G1441=\"\",\"\",VLOOKUP(G1441,'Lista de precios'!$B$7:$C$5000,2,0))","v":""}]
[null,null,"",null,null,null,null,{"$f":"IF(G1442=\"\",\"\",VLOOKUP(G1442,'Lista de precios'!$B$7:$C$5000,2,0))","v":""}]
[null,null,"",null,null,null,null,{"$f":"IF(G1443=\"\",\"\",VLOOKUP(G1443,'Lista de precios'!$B$7:$C$5000,2,0))","v":""}]
[null,null,"",null,null,null,null,{"$f":"IF(G1444=\"\",\"\",VLOOKUP(G1444,'Lista de precios'!$B$7:$C$5000,2,0))","v":""}]
[null,null,"",null,null,null,null,{"$f":"IF(G1445=\"\",\"\",VLOOKUP(G1445,'Lista de precios'!$B$7:$C$5000,2,0))","v":""}]
[null,null,"",null,null,null,null,{"$f":"IF(G1446=\"\",\"\",VLOOKUP(G1446,'Lista de precios'!$B$7:$C$5000,2,0))","v":""}]
[null,null,"",null,null,null,null,{"$f":"IF(G1447=\"\",\"\",VLOOKUP(G1447,'Lista de precios'!$B$7:$C$5000,2,0))","v":""}]
[null,null,"",null,null,null,null,{"$f":"IF(G1448=\"\",\"\",VLOOKUP(G1448,'Lista de precios'!$B$7:$C$5000,2,0))","v":""}]
[null,null,"",null,null,null,null,{"$f":"IF(G1449=\"\",\"\",VLOOKUP(G1449,'Lista de precios'!$B$7:$C$5000,2,0))","v":""}]
[null,null,"",null,null,null,null,{"$f":"IF(G1450=\"\",\"\",VLOOKUP(G1450,'Lista de precios'!$B$7:$C$5000,2,0))","v":""}]
[null,null,"",null,null,null,null,{"$f":"IF(G1451=\"\",\"\",VLOOKUP(G1451,'Lista de precios'!$B$7:$C$5000,2,0))","v":""}]
[null,null,"",null,null,null,null,{"$f":"IF(G1452=\"\",\"\",VLOOKUP(G1452,'Lista de precios'!$B$7:$C$5000,2,0))","v":""}]
[null,null,"",null,null,null,null,{"$f":"IF(G1453=\"\",\"\",VLOOKUP(G1453,'Lista de precios'!$B$7:$C$5000,2,0))","v":""}]
[null,null,"",null,null,null,null,{"$f":"IF(G1454=\"\",\"\",VLOOKUP(G1454,'Lista de precios'!$B$7:$C$5000,2,0))","v":""}]
[null,null,"",null,null,null,null,{"$f":"IF(G1455=\"\",\"\",VLOOKUP(G1455,'Lista de precios'!$B$7:$C$5000,2,0))","v":""}]
[null,null,"",null,null,null,null,{"$f":"IF(G1456=\"\",\"\",VLOOKUP(G1456,'Lista de precios'!$B$7:$C$5000,2,0))","v":""}]
[null,null,"",null,null,null,null,{"$f":"IF(G1457=\"\",\"\",VLOOKUP(G1457,'Lista de precios'!$B$7:$C$5000,2,0))","v":""}]
[null,null,"",null,null,null,null,{"$f":"IF(G1458=\"\",\"\",VLOOKUP(G1458,'Lista de precios'!$B$7:$C$5000,2,0))","v":""}]
[null,null,"",null,null,null,null,{"$f":"IF(G1459=\"\",\"\",VLOOKUP(G1459,'Lista de precios'!$B$7:$C$5000,2,0))","v":""}]
[null,null,"",null,null,null,null,{"$f":"IF(G1460=\"\",\"\",VLOOKUP(G1460,'Lista de precios'!$B$7:$C$5000,2,0))","v":""}]
[null,null,"",null,null,null,null,{"$f":"IF(G1461=\"\",\"\",VLOOKUP(G1461,'Lista de precios'!$B$7:$C$5000,2,0))","v":""}]
[null,null,"",null,null,null,null,{"$f":"IF(G1462=\"\",\"\",VLOOKUP(G1462,'Lista de precios'!$B$7:$C$5000,2,0))","v":""}]
[null,null,"",null,null,null,null,{"$f":"IF(G1463=\"\",\"\",VLOOKUP(G1463,'Lista de precios'!$B$7:$C$5000,2,0))","v":""}]
[null,null,"",null,null,null,null,{"$f":"IF(G1464=\"\",\"\",VLOOKUP(G1464,'Lista de precios'!$B$7:$C$5000,2,0))","v":""}]
[null,null,"",null,null,null,null,{"$f":"IF(G1465=\"\",\"\",VLOOKUP(G1465,'Lista de precios'!$B$7:$C$5000,2,0))","v":""}]
[null,null,"",null,null,null,null,{"$f":"IF(G1466=\"\",\"\",VLOOKUP(G1466,'Lista de precios'!$B$7:$C$5000,2,0))","v":""}]
[null,null,"",null,null,null,null,{"$f":"IF(G1467=\"\",\"\",VLOOKUP(G1467,'Lista de precios'!$B$7:$C$5000,2,0))","v":""}]
[null,null,"",null,null,null,null,{"$f":"IF(G1468=\"\",\"\",VLOOKUP(G1468,'Lista de precios'!$B$7:$C$5000,2,0))","v":""}]
[null,null,"",null,null,null,null,{"$f":"IF(G1469=\"\",\"\",VLOOKUP(G1469,'Lista de precios'!$B$7:$C$5000,2,0))","v":""}]
[null,null,"",null,null,null,null,{"$f":"IF(G1470=\"\",\"\",VLOOKUP(G1470,'Lista de precios'!$B$7:$C$5000,2,0))","v":""}]
[null,null,"",null,null,null,null,{"$f":"IF(G1471=\"\",\"\",VLOOKUP(G1471,'Lista de precios'!$B$7:$C$5000,2,0))","v":""}]
[null,null,"",null,null,null,null,{"$f":"IF(G1472=\"\",\"\",VLOOKUP(G1472,'Lista de precios'!$B$7:$C$5000,2,0))","v":""}]
[null,null,"",null,null,null,null,{"$f":"IF(G1473=\"\",\"\",VLOOKUP(G1473,'Lista de precios'!$B$7:$C$5000,2,0))","v":""}]
[null,null,"",null,null,null,null,{"$f":"IF(G1474=\"\",\"\",VLOOKUP(G1474,'Lista de precios'!$B$7:$C$5000,2,0))","v":""}]
[null,null,"",null,null,null,null,{"$f":"IF(G1475=\"\",\"\",VLOOKUP(G1475,'Lista de precios'!$B$7:$C$5000,2,0))","v":""}]
[null,null,"",null,null,null,null,{"$f":"IF(G1476=\"\",\"\",VLOOKUP(G1476,'Lista de precios'!$B$7:$C$5000,2,0))","v":""}]
[null,null,"",null,null,null,null,{"$f":"IF(G1477=\"\",\"\",VLOOKUP(G1477,'Lista de precios'!$B$7:$C$5000,2,0))","v":""}]
[null,null,"",null,null,null,null,{"$f":"IF(G1478=\"\",\"\",VLOOKUP(G1478,'Lista de precios'!$B$7:$C$5000,2,0))","v":""}]
[null,null,"",null,null,null,null,{"$f":"IF(G1479=\"\",\"\",VLOOKUP(G1479,'Lista de precios'!$B$7:$C$5000,2,0))","v":""}]
[null,null,"",null,null,null,null,{"$f":"IF(G1480=\"\",\"\",VLOOKUP(G1480,'Lista de precios'!$B$7:$C$5000,2,0))","v":""}]
[null,null,"",null,null,null,null,{"$f":"IF(G1481=\"\",\"\",VLOOKUP(G1481,'Lista de precios'!$B$7:$C$5000,2,0))","v":""}]
[null,null,"",null,null,null,null,{"$f":"IF(G1482=\"\",\"\",VLOOKUP(G1482,'Lista de precios'!$B$7:$C$5000,2,0))","v":""}]
[null,null,"",null,null,null,null,{"$f":"IF(G1483=\"\",\"\",VLOOKUP(G1483,'Lista de precios'!$B$7:$C$5000,2,0))","v":""}]
[null,null,{"$f":"IF(B1484=\"\",\"\",TEXT(B1484,\"Mmmm\"))","v":""},null,null,null,null,{"$f":"IF(G1484=\"\",\"\",VLOOKUP(G1484,'Lista de precios'!$B$7:$C$5000,2,0))","v":""}]
[null,null,"",null,null,null,null,{"$f":"IF(G1485=\"\",\"\",VLOOKUP(G1485,'Lista de precios'!$B$7:$C$5000,2,0))","v":""}]
[null,null,"",null,null,null,null,{"$f":"IF(G1486=\"\",\"\",VLOOKUP(G1486,'Lista de precios'!$B$7:$C$5000,2,0))","v":""}]
[null,null,"",null,null,null,null,{"$f":"IF(G1487=\"\",\"\",VLOOKUP(G1487,'Lista de precios'!$B$7:$C$5000,2,0))","v":""}]
[null,null,"",null,null,null,null,{"$f":"IF(G1488=\"\",\"\",VLOOKUP(G1488,'Lista de precios'!$B$7:$C$5000,2,0))","v":""}]
[null,null,"",null,null,null,null,{"$f":"IF(G1489=\"\",\"\",VLOOKUP(G1489,'Lista de precios'!$B$7:$C$5000,2,0))","v":""}]
[null,null,"",null,null,null,null,{"$f":"IF(G1490=\"\",\"\",VLOOKUP(G1490,'Lista de precios'!$B$7:$C$5000,2,0))","v":""}]
[null,null,"",null,null,null,null,{"$f":"IF(G1491=\"\",\"\",VLOOKUP(G1491,'Lista de precios'!$B$7:$C$5000,2,0))","v":""}]
[null,null,"",null,null,null,null,{"$f":"IF(G1492=\"\",\"\",VLOOKUP(G1492,'Lista de precios'!$B$7:$C$5000,2,0))","v":""}]
[null,null,"",null,null,null,null,{"$f":"IF(G1493=\"\",\"\",VLOOKUP(G1493,'Lista de precios'!$B$7:$C$5000,2,0))","v":""}]
[null,null,"",null,null,null,null,{"$f":"IF(G1494=\"\",\"\",VLOOKUP(G1494,'Lista de precios'!$B$7:$C$5000,2,0))","v":""}]
[null,null,"",null,null,null,null,{"$f":"IF(G1495=\"\",\"\",VLOOKUP(G1495,'Lista de precios'!$B$7:$C$5000,2,0))","v":""}]
[null,null,"",null,null,null,null,{"$f":"IF(G1496=\"\",\"\",VLOOKUP(G1496,'Lista de precios'!$B$7:$C$5000,2,0))","v":""}]
[null,null,"",null,null,null,null,{"$f":"IF(G1497=\"\",\"\",VLOOKUP(G1497,'Lista de precios'!$B$7:$C$5000,2,0))","v":""}]
[null,null,"",null,null,null,null,{"$f":"IF(G1498=\"\",\"\",VLOOKUP(G1498,'Lista de precios'!$B$7:$C$5000,2,0))","v":""}]
[null,null,"",null,null,null,null,{"$f":"IF(G1499=\"\",\"\",VLOOKUP(G1499,'Lista de precios'!$B$7:$C$5000,2,0))","v":""}]
[null,null,"",null,null,null,null,{"$f":"IF(G1500=\"\",\"\",VLOOKUP(G1500,'Lista de precios'!$B$7:$C$5000,2,0))","v":""}]
[null,null,"",null,null,null,null,{"$f":"IF(G1501=\"\",\"\",VLOOKUP(G1501,'Lista de precios'!$B$7:$C$5000,2,0))","v":""}]
[null,null,"",null,null,null,null,{"$f":"IF(G1502=\"\",\"\",VLOOKUP(G1502,'Lista de precios'!$B$7:$C$5000,2,0))","v":""}]
[null,null,"",null,null,null,null,{"$f":"IF(G1503=\"\",\"\",VLOOKUP(G1503,'Lista de precios'!$B$7:$C$5000,2,0))","v":""}]
[null,null,"",null,null,null,null,{"$f":"IF(G1504=\"\",\"\",VLOOKUP(G1504,'Lista de precios'!$B$7:$C$5000,2,0))","v":""}]
[null,null,"",null,null,null,null,{"$f":"IF(G1505=\"\",\"\",VLOOKUP(G1505,'Lista de precios'!$B$7:$C$5000,2,0))","v":""}]
[null,null,"",null,null,null,null,{"$f":"IF(G1506=\"\",\"\",VLOOKUP(G1506,'Lista de precios'!$B$7:$C$5000,2,0))","v":""}]
[null,null,"",null,null,null,null,{"$f":"IF(G1507=\"\",\"\",VLOOKUP(G1507,'Lista de precios'!$B$7:$C$5000,2,0))","v":""}]
[null,null,"",null,null,null,null,{"$f":"IF(G1508=\"\",\"\",VLOOKUP(G1508,'Lista de precios'!$B$7:$C$5000,2,0))","v":""}]
[null,null,"",null,null,null,null,{"$f":"IF(G1509=\"\",\"\",VLOOKUP(G1509,'Lista de precios'!$B$7:$C$5000,2,0))","v":""}]
[null,null,"",null,null,null,null,{"$f":"IF(G1510=\"\",\"\",VLOOKUP(G1510,'Lista de precios'!$B$7:$C$5000,2,0))","v":""}]
[null,null,"",null,null,null,null,{"$f":"IF(G1511=\"\",\"\",VLOOKUP(G1511,'Lista de precios'!$B$7:$C$5000,2,0))","v":""}]
[null,null,"",null,null,null,null,{"$f":"IF(G1512=\"\",\"\",VLOOKUP(G1512,'Lista de precios'!$B$7:$C$5000,2,0))","v":""}]
[null,null,"",null,null,null,null,{"$f":"IF(G1513=\"\",\"\",VLOOKUP(G1513,'Lista de precios'!$B$7:$C$5000,2,0))","v":""}]
[null,null,"",null,null,null,null,{"$f":"IF(G1514=\"\",\"\",VLOOKUP(G1514,'Lista de precios'!$B$7:$C$5000,2,0))","v":""}]
[null,null,"",null,null,null,null,{"$f":"IF(G1515=\"\",\"\",VLOOKUP(G1515,'Lista de precios'!$B$7:$C$5000,2,0))","v":""}]
[null,null,"",null,null,null,null,{"$f":"IF(G1516=\"\",\"\",VLOOKUP(G1516,'Lista de precios'!$B$7:$C$5000,2,0))","v":""}]
[null,null,"",null,null,null,null,{"$f":"IF(G1517=\"\",\"\",VLOOKUP(G1517,'Lista de precios'!$B$7:$C$5000,2,0))","v":""}]
[null,null,"",null,null,null,null,{"$f":"IF(G1518=\"\",\"\",VLOOKUP(G1518,'Lista de precios'!$B$7:$C$5000,2,0))","v":""}]
[null,null,"",null,null,null,null,{"$f":"IF(G1519=\"\",\"\",VLOOKUP(G1519,'Lista de precios'!$B$7:$C$5000,2,0))","v":""}]
[null,null,"",null,null,null,null,{"$f":"IF(G1520=\"\",\"\",VLOOKUP(G1520,'Lista de precios'!$B$7:$C$5000,2,0))","v":""}]
[null,null,"",null,null,null,null,{"$f":"IF(G1521=\"\",\"\",VLOOKUP(G1521,'Lista de precios'!$B$7:$C$5000,2,0))","v":""}]
[null,null,"",null,null,null,null,{"$f":"IF(G1522=\"\",\"\",VLOOKUP(G1522,'Lista de precios'!$B$7:$C$5000,2,0))","v":""}]
[null,null,"",null,null,null,null,{"$f":"IF(G1523=\"\",\"\",VLOOKUP(G1523,'Lista de precios'!$B$7:$C$5000,2,0))","v":""}]
[null,null,"",null,null,null,null,{"$f":"IF(G1524=\"\",\"\",VLOOKUP(G1524,'Lista de precios'!$B$7:$C$5000,2,0))","v":""}]
[null,null,"",null,null,null,null,{"$f":"IF(G1525=\"\",\"\",VLOOKUP(G1525,'Lista de precios'!$B$7:$C$5000,2,0))","v":""}]
[null,null,"",null,null,null,null,{"$f":"IF(G1526=\"\",\"\",VLOOKUP(G1526,'Lista de precios'!$B$7:$C$5000,2,0))","v":""}]
[null,null,"",null,null,null,null,{"$f":"IF(G1527=\"\",\"\",VLOOKUP(G1527,'Lista de precios'!$B$7:$C$5000,2,0))","v":""}]
[null,null,"",null,null,null,null,{"$f":"IF(G1528=\"\",\"\",VLOOKUP(G1528,'Lista de precios'!$B$7:$C$5000,2,0))","v":""}]
[null,null,"",null,null,null,null,{"$f":"IF(G1529=\"\",\"\",VLOOKUP(G1529,'Lista de precios'!$B$7:$C$5000,2,0))","v":""}]
[null,null,"",null,null,null,null,{"$f":"IF(G1530=\"\",\"\",VLOOKUP(G1530,'Lista de precios'!$B$7:$C$5000,2,0))","v":""}]
[null,null,"",null,null,null,null,{"$f":"IF(G1531=\"\",\"\",VLOOKUP(G1531,'Lista de precios'!$B$7:$C$5000,2,0))","v":""}]
[null,null,"",null,null,null,null,{"$f":"IF(G1532=\"\",\"\",VLOOKUP(G1532,'Lista de precios'!$B$7:$C$5000,2,0))","v":""}]
[null,null,"",null,null,null,null,{"$f":"IF(G1533=\"\",\"\",VLOOKUP(G1533,'Lista de precios'!$B$7:$C$5000,2,0))","v":""}]
[null,null,"",null,null,null,null,{"$f":"IF(G1534=\"\",\"\",VLOOKUP(G1534,'Lista de precios'!$B$7:$C$5000,2,0))","v":""}]
[null,null,"",null,null,null,null,{"$f":"IF(G1535=\"\",\"\",VLOOKUP(G1535,'Lista de precios'!$B$7:$C$5000,2,0))","v":""}]
[null,null,"",null,null,null,null,{"$f":"IF(G1536=\"\",\"\",VLOOKUP(G1536,'Lista de precios'!$B$7:$C$5000,2,0))","v":""}]
[null,null,"",null,null,null,null,{"$f":"IF(G1537=\"\",\"\",VLOOKUP(G1537,'Lista de precios'!$B$7:$C$5000,2,0))","v":""}]
[null,null,"",null,null,null,null,{"$f":"IF(G1538=\"\",\"\",VLOOKUP(G1538,'Lista de precios'!$B$7:$C$5000,2,0))","v":""}]
[null,null,"",null,null,null,null,{"$f":"IF(G1539=\"\",\"\",VLOOKUP(G1539,'Lista de precios'!$B$7:$C$5000,2,0))","v":""}]
[null,null,"",null,null,null,null,{"$f":"IF(G1540=\"\",\"\",VLOOKUP(G1540,'Lista de precios'!$B$7:$C$5000,2,0))","v":""}]
[null,null,"",null,null,null,null,{"$f":"IF(G1541=\"\",\"\",VLOOKUP(G1541,'Lista de precios'!$B$7:$C$5000,2,0))","v":""}]
[null,null,"",null,null,null,null,{"$f":"IF(G1542=\"\",\"\",VLOOKUP(G1542,'Lista de precios'!$B$7:$C$5000,2,0))","v":""}]
[null,null,"",null,null,null,null,{"$f":"IF(G1543=\"\",\"\",VLOOKUP(G1543,'Lista de precios'!$B$7:$C$5000,2,0))","v":""}]
[null,null,"",null,null,null,null,{"$f":"IF(G1544=\"\",\"\",VLOOKUP(G1544,'Lista de precios'!$B$7:$C$5000,2,0))","v":""}]
[null,null,"",null,null,null,null,{"$f":"IF(G1545=\"\",\"\",VLOOKUP(G1545,'Lista de precios'!$B$7:$C$5000,2,0))","v":""}]
[null,null,"",null,null,null,null,{"$f":"IF(G1546=\"\",\"\",VLOOKUP(G1546,'Lista de precios'!$B$7:$C$5000,2,0))","v":""}]
[null,null,"",null,null,null,null,{"$f":"IF(G1547=\"\",\"\",VLOOKUP(G1547,'Lista de precios'!$B$7:$C$5000,2,0))","v":""}]
[null,null,{"$f":"IF(B1548=\"\",\"\",TEXT(B1548,\"Mmmm\"))","v":""},null,null,null,null,{"$f":"IF(G1548=\"\",\"\",VLOOKUP(G1548,'Lista de precios'!$B$7:$C$5000,2,0))","v":""}]
[null,null,"",null,null,null,null,{"$f":"IF(G1549=\"\",\"\",VLOOKUP(G1549,'Lista de precios'!$B$7:$C$5000,2,0))","v":""}]
[null,null,"",null,null,null,null,{"$f":"IF(G1550=\"\",\"\",VLOOKUP(G1550,'Lista de precios'!$B$7:$C$5000,2,0))","v":""}]
[null,null,"",null,null,null,null,{"$f":"IF(G1551=\"\",\"\",VLOOKUP(G1551,'Lista de precios'!$B$7:$C$5000,2,0))","v":""}]
[null,null,"",null,null,null,null,{"$f":"IF(G1552=\"\",\"\",VLOOKUP(G1552,'Lista de precios'!$B$7:$C$5000,2,0))","v":""}]
[null,null,"",null,null,null,null,{"$f":"IF(G1553=\"\",\"\",VLOOKUP(G1553,'Lista de precios'!$B$7:$C$5000,2,0))","v":""}]
[null,null,"",null,null,null,null,{"$f":"IF(G1554=\"\",\"\",VLOOKUP(G1554,'Lista de precios'!$B$7:$C$5000,2,0))","v":""}]
[null,null,"",null,null,null,null,{"$f":"IF(G1555=\"\",\"\",VLOOKUP(G1555,'Lista de precios'!$B$7:$C$5000,2,0))","v":""}]
[null,null,"",null,null,null,null,{"$f":"IF(G1556=\"\",\"\",VLOOKUP(G1556,'Lista de precios'!$B$7:$C$5000,2,0))","v":""}]
[null,null,"",null,null,null,null,{"$f":"IF(G1557=\"\",\"\",VLOOKUP(G1557,'Lista de precios'!$B$7:$C$5000,2,0))","v":""}]
[null,null,"",null,null,null,null,{"$f":"IF(G1558=\"\",\"\",VLOOKUP(G1558,'Lista de precios'!$B$7:$C$5000,2,0))","v":""}]
[null,null,"",null,null,null,null,{"$f":"IF(G1559=\"\",\"\",VLOOKUP(G1559,'Lista de precios'!$B$7:$C$5000,2,0))","v":""}]
[null,null,"",null,null,null,null,{"$f":"IF(G1560=\"\",\"\",VLOOKUP(G1560,'Lista de precios'!$B$7:$C$5000,2,0))","v":""}]
[null,null,"",null,null,null,null,{"$f":"IF(G1561=\"\",\"\",VLOOKUP(G1561,'Lista de precios'!$B$7:$C$5000,2,0))","v":""}]
[null,null,"",null,null,null,null,{"$f":"IF(G1562=\"\",\"\",VLOOKUP(G1562,'Lista de precios'!$B$7:$C$5000,2,0))","v":""}]
[null,null,"",null,null,null,null,{"$f":"IF(G1563=\"\",\"\",VLOOKUP(G1563,'Lista de precios'!$B$7:$C$5000,2,0))","v":""}]
[null,null,"",null,null,null,null,{"$f":"IF(G1564=\"\",\"\",VLOOKUP(G1564,'Lista de precios'!$B$7:$C$5000,2,0))","v":""}]
[null,null,"",null,null,null,null,{"$f":"IF(G1565=\"\",\"\",VLOOKUP(G1565,'Lista de precios'!$B$7:$C$5000,2,0))","v":""}]
[null,null,"",null,null,null,null,{"$f":"IF(G1566=\"\",\"\",VLOOKUP(G1566,'Lista de precios'!$B$7:$C$5000,2,0))","v":""}]
[null,null,"",null,null,null,null,{"$f":"IF(G1567=\"\",\"\",VLOOKUP(G1567,'Lista de precios'!$B$7:$C$5000,2,0))","v":""}]
[null,null,"",null,null,null,null,{"$f":"IF(G1568=\"\",\"\",VLOOKUP(G1568,'Lista de precios'!$B$7:$C$5000,2,0))","v":""}]
[null,null,"",null,null,null,null,{"$f":"IF(G1569=\"\",\"\",VLOOKUP(G1569,'Lista de precios'!$B$7:$C$5000,2,0))","v":""}]
[null,null,"",null,null,null,null,{"$f":"IF(G1570=\"\",\"\",VLOOKUP(G1570,'Lista de precios'!$B$7:$C$5000,2,0))","v":""}]
[null,null,"",null,null,null,null,{"$f":"IF(G1571=\"\",\"\",VLOOKUP(G1571,'Lista de precios'!$B$7:$C$5000,2,0))","v":""}]
[null,null,"",null,null,null,null,{"$f":"IF(G1572=\"\",\"\",VLOOKUP(G1572,'Lista de precios'!$B$7:$C$5000,2,0))","v":""}]
[null,null,"",null,null,null,null,{"$f":"IF(G1573=\"\",\"\",VLOOKUP(G1573,'Lista de precios'!$B$7:$C$5000,2,0))","v":""}]
[null,null,"",null,null,null,null,{"$f":"IF(G1574=\"\",\"\",VLOOKUP(G1574,'Lista de precios'!$B$7:$C$5000,2,0))","v":""}]
[null,null,"",null,null,null,null,{"$f":"IF(G1575=\"\",\"\",VLOOKUP(G1575,'Lista de precios'!$B$7:$C$5000,2,0))","v":""}]
[null,null,"",null,null,null,null,{"$f":"IF(G1576=\"\",\"\",VLOOKUP(G1576,'Lista de precios'!$B$7:$C$5000,2,0))","v":""}]
[null,null,"",null,null,null,null,{"$f":"IF(G1577=\"\",\"\",VLOOKUP(G1577,'Lista de precios'!$B$7:$C$5000,2,0))","v":""}]
[null,null,"",null,null,null,null,{"$f":"IF(G1578=\"\",\"\",VLOOKUP(G1578,'Lista de precios'!$B$7:$C$5000,2,0))","v":""}]
[null,null,"",null,null,null,null,{"$f":"IF(G1579=\"\",\"\",VLOOKUP(G1579,'Lista de precios'!$B$7:$C$5000,2,0))","v":""}]
[null,null,"",null,null,null,null,{"$f":"IF(G1580=\"\",\"\",VLOOKUP(G1580,'Lista de precios'!$B$7:$C$5000,2,0))","v":""}]
[null,null,"",null,null,null,null,{"$f":"IF(G1581=\"\",\"\",VLOOKUP(G1581,'Lista de precios'!$B$7:$C$5000,2,0))","v":""}]
[null,null,"",null,null,null,null,{"$f":"IF(G1582=\"\",\"\",VLOOKUP(G1582,'Lista de precios'!$B$7:$C$5000,2,0))","v":""}]
[null,null,"",null,null,null,null,{"$f":"IF(G1583=\"\",\"\",VLOOKUP(G1583,'Lista de precios'!$B$7:$C$5000,2,0))","v":""}]
[null,null,"",null,null,null,null,{"$f":"IF(G1584=\"\",\"\",VLOOKUP(G1584,'Lista de precios'!$B$7:$C$5000,2,0))","v":""}]
[null,null,"",null,null,null,null,{"$f":"IF(G1585=\"\",\"\",VLOOKUP(G1585,'Lista de precios'!$B$7:$C$5000,2,0))","v":""}]
[null,null,"",null,null,null,null,{"$f":"IF(G1586=\"\",\"\",VLOOKUP(G1586,'Lista de precios'!$B$7:$C$5000,2,0))","v":""}]
[null,null,"",null,null,null,null,{"$f":"IF(G1587=\"\",\"\",VLOOKUP(G1587,'Lista de precios'!$B$7:$C$5000,2,0))","v":""}]
[null,null,"",null,null,null,null,{"$f":"IF(G1588=\"\",\"\",VLOOKUP(G1588,'Lista de precios'!$B$7:$C$5000,2,0))","v":""}]
[null,null,"",null,null,null,null,{"$f":"IF(G1589=\"\",\"\",VLOOKUP(G1589,'Lista de precios'!$B$7:$C$5000,2,0))","v":""}]
[null,null,"",null,null,null,null,{"$f":"IF(G1590=\"\",\"\",VLOOKUP(G1590,'Lista de precios'!$B$7:$C$5000,2,0))","v":""}]
[null,null,"",null,null,null,null,{"$f":"IF(G1591=\"\",\"\",VLOOKUP(G1591,'Lista de precios'!$B$7:$C$5000,2,0))","v":""}]
[null,null,"",null,null,null,null,{"$f":"IF(G1592=\"\",\"\",VLOOKUP(G1592,'Lista de precios'!$B$7:$C$5000,2,0))","v":""}]
[null,null,"",null,null,null,null,{"$f":"IF(G1593=\"\",\"\",VLOOKUP(G1593,'Lista de precios'!$B$7:$C$5000,2,0))","v":""}]
[null,null,"",null,null,null,null,{"$f":"IF(G1594=\"\",\"\",VLOOKUP(G1594,'Lista de precios'!$B$7:$C$5000,2,0))","v":""}]
[null,null,"",null,null,null,null,{"$f":"IF(G1595=\"\",\"\",VLOOKUP(G1595,'Lista de precios'!$B$7:$C$5000,2,0))","v":""}]
[null,null,"",null,null,null,null,{"$f":"IF(G1596=\"\",\"\",VLOOKUP(G1596,'Lista de precios'!$B$7:$C$5000,2,0))","v":""}]
[null,null,"",null,null,null,null,{"$f":"IF(G1597=\"\",\"\",VLOOKUP(G1597,'Lista de precios'!$B$7:$C$5000,2,0))","v":""}]
[null,null,"",null,null,null,null,{"$f":"IF(G1598=\"\",\"\",VLOOKUP(G1598,'Lista de precios'!$B$7:$C$5000,2,0))","v":""}]
[null,null,"",null,null,null,null,{"$f":"IF(G1599=\"\",\"\",VLOOKUP(G1599,'Lista de precios'!$B$7:$C$5000,2,0))","v":""}]
[null,null,"",null,null,null,null,{"$f":"IF(G1600=\"\",\"\",VLOOKUP(G1600,'Lista de precios'!$B$7:$C$5000,2,0))","v":""}]
[null,null,"",null,null,null,null,{"$f":"IF(G1601=\"\",\"\",VLOOKUP(G1601,'Lista de precios'!$B$7:$C$5000,2,0))","v":""}]
[null,null,"",null,null,null,null,{"$f":"IF(G1602=\"\",\"\",VLOOKUP(G1602,'Lista de precios'!$B$7:$C$5000,2,0))","v":""}]
[null,null,"",null,null,null,null,{"$f":"IF(G1603=\"\",\"\",VLOOKUP(G1603,'Lista de precios'!$B$7:$C$5000,2,0))","v":""}]
[null,null,"",null,null,null,null,{"$f":"IF(G1604=\"\",\"\",VLOOKUP(G1604,'Lista de precios'!$B$7:$C$5000,2,0))","v":""}]
[null,null,"",null,null,null,null,{"$f":"IF(G1605=\"\",\"\",VLOOKUP(G1605,'Lista de precios'!$B$7:$C$5000,2,0))","v":""}]
[null,null,"",null,null,null,null,{"$f":"IF(G1606=\"\",\"\",VLOOKUP(G1606,'Lista de precios'!$B$7:$C$5000,2,0))","v":""}]
[null,null,"",null,null,null,null,{"$f":"IF(G1607=\"\",\"\",VLOOKUP(G1607,'Lista de precios'!$B$7:$C$5000,2,0))","v":""}]
[null,null,"",null,null,null,null,{"$f":"IF(G1608=\"\",\"\",VLOOKUP(G1608,'Lista de precios'!$B$7:$C$5000,2,0))","v":""}]
[null,null,"",null,null,null,null,{"$f":"IF(G1609=\"\",\"\",VLOOKUP(G1609,'Lista de precios'!$B$7:$C$5000,2,0))","v":""}]
[null,null,"",null,null,null,null,{"$f":"IF(G1610=\"\",\"\",VLOOKUP(G1610,'Lista de precios'!$B$7:$C$5000,2,0))","v":""}]
[null,null,"",null,null,null,null,{"$f":"IF(G1611=\"\",\"\",VLOOKUP(G1611,'Lista de precios'!$B$7:$C$5000,2,0))","v":""}]
[null,null,{"$f":"IF(B1612=\"\",\"\",TEXT(B1612,\"Mmmm\"))","v":""},null,null,null,null,{"$f":"IF(G1612=\"\",\"\",VLOOKUP(G1612,'Lista de precios'!$B$7:$C$5000,2,0))","v":""}]
[null,null,"",null,null,null,null,{"$f":"IF(G1613=\"\",\"\",VLOOKUP(G1613,'Lista de precios'!$B$7:$C$5000,2,0))","v":""}]
[null,null,"",null,null,null,null,{"$f":"IF(G1614=\"\",\"\",VLOOKUP(G1614,'Lista de precios'!$B$7:$C$5000,2,0))","v":""}]
[null,null,"",null,null,null,null,{"$f":"IF(G1615=\"\",\"\",VLOOKUP(G1615,'Lista de precios'!$B$7:$C$5000,2,0))","v":""}]
[null,null,"",null,null,null,null,{"$f":"IF(G1616=\"\",\"\",VLOOKUP(G1616,'Lista de precios'!$B$7:$C$5000,2,0))","v":""}]
[null,null,"",null,null,null,null,{"$f":"IF(G1617=\"\",\"\",VLOOKUP(G1617,'Lista de precios'!$B$7:$C$5000,2,0))","v":""}]
[null,null,"",null,null,null,null,{"$f":"IF(G1618=\"\",\"\",VLOOKUP(G1618,'Lista de precios'!$B$7:$C$5000,2,0))","v":""}]
[null,null,"",null,null,null,null,{"$f":"IF(G1619=\"\",\"\",VLOOKUP(G1619,'Lista de precios'!$B$7:$C$5000,2,0))","v":""}]
[null,null,"",null,null,null,null,{"$f":"IF(G1620=\"\",\"\",VLOOKUP(G1620,'Lista de precios'!$B$7:$C$5000,2,0))","v":""}]
[null,null,"",null,null,null,null,{"$f":"IF(G1621=\"\",\"\",VLOOKUP(G1621,'Lista de precios'!$B$7:$C$5000,2,0))","v":""}]
[null,null,"",null,null,null,null,{"$f":"IF(G1622=\"\",\"\",VLOOKUP(G1622,'Lista de precios'!$B$7:$C$5000,2,0))","v":""}]
[null,null,"",null,null,null,null,{"$f":"IF(G1623=\"\",\"\",VLOOKUP(G1623,'Lista de precios'!$B$7:$C$5000,2,0))","v":""}]
[null,null,"",null,null,null,null,{"$f":"IF(G1624=\"\",\"\",VLOOKUP(G1624,'Lista de precios'!$B$7:$C$5000,2,0))","v":""}]
[null,null,"",null,null,null,null,{"$f":"IF(G1625=\"\",\"\",VLOOKUP(G1625,'Lista de precios'!$B$7:$C$5000,2,0))","v":""}]
[null,null,"",null,null,null,null,{"$f":"IF(G1626=\"\",\"\",VLOOKUP(G1626,'Lista de precios'!$B$7:$C$5000,2,0))","v":""}]
[null,null,"",null,null,null,null,{"$f":"IF(G1627=\"\",\"\",VLOOKUP(G1627,'Lista de precios'!$B$7:$C$5000,2,0))","v":""}]
[null,null,"",null,null,null,null,{"$f":"IF(G1628=\"\",\"\",VLOOKUP(G1628,'Lista de precios'!$B$7:$C$5000,2,0))","v":""}]
[null,null,"",null,null,null,null,{"$f":"IF(G1629=\"\",\"\",VLOOKUP(G1629,'Lista de precios'!$B$7:$C$5000,2,0))","v":""}]
[null,null,"",null,null,null,null,{"$f":"IF(G1630=\"\",\"\",VLOOKUP(G1630,'Lista de precios'!$B$7:$C$5000,2,0))","v":""}]
[null,null,"",null,null,null,null,{"$f":"IF(G1631=\"\",\"\",VLOOKUP(G1631,'Lista de precios'!$B$7:$C$5000,2,0))","v":""}]
[null,null,"",null,null,null,null,{"$f":"IF(G1632=\"\",\"\",VLOOKUP(G1632,'Lista de precios'!$B$7:$C$5000,2,0))","v":""}]
[null,null,"",null,null,null,null,{"$f":"IF(G1633=\"\",\"\",VLOOKUP(G1633,'Lista de precios'!$B$7:$C$5000,2,0))","v":""}]
[null,null,"",null,null,null,null,{"$f":"IF(G1634=\"\",\"\",VLOOKUP(G1634,'Lista de precios'!$B$7:$C$5000,2,0))","v":""}]
[null,null,"",null,null,null,null,{"$f":"IF(G1635=\"\",\"\",VLOOKUP(G1635,'Lista de precios'!$B$7:$C$5000,2,0))","v":""}]
[null,null,"",null,null,null,null,{"$f":"IF(G1636=\"\",\"\",VLOOKUP(G1636,'Lista de precios'!$B$7:$C$5000,2,0))","v":""}]
[null,null,"",null,null,null,null,{"$f":"IF(G1637=\"\",\"\",VLOOKUP(G1637,'Lista de precios'!$B$7:$C$5000,2,0))","v":""}]
[null,null,"",null,null,null,null,{"$f":"IF(G1638=\"\",\"\",VLOOKUP(G1638,'Lista de precios'!$B$7:$C$5000,2,0))","v":""}]
[null,null,"",null,null,null,null,{"$f":"IF(G1639=\"\",\"\",VLOOKUP(G1639,'Lista de precios'!$B$7:$C$5000,2,0))","v":""}]
[null,null,"",null,null,null,null,{"$f":"IF(G1640=\"\",\"\",VLOOKUP(G1640,'Lista de precios'!$B$7:$C$5000,2,0))","v":""}]
[null,null,"",null,null,null,null,{"$f":"IF(G1641=\"\",\"\",VLOOKUP(G1641,'Lista de precios'!$B$7:$C$5000,2,0))","v":""}]
[null,null,"",null,null,null,null,{"$f":"IF(G1642=\"\",\"\",VLOOKUP(G1642,'Lista de precios'!$B$7:$C$5000,2,0))","v":""}]
[null,null,"",null,null,null,null,{"$f":"IF(G1643=\"\",\"\",VLOOKUP(G1643,'Lista de precios'!$B$7:$C$5000,2,0))","v":""}]
[null,null,"",null,null,null,null,{"$f":"IF(G1644=\"\",\"\",VLOOKUP(G1644,'Lista de precios'!$B$7:$C$5000,2,0))","v":""}]
[null,null,"",null,null,null,null,{"$f":"IF(G1645=\"\",\"\",VLOOKUP(G1645,'Lista de precios'!$B$7:$C$5000,2,0))","v":""}]
[null,null,"",null,null,null,null,{"$f":"IF(G1646=\"\",\"\",VLOOKUP(G1646,'Lista de precios'!$B$7:$C$5000,2,0))","v":""}]
[null,null,"",null,null,null,null,{"$f":"IF(G1647=\"\",\"\",VLOOKUP(G1647,'Lista de precios'!$B$7:$C$5000,2,0))","v":""}]
[null,null,"",null,null,null,null,{"$f":"IF(G1648=\"\",\"\",VLOOKUP(G1648,'Lista de precios'!$B$7:$C$5000,2,0))","v":""}]
[null,null,"",null,null,null,null,{"$f":"IF(G1649=\"\",\"\",VLOOKUP(G1649,'Lista de precios'!$B$7:$C$5000,2,0))","v":""}]
[null,null,"",null,null,null,null,{"$f":"IF(G1650=\"\",\"\",VLOOKUP(G1650,'Lista de precios'!$B$7:$C$5000,2,0))","v":""}]
[null,null,"",null,null,null,null,{"$f":"IF(G1651=\"\",\"\",VLOOKUP(G1651,'Lista de precios'!$B$7:$C$5000,2,0))","v":""}]
[null,null,"",null,null,null,null,{"$f":"IF(G1652=\"\",\"\",VLOOKUP(G1652,'Lista de precios'!$B$7:$C$5000,2,0))","v":""}]
[null,null,"",null,null,null,null,{"$f":"IF(G1653=\"\",\"\",VLOOKUP(G1653,'Lista de precios'!$B$7:$C$5000,2,0))","v":""}]
[null,null,"",null,null,null,null,{"$f":"IF(G1654=\"\",\"\",VLOOKUP(G1654,'Lista de precios'!$B$7:$C$5000,2,0))","v":""}]
[null,null,"",null,null,null,null,{"$f":"IF(G1655=\"\",\"\",VLOOKUP(G1655,'Lista de precios'!$B$7:$C$5000,2,0))","v":""}]
[null,null,"",null,null,null,null,{"$f":"IF(G1656=\"\",\"\",VLOOKUP(G1656,'Lista de precios'!$B$7:$C$5000,2,0))","v":""}]
[null,null,"",null,null,null,null,{"$f":"IF(G1657=\"\",\"\",VLOOKUP(G1657,'Lista de precios'!$B$7:$C$5000,2,0))","v":""}]
[null,null,"",null,null,null,null,{"$f":"IF(G1658=\"\",\"\",VLOOKUP(G1658,'Lista de precios'!$B$7:$C$5000,2,0))","v":""}]
[null,null,"",null,null,null,null,{"$f":"IF(G1659=\"\",\"\",VLOOKUP(G1659,'Lista de precios'!$B$7:$C$5000,2,0))","v":""}]
[null,null,"",null,null,null,null,{"$f":"IF(G1660=\"\",\"\",VLOOKUP(G1660,'Lista de precios'!$B$7:$C$5000,2,0))","v":""}]
[null,null,"",null,null,null,null,{"$f":"IF(G1661=\"\",\"\",VLOOKUP(G1661,'Lista de precios'!$B$7:$C$5000,2,0))","v":""}]
[null,null,"",null,null,null,null,{"$f":"IF(G1662=\"\",\"\",VLOOKUP(G1662,'Lista de precios'!$B$7:$C$5000,2,0))","v":""}]
[null,null,"",null,null,null,null,{"$f":"IF(G1663=\"\",\"\",VLOOKUP(G1663,'Lista de precios'!$B$7:$C$5000,2,0))","v":""}]
[null,null,"",null,null,null,null,{"$f":"IF(G1664=\"\",\"\",VLOOKUP(G1664,'Lista de precios'!$B$7:$C$5000,2,0))","v":""}]
[null,null,"",null,null,null,null,{"$f":"IF(G1665=\"\",\"\",VLOOKUP(G1665,'Lista de precios'!$B$7:$C$5000,2,0))","v":""}]
[null,null,"",null,null,null,null,{"$f":"IF(G1666=\"\",\"\",VLOOKUP(G1666,'Lista de precios'!$B$7:$C$5000,2,0))","v":""}]
[null,null,"",null,null,null,null,{"$f":"IF(G1667=\"\",\"\",VLOOKUP(G1667,'Lista de precios'!$B$7:$C$5000,2,0))","v":""}]
[null,null,"",null,null,null,null,{"$f":"IF(G1668=\"\",\"\",VLOOKUP(G1668,'Lista de precios'!$B$7:$C$5000,2,0))","v":""}]
[null,null,"",null,null,null,null,{"$f":"IF(G1669=\"\",\"\",VLOOKUP(G1669,'Lista de precios'!$B$7:$C$5000,2,0))","v":""}]
[null,null,"",null,null,null,null,{"$f":"IF(G1670=\"\",\"\",VLOOKUP(G1670,'Lista de precios'!$B$7:$C$5000,2,0))","v":""}]
[null,null,"",null,null,null,null,{"$f":"IF(G1671=\"\",\"\",VLOOKUP(G1671,'Lista de precios'!$B$7:$C$5000,2,0))","v":""}]
[null,null,"",null,null,null,null,{"$f":"IF(G1672=\"\",\"\",VLOOKUP(G1672,'Lista de precios'!$B$7:$C$5000,2,0))","v":""}]
[null,null,"",null,null,null,null,{"$f":"IF(G1673=\"\",\"\",VLOOKUP(G1673,'Lista de precios'!$B$7:$C$5000,2,0))","v":""}]
[null,null,"",null,null,null,null,{"$f":"IF(G1674=\"\",\"\",VLOOKUP(G1674,'Lista de precios'!$B$7:$C$5000,2,0))","v":""}]
[null,null,"",null,null,null,null,{"$f":"IF(G1675=\"\",\"\",VLOOKUP(G1675,'Lista de precios'!$B$7:$C$5000,2,0))","v":""}]
[null,null,{"$f":"IF(B1676=\"\",\"\",TEXT(B1676,\"Mmmm\"))","v":""},null,null,null,null,{"$f":"IF(G1676=\"\",\"\",VLOOKUP(G1676,'Lista de precios'!$B$7:$C$5000,2,0))","v":""}]
[null,null,"",null,null,null,null,{"$f":"IF(G1677=\"\",\"\",VLOOKUP(G1677,'Lista de precios'!$B$7:$C$5000,2,0))","v":""}]
[null,null,"",null,null,null,null,{"$f":"IF(G1678=\"\",\"\",VLOOKUP(G1678,'Lista de precios'!$B$7:$C$5000,2,0))","v":""}]
[null,null,"",null,null,null,null,{"$f":"IF(G1679=\"\",\"\",VLOOKUP(G1679,'Lista de precios'!$B$7:$C$5000,2,0))","v":""}]
[null,null,"",null,null,null,null,{"$f":"IF(G1680=\"\",\"\",VLOOKUP(G1680,'Lista de precios'!$B$7:$C$5000,2,0))","v":""}]
[null,null,"",null,null,null,null,{"$f":"IF(G1681=\"\",\"\",VLOOKUP(G1681,'Lista de precios'!$B$7:$C$5000,2,0))","v":""}]
[null,null,"",null,null,null,null,{"$f":"IF(G1682=\"\",\"\",VLOOKUP(G1682,'Lista de precios'!$B$7:$C$5000,2,0))","v":""}]
[null,null,"",null,null,null,null,{"$f":"IF(G1683=\"\",\"\",VLOOKUP(G1683,'Lista de precios'!$B$7:$C$5000,2,0))","v":""}]
[null,null,"",null,null,null,null,{"$f":"IF(G1684=\"\",\"\",VLOOKUP(G1684,'Lista de precios'!$B$7:$C$5000,2,0))","v":""}]
[null,null,"",null,null,null,null,{"$f":"IF(G1685=\"\",\"\",VLOOKUP(G1685,'Lista de precios'!$B$7:$C$5000,2,0))","v":""}]
[null,null,"",null,null,null,null,{"$f":"IF(G1686=\"\",\"\",VLOOKUP(G1686,'Lista de precios'!$B$7:$C$5000,2,0))","v":""}]
[null,null,"",null,null,null,null,{"$f":"IF(G1687=\"\",\"\",VLOOKUP(G1687,'Lista de precios'!$B$7:$C$5000,2,0))","v":""}]
[null,null,"",null,null,null,null,{"$f":"IF(G1688=\"\",\"\",VLOOKUP(G1688,'Lista de precios'!$B$7:$C$5000,2,0))","v":""}]
[null,null,"",null,null,null,null,{"$f":"IF(G1689=\"\",\"\",VLOOKUP(G1689,'Lista de precios'!$B$7:$C$5000,2,0))","v":""}]
[null,null,"",null,null,null,null,{"$f":"IF(G1690=\"\",\"\",VLOOKUP(G1690,'Lista de precios'!$B$7:$C$5000,2,0))","v":""}]
[null,null,"",null,null,null,null,{"$f":"IF(G1691=\"\",\"\",VLOOKUP(G1691,'Lista de precios'!$B$7:$C$5000,2,0))","v":""}]
[null,null,"",null,null,null,null,{"$f":"IF(G1692=\"\",\"\",VLOOKUP(G1692,'Lista de precios'!$B$7:$C$5000,2,0))","v":""}]
[null,null,"",null,null,null,null,{"$f":"IF(G1693=\"\",\"\",VLOOKUP(G1693,'Lista de precios'!$B$7:$C$5000,2,0))","v":""}]
[null,null,"",null,null,null,null,{"$f":"IF(G1694=\"\",\"\",VLOOKUP(G1694,'Lista de precios'!$B$7:$C$5000,2,0))","v":""}]
[null,null,"",null,null,null,null,{"$f":"IF(G1695=\"\",\"\",VLOOKUP(G1695,'Lista de precios'!$B$7:$C$5000,2,0))","v":""}]
[null,null,"",null,null,null,null,{"$f":"IF(G1696=\"\",\"\",VLOOKUP(G1696,'Lista de precios'!$B$7:$C$5000,2,0))","v":""}]
[null,null,"",null,null,null,null,{"$f":"IF(G1697=\"\",\"\",VLOOKUP(G1697,'Lista de precios'!$B$7:$C$5000,2,0))","v":""}]
[null,null,"",null,null,null,null,{"$f":"IF(G1698=\"\",\"\",VLOOKUP(G1698,'Lista de precios'!$B$7:$C$5000,2,0))","v":""}]
[null,null,"",null,null,null,null,{"$f":"IF(G1699=\"\",\"\",VLOOKUP(G1699,'Lista de precios'!$B$7:$C$5000,2,0))","v":""}]
[null,null,"",null,null,null,null,{"$f":"IF(G1700=\"\",\"\",VLOOKUP(G1700,'Lista de precios'!$B$7:$C$5000,2,0))","v":""}]
[null,null,"",null,null,null,null,{"$f":"IF(G1701=\"\",\"\",VLOOKUP(G1701,'Lista de precios'!$B$7:$C$5000,2,0))","v":""}]
[null,null,"",null,null,null,null,{"$f":"IF(G1702=\"\",\"\",VLOOKUP(G1702,'Lista de precios'!$B$7:$C$5000,2,0))","v":""}]
[null,null,"",null,null,null,null,{"$f":"IF(G1703=\"\",\"\",VLOOKUP(G1703,'Lista de precios'!$B$7:$C$5000,2,0))","v":""}]
[null,null,"",null,null,null,null,{"$f":"IF(G1704=\"\",\"\",VLOOKUP(G1704,'Lista de precios'!$B$7:$C$5000,2,0))","v":""}]
[null,null,"",null,null,null,null,{"$f":"IF(G1705=\"\",\"\",VLOOKUP(G1705,'Lista de precios'!$B$7:$C$5000,2,0))","v":""}]
[null,null,"",null,null,null,null,{"$f":"IF(G1706=\"\",\"\",VLOOKUP(G1706,'Lista de precios'!$B$7:$C$5000,2,0))","v":""}]
[null,null,"",null,null,null,null,{"$f":"IF(G1707=\"\",\"\",VLOOKUP(G1707,'Lista de precios'!$B$7:$C$5000,2,0))","v":""}]
[null,null,"",null,null,null,null,{"$f":"IF(G1708=\"\",\"\",VLOOKUP(G1708,'Lista de precios'!$B$7:$C$5000,2,0))","v":""}]
[null,null,"",null,null,null,null,{"$f":"IF(G1709=\"\",\"\",VLOOKUP(G1709,'Lista de precios'!$B$7:$C$5000,2,0))","v":""}]
[null,null,"",null,null,null,null,{"$f":"IF(G1710=\"\",\"\",VLOOKUP(G1710,'Lista de precios'!$B$7:$C$5000,2,0))","v":""}]
[null,null,"",null,null,null,null,{"$f":"IF(G1711=\"\",\"\",VLOOKUP(G1711,'Lista de precios'!$B$7:$C$5000,2,0))","v":""}]
[null,null,"",null,null,null,null,{"$f":"IF(G1712=\"\",\"\",VLOOKUP(G1712,'Lista de precios'!$B$7:$C$5000,2,0))","v":""}]
[null,null,"",null,null,null,null,{"$f":"IF(G1713=\"\",\"\",VLOOKUP(G1713,'Lista de precios'!$B$7:$C$5000,2,0))","v":""}]
[null,null,"",null,null,null,null,{"$f":"IF(G1714=\"\",\"\",VLOOKUP(G1714,'Lista de precios'!$B$7:$C$5000,2,0))","v":""}]
[null,null,"",null,null,null,null,{"$f":"IF(G1715=\"\",\"\",VLOOKUP(G1715,'Lista de precios'!$B$7:$C$5000,2,0))","v":""}]
[null,null,"",null,null,null,null,{"$f":"IF(G1716=\"\",\"\",VLOOKUP(G1716,'Lista de precios'!$B$7:$C$5000,2,0))","v":""}]
[null,null,"",null,null,null,null,{"$f":"IF(G1717=\"\",\"\",VLOOKUP(G1717,'Lista de precios'!$B$7:$C$5000,2,0))","v":""}]
[null,null,"",null,null,null,null,{"$f":"IF(G1718=\"\",\"\",VLOOKUP(G1718,'Lista de precios'!$B$7:$C$5000,2,0))","v":""}]
[null,null,"",null,null,null,null,{"$f":"IF(G1719=\"\",\"\",VLOOKUP(G1719,'Lista de precios'!$B$7:$C$5000,2,0))","v":""}]
[null,null,"",null,null,null,null,{"$f":"IF(G1720=\"\",\"\",VLOOKUP(G1720,'Lista de precios'!$B$7:$C$5000,2,0))","v":""}]
[null,null,"",null,null,null,null,{"$f":"IF(G1721=\"\",\"\",VLOOKUP(G1721,'Lista de precios'!$B$7:$C$5000,2,0))","v":""}]
[null,null,"",null,null,null,null,{"$f":"IF(G1722=\"\",\"\",VLOOKUP(G1722,'Lista de precios'!$B$7:$C$5000,2,0))","v":""}]
[null,null,"",null,null,null,null,{"$f":"IF(G1723=\"\",\"\",VLOOKUP(G1723,'Lista de precios'!$B$7:$C$5000,2,0))","v":""}]
[null,null,"",null,null,null,null,{"$f":"IF(G1724=\"\",\"\",VLOOKUP(G1724,'Lista de precios'!$B$7:$C$5000,2,0))","v":""}]
[null,null,"",null,null,null,null,{"$f":"IF(G1725=\"\",\"\",VLOOKUP(G1725,'Lista de precios'!$B$7:$C$5000,2,0))","v":""}]
[null,null,"",null,null,null,null,{"$f":"IF(G1726=\"\",\"\",VLOOKUP(G1726,'Lista de precios'!$B$7:$C$5000,2,0))","v":""}]
[null,null,"",null,null,null,null,{"$f":"IF(G1727=\"\",\"\",VLOOKUP(G1727,'Lista de precios'!$B$7:$C$5000,2,0))","v":""}]
[null,null,"",null,null,null,null,{"$f":"IF(G1728=\"\",\"\",VLOOKUP(G1728,'Lista de precios'!$B$7:$C$5000,2,0))","v":""}]
[null,null,"",null,null,null,null,{"$f":"IF(G1729=\"\",\"\",VLOOKUP(G1729,'Lista de precios'!$B$7:$C$5000,2,0))","v":""}]
[null,null,"",null,null,null,null,{"$f":"IF(G1730=\"\",\"\",VLOOKUP(G1730,'Lista de precios'!$B$7:$C$5000,2,0))","v":""}]
[null,null,"",null,null,null,null,{"$f":"IF(G1731=\"\",\"\",VLOOKUP(G1731,'Lista de precios'!$B$7:$C$5000,2,0))","v":""}]
[null,null,"",null,null,null,null,{"$f":"IF(G1732=\"\",\"\",VLOOKUP(G1732,'Lista de precios'!$B$7:$C$5000,2,0))","v":""}]
[null,null,"",null,null,null,null,{"$f":"IF(G1733=\"\",\"\",VLOOKUP(G1733,'Lista de precios'!$B$7:$C$5000,2,0))","v":""}]
[null,null,"",null,null,null,null,{"$f":"IF(G1734=\"\",\"\",VLOOKUP(G1734,'Lista de precios'!$B$7:$C$5000,2,0))","v":""}]
[null,null,"",null,null,null,null,{"$f":"IF(G1735=\"\",\"\",VLOOKUP(G1735,'Lista de precios'!$B$7:$C$5000,2,0))","v":""}]
[null,null,"",null,null,null,null,{"$f":"IF(G1736=\"\",\"\",VLOOKUP(G1736,'Lista de precios'!$B$7:$C$5000,2,0))","v":""}]
[null,null,"",null,null,null,null,{"$f":"IF(G1737=\"\",\"\",VLOOKUP(G1737,'Lista de precios'!$B$7:$C$5000,2,0))","v":""}]
[null,null,"",null,null,null,null,{"$f":"IF(G1738=\"\",\"\",VLOOKUP(G1738,'Lista de precios'!$B$7:$C$5000,2,0))","v":""}]
[null,null,"",null,null,null,null,{"$f":"IF(G1739=\"\",\"\",VLOOKUP(G1739,'Lista de precios'!$B$7:$C$5000,2,0))","v":""}]
[null,null,{"$f":"IF(B1740=\"\",\"\",TEXT(B1740,\"Mmmm\"))","v":""},null,null,null,null,{"$f":"IF(G1740=\"\",\"\",VLOOKUP(G1740,'Lista de precios'!$B$7:$C$5000,2,0))","v":""}]
[null,null,"",null,null,null,null,{"$f":"IF(G1741=\"\",\"\",VLOOKUP(G1741,'Lista de precios'!$B$7:$C$5000,2,0))","v":""}]
[null,null,"",null,null,null,null,{"$f":"IF(G1742=\"\",\"\",VLOOKUP(G1742,'Lista de precios'!$B$7:$C$5000,2,0))","v":""}]
[null,null,"",null,null,null,null,{"$f":"IF(G1743=\"\",\"\",VLOOKUP(G1743,'Lista de precios'!$B$7:$C$5000,2,0))","v":""}]
[null,null,"",null,null,null,null,{"$f":"IF(G1744=\"\",\"\",VLOOKUP(G1744,'Lista de precios'!$B$7:$C$5000,2,0))","v":""}]
[null,null,"",null,null,null,null,{"$f":"IF(G1745=\"\",\"\",VLOOKUP(G1745,'Lista de precios'!$B$7:$C$5000,2,0))","v":""}]
[null,null,"",null,null,null,null,{"$f":"IF(G1746=\"\",\"\",VLOOKUP(G1746,'Lista de precios'!$B$7:$C$5000,2,0))","v":""}]
[null,null,"",null,null,null,null,{"$f":"IF(G1747=\"\",\"\",VLOOKUP(G1747,'Lista de precios'!$B$7:$C$5000,2,0))","v":""}]
[null,null,"",null,null,null,null,{"$f":"IF(G1748=\"\",\"\",VLOOKUP(G1748,'Lista de precios'!$B$7:$C$5000,2,0))","v":""}]
[null,null,"",null,null,null,null,{"$f":"IF(G1749=\"\",\"\",VLOOKUP(G1749,'Lista de precios'!$B$7:$C$5000,2,0))","v":""}]
[null,null,"",null,null,null,null,{"$f":"IF(G1750=\"\",\"\",VLOOKUP(G1750,'Lista de precios'!$B$7:$C$5000,2,0))","v":""}]
[null,null,"",null,null,null,null,{"$f":"IF(G1751=\"\",\"\",VLOOKUP(G1751,'Lista de precios'!$B$7:$C$5000,2,0))","v":""}]
[null,null,"",null,null,null,null,{"$f":"IF(G1752=\"\",\"\",VLOOKUP(G1752,'Lista de precios'!$B$7:$C$5000,2,0))","v":""}]
[null,null,"",null,null,null,null,{"$f":"IF(G1753=\"\",\"\",VLOOKUP(G1753,'Lista de precios'!$B$7:$C$5000,2,0))","v":""}]
[null,null,"",null,null,null,null,{"$f":"IF(G1754=\"\",\"\",VLOOKUP(G1754,'Lista de precios'!$B$7:$C$5000,2,0))","v":""}]
[null,null,"",null,null,null,null,{"$f":"IF(G1755=\"\",\"\",VLOOKUP(G1755,'Lista de precios'!$B$7:$C$5000,2,0))","v":""}]
[null,null,"",null,null,null,null,{"$f":"IF(G1756=\"\",\"\",VLOOKUP(G1756,'Lista de precios'!$B$7:$C$5000,2,0))","v":""}]
[null,null,"",null,null,null,null,{"$f":"IF(G1757=\"\",\"\",VLOOKUP(G1757,'Lista de precios'!$B$7:$C$5000,2,0))","v":""}]
[null,null,"",null,null,null,null,{"$f":"IF(G1758=\"\",\"\",VLOOKUP(G1758,'Lista de precios'!$B$7:$C$5000,2,0))","v":""}]
[null,null,"",null,null,null,null,{"$f":"IF(G1759=\"\",\"\",VLOOKUP(G1759,'Lista de precios'!$B$7:$C$5000,2,0))","v":""}]
[null,null,"",null,null,null,null,{"$f":"IF(G1760=\"\",\"\",VLOOKUP(G1760,'Lista de precios'!$B$7:$C$5000,2,0))","v":""}]
[null,null,"",null,null,null,null,{"$f":"IF(G1761=\"\",\"\",VLOOKUP(G1761,'Lista de precios'!$B$7:$C$5000,2,0))","v":""}]
[null,null,"",null,null,null,null,{"$f":"IF(G1762=\"\",\"\",VLOOKUP(G1762,'Lista de precios'!$B$7:$C$5000,2,0))","v":""}]
[null,null,"",null,null,null,null,{"$f":"IF(G1763=\"\",\"\",VLOOKUP(G1763,'Lista de precios'!$B$7:$C$5000,2,0))","v":""}]
[null,null,"",null,null,null,null,{"$f":"IF(G1764=\"\",\"\",VLOOKUP(G1764,'Lista de precios'!$B$7:$C$5000,2,0))","v":""}]
[null,null,"",null,null,null,null,{"$f":"IF(G1765=\"\",\"\",VLOOKUP(G1765,'Lista de precios'!$B$7:$C$5000,2,0))","v":""}]
[null,null,"",null,null,null,null,{"$f":"IF(G1766=\"\",\"\",VLOOKUP(G1766,'Lista de precios'!$B$7:$C$5000,2,0))","v":""}]
[null,null,"",null,null,null,null,{"$f":"IF(G1767=\"\",\"\",VLOOKUP(G1767,'Lista de precios'!$B$7:$C$5000,2,0))","v":""}]
[null,null,"",null,null,null,null,{"$f":"IF(G1768=\"\",\"\",VLOOKUP(G1768,'Lista de precios'!$B$7:$C$5000,2,0))","v":""}]
[null,null,"",null,null,null,null,{"$f":"IF(G1769=\"\",\"\",VLOOKUP(G1769,'Lista de precios'!$B$7:$C$5000,2,0))","v":""}]
[null,null,"",null,null,null,null,{"$f":"IF(G1770=\"\",\"\",VLOOKUP(G1770,'Lista de precios'!$B$7:$C$5000,2,0))","v":""}]
[null,null,"",null,null,null,null,{"$f":"IF(G1771=\"\",\"\",VLOOKUP(G1771,'Lista de precios'!$B$7:$C$5000,2,0))","v":""}]
[null,null,"",null,null,null,null,{"$f":"IF(G1772=\"\",\"\",VLOOKUP(G1772,'Lista de precios'!$B$7:$C$5000,2,0))","v":""}]
[null,null,"",null,null,null,null,{"$f":"IF(G1773=\"\",\"\",VLOOKUP(G1773,'Lista de precios'!$B$7:$C$5000,2,0))","v":""}]
[null,null,"",null,null,null,null,{"$f":"IF(G1774=\"\",\"\",VLOOKUP(G1774,'Lista de precios'!$B$7:$C$5000,2,0))","v":""}]
[null,null,"",null,null,null,null,{"$f":"IF(G1775=\"\",\"\",VLOOKUP(G1775,'Lista de precios'!$B$7:$C$5000,2,0))","v":""}]
[null,null,"",null,null,null,null,{"$f":"IF(G1776=\"\",\"\",VLOOKUP(G1776,'Lista de precios'!$B$7:$C$5000,2,0))","v":""}]
[null,null,"",null,null,null,null,{"$f":"IF(G1777=\"\",\"\",VLOOKUP(G1777,'Lista de precios'!$B$7:$C$5000,2,0))","v":""}]
[null,null,"",null,null,null,null,{"$f":"IF(G1778=\"\",\"\",VLOOKUP(G1778,'Lista de precios'!$B$7:$C$5000,2,0))","v":""}]
[null,null,"",null,null,null,null,{"$f":"IF(G1779=\"\",\"\",VLOOKUP(G1779,'Lista de precios'!$B$7:$C$5000,2,0))","v":""}]
[null,null,"",null,null,null,null,{"$f":"IF(G1780=\"\",\"\",VLOOKUP(G1780,'Lista de precios'!$B$7:$C$5000,2,0))","v":""}]
[null,null,"",null,null,null,null,{"$f":"IF(G1781=\"\",\"\",VLOOKUP(G1781,'Lista de precios'!$B$7:$C$5000,2,0))","v":""}]
[null,null,"",null,null,null,null,{"$f":"IF(G1782=\"\",\"\",VLOOKUP(G1782,'Lista de precios'!$B$7:$C$5000,2,0))","v":""}]
[null,null,"",null,null,null,null,{"$f":"IF(G1783=\"\",\"\",VLOOKUP(G1783,'Lista de precios'!$B$7:$C$5000,2,0))","v":""}]
[null,null,"",null,null,null,null,{"$f":"IF(G1784=\"\",\"\",VLOOKUP(G1784,'Lista de precios'!$B$7:$C$5000,2,0))","v":""}]
[null,null,"",null,null,null,null,{"$f":"IF(G1785=\"\",\"\",VLOOKUP(G1785,'Lista de precios'!$B$7:$C$5000,2,0))","v":""}]
[null,null,"",null,null,null,null,{"$f":"IF(G1786=\"\",\"\",VLOOKUP(G1786,'Lista de precios'!$B$7:$C$5000,2,0))","v":""}]
[null,null,"",null,null,null,null,{"$f":"IF(G1787=\"\",\"\",VLOOKUP(G1787,'Lista de precios'!$B$7:$C$5000,2,0))","v":""}]
[null,null,"",null,null,null,null,{"$f":"IF(G1788=\"\",\"\",VLOOKUP(G1788,'Lista de precios'!$B$7:$C$5000,2,0))","v":""}]
[null,null,"",null,null,null,null,{"$f":"IF(G1789=\"\",\"\",VLOOKUP(G1789,'Lista de precios'!$B$7:$C$5000,2,0))","v":""}]
[null,null,"",null,null,null,null,{"$f":"IF(G1790=\"\",\"\",VLOOKUP(G1790,'Lista de precios'!$B$7:$C$5000,2,0))","v":""}]
[null,null,"",null,null,null,null,{"$f":"IF(G1791=\"\",\"\",VLOOKUP(G1791,'Lista de precios'!$B$7:$C$5000,2,0))","v":""}]
[null,null,"",null,null,null,null,{"$f":"IF(G1792=\"\",\"\",VLOOKUP(G1792,'Lista de precios'!$B$7:$C$5000,2,0))","v":""}]
[null,null,"",null,null,null,null,{"$f":"IF(G1793=\"\",\"\",VLOOKUP(G1793,'Lista de precios'!$B$7:$C$5000,2,0))","v":""}]
[null,null,"",null,null,null,null,{"$f":"IF(G1794=\"\",\"\",VLOOKUP(G1794,'Lista de precios'!$B$7:$C$5000,2,0))","v":""}]
[null,null,"",null,null,null,null,{"$f":"IF(G1795=\"\",\"\",VLOOKUP(G1795,'Lista de precios'!$B$7:$C$5000,2,0))","v":""}]
[null,null,"",null,null,null,null,{"$f":"IF(G1796=\"\",\"\",VLOOKUP(G1796,'Lista de precios'!$B$7:$C$5000,2,0))","v":""}]
[null,null,"",null,null,null,null,{"$f":"IF(G1797=\"\",\"\",VLOOKUP(G1797,'Lista de precios'!$B$7:$C$5000,2,0))","v":""}]
[null,null,"",null,null,null,null,{"$f":"IF(G1798=\"\",\"\",VLOOKUP(G1798,'Lista de precios'!$B$7:$C$5000,2,0))","v":""}]
[null,null,"",null,null,null,null,{"$f":"IF(G1799=\"\",\"\",VLOOKUP(G1799,'Lista de precios'!$B$7:$C$5000,2,0))","v":""}]
[null,null,"",null,null,null,null,{"$f":"IF(G1800=\"\",\"\",VLOOKUP(G1800,'Lista de precios'!$B$7:$C$5000,2,0))","v":""}]
[null,null,"",null,null,null,null,{"$f":"IF(G1801=\"\",\"\",VLOOKUP(G1801,'Lista de precios'!$B$7:$C$5000,2,0))","v":""}]
[null,null,"",null,null,null,null,{"$f":"IF(G1802=\"\",\"\",VLOOKUP(G1802,'Lista de precios'!$B$7:$C$5000,2,0))","v":""}]
[null,null,"",null,null,null,null,{"$f":"IF(G1803=\"\",\"\",VLOOKUP(G1803,'Lista de precios'!$B$7:$C$5000,2,0))","v":""}]
[null,null,{"$f":"IF(B1804=\"\",\"\",TEXT(B1804,\"Mmmm\"))","v":""},null,null,null,null,{"$f":"IF(G1804=\"\",\"\",VLOOKUP(G1804,'Lista de precios'!$B$7:$C$5000,2,0))","v":""}]
[null,null,"",null,null,null,null,{"$f":"IF(G1805=\"\",\"\",VLOOKUP(G1805,'Lista de precios'!$B$7:$C$5000,2,0))","v":""}]
[null,null,"",null,null,null,null,{"$f":"IF(G1806=\"\",\"\",VLOOKUP(G1806,'Lista de precios'!$B$7:$C$5000,2,0))","v":""}]
[null,null,"",null,null,null,null,{"$f":"IF(G1807=\"\",\"\",VLOOKUP(G1807,'Lista de precios'!$B$7:$C$5000,2,0))","v":""}]
[null,null,"",null,null,null,null,{"$f":"IF(G1808=\"\",\"\",VLOOKUP(G1808,'Lista de precios'!$B$7:$C$5000,2,0))","v":""}]
[null,null,"",null,null,null,null,{"$f":"IF(G1809=\"\",\"\",VLOOKUP(G1809,'Lista de precios'!$B$7:$C$5000,2,0))","v":""}]
[null,null,"",null,null,null,null,{"$f":"IF(G1810=\"\",\"\",VLOOKUP(G1810,'Lista de precios'!$B$7:$C$5000,2,0))","v":""}]
[null,null,"",null,null,null,null,{"$f":"IF(G1811=\"\",\"\",VLOOKUP(G1811,'Lista de precios'!$B$7:$C$5000,2,0))","v":""}]
[null,null,"",null,null,null,null,{"$f":"IF(G1812=\"\",\"\",VLOOKUP(G1812,'Lista de precios'!$B$7:$C$5000,2,0))","v":""}]
[null,null,"",null,null,null,null,{"$f":"IF(G1813=\"\",\"\",VLOOKUP(G1813,'Lista de precios'!$B$7:$C$5000,2,0))","v":""}]
[null,null,"",null,null,null,null,{"$f":"IF(G1814=\"\",\"\",VLOOKUP(G1814,'Lista de precios'!$B$7:$C$5000,2,0))","v":""}]
[null,null,"",null,null,null,null,{"$f":"IF(G1815=\"\",\"\",VLOOKUP(G1815,'Lista de precios'!$B$7:$C$5000,2,0))","v":""}]
[null,null,"",null,null,null,null,{"$f":"IF(G1816=\"\",\"\",VLOOKUP(G1816,'Lista de precios'!$B$7:$C$5000,2,0))","v":""}]
[null,null,"",null,null,null,null,{"$f":"IF(G1817=\"\",\"\",VLOOKUP(G1817,'Lista de precios'!$B$7:$C$5000,2,0))","v":""}]
[null,null,"",null,null,null,null,{"$f":"IF(G1818=\"\",\"\",VLOOKUP(G1818,'Lista de precios'!$B$7:$C$5000,2,0))","v":""}]
[null,null,"",null,null,null,null,{"$f":"IF(G1819=\"\",\"\",VLOOKUP(G1819,'Lista de precios'!$B$7:$C$5000,2,0))","v":""}]
[null,null,"",null,null,null,null,{"$f":"IF(G1820=\"\",\"\",VLOOKUP(G1820,'Lista de precios'!$B$7:$C$5000,2,0))","v":""}]
[null,null,"",null,null,null,null,{"$f":"IF(G1821=\"\",\"\",VLOOKUP(G1821,'Lista de precios'!$B$7:$C$5000,2,0))","v":""}]
[null,null,"",null,null,null,null,{"$f":"IF(G1822=\"\",\"\",VLOOKUP(G1822,'Lista de precios'!$B$7:$C$5000,2,0))","v":""}]
[null,null,"",null,null,null,null,{"$f":"IF(G1823=\"\",\"\",VLOOKUP(G1823,'Lista de precios'!$B$7:$C$5000,2,0))","v":""}]
[null,null,"",null,null,null,null,{"$f":"IF(G1824=\"\",\"\",VLOOKUP(G1824,'Lista de precios'!$B$7:$C$5000,2,0))","v":""}]
[null,null,"",null,null,null,null,{"$f":"IF(G1825=\"\",\"\",VLOOKUP(G1825,'Lista de precios'!$B$7:$C$5000,2,0))","v":""}]
[null,null,"",null,null,null,null,{"$f":"IF(G1826=\"\",\"\",VLOOKUP(G1826,'Lista de precios'!$B$7:$C$5000,2,0))","v":""}]
[null,null,"",null,null,null,null,{"$f":"IF(G1827=\"\",\"\",VLOOKUP(G1827,'Lista de precios'!$B$7:$C$5000,2,0))","v":""}]
[null,null,"",null,null,null,null,{"$f":"IF(G1828=\"\",\"\",VLOOKUP(G1828,'Lista de precios'!$B$7:$C$5000,2,0))","v":""}]
[null,null,"",null,null,null,null,{"$f":"IF(G1829=\"\",\"\",VLOOKUP(G1829,'Lista de precios'!$B$7:$C$5000,2,0))","v":""}]
[null,null,"",null,null,null,null,{"$f":"IF(G1830=\"\",\"\",VLOOKUP(G1830,'Lista de precios'!$B$7:$C$5000,2,0))","v":""}]
[null,null,"",null,null,null,null,{"$f":"IF(G1831=\"\",\"\",VLOOKUP(G1831,'Lista de precios'!$B$7:$C$5000,2,0))","v":""}]
[null,null,"",null,null,null,null,{"$f":"IF(G1832=\"\",\"\",VLOOKUP(G1832,'Lista de precios'!$B$7:$C$5000,2,0))","v":""}]
[null,null,"",null,null,null,null,{"$f":"IF(G1833=\"\",\"\",VLOOKUP(G1833,'Lista de precios'!$B$7:$C$5000,2,0))","v":""}]
[null,null,"",null,null,null,null,{"$f":"IF(G1834=\"\",\"\",VLOOKUP(G1834,'Lista de precios'!$B$7:$C$5000,2,0))","v":""}]
[null,null,"",null,null,null,null,{"$f":"IF(G1835=\"\",\"\",VLOOKUP(G1835,'Lista de precios'!$B$7:$C$5000,2,0))","v":""}]
[null,null,"",null,null,null,null,{"$f":"IF(G1836=\"\",\"\",VLOOKUP(G1836,'Lista de precios'!$B$7:$C$5000,2,0))","v":""}]
[null,null,"",null,null,null,null,{"$f":"IF(G1837=\"\",\"\",VLOOKUP(G1837,'Lista de precios'!$B$7:$C$5000,2,0))","v":""}]
[null,null,"",null,null,null,null,{"$f":"IF(G1838=\"\",\"\",VLOOKUP(G1838,'Lista de precios'!$B$7:$C$5000,2,0))","v":""}]
[null,null,"",null,null,null,null,{"$f":"IF(G1839=\"\",\"\",VLOOKUP(G1839,'Lista de precios'!$B$7:$C$5000,2,0))","v":""}]
[null,null,"",null,null,null,null,{"$f":"IF(G1840=\"\",\"\",VLOOKUP(G1840,'Lista de precios'!$B$7:$C$5000,2,0))","v":""}]
[null,null,"",null,null,null,null,{"$f":"IF(G1841=\"\",\"\",VLOOKUP(G1841,'Lista de precios'!$B$7:$C$5000,2,0))","v":""}]
[null,null,"",null,null,null,null,{"$f":"IF(G1842=\"\",\"\",VLOOKUP(G1842,'Lista de precios'!$B$7:$C$5000,2,0))","v":""}]
[null,null,"",null,null,null,null,{"$f":"IF(G1843=\"\",\"\",VLOOKUP(G1843,'Lista de precios'!$B$7:$C$5000,2,0))","v":""}]
[null,null,"",null,null,null,null,{"$f":"IF(G1844=\"\",\"\",VLOOKUP(G1844,'Lista de precios'!$B$7:$C$5000,2,0))","v":""}]
[null,null,"",null,null,null,null,{"$f":"IF(G1845=\"\",\"\",VLOOKUP(G1845,'Lista de precios'!$B$7:$C$5000,2,0))","v":""}]
[null,null,"",null,null,null,null,{"$f":"IF(G1846=\"\",\"\",VLOOKUP(G1846,'Lista de precios'!$B$7:$C$5000,2,0))","v":""}]
[null,null,"",null,null,null,null,{"$f":"IF(G1847=\"\",\"\",VLOOKUP(G1847,'Lista de precios'!$B$7:$C$5000,2,0))","v":""}]
[null,null,"",null,null,null,null,{"$f":"IF(G1848=\"\",\"\",VLOOKUP(G1848,'Lista de precios'!$B$7:$C$5000,2,0))","v":""}]
[null,null,"",null,null,null,null,{"$f":"IF(G1849=\"\",\"\",VLOOKUP(G1849,'Lista de precios'!$B$7:$C$5000,2,0))","v":""}]
[null,null,"",null,null,null,null,{"$f":"IF(G1850=\"\",\"\",VLOOKUP(G1850,'Lista de precios'!$B$7:$C$5000,2,0))","v":""}]
[null,null,"",null,null,null,null,{"$f":"IF(G1851=\"\",\"\",VLOOKUP(G1851,'Lista de precios'!$B$7:$C$5000,2,0))","v":""}]
[null,null,"",null,null,null,null,{"$f":"IF(G1852=\"\",\"\",VLOOKUP(G1852,'Lista de precios'!$B$7:$C$5000,2,0))","v":""}]
[null,null,"",null,null,null,null,{"$f":"IF(G1853=\"\",\"\",VLOOKUP(G1853,'Lista de precios'!$B$7:$C$5000,2,0))","v":""}]
[null,null,"",null,null,null,null,{"$f":"IF(G1854=\"\",\"\",VLOOKUP(G1854,'Lista de precios'!$B$7:$C$5000,2,0))","v":""}]
[null,null,"",null,null,null,null,{"$f":"IF(G1855=\"\",\"\",VLOOKUP(G1855,'Lista de precios'!$B$7:$C$5000,2,0))","v":""}]
[null,null,"",null,null,null,null,{"$f":"IF(G1856=\"\",\"\",VLOOKUP(G1856,'Lista de precios'!$B$7:$C$5000,2,0))","v":""}]
[null,null,"",null,null,null,null,{"$f":"IF(G1857=\"\",\"\",VLOOKUP(G1857,'Lista de precios'!$B$7:$C$5000,2,0))","v":""}]
[null,null,"",null,null,null,null,{"$f":"IF(G1858=\"\",\"\",VLOOKUP(G1858,'Lista de precios'!$B$7:$C$5000,2,0))","v":""}]
[null,null,"",null,null,null,null,{"$f":"IF(G1859=\"\",\"\",VLOOKUP(G1859,'Lista de precios'!$B$7:$C$5000,2,0))","v":""}]
[null,null,"",null,null,null,null,{"$f":"IF(G1860=\"\",\"\",VLOOKUP(G1860,'Lista de precios'!$B$7:$C$5000,2,0))","v":""}]
[null,null,"",null,null,null,null,{"$f":"IF(G1861=\"\",\"\",VLOOKUP(G1861,'Lista de precios'!$B$7:$C$5000,2,0))","v":""}]
[null,null,"",null,null,null,null,{"$f":"IF(G1862=\"\",\"\",VLOOKUP(G1862,'Lista de precios'!$B$7:$C$5000,2,0))","v":""}]
[null,null,"",null,null,null,null,{"$f":"IF(G1863=\"\",\"\",VLOOKUP(G1863,'Lista de precios'!$B$7:$C$5000,2,0))","v":""}]
[null,null,"",null,null,null,null,{"$f":"IF(G1864=\"\",\"\",VLOOKUP(G1864,'Lista de precios'!$B$7:$C$5000,2,0))","v":""}]
[null,null,"",null,null,null,null,{"$f":"IF(G1865=\"\",\"\",VLOOKUP(G1865,'Lista de precios'!$B$7:$C$5000,2,0))","v":""}]
[null,null,"",null,null,null,null,{"$f":"IF(G1866=\"\",\"\",VLOOKUP(G1866,'Lista de precios'!$B$7:$C$5000,2,0))","v":""}]
[null,null,"",null,null,null,null,{"$f":"IF(G1867=\"\",\"\",VLOOKUP(G1867,'Lista de precios'!$B$7:$C$5000,2,0))","v":""}]
[null,null,{"$f":"IF(B1868=\"\",\"\",TEXT(B1868,\"Mmmm\"))","v":""},null,null,null,null,{"$f":"IF(G1868=\"\",\"\",VLOOKUP(G1868,'Lista de precios'!$B$7:$C$5000,2,0))","v":""}]
[null,null,"",null,null,null,null,{"$f":"IF(G1869=\"\",\"\",VLOOKUP(G1869,'Lista de precios'!$B$7:$C$5000,2,0))","v":""}]
[null,null,"",null,null,null,null,{"$f":"IF(G1870=\"\",\"\",VLOOKUP(G1870,'Lista de precios'!$B$7:$C$5000,2,0))","v":""}]
[null,null,"",null,null,null,null,{"$f":"IF(G1871=\"\",\"\",VLOOKUP(G1871,'Lista de precios'!$B$7:$C$5000,2,0))","v":""}]
[null,null,"",null,null,null,null,{"$f":"IF(G1872=\"\",\"\",VLOOKUP(G1872,'Lista de precios'!$B$7:$C$5000,2,0))","v":""}]
[null,null,"",null,null,null,null,{"$f":"IF(G1873=\"\",\"\",VLOOKUP(G1873,'Lista de precios'!$B$7:$C$5000,2,0))","v":""}]
[null,null,"",null,null,null,null,{"$f":"IF(G1874=\"\",\"\",VLOOKUP(G1874,'Lista de precios'!$B$7:$C$5000,2,0))","v":""}]
[null,null,"",null,null,null,null,{"$f":"IF(G1875=\"\",\"\",VLOOKUP(G1875,'Lista de precios'!$B$7:$C$5000,2,0))","v":""}]
[null,null,"",null,null,null,null,{"$f":"IF(G1876=\"\",\"\",VLOOKUP(G1876,'Lista de precios'!$B$7:$C$5000,2,0))","v":""}]
[null,null,"",null,null,null,null,{"$f":"IF(G1877=\"\",\"\",VLOOKUP(G1877,'Lista de precios'!$B$7:$C$5000,2,0))","v":""}]
[null,null,"",null,null,null,null,{"$f":"IF(G1878=\"\",\"\",VLOOKUP(G1878,'Lista de precios'!$B$7:$C$5000,2,0))","v":""}]
[null,null,"",null,null,null,null,{"$f":"IF(G1879=\"\",\"\",VLOOKUP(G1879,'Lista de precios'!$B$7:$C$5000,2,0))","v":""}]
[null,null,"",null,null,null,null,{"$f":"IF(G1880=\"\",\"\",VLOOKUP(G1880,'Lista de precios'!$B$7:$C$5000,2,0))","v":""}]
[null,null,"",null,null,null,null,{"$f":"IF(G1881=\"\",\"\",VLOOKUP(G1881,'Lista de precios'!$B$7:$C$5000,2,0))","v":""}]
[null,null,"",null,null,null,null,{"$f":"IF(G1882=\"\",\"\",VLOOKUP(G1882,'Lista de precios'!$B$7:$C$5000,2,0))","v":""}]
[null,null,"",null,null,null,null,{"$f":"IF(G1883=\"\",\"\",VLOOKUP(G1883,'Lista de precios'!$B$7:$C$5000,2,0))","v":""}]
[null,null,"",null,null,null,null,{"$f":"IF(G1884=\"\",\"\",VLOOKUP(G1884,'Lista de precios'!$B$7:$C$5000,2,0))","v":""}]
[null,null,"",null,null,null,null,{"$f":"IF(G1885=\"\",\"\",VLOOKUP(G1885,'Lista de precios'!$B$7:$C$5000,2,0))","v":""}]
[null,null,"",null,null,null,null,{"$f":"IF(G1886=\"\",\"\",VLOOKUP(G1886,'Lista de precios'!$B$7:$C$5000,2,0))","v":""}]
[null,null,"",null,null,null,null,{"$f":"IF(G1887=\"\",\"\",VLOOKUP(G1887,'Lista de precios'!$B$7:$C$5000,2,0))","v":""}]
[null,null,"",null,null,null,null,{"$f":"IF(G1888=\"\",\"\",VLOOKUP(G1888,'Lista de precios'!$B$7:$C$5000,2,0))","v":""}]
[null,null,"",null,null,null,null,{"$f":"IF(G1889=\"\",\"\",VLOOKUP(G1889,'Lista de precios'!$B$7:$C$5000,2,0))","v":""}]
[null,null,"",null,null,null,null,{"$f":"IF(G1890=\"\",\"\",VLOOKUP(G1890,'Lista de precios'!$B$7:$C$5000,2,0))","v":""}]
[null,null,"",null,null,null,null,{"$f":"IF(G1891=\"\",\"\",VLOOKUP(G1891,'Lista de precios'!$B$7:$C$5000,2,0))","v":""}]
[null,null,"",null,null,null,null,{"$f":"IF(G1892=\"\",\"\",VLOOKUP(G1892,'Lista de precios'!$B$7:$C$5000,2,0))","v":""}]
[null,null,"",null,null,null,null,{"$f":"IF(G1893=\"\",\"\",VLOOKUP(G1893,'Lista de precios'!$B$7:$C$5000,2,0))","v":""}]
[null,null,"",null,null,null,null,{"$f":"IF(G1894=\"\",\"\",VLOOKUP(G1894,'Lista de precios'!$B$7:$C$5000,2,0))","v":""}]
[null,null,"",null,null,null,null,{"$f":"IF(G1895=\"\",\"\",VLOOKUP(G1895,'Lista de precios'!$B$7:$C$5000,2,0))","v":""}]
[null,null,"",null,null,null,null,{"$f":"IF(G1896=\"\",\"\",VLOOKUP(G1896,'Lista de precios'!$B$7:$C$5000,2,0))","v":""}]
[null,null,"",null,null,null,null,{"$f":"IF(G1897=\"\",\"\",VLOOKUP(G1897,'Lista de precios'!$B$7:$C$5000,2,0))","v":""}]
[null,null,"",null,null,null,null,{"$f":"IF(G1898=\"\",\"\",VLOOKUP(G1898,'Lista de precios'!$B$7:$C$5000,2,0))","v":""}]
[null,null,"",null,null,null,null,{"$f":"IF(G1899=\"\",\"\",VLOOKUP(G1899,'Lista de precios'!$B$7:$C$5000,2,0))","v":""}]
[null,null,"",null,null,null,null,{"$f":"IF(G1900=\"\",\"\",VLOOKUP(G1900,'Lista de precios'!$B$7:$C$5000,2,0))","v":""}]
[null,null,"",null,null,null,null,{"$f":"IF(G1901=\"\",\"\",VLOOKUP(G1901,'Lista de precios'!$B$7:$C$5000,2,0))","v":""}]
[null,null,"",null,null,null,null,{"$f":"IF(G1902=\"\",\"\",VLOOKUP(G1902,'Lista de precios'!$B$7:$C$5000,2,0))","v":""}]
[null,null,"",null,null,null,null,{"$f":"IF(G1903=\"\",\"\",VLOOKUP(G1903,'Lista de precios'!$B$7:$C$5000,2,0))","v":""}]
[null,null,"",null,null,null,null,{"$f":"IF(G1904=\"\",\"\",VLOOKUP(G1904,'Lista de precios'!$B$7:$C$5000,2,0))","v":""}]
[null,null,"",null,null,null,null,{"$f":"IF(G1905=\"\",\"\",VLOOKUP(G1905,'Lista de precios'!$B$7:$C$5000,2,0))","v":""}]
[null,null,"",null,null,null,null,{"$f":"IF(G1906=\"\",\"\",VLOOKUP(G1906,'Lista de precios'!$B$7:$C$5000,2,0))","v":""}]
[null,null,"",null,null,null,null,{"$f":"IF(G1907=\"\",\"\",VLOOKUP(G1907,'Lista de precios'!$B$7:$C$5000,2,0))","v":""}]
[null,null,"",null,null,null,null,{"$f":"IF(G1908=\"\",\"\",VLOOKUP(G1908,'Lista de precios'!$B$7:$C$5000,2,0))","v":""}]
[null,null,"",null,null,null,null,{"$f":"IF(G1909=\"\",\"\",VLOOKUP(G1909,'Lista de precios'!$B$7:$C$5000,2,0))","v":""}]
[null,null,"",null,null,null,null,{"$f":"IF(G1910=\"\",\"\",VLOOKUP(G1910,'Lista de precios'!$B$7:$C$5000,2,0))","v":""}]
[null,null,"",null,null,null,null,{"$f":"IF(G1911=\"\",\"\",VLOOKUP(G1911,'Lista de precios'!$B$7:$C$5000,2,0))","v":""}]
[null,null,"",null,null,null,null,{"$f":"IF(G1912=\"\",\"\",VLOOKUP(G1912,'Lista de precios'!$B$7:$C$5000,2,0))","v":""}]
[null,null,"",null,null,null,null,{"$f":"IF(G1913=\"\",\"\",VLOOKUP(G1913,'Lista de precios'!$B$7:$C$5000,2,0))","v":""}]
[null,null,"",null,null,null,null,{"$f":"IF(G1914=\"\",\"\",VLOOKUP(G1914,'Lista de precios'!$B$7:$C$5000,2,0))","v":""}]
[null,null,"",null,null,null,null,{"$f":"IF(G1915=\"\",\"\",VLOOKUP(G1915,'Lista de precios'!$B$7:$C$5000,2,0))","v":""}]
[null,null,"",null,null,null,null,{"$f":"IF(G1916=\"\",\"\",VLOOKUP(G1916,'Lista de precios'!$B$7:$C$5000,2,0))","v":""}]
[null,null,"",null,null,null,null,{"$f":"IF(G1917=\"\",\"\",VLOOKUP(G1917,'Lista de precios'!$B$7:$C$5000,2,0))","v":""}]
[null,null,"",null,null,null,null,{"$f":"IF(G1918=\"\",\"\",VLOOKUP(G1918,'Lista de precios'!$B$7:$C$5000,2,0))","v":""}]
[null,null,"",null,null,null,null,{"$f":"IF(G1919=\"\",\"\",VLOOKUP(G1919,'Lista de precios'!$B$7:$C$5000,2,0))","v":""}]
[null,null,"",null,null,null,null,{"$f":"IF(G1920=\"\",\"\",VLOOKUP(G1920,'Lista de precios'!$B$7:$C$5000,2,0))","v":""}]
[null,null,"",null,null,null,null,{"$f":"IF(G1921=\"\",\"\",VLOOKUP(G1921,'Lista de precios'!$B$7:$C$5000,2,0))","v":""}]
[null,null,"",null,null,null,null,{"$f":"IF(G1922=\"\",\"\",VLOOKUP(G1922,'Lista de precios'!$B$7:$C$5000,2,0))","v":""}]
[null,null,"",null,null,null,null,{"$f":"IF(G1923=\"\",\"\",VLOOKUP(G1923,'Lista de precios'!$B$7:$C$5000,2,0))","v":""}]
[null,null,"",null,null,null,null,{"$f":"IF(G1924=\"\",\"\",VLOOKUP(G1924,'Lista de precios'!$B$7:$C$5000,2,0))","v":""}]
[null,null,"",null,null,null,null,{"$f":"IF(G1925=\"\",\"\",VLOOKUP(G1925,'Lista de precios'!$B$7:$C$5000,2,0))","v":""}]
[null,null,"",null,null,null,null,{"$f":"IF(G1926=\"\",\"\",VLOOKUP(G1926,'Lista de precios'!$B$7:$C$5000,2,0))","v":""}]
[null,null,"",null,null,null,null,{"$f":"IF(G1927=\"\",\"\",VLOOKUP(G1927,'Lista de precios'!$B$7:$C$5000,2,0))","v":""}]
[null,null,"",null,null,null,null,{"$f":"IF(G1928=\"\",\"\",VLOOKUP(G1928,'Lista de precios'!$B$7:$C$5000,2,0))","v":""}]
[null,null,"",null,null,null,null,{"$f":"IF(G1929=\"\",\"\",VLOOKUP(G1929,'Lista de precios'!$B$7:$C$5000,2,0))","v":""}]
[null,null,"",null,null,null,null,{"$f":"IF(G1930=\"\",\"\",VLOOKUP(G1930,'Lista de precios'!$B$7:$C$5000,2,0))","v":""}]
[null,null,"",null,null,null,null,{"$f":"IF(G1931=\"\",\"\",VLOOKUP(G1931,'Lista de precios'!$B$7:$C$5000,2,0))","v":""}]
[null,null,{"$f":"IF(B1932=\"\",\"\",TEXT(B1932,\"Mmmm\"))","v":""},null,null,null,null,{"$f":"IF(G1932=\"\",\"\",VLOOKUP(G1932,'Lista de precios'!$B$7:$C$5000,2,0))","v":""}]
[null,null,"",null,null,null,null,{"$f":"IF(G1933=\"\",\"\",VLOOKUP(G1933,'Lista de precios'!$B$7:$C$5000,2,0))","v":""}]
[null,null,"",null,null,null,null,{"$f":"IF(G1934=\"\",\"\",VLOOKUP(G1934,'Lista de precios'!$B$7:$C$5000,2,0))","v":""}]
[null,null,"",null,null,null,null,{"$f":"IF(G1935=\"\",\"\",VLOOKUP(G1935,'Lista de precios'!$B$7:$C$5000,2,0))","v":""}]
[null,null,"",null,null,null,null,{"$f":"IF(G1936=\"\",\"\",VLOOKUP(G1936,'Lista de precios'!$B$7:$C$5000,2,0))","v":""}]
[null,null,"",null,null,null,null,{"$f":"IF(G1937=\"\",\"\",VLOOKUP(G1937,'Lista de precios'!$B$7:$C$5000,2,0))","v":""}]
[null,null,"",null,null,null,null,{"$f":"IF(G1938=\"\",\"\",VLOOKUP(G1938,'Lista de precios'!$B$7:$C$5000,2,0))","v":""}]
[null,null,"",null,null,null,null,{"$f":"IF(G1939=\"\",\"\",VLOOKUP(G1939,'Lista de precios'!$B$7:$C$5000,2,0))","v":""}]
[null,null,"",null,null,null,null,{"$f":"IF(G1940=\"\",\"\",VLOOKUP(G1940,'Lista de precios'!$B$7:$C$5000,2,0))","v":""}]
[null,null,"",null,null,null,null,{"$f":"IF(G1941=\"\",\"\",VLOOKUP(G1941,'Lista de precios'!$B$7:$C$5000,2,0))","v":""}]
[null,null,"",null,null,null,null,{"$f":"IF(G1942=\"\",\"\",VLOOKUP(G1942,'Lista de precios'!$B$7:$C$5000,2,0))","v":""}]
[null,null,"",null,null,null,null,{"$f":"IF(G1943=\"\",\"\",VLOOKUP(G1943,'Lista de precios'!$B$7:$C$5000,2,0))","v":""}]
[null,null,"",null,null,null,null,{"$f":"IF(G1944=\"\",\"\",VLOOKUP(G1944,'Lista de precios'!$B$7:$C$5000,2,0))","v":""}]
[null,null,"",null,null,null,null,{"$f":"IF(G1945=\"\",\"\",VLOOKUP(G1945,'Lista de precios'!$B$7:$C$5000,2,0))","v":""}]
[null,null,"",null,null,null,null,{"$f":"IF(G1946=\"\",\"\",VLOOKUP(G1946,'Lista de precios'!$B$7:$C$5000,2,0))","v":""}]
[null,null,"",null,null,null,null,{"$f":"IF(G1947=\"\",\"\",VLOOKUP(G1947,'Lista de precios'!$B$7:$C$5000,2,0))","v":""}]
[null,null,"",null,null,null,null,{"$f":"IF(G1948=\"\",\"\",VLOOKUP(G1948,'Lista de precios'!$B$7:$C$5000,2,0))","v":""}]
[null,null,"",null,null,null,null,{"$f":"IF(G1949=\"\",\"\",VLOOKUP(G1949,'Lista de precios'!$B$7:$C$5000,2,0))","v":""}]
[null,null,"",null,null,null,null,{"$f":"IF(G1950=\"\",\"\",VLOOKUP(G1950,'Lista de precios'!$B$7:$C$5000,2,0))","v":""}]
[null,null,"",null,null,null,null,{"$f":"IF(G1951=\"\",\"\",VLOOKUP(G1951,'Lista de precios'!$B$7:$C$5000,2,0))","v":""}]
[null,null,"",null,null,null,null,{"$f":"IF(G1952=\"\",\"\",VLOOKUP(G1952,'Lista de precios'!$B$7:$C$5000,2,0))","v":""}]
[null,null,"",null,null,null,null,{"$f":"IF(G1953=\"\",\"\",VLOOKUP(G1953,'Lista de precios'!$B$7:$C$5000,2,0))","v":""}]
[null,null,"",null,null,null,null,{"$f":"IF(G1954=\"\",\"\",VLOOKUP(G1954,'Lista de precios'!$B$7:$C$5000,2,0))","v":""}]
[null,null,"",null,null,null,null,{"$f":"IF(G1955=\"\",\"\",VLOOKUP(G1955,'Lista de precios'!$B$7:$C$5000,2,0))","v":""}]
[null,null,"",null,null,null,null,{"$f":"IF(G1956=\"\",\"\",VLOOKUP(G1956,'Lista de precios'!$B$7:$C$5000,2,0))","v":""}]
[null,null,"",null,null,null,null,{"$f":"IF(G1957=\"\",\"\",VLOOKUP(G1957,'Lista de precios'!$B$7:$C$5000,2,0))","v":""}]
[null,null,"",null,null,null,null,{"$f":"IF(G1958=\"\",\"\",VLOOKUP(G1958,'Lista de precios'!$B$7:$C$5000,2,0))","v":""}]
[null,null,"",null,null,null,null,{"$f":"IF(G1959=\"\",\"\",VLOOKUP(G1959,'Lista de precios'!$B$7:$C$5000,2,0))","v":""}]
[null,null,"",null,null,null,null,{"$f":"IF(G1960=\"\",\"\",VLOOKUP(G1960,'Lista de precios'!$B$7:$C$5000,2,0))","v":""}]
[null,null,"",null,null,null,null,{"$f":"IF(G1961=\"\",\"\",VLOOKUP(G1961,'Lista de precios'!$B$7:$C$5000,2,0))","v":""}]
[null,null,"",null,null,null,null,{"$f":"IF(G1962=\"\",\"\",VLOOKUP(G1962,'Lista de precios'!$B$7:$C$5000,2,0))","v":""}]
[null,null,"",null,null,null,null,{"$f":"IF(G1963=\"\",\"\",VLOOKUP(G1963,'Lista de precios'!$B$7:$C$5000,2,0))","v":""}]
[null,null,"",null,null,null,null,{"$f":"IF(G1964=\"\",\"\",VLOOKUP(G1964,'Lista de precios'!$B$7:$C$5000,2,0))","v":""}]
[null,null,"",null,null,null,null,{"$f":"IF(G1965=\"\",\"\",VLOOKUP(G1965,'Lista de precios'!$B$7:$C$5000,2,0))","v":""}]
[null,null,"",null,null,null,null,{"$f":"IF(G1966=\"\",\"\",VLOOKUP(G1966,'Lista de precios'!$B$7:$C$5000,2,0))","v":""}]
[null,null,"",null,null,null,null,{"$f":"IF(G1967=\"\",\"\",VLOOKUP(G1967,'Lista de precios'!$B$7:$C$5000,2,0))","v":""}]
[null,null,"",null,null,null,null,{"$f":"IF(G1968=\"\",\"\",VLOOKUP(G1968,'Lista de precios'!$B$7:$C$5000,2,0))","v":""}]
[null,null,"",null,null,null,null,{"$f":"IF(G1969=\"\",\"\",VLOOKUP(G1969,'Lista de precios'!$B$7:$C$5000,2,0))","v":""}]
[null,null,"",null,null,null,null,{"$f":"IF(G1970=\"\",\"\",VLOOKUP(G1970,'Lista de precios'!$B$7:$C$5000,2,0))","v":""}]
[null,null,"",null,null,null,null,{"$f":"IF(G1971=\"\",\"\",VLOOKUP(G1971,'Lista de precios'!$B$7:$C$5000,2,0))","v":""}]
[null,null,"",null,null,null,null,{"$f":"IF(G1972=\"\",\"\",VLOOKUP(G1972,'Lista de precios'!$B$7:$C$5000,2,0))","v":""}]
[null,null,"",null,null,null,null,{"$f":"IF(G1973=\"\",\"\",VLOOKUP(G1973,'Lista de precios'!$B$7:$C$5000,2,0))","v":""}]
[null,null,"",null,null,null,null,{"$f":"IF(G1974=\"\",\"\",VLOOKUP(G1974,'Lista de precios'!$B$7:$C$5000,2,0))","v":""}]
[null,null,"",null,null,null,null,{"$f":"IF(G1975=\"\",\"\",VLOOKUP(G1975,'Lista de precios'!$B$7:$C$5000,2,0))","v":""}]
[null,null,"",null,null,null,null,{"$f":"IF(G1976=\"\",\"\",VLOOKUP(G1976,'Lista de precios'!$B$7:$C$5000,2,0))","v":""}]
[null,null,"",null,null,null,null,{"$f":"IF(G1977=\"\",\"\",VLOOKUP(G1977,'Lista de precios'!$B$7:$C$5000,2,0))","v":""}]
[null,null,"",null,null,null,null,{"$f":"IF(G1978=\"\",\"\",VLOOKUP(G1978,'Lista de precios'!$B$7:$C$5000,2,0))","v":""}]
[null,null,"",null,null,null,null,{"$f":"IF(G1979=\"\",\"\",VLOOKUP(G1979,'Lista de precios'!$B$7:$C$5000,2,0))","v":""}]
[null,null,"",null,null,null,null,{"$f":"IF(G1980=\"\",\"\",VLOOKUP(G1980,'Lista de precios'!$B$7:$C$5000,2,0))","v":""}]
[null,null,"",null,null,null,null,{"$f":"IF(G1981=\"\",\"\",VLOOKUP(G1981,'Lista de precios'!$B$7:$C$5000,2,0))","v":""}]
[null,null,"",null,null,null,null,{"$f":"IF(G1982=\"\",\"\",VLOOKUP(G1982,'Lista de precios'!$B$7:$C$5000,2,0))","v":""}]
[null,null,"",null,null,null,null,{"$f":"IF(G1983=\"\",\"\",VLOOKUP(G1983,'Lista de precios'!$B$7:$C$5000,2,0))","v":""}]
[null,null,"",null,null,null,null,{"$f":"IF(G1984=\"\",\"\",VLOOKUP(G1984,'Lista de precios'!$B$7:$C$5000,2,0))","v":""}]
[null,null,"",null,null,null,null,{"$f":"IF(G1985=\"\",\"\",VLOOKUP(G1985,'Lista de precios'!$B$7:$C$5000,2,0))","v":""}]
[null,null,"",null,null,null,null,{"$f":"IF(G1986=\"\",\"\",VLOOKUP(G1986,'Lista de precios'!$B$7:$C$5000,2,0))","v":""}]
[null,null,"",null,null,null,null,{"$f":"IF(G1987=\"\",\"\",VLOOKUP(G1987,'Lista de precios'!$B$7:$C$5000,2,0))","v":""}]
[null,null,"",null,null,null,null,{"$f":"IF(G1988=\"\",\"\",VLOOKUP(G1988,'Lista de precios'!$B$7:$C$5000,2,0))","v":""}]
[null,null,"",null,null,null,null,{"$f":"IF(G1989=\"\",\"\",VLOOKUP(G1989,'Lista de precios'!$B$7:$C$5000,2,0))","v":""}]
[null,null,"",null,null,null,null,{"$f":"IF(G1990=\"\",\"\",VLOOKUP(G1990,'Lista de precios'!$B$7:$C$5000,2,0))","v":""}]
[null,null,"",null,null,null,null,{"$f":"IF(G1991=\"\",\"\",VLOOKUP(G1991,'Lista de precios'!$B$7:$C$5000,2,0))","v":""}]
[null,null,"",null,null,null,null,{"$f":"IF(G1992=\"\",\"\",VLOOKUP(G1992,'Lista de precios'!$B$7:$C$5000,2,0))","v":""}]
[null,null,"",null,null,null,null,{"$f":"IF(G1993=\"\",\"\",VLOOKUP(G1993,'Lista de precios'!$B$7:$C$5000,2,0))","v":""}]
[null,null,"",null,null,null,null,{"$f":"IF(G1994=\"\",\"\",VLOOKUP(G1994,'Lista de precios'!$B$7:$C$5000,2,0))","v":""}]
[null,null,"",null,null,null,null,{"$f":"IF(G1995=\"\",\"\",VLOOKUP(G1995,'Lista de precios'!$B$7:$C$5000,2,0))","v":""}]
[null,null,{"$f":"IF(B1996=\"\",\"\",TEXT(B1996,\"Mmmm\"))","v":""},null,null,null,null,{"$f":"IF(G1996=\"\",\"\",VLOOKUP(G1996,'Lista de precios'!$B$7:$C$5000,2,0))","v":""}]
[null,null,"",null,null,null,null,{"$f":"IF(G1997=\"\",\"\",VLOOKUP(G1997,'Lista de precios'!$B$7:$C$5000,2,0))","v":""}]
[null,null,"",null,null,null,null,{"$f":"IF(G1998=\"\",\"\",VLOOKUP(G1998,'Lista de precios'!$B$7:$C$5000,2,0))","v":""}]
[null,null,"",null,null,null,null,{"$f":"IF(G1999=\"\",\"\",VLOOKUP(G1999,'Lista de precios'!$B$7:$C$5000,2,0))","v":""}]
[null,null,"",null,null,null,null,{"$f":"IF(G2000=\"\",\"\",VLOOKUP(G2000,'Lista de precios'!$B$7:$C$5000,2,0))","v":""}]
[null,null,"",null,null,null,null,{"$f":"IF(G2001=\"\",\"\",VLOOKUP(G2001,'Lista de precios'!$B$7:$C$5000,2,0))","v":""}]
[null,null,"",null,null,null,null,{"$f":"IF(G2002=\"\",\"\",VLOOKUP(G2002,'Lista de precios'!$B$7:$C$5000,2,0))","v":""}]
[null,null,"",null,null,null,null,{"$f":"IF(G2003=\"\",\"\",VLOOKUP(G2003,'Lista de precios'!$B$7:$C$5000,2,0))","v":""}]
[null,null,"",null,null,null,null,{"$f":"IF(G2004=\"\",\"\",VLOOKUP(G2004,'Lista de precios'!$B$7:$C$5000,2,0))","v":""}]
[null,null,"",null,null,null,null,{"$f":"IF(G2005=\"\",\"\",VLOOKUP(G2005,'Lista de precios'!$B$7:$C$5000,2,0))","v":""}]
[null,null,"",null,null,null,null,{"$f":"IF(G2006=\"\",\"\",VLOOKUP(G2006,'Lista de precios'!$B$7:$C$5000,2,0))","v":""}]
[null,null,"",null,null,null,null,{"$f":"IF(G2007=\"\",\"\",VLOOKUP(G2007,'Lista de precios'!$B$7:$C$5000,2,0))","v":""}]
[null,null,"",null,null,null,null,{"$f":"IF(G2008=\"\",\"\",VLOOKUP(G2008,'Lista de precios'!$B$7:$C$5000,2,0))","v":""}]
[null,null,"",null,null,null,null,{"$f":"IF(G2009=\"\",\"\",VLOOKUP(G2009,'Lista de precios'!$B$7:$C$5000,2,0))","v":""}]
[null,null,"",null,null,null,null,{"$f":"IF(G2010=\"\",\"\",VLOOKUP(G2010,'Lista de precios'!$B$7:$C$5000,2,0))","v":""}]
[null,null,"",null,null,null,null,{"$f":"IF(G2011=\"\",\"\",VLOOKUP(G2011,'Lista de precios'!$B$7:$C$5000,2,0))","v":""}]
[null,null,"",null,null,null,null,{"$f":"IF(G2012=\"\",\"\",VLOOKUP(G2012,'Lista de precios'!$B$7:$C$5000,2,0))","v":""}]
[null,null,"",null,null,null,null,{"$f":"IF(G2013=\"\",\"\",VLOOKUP(G2013,'Lista de precios'!$B$7:$C$5000,2,0))","v":""}]
[null,null,"",null,null,null,null,{"$f":"IF(G2014=\"\",\"\",VLOOKUP(G2014,'Lista de precios'!$B$7:$C$5000,2,0))","v":""}]
[null,null,"",null,null,null,null,{"$f":"IF(G2015=\"\",\"\",VLOOKUP(G2015,'Lista de precios'!$B$7:$C$5000,2,0))","v":""}]
[null,null,"",null,null,null,null,{"$f":"IF(G2016=\"\",\"\",VLOOKUP(G2016,'Lista de precios'!$B$7:$C$5000,2,0))","v":""}]
[null,null,"",null,null,null,null,{"$f":"IF(G2017=\"\",\"\",VLOOKUP(G2017,'Lista de precios'!$B$7:$C$5000,2,0))","v":""}]
[null,null,"",null,null,null,null,{"$f":"IF(G2018=\"\",\"\",VLOOKUP(G2018,'Lista de precios'!$B$7:$C$5000,2,0))","v":""}]
[null,null,"",null,null,null,null,{"$f":"IF(G2019=\"\",\"\",VLOOKUP(G2019,'Lista de precios'!$B$7:$C$5000,2,0))","v":""}]
[null,null,"",null,null,null,null,{"$f":"IF(G2020=\"\",\"\",VLOOKUP(G2020,'Lista de precios'!$B$7:$C$5000,2,0))","v":""}]
[null,null,"",null,null,null,null,{"$f":"IF(G2021=\"\",\"\",VLOOKUP(G2021,'Lista de precios'!$B$7:$C$5000,2,0))","v":""}]
[null,null,"",null,null,null,null,{"$f":"IF(G2022=\"\",\"\",VLOOKUP(G2022,'Lista de precios'!$B$7:$C$5000,2,0))","v":""}]
[null,null,"",null,null,null,null,{"$f":"IF(G2023=\"\",\"\",VLOOKUP(G2023,'Lista de precios'!$B$7:$C$5000,2,0))","v":""}]
[null,null,"",null,null,null,null,{"$f":"IF(G2024=\"\",\"\",VLOOKUP(G2024,'Lista de precios'!$B$7:$C$5000,2,0))","v":""}]
[null,null,"",null,null,null,null,{"$f":"IF(G2025=\"\",\"\",VLOOKUP(G2025,'Lista de precios'!$B$7:$C$5000,2,0))","v":""}]
[null,null,"",null,null,null,null,{"$f":"IF(G2026=\"\",\"\",VLOOKUP(G2026,'Lista de precios'!$B$7:$C$5000,2,0))","v":""}]
[null,null,"",null,null,null,null,{"$f":"IF(G2027=\"\",\"\",VLOOKUP(G2027,'Lista de precios'!$B$7:$C$5000,2,0))","v":""}]
[null,null,"",null,null,null,null,{"$f":"IF(G2028=\"\",\"\",VLOOKUP(G2028,'Lista de precios'!$B$7:$C$5000,2,0))","v":""}]
[null,null,"",null,null,null,null,{"$f":"IF(G2029=\"\",\"\",VLOOKUP(G2029,'Lista de precios'!$B$7:$C$5000,2,0))","v":""}]
[null,null,"",null,null,null,null,{"$f":"IF(G2030=\"\",\"\",VLOOKUP(G2030,'Lista de precios'!$B$7:$C$5000,2,0))","v":""}]
[null,null,"",null,null,null,null,{"$f":"IF(G2031=\"\",\"\",VLOOKUP(G2031,'Lista de precios'!$B$7:$C$5000,2,0))","v":""}]
[null,null,"",null,null,null,null,{"$f":"IF(G2032=\"\",\"\",VLOOKUP(G2032,'Lista de precios'!$B$7:$C$5000,2,0))","v":""}]
[null,null,"",null,null,null,null,{"$f":"IF(G2033=\"\",\"\",VLOOKUP(G2033,'Lista de precios'!$B$7:$C$5000,2,0))","v":""}]
[null,null,"",null,null,null,null,{"$f":"IF(G2034=\"\",\"\",VLOOKUP(G2034,'Lista de precios'!$B$7:$C$5000,2,0))","v":""}]
[null,null,"",null,null,null,null,{"$f":"IF(G2035=\"\",\"\",VLOOKUP(G2035,'Lista de precios'!$B$7:$C$5000,2,0))","v":""}]
[null,null,"",null,null,null,null,{"$f":"IF(G2036=\"\",\"\",VLOOKUP(G2036,'Lista de precios'!$B$7:$C$5000,2,0))","v":""}]
[null,null,"",null,null,null,null,{"$f":"IF(G2037=\"\",\"\",VLOOKUP(G2037,'Lista de precios'!$B$7:$C$5000,2,0))","v":""}]
[null,null,"",null,null,null,null,{"$f":"IF(G2038=\"\",\"\",VLOOKUP(G2038,'Lista de precios'!$B$7:$C$5000,2,0))","v":""}]
[null,null,"",null,null,null,null,{"$f":"IF(G2039=\"\",\"\",VLOOKUP(G2039,'Lista de precios'!$B$7:$C$5000,2,0))","v":""}]
[null,null,"",null,null,null,null,{"$f":"IF(G2040=\"\",\"\",VLOOKUP(G2040,'Lista de precios'!$B$7:$C$5000,2,0))","v":""}]
[null,null,"",null,null,null,null,{"$f":"IF(G2041=\"\",\"\",VLOOKUP(G2041,'Lista de precios'!$B$7:$C$5000,2,0))","v":""}]
[null,null,"",null,null,null,null,{"$f":"IF(G2042=\"\",\"\",VLOOKUP(G2042,'Lista de precios'!$B$7:$C$5000,2,0))","v":""}]
[null,null,"",null,null,null,null,{"$f":"IF(G2043=\"\",\"\",VLOOKUP(G2043,'Lista de precios'!$B$7:$C$5000,2,0))","v":""}]
[null,null,"",null,null,null,null,{"$f":"IF(G2044=\"\",\"\",VLOOKUP(G2044,'Lista de precios'!$B$7:$C$5000,2,0))","v":""}]
[null,null,"",null,null,null,null,{"$f":"IF(G2045=\"\",\"\",VLOOKUP(G2045,'Lista de precios'!$B$7:$C$5000,2,0))","v":""}]
[null,null,"",null,null,null,null,{"$f":"IF(G2046=\"\",\"\",VLOOKUP(G2046,'Lista de precios'!$B$7:$C$5000,2,0))","v":""}]
[null,null,"",null,null,null,null,{"$f":"IF(G2047=\"\",\"\",VLOOKUP(G2047,'Lista de precios'!$B$7:$C$5000,2,0))","v":""}]
[null,null,"",null,null,null,null,{"$f":"IF(G2048=\"\",\"\",VLOOKUP(G2048,'Lista de precios'!$B$7:$C$5000,2,0))","v":""}]
[null,null,"",null,null,null,null,{"$f":"IF(G2049=\"\",\"\",VLOOKUP(G2049,'Lista de precios'!$B$7:$C$5000,2,0))","v":""}]
[null,null,"",null,null,null,null,{"$f":"IF(G2050=\"\",\"\",VLOOKUP(G2050,'Lista de precios'!$B$7:$C$5000,2,0))","v":""}]
[null,null,"",null,null,null,null,{"$f":"IF(G2051=\"\",\"\",VLOOKUP(G2051,'Lista de precios'!$B$7:$C$5000,2,0))","v":""}]
[null,null,"",null,null,null,null,{"$f":"IF(G2052=\"\",\"\",VLOOKUP(G2052,'Lista de precios'!$B$7:$C$5000,2,0))","v":""}]
[null,null,"",null,null,null,null,{"$f":"IF(G2053=\"\",\"\",VLOOKUP(G2053,'Lista de precios'!$B$7:$C$5000,2,0))","v":""}]
[null,null,"",null,null,null,null,{"$f":"IF(G2054=\"\",\"\",VLOOKUP(G2054,'Lista de precios'!$B$7:$C$5000,2,0))","v":""}]
[null,null,"",null,null,null,null,{"$f":"IF(G2055=\"\",\"\",VLOOKUP(G2055,'Lista de precios'!$B$7:$C$5000,2,0))","v":""}]
[null,null,"",null,null,null,null,{"$f":"IF(G2056=\"\",\"\",VLOOKUP(G2056,'Lista de precios'!$B$7:$C$5000,2,0))","v":""}]
[null,null,"",null,null,null,null,{"$f":"IF(G2057=\"\",\"\",VLOOKUP(G2057,'Lista de precios'!$B$7:$C$5000,2,0))","v":""}]
[null,null,"",null,null,null,null,{"$f":"IF(G2058=\"\",\"\",VLOOKUP(G2058,'Lista de precios'!$B$7:$C$5000,2,0))","v":""}]
[null,null,"",null,null,null,null,{"$f":"IF(G2059=\"\",\"\",VLOOKUP(G2059,'Lista de precios'!$B$7:$C$5000,2,0))","v":""}]
[null,null,{"$f":"IF(B2060=\"\",\"\",TEXT(B2060,\"Mmmm\"))","v":""},null,null,null,null,{"$f":"IF(G2060=\"\",\"\",VLOOKUP(G2060,'Lista de precios'!$B$7:$C$5000,2,0))","v":""}]
[null,null,"",null,null,null,null,{"$f":"IF(G2061=\"\",\"\",VLOOKUP(G2061,'Lista de precios'!$B$7:$C$5000,2,0))","v":""}]
[null,null,"",null,null,null,null,{"$f":"IF(G2062=\"\",\"\",VLOOKUP(G2062,'Lista de precios'!$B$7:$C$5000,2,0))","v":""}]
[null,null,"",null,null,null,null,{"$f":"IF(G2063=\"\",\"\",VLOOKUP(G2063,'Lista de precios'!$B$7:$C$5000,2,0))","v":""}]
[null,null,"",null,null,null,null,{"$f":"IF(G2064=\"\",\"\",VLOOKUP(G2064,'Lista de precios'!$B$7:$C$5000,2,0))","v":""}]
[null,null,"",null,null,null,null,{"$f":"IF(G2065=\"\",\"\",VLOOKUP(G2065,'Lista de precios'!$B$7:$C$5000,2,0))","v":""}]
[null,null,"",null,null,null,null,{"$f":"IF(G2066=\"\",\"\",VLOOKUP(G2066,'Lista de precios'!$B$7:$C$5000,2,0))","v":""}]
[null,null,"",null,null,null,null,{"$f":"IF(G2067=\"\",\"\",VLOOKUP(G2067,'Lista de precios'!$B$7:$C$5000,2,0))","v":""}]
[null,null,"",null,null,null,null,{"$f":"IF(G2068=\"\",\"\",VLOOKUP(G2068,'Lista de precios'!$B$7:$C$5000,2,0))","v":""}]
[null,null,"",null,null,null,null,{"$f":"IF(G2069=\"\",\"\",VLOOKUP(G2069,'Lista de precios'!$B$7:$C$5000,2,0))","v":""}]
[null,null,"",null,null,null,null,{"$f":"IF(G2070=\"\",\"\",VLOOKUP(G2070,'Lista de precios'!$B$7:$C$5000,2,0))","v":""}]
[null,null,"",null,null,null,null,{"$f":"IF(G2071=\"\",\"\",VLOOKUP(G2071,'Lista de precios'!$B$7:$C$5000,2,0))","v":""}]
[null,null,"",null,null,null,null,{"$f":"IF(G2072=\"\",\"\",VLOOKUP(G2072,'Lista de precios'!$B$7:$C$5000,2,0))","v":""}]
[null,null,"",null,null,null,null,{"$f":"IF(G2073=\"\",\"\",VLOOKUP(G2073,'Lista de precios'!$B$7:$C$5000,2,0))","v":""}]
[null,null,"",null,null,null,null,{"$f":"IF(G2074=\"\",\"\",VLOOKUP(G2074,'Lista de precios'!$B$7:$C$5000,2,0))","v":""}]
[null,null,"",null,null,null,null,{"$f":"IF(G2075=\"\",\"\",VLOOKUP(G2075,'Lista de precios'!$B$7:$C$5000,2,0))","v":""}]
[null,null,"",null,null,null,null,{"$f":"IF(G2076=\"\",\"\",VLOOKUP(G2076,'Lista de precios'!$B$7:$C$5000,2,0))","v":""}]
[null,null,"",null,null,null,null,{"$f":"IF(G2077=\"\",\"\",VLOOKUP(G2077,'Lista de precios'!$B$7:$C$5000,2,0))","v":""}]
[null,null,"",null,null,null,null,{"$f":"IF(G2078=\"\",\"\",VLOOKUP(G2078,'Lista de precios'!$B$7:$C$5000,2,0))","v":""}]
[null,null,"",null,null,null,null,{"$f":"IF(G2079=\"\",\"\",VLOOKUP(G2079,'Lista de precios'!$B$7:$C$5000,2,0))","v":""}]
[null,null,"",null,null,null,null,{"$f":"IF(G2080=\"\",\"\",VLOOKUP(G2080,'Lista de precios'!$B$7:$C$5000,2,0))","v":""}]
[null,null,"",null,null,null,null,{"$f":"IF(G2081=\"\",\"\",VLOOKUP(G2081,'Lista de precios'!$B$7:$C$5000,2,0))","v":""}]
[null,null,"",null,null,null,null,{"$f":"IF(G2082=\"\",\"\",VLOOKUP(G2082,'Lista de precios'!$B$7:$C$5000,2,0))","v":""}]
[null,null,"",null,null,null,null,{"$f":"IF(G2083=\"\",\"\",VLOOKUP(G2083,'Lista de precios'!$B$7:$C$5000,2,0))","v":""}]
[null,null,"",null,null,null,null,{"$f":"IF(G2084=\"\",\"\",VLOOKUP(G2084,'Lista de precios'!$B$7:$C$5000,2,0))","v":""}]
[null,null,"",null,null,null,null,{"$f":"IF(G2085=\"\",\"\",VLOOKUP(G2085,'Lista de precios'!$B$7:$C$5000,2,0))","v":""}]
[null,null,"",null,null,null,null,{"$f":"IF(G2086=\"\",\"\",VLOOKUP(G2086,'Lista de precios'!$B$7:$C$5000,2,0))","v":""}]
[null,null,"",null,null,null,null,{"$f":"IF(G2087=\"\",\"\",VLOOKUP(G2087,'Lista de precios'!$B$7:$C$5000,2,0))","v":""}]
[null,null,"",null,null,null,null,{"$f":"IF(G2088=\"\",\"\",VLOOKUP(G2088,'Lista de precios'!$B$7:$C$5000,2,0))","v":""}]
[null,null,"",null,null,null,null,{"$f":"IF(G2089=\"\",\"\",VLOOKUP(G2089,'Lista de precios'!$B$7:$C$5000,2,0))","v":""}]
[null,null,"",null,null,null,null,{"$f":"IF(G2090=\"\",\"\",VLOOKUP(G2090,'Lista de precios'!$B$7:$C$5000,2,0))","v":""}]
[null,null,"",null,null,null,null,{"$f":"IF(G2091=\"\",\"\",VLOOKUP(G2091,'Lista de precios'!$B$7:$C$5000,2,0))","v":""}]
[null,null,"",null,null,null,null,{"$f":"IF(G2092=\"\",\"\",VLOOKUP(G2092,'Lista de precios'!$B$7:$C$5000,2,0))","v":""}]
[null,null,"",null,null,null,null,{"$f":"IF(G2093=\"\",\"\",VLOOKUP(G2093,'Lista de precios'!$B$7:$C$5000,2,0))","v":""}]
[null,null,"",null,null,null,null,{"$f":"IF(G2094=\"\",\"\",VLOOKUP(G2094,'Lista de precios'!$B$7:$C$5000,2,0))","v":""}]
[null,null,"",null,null,null,null,{"$f":"IF(G2095=\"\",\"\",VLOOKUP(G2095,'Lista de precios'!$B$7:$C$5000,2,0))","v":""}]
[null,null,"",null,null,null,null,{"$f":"IF(G2096=\"\",\"\",VLOOKUP(G2096,'Lista de precios'!$B$7:$C$5000,2,0))","v":""}]
[null,null,"",null,null,null,null,{"$f":"IF(G2097=\"\",\"\",VLOOKUP(G2097,'Lista de precios'!$B$7:$C$5000,2,0))","v":""}]
[null,null,"",null,null,null,null,{"$f":"IF(G2098=\"\",\"\",VLOOKUP(G2098,'Lista de precios'!$B$7:$C$5000,2,0))","v":""}]
[null,null,"",null,null,null,null,{"$f":"IF(G2099=\"\",\"\",VLOOKUP(G2099,'Lista de precios'!$B$7:$C$5000,2,0))","v":""}]
[null,null,"",null,null,null,null,{"$f":"IF(G2100=\"\",\"\",VLOOKUP(G2100,'Lista de precios'!$B$7:$C$5000,2,0))","v":""}]
[null,null,"",null,null,null,null,{"$f":"IF(G2101=\"\",\"\",VLOOKUP(G2101,'Lista de precios'!$B$7:$C$5000,2,0))","v":""}]
[null,null,"",null,null,null,null,{"$f":"IF(G2102=\"\",\"\",VLOOKUP(G2102,'Lista de precios'!$B$7:$C$5000,2,0))","v":""}]
[null,null,"",null,null,null,null,{"$f":"IF(G2103=\"\",\"\",VLOOKUP(G2103,'Lista de precios'!$B$7:$C$5000,2,0))","v":""}]
[null,null,"",null,null,null,null,{"$f":"IF(G2104=\"\",\"\",VLOOKUP(G2104,'Lista de precios'!$B$7:$C$5000,2,0))","v":""}]
[null,null,"",null,null,null,null,{"$f":"IF(G2105=\"\",\"\",VLOOKUP(G2105,'Lista de precios'!$B$7:$C$5000,2,0))","v":""}]
[null,null,"",null,null,null,null,{"$f":"IF(G2106=\"\",\"\",VLOOKUP(G2106,'Lista de precios'!$B$7:$C$5000,2,0))","v":""}]
[null,null,"",null,null,null,null,{"$f":"IF(G2107=\"\",\"\",VLOOKUP(G2107,'Lista de precios'!$B$7:$C$5000,2,0))","v":""}]
[null,null,"",null,null,null,null,{"$f":"IF(G2108=\"\",\"\",VLOOKUP(G2108,'Lista de precios'!$B$7:$C$5000,2,0))","v":""}]
[null,null,"",null,null,null,null,{"$f":"IF(G2109=\"\",\"\",VLOOKUP(G2109,'Lista de precios'!$B$7:$C$5000,2,0))","v":""}]
[null,null,"",null,null,null,null,{"$f":"IF(G2110=\"\",\"\",VLOOKUP(G2110,'Lista de precios'!$B$7:$C$5000,2,0))","v":""}]
[null,null,"",null,null,null,null,{"$f":"IF(G2111=\"\",\"\",VLOOKUP(G2111,'Lista de precios'!$B$7:$C$5000,2,0))","v":""}]
[null,null,"",null,null,null,null,{"$f":"IF(G2112=\"\",\"\",VLOOKUP(G2112,'Lista de precios'!$B$7:$C$5000,2,0))","v":""}]
[null,null,"",null,null,null,null,{"$f":"IF(G2113=\"\",\"\",VLOOKUP(G2113,'Lista de precios'!$B$7:$C$5000,2,0))","v":""}]
[null,null,"",null,null,null,null,{"$f":"IF(G2114=\"\",\"\",VLOOKUP(G2114,'Lista de precios'!$B$7:$C$5000,2,0))","v":""}]
[null,null,"",null,null,null,null,{"$f":"IF(G2115=\"\",\"\",VLOOKUP(G2115,'Lista de precios'!$B$7:$C$5000,2,0))","v":""}]
[null,null,"",null,null,null,null,{"$f":"IF(G2116=\"\",\"\",VLOOKUP(G2116,'Lista de precios'!$B$7:$C$5000,2,0))","v":""}]
[null,null,"",null,null,null,null,{"$f":"IF(G2117=\"\",\"\",VLOOKUP(G2117,'Lista de precios'!$B$7:$C$5000,2,0))","v":""}]
[null,null,"",null,null,null,null,{"$f":"IF(G2118=\"\",\"\",VLOOKUP(G2118,'Lista de precios'!$B$7:$C$5000,2,0))","v":""}]
[null,null,"",null,null,null,null,{"$f":"IF(G2119=\"\",\"\",VLOOKUP(G2119,'Lista de precios'!$B$7:$C$5000,2,0))","v":""}]
[null,null,"",null,null,null,null,{"$f":"IF(G2120=\"\",\"\",VLOOKUP(G2120,'Lista de precios'!$B$7:$C$5000,2,0))","v":""}]
[null,null,"",null,null,null,null,{"$f":"IF(G2121=\"\",\"\",VLOOKUP(G2121,'Lista de precios'!$B$7:$C$5000,2,0))","v":""}]
[null,null,"",null,null,null,null,{"$f":"IF(G2122=\"\",\"\",VLOOKUP(G2122,'Lista de precios'!$B$7:$C$5000,2,0))","v":""}]
[null,null,"",null,null,null,null,{"$f":"IF(G2123=\"\",\"\",VLOOKUP(G2123,'Lista de precios'!$B$7:$C$5000,2,0))","v":""}]
[null,null,{"$f":"IF(B2124=\"\",\"\",TEXT(B2124,\"Mmmm\"))","v":""},null,null,null,null,{"$f":"IF(G2124=\"\",\"\",VLOOKUP(G2124,'Lista de precios'!$B$7:$C$5000,2,0))","v":""}]
[null,null,"",null,null,null,null,{"$f":"IF(G2125=\"\",\"\",VLOOKUP(G2125,'Lista de precios'!$B$7:$C$5000,2,0))","v":""}]
[null,null,"",null,null,null,null,{"$f":"IF(G2126=\"\",\"\",VLOOKUP(G2126,'Lista de precios'!$B$7:$C$5000,2,0))","v":""}]
[null,null,"",null,null,null,null,{"$f":"IF(G2127=\"\",\"\",VLOOKUP(G2127,'Lista de precios'!$B$7:$C$5000,2,0))","v":""}]
[null,null,"",null,null,null,null,{"$f":"IF(G2128=\"\",\"\",VLOOKUP(G2128,'Lista de precios'!$B$7:$C$5000,2,0))","v":""}]
[null,null,"",null,null,null,null,{"$f":"IF(G2129=\"\",\"\",VLOOKUP(G2129,'Lista de precios'!$B$7:$C$5000,2,0))","v":""}]
[null,null,"",null,null,null,null,{"$f":"IF(G2130=\"\",\"\",VLOOKUP(G2130,'Lista de precios'!$B$7:$C$5000,2,0))","v":""}]
[null,null,"",null,null,null,null,{"$f":"IF(G2131=\"\",\"\",VLOOKUP(G2131,'Lista de precios'!$B$7:$C$5000,2,0))","v":""}]
[null,null,"",null,null,null,null,{"$f":"IF(G2132=\"\",\"\",VLOOKUP(G2132,'Lista de precios'!$B$7:$C$5000,2,0))","v":""}]
[null,null,"",null,null,null,null,{"$f":"IF(G2133=\"\",\"\",VLOOKUP(G2133,'Lista de precios'!$B$7:$C$5000,2,0))","v":""}]
[null,null,"",null,null,null,null,{"$f":"IF(G2134=\"\",\"\",VLOOKUP(G2134,'Lista de precios'!$B$7:$C$5000,2,0))","v":""}]
[null,null,"",null,null,null,null,{"$f":"IF(G2135=\"\",\"\",VLOOKUP(G2135,'Lista de precios'!$B$7:$C$5000,2,0))","v":""}]
[null,null,"",null,null,null,null,{"$f":"IF(G2136=\"\",\"\",VLOOKUP(G2136,'Lista de precios'!$B$7:$C$5000,2,0))","v":""}]
[null,null,"",null,null,null,null,{"$f":"IF(G2137=\"\",\"\",VLOOKUP(G2137,'Lista de precios'!$B$7:$C$5000,2,0))","v":""}]
[null,null,"",null,null,null,null,{"$f":"IF(G2138=\"\",\"\",VLOOKUP(G2138,'Lista de precios'!$B$7:$C$5000,2,0))","v":""}]
[null,null,"",null,null,null,null,{"$f":"IF(G2139=\"\",\"\",VLOOKUP(G2139,'Lista de precios'!$B$7:$C$5000,2,0))","v":""}]
[null,null,"",null,null,null,null,{"$f":"IF(G2140=\"\",\"\",VLOOKUP(G2140,'Lista de precios'!$B$7:$C$5000,2,0))","v":""}]
[null,null,"",null,null,null,null,{"$f":"IF(G2141=\"\",\"\",VLOOKUP(G2141,'Lista de precios'!$B$7:$C$5000,2,0))","v":""}]
[null,null,"",null,null,null,null,{"$f":"IF(G2142=\"\",\"\",VLOOKUP(G2142,'Lista de precios'!$B$7:$C$5000,2,0))","v":""}]
[null,null,"",null,null,null,null,{"$f":"IF(G2143=\"\",\"\",VLOOKUP(G2143,'Lista de precios'!$B$7:$C$5000,2,0))","v":""}]
[null,null,"",null,null,null,null,{"$f":"IF(G2144=\"\",\"\",VLOOKUP(G2144,'Lista de precios'!$B$7:$C$5000,2,0))","v":""}]
[null,null,"",null,null,null,null,{"$f":"IF(G2145=\"\",\"\",VLOOKUP(G2145,'Lista de precios'!$B$7:$C$5000,2,0))","v":""}]
[null,null,"",null,null,null,null,{"$f":"IF(G2146=\"\",\"\",VLOOKUP(G2146,'Lista de precios'!$B$7:$C$5000,2,0))","v":""}]
[null,null,"",null,null,null,null,{"$f":"IF(G2147=\"\",\"\",VLOOKUP(G2147,'Lista de precios'!$B$7:$C$5000,2,0))","v":""}]
[null,null,"",null,null,null,null,{"$f":"IF(G2148=\"\",\"\",VLOOKUP(G2148,'Lista de precios'!$B$7:$C$5000,2,0))","v":""}]
[null,null,"",null,null,null,null,{"$f":"IF(G2149=\"\",\"\",VLOOKUP(G2149,'Lista de precios'!$B$7:$C$5000,2,0))","v":""}]
[null,null,"",null,null,null,null,{"$f":"IF(G2150=\"\",\"\",VLOOKUP(G2150,'Lista de precios'!$B$7:$C$5000,2,0))","v":""}]
[null,null,"",null,null,null,null,{"$f":"IF(G2151=\"\",\"\",VLOOKUP(G2151,'Lista de precios'!$B$7:$C$5000,2,0))","v":""}]
[null,null,"",null,null,null,null,{"$f":"IF(G2152=\"\",\"\",VLOOKUP(G2152,'Lista de precios'!$B$7:$C$5000,2,0))","v":""}]
[null,null,"",null,null,null,null,{"$f":"IF(G2153=\"\",\"\",VLOOKUP(G2153,'Lista de precios'!$B$7:$C$5000,2,0))","v":""}]
[null,null,"",null,null,null,null,{"$f":"IF(G2154=\"\",\"\",VLOOKUP(G2154,'Lista de precios'!$B$7:$C$5000,2,0))","v":""}]
[null,null,"",null,null,null,null,{"$f":"IF(G2155=\"\",\"\",VLOOKUP(G2155,'Lista de precios'!$B$7:$C$5000,2,0))","v":""}]
[null,null,"",null,null,null,null,{"$f":"IF(G2156=\"\",\"\",VLOOKUP(G2156,'Lista de precios'!$B$7:$C$5000,2,0))","v":""}]
[null,null,"",null,null,null,null,{"$f":"IF(G2157=\"\",\"\",VLOOKUP(G2157,'Lista de precios'!$B$7:$C$5000,2,0))","v":""}]
[null,null,"",null,null,null,null,{"$f":"IF(G2158=\"\",\"\",VLOOKUP(G2158,'Lista de precios'!$B$7:$C$5000,2,0))","v":""}]
[null,null,"",null,null,null,null,{"$f":"IF(G2159=\"\",\"\",VLOOKUP(G2159,'Lista de precios'!$B$7:$C$5000,2,0))","v":""}]
[null,null,"",null,null,null,null,{"$f":"IF(G2160=\"\",\"\",VLOOKUP(G2160,'Lista de precios'!$B$7:$C$5000,2,0))","v":""}]
[null,null,"",null,null,null,null,{"$f":"IF(G2161=\"\",\"\",VLOOKUP(G2161,'Lista de precios'!$B$7:$C$5000,2,0))","v":""}]
[null,null,"",null,null,null,null,{"$f":"IF(G2162=\"\",\"\",VLOOKUP(G2162,'Lista de precios'!$B$7:$C$5000,2,0))","v":""}]
[null,null,"",null,null,null,null,{"$f":"IF(G2163=\"\",\"\",VLOOKUP(G2163,'Lista de precios'!$B$7:$C$5000,2,0))","v":""}]
[null,null,"",null,null,null,null,{"$f":"IF(G2164=\"\",\"\",VLOOKUP(G2164,'Lista de precios'!$B$7:$C$5000,2,0))","v":""}]
[null,null,"",null,null,null,null,{"$f":"IF(G2165=\"\",\"\",VLOOKUP(G2165,'Lista de precios'!$B$7:$C$5000,2,0))","v":""}]
[null,null,"",null,null,null,null,{"$f":"IF(G2166=\"\",\"\",VLOOKUP(G2166,'Lista de precios'!$B$7:$C$5000,2,0))","v":""}]
[null,null,"",null,null,null,null,{"$f":"IF(G2167=\"\",\"\",VLOOKUP(G2167,'Lista de precios'!$B$7:$C$5000,2,0))","v":""}]
[null,null,"",null,null,null,null,{"$f":"IF(G2168=\"\",\"\",VLOOKUP(G2168,'Lista de precios'!$B$7:$C$5000,2,0))","v":""}]
[null,null,"",null,null,null,null,{"$f":"IF(G2169=\"\",\"\",VLOOKUP(G2169,'Lista de precios'!$B$7:$C$5000,2,0))","v":""}]
[null,null,"",null,null,null,null,{"$f":"IF(G2170=\"\",\"\",VLOOKUP(G2170,'Lista de precios'!$B$7:$C$5000,2,0))","v":""}]
[null,null,"",null,null,null,null,{"$f":"IF(G2171=\"\",\"\",VLOOKUP(G2171,'Lista de precios'!$B$7:$C$5000,2,0))","v":""}]
[null,null,"",null,null,null,null,{"$f":"IF(G2172=\"\",\"\",VLOOKUP(G2172,'Lista de precios'!$B$7:$C$5000,2,0))","v":""}]
[null,null,"",null,null,null,null,{"$f":"IF(G2173=\"\",\"\",VLOOKUP(G2173,'Lista de precios'!$B$7:$C$5000,2,0))","v":""}]
[null,null,"",null,null,null,null,{"$f":"IF(G2174=\"\",\"\",VLOOKUP(G2174,'Lista de precios'!$B$7:$C$5000,2,0))","v":""}]
[null,null,"",null,null,null,null,{"$f":"IF(G2175=\"\",\"\",VLOOKUP(G2175,'Lista de precios'!$B$7:$C$5000,2,0))","v":""}]
[null,null,"",null,null,null,null,{"$f":"IF(G2176=\"\",\"\",VLOOKUP(G2176,'Lista de precios'!$B$7:$C$5000,2,0))","v":""}]
[null,null,"",null,null,null,null,{"$f":"IF(G2177=\"\",\"\",VLOOKUP(G2177,'Lista de precios'!$B$7:$C$5000,2,0))","v":""}]
[null,null,"",null,null,null,null,{"$f":"IF(G2178=\"\",\"\",VLOOKUP(G2178,'Lista de precios'!$B$7:$C$5000,2,0))","v":""}]
[null,null,"",null,null,null,null,{"$f":"IF(G2179=\"\",\"\",VLOOKUP(G2179,'Lista de precios'!$B$7:$C$5000,2,0))","v":""}]
[null,null,"",null,null,null,null,{"$f":"IF(G2180=\"\",\"\",VLOOKUP(G2180,'Lista de precios'!$B$7:$C$5000,2,0))","v":""}]
[null,null,"",null,null,null,null,{"$f":"IF(G2181=\"\",\"\",VLOOKUP(G2181,'Lista de precios'!$B$7:$C$5000,2,0))","v":""}]
[null,null,"",null,null,null,null,{"$f":"IF(G2182=\"\",\"\",VLOOKUP(G2182,'Lista de precios'!$B$7:$C$5000,2,0))","v":""}]
[null,null,"",null,null,null,null,{"$f":"IF(G2183=\"\",\"\",VLOOKUP(G2183,'Lista de precios'!$B$7:$C$5000,2,0))","v":""}]
[null,null,"",null,null,null,null,{"$f":"IF(G2184=\"\",\"\",VLOOKUP(G2184,'Lista de precios'!$B$7:$C$5000,2,0))","v":""}]
[null,null,"",null,null,null,null,{"$f":"IF(G2185=\"\",\"\",VLOOKUP(G2185,'Lista de precios'!$B$7:$C$5000,2,0))","v":""}]
[null,null,"",null,null,null,null,{"$f":"IF(G2186=\"\",\"\",VLOOKUP(G2186,'Lista de precios'!$B$7:$C$5000,2,0))","v":""}]
[null,null,"",null,null,null,null,{"$f":"IF(G2187=\"\",\"\",VLOOKUP(G2187,'Lista de precios'!$B$7:$C$5000,2,0))","v":""}]
[null,null,{"$f":"IF(B2188=\"\",\"\",TEXT(B2188,\"Mmmm\"))","v":""},null,null,null,null,{"$f":"IF(G2188=\"\",\"\",VLOOKUP(G2188,'Lista de precios'!$B$7:$C$5000,2,0))","v":""}]
[null,null,"",null,null,null,null,{"$f":"IF(G2189=\"\",\"\",VLOOKUP(G2189,'Lista de precios'!$B$7:$C$5000,2,0))","v":""}]
[null,null,"",null,null,null,null,{"$f":"IF(G2190=\"\",\"\",VLOOKUP(G2190,'Lista de precios'!$B$7:$C$5000,2,0))","v":""}]
[null,null,"",null,null,null,null,{"$f":"IF(G2191=\"\",\"\",VLOOKUP(G2191,'Lista de precios'!$B$7:$C$5000,2,0))","v":""}]
[null,null,"",null,null,null,null,{"$f":"IF(G2192=\"\",\"\",VLOOKUP(G2192,'Lista de precios'!$B$7:$C$5000,2,0))","v":""}]
[null,null,"",null,null,null,null,{"$f":"IF(G2193=\"\",\"\",VLOOKUP(G2193,'Lista de precios'!$B$7:$C$5000,2,0))","v":""}]
[null,null,"",null,null,null,null,{"$f":"IF(G2194=\"\",\"\",VLOOKUP(G2194,'Lista de precios'!$B$7:$C$5000,2,0))","v":""}]
[null,null,"",null,null,null,null,{"$f":"IF(G2195=\"\",\"\",VLOOKUP(G2195,'Lista de precios'!$B$7:$C$5000,2,0))","v":""}]
[null,null,"",null,null,null,null,{"$f":"IF(G2196=\"\",\"\",VLOOKUP(G2196,'Lista de precios'!$B$7:$C$5000,2,0))","v":""}]
[null,null,"",null,null,null,null,{"$f":"IF(G2197=\"\",\"\",VLOOKUP(G2197,'Lista de precios'!$B$7:$C$5000,2,0))","v":""}]
[null,null,"",null,null,null,null,{"$f":"IF(G2198=\"\",\"\",VLOOKUP(G2198,'Lista de precios'!$B$7:$C$5000,2,0))","v":""}]
[null,null,"",null,null,null,null,{"$f":"IF(G2199=\"\",\"\",VLOOKUP(G2199,'Lista de precios'!$B$7:$C$5000,2,0))","v":""}]
[null,null,"",null,null,null,null,{"$f":"IF(G2200=\"\",\"\",VLOOKUP(G2200,'Lista de precios'!$B$7:$C$5000,2,0))","v":""}]
[null,null,"",null,null,null,null,{"$f":"IF(G2201=\"\",\"\",VLOOKUP(G2201,'Lista de precios'!$B$7:$C$5000,2,0))","v":""}]
[null,null,"",null,null,null,null,{"$f":"IF(G2202=\"\",\"\",VLOOKUP(G2202,'Lista de precios'!$B$7:$C$5000,2,0))","v":""}]
[null,null,"",null,null,null,null,{"$f":"IF(G2203=\"\",\"\",VLOOKUP(G2203,'Lista de precios'!$B$7:$C$5000,2,0))","v":""}]
[null,null,"",null,null,null,null,{"$f":"IF(G2204=\"\",\"\",VLOOKUP(G2204,'Lista de precios'!$B$7:$C$5000,2,0))","v":""}]
[null,null,"",null,null,null,null,{"$f":"IF(G2205=\"\",\"\",VLOOKUP(G2205,'Lista de precios'!$B$7:$C$5000,2,0))","v":""}]
[null,null,"",null,null,null,null,{"$f":"IF(G2206=\"\",\"\",VLOOKUP(G2206,'Lista de precios'!$B$7:$C$5000,2,0))","v":""}]
[null,null,"",null,null,null,null,{"$f":"IF(G2207=\"\",\"\",VLOOKUP(G2207,'Lista de precios'!$B$7:$C$5000,2,0))","v":""}]
[null,null,"",null,null,null,null,{"$f":"IF(G2208=\"\",\"\",VLOOKUP(G2208,'Lista de precios'!$B$7:$C$5000,2,0))","v":""}]
[null,null,"",null,null,null,null,{"$f":"IF(G2209=\"\",\"\",VLOOKUP(G2209,'Lista de precios'!$B$7:$C$5000,2,0))","v":""}]
[null,null,"",null,null,null,null,{"$f":"IF(G2210=\"\",\"\",VLOOKUP(G2210,'Lista de precios'!$B$7:$C$5000,2,0))","v":""}]
[null,null,"",null,null,null,null,{"$f":"IF(G2211=\"\",\"\",VLOOKUP(G2211,'Lista de precios'!$B$7:$C$5000,2,0))","v":""}]
[null,null,"",null,null,null,null,{"$f":"IF(G2212=\"\",\"\",VLOOKUP(G2212,'Lista de precios'!$B$7:$C$5000,2,0))","v":""}]
[null,null,"",null,null,null,null,{"$f":"IF(G2213=\"\",\"\",VLOOKUP(G2213,'Lista de precios'!$B$7:$C$5000,2,0))","v":""}]
[null,null,"",null,null,null,null,{"$f":"IF(G2214=\"\",\"\",VLOOKUP(G2214,'Lista de precios'!$B$7:$C$5000,2,0))","v":""}]
[null,null,"",null,null,null,null,{"$f":"IF(G2215=\"\",\"\",VLOOKUP(G2215,'Lista de precios'!$B$7:$C$5000,2,0))","v":""}]
[null,null,"",null,null,null,null,{"$f":"IF(G2216=\"\",\"\",VLOOKUP(G2216,'Lista de precios'!$B$7:$C$5000,2,0))","v":""}]
[null,null,"",null,null,null,null,{"$f":"IF(G2217=\"\",\"\",VLOOKUP(G2217,'Lista de precios'!$B$7:$C$5000,2,0))","v":""}]
[null,null,"",null,null,null,null,{"$f":"IF(G2218=\"\",\"\",VLOOKUP(G2218,'Lista de precios'!$B$7:$C$5000,2,0))","v":""}]
[null,null,"",null,null,null,null,{"$f":"IF(G2219=\"\",\"\",VLOOKUP(G2219,'Lista de precios'!$B$7:$C$5000,2,0))","v":""}]
[null,null,"",null,null,null,null,{"$f":"IF(G2220=\"\",\"\",VLOOKUP(G2220,'Lista de precios'!$B$7:$C$5000,2,0))","v":""}]
[null,null,"",null,null,null,null,{"$f":"IF(G2221=\"\",\"\",VLOOKUP(G2221,'Lista de precios'!$B$7:$C$5000,2,0))","v":""}]
[null,null,"",null,null,null,null,{"$f":"IF(G2222=\"\",\"\",VLOOKUP(G2222,'Lista de precios'!$B$7:$C$5000,2,0))","v":""}]
[null,null,"",null,null,null,null,{"$f":"IF(G2223=\"\",\"\",VLOOKUP(G2223,'Lista de precios'!$B$7:$C$5000,2,0))","v":""}]
[null,null,"",null,null,null,null,{"$f":"IF(G2224=\"\",\"\",VLOOKUP(G2224,'Lista de precios'!$B$7:$C$5000,2,0))","v":""}]
[null,null,"",null,null,null,null,{"$f":"IF(G2225=\"\",\"\",VLOOKUP(G2225,'Lista de precios'!$B$7:$C$5000,2,0))","v":""}]
[null,null,"",null,null,null,null,{"$f":"IF(G2226=\"\",\"\",VLOOKUP(G2226,'Lista de precios'!$B$7:$C$5000,2,0))","v":""}]
[null,null,"",null,null,null,null,{"$f":"IF(G2227=\"\",\"\",VLOOKUP(G2227,'Lista de precios'!$B$7:$C$5000,2,0))","v":""}]
[null,null,"",null,null,null,null,{"$f":"IF(G2228=\"\",\"\",VLOOKUP(G2228,'Lista de precios'!$B$7:$C$5000,2,0))","v":""}]
[null,null,"",null,null,null,null,{"$f":"IF(G2229=\"\",\"\",VLOOKUP(G2229,'Lista de precios'!$B$7:$C$5000,2,0))","v":""}]
[null,null,"",null,null,null,null,{"$f":"IF(G2230=\"\",\"\",VLOOKUP(G2230,'Lista de precios'!$B$7:$C$5000,2,0))","v":""}]
[null,null,"",null,null,null,null,{"$f":"IF(G2231=\"\",\"\",VLOOKUP(G2231,'Lista de precios'!$B$7:$C$5000,2,0))","v":""}]
[null,null,"",null,null,null,null,{"$f":"IF(G2232=\"\",\"\",VLOOKUP(G2232,'Lista de precios'!$B$7:$C$5000,2,0))","v":""}]
[null,null,"",null,null,null,null,{"$f":"IF(G2233=\"\",\"\",VLOOKUP(G2233,'Lista de precios'!$B$7:$C$5000,2,0))","v":""}]
[null,null,"",null,null,null,null,{"$f":"IF(G2234=\"\",\"\",VLOOKUP(G2234,'Lista de precios'!$B$7:$C$5000,2,0))","v":""}]
[null,null,"",null,null,null,null,{"$f":"IF(G2235=\"\",\"\",VLOOKUP(G2235,'Lista de precios'!$B$7:$C$5000,2,0))","v":""}]
[null,null,"",null,null,null,null,{"$f":"IF(G2236=\"\",\"\",VLOOKUP(G2236,'Lista de precios'!$B$7:$C$5000,2,0))","v":""}]
[null,null,"",null,null,null,null,{"$f":"IF(G2237=\"\",\"\",VLOOKUP(G2237,'Lista de precios'!$B$7:$C$5000,2,0))","v":""}]
[null,null,"",null,null,null,null,{"$f":"IF(G2238=\"\",\"\",VLOOKUP(G2238,'Lista de precios'!$B$7:$C$5000,2,0))","v":""}]
[null,null,"",null,null,null,null,{"$f":"IF(G2239=\"\",\"\",VLOOKUP(G2239,'Lista de precios'!$B$7:$C$5000,2,0))","v":""}]
[null,null,"",null,null,null,null,{"$f":"IF(G2240=\"\",\"\",VLOOKUP(G2240,'Lista de precios'!$B$7:$C$5000,2,0))","v":""}]
[null,null,"",null,null,null,null,{"$f":"IF(G2241=\"\",\"\",VLOOKUP(G2241,'Lista de precios'!$B$7:$C$5000,2,0))","v":""}]
[null,null,"",null,null,null,null,{"$f":"IF(G2242=\"\",\"\",VLOOKUP(G2242,'Lista de precios'!$B$7:$C$5000,2,0))","v":""}]
[null,null,"",null,null,null,null,{"$f":"IF(G2243=\"\",\"\",VLOOKUP(G2243,'Lista de precios'!$B$7:$C$5000,2,0))","v":""}]
[null,null,"",null,null,null,null,{"$f":"IF(G2244=\"\",\"\",VLOOKUP(G2244,'Lista de precios'!$B$7:$C$5000,2,0))","v":""}]
[null,null,"",null,null,null,null,{"$f":"IF(G2245=\"\",\"\",VLOOKUP(G2245,'Lista de precios'!$B$7:$C$5000,2,0))","v":""}]
[null,null,"",null,null,null,null,{"$f":"IF(G2246=\"\",\"\",VLOOKUP(G2246,'Lista de precios'!$B$7:$C$5000,2,0))","v":""}]
[null,null,"",null,null,null,null,{"$f":"IF(G2247=\"\",\"\",VLOOKUP(G2247,'Lista de precios'!$B$7:$C$5000,2,0))","v":""}]
[null,null,"",null,null,null,null,{"$f":"IF(G2248=\"\",\"\",VLOOKUP(G2248,'Lista de precios'!$B$7:$C$5000,2,0))","v":""}]
[null,null,"",null,null,null,null,{"$f":"IF(G2249=\"\",\"\",VLOOKUP(G2249,'Lista de precios'!$B$7:$C$5000,2,0))","v":""}]
[null,null,"",null,null,null,null,{"$f":"IF(G2250=\"\",\"\",VLOOKUP(G2250,'Lista de precios'!$B$7:$C$5000,2,0))","v":""}]
[null,null,"",null,null,null,null,{"$f":"IF(G2251=\"\",\"\",VLOOKUP(G2251,'Lista de precios'!$B$7:$C$5000,2,0))","v":""}]
[null,null,{"$f":"IF(B2252=\"\",\"\",TEXT(B2252,\"Mmmm\"))","v":""},null,null,null,null,{"$f":"IF(G2252=\"\",\"\",VLOOKUP(G2252,'Lista de precios'!$B$7:$C$5000,2,0))","v":""}]
[null,null,"",null,null,null,null,{"$f":"IF(G2253=\"\",\"\",VLOOKUP(G2253,'Lista de precios'!$B$7:$C$5000,2,0))","v":""}]
[null,null,"",null,null,null,null,{"$f":"IF(G2254=\"\",\"\",VLOOKUP(G2254,'Lista de precios'!$B$7:$C$5000,2,0))","v":""}]
[null,null,"",null,null,null,null,{"$f":"IF(G2255=\"\",\"\",VLOOKUP(G2255,'Lista de precios'!$B$7:$C$5000,2,0))","v":""}]
[null,null,"",null,null,null,null,{"$f":"IF(G2256=\"\",\"\",VLOOKUP(G2256,'Lista de precios'!$B$7:$C$5000,2,0))","v":""}]
[null,null,"",null,null,null,null,{"$f":"IF(G2257=\"\",\"\",VLOOKUP(G2257,'Lista de precios'!$B$7:$C$5000,2,0))","v":""}]
[null,null,"",null,null,null,null,{"$f":"IF(G2258=\"\",\"\",VLOOKUP(G2258,'Lista de precios'!$B$7:$C$5000,2,0))","v":""}]
[null,null,"",null,null,null,null,{"$f":"IF(G2259=\"\",\"\",VLOOKUP(G2259,'Lista de precios'!$B$7:$C$5000,2,0))","v":""}]
[null,null,"",null,null,null,null,{"$f":"IF(G2260=\"\",\"\",VLOOKUP(G2260,'Lista de precios'!$B$7:$C$5000,2,0))","v":""}]
[null,null,"",null,null,null,null,{"$f":"IF(G2261=\"\",\"\",VLOOKUP(G2261,'Lista de precios'!$B$7:$C$5000,2,0))","v":""}]
[null,null,"",null,null,null,null,{"$f":"IF(G2262=\"\",\"\",VLOOKUP(G2262,'Lista de precios'!$B$7:$C$5000,2,0))","v":""}]
[null,null,"",null,null,null,null,{"$f":"IF(G2263=\"\",\"\",VLOOKUP(G2263,'Lista de precios'!$B$7:$C$5000,2,0))","v":""}]
[null,null,"",null,null,null,null,{"$f":"IF(G2264=\"\",\"\",VLOOKUP(G2264,'Lista de precios'!$B$7:$C$5000,2,0))","v":""}]
[null,null,"",null,null,null,null,{"$f":"IF(G2265=\"\",\"\",VLOOKUP(G2265,'Lista de precios'!$B$7:$C$5000,2,0))","v":""}]
[null,null,"",null,null,null,null,{"$f":"IF(G2266=\"\",\"\",VLOOKUP(G2266,'Lista de precios'!$B$7:$C$5000,2,0))","v":""}]
[null,null,"",null,null,null,null,{"$f":"IF(G2267=\"\",\"\",VLOOKUP(G2267,'Lista de precios'!$B$7:$C$5000,2,0))","v":""}]
[null,null,"",null,null,null,null,{"$f":"IF(G2268=\"\",\"\",VLOOKUP(G2268,'Lista de precios'!$B$7:$C$5000,2,0))","v":""}]
[null,null,"",null,null,null,null,{"$f":"IF(G2269=\"\",\"\",VLOOKUP(G2269,'Lista de precios'!$B$7:$C$5000,2,0))","v":""}]
[null,null,"",null,null,null,null,{"$f":"IF(G2270=\"\",\"\",VLOOKUP(G2270,'Lista de precios'!$B$7:$C$5000,2,0))","v":""}]
[null,null,"",null,null,null,null,{"$f":"IF(G2271=\"\",\"\",VLOOKUP(G2271,'Lista de precios'!$B$7:$C$5000,2,0))","v":""}]
[null,null,"",null,null,null,null,{"$f":"IF(G2272=\"\",\"\",VLOOKUP(G2272,'Lista de precios'!$B$7:$C$5000,2,0))","v":""}]
[null,null,"",null,null,null,null,{"$f":"IF(G2273=\"\",\"\",VLOOKUP(G2273,'Lista de precios'!$B$7:$C$5000,2,0))","v":""}]
[null,null,"",null,null,null,null,{"$f":"IF(G2274=\"\",\"\",VLOOKUP(G2274,'Lista de precios'!$B$7:$C$5000,2,0))","v":""}]
[null,null,"",null,null,null,null,{"$f":"IF(G2275=\"\",\"\",VLOOKUP(G2275,'Lista de precios'!$B$7:$C$5000,2,0))","v":""}]
[null,null,"",null,null,null,null,{"$f":"IF(G2276=\"\",\"\",VLOOKUP(G2276,'Lista de precios'!$B$7:$C$5000,2,0))","v":""}]
[null,null,"",null,null,null,null,{"$f":"IF(G2277=\"\",\"\",VLOOKUP(G2277,'Lista de precios'!$B$7:$C$5000,2,0))","v":""}]
[null,null,"",null,null,null,null,{"$f":"IF(G2278=\"\",\"\",VLOOKUP(G2278,'Lista de precios'!$B$7:$C$5000,2,0))","v":""}]
[null,null,"",null,null,null,null,{"$f":"IF(G2279=\"\",\"\",VLOOKUP(G2279,'Lista de precios'!$B$7:$C$5000,2,0))","v":""}]
[null,null,"",null,null,null,null,{"$f":"IF(G2280=\"\",\"\",VLOOKUP(G2280,'Lista de precios'!$B$7:$C$5000,2,0))","v":""}]
[null,null,"",null,null,null,null,{"$f":"IF(G2281=\"\",\"\",VLOOKUP(G2281,'Lista de precios'!$B$7:$C$5000,2,0))","v":""}]
[null,null,"",null,null,null,null,{"$f":"IF(G2282=\"\",\"\",VLOOKUP(G2282,'Lista de precios'!$B$7:$C$5000,2,0))","v":""}]
[null,null,"",null,null,null,null,{"$f":"IF(G2283=\"\",\"\",VLOOKUP(G2283,'Lista de precios'!$B$7:$C$5000,2,0))","v":""}]
[null,null,"",null,null,null,null,{"$f":"IF(G2284=\"\",\"\",VLOOKUP(G2284,'Lista de precios'!$B$7:$C$5000,2,0))","v":""}]
[null,null,"",null,null,null,null,{"$f":"IF(G2285=\"\",\"\",VLOOKUP(G2285,'Lista de precios'!$B$7:$C$5000,2,0))","v":""}]
[null,null,"",null,null,null,null,{"$f":"IF(G2286=\"\",\"\",VLOOKUP(G2286,'Lista de precios'!$B$7:$C$5000,2,0))","v":""}]
[null,null,"",null,null,null,null,{"$f":"IF(G2287=\"\",\"\",VLOOKUP(G2287,'Lista de precios'!$B$7:$C$5000,2,0))","v":""}]
[null,null,"",null,null,null,null,{"$f":"IF(G2288=\"\",\"\",VLOOKUP(G2288,'Lista de precios'!$B$7:$C$5000,2,0))","v":""}]
[null,null,"",null,null,null,null,{"$f":"IF(G2289=\"\",\"\",VLOOKUP(G2289,'Lista de precios'!$B$7:$C$5000,2,0))","v":""}]
[null,null,"",null,null,null,null,{"$f":"IF(G2290=\"\",\"\",VLOOKUP(G2290,'Lista de precios'!$B$7:$C$5000,2,0))","v":""}]
[null,null,"",null,null,null,null,{"$f":"IF(G2291=\"\",\"\",VLOOKUP(G2291,'Lista de precios'!$B$7:$C$5000,2,0))","v":""}]
[null,null,"",null,null,null,null,{"$f":"IF(G2292=\"\",\"\",VLOOKUP(G2292,'Lista de precios'!$B$7:$C$5000,2,0))","v":""}]
[null,null,"",null,null,null,null,{"$f":"IF(G2293=\"\",\"\",VLOOKUP(G2293,'Lista de precios'!$B$7:$C$5000,2,0))","v":""}]
[null,null,"",null,null,null,null,{"$f":"IF(G2294=\"\",\"\",VLOOKUP(G2294,'Lista de precios'!$B$7:$C$5000,2,0))","v":""}]
[null,null,"",null,null,null,null,{"$f":"IF(G2295=\"\",\"\",VLOOKUP(G2295,'Lista de precios'!$B$7:$C$5000,2,0))","v":""}]
[null,null,"",null,null,null,null,{"$f":"IF(G2296=\"\",\"\",VLOOKUP(G2296,'Lista de precios'!$B$7:$C$5000,2,0))","v":""}]
[null,null,"",null,null,null,null,{"$f":"IF(G2297=\"\",\"\",VLOOKUP(G2297,'Lista de precios'!$B$7:$C$5000,2,0))","v":""}]
[null,null,"",null,null,null,null,{"$f":"IF(G2298=\"\",\"\",VLOOKUP(G2298,'Lista de precios'!$B$7:$C$5000,2,0))","v":""}]
[null,null,"",null,null,null,null,{"$f":"IF(G2299=\"\",\"\",VLOOKUP(G2299,'Lista de precios'!$B$7:$C$5000,2,0))","v":""}]
[null,null,"",null,null,null,null,{"$f":"IF(G2300=\"\",\"\",VLOOKUP(G2300,'Lista de precios'!$B$7:$C$5000,2,0))","v":""}]
[null,null,"",null,null,null,null,{"$f":"IF(G2301=\"\",\"\",VLOOKUP(G2301,'Lista de precios'!$B$7:$C$5000,2,0))","v":""}]
[null,null,"",null,null,null,null,{"$f":"IF(G2302=\"\",\"\",VLOOKUP(G2302,'Lista de precios'!$B$7:$C$5000,2,0))","v":""}]
[null,null,"",null,null,null,null,{"$f":"IF(G2303=\"\",\"\",VLOOKUP(G2303,'Lista de precios'!$B$7:$C$5000,2,0))","v":""}]
[null,null,"",null,null,null,null,{"$f":"IF(G2304=\"\",\"\",VLOOKUP(G2304,'Lista de precios'!$B$7:$C$5000,2,0))","v":""}]
[null,null,"",null,null,null,null,{"$f":"IF(G2305=\"\",\"\",VLOOKUP(G2305,'Lista de precios'!$B$7:$C$5000,2,0))","v":""}]
[null,null,"",null,null,null,null,{"$f":"IF(G2306=\"\",\"\",VLOOKUP(G2306,'Lista de precios'!$B$7:$C$5000,2,0))","v":""}]
[null,null,"",null,null,null,null,{"$f":"IF(G2307=\"\",\"\",VLOOKUP(G2307,'Lista de precios'!$B$7:$C$5000,2,0))","v":""}]
[null,null,"",null,null,null,null,{"$f":"IF(G2308=\"\",\"\",VLOOKUP(G2308,'Lista de precios'!$B$7:$C$5000,2,0))","v":""}]
[null,null,"",null,null,null,null,{"$f":"IF(G2309=\"\",\"\",VLOOKUP(G2309,'Lista de precios'!$B$7:$C$5000,2,0))","v":""}]
[null,null,"",null,null,null,null,{"$f":"IF(G2310=\"\",\"\",VLOOKUP(G2310,'Lista de precios'!$B$7:$C$5000,2,0))","v":""}]
[null,null,"",null,null,null,null,{"$f":"IF(G2311=\"\",\"\",VLOOKUP(G2311,'Lista de precios'!$B$7:$C$5000,2,0))","v":""}]
[null,null,"",null,null,null,null,{"$f":"IF(G2312=\"\",\"\",VLOOKUP(G2312,'Lista de precios'!$B$7:$C$5000,2,0))","v":""}]
[null,null,"",null,null,null,null,{"$f":"IF(G2313=\"\",\"\",VLOOKUP(G2313,'Lista de precios'!$B$7:$C$5000,2,0))","v":""}]
[null,null,"",null,null,null,null,{"$f":"IF(G2314=\"\",\"\",VLOOKUP(G2314,'Lista de precios'!$B$7:$C$5000,2,0))","v":""}]
[null,null,"",null,null,null,null,{"$f":"IF(G2315=\"\",\"\",VLOOKUP(G2315,'Lista de precios'!$B$7:$C$5000,2,0))","v":""}]
[null,null,{"$f":"IF(B2316=\"\",\"\",TEXT(B2316,\"Mmmm\"))","v":""},null,null,null,null,{"$f":"IF(G2316=\"\",\"\",VLOOKUP(G2316,'Lista de precios'!$B$7:$C$5000,2,0))","v":""}]
[null,null,"",null,null,null,null,{"$f":"IF(G2317=\"\",\"\",VLOOKUP(G2317,'Lista de precios'!$B$7:$C$5000,2,0))","v":""}]
[null,null,"",null,null,null,null,{"$f":"IF(G2318=\"\",\"\",VLOOKUP(G2318,'Lista de precios'!$B$7:$C$5000,2,0))","v":""}]
[null,null,"",null,null,null,null,{"$f":"IF(G2319=\"\",\"\",VLOOKUP(G2319,'Lista de precios'!$B$7:$C$5000,2,0))","v":""}]
[null,null,"",null,null,null,null,{"$f":"IF(G2320=\"\",\"\",VLOOKUP(G2320,'Lista de precios'!$B$7:$C$5000,2,0))","v":""}]
[null,null,"",null,null,null,null,{"$f":"IF(G2321=\"\",\"\",VLOOKUP(G2321,'Lista de precios'!$B$7:$C$5000,2,0))","v":""}]
[null,null,"",null,null,null,null,{"$f":"IF(G2322=\"\",\"\",VLOOKUP(G2322,'Lista de precios'!$B$7:$C$5000,2,0))","v":""}]
[null,null,"",null,null,null,null,{"$f":"IF(G2323=\"\",\"\",VLOOKUP(G2323,'Lista de precios'!$B$7:$C$5000,2,0))","v":""}]
[null,null,"",null,null,null,null,{"$f":"IF(G2324=\"\",\"\",VLOOKUP(G2324,'Lista de precios'!$B$7:$C$5000,2,0))","v":""}]
[null,null,"",null,null,null,null,{"$f":"IF(G2325=\"\",\"\",VLOOKUP(G2325,'Lista de precios'!$B$7:$C$5000,2,0))","v":""}]
[null,null,"",null,null,null,null,{"$f":"IF(G2326=\"\",\"\",VLOOKUP(G2326,'Lista de precios'!$B$7:$C$5000,2,0))","v":""}]
[null,null,"",null,null,null,null,{"$f":"IF(G2327=\"\",\"\",VLOOKUP(G2327,'Lista de precios'!$B$7:$C$5000,2,0))","v":""}]
[null,null,"",null,null,null,null,{"$f":"IF(G2328=\"\",\"\",VLOOKUP(G2328,'Lista de precios'!$B$7:$C$5000,2,0))","v":""}]
[null,null,"",null,null,null,null,{"$f":"IF(G2329=\"\",\"\",VLOOKUP(G2329,'Lista de precios'!$B$7:$C$5000,2,0))","v":""}]
[null,null,"",null,null,null,null,{"$f":"IF(G2330=\"\",\"\",VLOOKUP(G2330,'Lista de precios'!$B$7:$C$5000,2,0))","v":""}]
[null,null,"",null,null,null,null,{"$f":"IF(G2331=\"\",\"\",VLOOKUP(G2331,'Lista de precios'!$B$7:$C$5000,2,0))","v":""}]
[null,null,"",null,null,null,null,{"$f":"IF(G2332=\"\",\"\",VLOOKUP(G2332,'Lista de precios'!$B$7:$C$5000,2,0))","v":""}]
[null,null,"",null,null,null,null,{"$f":"IF(G2333=\"\",\"\",VLOOKUP(G2333,'Lista de precios'!$B$7:$C$5000,2,0))","v":""}]
[null,null,"",null,null,null,null,{"$f":"IF(G2334=\"\",\"\",VLOOKUP(G2334,'Lista de precios'!$B$7:$C$5000,2,0))","v":""}]
[null,null,"",null,null,null,null,{"$f":"IF(G2335=\"\",\"\",VLOOKUP(G2335,'Lista de precios'!$B$7:$C$5000,2,0))","v":""}]
[null,null,"",null,null,null,null,{"$f":"IF(G2336=\"\",\"\",VLOOKUP(G2336,'Lista de precios'!$B$7:$C$5000,2,0))","v":""}]
[null,null,"",null,null,null,null,{"$f":"IF(G2337=\"\",\"\",VLOOKUP(G2337,'Lista de precios'!$B$7:$C$5000,2,0))","v":""}]
[null,null,"",null,null,null,null,{"$f":"IF(G2338=\"\",\"\",VLOOKUP(G2338,'Lista de precios'!$B$7:$C$5000,2,0))","v":""}]
[null,null,"",null,null,null,null,{"$f":"IF(G2339=\"\",\"\",VLOOKUP(G2339,'Lista de precios'!$B$7:$C$5000,2,0))","v":""}]
[null,null,"",null,null,null,null,{"$f":"IF(G2340=\"\",\"\",VLOOKUP(G2340,'Lista de precios'!$B$7:$C$5000,2,0))","v":""}]
[null,null,"",null,null,null,null,{"$f":"IF(G2341=\"\",\"\",VLOOKUP(G2341,'Lista de precios'!$B$7:$C$5000,2,0))","v":""}]
[null,null,"",null,null,null,null,{"$f":"IF(G2342=\"\",\"\",VLOOKUP(G2342,'Lista de precios'!$B$7:$C$5000,2,0))","v":""}]
[null,null,"",null,null,null,null,{"$f":"IF(G2343=\"\",\"\",VLOOKUP(G2343,'Lista de precios'!$B$7:$C$5000,2,0))","v":""}]
[null,null,"",null,null,null,null,{"$f":"IF(G2344=\"\",\"\",VLOOKUP(G2344,'Lista de precios'!$B$7:$C$5000,2,0))","v":""}]
[null,null,"",null,null,null,null,{"$f":"IF(G2345=\"\",\"\",VLOOKUP(G2345,'Lista de precios'!$B$7:$C$5000,2,0))","v":""}]
[null,null,"",null,null,null,null,{"$f":"IF(G2346=\"\",\"\",VLOOKUP(G2346,'Lista de precios'!$B$7:$C$5000,2,0))","v":""}]
[null,null,"",null,null,null,null,{"$f":"IF(G2347=\"\",\"\",VLOOKUP(G2347,'Lista de precios'!$B$7:$C$5000,2,0))","v":""}]
[null,null,"",null,null,null,null,{"$f":"IF(G2348=\"\",\"\",VLOOKUP(G2348,'Lista de precios'!$B$7:$C$5000,2,0))","v":""}]
[null,null,"",null,null,null,null,{"$f":"IF(G2349=\"\",\"\",VLOOKUP(G2349,'Lista de precios'!$B$7:$C$5000,2,0))","v":""}]
[null,null,"",null,null,null,null,{"$f":"IF(G2350=\"\",\"\",VLOOKUP(G2350,'Lista de precios'!$B$7:$C$5000,2,0))","v":""}]
[null,null,"",null,null,null,null,{"$f":"IF(G2351=\"\",\"\",VLOOKUP(G2351,'Lista de precios'!$B$7:$C$5000,2,0))","v":""}]
[null,null,"",null,null,null,null,{"$f":"IF(G2352=\"\",\"\",VLOOKUP(G2352,'Lista de precios'!$B$7:$C$5000,2,0))","v":""}]
[null,null,"",null,null,null,null,{"$f":"IF(G2353=\"\",\"\",VLOOKUP(G2353,'Lista de precios'!$B$7:$C$5000,2,0))","v":""}]
[null,null,"",null,null,null,null,{"$f":"IF(G2354=\"\",\"\",VLOOKUP(G2354,'Lista de precios'!$B$7:$C$5000,2,0))","v":""}]
[null,null,"",null,null,null,null,{"$f":"IF(G2355=\"\",\"\",VLOOKUP(G2355,'Lista de precios'!$B$7:$C$5000,2,0))","v":""}]
[null,null,"",null,null,null,null,{"$f":"IF(G2356=\"\",\"\",VLOOKUP(G2356,'Lista de precios'!$B$7:$C$5000,2,0))","v":""}]
[null,null,"",null,null,null,null,{"$f":"IF(G2357=\"\",\"\",VLOOKUP(G2357,'Lista de precios'!$B$7:$C$5000,2,0))","v":""}]
[null,null,"",null,null,null,null,{"$f":"IF(G2358=\"\",\"\",VLOOKUP(G2358,'Lista de precios'!$B$7:$C$5000,2,0))","v":""}]
[null,null,"",null,null,null,null,{"$f":"IF(G2359=\"\",\"\",VLOOKUP(G2359,'Lista de precios'!$B$7:$C$5000,2,0))","v":""}]
[null,null,"",null,null,null,null,{"$f":"IF(G2360=\"\",\"\",VLOOKUP(G2360,'Lista de precios'!$B$7:$C$5000,2,0))","v":""}]
[null,null,"",null,null,null,null,{"$f":"IF(G2361=\"\",\"\",VLOOKUP(G2361,'Lista de precios'!$B$7:$C$5000,2,0))","v":""}]
[null,null,"",null,null,null,null,{"$f":"IF(G2362=\"\",\"\",VLOOKUP(G2362,'Lista de precios'!$B$7:$C$5000,2,0))","v":""}]
[null,null,"",null,null,null,null,{"$f":"IF(G2363=\"\",\"\",VLOOKUP(G2363,'Lista de precios'!$B$7:$C$5000,2,0))","v":""}]
[null,null,"",null,null,null,null,{"$f":"IF(G2364=\"\",\"\",VLOOKUP(G2364,'Lista de precios'!$B$7:$C$5000,2,0))","v":""}]
[null,null,"",null,null,null,null,{"$f":"IF(G2365=\"\",\"\",VLOOKUP(G2365,'Lista de precios'!$B$7:$C$5000,2,0))","v":""}]
[null,null,"",null,null,null,null,{"$f":"IF(G2366=\"\",\"\",VLOOKUP(G2366,'Lista de precios'!$B$7:$C$5000,2,0))","v":""}]
[null,null,"",null,null,null,null,{"$f":"IF(G2367=\"\",\"\",VLOOKUP(G2367,'Lista de precios'!$B$7:$C$5000,2,0))","v":""}]
[null,null,"",null,null,null,null,{"$f":"IF(G2368=\"\",\"\",VLOOKUP(G2368,'Lista de precios'!$B$7:$C$5000,2,0))","v":""}]
[null,null,"",null,null,null,null,{"$f":"IF(G2369=\"\",\"\",VLOOKUP(G2369,'Lista de precios'!$B$7:$C$5000,2,0))","v":""}]
[null,null,"",null,null,null,null,{"$f":"IF(G2370=\"\",\"\",VLOOKUP(G2370,'Lista de precios'!$B$7:$C$5000,2,0))","v":""}]
[null,null,"",null,null,null,null,{"$f":"IF(G2371=\"\",\"\",VLOOKUP(G2371,'Lista de precios'!$B$7:$C$5000,2,0))","v":""}]
[null,null,"",null,null,null,null,{"$f":"IF(G2372=\"\",\"\",VLOOKUP(G2372,'Lista de precios'!$B$7:$C$5000,2,0))","v":""}]
[null,null,"",null,null,null,null,{"$f":"IF(G2373=\"\",\"\",VLOOKUP(G2373,'Lista de precios'!$B$7:$C$5000,2,0))","v":""}]
[null,null,"",null,null,null,null,{"$f":"IF(G2374=\"\",\"\",VLOOKUP(G2374,'Lista de precios'!$B$7:$C$5000,2,0))","v":""}]
[null,null,"",null,null,null,null,{"$f":"IF(G2375=\"\",\"\",VLOOKUP(G2375,'Lista de precios'!$B$7:$C$5000,2,0))","v":""}]
[null,null,"",null,null,null,null,{"$f":"IF(G2376=\"\",\"\",VLOOKUP(G2376,'Lista de precios'!$B$7:$C$5000,2,0))","v":""}]
[null,null,"",null,null,null,null,{"$f":"IF(G2377=\"\",\"\",VLOOKUP(G2377,'Lista de precios'!$B$7:$C$5000,2,0))","v":""}]
[null,null,"",null,null,null,null,{"$f":"IF(G2378=\"\",\"\",VLOOKUP(G2378,'Lista de precios'!$B$7:$C$5000,2,0))","v":""}]
[null,null,"",null,null,null,null,{"$f":"IF(G2379=\"\",\"\",VLOOKUP(G2379,'Lista de precios'!$B$7:$C$5000,2,0))","v":""}]
[null,null,{"$f":"IF(B2380=\"\",\"\",TEXT(B2380,\"Mmmm\"))","v":""},null,null,null,null,{"$f":"IF(G2380=\"\",\"\",VLOOKUP(G2380,'Lista de precios'!$B$7:$C$5000,2,0))","v":""}]
[null,null,"",null,null,null,null,{"$f":"IF(G2381=\"\",\"\",VLOOKUP(G2381,'Lista de precios'!$B$7:$C$5000,2,0))","v":""}]
[null,null,"",null,null,null,null,{"$f":"IF(G2382=\"\",\"\",VLOOKUP(G2382,'Lista de precios'!$B$7:$C$5000,2,0))","v":""}]
[null,null,"",null,null,null,null,{"$f":"IF(G2383=\"\",\"\",VLOOKUP(G2383,'Lista de precios'!$B$7:$C$5000,2,0))","v":""}]
[null,null,"",null,null,null,null,{"$f":"IF(G2384=\"\",\"\",VLOOKUP(G2384,'Lista de precios'!$B$7:$C$5000,2,0))","v":""}]
[null,null,"",null,null,null,null,{"$f":"IF(G2385=\"\",\"\",VLOOKUP(G2385,'Lista de precios'!$B$7:$C$5000,2,0))","v":""}]
[null,null,"",null,null,null,null,{"$f":"IF(G2386=\"\",\"\",VLOOKUP(G2386,'Lista de precios'!$B$7:$C$5000,2,0))","v":""}]
[null,null,"",null,null,null,null,{"$f":"IF(G2387=\"\",\"\",VLOOKUP(G2387,'Lista de precios'!$B$7:$C$5000,2,0))","v":""}]
[null,null,"",null,null,null,null,{"$f":"IF(G2388=\"\",\"\",VLOOKUP(G2388,'Lista de precios'!$B$7:$C$5000,2,0))","v":""}]
[null,null,"",null,null,null,null,{"$f":"IF(G2389=\"\",\"\",VLOOKUP(G2389,'Lista de precios'!$B$7:$C$5000,2,0))","v":""}]
[null,null,"",null,null,null,null,{"$f":"IF(G2390=\"\",\"\",VLOOKUP(G2390,'Lista de precios'!$B$7:$C$5000,2,0))","v":""}]
[null,null,"",null,null,null,null,{"$f":"IF(G2391=\"\",\"\",VLOOKUP(G2391,'Lista de precios'!$B$7:$C$5000,2,0))","v":""}]
[null,null,"",null,null,null,null,{"$f":"IF(G2392=\"\",\"\",VLOOKUP(G2392,'Lista de precios'!$B$7:$C$5000,2,0))","v":""}]
[null,null,"",null,null,null,null,{"$f":"IF(G2393=\"\",\"\",VLOOKUP(G2393,'Lista de precios'!$B$7:$C$5000,2,0))","v":""}]
[null,null,"",null,null,null,null,{"$f":"IF(G2394=\"\",\"\",VLOOKUP(G2394,'Lista de precios'!$B$7:$C$5000,2,0))","v":""}]
[null,null,"",null,null,null,null,{"$f":"IF(G2395=\"\",\"\",VLOOKUP(G2395,'Lista de precios'!$B$7:$C$5000,2,0))","v":""}]
[null,null,"",null,null,null,null,{"$f":"IF(G2396=\"\",\"\",VLOOKUP(G2396,'Lista de precios'!$B$7:$C$5000,2,0))","v":""}]
[null,null,"",null,null,null,null,{"$f":"IF(G2397=\"\",\"\",VLOOKUP(G2397,'Lista de precios'!$B$7:$C$5000,2,0))","v":""}]
[null,null,"",null,null,null,null,{"$f":"IF(G2398=\"\",\"\",VLOOKUP(G2398,'Lista de precios'!$B$7:$C$5000,2,0))","v":""}]
[null,null,"",null,null,null,null,{"$f":"IF(G2399=\"\",\"\",VLOOKUP(G2399,'Lista de precios'!$B$7:$C$5000,2,0))","v":""}]
[null,null,"",null,null,null,null,{"$f":"IF(G2400=\"\",\"\",VLOOKUP(G2400,'Lista de precios'!$B$7:$C$5000,2,0))","v":""}]
[null,null,"",null,null,null,null,{"$f":"IF(G2401=\"\",\"\",VLOOKUP(G2401,'Lista de precios'!$B$7:$C$5000,2,0))","v":""}]
[null,null,"",null,null,null,null,{"$f":"IF(G2402=\"\",\"\",VLOOKUP(G2402,'Lista de precios'!$B$7:$C$5000,2,0))","v":""}]
[null,null,"",null,null,null,null,{"$f":"IF(G2403=\"\",\"\",VLOOKUP(G2403,'Lista de precios'!$B$7:$C$5000,2,0))","v":""}]
[null,null,"",null,null,null,null,{"$f":"IF(G2404=\"\",\"\",VLOOKUP(G2404,'Lista de precios'!$B$7:$C$5000,2,0))","v":""}]
[null,null,"",null,null,null,null,{"$f":"IF(G2405=\"\",\"\",VLOOKUP(G2405,'Lista de precios'!$B$7:$C$5000,2,0))","v":""}]
[null,null,"",null,null,null,null,{"$f":"IF(G2406=\"\",\"\",VLOOKUP(G2406,'Lista de precios'!$B$7:$C$5000,2,0))","v":""}]
[null,null,"",null,null,null,null,{"$f":"IF(G2407=\"\",\"\",VLOOKUP(G2407,'Lista de precios'!$B$7:$C$5000,2,0))","v":""}]
[null,null,"",null,null,null,null,{"$f":"IF(G2408=\"\",\"\",VLOOKUP(G2408,'Lista de precios'!$B$7:$C$5000,2,0))","v":""}]
[null,null,"",null,null,null,null,{"$f":"IF(G2409=\"\",\"\",VLOOKUP(G2409,'Lista de precios'!$B$7:$C$5000,2,0))","v":""}]
[null,null,"",null,null,null,null,{"$f":"IF(G2410=\"\",\"\",VLOOKUP(G2410,'Lista de precios'!$B$7:$C$5000,2,0))","v":""}]
[null,null,"",null,null,null,null,{"$f":"IF(G2411=\"\",\"\",VLOOKUP(G2411,'Lista de precios'!$B$7:$C$5000,2,0))","v":""}]
[null,null,"",null,null,null,null,{"$f":"IF(G2412=\"\",\"\",VLOOKUP(G2412,'Lista de precios'!$B$7:$C$5000,2,0))","v":""}]
[null,null,"",null,null,null,null,{"$f":"IF(G2413=\"\",\"\",VLOOKUP(G2413,'Lista de precios'!$B$7:$C$5000,2,0))","v":""}]
[null,null,"",null,null,null,null,{"$f":"IF(G2414=\"\",\"\",VLOOKUP(G2414,'Lista de precios'!$B$7:$C$5000,2,0))","v":""}]
[null,null,"",null,null,null,null,{"$f":"IF(G2415=\"\",\"\",VLOOKUP(G2415,'Lista de precios'!$B$7:$C$5000,2,0))","v":""}]
[null,null,"",null,null,null,null,{"$f":"IF(G2416=\"\",\"\",VLOOKUP(G2416,'Lista de precios'!$B$7:$C$5000,2,0))","v":""}]
[null,null,"",null,null,null,null,{"$f":"IF(G2417=\"\",\"\",VLOOKUP(G2417,'Lista de precios'!$B$7:$C$5000,2,0))","v":""}]
[null,null,"",null,null,null,null,{"$f":"IF(G2418=\"\",\"\",VLOOKUP(G2418,'Lista de precios'!$B$7:$C$5000,2,0))","v":""}]
[null,null,"",null,null,null,null,{"$f":"IF(G2419=\"\",\"\",VLOOKUP(G2419,'Lista de precios'!$B$7:$C$5000,2,0))","v":""}]
[null,null,"",null,null,null,null,{"$f":"IF(G2420=\"\",\"\",VLOOKUP(G2420,'Lista de precios'!$B$7:$C$5000,2,0))","v":""}]
[null,null,"",null,null,null,null,{"$f":"IF(G2421=\"\",\"\",VLOOKUP(G2421,'Lista de precios'!$B$7:$C$5000,2,0))","v":""}]
[null,null,"",null,null,null,null,{"$f":"IF(G2422=\"\",\"\",VLOOKUP(G2422,'Lista de precios'!$B$7:$C$5000,2,0))","v":""}]
[null,null,"",null,null,null,null,{"$f":"IF(G2423=\"\",\"\",VLOOKUP(G2423,'Lista de precios'!$B$7:$C$5000,2,0))","v":""}]
[null,null,"",null,null,null,null,{"$f":"IF(G2424=\"\",\"\",VLOOKUP(G2424,'Lista de precios'!$B$7:$C$5000,2,0))","v":""}]
[null,null,"",null,null,null,null,{"$f":"IF(G2425=\"\",\"\",VLOOKUP(G2425,'Lista de precios'!$B$7:$C$5000,2,0))","v":""}]
[null,null,"",null,null,null,null,{"$f":"IF(G2426=\"\",\"\",VLOOKUP(G2426,'Lista de precios'!$B$7:$C$5000,2,0))","v":""}]
[null,null,"",null,null,null,null,{"$f":"IF(G2427=\"\",\"\",VLOOKUP(G2427,'Lista de precios'!$B$7:$C$5000,2,0))","v":""}]
[null,null,"",null,null,null,null,{"$f":"IF(G2428=\"\",\"\",VLOOKUP(G2428,'Lista de precios'!$B$7:$C$5000,2,0))","v":""}]
[null,null,"",null,null,null,null,{"$f":"IF(G2429=\"\",\"\",VLOOKUP(G2429,'Lista de precios'!$B$7:$C$5000,2,0))","v":""}]
[null,null,"",null,null,null,null,{"$f":"IF(G2430=\"\",\"\",VLOOKUP(G2430,'Lista de precios'!$B$7:$C$5000,2,0))","v":""}]
[null,null,"",null,null,null,null,{"$f":"IF(G2431=\"\",\"\",VLOOKUP(G2431,'Lista de precios'!$B$7:$C$5000,2,0))","v":""}]
[null,null,"",null,null,null,null,{"$f":"IF(G2432=\"\",\"\",VLOOKUP(G2432,'Lista de precios'!$B$7:$C$5000,2,0))","v":""}]
[null,null,"",null,null,null,null,{"$f":"IF(G2433=\"\",\"\",VLOOKUP(G2433,'Lista de precios'!$B$7:$C$5000,2,0))","v":""}]
[null,null,"",null,null,null,null,{"$f":"IF(G2434=\"\",\"\",VLOOKUP(G2434,'Lista de precios'!$B$7:$C$5000,2,0))","v":""}]
[null,null,"",null,null,null,null,{"$f":"IF(G2435=\"\",\"\",VLOOKUP(G2435,'Lista de precios'!$B$7:$C$5000,2,0))","v":""}]
[null,null,"",null,null,null,null,{"$f":"IF(G2436=\"\",\"\",VLOOKUP(G2436,'Lista de precios'!$B$7:$C$5000,2,0))","v":""}]
[null,null,"",null,null,null,null,{"$f":"IF(G2437=\"\",\"\",VLOOKUP(G2437,'Lista de precios'!$B$7:$C$5000,2,0))","v":""}]
[null,null,"",null,null,null,null,{"$f":"IF(G2438=\"\",\"\",VLOOKUP(G2438,'Lista de precios'!$B$7:$C$5000,2,0))","v":""}]
[null,null,"",null,null,null,null,{"$f":"IF(G2439=\"\",\"\",VLOOKUP(G2439,'Lista de precios'!$B$7:$C$5000,2,0))","v":""}]
[null,null,"",null,null,null,null,{"$f":"IF(G2440=\"\",\"\",VLOOKUP(G2440,'Lista de precios'!$B$7:$C$5000,2,0))","v":""}]
[null,null,"",null,null,null,null,{"$f":"IF(G2441=\"\",\"\",VLOOKUP(G2441,'Lista de precios'!$B$7:$C$5000,2,0))","v":""}]
[null,null,"",null,null,null,null,{"$f":"IF(G2442=\"\",\"\",VLOOKUP(G2442,'Lista de precios'!$B$7:$C$5000,2,0))","v":""}]
[null,null,"",null,null,null,null,{"$f":"IF(G2443=\"\",\"\",VLOOKUP(G2443,'Lista de precios'!$B$7:$C$5000,2,0))","v":""}]
[null,null,{"$f":"IF(B2444=\"\",\"\",TEXT(B2444,\"Mmmm\"))","v":""},null,null,null,null,{"$f":"IF(G2444=\"\",\"\",VLOOKUP(G2444,'Lista de precios'!$B$7:$C$5000,2,0))","v":""}]
[null,null,"",null,null,null,null,{"$f":"IF(G2445=\"\",\"\",VLOOKUP(G2445,'Lista de precios'!$B$7:$C$5000,2,0))","v":""}]
[null,null,"",null,null,null,null,{"$f":"IF(G2446=\"\",\"\",VLOOKUP(G2446,'Lista de precios'!$B$7:$C$5000,2,0))","v":""}]
[null,null,"",null,null,null,null,{"$f":"IF(G2447=\"\",\"\",VLOOKUP(G2447,'Lista de precios'!$B$7:$C$5000,2,0))","v":""}]
[null,null,"",null,null,null,null,{"$f":"IF(G2448=\"\",\"\",VLOOKUP(G2448,'Lista de precios'!$B$7:$C$5000,2,0))","v":""}]
[null,null,"",null,null,null,null,{"$f":"IF(G2449=\"\",\"\",VLOOKUP(G2449,'Lista de precios'!$B$7:$C$5000,2,0))","v":""}]
[null,null,"",null,null,null,null,{"$f":"IF(G2450=\"\",\"\",VLOOKUP(G2450,'Lista de precios'!$B$7:$C$5000,2,0))","v":""}]
[null,null,"",null,null,null,null,{"$f":"IF(G2451=\"\",\"\",VLOOKUP(G2451,'Lista de precios'!$B$7:$C$5000,2,0))","v":""}]
[null,null,"",null,null,null,null,{"$f":"IF(G2452=\"\",\"\",VLOOKUP(G2452,'Lista de precios'!$B$7:$C$5000,2,0))","v":""}]
[null,null,"",null,null,null,null,{"$f":"IF(G2453=\"\",\"\",VLOOKUP(G2453,'Lista de precios'!$B$7:$C$5000,2,0))","v":""}]
[null,null,"",null,null,null,null,{"$f":"IF(G2454=\"\",\"\",VLOOKUP(G2454,'Lista de precios'!$B$7:$C$5000,2,0))","v":""}]
[null,null,"",null,null,null,null,{"$f":"IF(G2455=\"\",\"\",VLOOKUP(G2455,'Lista de precios'!$B$7:$C$5000,2,0))","v":""}]
[null,null,"",null,null,null,null,{"$f":"IF(G2456=\"\",\"\",VLOOKUP(G2456,'Lista de precios'!$B$7:$C$5000,2,0))","v":""}]
[null,null,"",null,null,null,null,{"$f":"IF(G2457=\"\",\"\",VLOOKUP(G2457,'Lista de precios'!$B$7:$C$5000,2,0))","v":""}]
[null,null,"",null,null,null,null,{"$f":"IF(G2458=\"\",\"\",VLOOKUP(G2458,'Lista de precios'!$B$7:$C$5000,2,0))","v":""}]
[null,null,"",null,null,null,null,{"$f":"IF(G2459=\"\",\"\",VLOOKUP(G2459,'Lista de precios'!$B$7:$C$5000,2,0))","v":""}]
[null,null,"",null,null,null,null,{"$f":"IF(G2460=\"\",\"\",VLOOKUP(G2460,'Lista de precios'!$B$7:$C$5000,2,0))","v":""}]
[null,null,"",null,null,null,null,{"$f":"IF(G2461=\"\",\"\",VLOOKUP(G2461,'Lista de precios'!$B$7:$C$5000,2,0))","v":""}]
[null,null,"",null,null,null,null,{"$f":"IF(G2462=\"\",\"\",VLOOKUP(G2462,'Lista de precios'!$B$7:$C$5000,2,0))","v":""}]
[null,null,"",null,null,null,null,{"$f":"IF(G2463=\"\",\"\",VLOOKUP(G2463,'Lista de precios'!$B$7:$C$5000,2,0))","v":""}]
[null,null,"",null,null,null,null,{"$f":"IF(G2464=\"\",\"\",VLOOKUP(G2464,'Lista de precios'!$B$7:$C$5000,2,0))","v":""}]
[null,null,"",null,null,null,null,{"$f":"IF(G2465=\"\",\"\",VLOOKUP(G2465,'Lista de precios'!$B$7:$C$5000,2,0))","v":""}]
[null,null,"",null,null,null,null,{"$f":"IF(G2466=\"\",\"\",VLOOKUP(G2466,'Lista de precios'!$B$7:$C$5000,2,0))","v":""}]
[null,null,"",null,null,null,null,{"$f":"IF(G2467=\"\",\"\",VLOOKUP(G2467,'Lista de precios'!$B$7:$C$5000,2,0))","v":""}]
[null,null,"",null,null,null,null,{"$f":"IF(G2468=\"\",\"\",VLOOKUP(G2468,'Lista de precios'!$B$7:$C$5000,2,0))","v":""}]
[null,null,"",null,null,null,null,{"$f":"IF(G2469=\"\",\"\",VLOOKUP(G2469,'Lista de precios'!$B$7:$C$5000,2,0))","v":""}]
[null,null,"",null,null,null,null,{"$f":"IF(G2470=\"\",\"\",VLOOKUP(G2470,'Lista de precios'!$B$7:$C$5000,2,0))","v":""}]
[null,null,"",null,null,null,null,{"$f":"IF(G2471=\"\",\"\",VLOOKUP(G2471,'Lista de precios'!$B$7:$C$5000,2,0))","v":""}]
[null,null,"",null,null,null,null,{"$f":"IF(G2472=\"\",\"\",VLOOKUP(G2472,'Lista de precios'!$B$7:$C$5000,2,0))","v":""}]
[null,null,"",null,null,null,null,{"$f":"IF(G2473=\"\",\"\",VLOOKUP(G2473,'Lista de precios'!$B$7:$C$5000,2,0))","v":""}]
[null,null,"",null,null,null,null,{"$f":"IF(G2474=\"\",\"\",VLOOKUP(G2474,'Lista de precios'!$B$7:$C$5000,2,0))","v":""}]
[null,null,"",null,null,null,null,{"$f":"IF(G2475=\"\",\"\",VLOOKUP(G2475,'Lista de precios'!$B$7:$C$5000,2,0))","v":""}]
[null,null,"",null,null,null,null,{"$f":"IF(G2476=\"\",\"\",VLOOKUP(G2476,'Lista de precios'!$B$7:$C$5000,2,0))","v":""}]
[null,null,"",null,null,null,null,{"$f":"IF(G2477=\"\",\"\",VLOOKUP(G2477,'Lista de precios'!$B$7:$C$5000,2,0))","v":""}]
[null,null,"",null,null,null,null,{"$f":"IF(G2478=\"\",\"\",VLOOKUP(G2478,'Lista de precios'!$B$7:$C$5000,2,0))","v":""}]
[null,null,"",null,null,null,null,{"$f":"IF(G2479=\"\",\"\",VLOOKUP(G2479,'Lista de precios'!$B$7:$C$5000,2,0))","v":""}]
[null,null,"",null,null,null,null,{"$f":"IF(G2480=\"\",\"\",VLOOKUP(G2480,'Lista de precios'!$B$7:$C$5000,2,0))","v":""}]
[null,null,"",null,null,null,null,{"$f":"IF(G2481=\"\",\"\",VLOOKUP(G2481,'Lista de precios'!$B$7:$C$5000,2,0))","v":""}]
[null,null,"",null,null,null,null,{"$f":"IF(G2482=\"\",\"\",VLOOKUP(G2482,'Lista de precios'!$B$7:$C$5000,2,0))","v":""}]
[null,null,"",null,null,null,null,{"$f":"IF(G2483=\"\",\"\",VLOOKUP(G2483,'Lista de precios'!$B$7:$C$5000,2,0))","v":""}]
[null,null,"",null,null,null,null,{"$f":"IF(G2484=\"\",\"\",VLOOKUP(G2484,'Lista de precios'!$B$7:$C$5000,2,0))","v":""}]
[null,null,"",null,null,null,null,{"$f":"IF(G2485=\"\",\"\",VLOOKUP(G2485,'Lista de precios'!$B$7:$C$5000,2,0))","v":""}]
[null,null,"",null,null,null,null,{"$f":"IF(G2486=\"\",\"\",VLOOKUP(G2486,'Lista de precios'!$B$7:$C$5000,2,0))","v":""}]
[null,null,"",null,null,null,null,{"$f":"IF(G2487=\"\",\"\",VLOOKUP(G2487,'Lista de precios'!$B$7:$C$5000,2,0))","v":""}]
[null,null,"",null,null,null,null,{"$f":"IF(G2488=\"\",\"\",VLOOKUP(G2488,'Lista de precios'!$B$7:$C$5000,2,0))","v":""}]
[null,null,"",null,null,null,null,{"$f":"IF(G2489=\"\",\"\",VLOOKUP(G2489,'Lista de precios'!$B$7:$C$5000,2,0))","v":""}]
[null,null,"",null,null,null,null,{"$f":"IF(G2490=\"\",\"\",VLOOKUP(G2490,'Lista de precios'!$B$7:$C$5000,2,0))","v":""}]
[null,null,"",null,null,null,null,{"$f":"IF(G2491=\"\",\"\",VLOOKUP(G2491,'Lista de precios'!$B$7:$C$5000,2,0))","v":""}]
[null,null,"",null,null,null,null,{"$f":"IF(G2492=\"\",\"\",VLOOKUP(G2492,'Lista de precios'!$B$7:$C$5000,2,0))","v":""}]
[null,null,"",null,null,null,null,{"$f":"IF(G2493=\"\",\"\",VLOOKUP(G2493,'Lista de precios'!$B$7:$C$5000,2,0))","v":""}]
[null,null,"",null,null,null,null,{"$f":"IF(G2494=\"\",\"\",VLOOKUP(G2494,'Lista de precios'!$B$7:$C$5000,2,0))","v":""}]
[null,null,"",null,null,null,null,{"$f":"IF(G2495=\"\",\"\",VLOOKUP(G2495,'Lista de precios'!$B$7:$C$5000,2,0))","v":""}]
[null,null,"",null,null,null,null,{"$f":"IF(G2496=\"\",\"\",VLOOKUP(G2496,'Lista de precios'!$B$7:$C$5000,2,0))","v":""}]
[null,null,"",null,null,null,null,{"$f":"IF(G2497=\"\",\"\",VLOOKUP(G2497,'Lista de precios'!$B$7:$C$5000,2,0))","v":""}]
[null,null,"",null,null,null,null,{"$f":"IF(G2498=\"\",\"\",VLOOKUP(G2498,'Lista de precios'!$B$7:$C$5000,2,0))","v":""}]
[null,null,"",null,null,null,null,{"$f":"IF(G2499=\"\",\"\",VLOOKUP(G2499,'Lista de precios'!$B$7:$C$5000,2,0))","v":""}]
[null,null,"",null,null,null,null,{"$f":"IF(G2500=\"\",\"\",VLOOKUP(G2500,'Lista de precios'!$B$7:$C$5000,2,0))","v":""}]
[null,null,"",null,null,null,null,{"$f":"IF(G2501=\"\",\"\",VLOOKUP(G2501,'Lista de precios'!$B$7:$C$5000,2,0))","v":""}]
[null,null,"",null,null,null,null,{"$f":"IF(G2502=\"\",\"\",VLOOKUP(G2502,'Lista de precios'!$B$7:$C$5000,2,0))","v":""}]
[null,null,"",null,null,null,null,{"$f":"IF(G2503=\"\",\"\",VLOOKUP(G2503,'Lista de precios'!$B$7:$C$5000,2,0))","v":""}]
[null,null,"",null,null,null,null,{"$f":"IF(G2504=\"\",\"\",VLOOKUP(G2504,'Lista de precios'!$B$7:$C$5000,2,0))","v":""}]
[null,null,"",null,null,null,null,{"$f":"IF(G2505=\"\",\"\",VLOOKUP(G2505,'Lista de precios'!$B$7:$C$5000,2,0))","v":""}]
[null,null,"",null,null,null,null,{"$f":"IF(G2506=\"\",\"\",VLOOKUP(G2506,'Lista de precios'!$B$7:$C$5000,2,0))","v":""}]
[null,null,"",null,null,null,null,{"$f":"IF(G2507=\"\",\"\",VLOOKUP(G2507,'Lista de precios'!$B$7:$C$5000,2,0))","v":""}]
[null,null,{"$f":"IF(B2508=\"\",\"\",TEXT(B2508,\"Mmmm\"))","v":""},null,null,null,null,{"$f":"IF(G2508=\"\",\"\",VLOOKUP(G2508,'Lista de precios'!$B$7:$C$5000,2,0))","v":""}]
[null,null,"",null,null,null,null,{"$f":"IF(G2509=\"\",\"\",VLOOKUP(G2509,'Lista de precios'!$B$7:$C$5000,2,0))","v":""}]
[null,null,"",null,null,null,null,{"$f":"IF(G2510=\"\",\"\",VLOOKUP(G2510,'Lista de precios'!$B$7:$C$5000,2,0))","v":""}]
[null,null,"",null,null,null,null,{"$f":"IF(G2511=\"\",\"\",VLOOKUP(G2511,'Lista de precios'!$B$7:$C$5000,2,0))","v":""}]
[null,null,"",null,null,null,null,{"$f":"IF(G2512=\"\",\"\",VLOOKUP(G2512,'Lista de precios'!$B$7:$C$5000,2,0))","v":""}]
[null,null,"",null,null,null,null,{"$f":"IF(G2513=\"\",\"\",VLOOKUP(G2513,'Lista de precios'!$B$7:$C$5000,2,0))","v":""}]
[null,null,"",null,null,null,null,{"$f":"IF(G2514=\"\",\"\",VLOOKUP(G2514,'Lista de precios'!$B$7:$C$5000,2,0))","v":""}]
[null,null,"",null,null,null,null,{"$f":"IF(G2515=\"\",\"\",VLOOKUP(G2515,'Lista de precios'!$B$7:$C$5000,2,0))","v":""}]
[null,null,"",null,null,null,null,{"$f":"IF(G2516=\"\",\"\",VLOOKUP(G2516,'Lista de precios'!$B$7:$C$5000,2,0))","v":""}]
[null,null,"",null,null,null,null,{"$f":"IF(G2517=\"\",\"\",VLOOKUP(G2517,'Lista de precios'!$B$7:$C$5000,2,0))","v":""}]
[null,null,"",null,null,null,null,{"$f":"IF(G2518=\"\",\"\",VLOOKUP(G2518,'Lista de precios'!$B$7:$C$5000,2,0))","v":""}]
[null,null,"",null,null,null,null,{"$f":"IF(G2519=\"\",\"\",VLOOKUP(G2519,'Lista de precios'!$B$7:$C$5000,2,0))","v":""}]
[null,null,"",null,null,null,null,{"$f":"IF(G2520=\"\",\"\",VLOOKUP(G2520,'Lista de precios'!$B$7:$C$5000,2,0))","v":""}]
[null,null,"",null,null,null,null,{"$f":"IF(G2521=\"\",\"\",VLOOKUP(G2521,'Lista de precios'!$B$7:$C$5000,2,0))","v":""}]
[null,null,"",null,null,null,null,{"$f":"IF(G2522=\"\",\"\",VLOOKUP(G2522,'Lista de precios'!$B$7:$C$5000,2,0))","v":""}]
[null,null,"",null,null,null,null,{"$f":"IF(G2523=\"\",\"\",VLOOKUP(G2523,'Lista de precios'!$B$7:$C$5000,2,0))","v":""}]
[null,null,"",null,null,null,null,{"$f":"IF(G2524=\"\",\"\",VLOOKUP(G2524,'Lista de precios'!$B$7:$C$5000,2,0))","v":""}]
[null,null,"",null,null,null,null,{"$f":"IF(G2525=\"\",\"\",VLOOKUP(G2525,'Lista de precios'!$B$7:$C$5000,2,0))","v":""}]
[null,null,"",null,null,null,null,{"$f":"IF(G2526=\"\",\"\",VLOOKUP(G2526,'Lista de precios'!$B$7:$C$5000,2,0))","v":""}]
[null,null,"",null,null,null,null,{"$f":"IF(G2527=\"\",\"\",VLOOKUP(G2527,'Lista de precios'!$B$7:$C$5000,2,0))","v":""}]
[null,null,"",null,null,null,null,{"$f":"IF(G2528=\"\",\"\",VLOOKUP(G2528,'Lista de precios'!$B$7:$C$5000,2,0))","v":""}]
[null,null,"",null,null,null,null,{"$f":"IF(G2529=\"\",\"\",VLOOKUP(G2529,'Lista de precios'!$B$7:$C$5000,2,0))","v":""}]
[null,null,"",null,null,null,null,{"$f":"IF(G2530=\"\",\"\",VLOOKUP(G2530,'Lista de precios'!$B$7:$C$5000,2,0))","v":""}]
[null,null,"",null,null,null,null,{"$f":"IF(G2531=\"\",\"\",VLOOKUP(G2531,'Lista de precios'!$B$7:$C$5000,2,0))","v":""}]
[null,null,"",null,null,null,null,{"$f":"IF(G2532=\"\",\"\",VLOOKUP(G2532,'Lista de precios'!$B$7:$C$5000,2,0))","v":""}]
[null,null,"",null,null,null,null,{"$f":"IF(G2533=\"\",\"\",VLOOKUP(G2533,'Lista de precios'!$B$7:$C$5000,2,0))","v":""}]
[null,null,"",null,null,null,null,{"$f":"IF(G2534=\"\",\"\",VLOOKUP(G2534,'Lista de precios'!$B$7:$C$5000,2,0))","v":""}]
[null,null,"",null,null,null,null,{"$f":"IF(G2535=\"\",\"\",VLOOKUP(G2535,'Lista de precios'!$B$7:$C$5000,2,0))","v":""}]
[null,null,"",null,null,null,null,{"$f":"IF(G2536=\"\",\"\",VLOOKUP(G2536,'Lista de precios'!$B$7:$C$5000,2,0))","v":""}]
[null,null,"",null,null,null,null,{"$f":"IF(G2537=\"\",\"\",VLOOKUP(G2537,'Lista de precios'!$B$7:$C$5000,2,0))","v":""}]
[null,null,"",null,null,null,null,{"$f":"IF(G2538=\"\",\"\",VLOOKUP(G2538,'Lista de precios'!$B$7:$C$5000,2,0))","v":""}]
[null,null,"",null,null,null,null,{"$f":"IF(G2539=\"\",\"\",VLOOKUP(G2539,'Lista de precios'!$B$7:$C$5000,2,0))","v":""}]
[null,null,"",null,null,null,null,{"$f":"IF(G2540=\"\",\"\",VLOOKUP(G2540,'Lista de precios'!$B$7:$C$5000,2,0))","v":""}]
[null,null,"",null,null,null,null,{"$f":"IF(G2541=\"\",\"\",VLOOKUP(G2541,'Lista de precios'!$B$7:$C$5000,2,0))","v":""}]
[null,null,"",null,null,null,null,{"$f":"IF(G2542=\"\",\"\",VLOOKUP(G2542,'Lista de precios'!$B$7:$C$5000,2,0))","v":""}]
[null,null,"",null,null,null,null,{"$f":"IF(G2543=\"\",\"\",VLOOKUP(G2543,'Lista de precios'!$B$7:$C$5000,2,0))","v":""}]
[null,null,"",null,null,null,null,{"$f":"IF(G2544=\"\",\"\",VLOOKUP(G2544,'Lista de precios'!$B$7:$C$5000,2,0))","v":""}]
[null,null,"",null,null,null,null,{"$f":"IF(G2545=\"\",\"\",VLOOKUP(G2545,'Lista de precios'!$B$7:$C$5000,2,0))","v":""}]
[null,null,"",null,null,null,null,{"$f":"IF(G2546=\"\",\"\",VLOOKUP(G2546,'Lista de precios'!$B$7:$C$5000,2,0))","v":""}]
[null,null,"",null,null,null,null,{"$f":"IF(G2547=\"\",\"\",VLOOKUP(G2547,'Lista de precios'!$B$7:$C$5000,2,0))","v":""}]
[null,null,"",null,null,null,null,{"$f":"IF(G2548=\"\",\"\",VLOOKUP(G2548,'Lista de precios'!$B$7:$C$5000,2,0))","v":""}]
[null,null,"",null,null,null,null,{"$f":"IF(G2549=\"\",\"\",VLOOKUP(G2549,'Lista de precios'!$B$7:$C$5000,2,0))","v":""}]
[null,null,"",null,null,null,null,{"$f":"IF(G2550=\"\",\"\",VLOOKUP(G2550,'Lista de precios'!$B$7:$C$5000,2,0))","v":""}]
[null,null,"",null,null,null,null,{"$f":"IF(G2551=\"\",\"\",VLOOKUP(G2551,'Lista de precios'!$B$7:$C$5000,2,0))","v":""}]
[null,null,"",null,null,null,null,{"$f":"IF(G2552=\"\",\"\",VLOOKUP(G2552,'Lista de precios'!$B$7:$C$5000,2,0))","v":""}]
[null,null,"",null,null,null,null,{"$f":"IF(G2553=\"\",\"\",VLOOKUP(G2553,'Lista de precios'!$B$7:$C$5000,2,0))","v":""}]
[null,null,"",null,null,null,null,{"$f":"IF(G2554=\"\",\"\",VLOOKUP(G2554,'Lista de precios'!$B$7:$C$5000,2,0))","v":""}]
[null,null,"",null,null,null,null,{"$f":"IF(G2555=\"\",\"\",VLOOKUP(G2555,'Lista de precios'!$B$7:$C$5000,2,0))","v":""}]
[null,null,"",null,null,null,null,{"$f":"IF(G2556=\"\",\"\",VLOOKUP(G2556,'Lista de precios'!$B$7:$C$5000,2,0))","v":""}]
[null,null,"",null,null,null,null,{"$f":"IF(G2557=\"\",\"\",VLOOKUP(G2557,'Lista de precios'!$B$7:$C$5000,2,0))","v":""}]
[null,null,"",null,null,null,null,{"$f":"IF(G2558=\"\",\"\",VLOOKUP(G2558,'Lista de precios'!$B$7:$C$5000,2,0))","v":""}]
[null,null,"",null,null,null,null,{"$f":"IF(G2559=\"\",\"\",VLOOKUP(G2559,'Lista de precios'!$B$7:$C$5000,2,0))","v":""}]
[null,null,"",null,null,null,null,{"$f":"IF(G2560=\"\",\"\",VLOOKUP(G2560,'Lista de precios'!$B$7:$C$5000,2,0))","v":""}]
[null,null,"",null,null,null,null,{"$f":"IF(G2561=\"\",\"\",VLOOKUP(G2561,'Lista de precios'!$B$7:$C$5000,2,0))","v":""}]
[null,null,"",null,null,null,null,{"$f":"IF(G2562=\"\",\"\",VLOOKUP(G2562,'Lista de precios'!$B$7:$C$5000,2,0))","v":""}]
[null,null,"",null,null,null,null,{"$f":"IF(G2563=\"\",\"\",VLOOKUP(G2563,'Lista de precios'!$B$7:$C$5000,2,0))","v":""}]
[null,null,"",null,null,null,null,{"$f":"IF(G2564=\"\",\"\",VLOOKUP(G2564,'Lista de precios'!$B$7:$C$5000,2,0))","v":""}]
[null,null,"",null,null,null,null,{"$f":"IF(G2565=\"\",\"\",VLOOKUP(G2565,'Lista de precios'!$B$7:$C$5000,2,0))","v":""}]
[null,null,"",null,null,null,null,{"$f":"IF(G2566=\"\",\"\",VLOOKUP(G2566,'Lista de precios'!$B$7:$C$5000,2,0))","v":""}]
[null,null,"",null,null,null,null,{"$f":"IF(G2567=\"\",\"\",VLOOKUP(G2567,'Lista de precios'!$B$7:$C$5000,2,0))","v":""}]
[null,null,"",null,null,null,null,{"$f":"IF(G2568=\"\",\"\",VLOOKUP(G2568,'Lista de precios'!$B$7:$C$5000,2,0))","v":""}]
[null,null,"",null,null,null,null,{"$f":"IF(G2569=\"\",\"\",VLOOKUP(G2569,'Lista de precios'!$B$7:$C$5000,2,0))","v":""}]
[null,null,"",null,null,null,null,{"$f":"IF(G2570=\"\",\"\",VLOOKUP(G2570,'Lista de precios'!$B$7:$C$5000,2,0))","v":""}]
[null,null,"",null,null,null,null,{"$f":"IF(G2571=\"\",\"\",VLOOKUP(G2571,'Lista de precios'!$B$7:$C$5000,2,0))","v":""}]
[null,null,{"$f":"IF(B2572=\"\",\"\",TEXT(B2572,\"Mmmm\"))","v":""},null,null,null,null,{"$f":"IF(G2572=\"\",\"\",VLOOKUP(G2572,'Lista de precios'!$B$7:$C$5000,2,0))","v":""}]
[null,null,"",null,null,null,null,{"$f":"IF(G2573=\"\",\"\",VLOOKUP(G2573,'Lista de precios'!$B$7:$C$5000,2,0))","v":""}]
[null,null,"",null,null,null,null,{"$f":"IF(G2574=\"\",\"\",VLOOKUP(G2574,'Lista de precios'!$B$7:$C$5000,2,0))","v":""}]
[null,null,"",null,null,null,null,{"$f":"IF(G2575=\"\",\"\",VLOOKUP(G2575,'Lista de precios'!$B$7:$C$5000,2,0))","v":""}]
[null,null,"",null,null,null,null,{"$f":"IF(G2576=\"\",\"\",VLOOKUP(G2576,'Lista de precios'!$B$7:$C$5000,2,0))","v":""}]
[null,null,"",null,null,null,null,{"$f":"IF(G2577=\"\",\"\",VLOOKUP(G2577,'Lista de precios'!$B$7:$C$5000,2,0))","v":""}]
[null,null,"",null,null,null,null,{"$f":"IF(G2578=\"\",\"\",VLOOKUP(G2578,'Lista de precios'!$B$7:$C$5000,2,0))","v":""}]
[null,null,"",null,null,null,null,{"$f":"IF(G2579=\"\",\"\",VLOOKUP(G2579,'Lista de precios'!$B$7:$C$5000,2,0))","v":""}]
[null,null,"",null,null,null,null,{"$f":"IF(G2580=\"\",\"\",VLOOKUP(G2580,'Lista de precios'!$B$7:$C$5000,2,0))","v":""}]
[null,null,"",null,null,null,null,{"$f":"IF(G2581=\"\",\"\",VLOOKUP(G2581,'Lista de precios'!$B$7:$C$5000,2,0))","v":""}]
[null,null,"",null,null,null,null,{"$f":"IF(G2582=\"\",\"\",VLOOKUP(G2582,'Lista de precios'!$B$7:$C$5000,2,0))","v":""}]
[null,null,"",null,null,null,null,{"$f":"IF(G2583=\"\",\"\",VLOOKUP(G2583,'Lista de precios'!$B$7:$C$5000,2,0))","v":""}]
[null,null,"",null,null,null,null,{"$f":"IF(G2584=\"\",\"\",VLOOKUP(G2584,'Lista de precios'!$B$7:$C$5000,2,0))","v":""}]
[null,null,"",null,null,null,null,{"$f":"IF(G2585=\"\",\"\",VLOOKUP(G2585,'Lista de precios'!$B$7:$C$5000,2,0))","v":""}]
[null,null,"",null,null,null,null,{"$f":"IF(G2586=\"\",\"\",VLOOKUP(G2586,'Lista de precios'!$B$7:$C$5000,2,0))","v":""}]
[null,null,"",null,null,null,null,{"$f":"IF(G2587=\"\",\"\",VLOOKUP(G2587,'Lista de precios'!$B$7:$C$5000,2,0))","v":""}]
[null,null,"",null,null,null,null,{"$f":"IF(G2588=\"\",\"\",VLOOKUP(G2588,'Lista de precios'!$B$7:$C$5000,2,0))","v":""}]
[null,null,"",null,null,null,null,{"$f":"IF(G2589=\"\",\"\",VLOOKUP(G2589,'Lista de precios'!$B$7:$C$5000,2,0))","v":""}]
[null,null,"",null,null,null,null,{"$f":"IF(G2590=\"\",\"\",VLOOKUP(G2590,'Lista de precios'!$B$7:$C$5000,2,0))","v":""}]
[null,null,"",null,null,null,null,{"$f":"IF(G2591=\"\",\"\",VLOOKUP(G2591,'Lista de precios'!$B$7:$C$5000,2,0))","v":""}]
[null,null,"",null,null,null,null,{"$f":"IF(G2592=\"\",\"\",VLOOKUP(G2592,'Lista de precios'!$B$7:$C$5000,2,0))","v":""}]
[null,null,"",null,null,null,null,{"$f":"IF(G2593=\"\",\"\",VLOOKUP(G2593,'Lista de precios'!$B$7:$C$5000,2,0))","v":""}]
[null,null,"",null,null,null,null,{"$f":"IF(G2594=\"\",\"\",VLOOKUP(G2594,'Lista de precios'!$B$7:$C$5000,2,0))","v":""}]
[null,null,"",null,null,null,null,{"$f":"IF(G2595=\"\",\"\",VLOOKUP(G2595,'Lista de precios'!$B$7:$C$5000,2,0))","v":""}]
[null,null,"",null,null,null,null,{"$f":"IF(G2596=\"\",\"\",VLOOKUP(G2596,'Lista de precios'!$B$7:$C$5000,2,0))","v":""}]
[null,null,"",null,null,null,null,{"$f":"IF(G2597=\"\",\"\",VLOOKUP(G2597,'Lista de precios'!$B$7:$C$5000,2,0))","v":""}]
[null,null,"",null,null,null,null,{"$f":"IF(G2598=\"\",\"\",VLOOKUP(G2598,'Lista de precios'!$B$7:$C$5000,2,0))","v":""}]
[null,null,"",null,null,null,null,{"$f":"IF(G2599=\"\",\"\",VLOOKUP(G2599,'Lista de precios'!$B$7:$C$5000,2,0))","v":""}]
[null,null,"",null,null,null,null,{"$f":"IF(G2600=\"\",\"\",VLOOKUP(G2600,'Lista de precios'!$B$7:$C$5000,2,0))","v":""}]
[null,null,"",null,null,null,null,{"$f":"IF(G2601=\"\",\"\",VLOOKUP(G2601,'Lista de precios'!$B$7:$C$5000,2,0))","v":""}]
[null,null,"",null,null,null,null,{"$f":"IF(G2602=\"\",\"\",VLOOKUP(G2602,'Lista de precios'!$B$7:$C$5000,2,0))","v":""}]
[null,null,"",null,null,null,null,{"$f":"IF(G2603=\"\",\"\",VLOOKUP(G2603,'Lista de precios'!$B$7:$C$5000,2,0))","v":""}]
[null,null,"",null,null,null,null,{"$f":"IF(G2604=\"\",\"\",VLOOKUP(G2604,'Lista de precios'!$B$7:$C$5000,2,0))","v":""}]
[null,null,"",null,null,null,null,{"$f":"IF(G2605=\"\",\"\",VLOOKUP(G2605,'Lista de precios'!$B$7:$C$5000,2,0))","v":""}]
[null,null,"",null,null,null,null,{"$f":"IF(G2606=\"\",\"\",VLOOKUP(G2606,'Lista de precios'!$B$7:$C$5000,2,0))","v":""}]
[null,null,"",null,null,null,null,{"$f":"IF(G2607=\"\",\"\",VLOOKUP(G2607,'Lista de precios'!$B$7:$C$5000,2,0))","v":""}]
[null,null,"",null,null,null,null,{"$f":"IF(G2608=\"\",\"\",VLOOKUP(G2608,'Lista de precios'!$B$7:$C$5000,2,0))","v":""}]
[null,null,"",null,null,null,null,{"$f":"IF(G2609=\"\",\"\",VLOOKUP(G2609,'Lista de precios'!$B$7:$C$5000,2,0))","v":""}]
[null,null,"",null,null,null,null,{"$f":"IF(G2610=\"\",\"\",VLOOKUP(G2610,'Lista de precios'!$B$7:$C$5000,2,0))","v":""}]
[null,null,"",null,null,null,null,{"$f":"IF(G2611=\"\",\"\",VLOOKUP(G2611,'Lista de precios'!$B$7:$C$5000,2,0))","v":""}]
[null,null,"",null,null,null,null,{"$f":"IF(G2612=\"\",\"\",VLOOKUP(G2612,'Lista de precios'!$B$7:$C$5000,2,0))","v":""}]
[null,null,"",null,null,null,null,{"$f":"IF(G2613=\"\",\"\",VLOOKUP(G2613,'Lista de precios'!$B$7:$C$5000,2,0))","v":""}]
[null,null,"",null,null,null,null,{"$f":"IF(G2614=\"\",\"\",VLOOKUP(G2614,'Lista de precios'!$B$7:$C$5000,2,0))","v":""}]
[null,null,"",null,null,null,null,{"$f":"IF(G2615=\"\",\"\",VLOOKUP(G2615,'Lista de precios'!$B$7:$C$5000,2,0))","v":""}]
[null,null,"",null,null,null,null,{"$f":"IF(G2616=\"\",\"\",VLOOKUP(G2616,'Lista de precios'!$B$7:$C$5000,2,0))","v":""}]
[null,null,"",null,null,null,null,{"$f":"IF(G2617=\"\",\"\",VLOOKUP(G2617,'Lista de precios'!$B$7:$C$5000,2,0))","v":""}]
[null,null,"",null,null,null,null,{"$f":"IF(G2618=\"\",\"\",VLOOKUP(G2618,'Lista de precios'!$B$7:$C$5000,2,0))","v":""}]
[null,null,"",null,null,null,null,{"$f":"IF(G2619=\"\",\"\",VLOOKUP(G2619,'Lista de precios'!$B$7:$C$5000,2,0))","v":""}]
[null,null,"",null,null,null,null,{"$f":"IF(G2620=\"\",\"\",VLOOKUP(G2620,'Lista de precios'!$B$7:$C$5000,2,0))","v":""}]
[null,null,"",null,null,null,null,{"$f":"IF(G2621=\"\",\"\",VLOOKUP(G2621,'Lista de precios'!$B$7:$C$5000,2,0))","v":""}]
[null,null,"",null,null,null,null,{"$f":"IF(G2622=\"\",\"\",VLOOKUP(G2622,'Lista de precios'!$B$7:$C$5000,2,0))","v":""}]
[null,null,"",null,null,null,null,{"$f":"IF(G2623=\"\",\"\",VLOOKUP(G2623,'Lista de precios'!$B$7:$C$5000,2,0))","v":""}]
[null,null,"",null,null,null,null,{"$f":"IF(G2624=\"\",\"\",VLOOKUP(G2624,'Lista de precios'!$B$7:$C$5000,2,0))","v":""}]
[null,null,"",null,null,null,null,{"$f":"IF(G2625=\"\",\"\",VLOOKUP(G2625,'Lista de precios'!$B$7:$C$5000,2,0))","v":""}]
[null,null,"",null,null,null,null,{"$f":"IF(G2626=\"\",\"\",VLOOKUP(G2626,'Lista de precios'!$B$7:$C$5000,2,0))","v":""}]
[null,null,"",null,null,null,null,{"$f":"IF(G2627=\"\",\"\",VLOOKUP(G2627,'Lista de precios'!$B$7:$C$5000,2,0))","v":""}]
[null,null,"",null,null,null,null,{"$f":"IF(G2628=\"\",\"\",VLOOKUP(G2628,'Lista de precios'!$B$7:$C$5000,2,0))","v":""}]
[null,null,"",null,null,null,null,{"$f":"IF(G2629=\"\",\"\",VLOOKUP(G2629,'Lista de precios'!$B$7:$C$5000,2,0))","v":""}]
[null,null,"",null,null,null,null,{"$f":"IF(G2630=\"\",\"\",VLOOKUP(G2630,'Lista de precios'!$B$7:$C$5000,2,0))","v":""}]
[null,null,"",null,null,null,null,{"$f":"IF(G2631=\"\",\"\",VLOOKUP(G2631,'Lista de precios'!$B$7:$C$5000,2,0))","v":""}]
[null,null,"",null,null,null,null,{"$f":"IF(G2632=\"\",\"\",VLOOKUP(G2632,'Lista de precios'!$B$7:$C$5000,2,0))","v":""}]
[null,null,"",null,null,null,null,{"$f":"IF(G2633=\"\",\"\",VLOOKUP(G2633,'Lista de precios'!$B$7:$C$5000,2,0))","v":""}]
[null,null,"",null,null,null,null,{"$f":"IF(G2634=\"\",\"\",VLOOKUP(G2634,'Lista de precios'!$B$7:$C$5000,2,0))","v":""}]
[null,null,"",null,null,null,null,{"$f":"IF(G2635=\"\",\"\",VLOOKUP(G2635,'Lista de precios'!$B$7:$C$5000,2,0))","v":""}]
[null,null,{"$f":"IF(B2636=\"\",\"\",TEXT(B2636,\"Mmmm\"))","v":""},null,null,null,null,{"$f":"IF(G2636=\"\",\"\",VLOOKUP(G2636,'Lista de precios'!$B$7:$C$5000,2,0))","v":""}]
[null,null,"",null,null,null,null,{"$f":"IF(G2637=\"\",\"\",VLOOKUP(G2637,'Lista de precios'!$B$7:$C$5000,2,0))","v":""}]
[null,null,"",null,null,null,null,{"$f":"IF(G2638=\"\",\"\",VLOOKUP(G2638,'Lista de precios'!$B$7:$C$5000,2,0))","v":""}]
[null,null,"",null,null,null,null,{"$f":"IF(G2639=\"\",\"\",VLOOKUP(G2639,'Lista de precios'!$B$7:$C$5000,2,0))","v":""}]
[null,null,"",null,null,null,null,{"$f":"IF(G2640=\"\",\"\",VLOOKUP(G2640,'Lista de precios'!$B$7:$C$5000,2,0))","v":""}]
[null,null,"",null,null,null,null,{"$f":"IF(G2641=\"\",\"\",VLOOKUP(G2641,'Lista de precios'!$B$7:$C$5000,2,0))","v":""}]
[null,null,"",null,null,null,null,{"$f":"IF(G2642=\"\",\"\",VLOOKUP(G2642,'Lista de precios'!$B$7:$C$5000,2,0))","v":""}]
[null,null,"",null,null,null,null,{"$f":"IF(G2643=\"\",\"\",VLOOKUP(G2643,'Lista de precios'!$B$7:$C$5000,2,0))","v":""}]
[null,null,"",null,null,null,null,{"$f":"IF(G2644=\"\",\"\",VLOOKUP(G2644,'Lista de precios'!$B$7:$C$5000,2,0))","v":""}]
[null,null,"",null,null,null,null,{"$f":"IF(G2645=\"\",\"\",VLOOKUP(G2645,'Lista de precios'!$B$7:$C$5000,2,0))","v":""}]
[null,null,"",null,null,null,null,{"$f":"IF(G2646=\"\",\"\",VLOOKUP(G2646,'Lista de precios'!$B$7:$C$5000,2,0))","v":""}]
[null,null,"",null,null,null,null,{"$f":"IF(G2647=\"\",\"\",VLOOKUP(G2647,'Lista de precios'!$B$7:$C$5000,2,0))","v":""}]
[null,null,"",null,null,null,null,{"$f":"IF(G2648=\"\",\"\",VLOOKUP(G2648,'Lista de precios'!$B$7:$C$5000,2,0))","v":""}]
[null,null,"",null,null,null,null,{"$f":"IF(G2649=\"\",\"\",VLOOKUP(G2649,'Lista de precios'!$B$7:$C$5000,2,0))","v":""}]
[null,null,"",null,null,null,null,{"$f":"IF(G2650=\"\",\"\",VLOOKUP(G2650,'Lista de precios'!$B$7:$C$5000,2,0))","v":""}]
[null,null,"",null,null,null,null,{"$f":"IF(G2651=\"\",\"\",VLOOKUP(G2651,'Lista de precios'!$B$7:$C$5000,2,0))","v":""}]
[null,null,"",null,null,null,null,{"$f":"IF(G2652=\"\",\"\",VLOOKUP(G2652,'Lista de precios'!$B$7:$C$5000,2,0))","v":""}]
[null,null,"",null,null,null,null,{"$f":"IF(G2653=\"\",\"\",VLOOKUP(G2653,'Lista de precios'!$B$7:$C$5000,2,0))","v":""}]
[null,null,"",null,null,null,null,{"$f":"IF(G2654=\"\",\"\",VLOOKUP(G2654,'Lista de precios'!$B$7:$C$5000,2,0))","v":""}]
[null,null,"",null,null,null,null,{"$f":"IF(G2655=\"\",\"\",VLOOKUP(G2655,'Lista de precios'!$B$7:$C$5000,2,0))","v":""}]
[null,null,"",null,null,null,null,{"$f":"IF(G2656=\"\",\"\",VLOOKUP(G2656,'Lista de precios'!$B$7:$C$5000,2,0))","v":""}]
[null,null,"",null,null,null,null,{"$f":"IF(G2657=\"\",\"\",VLOOKUP(G2657,'Lista de precios'!$B$7:$C$5000,2,0))","v":""}]
[null,null,"",null,null,null,null,{"$f":"IF(G2658=\"\",\"\",VLOOKUP(G2658,'Lista de precios'!$B$7:$C$5000,2,0))","v":""}]
[null,null,"",null,null,null,null,{"$f":"IF(G2659=\"\",\"\",VLOOKUP(G2659,'Lista de precios'!$B$7:$C$5000,2,0))","v":""}]
[null,null,"",null,null,null,null,{"$f":"IF(G2660=\"\",\"\",VLOOKUP(G2660,'Lista de precios'!$B$7:$C$5000,2,0))","v":""}]
[null,null,"",null,null,null,null,{"$f":"IF(G2661=\"\",\"\",VLOOKUP(G2661,'Lista de precios'!$B$7:$C$5000,2,0))","v":""}]
[null,null,"",null,null,null,null,{"$f":"IF(G2662=\"\",\"\",VLOOKUP(G2662,'Lista de precios'!$B$7:$C$5000,2,0))","v":""}]
[null,null,"",null,null,null,null,{"$f":"IF(G2663=\"\",\"\",VLOOKUP(G2663,'Lista de precios'!$B$7:$C$5000,2,0))","v":""}]
[null,null,"",null,null,null,null,{"$f":"IF(G2664=\"\",\"\",VLOOKUP(G2664,'Lista de precios'!$B$7:$C$5000,2,0))","v":""}]
[null,null,"",null,null,null,null,{"$f":"IF(G2665=\"\",\"\",VLOOKUP(G2665,'Lista de precios'!$B$7:$C$5000,2,0))","v":""}]
[null,null,"",null,null,null,null,{"$f":"IF(G2666=\"\",\"\",VLOOKUP(G2666,'Lista de precios'!$B$7:$C$5000,2,0))","v":""}]
[null,null,"",null,null,null,null,{"$f":"IF(G2667=\"\",\"\",VLOOKUP(G2667,'Lista de precios'!$B$7:$C$5000,2,0))","v":""}]
[null,null,"",null,null,null,null,{"$f":"IF(G2668=\"\",\"\",VLOOKUP(G2668,'Lista de precios'!$B$7:$C$5000,2,0))","v":""}]
[null,null,"",null,null,null,null,{"$f":"IF(G2669=\"\",\"\",VLOOKUP(G2669,'Lista de precios'!$B$7:$C$5000,2,0))","v":""}]
[null,null,"",null,null,null,null,{"$f":"IF(G2670=\"\",\"\",VLOOKUP(G2670,'Lista de precios'!$B$7:$C$5000,2,0))","v":""}]
[null,null,"",null,null,null,null,{"$f":"IF(G2671=\"\",\"\",VLOOKUP(G2671,'Lista de precios'!$B$7:$C$5000,2,0))","v":""}]
[null,null,"",null,null,null,null,{"$f":"IF(G2672=\"\",\"\",VLOOKUP(G2672,'Lista de precios'!$B$7:$C$5000,2,0))","v":""}]
[null,null,"",null,null,null,null,{"$f":"IF(G2673=\"\",\"\",VLOOKUP(G2673,'Lista de precios'!$B$7:$C$5000,2,0))","v":""}]
[null,null,"",null,null,null,null,{"$f":"IF(G2674=\"\",\"\",VLOOKUP(G2674,'Lista de precios'!$B$7:$C$5000,2,0))","v":""}]
[null,null,"",null,null,null,null,{"$f":"IF(G2675=\"\",\"\",VLOOKUP(G2675,'Lista de precios'!$B$7:$C$5000,2,0))","v":""}]
[null,null,"",null,null,null,null,{"$f":"IF(G2676=\"\",\"\",VLOOKUP(G2676,'Lista de precios'!$B$7:$C$5000,2,0))","v":""}]
[null,null,"",null,null,null,null,{"$f":"IF(G2677=\"\",\"\",VLOOKUP(G2677,'Lista de precios'!$B$7:$C$5000,2,0))","v":""}]
[null,null,"",null,null,null,null,{"$f":"IF(G2678=\"\",\"\",VLOOKUP(G2678,'Lista de precios'!$B$7:$C$5000,2,0))","v":""}]
[null,null,"",null,null,null,null,{"$f":"IF(G2679=\"\",\"\",VLOOKUP(G2679,'Lista de precios'!$B$7:$C$5000,2,0))","v":""}]
[null,null,"",null,null,null,null,{"$f":"IF(G2680=\"\",\"\",VLOOKUP(G2680,'Lista de precios'!$B$7:$C$5000,2,0))","v":""}]
[null,null,"",null,null,null,null,{"$f":"IF(G2681=\"\",\"\",VLOOKUP(G2681,'Lista de precios'!$B$7:$C$5000,2,0))","v":""}]
[null,null,"",null,null,null,null,{"$f":"IF(G2682=\"\",\"\",VLOOKUP(G2682,'Lista de precios'!$B$7:$C$5000,2,0))","v":""}]
[null,null,"",null,null,null,null,{"$f":"IF(G2683=\"\",\"\",VLOOKUP(G2683,'Lista de precios'!$B$7:$C$5000,2,0))","v":""}]
[null,null,"",null,null,null,null,{"$f":"IF(G2684=\"\",\"\",VLOOKUP(G2684,'Lista de precios'!$B$7:$C$5000,2,0))","v":""}]
[null,null,"",null,null,null,null,{"$f":"IF(G2685=\"\",\"\",VLOOKUP(G2685,'Lista de precios'!$B$7:$C$5000,2,0))","v":""}]
[null,null,"",null,null,null,null,{"$f":"IF(G2686=\"\",\"\",VLOOKUP(G2686,'Lista de precios'!$B$7:$C$5000,2,0))","v":""}]
[null,null,"",null,null,null,null,{"$f":"IF(G2687=\"\",\"\",VLOOKUP(G2687,'Lista de precios'!$B$7:$C$5000,2,0))","v":""}]
[null,null,"",null,null,null,null,{"$f":"IF(G2688=\"\",\"\",VLOOKUP(G2688,'Lista de precios'!$B$7:$C$5000,2,0))","v":""}]
[null,null,"",null,null,null,null,{"$f":"IF(G2689=\"\",\"\",VLOOKUP(G2689,'Lista de precios'!$B$7:$C$5000,2,0))","v":""}]
[null,null,"",null,null,null,null,{"$f":"IF(G2690=\"\",\"\",VLOOKUP(G2690,'Lista de precios'!$B$7:$C$5000,2,0))","v":""}]
[null,null,"",null,null,null,null,{"$f":"IF(G2691=\"\",\"\",VLOOKUP(G2691,'Lista de precios'!$B$7:$C$5000,2,0))","v":""}]
[null,null,"",null,null,null,null,{"$f":"IF(G2692=\"\",\"\",VLOOKUP(G2692,'Lista de precios'!$B$7:$C$5000,2,0))","v":""}]
[null,null,"",null,null,null,null,{"$f":"IF(G2693=\"\",\"\",VLOOKUP(G2693,'Lista de precios'!$B$7:$C$5000,2,0))","v":""}]
[null,null,"",null,null,null,null,{"$f":"IF(G2694=\"\",\"\",VLOOKUP(G2694,'Lista de precios'!$B$7:$C$5000,2,0))","v":""}]
[null,null,"",null,null,null,null,{"$f":"IF(G2695=\"\",\"\",VLOOKUP(G2695,'Lista de precios'!$B$7:$C$5000,2,0))","v":""}]
[null,null,"",null,null,null,null,{"$f":"IF(G2696=\"\",\"\",VLOOKUP(G2696,'Lista de precios'!$B$7:$C$5000,2,0))","v":""}]
[null,null,"",null,null,null,null,{"$f":"IF(G2697=\"\",\"\",VLOOKUP(G2697,'Lista de precios'!$B$7:$C$5000,2,0))","v":""}]
[null,null,"",null,null,null,null,{"$f":"IF(G2698=\"\",\"\",VLOOKUP(G2698,'Lista de precios'!$B$7:$C$5000,2,0))","v":""}]
[null,null,"",null,null,null,null,{"$f":"IF(G2699=\"\",\"\",VLOOKUP(G2699,'Lista de precios'!$B$7:$C$5000,2,0))","v":""}]
[null,null,{"$f":"IF(B2700=\"\",\"\",TEXT(B2700,\"Mmmm\"))","v":""},null,null,null,null,{"$f":"IF(G2700=\"\",\"\",VLOOKUP(G2700,'Lista de precios'!$B$7:$C$5000,2,0))","v":""}]
[null,null,"",null,null,null,null,{"$f":"IF(G2701=\"\",\"\",VLOOKUP(G2701,'Lista de precios'!$B$7:$C$5000,2,0))","v":""}]
[null,null,"",null,null,null,null,{"$f":"IF(G2702=\"\",\"\",VLOOKUP(G2702,'Lista de precios'!$B$7:$C$5000,2,0))","v":""}]
[null,null,"",null,null,null,null,{"$f":"IF(G2703=\"\",\"\",VLOOKUP(G2703,'Lista de precios'!$B$7:$C$5000,2,0))","v":""}]
[null,null,"",null,null,null,null,{"$f":"IF(G2704=\"\",\"\",VLOOKUP(G2704,'Lista de precios'!$B$7:$C$5000,2,0))","v":""}]
[null,null,"",null,null,null,null,{"$f":"IF(G2705=\"\",\"\",VLOOKUP(G2705,'Lista de precios'!$B$7:$C$5000,2,0))","v":""}]
[null,null,"",null,null,null,null,{"$f":"IF(G2706=\"\",\"\",VLOOKUP(G2706,'Lista de precios'!$B$7:$C$5000,2,0))","v":""}]
[null,null,"",null,null,null,null,{"$f":"IF(G2707=\"\",\"\",VLOOKUP(G2707,'Lista de precios'!$B$7:$C$5000,2,0))","v":""}]
[null,null,"",null,null,null,null,{"$f":"IF(G2708=\"\",\"\",VLOOKUP(G2708,'Lista de precios'!$B$7:$C$5000,2,0))","v":""}]
[null,null,"",null,null,null,null,{"$f":"IF(G2709=\"\",\"\",VLOOKUP(G2709,'Lista de precios'!$B$7:$C$5000,2,0))","v":""}]
[null,null,"",null,null,null,null,{"$f":"IF(G2710=\"\",\"\",VLOOKUP(G2710,'Lista de precios'!$B$7:$C$5000,2,0))","v":""}]
[null,null,"",null,null,null,null,{"$f":"IF(G2711=\"\",\"\",VLOOKUP(G2711,'Lista de precios'!$B$7:$C$5000,2,0))","v":""}]
[null,null,"",null,null,null,null,{"$f":"IF(G2712=\"\",\"\",VLOOKUP(G2712,'Lista de precios'!$B$7:$C$5000,2,0))","v":""}]
[null,null,"",null,null,null,null,{"$f":"IF(G2713=\"\",\"\",VLOOKUP(G2713,'Lista de precios'!$B$7:$C$5000,2,0))","v":""}]
[null,null,"",null,null,null,null,{"$f":"IF(G2714=\"\",\"\",VLOOKUP(G2714,'Lista de precios'!$B$7:$C$5000,2,0))","v":""}]
[null,null,"",null,null,null,null,{"$f":"IF(G2715=\"\",\"\",VLOOKUP(G2715,'Lista de precios'!$B$7:$C$5000,2,0))","v":""}]
[null,null,"",null,null,null,null,{"$f":"IF(G2716=\"\",\"\",VLOOKUP(G2716,'Lista de precios'!$B$7:$C$5000,2,0))","v":""}]
[null,null,"",null,null,null,null,{"$f":"IF(G2717=\"\",\"\",VLOOKUP(G2717,'Lista de precios'!$B$7:$C$5000,2,0))","v":""}]
[null,null,"",null,null,null,null,{"$f":"IF(G2718=\"\",\"\",VLOOKUP(G2718,'Lista de precios'!$B$7:$C$5000,2,0))","v":""}]
[null,null,"",null,null,null,null,{"$f":"IF(G2719=\"\",\"\",VLOOKUP(G2719,'Lista de precios'!$B$7:$C$5000,2,0))","v":""}]
[null,null,"",null,null,null,null,{"$f":"IF(G2720=\"\",\"\",VLOOKUP(G2720,'Lista de precios'!$B$7:$C$5000,2,0))","v":""}]
[null,null,"",null,null,null,null,{"$f":"IF(G2721=\"\",\"\",VLOOKUP(G2721,'Lista de precios'!$B$7:$C$5000,2,0))","v":""}]
[null,null,"",null,null,null,null,{"$f":"IF(G2722=\"\",\"\",VLOOKUP(G2722,'Lista de precios'!$B$7:$C$5000,2,0))","v":""}]
[null,null,"",null,null,null,null,{"$f":"IF(G2723=\"\",\"\",VLOOKUP(G2723,'Lista de precios'!$B$7:$C$5000,2,0))","v":""}]
[null,null,"",null,null,null,null,{"$f":"IF(G2724=\"\",\"\",VLOOKUP(G2724,'Lista de precios'!$B$7:$C$5000,2,0))","v":""}]
[null,null,"",null,null,null,null,{"$f":"IF(G2725=\"\",\"\",VLOOKUP(G2725,'Lista de precios'!$B$7:$C$5000,2,0))","v":""}]
[null,null,"",null,null,null,null,{"$f":"IF(G2726=\"\",\"\",VLOOKUP(G2726,'Lista de precios'!$B$7:$C$5000,2,0))","v":""}]
[null,null,"",null,null,null,null,{"$f":"IF(G2727=\"\",\"\",VLOOKUP(G2727,'Lista de precios'!$B$7:$C$5000,2,0))","v":""}]
[null,null,"",null,null,null,null,{"$f":"IF(G2728=\"\",\"\",VLOOKUP(G2728,'Lista de precios'!$B$7:$C$5000,2,0))","v":""}]
[null,null,"",null,null,null,null,{"$f":"IF(G2729=\"\",\"\",VLOOKUP(G2729,'Lista de precios'!$B$7:$C$5000,2,0))","v":""}]
[null,null,"",null,null,null,null,{"$f":"IF(G2730=\"\",\"\",VLOOKUP(G2730,'Lista de precios'!$B$7:$C$5000,2,0))","v":""}]
[null,null,"",null,null,null,null,{"$f":"IF(G2731=\"\",\"\",VLOOKUP(G2731,'Lista de precios'!$B$7:$C$5000,2,0))","v":""}]
[null,null,"",null,null,null,null,{"$f":"IF(G2732=\"\",\"\",VLOOKUP(G2732,'Lista de precios'!$B$7:$C$5000,2,0))","v":""}]
[null,null,"",null,null,null,null,{"$f":"IF(G2733=\"\",\"\",VLOOKUP(G2733,'Lista de precios'!$B$7:$C$5000,2,0))","v":""}]
[null,null,"",null,null,null,null,{"$f":"IF(G2734=\"\",\"\",VLOOKUP(G2734,'Lista de precios'!$B$7:$C$5000,2,0))","v":""}]
[null,null,"",null,null,null,null,{"$f":"IF(G2735=\"\",\"\",VLOOKUP(G2735,'Lista de precios'!$B$7:$C$5000,2,0))","v":""}]
[null,null,"",null,null,null,null,{"$f":"IF(G2736=\"\",\"\",VLOOKUP(G2736,'Lista de precios'!$B$7:$C$5000,2,0))","v":""}]
[null,null,"",null,null,null,null,{"$f":"IF(G2737=\"\",\"\",VLOOKUP(G2737,'Lista de precios'!$B$7:$C$5000,2,0))","v":""}]
[null,null,"",null,null,null,null,{"$f":"IF(G2738=\"\",\"\",VLOOKUP(G2738,'Lista de precios'!$B$7:$C$5000,2,0))","v":""}]
[null,null,"",null,null,null,null,{"$f":"IF(G2739=\"\",\"\",VLOOKUP(G2739,'Lista de precios'!$B$7:$C$5000,2,0))","v":""}]
[null,null,"",null,null,null,null,{"$f":"IF(G2740=\"\",\"\",VLOOKUP(G2740,'Lista de precios'!$B$7:$C$5000,2,0))","v":""}]
[null,null,"",null,null,null,null,{"$f":"IF(G2741=\"\",\"\",VLOOKUP(G2741,'Lista de precios'!$B$7:$C$5000,2,0))","v":""}]
[null,null,"",null,null,null,null,{"$f":"IF(G2742=\"\",\"\",VLOOKUP(G2742,'Lista de precios'!$B$7:$C$5000,2,0))","v":""}]
[null,null,"",null,null,null,null,{"$f":"IF(G2743=\"\",\"\",VLOOKUP(G2743,'Lista de precios'!$B$7:$C$5000,2,0))","v":""}]
[null,null,"",null,null,null,null,{"$f":"IF(G2744=\"\",\"\",VLOOKUP(G2744,'Lista de precios'!$B$7:$C$5000,2,0))","v":""}]
[null,null,"",null,null,null,null,{"$f":"IF(G2745=\"\",\"\",VLOOKUP(G2745,'Lista de precios'!$B$7:$C$5000,2,0))","v":""}]
[null,null,"",null,null,null,null,{"$f":"IF(G2746=\"\",\"\",VLOOKUP(G2746,'Lista de precios'!$B$7:$C$5000,2,0))","v":""}]
[null,null,"",null,null,null,null,{"$f":"IF(G2747=\"\",\"\",VLOOKUP(G2747,'Lista de precios'!$B$7:$C$5000,2,0))","v":""}]
[null,null,"",null,null,null,null,{"$f":"IF(G2748=\"\",\"\",VLOOKUP(G2748,'Lista de precios'!$B$7:$C$5000,2,0))","v":""}]
[null,null,"",null,null,null,null,{"$f":"IF(G2749=\"\",\"\",VLOOKUP(G2749,'Lista de precios'!$B$7:$C$5000,2,0))","v":""}]
[null,null,"",null,null,null,null,{"$f":"IF(G2750=\"\",\"\",VLOOKUP(G2750,'Lista de precios'!$B$7:$C$5000,2,0))","v":""}]
[null,null,"",null,null,null,null,{"$f":"IF(G2751=\"\",\"\",VLOOKUP(G2751,'Lista de precios'!$B$7:$C$5000,2,0))","v":""}]
[null,null,"",null,null,null,null,{"$f":"IF(G2752=\"\",\"\",VLOOKUP(G2752,'Lista de precios'!$B$7:$C$5000,2,0))","v":""}]
[null,null,"",null,null,null,null,{"$f":"IF(G2753=\"\",\"\",VLOOKUP(G2753,'Lista de precios'!$B$7:$C$5000,2,0))","v":""}]
[null,null,"",null,null,null,null,{"$f":"IF(G2754=\"\",\"\",VLOOKUP(G2754,'Lista de precios'!$B$7:$C$5000,2,0))","v":""}]
[null,null,"",null,null,null,null,{"$f":"IF(G2755=\"\",\"\",VLOOKUP(G2755,'Lista de precios'!$B$7:$C$5000,2,0))","v":""}]
[null,null,"",null,null,null,null,{"$f":"IF(G2756=\"\",\"\",VLOOKUP(G2756,'Lista de precios'!$B$7:$C$5000,2,0))","v":""}]
[null,null,"",null,null,null,null,{"$f":"IF(G2757=\"\",\"\",VLOOKUP(G2757,'Lista de precios'!$B$7:$C$5000,2,0))","v":""}]
[null,null,"",null,null,null,null,{"$f":"IF(G2758=\"\",\"\",VLOOKUP(G2758,'Lista de precios'!$B$7:$C$5000,2,0))","v":""}]
[null,null,"",null,null,null,null,{"$f":"IF(G2759=\"\",\"\",VLOOKUP(G2759,'Lista de precios'!$B$7:$C$5000,2,0))","v":""}]
[null,null,"",null,null,null,null,{"$f":"IF(G2760=\"\",\"\",VLOOKUP(G2760,'Lista de precios'!$B$7:$C$5000,2,0))","v":""}]
[null,null,"",null,null,null,null,{"$f":"IF(G2761=\"\",\"\",VLOOKUP(G2761,'Lista de precios'!$B$7:$C$5000,2,0))","v":""}]
[null,null,"",null,null,null,null,{"$f":"IF(G2762=\"\",\"\",VLOOKUP(G2762,'Lista de precios'!$B$7:$C$5000,2,0))","v":""}]
[null,null,"",null,null,null,null,{"$f":"IF(G2763=\"\",\"\",VLOOKUP(G2763,'Lista de precios'!$B$7:$C$5000,2,0))","v":""}]
[null,null,{"$f":"IF(B2764=\"\",\"\",TEXT(B2764,\"Mmmm\"))","v":""},null,null,null,null,{"$f":"IF(G2764=\"\",\"\",VLOOKUP(G2764,'Lista de precios'!$B$7:$C$5000,2,0))","v":""}]
[null,null,"",null,null,null,null,{"$f":"IF(G2765=\"\",\"\",VLOOKUP(G2765,'Lista de precios'!$B$7:$C$5000,2,0))","v":""}]
[null,null,"",null,null,null,null,{"$f":"IF(G2766=\"\",\"\",VLOOKUP(G2766,'Lista de precios'!$B$7:$C$5000,2,0))","v":""}]
[null,null,"",null,null,null,null,{"$f":"IF(G2767=\"\",\"\",VLOOKUP(G2767,'Lista de precios'!$B$7:$C$5000,2,0))","v":""}]
[null,null,"",null,null,null,null,{"$f":"IF(G2768=\"\",\"\",VLOOKUP(G2768,'Lista de precios'!$B$7:$C$5000,2,0))","v":""}]
[null,null,"",null,null,null,null,{"$f":"IF(G2769=\"\",\"\",VLOOKUP(G2769,'Lista de precios'!$B$7:$C$5000,2,0))","v":""}]
[null,null,"",null,null,null,null,{"$f":"IF(G2770=\"\",\"\",VLOOKUP(G2770,'Lista de precios'!$B$7:$C$5000,2,0))","v":""}]
[null,null,"",null,null,null,null,{"$f":"IF(G2771=\"\",\"\",VLOOKUP(G2771,'Lista de precios'!$B$7:$C$5000,2,0))","v":""}]
[null,null,"",null,null,null,null,{"$f":"IF(G2772=\"\",\"\",VLOOKUP(G2772,'Lista de precios'!$B$7:$C$5000,2,0))","v":""}]
[null,null,"",null,null,null,null,{"$f":"IF(G2773=\"\",\"\",VLOOKUP(G2773,'Lista de precios'!$B$7:$C$5000,2,0))","v":""}]
[null,null,"",null,null,null,null,{"$f":"IF(G2774=\"\",\"\",VLOOKUP(G2774,'Lista de precios'!$B$7:$C$5000,2,0))","v":""}]
[null,null,"",null,null,null,null,{"$f":"IF(G2775=\"\",\"\",VLOOKUP(G2775,'Lista de precios'!$B$7:$C$5000,2,0))","v":""}]
[null,null,"",null,null,null,null,{"$f":"IF(G2776=\"\",\"\",VLOOKUP(G2776,'Lista de precios'!$B$7:$C$5000,2,0))","v":""}]
[null,null,"",null,null,null,null,{"$f":"IF(G2777=\"\",\"\",VLOOKUP(G2777,'Lista de precios'!$B$7:$C$5000,2,0))","v":""}]
[null,null,"",null,null,null,null,{"$f":"IF(G2778=\"\",\"\",VLOOKUP(G2778,'Lista de precios'!$B$7:$C$5000,2,0))","v":""}]
[null,null,"",null,null,null,null,{"$f":"IF(G2779=\"\",\"\",VLOOKUP(G2779,'Lista de precios'!$B$7:$C$5000,2,0))","v":""}]
[null,null,"",null,null,null,null,{"$f":"IF(G2780=\"\",\"\",VLOOKUP(G2780,'Lista de precios'!$B$7:$C$5000,2,0))","v":""}]
[null,null,"",null,null,null,null,{"$f":"IF(G2781=\"\",\"\",VLOOKUP(G2781,'Lista de precios'!$B$7:$C$5000,2,0))","v":""}]
[null,null,"",null,null,null,null,{"$f":"IF(G2782=\"\",\"\",VLOOKUP(G2782,'Lista de precios'!$B$7:$C$5000,2,0))","v":""}]
[null,null,"",null,null,null,null,{"$f":"IF(G2783=\"\",\"\",VLOOKUP(G2783,'Lista de precios'!$B$7:$C$5000,2,0))","v":""}]
[null,null,"",null,null,null,null,{"$f":"IF(G2784=\"\",\"\",VLOOKUP(G2784,'Lista de precios'!$B$7:$C$5000,2,0))","v":""}]
[null,null,"",null,null,null,null,{"$f":"IF(G2785=\"\",\"\",VLOOKUP(G2785,'Lista de precios'!$B$7:$C$5000,2,0))","v":""}]
[null,null,"",null,null,null,null,{"$f":"IF(G2786=\"\",\"\",VLOOKUP(G2786,'Lista de precios'!$B$7:$C$5000,2,0))","v":""}]
[null,null,"",null,null,null,null,{"$f":"IF(G2787=\"\",\"\",VLOOKUP(G2787,'Lista de precios'!$B$7:$C$5000,2,0))","v":""}]
[null,null,"",null,null,null,null,{"$f":"IF(G2788=\"\",\"\",VLOOKUP(G2788,'Lista de precios'!$B$7:$C$5000,2,0))","v":""}]
[null,null,"",null,null,null,null,{"$f":"IF(G2789=\"\",\"\",VLOOKUP(G2789,'Lista de precios'!$B$7:$C$5000,2,0))","v":""}]
[null,null,"",null,null,null,null,{"$f":"IF(G2790=\"\",\"\",VLOOKUP(G2790,'Lista de precios'!$B$7:$C$5000,2,0))","v":""}]
[null,null,"",null,null,null,null,{"$f":"IF(G2791=\"\",\"\",VLOOKUP(G2791,'Lista de precios'!$B$7:$C$5000,2,0))","v":""}]
[null,null,"",null,null,null,null,{"$f":"IF(G2792=\"\",\"\",VLOOKUP(G2792,'Lista de precios'!$B$7:$C$5000,2,0))","v":""}]
[null,null,"",null,null,null,null,{"$f":"IF(G2793=\"\",\"\",VLOOKUP(G2793,'Lista de precios'!$B$7:$C$5000,2,0))","v":""}]
[null,null,"",null,null,null,null,{"$f":"IF(G2794=\"\",\"\",VLOOKUP(G2794,'Lista de precios'!$B$7:$C$5000,2,0))","v":""}]
[null,null,"",null,null,null,null,{"$f":"IF(G2795=\"\",\"\",VLOOKUP(G2795,'Lista de precios'!$B$7:$C$5000,2,0))","v":""}]
[null,null,"",null,null,null,null,{"$f":"IF(G2796=\"\",\"\",VLOOKUP(G2796,'Lista de precios'!$B$7:$C$5000,2,0))","v":""}]
[null,null,"",null,null,null,null,{"$f":"IF(G2797=\"\",\"\",VLOOKUP(G2797,'Lista de precios'!$B$7:$C$5000,2,0))","v":""}]
[null,null,"",null,null,null,null,{"$f":"IF(G2798=\"\",\"\",VLOOKUP(G2798,'Lista de precios'!$B$7:$C$5000,2,0))","v":""}]
[null,null,"",null,null,null,null,{"$f":"IF(G2799=\"\",\"\",VLOOKUP(G2799,'Lista de precios'!$B$7:$C$5000,2,0))","v":""}]
[null,null,"",null,null,null,null,{"$f":"IF(G2800=\"\",\"\",VLOOKUP(G2800,'Lista de precios'!$B$7:$C$5000,2,0))","v":""}]
[null,null,"",null,null,null,null,{"$f":"IF(G2801=\"\",\"\",VLOOKUP(G2801,'Lista de precios'!$B$7:$C$5000,2,0))","v":""}]
[null,null,"",null,null,null,null,{"$f":"IF(G2802=\"\",\"\",VLOOKUP(G2802,'Lista de precios'!$B$7:$C$5000,2,0))","v":""}]
[null,null,"",null,null,null,null,{"$f":"IF(G2803=\"\",\"\",VLOOKUP(G2803,'Lista de precios'!$B$7:$C$5000,2,0))","v":""}]
[null,null,"",null,null,null,null,{"$f":"IF(G2804=\"\",\"\",VLOOKUP(G2804,'Lista de precios'!$B$7:$C$5000,2,0))","v":""}]
[null,null,"",null,null,null,null,{"$f":"IF(G2805=\"\",\"\",VLOOKUP(G2805,'Lista de precios'!$B$7:$C$5000,2,0))","v":""}]
[null,null,"",null,null,null,null,{"$f":"IF(G2806=\"\",\"\",VLOOKUP(G2806,'Lista de precios'!$B$7:$C$5000,2,0))","v":""}]
[null,null,"",null,null,null,null,{"$f":"IF(G2807=\"\",\"\",VLOOKUP(G2807,'Lista de precios'!$B$7:$C$5000,2,0))","v":""}]
[null,null,"",null,null,null,null,{"$f":"IF(G2808=\"\",\"\",VLOOKUP(G2808,'Lista de precios'!$B$7:$C$5000,2,0))","v":""}]
[null,null,"",null,null,null,null,{"$f":"IF(G2809=\"\",\"\",VLOOKUP(G2809,'Lista de precios'!$B$7:$C$5000,2,0))","v":""}]
[null,null,"",null,null,null,null,{"$f":"IF(G2810=\"\",\"\",VLOOKUP(G2810,'Lista de precios'!$B$7:$C$5000,2,0))","v":""}]
[null,null,"",null,null,null,null,{"$f":"IF(G2811=\"\",\"\",VLOOKUP(G2811,'Lista de precios'!$B$7:$C$5000,2,0))","v":""}]
[null,null,"",null,null,null,null,{"$f":"IF(G2812=\"\",\"\",VLOOKUP(G2812,'Lista de precios'!$B$7:$C$5000,2,0))","v":""}]
[null,null,"",null,null,null,null,{"$f":"IF(G2813=\"\",\"\",VLOOKUP(G2813,'Lista de precios'!$B$7:$C$5000,2,0))","v":""}]
[null,null,"",null,null,null,null,{"$f":"IF(G2814=\"\",\"\",VLOOKUP(G2814,'Lista de precios'!$B$7:$C$5000,2,0))","v":""}]
[null,null,"",null,null,null,null,{"$f":"IF(G2815=\"\",\"\",VLOOKUP(G2815,'Lista de precios'!$B$7:$C$5000,2,0))","v":""}]
[null,null,"",null,null,null,null,{"$f":"IF(G2816=\"\",\"\",VLOOKUP(G2816,'Lista de precios'!$B$7:$C$5000,2,0))","v":""}]
[null,null,"",null,null,null,null,{"$f":"IF(G2817=\"\",\"\",VLOOKUP(G2817,'Lista de precios'!$B$7:$C$5000,2,0))","v":""}]
[null,null,"",null,null,null,null,{"$f":"IF(G2818=\"\",\"\",VLOOKUP(G2818,'Lista de precios'!$B$7:$C$5000,2,0))","v":""}]
[null,null,"",null,null,null,null,{"$f":"IF(G2819=\"\",\"\",VLOOKUP(G2819,'Lista de precios'!$B$7:$C$5000,2,0))","v":""}]
[null,null,"",null,null,null,null,{"$f":"IF(G2820=\"\",\"\",VLOOKUP(G2820,'Lista de precios'!$B$7:$C$5000,2,0))","v":""}]
[null,null,"",null,null,null,null,{"$f":"IF(G2821=\"\",\"\",VLOOKUP(G2821,'Lista de precios'!$B$7:$C$5000,2,0))","v":""}]
[null,null,"",null,null,null,null,{"$f":"IF(G2822=\"\",\"\",VLOOKUP(G2822,'Lista de precios'!$B$7:$C$5000,2,0))","v":""}]
[null,null,"",null,null,null,null,{"$f":"IF(G2823=\"\",\"\",VLOOKUP(G2823,'Lista de precios'!$B$7:$C$5000,2,0))","v":""}]
[null,null,"",null,null,null,null,{"$f":"IF(G2824=\"\",\"\",VLOOKUP(G2824,'Lista de precios'!$B$7:$C$5000,2,0))","v":""}]
[null,null,"",null,null,null,null,{"$f":"IF(G2825=\"\",\"\",VLOOKUP(G2825,'Lista de precios'!$B$7:$C$5000,2,0))","v":""}]
[null,null,"",null,null,null,null,{"$f":"IF(G2826=\"\",\"\",VLOOKUP(G2826,'Lista de precios'!$B$7:$C$5000,2,0))","v":""}]
[null,null,"",null,null,null,null,{"$f":"IF(G2827=\"\",\"\",VLOOKUP(G2827,'Lista de precios'!$B$7:$C$5000,2,0))","v":""}]
[null,null,{"$f":"IF(B2828=\"\",\"\",TEXT(B2828,\"Mmmm\"))","v":""},null,null,null,null,{"$f":"IF(G2828=\"\",\"\",VLOOKUP(G2828,'Lista de precios'!$B$7:$C$5000,2,0))","v":""}]
[null,null,"",null,null,null,null,{"$f":"IF(G2829=\"\",\"\",VLOOKUP(G2829,'Lista de precios'!$B$7:$C$5000,2,0))","v":""}]
[null,null,"",null,null,null,null,{"$f":"IF(G2830=\"\",\"\",VLOOKUP(G2830,'Lista de precios'!$B$7:$C$5000,2,0))","v":""}]
[null,null,"",null,null,null,null,{"$f":"IF(G2831=\"\",\"\",VLOOKUP(G2831,'Lista de precios'!$B$7:$C$5000,2,0))","v":""}]
[null,null,"",null,null,null,null,{"$f":"IF(G2832=\"\",\"\",VLOOKUP(G2832,'Lista de precios'!$B$7:$C$5000,2,0))","v":""}]
[null,null,"",null,null,null,null,{"$f":"IF(G2833=\"\",\"\",VLOOKUP(G2833,'Lista de precios'!$B$7:$C$5000,2,0))","v":""}]
[null,null,"",null,null,null,null,{"$f":"IF(G2834=\"\",\"\",VLOOKUP(G2834,'Lista de precios'!$B$7:$C$5000,2,0))","v":""}]
[null,null,"",null,null,null,null,{"$f":"IF(G2835=\"\",\"\",VLOOKUP(G2835,'Lista de precios'!$B$7:$C$5000,2,0))","v":""}]
[null,null,"",null,null,null,null,{"$f":"IF(G2836=\"\",\"\",VLOOKUP(G2836,'Lista de precios'!$B$7:$C$5000,2,0))","v":""}]
[null,null,"",null,null,null,null,{"$f":"IF(G2837=\"\",\"\",VLOOKUP(G2837,'Lista de precios'!$B$7:$C$5000,2,0))","v":""}]
[null,null,"",null,null,null,null,{"$f":"IF(G2838=\"\",\"\",VLOOKUP(G2838,'Lista de precios'!$B$7:$C$5000,2,0))","v":""}]
[null,null,"",null,null,null,null,{"$f":"IF(G2839=\"\",\"\",VLOOKUP(G2839,'Lista de precios'!$B$7:$C$5000,2,0))","v":""}]
[null,null,"",null,null,null,null,{"$f":"IF(G2840=\"\",\"\",VLOOKUP(G2840,'Lista de precios'!$B$7:$C$5000,2,0))","v":""}]
[null,null,"",null,null,null,null,{"$f":"IF(G2841=\"\",\"\",VLOOKUP(G2841,'Lista de precios'!$B$7:$C$5000,2,0))","v":""}]
[null,null,"",null,null,null,null,{"$f":"IF(G2842=\"\",\"\",VLOOKUP(G2842,'Lista de precios'!$B$7:$C$5000,2,0))","v":""}]
[null,null,"",null,null,null,null,{"$f":"IF(G2843=\"\",\"\",VLOOKUP(G2843,'Lista de precios'!$B$7:$C$5000,2,0))","v":""}]
[null,null,"",null,null,null,null,{"$f":"IF(G2844=\"\",\"\",VLOOKUP(G2844,'Lista de precios'!$B$7:$C$5000,2,0))","v":""}]
[null,null,"",null,null,null,null,{"$f":"IF(G2845=\"\",\"\",VLOOKUP(G2845,'Lista de precios'!$B$7:$C$5000,2,0))","v":""}]
[null,null,"",null,null,null,null,{"$f":"IF(G2846=\"\",\"\",VLOOKUP(G2846,'Lista de precios'!$B$7:$C$5000,2,0))","v":""}]
[null,null,"",null,null,null,null,{"$f":"IF(G2847=\"\",\"\",VLOOKUP(G2847,'Lista de precios'!$B$7:$C$5000,2,0))","v":""}]
[null,null,"",null,null,null,null,{"$f":"IF(G2848=\"\",\"\",VLOOKUP(G2848,'Lista de precios'!$B$7:$C$5000,2,0))","v":""}]
[null,null,"",null,null,null,null,{"$f":"IF(G2849=\"\",\"\",VLOOKUP(G2849,'Lista de precios'!$B$7:$C$5000,2,0))","v":""}]
[null,null,"",null,null,null,null,{"$f":"IF(G2850=\"\",\"\",VLOOKUP(G2850,'Lista de precios'!$B$7:$C$5000,2,0))","v":""}]
[null,null,"",null,null,null,null,{"$f":"IF(G2851=\"\",\"\",VLOOKUP(G2851,'Lista de precios'!$B$7:$C$5000,2,0))","v":""}]
[null,null,"",null,null,null,null,{"$f":"IF(G2852=\"\",\"\",VLOOKUP(G2852,'Lista de precios'!$B$7:$C$5000,2,0))","v":""}]
[null,null,"",null,null,null,null,{"$f":"IF(G2853=\"\",\"\",VLOOKUP(G2853,'Lista de precios'!$B$7:$C$5000,2,0))","v":""}]
[null,null,"",null,null,null,null,{"$f":"IF(G2854=\"\",\"\",VLOOKUP(G2854,'Lista de precios'!$B$7:$C$5000,2,0))","v":""}]
[null,null,"",null,null,null,null,{"$f":"IF(G2855=\"\",\"\",VLOOKUP(G2855,'Lista de precios'!$B$7:$C$5000,2,0))","v":""}]
[null,null,"",null,null,null,null,{"$f":"IF(G2856=\"\",\"\",VLOOKUP(G2856,'Lista de precios'!$B$7:$C$5000,2,0))","v":""}]
[null,null,"",null,null,null,null,{"$f":"IF(G2857=\"\",\"\",VLOOKUP(G2857,'Lista de precios'!$B$7:$C$5000,2,0))","v":""}]
[null,null,"",null,null,null,null,{"$f":"IF(G2858=\"\",\"\",VLOOKUP(G2858,'Lista de precios'!$B$7:$C$5000,2,0))","v":""}]
[null,null,"",null,null,null,null,{"$f":"IF(G2859=\"\",\"\",VLOOKUP(G2859,'Lista de precios'!$B$7:$C$5000,2,0))","v":""}]
[null,null,"",null,null,null,null,{"$f":"IF(G2860=\"\",\"\",VLOOKUP(G2860,'Lista de precios'!$B$7:$C$5000,2,0))","v":""}]
[null,null,"",null,null,null,null,{"$f":"IF(G2861=\"\",\"\",VLOOKUP(G2861,'Lista de precios'!$B$7:$C$5000,2,0))","v":""}]
[null,null,"",null,null,null,null,{"$f":"IF(G2862=\"\",\"\",VLOOKUP(G2862,'Lista de precios'!$B$7:$C$5000,2,0))","v":""}]
[null,null,"",null,null,null,null,{"$f":"IF(G2863=\"\",\"\",VLOOKUP(G2863,'Lista de precios'!$B$7:$C$5000,2,0))","v":""}]
[null,null,"",null,null,null,null,{"$f":"IF(G2864=\"\",\"\",VLOOKUP(G2864,'Lista de precios'!$B$7:$C$5000,2,0))","v":""}]
[null,null,"",null,null,null,null,{"$f":"IF(G2865=\"\",\"\",VLOOKUP(G2865,'Lista de precios'!$B$7:$C$5000,2,0))","v":""}]
[null,null,"",null,null,null,null,{"$f":"IF(G2866=\"\",\"\",VLOOKUP(G2866,'Lista de precios'!$B$7:$C$5000,2,0))","v":""}]
[null,null,"",null,null,null,null,{"$f":"IF(G2867=\"\",\"\",VLOOKUP(G2867,'Lista de precios'!$B$7:$C$5000,2,0))","v":""}]
[null,null,"",null,null,null,null,{"$f":"IF(G2868=\"\",\"\",VLOOKUP(G2868,'Lista de precios'!$B$7:$C$5000,2,0))","v":""}]
[null,null,"",null,null,null,null,{"$f":"IF(G2869=\"\",\"\",VLOOKUP(G2869,'Lista de precios'!$B$7:$C$5000,2,0))","v":""}]
[null,null,"",null,null,null,null,{"$f":"IF(G2870=\"\",\"\",VLOOKUP(G2870,'Lista de precios'!$B$7:$C$5000,2,0))","v":""}]
[null,null,"",null,null,null,null,{"$f":"IF(G2871=\"\",\"\",VLOOKUP(G2871,'Lista de precios'!$B$7:$C$5000,2,0))","v":""}]
[null,null,"",null,null,null,null,{"$f":"IF(G2872=\"\",\"\",VLOOKUP(G2872,'Lista de precios'!$B$7:$C$5000,2,0))","v":""}]
[null,null,"",null,null,null,null,{"$f":"IF(G2873=\"\",\"\",VLOOKUP(G2873,'Lista de precios'!$B$7:$C$5000,2,0))","v":""}]
[null,null,"",null,null,null,null,{"$f":"IF(G2874=\"\",\"\",VLOOKUP(G2874,'Lista de precios'!$B$7:$C$5000,2,0))","v":""}]
[null,null,"",null,null,null,null,{"$f":"IF(G2875=\"\",\"\",VLOOKUP(G2875,'Lista de precios'!$B$7:$C$5000,2,0))","v":""}]
[null,null,"",null,null,null,null,{"$f":"IF(G2876=\"\",\"\",VLOOKUP(G2876,'Lista de precios'!$B$7:$C$5000,2,0))","v":""}]
[null,null,"",null,null,null,null,{"$f":"IF(G2877=\"\",\"\",VLOOKUP(G2877,'Lista de precios'!$B$7:$C$5000,2,0))","v":""}]
[null,null,"",null,null,null,null,{"$f":"IF(G2878=\"\",\"\",VLOOKUP(G2878,'Lista de precios'!$B$7:$C$5000,2,0))","v":""}]
[null,null,"",null,null,null,null,{"$f":"IF(G2879=\"\",\"\",VLOOKUP(G2879,'Lista de precios'!$B$7:$C$5000,2,0))","v":""}]
[null,null,"",null,null,null,null,{"$f":"IF(G2880=\"\",\"\",VLOOKUP(G2880,'Lista de precios'!$B$7:$C$5000,2,0))","v":""}]
[null,null,"",null,null,null,null,{"$f":"IF(G2881=\"\",\"\",VLOOKUP(G2881,'Lista de precios'!$B$7:$C$5000,2,0))","v":""}]
[null,null,"",null,null,null,null,{"$f":"IF(G2882=\"\",\"\",VLOOKUP(G2882,'Lista de precios'!$B$7:$C$5000,2,0))","v":""}]
[null,null,"",null,null,null,null,{"$f":"IF(G2883=\"\",\"\",VLOOKUP(G2883,'Lista de precios'!$B$7:$C$5000,2,0))","v":""}]
[null,null,"",null,null,null,null,{"$f":"IF(G2884=\"\",\"\",VLOOKUP(G2884,'Lista de precios'!$B$7:$C$5000,2,0))","v":""}]
[null,null,"",null,null,null,null,{"$f":"IF(G2885=\"\",\"\",VLOOKUP(G2885,'Lista de precios'!$B$7:$C$5000,2,0))","v":""}]
[null,null,"",null,null,null,null,{"$f":"IF(G2886=\"\",\"\",VLOOKUP(G2886,'Lista de precios'!$B$7:$C$5000,2,0))","v":""}]
[null,null,"",null,null,null,null,{"$f":"IF(G2887=\"\",\"\",VLOOKUP(G2887,'Lista de precios'!$B$7:$C$5000,2,0))","v":""}]
[null,null,"",null,null,null,null,{"$f":"IF(G2888=\"\",\"\",VLOOKUP(G2888,'Lista de precios'!$B$7:$C$5000,2,0))","v":""}]
[null,null,"",null,null,null,null,{"$f":"IF(G2889=\"\",\"\",VLOOKUP(G2889,'Lista de precios'!$B$7:$C$5000,2,0))","v":""}]
[null,null,"",null,null,null,null,{"$f":"IF(G2890=\"\",\"\",VLOOKUP(G2890,'Lista de precios'!$B$7:$C$5000,2,0))","v":""}]
[null,null,"",null,null,null,null,{"$f":"IF(G2891=\"\",\"\",VLOOKUP(G2891,'Lista de precios'!$B$7:$C$5000,2,0))","v":""}]
[null,null,{"$f":"IF(B2892=\"\",\"\",TEXT(B2892,\"Mmmm\"))","v":""},null,null,null,null,{"$f":"IF(G2892=\"\",\"\",VLOOKUP(G2892,'Lista de precios'!$B$7:$C$5000,2,0))","v":""}]
[null,null,"",null,null,null,null,{"$f":"IF(G2893=\"\",\"\",VLOOKUP(G2893,'Lista de precios'!$B$7:$C$5000,2,0))","v":""}]
[null,null,"",null,null,null,null,{"$f":"IF(G2894=\"\",\"\",VLOOKUP(G2894,'Lista de precios'!$B$7:$C$5000,2,0))","v":""}]
[null,null,"",null,null,null,null,{"$f":"IF(G2895=\"\",\"\",VLOOKUP(G2895,'Lista de precios'!$B$7:$C$5000,2,0))","v":""}]
[null,null,"",null,null,null,null,{"$f":"IF(G2896=\"\",\"\",VLOOKUP(G2896,'Lista de precios'!$B$7:$C$5000,2,0))","v":""}]
[null,null,"",null,null,null,null,{"$f":"IF(G2897=\"\",\"\",VLOOKUP(G2897,'Lista de precios'!$B$7:$C$5000,2,0))","v":""}]
[null,null,"",null,null,null,null,{"$f":"IF(G2898=\"\",\"\",VLOOKUP(G2898,'Lista de precios'!$B$7:$C$5000,2,0))","v":""}]
[null,null,"",null,null,null,null,{"$f":"IF(G2899=\"\",\"\",VLOOKUP(G2899,'Lista de precios'!$B$7:$C$5000,2,0))","v":""}]
[null,null,"",null,null,null,null,{"$f":"IF(G2900=\"\",\"\",VLOOKUP(G2900,'Lista de precios'!$B$7:$C$5000,2,0))","v":""}]
[null,null,"",null,null,null,null,{"$f":"IF(G2901=\"\",\"\",VLOOKUP(G2901,'Lista de precios'!$B$7:$C$5000,2,0))","v":""}]
[null,null,"",null,null,null,null,{"$f":"IF(G2902=\"\",\"\",VLOOKUP(G2902,'Lista de precios'!$B$7:$C$5000,2,0))","v":""}]
[null,null,"",null,null,null,null,{"$f":"IF(G2903=\"\",\"\",VLOOKUP(G2903,'Lista de precios'!$B$7:$C$5000,2,0))","v":""}]
[null,null,"",null,null,null,null,{"$f":"IF(G2904=\"\",\"\",VLOOKUP(G2904,'Lista de precios'!$B$7:$C$5000,2,0))","v":""}]
[null,null,"",null,null,null,null,{"$f":"IF(G2905=\"\",\"\",VLOOKUP(G2905,'Lista de precios'!$B$7:$C$5000,2,0))","v":""}]
[null,null,"",null,null,null,null,{"$f":"IF(G2906=\"\",\"\",VLOOKUP(G2906,'Lista de precios'!$B$7:$C$5000,2,0))","v":""}]
[null,null,"",null,null,null,null,{"$f":"IF(G2907=\"\",\"\",VLOOKUP(G2907,'Lista de precios'!$B$7:$C$5000,2,0))","v":""}]
[null,null,"",null,null,null,null,{"$f":"IF(G2908=\"\",\"\",VLOOKUP(G2908,'Lista de precios'!$B$7:$C$5000,2,0))","v":""}]
[null,null,"",null,null,null,null,{"$f":"IF(G2909=\"\",\"\",VLOOKUP(G2909,'Lista de precios'!$B$7:$C$5000,2,0))","v":""}]
[null,null,"",null,null,null,null,{"$f":"IF(G2910=\"\",\"\",VLOOKUP(G2910,'Lista de precios'!$B$7:$C$5000,2,0))","v":""}]
[null,null,"",null,null,null,null,{"$f":"IF(G2911=\"\",\"\",VLOOKUP(G2911,'Lista de precios'!$B$7:$C$5000,2,0))","v":""}]
[null,null,"",null,null,null,null,{"$f":"IF(G2912=\"\",\"\",VLOOKUP(G2912,'Lista de precios'!$B$7:$C$5000,2,0))","v":""}]
[null,null,"",null,null,null,null,{"$f":"IF(G2913=\"\",\"\",VLOOKUP(G2913,'Lista de precios'!$B$7:$C$5000,2,0))","v":""}]
[null,null,"",null,null,null,null,{"$f":"IF(G2914=\"\",\"\",VLOOKUP(G2914,'Lista de precios'!$B$7:$C$5000,2,0))","v":""}]
[null,null,"",null,null,null,null,{"$f":"IF(G2915=\"\",\"\",VLOOKUP(G2915,'Lista de precios'!$B$7:$C$5000,2,0))","v":""}]
[null,null,"",null,null,null,null,{"$f":"IF(G2916=\"\",\"\",VLOOKUP(G2916,'Lista de precios'!$B$7:$C$5000,2,0))","v":""}]
[null,null,"",null,null,null,null,{"$f":"IF(G2917=\"\",\"\",VLOOKUP(G2917,'Lista de precios'!$B$7:$C$5000,2,0))","v":""}]
[null,null,"",null,null,null,null,{"$f":"IF(G2918=\"\",\"\",VLOOKUP(G2918,'Lista de precios'!$B$7:$C$5000,2,0))","v":""}]
[null,null,"",null,null,null,null,{"$f":"IF(G2919=\"\",\"\",VLOOKUP(G2919,'Lista de precios'!$B$7:$C$5000,2,0))","v":""}]
[null,null,"",null,null,null,null,{"$f":"IF(G2920=\"\",\"\",VLOOKUP(G2920,'Lista de precios'!$B$7:$C$5000,2,0))","v":""}]
[null,null,"",null,null,null,null,{"$f":"IF(G2921=\"\",\"\",VLOOKUP(G2921,'Lista de precios'!$B$7:$C$5000,2,0))","v":""}]
[null,null,"",null,null,null,null,{"$f":"IF(G2922=\"\",\"\",VLOOKUP(G2922,'Lista de precios'!$B$7:$C$5000,2,0))","v":""}]
[null,null,"",null,null,null,null,{"$f":"IF(G2923=\"\",\"\",VLOOKUP(G2923,'Lista de precios'!$B$7:$C$5000,2,0))","v":""}]
[null,null,"",null,null,null,null,{"$f":"IF(G2924=\"\",\"\",VLOOKUP(G2924,'Lista de precios'!$B$7:$C$5000,2,0))","v":""}]
[null,null,"",null,null,null,null,{"$f":"IF(G2925=\"\",\"\",VLOOKUP(G2925,'Lista de precios'!$B$7:$C$5000,2,0))","v":""}]
[null,null,"",null,null,null,null,{"$f":"IF(G2926=\"\",\"\",VLOOKUP(G2926,'Lista de precios'!$B$7:$C$5000,2,0))","v":""}]
[null,null,"",null,null,null,null,{"$f":"IF(G2927=\"\",\"\",VLOOKUP(G2927,'Lista de precios'!$B$7:$C$5000,2,0))","v":""}]
[null,null,"",null,null,null,null,{"$f":"IF(G2928=\"\",\"\",VLOOKUP(G2928,'Lista de precios'!$B$7:$C$5000,2,0))","v":""}]
[null,null,"",null,null,null,null,{"$f":"IF(G2929=\"\",\"\",VLOOKUP(G2929,'Lista de precios'!$B$7:$C$5000,2,0))","v":""}]
[null,null,"",null,null,null,null,{"$f":"IF(G2930=\"\",\"\",VLOOKUP(G2930,'Lista de precios'!$B$7:$C$5000,2,0))","v":""}]
[null,null,"",null,null,null,null,{"$f":"IF(G2931=\"\",\"\",VLOOKUP(G2931,'Lista de precios'!$B$7:$C$5000,2,0))","v":""}]
[null,null,"",null,null,null,null,{"$f":"IF(G2932=\"\",\"\",VLOOKUP(G2932,'Lista de precios'!$B$7:$C$5000,2,0))","v":""}]
[null,null,"",null,null,null,null,{"$f":"IF(G2933=\"\",\"\",VLOOKUP(G2933,'Lista de precios'!$B$7:$C$5000,2,0))","v":""}]
[null,null,"",null,null,null,null,{"$f":"IF(G2934=\"\",\"\",VLOOKUP(G2934,'Lista de precios'!$B$7:$C$5000,2,0))","v":""}]
[null,null,"",null,null,null,null,{"$f":"IF(G2935=\"\",\"\",VLOOKUP(G2935,'Lista de precios'!$B$7:$C$5000,2,0))","v":""}]
[null,null,"",null,null,null,null,{"$f":"IF(G2936=\"\",\"\",VLOOKUP(G2936,'Lista de precios'!$B$7:$C$5000,2,0))","v":""}]
[null,null,"",null,null,null,null,{"$f":"IF(G2937=\"\",\"\",VLOOKUP(G2937,'Lista de precios'!$B$7:$C$5000,2,0))","v":""}]
[null,null,"",null,null,null,null,{"$f":"IF(G2938=\"\",\"\",VLOOKUP(G2938,'Lista de precios'!$B$7:$C$5000,2,0))","v":""}]
[null,null,"",null,null,null,null,{"$f":"IF(G2939=\"\",\"\",VLOOKUP(G2939,'Lista de precios'!$B$7:$C$5000,2,0))","v":""}]
[null,null,"",null,null,null,null,{"$f":"IF(G2940=\"\",\"\",VLOOKUP(G2940,'Lista de precios'!$B$7:$C$5000,2,0))","v":""}]
[null,null,"",null,null,null,null,{"$f":"IF(G2941=\"\",\"\",VLOOKUP(G2941,'Lista de precios'!$B$7:$C$5000,2,0))","v":""}]
[null,null,"",null,null,null,null,{"$f":"IF(G2942=\"\",\"\",VLOOKUP(G2942,'Lista de precios'!$B$7:$C$5000,2,0))","v":""}]
[null,null,"",null,null,null,null,{"$f":"IF(G2943=\"\",\"\",VLOOKUP(G2943,'Lista de precios'!$B$7:$C$5000,2,0))","v":""}]
[null,null,"",null,null,null,null,{"$f":"IF(G2944=\"\",\"\",VLOOKUP(G2944,'Lista de precios'!$B$7:$C$5000,2,0))","v":""}]
[null,null,"",null,null,null,null,{"$f":"IF(G2945=\"\",\"\",VLOOKUP(G2945,'Lista de precios'!$B$7:$C$5000,2,0))","v":""}]
[null,null,"",null,null,null,null,{"$f":"IF(G2946=\"\",\"\",VLOOKUP(G2946,'Lista de precios'!$B$7:$C$5000,2,0))","v":""}]
[null,null,"",null,null,null,null,{"$f":"IF(G2947=\"\",\"\",VLOOKUP(G2947,'Lista de precios'!$B$7:$C$5000,2,0))","v":""}]
[null,null,"",null,null,null,null,{"$f":"IF(G2948=\"\",\"\",VLOOKUP(G2948,'Lista de precios'!$B$7:$C$5000,2,0))","v":""}]
[null,null,"",null,null,null,null,{"$f":"IF(G2949=\"\",\"\",VLOOKUP(G2949,'Lista de precios'!$B$7:$C$5000,2,0))","v":""}]
[null,null,"",null,null,null,null,{"$f":"IF(G2950=\"\",\"\",VLOOKUP(G2950,'Lista de precios'!$B$7:$C$5000,2,0))","v":""}]
[null,null,"",null,null,null,null,{"$f":"IF(G2951=\"\",\"\",VLOOKUP(G2951,'Lista de precios'!$B$7:$C$5000,2,0))","v":""}]
[null,null,"",null,null,null,null,{"$f":"IF(G2952=\"\",\"\",VLOOKUP(G2952,'Lista de precios'!$B$7:$C$5000,2,0))","v":""}]
[null,null,"",null,null,null,null,{"$f":"IF(G2953=\"\",\"\",VLOOKUP(G2953,'Lista de precios'!$B$7:$C$5000,2,0))","v":""}]
[null,null,"",null,null,null,null,{"$f":"IF(G2954=\"\",\"\",VLOOKUP(G2954,'Lista de precios'!$B$7:$C$5000,2,0))","v":""}]
[null,null,"",null,null,null,null,{"$f":"IF(G2955=\"\",\"\",VLOOKUP(G2955,'Lista de precios'!$B$7:$C$5000,2,0))","v":""}]
[null,null,{"$f":"IF(B2956=\"\",\"\",TEXT(B2956,\"Mmmm\"))","v":""},null,null,null,null,{"$f":"IF(G2956=\"\",\"\",VLOOKUP(G2956,'Lista de precios'!$B$7:$C$5000,2,0))","v":""}]
[null,null,"",null,null,null,null,{"$f":"IF(G2957=\"\",\"\",VLOOKUP(G2957,'Lista de precios'!$B$7:$C$5000,2,0))","v":""}]
[null,null,"",null,null,null,null,{"$f":"IF(G2958=\"\",\"\",VLOOKUP(G2958,'Lista de precios'!$B$7:$C$5000,2,0))","v":""}]
[null,null,"",null,null,null,null,{"$f":"IF(G2959=\"\",\"\",VLOOKUP(G2959,'Lista de precios'!$B$7:$C$5000,2,0))","v":""}]
[null,null,"",null,null,null,null,{"$f":"IF(G2960=\"\",\"\",VLOOKUP(G2960,'Lista de precios'!$B$7:$C$5000,2,0))","v":""}]
[null,null,"",null,null,null,null,{"$f":"IF(G2961=\"\",\"\",VLOOKUP(G2961,'Lista de precios'!$B$7:$C$5000,2,0))","v":""}]
[null,null,"",null,null,null,null,{"$f":"IF(G2962=\"\",\"\",VLOOKUP(G2962,'Lista de precios'!$B$7:$C$5000,2,0))","v":""}]
[null,null,"",null,null,null,null,{"$f":"IF(G2963=\"\",\"\",VLOOKUP(G2963,'Lista de precios'!$B$7:$C$5000,2,0))","v":""}]
[null,null,"",null,null,null,null,{"$f":"IF(G2964=\"\",\"\",VLOOKUP(G2964,'Lista de precios'!$B$7:$C$5000,2,0))","v":""}]
[null,null,"",null,null,null,null,{"$f":"IF(G2965=\"\",\"\",VLOOKUP(G2965,'Lista de precios'!$B$7:$C$5000,2,0))","v":""}]
[null,null,"",null,null,null,null,{"$f":"IF(G2966=\"\",\"\",VLOOKUP(G2966,'Lista de precios'!$B$7:$C$5000,2,0))","v":""}]
[null,null,"",null,null,null,null,{"$f":"IF(G2967=\"\",\"\",VLOOKUP(G2967,'Lista de precios'!$B$7:$C$5000,2,0))","v":""}]
[null,null,"",null,null,null,null,{"$f":"IF(G2968=\"\",\"\",VLOOKUP(G2968,'Lista de precios'!$B$7:$C$5000,2,0))","v":""}]
[null,null,"",null,null,null,null,{"$f":"IF(G2969=\"\",\"\",VLOOKUP(G2969,'Lista de precios'!$B$7:$C$5000,2,0))","v":""}]
[null,null,"",null,null,null,null,{"$f":"IF(G2970=\"\",\"\",VLOOKUP(G2970,'Lista de precios'!$B$7:$C$5000,2,0))","v":""}]
[null,null,"",null,null,null,null,{"$f":"IF(G2971=\"\",\"\",VLOOKUP(G2971,'Lista de precios'!$B$7:$C$5000,2,0))","v":""}]
[null,null,"",null,null,null,null,{"$f":"IF(G2972=\"\",\"\",VLOOKUP(G2972,'Lista de precios'!$B$7:$C$5000,2,0))","v":""}]
[null,null,"",null,null,null,null,{"$f":"IF(G2973=\"\",\"\",VLOOKUP(G2973,'Lista de precios'!$B$7:$C$5000,2,0))","v":""}]
[null,null,"",null,null,null,null,{"$f":"IF(G2974=\"\",\"\",VLOOKUP(G2974,'Lista de precios'!$B$7:$C$5000,2,0))","v":""}]
[null,null,"",null,null,null,null,{"$f":"IF(G2975=\"\",\"\",VLOOKUP(G2975,'Lista de precios'!$B$7:$C$5000,2,0))","v":""}]
[null,null,"",null,null,null,null,{"$f":"IF(G2976=\"\",\"\",VLOOKUP(G2976,'Lista de precios'!$B$7:$C$5000,2,0))","v":""}]
[null,null,"",null,null,null,null,{"$f":"IF(G2977=\"\",\"\",VLOOKUP(G2977,'Lista de precios'!$B$7:$C$5000,2,0))","v":""}]
[null,null,"",null,null,null,null,{"$f":"IF(G2978=\"\",\"\",VLOOKUP(G2978,'Lista de precios'!$B$7:$C$5000,2,0))","v":""}]
[null,null,"",null,null,null,null,{"$f":"IF(G2979=\"\",\"\",VLOOKUP(G2979,'Lista de precios'!$B$7:$C$5000,2,0))","v":""}]
[null,null,"",null,null,null,null,{"$f":"IF(G2980=\"\",\"\",VLOOKUP(G2980,'Lista de precios'!$B$7:$C$5000,2,0))","v":""}]
[null,null,"",null,null,null,null,{"$f":"IF(G2981=\"\",\"\",VLOOKUP(G2981,'Lista de precios'!$B$7:$C$5000,2,0))","v":""}]
[null,null,"",null,null,null,null,{"$f":"IF(G2982=\"\",\"\",VLOOKUP(G2982,'Lista de precios'!$B$7:$C$5000,2,0))","v":""}]
[null,null,"",null,null,null,null,{"$f":"IF(G2983=\"\",\"\",VLOOKUP(G2983,'Lista de precios'!$B$7:$C$5000,2,0))","v":""}]
[null,null,"",null,null,null,null,{"$f":"IF(G2984=\"\",\"\",VLOOKUP(G2984,'Lista de precios'!$B$7:$C$5000,2,0))","v":""}]
[null,null,"",null,null,null,null,{"$f":"IF(G2985=\"\",\"\",VLOOKUP(G2985,'Lista de precios'!$B$7:$C$5000,2,0))","v":""}]
[null,null,"",null,null,null,null,{"$f":"IF(G2986=\"\",\"\",VLOOKUP(G2986,'Lista de precios'!$B$7:$C$5000,2,0))","v":""}]
[null,null,"",null,null,null,null,{"$f":"IF(G2987=\"\",\"\",VLOOKUP(G2987,'Lista de precios'!$B$7:$C$5000,2,0))","v":""}]
[null,null,"",null,null,null,null,{"$f":"IF(G2988=\"\",\"\",VLOOKUP(G2988,'Lista de precios'!$B$7:$C$5000,2,0))","v":""}]
[null,null,"",null,null,null,null,{"$f":"IF(G2989=\"\",\"\",VLOOKUP(G2989,'Lista de precios'!$B$7:$C$5000,2,0))","v":""}]
[null,null,"",null,null,null,null,{"$f":"IF(G2990=\"\",\"\",VLOOKUP(G2990,'Lista de precios'!$B$7:$C$5000,2,0))","v":""}]
[null,null,"",null,null,null,null,{"$f":"IF(G2991=\"\",\"\",VLOOKUP(G2991,'Lista de precios'!$B$7:$C$5000,2,0))","v":""}]
[null,null,"",null,null,null,null,{"$f":"IF(G2992=\"\",\"\",VLOOKUP(G2992,'Lista de precios'!$B$7:$C$5000,2,0))","v":""}]
[null,null,"",null,null,null,null,{"$f":"IF(G2993=\"\",\"\",VLOOKUP(G2993,'Lista de precios'!$B$7:$C$5000,2,0))","v":""}]
[null,null,"",null,null,null,null,{"$f":"IF(G2994=\"\",\"\",VLOOKUP(G2994,'Lista de precios'!$B$7:$C$5000,2,0))","v":""}]
[null,null,"",null,null,null,null,{"$f":"IF(G2995=\"\",\"\",VLOOKUP(G2995,'Lista de precios'!$B$7:$C$5000,2,0))","v":""}]
[null,null,"",null,null,null,null,{"$f":"IF(G2996=\"\",\"\",VLOOKUP(G2996,'Lista de precios'!$B$7:$C$5000,2,0))","v":""}]
[null,null,"",null,null,null,null,{"$f":"IF(G2997=\"\",\"\",VLOOKUP(G2997,'Lista de precios'!$B$7:$C$5000,2,0))","v":""}]
[null,null,"",null,null,null,null,{"$f":"IF(G2998=\"\",\"\",VLOOKUP(G2998,'Lista de precios'!$B$7:$C$5000,2,0))","v":""}]
[null,null,"",null,null,null,null,{"$f":"IF(G2999=\"\",\"\",VLOOKUP(G2999,'Lista de precios'!$B$7:$C$5000,2,0))","v":""}]
[null,null,"",null,null,null,null,{"$f":"IF(G3000=\"\",\"\",VLOOKUP(G3000,'Lista de precios'!$B$7:$C$5000,2,0))","v":""}]
[null,null,"",null,null,null,null,{"$f":"IF(G3001=\"\",\"\",VLOOKUP(G3001,'Lista de precios'!$B$7:$C$5000,2,0))","v":""}]
[null,null,"",null,null,null,null,{"$f":"IF(G3002=\"\",\"\",VLOOKUP(G3002,'Lista de precios'!$B$7:$C$5000,2,0))","v":""}]
[null,null,"",null,null,null,null,{"$f":"IF(G3003=\"\",\"\",VLOOKUP(G3003,'Lista de precios'!$B$7:$C$5000,2,0))","v":""}]
[null,null,"",null,null,null,null,{"$f":"IF(G3004=\"\",\"\",VLOOKUP(G3004,'Lista de precios'!$B$7:$C$5000,2,0))","v":""}]
[null,null,"",null,null,null,null,{"$f":"IF(G3005=\"\",\"\",VLOOKUP(G3005,'Lista de precios'!$B$7:$C$5000,2,0))","v":""}]
[null,null,"",null,null,null,null,{"$f":"IF(G3006=\"\",\"\",VLOOKUP(G3006,'Lista de precios'!$B$7:$C$5000,2,0))","v":""}]
[null,null,"",null,null,null,null,{"$f":"IF(G3007=\"\",\"\",VLOOKUP(G3007,'Lista de precios'!$B$7:$C$5000,2,0))","v":""}]
[null,null,"",null,null,null,null,{"$f":"IF(G3008=\"\",\"\",VLOOKUP(G3008,'Lista de precios'!$B$7:$C$5000,2,0))","v":""}]
[null,null,"",null,null,null,null,{"$f":"IF(G3009=\"\",\"\",VLOOKUP(G3009,'Lista de precios'!$B$7:$C$5000,2,0))","v":""}]
[null,null,"",null,null,null,null,{"$f":"IF(G3010=\"\",\"\",VLOOKUP(G3010,'Lista de precios'!$B$7:$C$5000,2,0))","v":""}]
[null,null,"",null,null,null,null,{"$f":"IF(G3011=\"\",\"\",VLOOKUP(G3011,'Lista de precios'!$B$7:$C$5000,2,0))","v":""}]
[null,null,"",null,null,null,null,{"$f":"IF(G3012=\"\",\"\",VLOOKUP(G3012,'Lista de precios'!$B$7:$C$5000,2,0))","v":""}]
[null,null,"",null,null,null,null,{"$f":"IF(G3013=\"\",\"\",VLOOKUP(G3013,'Lista de precios'!$B$7:$C$5000,2,0))","v":""}]
[null,null,"",null,null,null,null,{"$f":"IF(G3014=\"\",\"\",VLOOKUP(G3014,'Lista de precios'!$B$7:$C$5000,2,0))","v":""}]
[null,null,"",null,null,null,null,{"$f":"IF(G3015=\"\",\"\",VLOOKUP(G3015,'Lista de precios'!$B$7:$C$5000,2,0))","v":""}]
[null,null,"",null,null,null,null,{"$f":"IF(G3016=\"\",\"\",VLOOKUP(G3016,'Lista de precios'!$B$7:$C$5000,2,0))","v":""}]
[null,null,"",null,null,null,null,{"$f":"IF(G3017=\"\",\"\",VLOOKUP(G3017,'Lista de precios'!$B$7:$C$5000,2,0))","v":""}]
[null,null,"",null,null,null,null,{"$f":"IF(G3018=\"\",\"\",VLOOKUP(G3018,'Lista de precios'!$B$7:$C$5000,2,0))","v":""}]
[null,null,"",null,null,null,null,{"$f":"IF(G3019=\"\",\"\",VLOOKUP(G3019,'Lista de precios'!$B$7:$C$5000,2,0))","v":""}]
[null,null,{"$f":"IF(B3020=\"\",\"\",TEXT(B3020,\"Mmmm\"))","v":""},null,null,null,null,{"$f":"IF(G3020=\"\",\"\",VLOOKUP(G3020,'Lista de precios'!$B$7:$C$5000,2,0))","v":""}]
[null,null,"",null,null,null,null,{"$f":"IF(G3021=\"\",\"\",VLOOKUP(G3021,'Lista de precios'!$B$7:$C$5000,2,0))","v":""}]
[null,null,"",null,null,null,null,{"$f":"IF(G3022=\"\",\"\",VLOOKUP(G3022,'Lista de precios'!$B$7:$C$5000,2,0))","v":""}]
[null,null,"",null,null,null,null,{"$f":"IF(G3023=\"\",\"\",VLOOKUP(G3023,'Lista de precios'!$B$7:$C$5000,2,0))","v":""}]
[null,null,"",null,null,null,null,{"$f":"IF(G3024=\"\",\"\",VLOOKUP(G3024,'Lista de precios'!$B$7:$C$5000,2,0))","v":""}]
[null,null,"",null,null,null,null,{"$f":"IF(G3025=\"\",\"\",VLOOKUP(G3025,'Lista de precios'!$B$7:$C$5000,2,0))","v":""}]
[null,null,"",null,null,null,null,{"$f":"IF(G3026=\"\",\"\",VLOOKUP(G3026,'Lista de precios'!$B$7:$C$5000,2,0))","v":""}]
[null,null,"",null,null,null,null,{"$f":"IF(G3027=\"\",\"\",VLOOKUP(G3027,'Lista de precios'!$B$7:$C$5000,2,0))","v":""}]
[null,null,"",null,null,null,null,{"$f":"IF(G3028=\"\",\"\",VLOOKUP(G3028,'Lista de precios'!$B$7:$C$5000,2,0))","v":""}]
[null,null,"",null,null,null,null,{"$f":"IF(G3029=\"\",\"\",VLOOKUP(G3029,'Lista de precios'!$B$7:$C$5000,2,0))","v":""}]
[null,null,"",null,null,null,null,{"$f":"IF(G3030=\"\",\"\",VLOOKUP(G3030,'Lista de precios'!$B$7:$C$5000,2,0))","v":""}]
[null,null,"",null,null,null,null,{"$f":"IF(G3031=\"\",\"\",VLOOKUP(G3031,'Lista de precios'!$B$7:$C$5000,2,0))","v":""}]
[null,null,"",null,null,null,null,{"$f":"IF(G3032=\"\",\"\",VLOOKUP(G3032,'Lista de precios'!$B$7:$C$5000,2,0))","v":""}]
[null,null,"",null,null,null,null,{"$f":"IF(G3033=\"\",\"\",VLOOKUP(G3033,'Lista de precios'!$B$7:$C$5000,2,0))","v":""}]
[null,null,"",null,null,null,null,{"$f":"IF(G3034=\"\",\"\",VLOOKUP(G3034,'Lista de precios'!$B$7:$C$5000,2,0))","v":""}]
[null,null,"",null,null,null,null,{"$f":"IF(G3035=\"\",\"\",VLOOKUP(G3035,'Lista de precios'!$B$7:$C$5000,2,0))","v":""}]
[null,null,"",null,null,null,null,{"$f":"IF(G3036=\"\",\"\",VLOOKUP(G3036,'Lista de precios'!$B$7:$C$5000,2,0))","v":""}]
[null,null,"",null,null,null,null,{"$f":"IF(G3037=\"\",\"\",VLOOKUP(G3037,'Lista de precios'!$B$7:$C$5000,2,0))","v":""}]
[null,null,"",null,null,null,null,{"$f":"IF(G3038=\"\",\"\",VLOOKUP(G3038,'Lista de precios'!$B$7:$C$5000,2,0))","v":""}]
[null,null,"",null,null,null,null,{"$f":"IF(G3039=\"\",\"\",VLOOKUP(G3039,'Lista de precios'!$B$7:$C$5000,2,0))","v":""}]
[null,null,"",null,null,null,null,{"$f":"IF(G3040=\"\",\"\",VLOOKUP(G3040,'Lista de precios'!$B$7:$C$5000,2,0))","v":""}]
[null,null,"",null,null,null,null,{"$f":"IF(G3041=\"\",\"\",VLOOKUP(G3041,'Lista de precios'!$B$7:$C$5000,2,0))","v":""}]
[null,null,"",null,null,null,null,{"$f":"IF(G3042=\"\",\"\",VLOOKUP(G3042,'Lista de precios'!$B$7:$C$5000,2,0))","v":""}]
[null,null,"",null,null,null,null,{"$f":"IF(G3043=\"\",\"\",VLOOKUP(G3043,'Lista de precios'!$B$7:$C$5000,2,0))","v":""}]
[null,null,"",null,null,null,null,{"$f":"IF(G3044=\"\",\"\",VLOOKUP(G3044,'Lista de precios'!$B$7:$C$5000,2,0))","v":""}]
[null,null,"",null,null,null,null,{"$f":"IF(G3045=\"\",\"\",VLOOKUP(G3045,'Lista de precios'!$B$7:$C$5000,2,0))","v":""}]
[null,null,"",null,null,null,null,{"$f":"IF(G3046=\"\",\"\",VLOOKUP(G3046,'Lista de precios'!$B$7:$C$5000,2,0))","v":""}]
[null,null,"",null,null,null,null,{"$f":"IF(G3047=\"\",\"\",VLOOKUP(G3047,'Lista de precios'!$B$7:$C$5000,2,0))","v":""}]
[null,null,"",null,null,null,null,{"$f":"IF(G3048=\"\",\"\",VLOOKUP(G3048,'Lista de precios'!$B$7:$C$5000,2,0))","v":""}]
[null,null,"",null,null,null,null,{"$f":"IF(G3049=\"\",\"\",VLOOKUP(G3049,'Lista de precios'!$B$7:$C$5000,2,0))","v":""}]
[null,null,"",null,null,null,null,{"$f":"IF(G3050=\"\",\"\",VLOOKUP(G3050,'Lista de precios'!$B$7:$C$5000,2,0))","v":""}]
[null,null,"",null,null,null,null,{"$f":"IF(G3051=\"\",\"\",VLOOKUP(G3051,'Lista de precios'!$B$7:$C$5000,2,0))","v":""}]
[null,null,"",null,null,null,null,{"$f":"IF(G3052=\"\",\"\",VLOOKUP(G3052,'Lista de precios'!$B$7:$C$5000,2,0))","v":""}]
[null,null,"",null,null,null,null,{"$f":"IF(G3053=\"\",\"\",VLOOKUP(G3053,'Lista de precios'!$B$7:$C$5000,2,0))","v":""}]
[null,null,"",null,null,null,null,{"$f":"IF(G3054=\"\",\"\",VLOOKUP(G3054,'Lista de precios'!$B$7:$C$5000,2,0))","v":""}]
[null,null,"",null,null,null,null,{"$f":"IF(G3055=\"\",\"\",VLOOKUP(G3055,'Lista de precios'!$B$7:$C$5000,2,0))","v":""}]
[null,null,"",null,null,null,null,{"$f":"IF(G3056=\"\",\"\",VLOOKUP(G3056,'Lista de precios'!$B$7:$C$5000,2,0))","v":""}]
[null,null,"",null,null,null,null,{"$f":"IF(G3057=\"\",\"\",VLOOKUP(G3057,'Lista de precios'!$B$7:$C$5000,2,0))","v":""}]
[null,null,"",null,null,null,null,{"$f":"IF(G3058=\"\",\"\",VLOOKUP(G3058,'Lista de precios'!$B$7:$C$5000,2,0))","v":""}]
[null,null,"",null,null,null,null,{"$f":"IF(G3059=\"\",\"\",VLOOKUP(G3059,'Lista de precios'!$B$7:$C$5000,2,0))","v":""}]
[null,null,"",null,null,null,null,{"$f":"IF(G3060=\"\",\"\",VLOOKUP(G3060,'Lista de precios'!$B$7:$C$5000,2,0))","v":""}]
[null,null,"",null,null,null,null,{"$f":"IF(G3061=\"\",\"\",VLOOKUP(G3061,'Lista de precios'!$B$7:$C$5000,2,0))","v":""}]
[null,null,"",null,null,null,null,{"$f":"IF(G3062=\"\",\"\",VLOOKUP(G3062,'Lista de precios'!$B$7:$C$5000,2,0))","v":""}]
[null,null,"",null,null,null,null,{"$f":"IF(G3063=\"\",\"\",VLOOKUP(G3063,'Lista de precios'!$B$7:$C$5000,2,0))","v":""}]
[null,null,"",null,null,null,null,{"$f":"IF(G3064=\"\",\"\",VLOOKUP(G3064,'Lista de precios'!$B$7:$C$5000,2,0))","v":""}]
[null,null,"",null,null,null,null,{"$f":"IF(G3065=\"\",\"\",VLOOKUP(G3065,'Lista de precios'!$B$7:$C$5000,2,0))","v":""}]
[null,null,"",null,null,null,null,{"$f":"IF(G3066=\"\",\"\",VLOOKUP(G3066,'Lista de precios'!$B$7:$C$5000,2,0))","v":""}]
[null,null,"",null,null,null,null,{"$f":"IF(G3067=\"\",\"\",VLOOKUP(G3067,'Lista de precios'!$B$7:$C$5000,2,0))","v":""}]
[null,null,"",null,null,null,null,{"$f":"IF(G3068=\"\",\"\",VLOOKUP(G3068,'Lista de precios'!$B$7:$C$5000,2,0))","v":""}]
[null,null,"",null,null,null,null,{"$f":"IF(G3069=\"\",\"\",VLOOKUP(G3069,'Lista de precios'!$B$7:$C$5000,2,0))","v":""}]
[null,null,"",null,null,null,null,{"$f":"IF(G3070=\"\",\"\",VLOOKUP(G3070,'Lista de precios'!$B$7:$C$5000,2,0))","v":""}]
[null,null,"",null,null,null,null,{"$f":"IF(G3071=\"\",\"\",VLOOKUP(G3071,'Lista de precios'!$B$7:$C$5000,2,0))","v":""}]
[null,null,"",null,null,null,null,{"$f":"IF(G3072=\"\",\"\",VLOOKUP(G3072,'Lista de precios'!$B$7:$C$5000,2,0))","v":""}]
[null,null,"",null,null,null,null,{"$f":"IF(G3073=\"\",\"\",VLOOKUP(G3073,'Lista de precios'!$B$7:$C$5000,2,0))","v":""}]
[null,null,"",null,null,null,null,{"$f":"IF(G3074=\"\",\"\",VLOOKUP(G3074,'Lista de precios'!$B$7:$C$5000,2,0))","v":""}]
[null,null,"",null,null,null,null,{"$f":"IF(G3075=\"\",\"\",VLOOKUP(G3075,'Lista de precios'!$B$7:$C$5000,2,0))","v":""}]
[null,null,"",null,null,null,null,{"$f":"IF(G3076=\"\",\"\",VLOOKUP(G3076,'Lista de precios'!$B$7:$C$5000,2,0))","v":""}]
[null,null,"",null,null,null,null,{"$f":"IF(G3077=\"\",\"\",VLOOKUP(G3077,'Lista de precios'!$B$7:$C$5000,2,0))","v":""}]
[null,null,"",null,null,null,null,{"$f":"IF(G3078=\"\",\"\",VLOOKUP(G3078,'Lista de precios'!$B$7:$C$5000,2,0))","v":""}]
[null,null,"",null,null,null,null,{"$f":"IF(G3079=\"\",\"\",VLOOKUP(G3079,'Lista de precios'!$B$7:$C$5000,2,0))","v":""}]
[null,null,"",null,null,null,null,{"$f":"IF(G3080=\"\",\"\",VLOOKUP(G3080,'Lista de precios'!$B$7:$C$5000,2,0))","v":""}]
[null,null,"",null,null,null,null,{"$f":"IF(G3081=\"\",\"\",VLOOKUP(G3081,'Lista de precios'!$B$7:$C$5000,2,0))","v":""}]
[null,null,"",null,null,null,null,{"$f":"IF(G3082=\"\",\"\",VLOOKUP(G3082,'Lista de precios'!$B$7:$C$5000,2,0))","v":""}]
[null,null,"",null,null,null,null,{"$f":"IF(G3083=\"\",\"\",VLOOKUP(G3083,'Lista de precios'!$B$7:$C$5000,2,0))","v":""}]
[null,null,{"$f":"IF(B3084=\"\",\"\",TEXT(B3084,\"Mmmm\"))","v":""},null,null,null,null,{"$f":"IF(G3084=\"\",\"\",VLOOKUP(G3084,'Lista de precios'!$B$7:$C$5000,2,0))","v":""}]
[null,null,"",null,null,null,null,{"$f":"IF(G3085=\"\",\"\",VLOOKUP(G3085,'Lista de precios'!$B$7:$C$5000,2,0))","v":""}]
[null,null,"",null,null,null,null,{"$f":"IF(G3086=\"\",\"\",VLOOKUP(G3086,'Lista de precios'!$B$7:$C$5000,2,0))","v":""}]
[null,null,"",null,null,null,null,{"$f":"IF(G3087=\"\",\"\",VLOOKUP(G3087,'Lista de precios'!$B$7:$C$5000,2,0))","v":""}]
[null,null,"",null,null,null,null,{"$f":"IF(G3088=\"\",\"\",VLOOKUP(G3088,'Lista de precios'!$B$7:$C$5000,2,0))","v":""}]
[null,null,"",null,null,null,null,{"$f":"IF(G3089=\"\",\"\",VLOOKUP(G3089,'Lista de precios'!$B$7:$C$5000,2,0))","v":""}]
[null,null,"",null,null,null,null,{"$f":"IF(G3090=\"\",\"\",VLOOKUP(G3090,'Lista de precios'!$B$7:$C$5000,2,0))","v":""}]
[null,null,"",null,null,null,null,{"$f":"IF(G3091=\"\",\"\",VLOOKUP(G3091,'Lista de precios'!$B$7:$C$5000,2,0))","v":""}]
[null,null,"",null,null,null,null,{"$f":"IF(G3092=\"\",\"\",VLOOKUP(G3092,'Lista de precios'!$B$7:$C$5000,2,0))","v":""}]
[null,null,"",null,null,null,null,{"$f":"IF(G3093=\"\",\"\",VLOOKUP(G3093,'Lista de precios'!$B$7:$C$5000,2,0))","v":""}]
[null,null,"",null,null,null,null,{"$f":"IF(G3094=\"\",\"\",VLOOKUP(G3094,'Lista de precios'!$B$7:$C$5000,2,0))","v":""}]
[null,null,"",null,null,null,null,{"$f":"IF(G3095=\"\",\"\",VLOOKUP(G3095,'Lista de precios'!$B$7:$C$5000,2,0))","v":""}]
[null,null,"",null,null,null,null,{"$f":"IF(G3096=\"\",\"\",VLOOKUP(G3096,'Lista de precios'!$B$7:$C$5000,2,0))","v":""}]
[null,null,"",null,null,null,null,{"$f":"IF(G3097=\"\",\"\",VLOOKUP(G3097,'Lista de precios'!$B$7:$C$5000,2,0))","v":""}]
[null,null,"",null,null,null,null,{"$f":"IF(G3098=\"\",\"\",VLOOKUP(G3098,'Lista de precios'!$B$7:$C$5000,2,0))","v":""}]
[null,null,"",null,null,null,null,{"$f":"IF(G3099=\"\",\"\",VLOOKUP(G3099,'Lista de precios'!$B$7:$C$5000,2,0))","v":""}]
[null,null,"",null,null,null,null,{"$f":"IF(G3100=\"\",\"\",VLOOKUP(G3100,'Lista de precios'!$B$7:$C$5000,2,0))","v":""}]
[null,null,"",null,null,null,null,{"$f":"IF(G3101=\"\",\"\",VLOOKUP(G3101,'Lista de precios'!$B$7:$C$5000,2,0))","v":""}]
[null,null,"",null,null,null,null,{"$f":"IF(G3102=\"\",\"\",VLOOKUP(G3102,'Lista de precios'!$B$7:$C$5000,2,0))","v":""}]
[null,null,"",null,null,null,null,{"$f":"IF(G3103=\"\",\"\",VLOOKUP(G3103,'Lista de precios'!$B$7:$C$5000,2,0))","v":""}]
[null,null,"",null,null,null,null,{"$f":"IF(G3104=\"\",\"\",VLOOKUP(G3104,'Lista de precios'!$B$7:$C$5000,2,0))","v":""}]
[null,null,"",null,null,null,null,{"$f":"IF(G3105=\"\",\"\",VLOOKUP(G3105,'Lista de precios'!$B$7:$C$5000,2,0))","v":""}]
[null,null,"",null,null,null,null,{"$f":"IF(G3106=\"\",\"\",VLOOKUP(G3106,'Lista de precios'!$B$7:$C$5000,2,0))","v":""}]
[null,null,"",null,null,null,null,{"$f":"IF(G3107=\"\",\"\",VLOOKUP(G3107,'Lista de precios'!$B$7:$C$5000,2,0))","v":""}]
[null,null,"",null,null,null,null,{"$f":"IF(G3108=\"\",\"\",VLOOKUP(G3108,'Lista de precios'!$B$7:$C$5000,2,0))","v":""}]
[null,null,"",null,null,null,null,{"$f":"IF(G3109=\"\",\"\",VLOOKUP(G3109,'Lista de precios'!$B$7:$C$5000,2,0))","v":""}]
[null,null,"",null,null,null,null,{"$f":"IF(G3110=\"\",\"\",VLOOKUP(G3110,'Lista de precios'!$B$7:$C$5000,2,0))","v":""}]
[null,null,"",null,null,null,null,{"$f":"IF(G3111=\"\",\"\",VLOOKUP(G3111,'Lista de precios'!$B$7:$C$5000,2,0))","v":""}]
[null,null,"",null,null,null,null,{"$f":"IF(G3112=\"\",\"\",VLOOKUP(G3112,'Lista de precios'!$B$7:$C$5000,2,0))","v":""}]
[null,null,"",null,null,null,null,{"$f":"IF(G3113=\"\",\"\",VLOOKUP(G3113,'Lista de precios'!$B$7:$C$5000,2,0))","v":""}]
[null,null,"",null,null,null,null,{"$f":"IF(G3114=\"\",\"\",VLOOKUP(G3114,'Lista de precios'!$B$7:$C$5000,2,0))","v":""}]
[null,null,"",null,null,null,null,{"$f":"IF(G3115=\"\",\"\",VLOOKUP(G3115,'Lista de precios'!$B$7:$C$5000,2,0))","v":""}]
[null,null,"",null,null,null,null,{"$f":"IF(G3116=\"\",\"\",VLOOKUP(G3116,'Lista de precios'!$B$7:$C$5000,2,0))","v":""}]
[null,null,"",null,null,null,null,{"$f":"IF(G3117=\"\",\"\",VLOOKUP(G3117,'Lista de precios'!$B$7:$C$5000,2,0))","v":""}]
[null,null,"",null,null,null,null,{"$f":"IF(G3118=\"\",\"\",VLOOKUP(G3118,'Lista de precios'!$B$7:$C$5000,2,0))","v":""}]
[null,null,"",null,null,null,null,{"$f":"IF(G3119=\"\",\"\",VLOOKUP(G3119,'Lista de precios'!$B$7:$C$5000,2,0))","v":""}]
[null,null,"",null,null,null,null,{"$f":"IF(G3120=\"\",\"\",VLOOKUP(G3120,'Lista de precios'!$B$7:$C$5000,2,0))","v":""}]
[null,null,"",null,null,null,null,{"$f":"IF(G3121=\"\",\"\",VLOOKUP(G3121,'Lista de precios'!$B$7:$C$5000,2,0))","v":""}]
[null,null,"",null,null,null,null,{"$f":"IF(G3122=\"\",\"\",VLOOKUP(G3122,'Lista de precios'!$B$7:$C$5000,2,0))","v":""}]
[null,null,"",null,null,null,null,{"$f":"IF(G3123=\"\",\"\",VLOOKUP(G3123,'Lista de precios'!$B$7:$C$5000,2,0))","v":""}]
[null,null,"",null,null,null,null,{"$f":"IF(G3124=\"\",\"\",VLOOKUP(G3124,'Lista de precios'!$B$7:$C$5000,2,0))","v":""}]
[null,null,"",null,null,null,null,{"$f":"IF(G3125=\"\",\"\",VLOOKUP(G3125,'Lista de precios'!$B$7:$C$5000,2,0))","v":""}]
[null,null,"",null,null,null,null,{"$f":"IF(G3126=\"\",\"\",VLOOKUP(G3126,'Lista de precios'!$B$7:$C$5000,2,0))","v":""}]
[null,null,"",null,null,null,null,{"$f":"IF(G3127=\"\",\"\",VLOOKUP(G3127,'Lista de precios'!$B$7:$C$5000,2,0))","v":""}]
[null,null,"",null,null,null,null,{"$f":"IF(G3128=\"\",\"\",VLOOKUP(G3128,'Lista de precios'!$B$7:$C$5000,2,0))","v":""}]
[null,null,"",null,null,null,null,{"$f":"IF(G3129=\"\",\"\",VLOOKUP(G3129,'Lista de precios'!$B$7:$C$5000,2,0))","v":""}]
[null,null,"",null,null,null,null,{"$f":"IF(G3130=\"\",\"\",VLOOKUP(G3130,'Lista de precios'!$B$7:$C$5000,2,0))","v":""}]
[null,null,"",null,null,null,null,{"$f":"IF(G3131=\"\",\"\",VLOOKUP(G3131,'Lista de precios'!$B$7:$C$5000,2,0))","v":""}]
[null,null,"",null,null,null,null,{"$f":"IF(G3132=\"\",\"\",VLOOKUP(G3132,'Lista de precios'!$B$7:$C$5000,2,0))","v":""}]
[null,null,"",null,null,null,null,{"$f":"IF(G3133=\"\",\"\",VLOOKUP(G3133,'Lista de precios'!$B$7:$C$5000,2,0))","v":""}]
[null,null,"",null,null,null,null,{"$f":"IF(G3134=\"\",\"\",VLOOKUP(G3134,'Lista de precios'!$B$7:$C$5000,2,0))","v":""}]
[null,null,"",null,null,null,null,{"$f":"IF(G3135=\"\",\"\",VLOOKUP(G3135,'Lista de precios'!$B$7:$C$5000,2,0))","v":""}]
[null,null,"",null,null,null,null,{"$f":"IF(G3136=\"\",\"\",VLOOKUP(G3136,'Lista de precios'!$B$7:$C$5000,2,0))","v":""}]
[null,null,"",null,null,null,null,{"$f":"IF(G3137=\"\",\"\",VLOOKUP(G3137,'Lista de precios'!$B$7:$C$5000,2,0))","v":""}]
[null,null,"",null,null,null,null,{"$f":"IF(G3138=\"\",\"\",VLOOKUP(G3138,'Lista de precios'!$B$7:$C$5000,2,0))","v":""}]
[null,null,"",null,null,null,null,{"$f":"IF(G3139=\"\",\"\",VLOOKUP(G3139,'Lista de precios'!$B$7:$C$5000,2,0))","v":""}]
[null,null,"",null,null,null,null,{"$f":"IF(G3140=\"\",\"\",VLOOKUP(G3140,'Lista de precios'!$B$7:$C$5000,2,0))","v":""}]
[null,null,"",null,null,null,null,{"$f":"IF(G3141=\"\",\"\",VLOOKUP(G3141,'Lista de precios'!$B$7:$C$5000,2,0))","v":""}]
[null,null,"",null,null,null,null,{"$f":"IF(G3142=\"\",\"\",VLOOKUP(G3142,'Lista de precios'!$B$7:$C$5000,2,0))","v":""}]
[null,null,"",null,null,null,null,{"$f":"IF(G3143=\"\",\"\",VLOOKUP(G3143,'Lista de precios'!$B$7:$C$5000,2,0))","v":""}]
[null,null,"",null,null,null,null,{"$f":"IF(G3144=\"\",\"\",VLOOKUP(G3144,'Lista de precios'!$B$7:$C$5000,2,0))","v":""}]
[null,null,"",null,null,null,null,{"$f":"IF(G3145=\"\",\"\",VLOOKUP(G3145,'Lista de precios'!$B$7:$C$5000,2,0))","v":""}]
[null,null,"",null,null,null,null,{"$f":"IF(G3146=\"\",\"\",VLOOKUP(G3146,'Lista de precios'!$B$7:$C$5000,2,0))","v":""}]
[null,null,"",null,null,null,null,{"$f":"IF(G3147=\"\",\"\",VLOOKUP(G3147,'Lista de precios'!$B$7:$C$5000,2,0))","v":""}]
[null,null,{"$f":"IF(B3148=\"\",\"\",TEXT(B3148,\"Mmmm\"))","v":""},null,null,null,null,{"$f":"IF(G3148=\"\",\"\",VLOOKUP(G3148,'Lista de precios'!$B$7:$C$5000,2,0))","v":""}]
[null,null,"",null,null,null,null,{"$f":"IF(G3149=\"\",\"\",VLOOKUP(G3149,'Lista de precios'!$B$7:$C$5000,2,0))","v":""}]
[null,null,"",null,null,null,null,{"$f":"IF(G3150=\"\",\"\",VLOOKUP(G3150,'Lista de precios'!$B$7:$C$5000,2,0))","v":""}]
[null,null,"",null,null,null,null,{"$f":"IF(G3151=\"\",\"\",VLOOKUP(G3151,'Lista de precios'!$B$7:$C$5000,2,0))","v":""}]
[null,null,"",null,null,null,null,{"$f":"IF(G3152=\"\",\"\",VLOOKUP(G3152,'Lista de precios'!$B$7:$C$5000,2,0))","v":""}]
[null,null,"",null,null,null,null,{"$f":"IF(G3153=\"\",\"\",VLOOKUP(G3153,'Lista de precios'!$B$7:$C$5000,2,0))","v":""}]
[null,null,"",null,null,null,null,{"$f":"IF(G3154=\"\",\"\",VLOOKUP(G3154,'Lista de precios'!$B$7:$C$5000,2,0))","v":""}]
[null,null,"",null,null,null,null,{"$f":"IF(G3155=\"\",\"\",VLOOKUP(G3155,'Lista de precios'!$B$7:$C$5000,2,0))","v":""}]
[null,null,"",null,null,null,null,{"$f":"IF(G3156=\"\",\"\",VLOOKUP(G3156,'Lista de precios'!$B$7:$C$5000,2,0))","v":""}]
[null,null,"",null,null,null,null,{"$f":"IF(G3157=\"\",\"\",VLOOKUP(G3157,'Lista de precios'!$B$7:$C$5000,2,0))","v":""}]
[null,null,"",null,null,null,null,{"$f":"IF(G3158=\"\",\"\",VLOOKUP(G3158,'Lista de precios'!$B$7:$C$5000,2,0))","v":""}]
[null,null,"",null,null,null,null,{"$f":"IF(G3159=\"\",\"\",VLOOKUP(G3159,'Lista de precios'!$B$7:$C$5000,2,0))","v":""}]
[null,null,"",null,null,null,null,{"$f":"IF(G3160=\"\",\"\",VLOOKUP(G3160,'Lista de precios'!$B$7:$C$5000,2,0))","v":""}]
[null,null,"",null,null,null,null,{"$f":"IF(G3161=\"\",\"\",VLOOKUP(G3161,'Lista de precios'!$B$7:$C$5000,2,0))","v":""}]
[null,null,"",null,null,null,null,{"$f":"IF(G3162=\"\",\"\",VLOOKUP(G3162,'Lista de precios'!$B$7:$C$5000,2,0))","v":""}]
[null,null,"",null,null,null,null,{"$f":"IF(G3163=\"\",\"\",VLOOKUP(G3163,'Lista de precios'!$B$7:$C$5000,2,0))","v":""}]
[null,null,"",null,null,null,null,{"$f":"IF(G3164=\"\",\"\",VLOOKUP(G3164,'Lista de precios'!$B$7:$C$5000,2,0))","v":""}]
[null,null,"",null,null,null,null,{"$f":"IF(G3165=\"\",\"\",VLOOKUP(G3165,'Lista de precios'!$B$7:$C$5000,2,0))","v":""}]
[null,null,"",null,null,null,null,{"$f":"IF(G3166=\"\",\"\",VLOOKUP(G3166,'Lista de precios'!$B$7:$C$5000,2,0))","v":""}]
[null,null,"",null,null,null,null,{"$f":"IF(G3167=\"\",\"\",VLOOKUP(G3167,'Lista de precios'!$B$7:$C$5000,2,0))","v":""}]
[null,null,"",null,null,null,null,{"$f":"IF(G3168=\"\",\"\",VLOOKUP(G3168,'Lista de precios'!$B$7:$C$5000,2,0))","v":""}]
[null,null,"",null,null,null,null,{"$f":"IF(G3169=\"\",\"\",VLOOKUP(G3169,'Lista de precios'!$B$7:$C$5000,2,0))","v":""}]
[null,null,"",null,null,null,null,{"$f":"IF(G3170=\"\",\"\",VLOOKUP(G3170,'Lista de precios'!$B$7:$C$5000,2,0))","v":""}]
[null,null,"",null,null,null,null,{"$f":"IF(G3171=\"\",\"\",VLOOKUP(G3171,'Lista de precios'!$B$7:$C$5000,2,0))","v":""}]
[null,null,"",null,null,null,null,{"$f":"IF(G3172=\"\",\"\",VLOOKUP(G3172,'Lista de precios'!$B$7:$C$5000,2,0))","v":""}]
[null,null,"",null,null,null,null,{"$f":"IF(G3173=\"\",\"\",VLOOKUP(G3173,'Lista de precios'!$B$7:$C$5000,2,0))","v":""}]
[null,null,"",null,null,null,null,{"$f":"IF(G3174=\"\",\"\",VLOOKUP(G3174,'Lista de precios'!$B$7:$C$5000,2,0))","v":""}]
[null,null,"",null,null,null,null,{"$f":"IF(G3175=\"\",\"\",VLOOKUP(G3175,'Lista de precios'!$B$7:$C$5000,2,0))","v":""}]
[null,null,"",null,null,null,null,{"$f":"IF(G3176=\"\",\"\",VLOOKUP(G3176,'Lista de precios'!$B$7:$C$5000,2,0))","v":""}]
[null,null,"",null,null,null,null,{"$f":"IF(G3177=\"\",\"\",VLOOKUP(G3177,'Lista de precios'!$B$7:$C$5000,2,0))","v":""}]
[null,null,"",null,null,null,null,{"$f":"IF(G3178=\"\",\"\",VLOOKUP(G3178,'Lista de precios'!$B$7:$C$5000,2,0))","v":""}]
[null,null,"",null,null,null,null,{"$f":"IF(G3179=\"\",\"\",VLOOKUP(G3179,'Lista de precios'!$B$7:$C$5000,2,0))","v":""}]
[null,null,"",null,null,null,null,{"$f":"IF(G3180=\"\",\"\",VLOOKUP(G3180,'Lista de precios'!$B$7:$C$5000,2,0))","v":""}]
[null,null,"",null,null,null,null,{"$f":"IF(G3181=\"\",\"\",VLOOKUP(G3181,'Lista de precios'!$B$7:$C$5000,2,0))","v":""}]
[null,null,"",null,null,null,null,{"$f":"IF(G3182=\"\",\"\",VLOOKUP(G3182,'Lista de precios'!$B$7:$C$5000,2,0))","v":""}]
[null,null,"",null,null,null,null,{"$f":"IF(G3183=\"\",\"\",VLOOKUP(G3183,'Lista de precios'!$B$7:$C$5000,2,0))","v":""}]
[null,null,"",null,null,null,null,{"$f":"IF(G3184=\"\",\"\",VLOOKUP(G3184,'Lista de precios'!$B$7:$C$5000,2,0))","v":""}]
[null,null,"",null,null,null,null,{"$f":"IF(G3185=\"\",\"\",VLOOKUP(G3185,'Lista de precios'!$B$7:$C$5000,2,0))","v":""}]
[null,null,"",null,null,null,null,{"$f":"IF(G3186=\"\",\"\",VLOOKUP(G3186,'Lista de precios'!$B$7:$C$5000,2,0))","v":""}]
[null,null,"",null,null,null,null,{"$f":"IF(G3187=\"\",\"\",VLOOKUP(G3187,'Lista de precios'!$B$7:$C$5000,2,0))","v":""}]
[null,null,"",null,null,null,null,{"$f":"IF(G3188=\"\",\"\",VLOOKUP(G3188,'Lista de precios'!$B$7:$C$5000,2,0))","v":""}]
[null,null,"",null,null,null,null,{"$f":"IF(G3189=\"\",\"\",VLOOKUP(G3189,'Lista de precios'!$B$7:$C$5000,2,0))","v":""}]
[null,null,"",null,null,null,null,{"$f":"IF(G3190=\"\",\"\",VLOOKUP(G3190,'Lista de precios'!$B$7:$C$5000,2,0))","v":""}]
[null,null,"",null,null,null,null,{"$f":"IF(G3191=\"\",\"\",VLOOKUP(G3191,'Lista de precios'!$B$7:$C$5000,2,0))","v":""}]
[null,null,"",null,null,null,null,{"$f":"IF(G3192=\"\",\"\",VLOOKUP(G3192,'Lista de precios'!$B$7:$C$5000,2,0))","v":""}]
[null,null,"",null,null,null,null,{"$f":"IF(G3193=\"\",\"\",VLOOKUP(G3193,'Lista de precios'!$B$7:$C$5000,2,0))","v":""}]
[null,null,"",null,null,null,null,{"$f":"IF(G3194=\"\",\"\",VLOOKUP(G3194,'Lista de precios'!$B$7:$C$5000,2,0))","v":""}]
[null,null,"",null,null,null,null,{"$f":"IF(G3195=\"\",\"\",VLOOKUP(G3195,'Lista de precios'!$B$7:$C$5000,2,0))","v":""}]
[null,null,"",null,null,null,null,{"$f":"IF(G3196=\"\",\"\",VLOOKUP(G3196,'Lista de precios'!$B$7:$C$5000,2,0))","v":""}]
[null,null,"",null,null,null,null,{"$f":"IF(G3197=\"\",\"\",VLOOKUP(G3197,'Lista de precios'!$B$7:$C$5000,2,0))","v":""}]
[null,null,"",null,null,null,null,{"$f":"IF(G3198=\"\",\"\",VLOOKUP(G3198,'Lista de precios'!$B$7:$C$5000,2,0))","v":""}]
[null,null,"",null,null,null,null,{"$f":"IF(G3199=\"\",\"\",VLOOKUP(G3199,'Lista de precios'!$B$7:$C$5000,2,0))","v":""}]
[null,null,"",null,null,null,null,{"$f":"IF(G3200=\"\",\"\",VLOOKUP(G3200,'Lista de precios'!$B$7:$C$5000,2,0))","v":""}]
[null,null,"",null,null,null,null,{"$f":"IF(G3201=\"\",\"\",VLOOKUP(G3201,'Lista de precios'!$B$7:$C$5000,2,0))","v":""}]
[null,null,"",null,null,null,null,{"$f":"IF(G3202=\"\",\"\",VLOOKUP(G3202,'Lista de precios'!$B$7:$C$5000,2,0))","v":""}]
[null,null,"",null,null,null,null,{"$f":"IF(G3203=\"\",\"\",VLOOKUP(G3203,'Lista de precios'!$B$7:$C$5000,2,0))","v":""}]
[null,null,"",null,null,null,null,{"$f":"IF(G3204=\"\",\"\",VLOOKUP(G3204,'Lista de precios'!$B$7:$C$5000,2,0))","v":""}]
[null,null,"",null,null,null,null,{"$f":"IF(G3205=\"\",\"\",VLOOKUP(G3205,'Lista de precios'!$B$7:$C$5000,2,0))","v":""}]
[null,null,"",null,null,null,null,{"$f":"IF(G3206=\"\",\"\",VLOOKUP(G3206,'Lista de precios'!$B$7:$C$5000,2,0))","v":""}]
[null,null,"",null,null,null,null,{"$f":"IF(G3207=\"\",\"\",VLOOKUP(G3207,'Lista de precios'!$B$7:$C$5000,2,0))","v":""}]
[null,null,"",null,null,null,null,{"$f":"IF(G3208=\"\",\"\",VLOOKUP(G3208,'Lista de precios'!$B$7:$C$5000,2,0))","v":""}]
[null,null,"",null,null,null,null,{"$f":"IF(G3209=\"\",\"\",VLOOKUP(G3209,'Lista de precios'!$B$7:$C$5000,2,0))","v":""}]
[null,null,"",null,null,null,null,{"$f":"IF(G3210=\"\",\"\",VLOOKUP(G3210,'Lista de precios'!$B$7:$C$5000,2,0))","v":""}]
[null,null,"",null,null,null,null,{"$f":"IF(G3211=\"\",\"\",VLOOKUP(G3211,'Lista de precios'!$B$7:$C$5000,2,0))","v":""}]
[null,null,{"$f":"IF(B3212=\"\",\"\",TEXT(B3212,\"Mmmm\"))","v":""},null,null,null,null,{"$f":"IF(G3212=\"\",\"\",VLOOKUP(G3212,'Lista de precios'!$B$7:$C$5000,2,0))","v":""}]
[null,null,"",null,null,null,null,{"$f":"IF(G3213=\"\",\"\",VLOOKUP(G3213,'Lista de precios'!$B$7:$C$5000,2,0))","v":""}]
[null,null,"",null,null,null,null,{"$f":"IF(G3214=\"\",\"\",VLOOKUP(G3214,'Lista de precios'!$B$7:$C$5000,2,0))","v":""}]
[null,null,"",null,null,null,null,{"$f":"IF(G3215=\"\",\"\",VLOOKUP(G3215,'Lista de precios'!$B$7:$C$5000,2,0))","v":""}]
[null,null,"",null,null,null,null,{"$f":"IF(G3216=\"\",\"\",VLOOKUP(G3216,'Lista de precios'!$B$7:$C$5000,2,0))","v":""}]
[null,null,"",null,null,null,null,{"$f":"IF(G3217=\"\",\"\",VLOOKUP(G3217,'Lista de precios'!$B$7:$C$5000,2,0))","v":""}]
[null,null,"",null,null,null,null,{"$f":"IF(G3218=\"\",\"\",VLOOKUP(G3218,'Lista de precios'!$B$7:$C$5000,2,0))","v":""}]
[null,null,"",null,null,null,null,{"$f":"IF(G3219=\"\",\"\",VLOOKUP(G3219,'Lista de precios'!$B$7:$C$5000,2,0))","v":""}]
[null,null,"",null,null,null,null,{"$f":"IF(G3220=\"\",\"\",VLOOKUP(G3220,'Lista de precios'!$B$7:$C$5000,2,0))","v":""}]
[null,null,"",null,null,null,null,{"$f":"IF(G3221=\"\",\"\",VLOOKUP(G3221,'Lista de precios'!$B$7:$C$5000,2,0))","v":""}]
[null,null,"",null,null,null,null,{"$f":"IF(G3222=\"\",\"\",VLOOKUP(G3222,'Lista de precios'!$B$7:$C$5000,2,0))","v":""}]
[null,null,"",null,null,null,null,{"$f":"IF(G3223=\"\",\"\",VLOOKUP(G3223,'Lista de precios'!$B$7:$C$5000,2,0))","v":""}]
[null,null,"",null,null,null,null,{"$f":"IF(G3224=\"\",\"\",VLOOKUP(G3224,'Lista de precios'!$B$7:$C$5000,2,0))","v":""}]
[null,null,"",null,null,null,null,{"$f":"IF(G3225=\"\",\"\",VLOOKUP(G3225,'Lista de precios'!$B$7:$C$5000,2,0))","v":""}]
[null,null,"",null,null,null,null,{"$f":"IF(G3226=\"\",\"\",VLOOKUP(G3226,'Lista de precios'!$B$7:$C$5000,2,0))","v":""}]
[null,null,"",null,null,null,null,{"$f":"IF(G3227=\"\",\"\",VLOOKUP(G3227,'Lista de precios'!$B$7:$C$5000,2,0))","v":""}]
[null,null,"",null,null,null,null,{"$f":"IF(G3228=\"\",\"\",VLOOKUP(G3228,'Lista de precios'!$B$7:$C$5000,2,0))","v":""}]
[null,null,"",null,null,null,null,{"$f":"IF(G3229=\"\",\"\",VLOOKUP(G3229,'Lista de precios'!$B$7:$C$5000,2,0))","v":""}]
[null,null,"",null,null,null,null,{"$f":"IF(G3230=\"\",\"\",VLOOKUP(G3230,'Lista de precios'!$B$7:$C$5000,2,0))","v":""}]
[null,null,"",null,null,null,null,{"$f":"IF(G3231=\"\",\"\",VLOOKUP(G3231,'Lista de precios'!$B$7:$C$5000,2,0))","v":""}]
[null,null,"",null,null,null,null,{"$f":"IF(G3232=\"\",\"\",VLOOKUP(G3232,'Lista de precios'!$B$7:$C$5000,2,0))","v":""}]
[null,null,"",null,null,null,null,{"$f":"IF(G3233=\"\",\"\",VLOOKUP(G3233,'Lista de precios'!$B$7:$C$5000,2,0))","v":""}]
[null,null,"",null,null,null,null,{"$f":"IF(G3234=\"\",\"\",VLOOKUP(G3234,'Lista de precios'!$B$7:$C$5000,2,0))","v":""}]
[null,null,"",null,null,null,null,{"$f":"IF(G3235=\"\",\"\",VLOOKUP(G3235,'Lista de precios'!$B$7:$C$5000,2,0))","v":""}]
[null,null,"",null,null,null,null,{"$f":"IF(G3236=\"\",\"\",VLOOKUP(G3236,'Lista de precios'!$B$7:$C$5000,2,0))","v":""}]
[null,null,"",null,null,null,null,{"$f":"IF(G3237=\"\",\"\",VLOOKUP(G3237,'Lista de precios'!$B$7:$C$5000,2,0))","v":""}]
[null,null,"",null,null,null,null,{"$f":"IF(G3238=\"\",\"\",VLOOKUP(G3238,'Lista de precios'!$B$7:$C$5000,2,0))","v":""}]
[null,null,"",null,null,null,null,{"$f":"IF(G3239=\"\",\"\",VLOOKUP(G3239,'Lista de precios'!$B$7:$C$5000,2,0))","v":""}]
[null,null,"",null,null,null,null,{"$f":"IF(G3240=\"\",\"\",VLOOKUP(G3240,'Lista de precios'!$B$7:$C$5000,2,0))","v":""}]
[null,null,"",null,null,null,null,{"$f":"IF(G3241=\"\",\"\",VLOOKUP(G3241,'Lista de precios'!$B$7:$C$5000,2,0))","v":""}]
[null,null,"",null,null,null,null,{"$f":"IF(G3242=\"\",\"\",VLOOKUP(G3242,'Lista de precios'!$B$7:$C$5000,2,0))","v":""}]
[null,null,"",null,null,null,null,{"$f":"IF(G3243=\"\",\"\",VLOOKUP(G3243,'Lista de precios'!$B$7:$C$5000,2,0))","v":""}]
[null,null,"",null,null,null,null,{"$f":"IF(G3244=\"\",\"\",VLOOKUP(G3244,'Lista de precios'!$B$7:$C$5000,2,0))","v":""}]
[null,null,"",null,null,null,null,{"$f":"IF(G3245=\"\",\"\",VLOOKUP(G3245,'Lista de precios'!$B$7:$C$5000,2,0))","v":""}]
[null,null,"",null,null,null,null,{"$f":"IF(G3246=\"\",\"\",VLOOKUP(G3246,'Lista de precios'!$B$7:$C$5000,2,0))","v":""}]
[null,null,"",null,null,null,null,{"$f":"IF(G3247=\"\",\"\",VLOOKUP(G3247,'Lista de precios'!$B$7:$C$5000,2,0))","v":""}]
[null,null,"",null,null,null,null,{"$f":"IF(G3248=\"\",\"\",VLOOKUP(G3248,'Lista de precios'!$B$7:$C$5000,2,0))","v":""}]
[null,null,"",null,null,null,null,{"$f":"IF(G3249=\"\",\"\",VLOOKUP(G3249,'Lista de precios'!$B$7:$C$5000,2,0))","v":""}]
[null,null,"",null,null,null,null,{"$f":"IF(G3250=\"\",\"\",VLOOKUP(G3250,'Lista de precios'!$B$7:$C$5000,2,0))","v":""}]
[null,null,"",null,null,null,null,{"$f":"IF(G3251=\"\",\"\",VLOOKUP(G3251,'Lista de precios'!$B$7:$C$5000,2,0))","v":""}]
[null,null,"",null,null,null,null,{"$f":"IF(G3252=\"\",\"\",VLOOKUP(G3252,'Lista de precios'!$B$7:$C$5000,2,0))","v":""}]
[null,null,"",null,null,null,null,{"$f":"IF(G3253=\"\",\"\",VLOOKUP(G3253,'Lista de precios'!$B$7:$C$5000,2,0))","v":""}]
[null,null,"",null,null,null,null,{"$f":"IF(G3254=\"\",\"\",VLOOKUP(G3254,'Lista de precios'!$B$7:$C$5000,2,0))","v":""}]
[null,null,"",null,null,null,null,{"$f":"IF(G3255=\"\",\"\",VLOOKUP(G3255,'Lista de precios'!$B$7:$C$5000,2,0))","v":""}]
[null,null,"",null,null,null,null,{"$f":"IF(G3256=\"\",\"\",VLOOKUP(G3256,'Lista de precios'!$B$7:$C$5000,2,0))","v":""}]
[null,null,"",null,null,null,null,{"$f":"IF(G3257=\"\",\"\",VLOOKUP(G3257,'Lista de precios'!$B$7:$C$5000,2,0))","v":""}]
[null,null,"",null,null,null,null,{"$f":"IF(G3258=\"\",\"\",VLOOKUP(G3258,'Lista de precios'!$B$7:$C$5000,2,0))","v":""}]
[null,null,"",null,null,null,null,{"$f":"IF(G3259=\"\",\"\",VLOOKUP(G3259,'Lista de precios'!$B$7:$C$5000,2,0))","v":""}]
[null,null,"",null,null,null,null,{"$f":"IF(G3260=\"\",\"\",VLOOKUP(G3260,'Lista de precios'!$B$7:$C$5000,2,0))","v":""}]
[null,null,"",null,null,null,null,{"$f":"IF(G3261=\"\",\"\",VLOOKUP(G3261,'Lista de precios'!$B$7:$C$5000,2,0))","v":""}]
[null,null,"",null,null,null,null,{"$f":"IF(G3262=\"\",\"\",VLOOKUP(G3262,'Lista de precios'!$B$7:$C$5000,2,0))","v":""}]
[null,null,"",null,null,null,null,{"$f":"IF(G3263=\"\",\"\",VLOOKUP(G3263,'Lista de precios'!$B$7:$C$5000,2,0))","v":""}]
[null,null,"",null,null,null,null,{"$f":"IF(G3264=\"\",\"\",VLOOKUP(G3264,'Lista de precios'!$B$7:$C$5000,2,0))","v":""}]
[null,null,"",null,null,null,null,{"$f":"IF(G3265=\"\",\"\",VLOOKUP(G3265,'Lista de precios'!$B$7:$C$5000,2,0))","v":""}]
[null,null,"",null,null,null,null,{"$f":"IF(G3266=\"\",\"\",VLOOKUP(G3266,'Lista de precios'!$B$7:$C$5000,2,0))","v":""}]
[null,null,"",null,null,null,null,{"$f":"IF(G3267=\"\",\"\",VLOOKUP(G3267,'Lista de precios'!$B$7:$C$5000,2,0))","v":""}]
[null,null,"",null,null,null,null,{"$f":"IF(G3268=\"\",\"\",VLOOKUP(G3268,'Lista de precios'!$B$7:$C$5000,2,0))","v":""}]
[null,null,"",null,null,null,null,{"$f":"IF(G3269=\"\",\"\",VLOOKUP(G3269,'Lista de precios'!$B$7:$C$5000,2,0))","v":""}]
[null,null,"",null,null,null,null,{"$f":"IF(G3270=\"\",\"\",VLOOKUP(G3270,'Lista de precios'!$B$7:$C$5000,2,0))","v":""}]
[null,null,"",null,null,null,null,{"$f":"IF(G3271=\"\",\"\",VLOOKUP(G3271,'Lista de precios'!$B$7:$C$5000,2,0))","v":""}]
[null,null,"",null,null,null,null,{"$f":"IF(G3272=\"\",\"\",VLOOKUP(G3272,'Lista de precios'!$B$7:$C$5000,2,0))","v":""}]
[null,null,"",null,null,null,null,{"$f":"IF(G3273=\"\",\"\",VLOOKUP(G3273,'Lista de precios'!$B$7:$C$5000,2,0))","v":""}]
[null,null,"",null,null,null,null,{"$f":"IF(G3274=\"\",\"\",VLOOKUP(G3274,'Lista de precios'!$B$7:$C$5000,2,0))","v":""}]
[null,null,"",null,null,null,null,{"$f":"IF(G3275=\"\",\"\",VLOOKUP(G3275,'Lista de precios'!$B$7:$C$5000,2,0))","v":""}]
[null,null,{"$f":"IF(B3276=\"\",\"\",TEXT(B3276,\"Mmmm\"))","v":""},null,null,null,null,{"$f":"IF(G3276=\"\",\"\",VLOOKUP(G3276,'Lista de precios'!$B$7:$C$5000,2,0))","v":""}]
[null,null,"",null,null,null,null,{"$f":"IF(G3277=\"\",\"\",VLOOKUP(G3277,'Lista de precios'!$B$7:$C$5000,2,0))","v":""}]
[null,null,"",null,null,null,null,{"$f":"IF(G3278=\"\",\"\",VLOOKUP(G3278,'Lista de precios'!$B$7:$C$5000,2,0))","v":""}]
[null,null,"",null,null,null,null,{"$f":"IF(G3279=\"\",\"\",VLOOKUP(G3279,'Lista de precios'!$B$7:$C$5000,2,0))","v":""}]
[null,null,"",null,null,null,null,{"$f":"IF(G3280=\"\",\"\",VLOOKUP(G3280,'Lista de precios'!$B$7:$C$5000,2,0))","v":""}]
[null,null,"",null,null,null,null,{"$f":"IF(G3281=\"\",\"\",VLOOKUP(G3281,'Lista de precios'!$B$7:$C$5000,2,0))","v":""}]
[null,null,"",null,null,null,null,{"$f":"IF(G3282=\"\",\"\",VLOOKUP(G3282,'Lista de precios'!$B$7:$C$5000,2,0))","v":""}]
[null,null,"",null,null,null,null,{"$f":"IF(G3283=\"\",\"\",VLOOKUP(G3283,'Lista de precios'!$B$7:$C$5000,2,0))","v":""}]
[null,null,"",null,null,null,null,{"$f":"IF(G3284=\"\",\"\",VLOOKUP(G3284,'Lista de precios'!$B$7:$C$5000,2,0))","v":""}]
[null,null,"",null,null,null,null,{"$f":"IF(G3285=\"\",\"\",VLOOKUP(G3285,'Lista de precios'!$B$7:$C$5000,2,0))","v":""}]
[null,null,"",null,null,null,null,{"$f":"IF(G3286=\"\",\"\",VLOOKUP(G3286,'Lista de precios'!$B$7:$C$5000,2,0))","v":""}]
[null,null,"",null,null,null,null,{"$f":"IF(G3287=\"\",\"\",VLOOKUP(G3287,'Lista de precios'!$B$7:$C$5000,2,0))","v":""}]
[null,null,"",null,null,null,null,{"$f":"IF(G3288=\"\",\"\",VLOOKUP(G3288,'Lista de precios'!$B$7:$C$5000,2,0))","v":""}]
[null,null,"",null,null,null,null,{"$f":"IF(G3289=\"\",\"\",VLOOKUP(G3289,'Lista de precios'!$B$7:$C$5000,2,0))","v":""}]
[null,null,"",null,null,null,null,{"$f":"IF(G3290=\"\",\"\",VLOOKUP(G3290,'Lista de precios'!$B$7:$C$5000,2,0))","v":""}]
[null,null,"",null,null,null,null,{"$f":"IF(G3291=\"\",\"\",VLOOKUP(G3291,'Lista de precios'!$B$7:$C$5000,2,0))","v":""}]
[null,null,"",null,null,null,null,{"$f":"IF(G3292=\"\",\"\",VLOOKUP(G3292,'Lista de precios'!$B$7:$C$5000,2,0))","v":""}]
[null,null,"",null,null,null,null,{"$f":"IF(G3293=\"\",\"\",VLOOKUP(G3293,'Lista de precios'!$B$7:$C$5000,2,0))","v":""}]
[null,null,"",null,null,null,null,{"$f":"IF(G3294=\"\",\"\",VLOOKUP(G3294,'Lista de precios'!$B$7:$C$5000,2,0))","v":""}]
[null,null,"",null,null,null,null,{"$f":"IF(G3295=\"\",\"\",VLOOKUP(G3295,'Lista de precios'!$B$7:$C$5000,2,0))","v":""}]
[null,null,"",null,null,null,null,{"$f":"IF(G3296=\"\",\"\",VLOOKUP(G3296,'Lista de precios'!$B$7:$C$5000,2,0))","v":""}]
[null,null,"",null,null,null,null,{"$f":"IF(G3297=\"\",\"\",VLOOKUP(G3297,'Lista de precios'!$B$7:$C$5000,2,0))","v":""}]
[null,null,"",null,null,null,null,{"$f":"IF(G3298=\"\",\"\",VLOOKUP(G3298,'Lista de precios'!$B$7:$C$5000,2,0))","v":""}]
[null,null,"",null,null,null,null,{"$f":"IF(G3299=\"\",\"\",VLOOKUP(G3299,'Lista de precios'!$B$7:$C$5000,2,0))","v":""}]
[null,null,"",null,null,null,null,{"$f":"IF(G3300=\"\",\"\",VLOOKUP(G3300,'Lista de precios'!$B$7:$C$5000,2,0))","v":""}]
[null,null,"",null,null,null,null,{"$f":"IF(G3301=\"\",\"\",VLOOKUP(G3301,'Lista de precios'!$B$7:$C$5000,2,0))","v":""}]
[null,null,"",null,null,null,null,{"$f":"IF(G3302=\"\",\"\",VLOOKUP(G3302,'Lista de precios'!$B$7:$C$5000,2,0))","v":""}]
[null,null,"",null,null,null,null,{"$f":"IF(G3303=\"\",\"\",VLOOKUP(G3303,'Lista de precios'!$B$7:$C$5000,2,0))","v":""}]
[null,null,"",null,null,null,null,{"$f":"IF(G3304=\"\",\"\",VLOOKUP(G3304,'Lista de precios'!$B$7:$C$5000,2,0))","v":""}]
[null,null,"",null,null,null,null,{"$f":"IF(G3305=\"\",\"\",VLOOKUP(G3305,'Lista de precios'!$B$7:$C$5000,2,0))","v":""}]
[null,null,"",null,null,null,null,{"$f":"IF(G3306=\"\",\"\",VLOOKUP(G3306,'Lista de precios'!$B$7:$C$5000,2,0))","v":""}]
[null,null,"",null,null,null,null,{"$f":"IF(G3307=\"\",\"\",VLOOKUP(G3307,'Lista de precios'!$B$7:$C$5000,2,0))","v":""}]
[null,null,"",null,null,null,null,{"$f":"IF(G3308=\"\",\"\",VLOOKUP(G3308,'Lista de precios'!$B$7:$C$5000,2,0))","v":""}]
[null,null,"",null,null,null,null,{"$f":"IF(G3309=\"\",\"\",VLOOKUP(G3309,'Lista de precios'!$B$7:$C$5000,2,0))","v":""}]
[null,null,"",null,null,null,null,{"$f":"IF(G3310=\"\",\"\",VLOOKUP(G3310,'Lista de precios'!$B$7:$C$5000,2,0))","v":""}]
[null,null,"",null,null,null,null,{"$f":"IF(G3311=\"\",\"\",VLOOKUP(G3311,'Lista de precios'!$B$7:$C$5000,2,0))","v":""}]
[null,null,"",null,null,null,null,{"$f":"IF(G3312=\"\",\"\",VLOOKUP(G3312,'Lista de precios'!$B$7:$C$5000,2,0))","v":""}]
[null,null,"",null,null,null,null,{"$f":"IF(G3313=\"\",\"\",VLOOKUP(G3313,'Lista de precios'!$B$7:$C$5000,2,0))","v":""}]
[null,null,"",null,null,null,null,{"$f":"IF(G3314=\"\",\"\",VLOOKUP(G3314,'Lista de precios'!$B$7:$C$5000,2,0))","v":""}]
[null,null,"",null,null,null,null,{"$f":"IF(G3315=\"\",\"\",VLOOKUP(G3315,'Lista de precios'!$B$7:$C$5000,2,0))","v":""}]
[null,null,"",null,null,null,null,{"$f":"IF(G3316=\"\",\"\",VLOOKUP(G3316,'Lista de precios'!$B$7:$C$5000,2,0))","v":""}]
[null,null,"",null,null,null,null,{"$f":"IF(G3317=\"\",\"\",VLOOKUP(G3317,'Lista de precios'!$B$7:$C$5000,2,0))","v":""}]
[null,null,"",null,null,null,null,{"$f":"IF(G3318=\"\",\"\",VLOOKUP(G3318,'Lista de precios'!$B$7:$C$5000,2,0))","v":""}]
[null,null,"",null,null,null,null,{"$f":"IF(G3319=\"\",\"\",VLOOKUP(G3319,'Lista de precios'!$B$7:$C$5000,2,0))","v":""}]
[null,null,"",null,null,null,null,{"$f":"IF(G3320=\"\",\"\",VLOOKUP(G3320,'Lista de precios'!$B$7:$C$5000,2,0))","v":""}]
[null,null,"",null,null,null,null,{"$f":"IF(G3321=\"\",\"\",VLOOKUP(G3321,'Lista de precios'!$B$7:$C$5000,2,0))","v":""}]
[null,null,"",null,null,null,null,{"$f":"IF(G3322=\"\",\"\",VLOOKUP(G3322,'Lista de precios'!$B$7:$C$5000,2,0))","v":""}]
[null,null,"",null,null,null,null,{"$f":"IF(G3323=\"\",\"\",VLOOKUP(G3323,'Lista de precios'!$B$7:$C$5000,2,0))","v":""}]
[null,null,"",null,null,null,null,{"$f":"IF(G3324=\"\",\"\",VLOOKUP(G3324,'Lista de precios'!$B$7:$C$5000,2,0))","v":""}]
[null,null,"",null,null,null,null,{"$f":"IF(G3325=\"\",\"\",VLOOKUP(G3325,'Lista de precios'!$B$7:$C$5000,2,0))","v":""}]
[null,null,"",null,null,null,null,{"$f":"IF(G3326=\"\",\"\",VLOOKUP(G3326,'Lista de precios'!$B$7:$C$5000,2,0))","v":""}]
[null,null,"",null,null,null,null,{"$f":"IF(G3327=\"\",\"\",VLOOKUP(G3327,'Lista de precios'!$B$7:$C$5000,2,0))","v":""}]
[null,null,"",null,null,null,null,{"$f":"IF(G3328=\"\",\"\",VLOOKUP(G3328,'Lista de precios'!$B$7:$C$5000,2,0))","v":""}]
[null,null,"",null,null,null,null,{"$f":"IF(G3329=\"\",\"\",VLOOKUP(G3329,'Lista de precios'!$B$7:$C$5000,2,0))","v":""}]
[null,null,"",null,null,null,null,{"$f":"IF(G3330=\"\",\"\",VLOOKUP(G3330,'Lista de precios'!$B$7:$C$5000,2,0))","v":""}]
[null,null,"",null,null,null,null,{"$f":"IF(G3331=\"\",\"\",VLOOKUP(G3331,'Lista de precios'!$B$7:$C$5000,2,0))","v":""}]
[null,null,"",null,null,null,null,{"$f":"IF(G3332=\"\",\"\",VLOOKUP(G3332,'Lista de precios'!$B$7:$C$5000,2,0))","v":""}]
[null,null,"",null,null,null,null,{"$f":"IF(G3333=\"\",\"\",VLOOKUP(G3333,'Lista de precios'!$B$7:$C$5000,2,0))","v":""}]
[null,null,"",null,null,null,null,{"$f":"IF(G3334=\"\",\"\",VLOOKUP(G3334,'Lista de precios'!$B$7:$C$5000,2,0))","v":""}]
[null,null,"",null,null,null,null,{"$f":"IF(G3335=\"\",\"\",VLOOKUP(G3335,'Lista de precios'!$B$7:$C$5000,2,0))","v":""}]
[null,null,"",null,null,null,null,{"$f":"IF(G3336=\"\",\"\",VLOOKUP(G3336,'Lista de precios'!$B$7:$C$5000,2,0))","v":""}]
[null,null,"",null,null,null,null,{"$f":"IF(G3337=\"\",\"\",VLOOKUP(G3337,'Lista de precios'!$B$7:$C$5000,2,0))","v":""}]
[null,null,"",null,null,null,null,{"$f":"IF(G3338=\"\",\"\",VLOOKUP(G3338,'Lista de precios'!$B$7:$C$5000,2,0))","v":""}]
[null,null,"",null,null,null,null,{"$f":"IF(G3339=\"\",\"\",VLOOKUP(G3339,'Lista de precios'!$B$7:$C$5000,2,0))","v":""}]
[null,null,{"$f":"IF(B3340=\"\",\"\",TEXT(B3340,\"Mmmm\"))","v":""},null,null,null,null,{"$f":"IF(G3340=\"\",\"\",VLOOKUP(G3340,'Lista de precios'!$B$7:$C$5000,2,0))","v":""}]
[null,null,"",null,null,null,null,{"$f":"IF(G3341=\"\",\"\",VLOOKUP(G3341,'Lista de precios'!$B$7:$C$5000,2,0))","v":""}]
[null,null,"",null,null,null,null,{"$f":"IF(G3342=\"\",\"\",VLOOKUP(G3342,'Lista de precios'!$B$7:$C$5000,2,0))","v":""}]
[null,null,"",null,null,null,null,{"$f":"IF(G3343=\"\",\"\",VLOOKUP(G3343,'Lista de precios'!$B$7:$C$5000,2,0))","v":""}]
[null,null,"",null,null,null,null,{"$f":"IF(G3344=\"\",\"\",VLOOKUP(G3344,'Lista de precios'!$B$7:$C$5000,2,0))","v":""}]
[null,null,"",null,null,null,null,{"$f":"IF(G3345=\"\",\"\",VLOOKUP(G3345,'Lista de precios'!$B$7:$C$5000,2,0))","v":""}]
[null,null,"",null,null,null,null,{"$f":"IF(G3346=\"\",\"\",VLOOKUP(G3346,'Lista de precios'!$B$7:$C$5000,2,0))","v":""}]
[null,null,"",null,null,null,null,{"$f":"IF(G3347=\"\",\"\",VLOOKUP(G3347,'Lista de precios'!$B$7:$C$5000,2,0))","v":""}]
[null,null,"",null,null,null,null,{"$f":"IF(G3348=\"\",\"\",VLOOKUP(G3348,'Lista de precios'!$B$7:$C$5000,2,0))","v":""}]
[null,null,"",null,null,null,null,{"$f":"IF(G3349=\"\",\"\",VLOOKUP(G3349,'Lista de precios'!$B$7:$C$5000,2,0))","v":""}]
[null,null,"",null,null,null,null,{"$f":"IF(G3350=\"\",\"\",VLOOKUP(G3350,'Lista de precios'!$B$7:$C$5000,2,0))","v":""}]
[null,null,"",null,null,null,null,{"$f":"IF(G3351=\"\",\"\",VLOOKUP(G3351,'Lista de precios'!$B$7:$C$5000,2,0))","v":""}]
[null,null,"",null,null,null,null,{"$f":"IF(G3352=\"\",\"\",VLOOKUP(G3352,'Lista de precios'!$B$7:$C$5000,2,0))","v":""}]
[null,null,"",null,null,null,null,{"$f":"IF(G3353=\"\",\"\",VLOOKUP(G3353,'Lista de precios'!$B$7:$C$5000,2,0))","v":""}]
[null,null,"",null,null,null,null,{"$f":"IF(G3354=\"\",\"\",VLOOKUP(G3354,'Lista de precios'!$B$7:$C$5000,2,0))","v":""}]
[null,null,"",null,null,null,null,{"$f":"IF(G3355=\"\",\"\",VLOOKUP(G3355,'Lista de precios'!$B$7:$C$5000,2,0))","v":""}]
[null,null,"",null,null,null,null,{"$f":"IF(G3356=\"\",\"\",VLOOKUP(G3356,'Lista de precios'!$B$7:$C$5000,2,0))","v":""}]
[null,null,"",null,null,null,null,{"$f":"IF(G3357=\"\",\"\",VLOOKUP(G3357,'Lista de precios'!$B$7:$C$5000,2,0))","v":""}]
[null,null,"",null,null,null,null,{"$f":"IF(G3358=\"\",\"\",VLOOKUP(G3358,'Lista de precios'!$B$7:$C$5000,2,0))","v":""}]
[null,null,"",null,null,null,null,{"$f":"IF(G3359=\"\",\"\",VLOOKUP(G3359,'Lista de precios'!$B$7:$C$5000,2,0))","v":""}]
[null,null,"",null,null,null,null,{"$f":"IF(G3360=\"\",\"\",VLOOKUP(G3360,'Lista de precios'!$B$7:$C$5000,2,0))","v":""}]
[null,null,"",null,null,null,null,{"$f":"IF(G3361=\"\",\"\",VLOOKUP(G3361,'Lista de precios'!$B$7:$C$5000,2,0))","v":""}]
[null,null,"",null,null,null,null,{"$f":"IF(G3362=\"\",\"\",VLOOKUP(G3362,'Lista de precios'!$B$7:$C$5000,2,0))","v":""}]
[null,null,"",null,null,null,null,{"$f":"IF(G3363=\"\",\"\",VLOOKUP(G3363,'Lista de precios'!$B$7:$C$5000,2,0))","v":""}]
[null,null,"",null,null,null,null,{"$f":"IF(G3364=\"\",\"\",VLOOKUP(G3364,'Lista de precios'!$B$7:$C$5000,2,0))","v":""}]
[null,null,"",null,null,null,null,{"$f":"IF(G3365=\"\",\"\",VLOOKUP(G3365,'Lista de precios'!$B$7:$C$5000,2,0))","v":""}]
[null,null,"",null,null,null,null,{"$f":"IF(G3366=\"\",\"\",VLOOKUP(G3366,'Lista de precios'!$B$7:$C$5000,2,0))","v":""}]
[null,null,"",null,null,null,null,{"$f":"IF(G3367=\"\",\"\",VLOOKUP(G3367,'Lista de precios'!$B$7:$C$5000,2,0))","v":""}]
[null,null,"",null,null,null,null,{"$f":"IF(G3368=\"\",\"\",VLOOKUP(G3368,'Lista de precios'!$B$7:$C$5000,2,0))","v":""}]
[null,null,"",null,null,null,null,{"$f":"IF(G3369=\"\",\"\",VLOOKUP(G3369,'Lista de precios'!$B$7:$C$5000,2,0))","v":""}]
[null,null,"",null,null,null,null,{"$f":"IF(G3370=\"\",\"\",VLOOKUP(G3370,'Lista de precios'!$B$7:$C$5000,2,0))","v":""}]
[null,null,"",null,null,null,null,{"$f":"IF(G3371=\"\",\"\",VLOOKUP(G3371,'Lista de precios'!$B$7:$C$5000,2,0))","v":""}]
[null,null,"",null,null,null,null,{"$f":"IF(G3372=\"\",\"\",VLOOKUP(G3372,'Lista de precios'!$B$7:$C$5000,2,0))","v":""}]
[null,null,"",null,null,null,null,{"$f":"IF(G3373=\"\",\"\",VLOOKUP(G3373,'Lista de precios'!$B$7:$C$5000,2,0))","v":""}]
[null,null,"",null,null,null,null,{"$f":"IF(G3374=\"\",\"\",VLOOKUP(G3374,'Lista de precios'!$B$7:$C$5000,2,0))","v":""}]
[null,null,"",null,null,null,null,{"$f":"IF(G3375=\"\",\"\",VLOOKUP(G3375,'Lista de precios'!$B$7:$C$5000,2,0))","v":""}]
[null,null,"",null,null,null,null,{"$f":"IF(G3376=\"\",\"\",VLOOKUP(G3376,'Lista de precios'!$B$7:$C$5000,2,0))","v":""}]
[null,null,"",null,null,null,null,{"$f":"IF(G3377=\"\",\"\",VLOOKUP(G3377,'Lista de precios'!$B$7:$C$5000,2,0))","v":""}]
[null,null,"",null,null,null,null,{"$f":"IF(G3378=\"\",\"\",VLOOKUP(G3378,'Lista de precios'!$B$7:$C$5000,2,0))","v":""}]
[null,null,"",null,null,null,null,{"$f":"IF(G3379=\"\",\"\",VLOOKUP(G3379,'Lista de precios'!$B$7:$C$5000,2,0))","v":""}]
[null,null,"",null,null,null,null,{"$f":"IF(G3380=\"\",\"\",VLOOKUP(G3380,'Lista de precios'!$B$7:$C$5000,2,0))","v":""}]
[null,null,"",null,null,null,null,{"$f":"IF(G3381=\"\",\"\",VLOOKUP(G3381,'Lista de precios'!$B$7:$C$5000,2,0))","v":""}]
[null,null,"",null,null,null,null,{"$f":"IF(G3382=\"\",\"\",VLOOKUP(G3382,'Lista de precios'!$B$7:$C$5000,2,0))","v":""}]
[null,null,"",null,null,null,null,{"$f":"IF(G3383=\"\",\"\",VLOOKUP(G3383,'Lista de precios'!$B$7:$C$5000,2,0))","v":""}]
[null,null,"",null,null,null,null,{"$f":"IF(G3384=\"\",\"\",VLOOKUP(G3384,'Lista de precios'!$B$7:$C$5000,2,0))","v":""}]
[null,null,"",null,null,null,null,{"$f":"IF(G3385=\"\",\"\",VLOOKUP(G3385,'Lista de precios'!$B$7:$C$5000,2,0))","v":""}]
[null,null,"",null,null,null,null,{"$f":"IF(G3386=\"\",\"\",VLOOKUP(G3386,'Lista de precios'!$B$7:$C$5000,2,0))","v":""}]
[null,null,"",null,null,null,null,{"$f":"IF(G3387=\"\",\"\",VLOOKUP(G3387,'Lista de precios'!$B$7:$C$5000,2,0))","v":""}]
[null,null,"",null,null,null,null,{"$f":"IF(G3388=\"\",\"\",VLOOKUP(G3388,'Lista de precios'!$B$7:$C$5000,2,0))","v":""}]
[null,null,"",null,null,null,null,{"$f":"IF(G3389=\"\",\"\",VLOOKUP(G3389,'Lista de precios'!$B$7:$C$5000,2,0))","v":""}]
[null,null,"",null,null,null,null,{"$f":"IF(G3390=\"\",\"\",VLOOKUP(G3390,'Lista de precios'!$B$7:$C$5000,2,0))","v":""}]
[null,null,"",null,null,null,null,{"$f":"IF(G3391=\"\",\"\",VLOOKUP(G3391,'Lista de precios'!$B$7:$C$5000,2,0))","v":""}]
[null,null,"",null,null,null,null,{"$f":"IF(G3392=\"\",\"\",VLOOKUP(G3392,'Lista de precios'!$B$7:$C$5000,2,0))","v":""}]
[null,null,"",null,null,null,null,{"$f":"IF(G3393=\"\",\"\",VLOOKUP(G3393,'Lista de precios'!$B$7:$C$5000,2,0))","v":""}]
[null,null,"",null,null,null,null,{"$f":"IF(G3394=\"\",\"\",VLOOKUP(G3394,'Lista de precios'!$B$7:$C$5000,2,0))","v":""}]
[null,null,"",null,null,null,null,{"$f":"IF(G3395=\"\",\"\",VLOOKUP(G3395,'Lista de precios'!$B$7:$C$5000,2,0))","v":""}]
[null,null,"",null,null,null,null,{"$f":"IF(G3396=\"\",\"\",VLOOKUP(G3396,'Lista de precios'!$B$7:$C$5000,2,0))","v":""}]
[null,null,"",null,null,null,null,{"$f":"IF(G3397=\"\",\"\",VLOOKUP(G3397,'Lista de precios'!$B$7:$C$5000,2,0))","v":""}]
[null,null,"",null,null,null,null,{"$f":"IF(G3398=\"\",\"\",VLOOKUP(G3398,'Lista de precios'!$B$7:$C$5000,2,0))","v":""}]
[null,null,"",null,null,null,null,{"$f":"IF(G3399=\"\",\"\",VLOOKUP(G3399,'Lista de precios'!$B$7:$C$5000,2,0))","v":""}]
[null,null,"",null,null,null,null,{"$f":"IF(G3400=\"\",\"\",VLOOKUP(G3400,'Lista de precios'!$B$7:$C$5000,2,0))","v":""}]
[null,null,"",null,null,null,null,{"$f":"IF(G3401=\"\",\"\",VLOOKUP(G3401,'Lista de precios'!$B$7:$C$5000,2,0))","v":""}]
[null,null,"",null,null,null,null,{"$f":"IF(G3402=\"\",\"\",VLOOKUP(G3402,'Lista de precios'!$B$7:$C$5000,2,0))","v":""}]
[null,null,"",null,null,null,null,{"$f":"IF(G3403=\"\",\"\",VLOOKUP(G3403,'Lista de precios'!$B$7:$C$5000,2,0))","v":""}]
[null,null,{"$f":"IF(B3404=\"\",\"\",TEXT(B3404,\"Mmmm\"))","v":""},null,null,null,null,{"$f":"IF(G3404=\"\",\"\",VLOOKUP(G3404,'Lista de precios'!$B$7:$C$5000,2,0))","v":""}]
[null,null,"",null,null,null,null,{"$f":"IF(G3405=\"\",\"\",VLOOKUP(G3405,'Lista de precios'!$B$7:$C$5000,2,0))","v":""}]
[null,null,"",null,null,null,null,{"$f":"IF(G3406=\"\",\"\",VLOOKUP(G3406,'Lista de precios'!$B$7:$C$5000,2,0))","v":""}]
[null,null,"",null,null,null,null,{"$f":"IF(G3407=\"\",\"\",VLOOKUP(G3407,'Lista de precios'!$B$7:$C$5000,2,0))","v":""}]
[null,null,"",null,null,null,null,{"$f":"IF(G3408=\"\",\"\",VLOOKUP(G3408,'Lista de precios'!$B$7:$C$5000,2,0))","v":""}]
[null,null,"",null,null,null,null,{"$f":"IF(G3409=\"\",\"\",VLOOKUP(G3409,'Lista de precios'!$B$7:$C$5000,2,0))","v":""}]
[null,null,"",null,null,null,null,{"$f":"IF(G3410=\"\",\"\",VLOOKUP(G3410,'Lista de precios'!$B$7:$C$5000,2,0))","v":""}]
[null,null,"",null,null,null,null,{"$f":"IF(G3411=\"\",\"\",VLOOKUP(G3411,'Lista de precios'!$B$7:$C$5000,2,0))","v":""}]
[null,null,"",null,null,null,null,{"$f":"IF(G3412=\"\",\"\",VLOOKUP(G3412,'Lista de precios'!$B$7:$C$5000,2,0))","v":""}]
[null,null,"",null,null,null,null,{"$f":"IF(G3413=\"\",\"\",VLOOKUP(G3413,'Lista de precios'!$B$7:$C$5000,2,0))","v":""}]
[null,null,"",null,null,null,null,{"$f":"IF(G3414=\"\",\"\",VLOOKUP(G3414,'Lista de precios'!$B$7:$C$5000,2,0))","v":""}]
[null,null,"",null,null,null,null,{"$f":"IF(G3415=\"\",\"\",VLOOKUP(G3415,'Lista de precios'!$B$7:$C$5000,2,0))","v":""}]
[null,null,"",null,null,null,null,{"$f":"IF(G3416=\"\",\"\",VLOOKUP(G3416,'Lista de precios'!$B$7:$C$5000,2,0))","v":""}]
[null,null,"",null,null,null,null,{"$f":"IF(G3417=\"\",\"\",VLOOKUP(G3417,'Lista de precios'!$B$7:$C$5000,2,0))","v":""}]
[null,null,"",null,null,null,null,{"$f":"IF(G3418=\"\",\"\",VLOOKUP(G3418,'Lista de precios'!$B$7:$C$5000,2,0))","v":""}]
[null,null,"",null,null,null,null,{"$f":"IF(G3419=\"\",\"\",VLOOKUP(G3419,'Lista de precios'!$B$7:$C$5000,2,0))","v":""}]
[null,null,"",null,null,null,null,{"$f":"IF(G3420=\"\",\"\",VLOOKUP(G3420,'Lista de precios'!$B$7:$C$5000,2,0))","v":""}]
[null,null,"",null,null,null,null,{"$f":"IF(G3421=\"\",\"\",VLOOKUP(G3421,'Lista de precios'!$B$7:$C$5000,2,0))","v":""}]
[null,null,"",null,null,null,null,{"$f":"IF(G3422=\"\",\"\",VLOOKUP(G3422,'Lista de precios'!$B$7:$C$5000,2,0))","v":""}]
[null,null,"",null,null,null,null,{"$f":"IF(G3423=\"\",\"\",VLOOKUP(G3423,'Lista de precios'!$B$7:$C$5000,2,0))","v":""}]
[null,null,"",null,null,null,null,{"$f":"IF(G3424=\"\",\"\",VLOOKUP(G3424,'Lista de precios'!$B$7:$C$5000,2,0))","v":""}]
[null,null,"",null,null,null,null,{"$f":"IF(G3425=\"\",\"\",VLOOKUP(G3425,'Lista de precios'!$B$7:$C$5000,2,0))","v":""}]
[null,null,"",null,null,null,null,{"$f":"IF(G3426=\"\",\"\",VLOOKUP(G3426,'Lista de precios'!$B$7:$C$5000,2,0))","v":""}]
[null,null,"",null,null,null,null,{"$f":"IF(G3427=\"\",\"\",VLOOKUP(G3427,'Lista de precios'!$B$7:$C$5000,2,0))","v":""}]
[null,null,"",null,null,null,null,{"$f":"IF(G3428=\"\",\"\",VLOOKUP(G3428,'Lista de precios'!$B$7:$C$5000,2,0))","v":""}]
[null,null,"",null,null,null,null,{"$f":"IF(G3429=\"\",\"\",VLOOKUP(G3429,'Lista de precios'!$B$7:$C$5000,2,0))","v":""}]
[null,null,"",null,null,null,null,{"$f":"IF(G3430=\"\",\"\",VLOOKUP(G3430,'Lista de precios'!$B$7:$C$5000,2,0))","v":""}]
[null,null,"",null,null,null,null,{"$f":"IF(G3431=\"\",\"\",VLOOKUP(G3431,'Lista de precios'!$B$7:$C$5000,2,0))","v":""}]
[null,null,"",null,null,null,null,{"$f":"IF(G3432=\"\",\"\",VLOOKUP(G3432,'Lista de precios'!$B$7:$C$5000,2,0))","v":""}]
[null,null,"",null,null,null,null,{"$f":"IF(G3433=\"\",\"\",VLOOKUP(G3433,'Lista de precios'!$B$7:$C$5000,2,0))","v":""}]
[null,null,"",null,null,null,null,{"$f":"IF(G3434=\"\",\"\",VLOOKUP(G3434,'Lista de precios'!$B$7:$C$5000,2,0))","v":""}]
[null,null,"",null,null,null,null,{"$f":"IF(G3435=\"\",\"\",VLOOKUP(G3435,'Lista de precios'!$B$7:$C$5000,2,0))","v":""}]
[null,null,"",null,null,null,null,{"$f":"IF(G3436=\"\",\"\",VLOOKUP(G3436,'Lista de precios'!$B$7:$C$5000,2,0))","v":""}]
[null,null,"",null,null,null,null,{"$f":"IF(G3437=\"\",\"\",VLOOKUP(G3437,'Lista de precios'!$B$7:$C$5000,2,0))","v":""}]
[null,null,"",null,null,null,null,{"$f":"IF(G3438=\"\",\"\",VLOOKUP(G3438,'Lista de precios'!$B$7:$C$5000,2,0))","v":""}]
[null,null,"",null,null,null,null,{"$f":"IF(G3439=\"\",\"\",VLOOKUP(G3439,'Lista de precios'!$B$7:$C$5000,2,0))","v":""}]
[null,null,"",null,null,null,null,{"$f":"IF(G3440=\"\",\"\",VLOOKUP(G3440,'Lista de precios'!$B$7:$C$5000,2,0))","v":""}]
[null,null,"",null,null,null,null,{"$f":"IF(G3441=\"\",\"\",VLOOKUP(G3441,'Lista de precios'!$B$7:$C$5000,2,0))","v":""}]
[null,null,"",null,null,null,null,{"$f":"IF(G3442=\"\",\"\",VLOOKUP(G3442,'Lista de precios'!$B$7:$C$5000,2,0))","v":""}]
[null,null,"",null,null,null,null,{"$f":"IF(G3443=\"\",\"\",VLOOKUP(G3443,'Lista de precios'!$B$7:$C$5000,2,0))","v":""}]
[null,null,"",null,null,null,null,{"$f":"IF(G3444=\"\",\"\",VLOOKUP(G3444,'Lista de precios'!$B$7:$C$5000,2,0))","v":""}]
[null,null,"",null,null,null,null,{"$f":"IF(G3445=\"\",\"\",VLOOKUP(G3445,'Lista de precios'!$B$7:$C$5000,2,0))","v":""}]
[null,null,"",null,null,null,null,{"$f":"IF(G3446=\"\",\"\",VLOOKUP(G3446,'Lista de precios'!$B$7:$C$5000,2,0))","v":""}]
[null,null,"",null,null,null,null,{"$f":"IF(G3447=\"\",\"\",VLOOKUP(G3447,'Lista de precios'!$B$7:$C$5000,2,0))","v":""}]
[null,null,"",null,null,null,null,{"$f":"IF(G3448=\"\",\"\",VLOOKUP(G3448,'Lista de precios'!$B$7:$C$5000,2,0))","v":""}]
[null,null,"",null,null,null,null,{"$f":"IF(G3449=\"\",\"\",VLOOKUP(G3449,'Lista de precios'!$B$7:$C$5000,2,0))","v":""}]
[null,null,"",null,null,null,null,{"$f":"IF(G3450=\"\",\"\",VLOOKUP(G3450,'Lista de precios'!$B$7:$C$5000,2,0))","v":""}]
[null,null,"",null,null,null,null,{"$f":"IF(G3451=\"\",\"\",VLOOKUP(G3451,'Lista de precios'!$B$7:$C$5000,2,0))","v":""}]
[null,null,"",null,null,null,null,{"$f":"IF(G3452=\"\",\"\",VLOOKUP(G3452,'Lista de precios'!$B$7:$C$5000,2,0))","v":""}]
[null,null,"",null,null,null,null,{"$f":"IF(G3453=\"\",\"\",VLOOKUP(G3453,'Lista de precios'!$B$7:$C$5000,2,0))","v":""}]
[null,null,"",null,null,null,null,{"$f":"IF(G3454=\"\",\"\",VLOOKUP(G3454,'Lista de precios'!$B$7:$C$5000,2,0))","v":""}]
[null,null,"",null,null,null,null,{"$f":"IF(G3455=\"\",\"\",VLOOKUP(G3455,'Lista de precios'!$B$7:$C$5000,2,0))","v":""}]
[null,null,"",null,null,null,null,{"$f":"IF(G3456=\"\",\"\",VLOOKUP(G3456,'Lista de precios'!$B$7:$C$5000,2,0))","v":""}]
[null,null,"",null,null,null,null,{"$f":"IF(G3457=\"\",\"\",VLOOKUP(G3457,'Lista de precios'!$B$7:$C$5000,2,0))","v":""}]
[null,null,"",null,null,null,null,{"$f":"IF(G3458=\"\",\"\",VLOOKUP(G3458,'Lista de precios'!$B$7:$C$5000,2,0))","v":""}]
[null,null,"",null,null,null,null,{"$f":"IF(G3459=\"\",\"\",VLOOKUP(G3459,'Lista de precios'!$B$7:$C$5000,2,0))","v":""}]
[null,null,"",null,null,null,null,{"$f":"IF(G3460=\"\",\"\",VLOOKUP(G3460,'Lista de precios'!$B$7:$C$5000,2,0))","v":""}]
[null,null,"",null,null,null,null,{"$f":"IF(G3461=\"\",\"\",VLOOKUP(G3461,'Lista de precios'!$B$7:$C$5000,2,0))","v":""}]
[null,null,"",null,null,null,null,{"$f":"IF(G3462=\"\",\"\",VLOOKUP(G3462,'Lista de precios'!$B$7:$C$5000,2,0))","v":""}]
[null,null,"",null,null,null,null,{"$f":"IF(G3463=\"\",\"\",VLOOKUP(G3463,'Lista de precios'!$B$7:$C$5000,2,0))","v":""}]
[null,null,"",null,null,null,null,{"$f":"IF(G3464=\"\",\"\",VLOOKUP(G3464,'Lista de precios'!$B$7:$C$5000,2,0))","v":""}]
[null,null,"",null,null,null,null,{"$f":"IF(G3465=\"\",\"\",VLOOKUP(G3465,'Lista de precios'!$B$7:$C$5000,2,0))","v":""}]
[null,null,"",null,null,null,null,{"$f":"IF(G3466=\"\",\"\",VLOOKUP(G3466,'Lista de precios'!$B$7:$C$5000,2,0))","v":""}]
[null,null,"",null,null,null,null,{"$f":"IF(G3467=\"\",\"\",VLOOKUP(G3467,'Lista de precios'!$B$7:$C$5000,2,0))","v":""}]
[null,null,{"$f":"IF(B3468=\"\",\"\",TEXT(B3468,\"Mmmm\"))","v":""},null,null,null,null,{"$f":"IF(G3468=\"\",\"\",VLOOKUP(G3468,'Lista de precios'!$B$7:$C$5000,2,0))","v":""}]
[null,null,"",null,null,null,null,{"$f":"IF(G3469=\"\",\"\",VLOOKUP(G3469,'Lista de precios'!$B$7:$C$5000,2,0))","v":""}]
[null,null,"",null,null,null,null,{"$f":"IF(G3470=\"\",\"\",VLOOKUP(G3470,'Lista de precios'!$B$7:$C$5000,2,0))","v":""}]
[null,null,"",null,null,null,null,{"$f":"IF(G3471=\"\",\"\",VLOOKUP(G3471,'Lista de precios'!$B$7:$C$5000,2,0))","v":""}]
[null,null,"",null,null,null,null,{"$f":"IF(G3472=\"\",\"\",VLOOKUP(G3472,'Lista de precios'!$B$7:$C$5000,2,0))","v":""}]
[null,null,"",null,null,null,null,{"$f":"IF(G3473=\"\",\"\",VLOOKUP(G3473,'Lista de precios'!$B$7:$C$5000,2,0))","v":""}]
[null,null,"",null,null,null,null,{"$f":"IF(G3474=\"\",\"\",VLOOKUP(G3474,'Lista de precios'!$B$7:$C$5000,2,0))","v":""}]
[null,null,"",null,null,null,null,{"$f":"IF(G3475=\"\",\"\",VLOOKUP(G3475,'Lista de precios'!$B$7:$C$5000,2,0))","v":""}]
[null,null,"",null,null,null,null,{"$f":"IF(G3476=\"\",\"\",VLOOKUP(G3476,'Lista de precios'!$B$7:$C$5000,2,0))","v":""}]
[null,null,"",null,null,null,null,{"$f":"IF(G3477=\"\",\"\",VLOOKUP(G3477,'Lista de precios'!$B$7:$C$5000,2,0))","v":""}]
[null,null,"",null,null,null,null,{"$f":"IF(G3478=\"\",\"\",VLOOKUP(G3478,'Lista de precios'!$B$7:$C$5000,2,0))","v":""}]
[null,null,"",null,null,null,null,{"$f":"IF(G3479=\"\",\"\",VLOOKUP(G3479,'Lista de precios'!$B$7:$C$5000,2,0))","v":""}]
[null,null,"",null,null,null,null,{"$f":"IF(G3480=\"\",\"\",VLOOKUP(G3480,'Lista de precios'!$B$7:$C$5000,2,0))","v":""}]
[null,null,"",null,null,null,null,{"$f":"IF(G3481=\"\",\"\",VLOOKUP(G3481,'Lista de precios'!$B$7:$C$5000,2,0))","v":""}]
[null,null,"",null,null,null,null,{"$f":"IF(G3482=\"\",\"\",VLOOKUP(G3482,'Lista de precios'!$B$7:$C$5000,2,0))","v":""}]
[null,null,"",null,null,null,null,{"$f":"IF(G3483=\"\",\"\",VLOOKUP(G3483,'Lista de precios'!$B$7:$C$5000,2,0))","v":""}]
[null,null,"",null,null,null,null,{"$f":"IF(G3484=\"\",\"\",VLOOKUP(G3484,'Lista de precios'!$B$7:$C$5000,2,0))","v":""}]
[null,null,"",null,null,null,null,{"$f":"IF(G3485=\"\",\"\",VLOOKUP(G3485,'Lista de precios'!$B$7:$C$5000,2,0))","v":""}]
[null,null,"",null,null,null,null,{"$f":"IF(G3486=\"\",\"\",VLOOKUP(G3486,'Lista de precios'!$B$7:$C$5000,2,0))","v":""}]
[null,null,"",null,null,null,null,{"$f":"IF(G3487=\"\",\"\",VLOOKUP(G3487,'Lista de precios'!$B$7:$C$5000,2,0))","v":""}]
[null,null,"",null,null,null,null,{"$f":"IF(G3488=\"\",\"\",VLOOKUP(G3488,'Lista de precios'!$B$7:$C$5000,2,0))","v":""}]
[null,null,"",null,null,null,null,{"$f":"IF(G3489=\"\",\"\",VLOOKUP(G3489,'Lista de precios'!$B$7:$C$5000,2,0))","v":""}]
[null,null,"",null,null,null,null,{"$f":"IF(G3490=\"\",\"\",VLOOKUP(G3490,'Lista de precios'!$B$7:$C$5000,2,0))","v":""}]
[null,null,"",null,null,null,null,{"$f":"IF(G3491=\"\",\"\",VLOOKUP(G3491,'Lista de precios'!$B$7:$C$5000,2,0))","v":""}]
[null,null,"",null,null,null,null,{"$f":"IF(G3492=\"\",\"\",VLOOKUP(G3492,'Lista de precios'!$B$7:$C$5000,2,0))","v":""}]
[null,null,"",null,null,null,null,{"$f":"IF(G3493=\"\",\"\",VLOOKUP(G3493,'Lista de precios'!$B$7:$C$5000,2,0))","v":""}]
[null,null,"",null,null,null,null,{"$f":"IF(G3494=\"\",\"\",VLOOKUP(G3494,'Lista de precios'!$B$7:$C$5000,2,0))","v":""}]
[null,null,"",null,null,null,null,{"$f":"IF(G3495=\"\",\"\",VLOOKUP(G3495,'Lista de precios'!$B$7:$C$5000,2,0))","v":""}]
[null,null,"",null,null,null,null,{"$f":"IF(G3496=\"\",\"\",VLOOKUP(G3496,'Lista de precios'!$B$7:$C$5000,2,0))","v":""}]
[null,null,"",null,null,null,null,{"$f":"IF(G3497=\"\",\"\",VLOOKUP(G3497,'Lista de precios'!$B$7:$C$5000,2,0))","v":""}]
[null,null,"",null,null,null,null,{"$f":"IF(G3498=\"\",\"\",VLOOKUP(G3498,'Lista de precios'!$B$7:$C$5000,2,0))","v":""}]
[null,null,"",null,null,null,null,{"$f":"IF(G3499=\"\",\"\",VLOOKUP(G3499,'Lista de precios'!$B$7:$C$5000,2,0))","v":""}]
[null,null,"",null,null,null,null,{"$f":"IF(G3500=\"\",\"\",VLOOKUP(G3500,'Lista de precios'!$B$7:$C$5000,2,0))","v":""}]
[null,null,"",null,null,null,null,{"$f":"IF(G3501=\"\",\"\",VLOOKUP(G3501,'Lista de precios'!$B$7:$C$5000,2,0))","v":""}]
[null,null,"",null,null,null,null,{"$f":"IF(G3502=\"\",\"\",VLOOKUP(G3502,'Lista de precios'!$B$7:$C$5000,2,0))","v":""}]
[null,null,"",null,null,null,null,{"$f":"IF(G3503=\"\",\"\",VLOOKUP(G3503,'Lista de precios'!$B$7:$C$5000,2,0))","v":""}]
[null,null,"",null,null,null,null,{"$f":"IF(G3504=\"\",\"\",VLOOKUP(G3504,'Lista de precios'!$B$7:$C$5000,2,0))","v":""}]
[null,null,"",null,null,null,null,{"$f":"IF(G3505=\"\",\"\",VLOOKUP(G3505,'Lista de precios'!$B$7:$C$5000,2,0))","v":""}]
[null,null,"",null,null,null,null,{"$f":"IF(G3506=\"\",\"\",VLOOKUP(G3506,'Lista de precios'!$B$7:$C$5000,2,0))","v":""}]
[null,null,"",null,null,null,null,{"$f":"IF(G3507=\"\",\"\",VLOOKUP(G3507,'Lista de precios'!$B$7:$C$5000,2,0))","v":""}]
[null,null,"",null,null,null,null,{"$f":"IF(G3508=\"\",\"\",VLOOKUP(G3508,'Lista de precios'!$B$7:$C$5000,2,0))","v":""}]
[null,null,"",null,null,null,null,{"$f":"IF(G3509=\"\",\"\",VLOOKUP(G3509,'Lista de precios'!$B$7:$C$5000,2,0))","v":""}]
[null,null,"",null,null,null,null,{"$f":"IF(G3510=\"\",\"\",VLOOKUP(G3510,'Lista de precios'!$B$7:$C$5000,2,0))","v":""}]
[null,null,"",null,null,null,null,{"$f":"IF(G3511=\"\",\"\",VLOOKUP(G3511,'Lista de precios'!$B$7:$C$5000,2,0))","v":""}]
[null,null,"",null,null,null,null,{"$f":"IF(G3512=\"\",\"\",VLOOKUP(G3512,'Lista de precios'!$B$7:$C$5000,2,0))","v":""}]
[null,null,"",null,null,null,null,{"$f":"IF(G3513=\"\",\"\",VLOOKUP(G3513,'Lista de precios'!$B$7:$C$5000,2,0))","v":""}]
[null,null,"",null,null,null,null,{"$f":"IF(G3514=\"\",\"\",VLOOKUP(G3514,'Lista de precios'!$B$7:$C$5000,2,0))","v":""}]
[null,null,"",null,null,null,null,{"$f":"IF(G3515=\"\",\"\",VLOOKUP(G3515,'Lista de precios'!$B$7:$C$5000,2,0))","v":""}]
[null,null,"",null,null,null,null,{"$f":"IF(G3516=\"\",\"\",VLOOKUP(G3516,'Lista de precios'!$B$7:$C$5000,2,0))","v":""}]
[null,null,"",null,null,null,null,{"$f":"IF(G3517=\"\",\"\",VLOOKUP(G3517,'Lista de precios'!$B$7:$C$5000,2,0))","v":""}]
[null,null,"",null,null,null,null,{"$f":"IF(G3518=\"\",\"\",VLOOKUP(G3518,'Lista de precios'!$B$7:$C$5000,2,0))","v":""}]
[null,null,"",null,null,null,null,{"$f":"IF(G3519=\"\",\"\",VLOOKUP(G3519,'Lista de precios'!$B$7:$C$5000,2,0))","v":""}]
[null,null,"",null,null,null,null,{"$f":"IF(G3520=\"\",\"\",VLOOKUP(G3520,'Lista de precios'!$B$7:$C$5000,2,0))","v":""}]
[null,null,"",null,null,null,null,{"$f":"IF(G3521=\"\",\"\",VLOOKUP(G3521,'Lista de precios'!$B$7:$C$5000,2,0))","v":""}]
[null,null,"",null,null,null,null,{"$f":"IF(G3522=\"\",\"\",VLOOKUP(G3522,'Lista de precios'!$B$7:$C$5000,2,0))","v":""}]
[null,null,"",null,null,null,null,{"$f":"IF(G3523=\"\",\"\",VLOOKUP(G3523,'Lista de precios'!$B$7:$C$5000,2,0))","v":""}]
[null,null,"",null,null,null,null,{"$f":"IF(G3524=\"\",\"\",VLOOKUP(G3524,'Lista de precios'!$B$7:$C$5000,2,0))","v":""}]
[null,null,"",null,null,null,null,{"$f":"IF(G3525=\"\",\"\",VLOOKUP(G3525,'Lista de precios'!$B$7:$C$5000,2,0))","v":""}]
[null,null,"",null,null,null,null,{"$f":"IF(G3526=\"\",\"\",VLOOKUP(G3526,'Lista de precios'!$B$7:$C$5000,2,0))","v":""}]
[null,null,"",null,null,null,null,{"$f":"IF(G3527=\"\",\"\",VLOOKUP(G3527,'Lista de precios'!$B$7:$C$5000,2,0))","v":""}]
[null,null,"",null,null,null,null,{"$f":"IF(G3528=\"\",\"\",VLOOKUP(G3528,'Lista de precios'!$B$7:$C$5000,2,0))","v":""}]
[null,null,"",null,null,null,null,{"$f":"IF(G3529=\"\",\"\",VLOOKUP(G3529,'Lista de precios'!$B$7:$C$5000,2,0))","v":""}]
[null,null,"",null,null,null,null,{"$f":"IF(G3530=\"\",\"\",VLOOKUP(G3530,'Lista de precios'!$B$7:$C$5000,2,0))","v":""}]
[null,null,"",null,null,null,null,{"$f":"IF(G3531=\"\",\"\",VLOOKUP(G3531,'Lista de precios'!$B$7:$C$5000,2,0))","v":""}]
[null,null,{"$f":"IF(B3532=\"\",\"\",TEXT(B3532,\"Mmmm\"))","v":""},null,null,null,null,{"$f":"IF(G3532=\"\",\"\",VLOOKUP(G3532,'Lista de precios'!$B$7:$C$5000,2,0))","v":""}]
[null,null,"",null,null,null,null,{"$f":"IF(G3533=\"\",\"\",VLOOKUP(G3533,'Lista de precios'!$B$7:$C$5000,2,0))","v":""}]
[null,null,"",null,null,null,null,{"$f":"IF(G3534=\"\",\"\",VLOOKUP(G3534,'Lista de precios'!$B$7:$C$5000,2,0))","v":""}]
[null,null,"",null,null,null,null,{"$f":"IF(G3535=\"\",\"\",VLOOKUP(G3535,'Lista de precios'!$B$7:$C$5000,2,0))","v":""}]
[null,null,"",null,null,null,null,{"$f":"IF(G3536=\"\",\"\",VLOOKUP(G3536,'Lista de precios'!$B$7:$C$5000,2,0))","v":""}]
[null,null,"",null,null,null,null,{"$f":"IF(G3537=\"\",\"\",VLOOKUP(G3537,'Lista de precios'!$B$7:$C$5000,2,0))","v":""}]
[null,null,"",null,null,null,null,{"$f":"IF(G3538=\"\",\"\",VLOOKUP(G3538,'Lista de precios'!$B$7:$C$5000,2,0))","v":""}]
[null,null,"",null,null,null,null,{"$f":"IF(G3539=\"\",\"\",VLOOKUP(G3539,'Lista de precios'!$B$7:$C$5000,2,0))","v":""}]
[null,null,"",null,null,null,null,{"$f":"IF(G3540=\"\",\"\",VLOOKUP(G3540,'Lista de precios'!$B$7:$C$5000,2,0))","v":""}]
[null,null,"",null,null,null,null,{"$f":"IF(G3541=\"\",\"\",VLOOKUP(G3541,'Lista de precios'!$B$7:$C$5000,2,0))","v":""}]
[null,null,"",null,null,null,null,{"$f":"IF(G3542=\"\",\"\",VLOOKUP(G3542,'Lista de precios'!$B$7:$C$5000,2,0))","v":""}]
[null,null,"",null,null,null,null,{"$f":"IF(G3543=\"\",\"\",VLOOKUP(G3543,'Lista de precios'!$B$7:$C$5000,2,0))","v":""}]
[null,null,"",null,null,null,null,{"$f":"IF(G3544=\"\",\"\",VLOOKUP(G3544,'Lista de precios'!$B$7:$C$5000,2,0))","v":""}]
[null,null,"",null,null,null,null,{"$f":"IF(G3545=\"\",\"\",VLOOKUP(G3545,'Lista de precios'!$B$7:$C$5000,2,0))","v":""}]
[null,null,"",null,null,null,null,{"$f":"IF(G3546=\"\",\"\",VLOOKUP(G3546,'Lista de precios'!$B$7:$C$5000,2,0))","v":""}]
[null,null,"",null,null,null,null,{"$f":"IF(G3547=\"\",\"\",VLOOKUP(G3547,'Lista de precios'!$B$7:$C$5000,2,0))","v":""}]
[null,null,"",null,null,null,null,{"$f":"IF(G3548=\"\",\"\",VLOOKUP(G3548,'Lista de precios'!$B$7:$C$5000,2,0))","v":""}]
[null,null,"",null,null,null,null,{"$f":"IF(G3549=\"\",\"\",VLOOKUP(G3549,'Lista de precios'!$B$7:$C$5000,2,0))","v":""}]
[null,null,"",null,null,null,null,{"$f":"IF(G3550=\"\",\"\",VLOOKUP(G3550,'Lista de precios'!$B$7:$C$5000,2,0))","v":""}]
[null,null,"",null,null,null,null,{"$f":"IF(G3551=\"\",\"\",VLOOKUP(G3551,'Lista de precios'!$B$7:$C$5000,2,0))","v":""}]
[null,null,"",null,null,null,null,{"$f":"IF(G3552=\"\",\"\",VLOOKUP(G3552,'Lista de precios'!$B$7:$C$5000,2,0))","v":""}]
[null,null,"",null,null,null,null,{"$f":"IF(G3553=\"\",\"\",VLOOKUP(G3553,'Lista de precios'!$B$7:$C$5000,2,0))","v":""}]
[null,null,"",null,null,null,null,{"$f":"IF(G3554=\"\",\"\",VLOOKUP(G3554,'Lista de precios'!$B$7:$C$5000,2,0))","v":""}]
[null,null,"",null,null,null,null,{"$f":"IF(G3555=\"\",\"\",VLOOKUP(G3555,'Lista de precios'!$B$7:$C$5000,2,0))","v":""}]
[null,null,"",null,null,null,null,{"$f":"IF(G3556=\"\",\"\",VLOOKUP(G3556,'Lista de precios'!$B$7:$C$5000,2,0))","v":""}]
[null,null,"",null,null,null,null,{"$f":"IF(G3557=\"\",\"\",VLOOKUP(G3557,'Lista de precios'!$B$7:$C$5000,2,0))","v":""}]
[null,null,"",null,null,null,null,{"$f":"IF(G3558=\"\",\"\",VLOOKUP(G3558,'Lista de precios'!$B$7:$C$5000,2,0))","v":""}]
[null,null,"",null,null,null,null,{"$f":"IF(G3559=\"\",\"\",VLOOKUP(G3559,'Lista de precios'!$B$7:$C$5000,2,0))","v":""}]
[null,null,"",null,null,null,null,{"$f":"IF(G3560=\"\",\"\",VLOOKUP(G3560,'Lista de precios'!$B$7:$C$5000,2,0))","v":""}]
[null,null,"",null,null,null,null,{"$f":"IF(G3561=\"\",\"\",VLOOKUP(G3561,'Lista de precios'!$B$7:$C$5000,2,0))","v":""}]
[null,null,"",null,null,null,null,{"$f":"IF(G3562=\"\",\"\",VLOOKUP(G3562,'Lista de precios'!$B$7:$C$5000,2,0))","v":""}]
[null,null,"",null,null,null,null,{"$f":"IF(G3563=\"\",\"\",VLOOKUP(G3563,'Lista de precios'!$B$7:$C$5000,2,0))","v":""}]
[null,null,"",null,null,null,null,{"$f":"IF(G3564=\"\",\"\",VLOOKUP(G3564,'Lista de precios'!$B$7:$C$5000,2,0))","v":""}]
[null,null,"",null,null,null,null,{"$f":"IF(G3565=\"\",\"\",VLOOKUP(G3565,'Lista de precios'!$B$7:$C$5000,2,0))","v":""}]
[null,null,"",null,null,null,null,{"$f":"IF(G3566=\"\",\"\",VLOOKUP(G3566,'Lista de precios'!$B$7:$C$5000,2,0))","v":""}]
[null,null,"",null,null,null,null,{"$f":"IF(G3567=\"\",\"\",VLOOKUP(G3567,'Lista de precios'!$B$7:$C$5000,2,0))","v":""}]
[null,null,"",null,null,null,null,{"$f":"IF(G3568=\"\",\"\",VLOOKUP(G3568,'Lista de precios'!$B$7:$C$5000,2,0))","v":""}]
[null,null,"",null,null,null,null,{"$f":"IF(G3569=\"\",\"\",VLOOKUP(G3569,'Lista de precios'!$B$7:$C$5000,2,0))","v":""}]
[null,null,"",null,null,null,null,{"$f":"IF(G3570=\"\",\"\",VLOOKUP(G3570,'Lista de precios'!$B$7:$C$5000,2,0))","v":""}]
[null,null,"",null,null,null,null,{"$f":"IF(G3571=\"\",\"\",VLOOKUP(G3571,'Lista de precios'!$B$7:$C$5000,2,0))","v":""}]
[null,null,"",null,null,null,null,{"$f":"IF(G3572=\"\",\"\",VLOOKUP(G3572,'Lista de precios'!$B$7:$C$5000,2,0))","v":""}]
[null,null,"",null,null,null,null,{"$f":"IF(G3573=\"\",\"\",VLOOKUP(G3573,'Lista de precios'!$B$7:$C$5000,2,0))","v":""}]
[null,null,"",null,null,null,null,{"$f":"IF(G3574=\"\",\"\",VLOOKUP(G3574,'Lista de precios'!$B$7:$C$5000,2,0))","v":""}]
[null,null,"",null,null,null,null,{"$f":"IF(G3575=\"\",\"\",VLOOKUP(G3575,'Lista de precios'!$B$7:$C$5000,2,0))","v":""}]
[null,null,"",null,null,null,null,{"$f":"IF(G3576=\"\",\"\",VLOOKUP(G3576,'Lista de precios'!$B$7:$C$5000,2,0))","v":""}]
[null,null,"",null,null,null,null,{"$f":"IF(G3577=\"\",\"\",VLOOKUP(G3577,'Lista de precios'!$B$7:$C$5000,2,0))","v":""}]
[null,null,"",null,null,null,null,{"$f":"IF(G3578=\"\",\"\",VLOOKUP(G3578,'Lista de precios'!$B$7:$C$5000,2,0))","v":""}]
[null,null,"",null,null,null,null,{"$f":"IF(G3579=\"\",\"\",VLOOKUP(G3579,'Lista de precios'!$B$7:$C$5000,2,0))","v":""}]
[null,null,"",null,null,null,null,{"$f":"IF(G3580=\"\",\"\",VLOOKUP(G3580,'Lista de precios'!$B$7:$C$5000,2,0))","v":""}]
[null,null,"",null,null,null,null,{"$f":"IF(G3581=\"\",\"\",VLOOKUP(G3581,'Lista de precios'!$B$7:$C$5000,2,0))","v":""}]
[null,null,"",null,null,null,null,{"$f":"IF(G3582=\"\",\"\",VLOOKUP(G3582,'Lista de precios'!$B$7:$C$5000,2,0))","v":""}]
[null,null,"",null,null,null,null,{"$f":"IF(G3583=\"\",\"\",VLOOKUP(G3583,'Lista de precios'!$B$7:$C$5000,2,0))","v":""}]
[null,null,"",null,null,null,null,{"$f":"IF(G3584=\"\",\"\",VLOOKUP(G3584,'Lista de precios'!$B$7:$C$5000,2,0))","v":""}]
[null,null,"",null,null,null,null,{"$f":"IF(G3585=\"\",\"\",VLOOKUP(G3585,'Lista de precios'!$B$7:$C$5000,2,0))","v":""}]
[null,null,"",null,null,null,null,{"$f":"IF(G3586=\"\",\"\",VLOOKUP(G3586,'Lista de precios'!$B$7:$C$5000,2,0))","v":""}]
[null,null,"",null,null,null,null,{"$f":"IF(G3587=\"\",\"\",VLOOKUP(G3587,'Lista de precios'!$B$7:$C$5000,2,0))","v":""}]
[null,null,"",null,null,null,null,{"$f":"IF(G3588=\"\",\"\",VLOOKUP(G3588,'Lista de precios'!$B$7:$C$5000,2,0))","v":""}]
[null,null,"",null,null,null,null,{"$f":"IF(G3589=\"\",\"\",VLOOKUP(G3589,'Lista de precios'!$B$7:$C$5000,2,0))","v":""}]
[null,null,"",null,null,null,null,{"$f":"IF(G3590=\"\",\"\",VLOOKUP(G3590,'Lista de precios'!$B$7:$C$5000,2,0))","v":""}]
[null,null,"",null,null,null,null,{"$f":"IF(G3591=\"\",\"\",VLOOKUP(G3591,'Lista de precios'!$B$7:$C$5000,2,0))","v":""}]
[null,null,"",null,null,null,null,{"$f":"IF(G3592=\"\",\"\",VLOOKUP(G3592,'Lista de precios'!$B$7:$C$5000,2,0))","v":""}]
[null,null,"",null,null,null,null,{"$f":"IF(G3593=\"\",\"\",VLOOKUP(G3593,'Lista de precios'!$B$7:$C$5000,2,0))","v":""}]
[null,null,"",null,null,null,null,{"$f":"IF(G3594=\"\",\"\",VLOOKUP(G3594,'Lista de precios'!$B$7:$C$5000,2,0))","v":""}]
[null,null,"",null,null,null,null,{"$f":"IF(G3595=\"\",\"\",VLOOKUP(G3595,'Lista de precios'!$B$7:$C$5000,2,0))","v":""}]
[null,null,{"$f":"IF(B3596=\"\",\"\",TEXT(B3596,\"Mmmm\"))","v":""},null,null,null,null,{"$f":"IF(G3596=\"\",\"\",VLOOKUP(G3596,'Lista de precios'!$B$7:$C$5000,2,0))","v":""}]
[null,null,"",null,null,null,null,{"$f":"IF(G3597=\"\",\"\",VLOOKUP(G3597,'Lista de precios'!$B$7:$C$5000,2,0))","v":""}]
[null,null,"",null,null,null,null,{"$f":"IF(G3598=\"\",\"\",VLOOKUP(G3598,'Lista de precios'!$B$7:$C$5000,2,0))","v":""}]
[null,null,"",null,null,null,null,{"$f":"IF(G3599=\"\",\"\",VLOOKUP(G3599,'Lista de precios'!$B$7:$C$5000,2,0))","v":""}]
[null,null,"",null,null,null,null,{"$f":"IF(G3600=\"\",\"\",VLOOKUP(G3600,'Lista de precios'!$B$7:$C$5000,2,0))","v":""}]
[null,null,"",null,null,null,null,{"$f":"IF(G3601=\"\",\"\",VLOOKUP(G3601,'Lista de precios'!$B$7:$C$5000,2,0))","v":""}]
[null,null,"",null,null,null,null,{"$f":"IF(G3602=\"\",\"\",VLOOKUP(G3602,'Lista de precios'!$B$7:$C$5000,2,0))","v":""}]
[null,null,"",null,null,null,null,{"$f":"IF(G3603=\"\",\"\",VLOOKUP(G3603,'Lista de precios'!$B$7:$C$5000,2,0))","v":""}]
[null,null,"",null,null,null,null,{"$f":"IF(G3604=\"\",\"\",VLOOKUP(G3604,'Lista de precios'!$B$7:$C$5000,2,0))","v":""}]
[null,null,"",null,null,null,null,{"$f":"IF(G3605=\"\",\"\",VLOOKUP(G3605,'Lista de precios'!$B$7:$C$5000,2,0))","v":""}]
[null,null,"",null,null,null,null,{"$f":"IF(G3606=\"\",\"\",VLOOKUP(G3606,'Lista de precios'!$B$7:$C$5000,2,0))","v":""}]
[null,null,"",null,null,null,null,{"$f":"IF(G3607=\"\",\"\",VLOOKUP(G3607,'Lista de precios'!$B$7:$C$5000,2,0))","v":""}]
[null,null,"",null,null,null,null,{"$f":"IF(G3608=\"\",\"\",VLOOKUP(G3608,'Lista de precios'!$B$7:$C$5000,2,0))","v":""}]
[null,null,"",null,null,null,null,{"$f":"IF(G3609=\"\",\"\",VLOOKUP(G3609,'Lista de precios'!$B$7:$C$5000,2,0))","v":""}]
[null,null,"",null,null,null,null,{"$f":"IF(G3610=\"\",\"\",VLOOKUP(G3610,'Lista de precios'!$B$7:$C$5000,2,0))","v":""}]
[null,null,"",null,null,null,null,{"$f":"IF(G3611=\"\",\"\",VLOOKUP(G3611,'Lista de precios'!$B$7:$C$5000,2,0))","v":""}]
[null,null,"",null,null,null,null,{"$f":"IF(G3612=\"\",\"\",VLOOKUP(G3612,'Lista de precios'!$B$7:$C$5000,2,0))","v":""}]
[null,null,"",null,null,null,null,{"$f":"IF(G3613=\"\",\"\",VLOOKUP(G3613,'Lista de precios'!$B$7:$C$5000,2,0))","v":""}]
[null,null,"",null,null,null,null,{"$f":"IF(G3614=\"\",\"\",VLOOKUP(G3614,'Lista de precios'!$B$7:$C$5000,2,0))","v":""}]
[null,null,"",null,null,null,null,{"$f":"IF(G3615=\"\",\"\",VLOOKUP(G3615,'Lista de precios'!$B$7:$C$5000,2,0))","v":""}]
[null,null,"",null,null,null,null,{"$f":"IF(G3616=\"\",\"\",VLOOKUP(G3616,'Lista de precios'!$B$7:$C$5000,2,0))","v":""}]
[null,null,"",null,null,null,null,{"$f":"IF(G3617=\"\",\"\",VLOOKUP(G3617,'Lista de precios'!$B$7:$C$5000,2,0))","v":""}]
[null,null,"",null,null,null,null,{"$f":"IF(G3618=\"\",\"\",VLOOKUP(G3618,'Lista de precios'!$B$7:$C$5000,2,0))","v":""}]
[null,null,"",null,null,null,null,{"$f":"IF(G3619=\"\",\"\",VLOOKUP(G3619,'Lista de precios'!$B$7:$C$5000,2,0))","v":""}]
[null,null,"",null,null,null,null,{"$f":"IF(G3620=\"\",\"\",VLOOKUP(G3620,'Lista de precios'!$B$7:$C$5000,2,0))","v":""}]
[null,null,"",null,null,null,null,{"$f":"IF(G3621=\"\",\"\",VLOOKUP(G3621,'Lista de precios'!$B$7:$C$5000,2,0))","v":""}]
[null,null,"",null,null,null,null,{"$f":"IF(G3622=\"\",\"\",VLOOKUP(G3622,'Lista de precios'!$B$7:$C$5000,2,0))","v":""}]
[null,null,"",null,null,null,null,{"$f":"IF(G3623=\"\",\"\",VLOOKUP(G3623,'Lista de precios'!$B$7:$C$5000,2,0))","v":""}]
[null,null,"",null,null,null,null,{"$f":"IF(G3624=\"\",\"\",VLOOKUP(G3624,'Lista de precios'!$B$7:$C$5000,2,0))","v":""}]
[null,null,"",null,null,null,null,{"$f":"IF(G3625=\"\",\"\",VLOOKUP(G3625,'Lista de precios'!$B$7:$C$5000,2,0))","v":""}]
[null,null,"",null,null,null,null,{"$f":"IF(G3626=\"\",\"\",VLOOKUP(G3626,'Lista de precios'!$B$7:$C$5000,2,0))","v":""}]
[null,null,"",null,null,null,null,{"$f":"IF(G3627=\"\",\"\",VLOOKUP(G3627,'Lista de precios'!$B$7:$C$5000,2,0))","v":""}]
[null,null,"",null,null,null,null,{"$f":"IF(G3628=\"\",\"\",VLOOKUP(G3628,'Lista de precios'!$B$7:$C$5000,2,0))","v":""}]
[null,null,"",null,null,null,null,{"$f":"IF(G3629=\"\",\"\",VLOOKUP(G3629,'Lista de precios'!$B$7:$C$5000,2,0))","v":""}]
[null,null,"",null,null,null,null,{"$f":"IF(G3630=\"\",\"\",VLOOKUP(G3630,'Lista de precios'!$B$7:$C$5000,2,0))","v":""}]
[null,null,"",null,null,null,null,{"$f":"IF(G3631=\"\",\"\",VLOOKUP(G3631,'Lista de precios'!$B$7:$C$5000,2,0))","v":""}]
[null,null,"",null,null,null,null,{"$f":"IF(G3632=\"\",\"\",VLOOKUP(G3632,'Lista de precios'!$B$7:$C$5000,2,0))","v":""}]
[null,null,"",null,null,null,null,{"$f":"IF(G3633=\"\",\"\",VLOOKUP(G3633,'Lista de precios'!$B$7:$C$5000,2,0))","v":""}]
[null,null,"",null,null,null,null,{"$f":"IF(G3634=\"\",\"\",VLOOKUP(G3634,'Lista de precios'!$B$7:$C$5000,2,0))","v":""}]
[null,null,"",null,null,null,null,{"$f":"IF(G3635=\"\",\"\",VLOOKUP(G3635,'Lista de precios'!$B$7:$C$5000,2,0))","v":""}]
[null,null,"",null,null,null,null,{"$f":"IF(G3636=\"\",\"\",VLOOKUP(G3636,'Lista de precios'!$B$7:$C$5000,2,0))","v":""}]
[null,null,"",null,null,null,null,{"$f":"IF(G3637=\"\",\"\",VLOOKUP(G3637,'Lista de precios'!$B$7:$C$5000,2,0))","v":""}]
[null,null,"",null,null,null,null,{"$f":"IF(G3638=\"\",\"\",VLOOKUP(G3638,'Lista de precios'!$B$7:$C$5000,2,0))","v":""}]
[null,null,"",null,null,null,null,{"$f":"IF(G3639=\"\",\"\",VLOOKUP(G3639,'Lista de precios'!$B$7:$C$5000,2,0))","v":""}]
[null,null,"",null,null,null,null,{"$f":"IF(G3640=\"\",\"\",VLOOKUP(G3640,'Lista de precios'!$B$7:$C$5000,2,0))","v":""}]
[null,null,"",null,null,null,null,{"$f":"IF(G3641=\"\",\"\",VLOOKUP(G3641,'Lista de precios'!$B$7:$C$5000,2,0))","v":""}]
[null,null,"",null,null,null,null,{"$f":"IF(G3642=\"\",\"\",VLOOKUP(G3642,'Lista de precios'!$B$7:$C$5000,2,0))","v":""}]
[null,null,"",null,null,null,null,{"$f":"IF(G3643=\"\",\"\",VLOOKUP(G3643,'Lista de precios'!$B$7:$C$5000,2,0))","v":""}]
[null,null,"",null,null,null,null,{"$f":"IF(G3644=\"\",\"\",VLOOKUP(G3644,'Lista de precios'!$B$7:$C$5000,2,0))","v":""}]
[null,null,"",null,null,null,null,{"$f":"IF(G3645=\"\",\"\",VLOOKUP(G3645,'Lista de precios'!$B$7:$C$5000,2,0))","v":""}]
[null,null,"",null,null,null,null,{"$f":"IF(G3646=\"\",\"\",VLOOKUP(G3646,'Lista de precios'!$B$7:$C$5000,2,0))","v":""}]
[null,null,"",null,null,null,null,{"$f":"IF(G3647=\"\",\"\",VLOOKUP(G3647,'Lista de precios'!$B$7:$C$5000,2,0))","v":""}]
[null,null,"",null,null,null,null,{"$f":"IF(G3648=\"\",\"\",VLOOKUP(G3648,'Lista de precios'!$B$7:$C$5000,2,0))","v":""}]
[null,null,"",null,null,null,null,{"$f":"IF(G3649=\"\",\"\",VLOOKUP(G3649,'Lista de precios'!$B$7:$C$5000,2,0))","v":""}]
[null,null,"",null,null,null,null,{"$f":"IF(G3650=\"\",\"\",VLOOKUP(G3650,'Lista de precios'!$B$7:$C$5000,2,0))","v":""}]
[null,null,"",null,null,null,null,{"$f":"IF(G3651=\"\",\"\",VLOOKUP(G3651,'Lista de precios'!$B$7:$C$5000,2,0))","v":""}]
[null,null,"",null,null,null,null,{"$f":"IF(G3652=\"\",\"\",VLOOKUP(G3652,'Lista de precios'!$B$7:$C$5000,2,0))","v":""}]
[null,null,"",null,null,null,null,{"$f":"IF(G3653=\"\",\"\",VLOOKUP(G3653,'Lista de precios'!$B$7:$C$5000,2,0))","v":""}]
[null,null,"",null,null,null,null,{"$f":"IF(G3654=\"\",\"\",VLOOKUP(G3654,'Lista de precios'!$B$7:$C$5000,2,0))","v":""}]
[null,null,"",null,null,null,null,{"$f":"IF(G3655=\"\",\"\",VLOOKUP(G3655,'Lista de precios'!$B$7:$C$5000,2,0))","v":""}]
[null,null,"",null,null,null,null,{"$f":"IF(G3656=\"\",\"\",VLOOKUP(G3656,'Lista de precios'!$B$7:$C$5000,2,0))","v":""}]
[null,null,"",null,null,null,null,{"$f":"IF(G3657=\"\",\"\",VLOOKUP(G3657,'Lista de precios'!$B$7:$C$5000,2,0))","v":""}]
[null,null,"",null,null,null,null,{"$f":"IF(G3658=\"\",\"\",VLOOKUP(G3658,'Lista de precios'!$B$7:$C$5000,2,0))","v":""}]
[null,null,"",null,null,null,null,{"$f":"IF(G3659=\"\",\"\",VLOOKUP(G3659,'Lista de precios'!$B$7:$C$5000,2,0))","v":""}]
[null,null,{"$f":"IF(B3660=\"\",\"\",TEXT(B3660,\"Mmmm\"))","v":""},null,null,null,null,{"$f":"IF(G3660=\"\",\"\",VLOOKUP(G3660,'Lista de precios'!$B$7:$C$5000,2,0))","v":""}]
[null,null,"",null,null,null,null,{"$f":"IF(G3661=\"\",\"\",VLOOKUP(G3661,'Lista de precios'!$B$7:$C$5000,2,0))","v":""}]
[null,null,"",null,null,null,null,{"$f":"IF(G3662=\"\",\"\",VLOOKUP(G3662,'Lista de precios'!$B$7:$C$5000,2,0))","v":""}]
[null,null,"",null,null,null,null,{"$f":"IF(G3663=\"\",\"\",VLOOKUP(G3663,'Lista de precios'!$B$7:$C$5000,2,0))","v":""}]
[null,null,"",null,null,null,null,{"$f":"IF(G3664=\"\",\"\",VLOOKUP(G3664,'Lista de precios'!$B$7:$C$5000,2,0))","v":""}]
[null,null,"",null,null,null,null,{"$f":"IF(G3665=\"\",\"\",VLOOKUP(G3665,'Lista de precios'!$B$7:$C$5000,2,0))","v":""}]
[null,null,"",null,null,null,null,{"$f":"IF(G3666=\"\",\"\",VLOOKUP(G3666,'Lista de precios'!$B$7:$C$5000,2,0))","v":""}]
[null,null,"",null,null,null,null,{"$f":"IF(G3667=\"\",\"\",VLOOKUP(G3667,'Lista de precios'!$B$7:$C$5000,2,0))","v":""}]
[null,null,"",null,null,null,null,{"$f":"IF(G3668=\"\",\"\",VLOOKUP(G3668,'Lista de precios'!$B$7:$C$5000,2,0))","v":""}]
[null,null,"",null,null,null,null,{"$f":"IF(G3669=\"\",\"\",VLOOKUP(G3669,'Lista de precios'!$B$7:$C$5000,2,0))","v":""}]
[null,null,"",null,null,null,null,{"$f":"IF(G3670=\"\",\"\",VLOOKUP(G3670,'Lista de precios'!$B$7:$C$5000,2,0))","v":""}]
[null,null,"",null,null,null,null,{"$f":"IF(G3671=\"\",\"\",VLOOKUP(G3671,'Lista de precios'!$B$7:$C$5000,2,0))","v":""}]
[null,null,"",null,null,null,null,{"$f":"IF(G3672=\"\",\"\",VLOOKUP(G3672,'Lista de precios'!$B$7:$C$5000,2,0))","v":""}]
[null,null,"",null,null,null,null,{"$f":"IF(G3673=\"\",\"\",VLOOKUP(G3673,'Lista de precios'!$B$7:$C$5000,2,0))","v":""}]
[null,null,"",null,null,null,null,{"$f":"IF(G3674=\"\",\"\",VLOOKUP(G3674,'Lista de precios'!$B$7:$C$5000,2,0))","v":""}]
[null,null,"",null,null,null,null,{"$f":"IF(G3675=\"\",\"\",VLOOKUP(G3675,'Lista de precios'!$B$7:$C$5000,2,0))","v":""}]
[null,null,"",null,null,null,null,{"$f":"IF(G3676=\"\",\"\",VLOOKUP(G3676,'Lista de precios'!$B$7:$C$5000,2,0))","v":""}]
[null,null,"",null,null,null,null,{"$f":"IF(G3677=\"\",\"\",VLOOKUP(G3677,'Lista de precios'!$B$7:$C$5000,2,0))","v":""}]
[null,null,"",null,null,null,null,{"$f":"IF(G3678=\"\",\"\",VLOOKUP(G3678,'Lista de precios'!$B$7:$C$5000,2,0))","v":""}]
[null,null,"",null,null,null,null,{"$f":"IF(G3679=\"\",\"\",VLOOKUP(G3679,'Lista de precios'!$B$7:$C$5000,2,0))","v":""}]
[null,null,"",null,null,null,null,{"$f":"IF(G3680=\"\",\"\",VLOOKUP(G3680,'Lista de precios'!$B$7:$C$5000,2,0))","v":""}]
[null,null,"",null,null,null,null,{"$f":"IF(G3681=\"\",\"\",VLOOKUP(G3681,'Lista de precios'!$B$7:$C$5000,2,0))","v":""}]
[null,null,"",null,null,null,null,{"$f":"IF(G3682=\"\",\"\",VLOOKUP(G3682,'Lista de precios'!$B$7:$C$5000,2,0))","v":""}]
[null,null,"",null,null,null,null,{"$f":"IF(G3683=\"\",\"\",VLOOKUP(G3683,'Lista de precios'!$B$7:$C$5000,2,0))","v":""}]
[null,null,"",null,null,null,null,{"$f":"IF(G3684=\"\",\"\",VLOOKUP(G3684,'Lista de precios'!$B$7:$C$5000,2,0))","v":""}]
[null,null,"",null,null,null,null,{"$f":"IF(G3685=\"\",\"\",VLOOKUP(G3685,'Lista de precios'!$B$7:$C$5000,2,0))","v":""}]
[null,null,"",null,null,null,null,{"$f":"IF(G3686=\"\",\"\",VLOOKUP(G3686,'Lista de precios'!$B$7:$C$5000,2,0))","v":""}]
[null,null,"",null,null,null,null,{"$f":"IF(G3687=\"\",\"\",VLOOKUP(G3687,'Lista de precios'!$B$7:$C$5000,2,0))","v":""}]
[null,null,"",null,null,null,null,{"$f":"IF(G3688=\"\",\"\",VLOOKUP(G3688,'Lista de precios'!$B$7:$C$5000,2,0))","v":""}]
[null,null,"",null,null,null,null,{"$f":"IF(G3689=\"\",\"\",VLOOKUP(G3689,'Lista de precios'!$B$7:$C$5000,2,0))","v":""}]
[null,null,"",null,null,null,null,{"$f":"IF(G3690=\"\",\"\",VLOOKUP(G3690,'Lista de precios'!$B$7:$C$5000,2,0))","v":""}]
[null,null,"",null,null,null,null,{"$f":"IF(G3691=\"\",\"\",VLOOKUP(G3691,'Lista de precios'!$B$7:$C$5000,2,0))","v":""}]
[null,null,"",null,null,null,null,{"$f":"IF(G3692=\"\",\"\",VLOOKUP(G3692,'Lista de precios'!$B$7:$C$5000,2,0))","v":""}]
[null,null,"",null,null,null,null,{"$f":"IF(G3693=\"\",\"\",VLOOKUP(G3693,'Lista de precios'!$B$7:$C$5000,2,0))","v":""}]
[null,null,"",null,null,null,null,{"$f":"IF(G3694=\"\",\"\",VLOOKUP(G3694,'Lista de precios'!$B$7:$C$5000,2,0))","v":""}]
[null,null,"",null,null,null,null,{"$f":"IF(G3695=\"\",\"\",VLOOKUP(G3695,'Lista de precios'!$B$7:$C$5000,2,0))","v":""}]
[null,null,"",null,null,null,null,{"$f":"IF(G3696=\"\",\"\",VLOOKUP(G3696,'Lista de precios'!$B$7:$C$5000,2,0))","v":""}]
[null,null,"",null,null,null,null,{"$f":"IF(G3697=\"\",\"\",VLOOKUP(G3697,'Lista de precios'!$B$7:$C$5000,2,0))","v":""}]
[null,null,"",null,null,null,null,{"$f":"IF(G3698=\"\",\"\",VLOOKUP(G3698,'Lista de precios'!$B$7:$C$5000,2,0))","v":""}]
[null,null,"",null,null,null,null,{"$f":"IF(G3699=\"\",\"\",VLOOKUP(G3699,'Lista de precios'!$B$7:$C$5000,2,0))","v":""}]
[null,null,"",null,null,null,null,{"$f":"IF(G3700=\"\",\"\",VLOOKUP(G3700,'Lista de precios'!$B$7:$C$5000,2,0))","v":""}]
[null,null,"",null,null,null,null,{"$f":"IF(G3701=\"\",\"\",VLOOKUP(G3701,'Lista de precios'!$B$7:$C$5000,2,0))","v":""}]
[null,null,"",null,null,null,null,{"$f":"IF(G3702=\"\",\"\",VLOOKUP(G3702,'Lista de precios'!$B$7:$C$5000,2,0))","v":""}]
[null,null,"",null,null,null,null,{"$f":"IF(G3703=\"\",\"\",VLOOKUP(G3703,'Lista de precios'!$B$7:$C$5000,2,0))","v":""}]
[null,null,"",null,null,null,null,{"$f":"IF(G3704=\"\",\"\",VLOOKUP(G3704,'Lista de precios'!$B$7:$C$5000,2,0))","v":""}]
[null,null,"",null,null,null,null,{"$f":"IF(G3705=\"\",\"\",VLOOKUP(G3705,'Lista de precios'!$B$7:$C$5000,2,0))","v":""}]
[null,null,"",null,null,null,null,{"$f":"IF(G3706=\"\",\"\",VLOOKUP(G3706,'Lista de precios'!$B$7:$C$5000,2,0))","v":""}]
[null,null,"",null,null,null,null,{"$f":"IF(G3707=\"\",\"\",VLOOKUP(G3707,'Lista de precios'!$B$7:$C$5000,2,0))","v":""}]
[null,null,"",null,null,null,null,{"$f":"IF(G3708=\"\",\"\",VLOOKUP(G3708,'Lista de precios'!$B$7:$C$5000,2,0))","v":""}]
[null,null,"",null,null,null,null,{"$f":"IF(G3709=\"\",\"\",VLOOKUP(G3709,'Lista de precios'!$B$7:$C$5000,2,0))","v":""}]
[null,null,"",null,null,null,null,{"$f":"IF(G3710=\"\",\"\",VLOOKUP(G3710,'Lista de precios'!$B$7:$C$5000,2,0))","v":""}]
[null,null,"",null,null,null,null,{"$f":"IF(G3711=\"\",\"\",VLOOKUP(G3711,'Lista de precios'!$B$7:$C$5000,2,0))","v":""}]
[null,null,"",null,null,null,null,{"$f":"IF(G3712=\"\",\"\",VLOOKUP(G3712,'Lista de precios'!$B$7:$C$5000,2,0))","v":""}]
[null,null,"",null,null,null,null,{"$f":"IF(G3713=\"\",\"\",VLOOKUP(G3713,'Lista de precios'!$B$7:$C$5000,2,0))","v":""}]
[null,null,"",null,null,null,null,{"$f":"IF(G3714=\"\",\"\",VLOOKUP(G3714,'Lista de precios'!$B$7:$C$5000,2,0))","v":""}]
[null,null,"",null,null,null,null,{"$f":"IF(G3715=\"\",\"\",VLOOKUP(G3715,'Lista de precios'!$B$7:$C$5000,2,0))","v":""}]
[null,null,"",null,null,null,null,{"$f":"IF(G3716=\"\",\"\",VLOOKUP(G3716,'Lista de precios'!$B$7:$C$5000,2,0))","v":""}]
[null,null,"",null,null,null,null,{"$f":"IF(G3717=\"\",\"\",VLOOKUP(G3717,'Lista de precios'!$B$7:$C$5000,2,0))","v":""}]
[null,null,"",null,null,null,null,{"$f":"IF(G3718=\"\",\"\",VLOOKUP(G3718,'Lista de precios'!$B$7:$C$5000,2,0))","v":""}]
[null,null,"",null,null,null,null,{"$f":"IF(G3719=\"\",\"\",VLOOKUP(G3719,'Lista de precios'!$B$7:$C$5000,2,0))","v":""}]
[null,null,"",null,null,null,null,{"$f":"IF(G3720=\"\",\"\",VLOOKUP(G3720,'Lista de precios'!$B$7:$C$5000,2,0))","v":""}]
[null,null,"",null,null,null,null,{"$f":"IF(G3721=\"\",\"\",VLOOKUP(G3721,'Lista de precios'!$B$7:$C$5000,2,0))","v":""}]
[null,null,"",null,null,null,null,{"$f":"IF(G3722=\"\",\"\",VLOOKUP(G3722,'Lista de precios'!$B$7:$C$5000,2,0))","v":""}]
[null,null,"",null,null,null,null,{"$f":"IF(G3723=\"\",\"\",VLOOKUP(G3723,'Lista de precios'!$B$7:$C$5000,2,0))","v":""}]
[null,null,{"$f":"IF(B3724=\"\",\"\",TEXT(B3724,\"Mmmm\"))","v":""},null,null,null,null,{"$f":"IF(G3724=\"\",\"\",VLOOKUP(G3724,'Lista de precios'!$B$7:$C$5000,2,0))","v":""}]
[null,null,"",null,null,null,null,{"$f":"IF(G3725=\"\",\"\",VLOOKUP(G3725,'Lista de precios'!$B$7:$C$5000,2,0))","v":""}]
[null,null,"",null,null,null,null,{"$f":"IF(G3726=\"\",\"\",VLOOKUP(G3726,'Lista de precios'!$B$7:$C$5000,2,0))","v":""}]
[null,null,"",null,null,null,null,{"$f":"IF(G3727=\"\",\"\",VLOOKUP(G3727,'Lista de precios'!$B$7:$C$5000,2,0))","v":""}]
[null,null,"",null,null,null,null,{"$f":"IF(G3728=\"\",\"\",VLOOKUP(G3728,'Lista de precios'!$B$7:$C$5000,2,0))","v":""}]
[null,null,"",null,null,null,null,{"$f":"IF(G3729=\"\",\"\",VLOOKUP(G3729,'Lista de precios'!$B$7:$C$5000,2,0))","v":""}]
[null,null,"",null,null,null,null,{"$f":"IF(G3730=\"\",\"\",VLOOKUP(G3730,'Lista de precios'!$B$7:$C$5000,2,0))","v":""}]
[null,null,"",null,null,null,null,{"$f":"IF(G3731=\"\",\"\",VLOOKUP(G3731,'Lista de precios'!$B$7:$C$5000,2,0))","v":""}]
[null,null,"",null,null,null,null,{"$f":"IF(G3732=\"\",\"\",VLOOKUP(G3732,'Lista de precios'!$B$7:$C$5000,2,0))","v":""}]
[null,null,"",null,null,null,null,{"$f":"IF(G3733=\"\",\"\",VLOOKUP(G3733,'Lista de precios'!$B$7:$C$5000,2,0))","v":""}]
[null,null,"",null,null,null,null,{"$f":"IF(G3734=\"\",\"\",VLOOKUP(G3734,'Lista de precios'!$B$7:$C$5000,2,0))","v":""}]
[null,null,"",null,null,null,null,{"$f":"IF(G3735=\"\",\"\",VLOOKUP(G3735,'Lista de precios'!$B$7:$C$5000,2,0))","v":""}]
[null,null,"",null,null,null,null,{"$f":"IF(G3736=\"\",\"\",VLOOKUP(G3736,'Lista de precios'!$B$7:$C$5000,2,0))","v":""}]
[null,null,"",null,null,null,null,{"$f":"IF(G3737=\"\",\"\",VLOOKUP(G3737,'Lista de precios'!$B$7:$C$5000,2,0))","v":""}]
[null,null,"",null,null,null,null,{"$f":"IF(G3738=\"\",\"\",VLOOKUP(G3738,'Lista de precios'!$B$7:$C$5000,2,0))","v":""}]
[null,null,"",null,null,null,null,{"$f":"IF(G3739=\"\",\"\",VLOOKUP(G3739,'Lista de precios'!$B$7:$C$5000,2,0))","v":""}]
[null,null,"",null,null,null,null,{"$f":"IF(G3740=\"\",\"\",VLOOKUP(G3740,'Lista de precios'!$B$7:$C$5000,2,0))","v":""}]
[null,null,"",null,null,null,null,{"$f":"IF(G3741=\"\",\"\",VLOOKUP(G3741,'Lista de precios'!$B$7:$C$5000,2,0))","v":""}]
[null,null,"",null,null,null,null,{"$f":"IF(G3742=\"\",\"\",VLOOKUP(G3742,'Lista de precios'!$B$7:$C$5000,2,0))","v":""}]
[null,null,"",null,null,null,null,{"$f":"IF(G3743=\"\",\"\",VLOOKUP(G3743,'Lista de precios'!$B$7:$C$5000,2,0))","v":""}]
[null,null,"",null,null,null,null,{"$f":"IF(G3744=\"\",\"\",VLOOKUP(G3744,'Lista de precios'!$B$7:$C$5000,2,0))","v":""}]
[null,null,"",null,null,null,null,{"$f":"IF(G3745=\"\",\"\",VLOOKUP(G3745,'Lista de precios'!$B$7:$C$5000,2,0))","v":""}]
[null,null,"",null,null,null,null,{"$f":"IF(G3746=\"\",\"\",VLOOKUP(G3746,'Lista de precios'!$B$7:$C$5000,2,0))","v":""}]
[null,null,"",null,null,null,null,{"$f":"IF(G3747=\"\",\"\",VLOOKUP(G3747,'Lista de precios'!$B$7:$C$5000,2,0))","v":""}]
[null,null,"",null,null,null,null,{"$f":"IF(G3748=\"\",\"\",VLOOKUP(G3748,'Lista de precios'!$B$7:$C$5000,2,0))","v":""}]
[null,null,"",null,null,null,null,{"$f":"IF(G3749=\"\",\"\",VLOOKUP(G3749,'Lista de precios'!$B$7:$C$5000,2,0))","v":""}]
[null,null,"",null,null,null,null,{"$f":"IF(G3750=\"\",\"\",VLOOKUP(G3750,'Lista de precios'!$B$7:$C$5000,2,0))","v":""}]
[null,null,"",null,null,null,null,{"$f":"IF(G3751=\"\",\"\",VLOOKUP(G3751,'Lista de precios'!$B$7:$C$5000,2,0))","v":""}]
[null,null,"",null,null,null,null,{"$f":"IF(G3752=\"\",\"\",VLOOKUP(G3752,'Lista de precios'!$B$7:$C$5000,2,0))","v":""}]
[null,null,"",null,null,null,null,{"$f":"IF(G3753=\"\",\"\",VLOOKUP(G3753,'Lista de precios'!$B$7:$C$5000,2,0))","v":""}]
[null,null,"",null,null,null,null,{"$f":"IF(G3754=\"\",\"\",VLOOKUP(G3754,'Lista de precios'!$B$7:$C$5000,2,0))","v":""}]
[null,null,"",null,null,null,null,{"$f":"IF(G3755=\"\",\"\",VLOOKUP(G3755,'Lista de precios'!$B$7:$C$5000,2,0))","v":""}]
[null,null,"",null,null,null,null,{"$f":"IF(G3756=\"\",\"\",VLOOKUP(G3756,'Lista de precios'!$B$7:$C$5000,2,0))","v":""}]
[null,null,"",null,null,null,null,{"$f":"IF(G3757=\"\",\"\",VLOOKUP(G3757,'Lista de precios'!$B$7:$C$5000,2,0))","v":""}]
[null,null,"",null,null,null,null,{"$f":"IF(G3758=\"\",\"\",VLOOKUP(G3758,'Lista de precios'!$B$7:$C$5000,2,0))","v":""}]
[null,null,"",null,null,null,null,{"$f":"IF(G3759=\"\",\"\",VLOOKUP(G3759,'Lista de precios'!$B$7:$C$5000,2,0))","v":""}]
[null,null,"",null,null,null,null,{"$f":"IF(G3760=\"\",\"\",VLOOKUP(G3760,'Lista de precios'!$B$7:$C$5000,2,0))","v":""}]
[null,null,"",null,null,null,null,{"$f":"IF(G3761=\"\",\"\",VLOOKUP(G3761,'Lista de precios'!$B$7:$C$5000,2,0))","v":""}]
[null,null,"",null,null,null,null,{"$f":"IF(G3762=\"\",\"\",VLOOKUP(G3762,'Lista de precios'!$B$7:$C$5000,2,0))","v":""}]
[null,null,"",null,null,null,null,{"$f":"IF(G3763=\"\",\"\",VLOOKUP(G3763,'Lista de precios'!$B$7:$C$5000,2,0))","v":""}]
[null,null,"",null,null,null,null,{"$f":"IF(G3764=\"\",\"\",VLOOKUP(G3764,'Lista de precios'!$B$7:$C$5000,2,0))","v":""}]
[null,null,"",null,null,null,null,{"$f":"IF(G3765=\"\",\"\",VLOOKUP(G3765,'Lista de precios'!$B$7:$C$5000,2,0))","v":""}]
[null,null,"",null,null,null,null,{"$f":"IF(G3766=\"\",\"\",VLOOKUP(G3766,'Lista de precios'!$B$7:$C$5000,2,0))","v":""}]
[null,null,"",null,null,null,null,{"$f":"IF(G3767=\"\",\"\",VLOOKUP(G3767,'Lista de precios'!$B$7:$C$5000,2,0))","v":""}]
[null,null,"",null,null,null,null,{"$f":"IF(G3768=\"\",\"\",VLOOKUP(G3768,'Lista de precios'!$B$7:$C$5000,2,0))","v":""}]
[null,null,"",null,null,null,null,{"$f":"IF(G3769=\"\",\"\",VLOOKUP(G3769,'Lista de precios'!$B$7:$C$5000,2,0))","v":""}]
[null,null,"",null,null,null,null,{"$f":"IF(G3770=\"\",\"\",VLOOKUP(G3770,'Lista de precios'!$B$7:$C$5000,2,0))","v":""}]
[null,null,"",null,null,null,null,{"$f":"IF(G3771=\"\",\"\",VLOOKUP(G3771,'Lista de precios'!$B$7:$C$5000,2,0))","v":""}]
[null,null,"",null,null,null,null,{"$f":"IF(G3772=\"\",\"\",VLOOKUP(G3772,'Lista de precios'!$B$7:$C$5000,2,0))","v":""}]
[null,null,"",null,null,null,null,{"$f":"IF(G3773=\"\",\"\",VLOOKUP(G3773,'Lista de precios'!$B$7:$C$5000,2,0))","v":""}]
[null,null,"",null,null,null,null,{"$f":"IF(G3774=\"\",\"\",VLOOKUP(G3774,'Lista de precios'!$B$7:$C$5000,2,0))","v":""}]
[null,null,"",null,null,null,null,{"$f":"IF(G3775=\"\",\"\",VLOOKUP(G3775,'Lista de precios'!$B$7:$C$5000,2,0))","v":""}]
[null,null,"",null,null,null,null,{"$f":"IF(G3776=\"\",\"\",VLOOKUP(G3776,'Lista de precios'!$B$7:$C$5000,2,0))","v":""}]
[null,null,"",null,null,null,null,{"$f":"IF(G3777=\"\",\"\",VLOOKUP(G3777,'Lista de precios'!$B$7:$C$5000,2,0))","v":""}]
[null,null,"",null,null,null,null,{"$f":"IF(G3778=\"\",\"\",VLOOKUP(G3778,'Lista de precios'!$B$7:$C$5000,2,0))","v":""}]
[null,null,"",null,null,null,null,{"$f":"IF(G3779=\"\",\"\",VLOOKUP(G3779,'Lista de precios'!$B$7:$C$5000,2,0))","v":""}]
[null,null,"",null,null,null,null,{"$f":"IF(G3780=\"\",\"\",VLOOKUP(G3780,'Lista de precios'!$B$7:$C$5000,2,0))","v":""}]
[null,null,"",null,null,null,null,{"$f":"IF(G3781=\"\",\"\",VLOOKUP(G3781,'Lista de precios'!$B$7:$C$5000,2,0))","v":""}]
[null,null,"",null,null,null,null,{"$f":"IF(G3782=\"\",\"\",VLOOKUP(G3782,'Lista de precios'!$B$7:$C$5000,2,0))","v":""}]
[null,null,"",null,null,null,null,{"$f":"IF(G3783=\"\",\"\",VLOOKUP(G3783,'Lista de precios'!$B$7:$C$5000,2,0))","v":""}]
[null,null,"",null,null,null,null,{"$f":"IF(G3784=\"\",\"\",VLOOKUP(G3784,'Lista de precios'!$B$7:$C$5000,2,0))","v":""}]
[null,null,"",null,null,null,null,{"$f":"IF(G3785=\"\",\"\",VLOOKUP(G3785,'Lista de precios'!$B$7:$C$5000,2,0))","v":""}]
[null,null,"",null,null,null,null,{"$f":"IF(G3786=\"\",\"\",VLOOKUP(G3786,'Lista de precios'!$B$7:$C$5000,2,0))","v":""}]
[null,null,"",null,null,null,null,{"$f":"IF(G3787=\"\",\"\",VLOOKUP(G3787,'Lista de precios'!$B$7:$C$5000,2,0))","v":""}]
[null,null,{"$f":"IF(B3788=\"\",\"\",TEXT(B3788,\"Mmmm\"))","v":""},null,null,null,null,{"$f":"IF(G3788=\"\",\"\",VLOOKUP(G3788,'Lista de precios'!$B$7:$C$5000,2,0))","v":""}]
[null,null,"",null,null,null,null,{"$f":"IF(G3789=\"\",\"\",VLOOKUP(G3789,'Lista de precios'!$B$7:$C$5000,2,0))","v":""}]
[null,null,"",null,null,null,null,{"$f":"IF(G3790=\"\",\"\",VLOOKUP(G3790,'Lista de precios'!$B$7:$C$5000,2,0))","v":""}]
[null,null,"",null,null,null,null,{"$f":"IF(G3791=\"\",\"\",VLOOKUP(G3791,'Lista de precios'!$B$7:$C$5000,2,0))","v":""}]
[null,null,"",null,null,null,null,{"$f":"IF(G3792=\"\",\"\",VLOOKUP(G3792,'Lista de precios'!$B$7:$C$5000,2,0))","v":""}]
[null,null,"",null,null,null,null,{"$f":"IF(G3793=\"\",\"\",VLOOKUP(G3793,'Lista de precios'!$B$7:$C$5000,2,0))","v":""}]
[null,null,"",null,null,null,null,{"$f":"IF(G3794=\"\",\"\",VLOOKUP(G3794,'Lista de precios'!$B$7:$C$5000,2,0))","v":""}]
[null,null,"",null,null,null,null,{"$f":"IF(G3795=\"\",\"\",VLOOKUP(G3795,'Lista de precios'!$B$7:$C$5000,2,0))","v":""}]
[null,null,"",null,null,null,null,{"$f":"IF(G3796=\"\",\"\",VLOOKUP(G3796,'Lista de precios'!$B$7:$C$5000,2,0))","v":""}]
[null,null,"",null,null,null,null,{"$f":"IF(G3797=\"\",\"\",VLOOKUP(G3797,'Lista de precios'!$B$7:$C$5000,2,0))","v":""}]
[null,null,"",null,null,null,null,{"$f":"IF(G3798=\"\",\"\",VLOOKUP(G3798,'Lista de precios'!$B$7:$C$5000,2,0))","v":""}]
[null,null,"",null,null,null,null,{"$f":"IF(G3799=\"\",\"\",VLOOKUP(G3799,'Lista de precios'!$B$7:$C$5000,2,0))","v":""}]
[null,null,"",null,null,null,null,{"$f":"IF(G3800=\"\",\"\",VLOOKUP(G3800,'Lista de precios'!$B$7:$C$5000,2,0))","v":""}]
[null,null,"",null,null,null,null,{"$f":"IF(G3801=\"\",\"\",VLOOKUP(G3801,'Lista de precios'!$B$7:$C$5000,2,0))","v":""}]
[null,null,"",null,null,null,null,{"$f":"IF(G3802=\"\",\"\",VLOOKUP(G3802,'Lista de precios'!$B$7:$C$5000,2,0))","v":""}]
[null,null,"",null,null,null,null,{"$f":"IF(G3803=\"\",\"\",VLOOKUP(G3803,'Lista de precios'!$B$7:$C$5000,2,0))","v":""}]
[null,null,"",null,null,null,null,{"$f":"IF(G3804=\"\",\"\",VLOOKUP(G3804,'Lista de precios'!$B$7:$C$5000,2,0))","v":""}]
[null,null,"",null,null,null,null,{"$f":"IF(G3805=\"\",\"\",VLOOKUP(G3805,'Lista de precios'!$B$7:$C$5000,2,0))","v":""}]
[null,null,"",null,null,null,null,{"$f":"IF(G3806=\"\",\"\",VLOOKUP(G3806,'Lista de precios'!$B$7:$C$5000,2,0))","v":""}]
[null,null,"",null,null,null,null,{"$f":"IF(G3807=\"\",\"\",VLOOKUP(G3807,'Lista de precios'!$B$7:$C$5000,2,0))","v":""}]
[null,null,"",null,null,null,null,{"$f":"IF(G3808=\"\",\"\",VLOOKUP(G3808,'Lista de precios'!$B$7:$C$5000,2,0))","v":""}]
[null,null,"",null,null,null,null,{"$f":"IF(G3809=\"\",\"\",VLOOKUP(G3809,'Lista de precios'!$B$7:$C$5000,2,0))","v":""}]
[null,null,"",null,null,null,null,{"$f":"IF(G3810=\"\",\"\",VLOOKUP(G3810,'Lista de precios'!$B$7:$C$5000,2,0))","v":""}]
[null,null,"",null,null,null,null,{"$f":"IF(G3811=\"\",\"\",VLOOKUP(G3811,'Lista de precios'!$B$7:$C$5000,2,0))","v":""}]
[null,null,"",null,null,null,null,{"$f":"IF(G3812=\"\",\"\",VLOOKUP(G3812,'Lista de precios'!$B$7:$C$5000,2,0))","v":""}]
[null,null,"",null,null,null,null,{"$f":"IF(G3813=\"\",\"\",VLOOKUP(G3813,'Lista de precios'!$B$7:$C$5000,2,0))","v":""}]
[null,null,"",null,null,null,null,{"$f":"IF(G3814=\"\",\"\",VLOOKUP(G3814,'Lista de precios'!$B$7:$C$5000,2,0))","v":""}]
[null,null,"",null,null,null,null,{"$f":"IF(G3815=\"\",\"\",VLOOKUP(G3815,'Lista de precios'!$B$7:$C$5000,2,0))","v":""}]
[null,null,"",null,null,null,null,{"$f":"IF(G3816=\"\",\"\",VLOOKUP(G3816,'Lista de precios'!$B$7:$C$5000,2,0))","v":""}]
[null,null,"",null,null,null,null,{"$f":"IF(G3817=\"\",\"\",VLOOKUP(G3817,'Lista de precios'!$B$7:$C$5000,2,0))","v":""}]
[null,null,"",null,null,null,null,{"$f":"IF(G3818=\"\",\"\",VLOOKUP(G3818,'Lista de precios'!$B$7:$C$5000,2,0))","v":""}]
[null,null,"",null,null,null,null,{"$f":"IF(G3819=\"\",\"\",VLOOKUP(G3819,'Lista de precios'!$B$7:$C$5000,2,0))","v":""}]
[null,null,"",null,null,null,null,{"$f":"IF(G3820=\"\",\"\",VLOOKUP(G3820,'Lista de precios'!$B$7:$C$5000,2,0))","v":""}]
[null,null,"",null,null,null,null,{"$f":"IF(G3821=\"\",\"\",VLOOKUP(G3821,'Lista de precios'!$B$7:$C$5000,2,0))","v":""}]
[null,null,"",null,null,null,null,{"$f":"IF(G3822=\"\",\"\",VLOOKUP(G3822,'Lista de precios'!$B$7:$C$5000,2,0))","v":""}]
[null,null,"",null,null,null,null,{"$f":"IF(G3823=\"\",\"\",VLOOKUP(G3823,'Lista de precios'!$B$7:$C$5000,2,0))","v":""}]
[null,null,"",null,null,null,null,{"$f":"IF(G3824=\"\",\"\",VLOOKUP(G3824,'Lista de precios'!$B$7:$C$5000,2,0))","v":""}]
[null,null,"",null,null,null,null,{"$f":"IF(G3825=\"\",\"\",VLOOKUP(G3825,'Lista de precios'!$B$7:$C$5000,2,0))","v":""}]
[null,null,"",null,null,null,null,{"$f":"IF(G3826=\"\",\"\",VLOOKUP(G3826,'Lista de precios'!$B$7:$C$5000,2,0))","v":""}]
[null,null,"",null,null,null,null,{"$f":"IF(G3827=\"\",\"\",VLOOKUP(G3827,'Lista de precios'!$B$7:$C$5000,2,0))","v":""}]
[null,null,"",null,null,null,null,{"$f":"IF(G3828=\"\",\"\",VLOOKUP(G3828,'Lista de precios'!$B$7:$C$5000,2,0))","v":""}]
[null,null,"",null,null,null,null,{"$f":"IF(G3829=\"\",\"\",VLOOKUP(G3829,'Lista de precios'!$B$7:$C$5000,2,0))","v":""}]
[null,null,"",null,null,null,null,{"$f":"IF(G3830=\"\",\"\",VLOOKUP(G3830,'Lista de precios'!$B$7:$C$5000,2,0))","v":""}]
[null,null,"",null,null,null,null,{"$f":"IF(G3831=\"\",\"\",VLOOKUP(G3831,'Lista de precios'!$B$7:$C$5000,2,0))","v":""}]
[null,null,"",null,null,null,null,{"$f":"IF(G3832=\"\",\"\",VLOOKUP(G3832,'Lista de precios'!$B$7:$C$5000,2,0))","v":""}]
[null,null,"",null,null,null,null,{"$f":"IF(G3833=\"\",\"\",VLOOKUP(G3833,'Lista de precios'!$B$7:$C$5000,2,0))","v":""}]
[null,null,"",null,null,null,null,{"$f":"IF(G3834=\"\",\"\",VLOOKUP(G3834,'Lista de precios'!$B$7:$C$5000,2,0))","v":""}]
[null,null,"",null,null,null,null,{"$f":"IF(G3835=\"\",\"\",VLOOKUP(G3835,'Lista de precios'!$B$7:$C$5000,2,0))","v":""}]
[null,null,"",null,null,null,null,{"$f":"IF(G3836=\"\",\"\",VLOOKUP(G3836,'Lista de precios'!$B$7:$C$5000,2,0))","v":""}]
[null,null,"",null,null,null,null,{"$f":"IF(G3837=\"\",\"\",VLOOKUP(G3837,'Lista de precios'!$B$7:$C$5000,2,0))","v":""}]
[null,null,"",null,null,null,null,{"$f":"IF(G3838=\"\",\"\",VLOOKUP(G3838,'Lista de precios'!$B$7:$C$5000,2,0))","v":""}]
[null,null,"",null,null,null,null,{"$f":"IF(G3839=\"\",\"\",VLOOKUP(G3839,'Lista de precios'!$B$7:$C$5000,2,0))","v":""}]
[null,null,"",null,null,null,null,{"$f":"IF(G3840=\"\",\"\",VLOOKUP(G3840,'Lista de precios'!$B$7:$C$5000,2,0))","v":""}]
[null,null,"",null,null,null,null,{"$f":"IF(G3841=\"\",\"\",VLOOKUP(G3841,'Lista de precios'!$B$7:$C$5000,2,0))","v":""}]
[null,null,"",null,null,null,null,{"$f":"IF(G3842=\"\",\"\",VLOOKUP(G3842,'Lista de precios'!$B$7:$C$5000,2,0))","v":""}]
[null,null,"",null,null,null,null,{"$f":"IF(G3843=\"\",\"\",VLOOKUP(G3843,'Lista de precios'!$B$7:$C$5000,2,0))","v":""}]
[null,null,"",null,null,null,null,{"$f":"IF(G3844=\"\",\"\",VLOOKUP(G3844,'Lista de precios'!$B$7:$C$5000,2,0))","v":""}]
[null,null,"",null,null,null,null,{"$f":"IF(G3845=\"\",\"\",VLOOKUP(G3845,'Lista de precios'!$B$7:$C$5000,2,0))","v":""}]
[null,null,"",null,null,null,null,{"$f":"IF(G3846=\"\",\"\",VLOOKUP(G3846,'Lista de precios'!$B$7:$C$5000,2,0))","v":""}]
[null,null,"",null,null,null,null,{"$f":"IF(G3847=\"\",\"\",VLOOKUP(G3847,'Lista de precios'!$B$7:$C$5000,2,0))","v":""}]
[null,null,"",null,null,null,null,{"$f":"IF(G3848=\"\",\"\",VLOOKUP(G3848,'Lista de precios'!$B$7:$C$5000,2,0))","v":""}]
[null,null,"",null,null,null,null,{"$f":"IF(G3849=\"\",\"\",VLOOKUP(G3849,'Lista de precios'!$B$7:$C$5000,2,0))","v":""}]
[null,null,"",null,null,null,null,{"$f":"IF(G3850=\"\",\"\",VLOOKUP(G3850,'Lista de precios'!$B$7:$C$5000,2,0))","v":""}]
[null,null,"",null,null,null,null,{"$f":"IF(G3851=\"\",\"\",VLOOKUP(G3851,'Lista de precios'!$B$7:$C$5000,2,0))","v":""}]
[null,null,{"$f":"IF(B3852=\"\",\"\",TEXT(B3852,\"Mmmm\"))","v":""},null,null,null,null,{"$f":"IF(G3852=\"\",\"\",VLOOKUP(G3852,'Lista de precios'!$B$7:$C$5000,2,0))","v":""}]
[null,null,"",null,null,null,null,{"$f":"IF(G3853=\"\",\"\",VLOOKUP(G3853,'Lista de precios'!$B$7:$C$5000,2,0))","v":""}]
[null,null,"",null,null,null,null,{"$f":"IF(G3854=\"\",\"\",VLOOKUP(G3854,'Lista de precios'!$B$7:$C$5000,2,0))","v":""}]
[null,null,"",null,null,null,null,{"$f":"IF(G3855=\"\",\"\",VLOOKUP(G3855,'Lista de precios'!$B$7:$C$5000,2,0))","v":""}]
[null,null,"",null,null,null,null,{"$f":"IF(G3856=\"\",\"\",VLOOKUP(G3856,'Lista de precios'!$B$7:$C$5000,2,0))","v":""}]
[null,null,"",null,null,null,null,{"$f":"IF(G3857=\"\",\"\",VLOOKUP(G3857,'Lista de precios'!$B$7:$C$5000,2,0))","v":""}]
[null,null,"",null,null,null,null,{"$f":"IF(G3858=\"\",\"\",VLOOKUP(G3858,'Lista de precios'!$B$7:$C$5000,2,0))","v":""}]
[null,null,"",null,null,null,null,{"$f":"IF(G3859=\"\",\"\",VLOOKUP(G3859,'Lista de precios'!$B$7:$C$5000,2,0))","v":""}]
[null,null,"",null,null,null,null,{"$f":"IF(G3860=\"\",\"\",VLOOKUP(G3860,'Lista de precios'!$B$7:$C$5000,2,0))","v":""}]
[null,null,"",null,null,null,null,{"$f":"IF(G3861=\"\",\"\",VLOOKUP(G3861,'Lista de precios'!$B$7:$C$5000,2,0))","v":""}]
[null,null,"",null,null,null,null,{"$f":"IF(G3862=\"\",\"\",VLOOKUP(G3862,'Lista de precios'!$B$7:$C$5000,2,0))","v":""}]
[null,null,"",null,null,null,null,{"$f":"IF(G3863=\"\",\"\",VLOOKUP(G3863,'Lista de precios'!$B$7:$C$5000,2,0))","v":""}]
[null,null,"",null,null,null,null,{"$f":"IF(G3864=\"\",\"\",VLOOKUP(G3864,'Lista de precios'!$B$7:$C$5000,2,0))","v":""}]
[null,null,"",null,null,null,null,{"$f":"IF(G3865=\"\",\"\",VLOOKUP(G3865,'Lista de precios'!$B$7:$C$5000,2,0))","v":""}]
[null,null,"",null,null,null,null,{"$f":"IF(G3866=\"\",\"\",VLOOKUP(G3866,'Lista de precios'!$B$7:$C$5000,2,0))","v":""}]
[null,null,"",null,null,null,null,{"$f":"IF(G3867=\"\",\"\",VLOOKUP(G3867,'Lista de precios'!$B$7:$C$5000,2,0))","v":""}]
[null,null,"",null,null,null,null,{"$f":"IF(G3868=\"\",\"\",VLOOKUP(G3868,'Lista de precios'!$B$7:$C$5000,2,0))","v":""}]
[null,null,"",null,null,null,null,{"$f":"IF(G3869=\"\",\"\",VLOOKUP(G3869,'Lista de precios'!$B$7:$C$5000,2,0))","v":""}]
[null,null,"",null,null,null,null,{"$f":"IF(G3870=\"\",\"\",VLOOKUP(G3870,'Lista de precios'!$B$7:$C$5000,2,0))","v":""}]
[null,null,"",null,null,null,null,{"$f":"IF(G3871=\"\",\"\",VLOOKUP(G3871,'Lista de precios'!$B$7:$C$5000,2,0))","v":""}]
[null,null,"",null,null,null,null,{"$f":"IF(G3872=\"\",\"\",VLOOKUP(G3872,'Lista de precios'!$B$7:$C$5000,2,0))","v":""}]
[null,null,"",null,null,null,null,{"$f":"IF(G3873=\"\",\"\",VLOOKUP(G3873,'Lista de precios'!$B$7:$C$5000,2,0))","v":""}]
[null,null,"",null,null,null,null,{"$f":"IF(G3874=\"\",\"\",VLOOKUP(G3874,'Lista de precios'!$B$7:$C$5000,2,0))","v":""}]
[null,null,"",null,null,null,null,{"$f":"IF(G3875=\"\",\"\",VLOOKUP(G3875,'Lista de precios'!$B$7:$C$5000,2,0))","v":""}]
[null,null,"",null,null,null,null,{"$f":"IF(G3876=\"\",\"\",VLOOKUP(G3876,'Lista de precios'!$B$7:$C$5000,2,0))","v":""}]
[null,null,"",null,null,null,null,{"$f":"IF(G3877=\"\",\"\",VLOOKUP(G3877,'Lista de precios'!$B$7:$C$5000,2,0))","v":""}]
[null,null,"",null,null,null,null,{"$f":"IF(G3878=\"\",\"\",VLOOKUP(G3878,'Lista de precios'!$B$7:$C$5000,2,0))","v":""}]
[null,null,"",null,null,null,null,{"$f":"IF(G3879=\"\",\"\",VLOOKUP(G3879,'Lista de precios'!$B$7:$C$5000,2,0))","v":""}]
[null,null,"",null,null,null,null,{"$f":"IF(G3880=\"\",\"\",VLOOKUP(G3880,'Lista de precios'!$B$7:$C$5000,2,0))","v":""}]
[null,null,"",null,null,null,null,{"$f":"IF(G3881=\"\",\"\",VLOOKUP(G3881,'Lista de precios'!$B$7:$C$5000,2,0))","v":""}]
[null,null,"",null,null,null,null,{"$f":"IF(G3882=\"\",\"\",VLOOKUP(G3882,'Lista de precios'!$B$7:$C$5000,2,0))","v":""}]
[null,null,"",null,null,null,null,{"$f":"IF(G3883=\"\",\"\",VLOOKUP(G3883,'Lista de precios'!$B$7:$C$5000,2,0))","v":""}]
[null,null,"",null,null,null,null,{"$f":"IF(G3884=\"\",\"\",VLOOKUP(G3884,'Lista de precios'!$B$7:$C$5000,2,0))","v":""}]
[null,null,"",null,null,null,null,{"$f":"IF(G3885=\"\",\"\",VLOOKUP(G3885,'Lista de precios'!$B$7:$C$5000,2,0))","v":""}]
[null,null,"",null,null,null,null,{"$f":"IF(G3886=\"\",\"\",VLOOKUP(G3886,'Lista de precios'!$B$7:$C$5000,2,0))","v":""}]
[null,null,"",null,null,null,null,{"$f":"IF(G3887=\"\",\"\",VLOOKUP(G3887,'Lista de precios'!$B$7:$C$5000,2,0))","v":""}]
[null,null,"",null,null,null,null,{"$f":"IF(G3888=\"\",\"\",VLOOKUP(G3888,'Lista de precios'!$B$7:$C$5000,2,0))","v":""}]
[null,null,"",null,null,null,null,{"$f":"IF(G3889=\"\",\"\",VLOOKUP(G3889,'Lista de precios'!$B$7:$C$5000,2,0))","v":""}]
[null,null,"",null,null,null,null,{"$f":"IF(G3890=\"\",\"\",VLOOKUP(G3890,'Lista de precios'!$B$7:$C$5000,2,0))","v":""}]
[null,null,"",null,null,null,null,{"$f":"IF(G3891=\"\",\"\",VLOOKUP(G3891,'Lista de precios'!$B$7:$C$5000,2,0))","v":""}]
[null,null,"",null,null,null,null,{"$f":"IF(G3892=\"\",\"\",VLOOKUP(G3892,'Lista de precios'!$B$7:$C$5000,2,0))","v":""}]
[null,null,"",null,null,null,null,{"$f":"IF(G3893=\"\",\"\",VLOOKUP(G3893,'Lista de precios'!$B$7:$C$5000,2,0))","v":""}]
[null,null,"",null,null,null,null,{"$f":"IF(G3894=\"\",\"\",VLOOKUP(G3894,'Lista de precios'!$B$7:$C$5000,2,0))","v":""}]
[null,null,"",null,null,null,null,{"$f":"IF(G3895=\"\",\"\",VLOOKUP(G3895,'Lista de precios'!$B$7:$C$5000,2,0))","v":""}]
[null,null,"",null,null,null,null,{"$f":"IF(G3896=\"\",\"\",VLOOKUP(G3896,'Lista de precios'!$B$7:$C$5000,2,0))","v":""}]
[null,null,"",null,null,null,null,{"$f":"IF(G3897=\"\",\"\",VLOOKUP(G3897,'Lista de precios'!$B$7:$C$5000,2,0))","v":""}]
[null,null,"",null,null,null,null,{"$f":"IF(G3898=\"\",\"\",VLOOKUP(G3898,'Lista de precios'!$B$7:$C$5000,2,0))","v":""}]
[null,null,"",null,null,null,null,{"$f":"IF(G3899=\"\",\"\",VLOOKUP(G3899,'Lista de precios'!$B$7:$C$5000,2,0))","v":""}]
[null,null,"",null,null,null,null,{"$f":"IF(G3900=\"\",\"\",VLOOKUP(G3900,'Lista de precios'!$B$7:$C$5000,2,0))","v":""}]
[null,null,"",null,null,null,null,{"$f":"IF(G3901=\"\",\"\",VLOOKUP(G3901,'Lista de precios'!$B$7:$C$5000,2,0))","v":""}]
[null,null,"",null,null,null,null,{"$f":"IF(G3902=\"\",\"\",VLOOKUP(G3902,'Lista de precios'!$B$7:$C$5000,2,0))","v":""}]
[null,null,"",null,null,null,null,{"$f":"IF(G3903=\"\",\"\",VLOOKUP(G3903,'Lista de precios'!$B$7:$C$5000,2,0))","v":""}]
[null,null,"",null,null,null,null,{"$f":"IF(G3904=\"\",\"\",VLOOKUP(G3904,'Lista de precios'!$B$7:$C$5000,2,0))","v":""}]
[null,null,"",null,null,null,null,{"$f":"IF(G3905=\"\",\"\",VLOOKUP(G3905,'Lista de precios'!$B$7:$C$5000,2,0))","v":""}]
[null,null,"",null,null,null,null,{"$f":"IF(G3906=\"\",\"\",VLOOKUP(G3906,'Lista de precios'!$B$7:$C$5000,2,0))","v":""}]
[null,null,"",null,null,null,null,{"$f":"IF(G3907=\"\",\"\",VLOOKUP(G3907,'Lista de precios'!$B$7:$C$5000,2,0))","v":""}]
[null,null,"",null,null,null,null,{"$f":"IF(G3908=\"\",\"\",VLOOKUP(G3908,'Lista de precios'!$B$7:$C$5000,2,0))","v":""}]
[null,null,"",null,null,null,null,{"$f":"IF(G3909=\"\",\"\",VLOOKUP(G3909,'Lista de precios'!$B$7:$C$5000,2,0))","v":""}]
[null,null,"",null,null,null,null,{"$f":"IF(G3910=\"\",\"\",VLOOKUP(G3910,'Lista de precios'!$B$7:$C$5000,2,0))","v":""}]
[null,null,"",null,null,null,null,{"$f":"IF(G3911=\"\",\"\",VLOOKUP(G3911,'Lista de precios'!$B$7:$C$5000,2,0))","v":""}]
[null,null,"",null,null,null,null,{"$f":"IF(G3912=\"\",\"\",VLOOKUP(G3912,'Lista de precios'!$B$7:$C$5000,2,0))","v":""}]
[null,null,"",null,null,null,null,{"$f":"IF(G3913=\"\",\"\",VLOOKUP(G3913,'Lista de precios'!$B$7:$C$5000,2,0))","v":""}]
[null,null,"",null,null,null,null,{"$f":"IF(G3914=\"\",\"\",VLOOKUP(G3914,'Lista de precios'!$B$7:$C$5000,2,0))","v":""}]
[null,null,"",null,null,null,null,{"$f":"IF(G3915=\"\",\"\",VLOOKUP(G3915,'Lista de precios'!$B$7:$C$5000,2,0))","v":""}]
[null,null,{"$f":"IF(B3916=\"\",\"\",TEXT(B3916,\"Mmmm\"))","v":""},null,null,null,null,{"$f":"IF(G3916=\"\",\"\",VLOOKUP(G3916,'Lista de precios'!$B$7:$C$5000,2,0))","v":""}]
[null,null,"",null,null,null,null,{"$f":"IF(G3917=\"\",\"\",VLOOKUP(G3917,'Lista de precios'!$B$7:$C$5000,2,0))","v":""}]
[null,null,"",null,null,null,null,{"$f":"IF(G3918=\"\",\"\",VLOOKUP(G3918,'Lista de precios'!$B$7:$C$5000,2,0))","v":""}]
[null,null,"",null,null,null,null,{"$f":"IF(G3919=\"\",\"\",VLOOKUP(G3919,'Lista de precios'!$B$7:$C$5000,2,0))","v":""}]
[null,null,"",null,null,null,null,{"$f":"IF(G3920=\"\",\"\",VLOOKUP(G3920,'Lista de precios'!$B$7:$C$5000,2,0))","v":""}]
[null,null,"",null,null,null,null,{"$f":"IF(G3921=\"\",\"\",VLOOKUP(G3921,'Lista de precios'!$B$7:$C$5000,2,0))","v":""}]
[null,null,"",null,null,null,null,{"$f":"IF(G3922=\"\",\"\",VLOOKUP(G3922,'Lista de precios'!$B$7:$C$5000,2,0))","v":""}]
[null,null,"",null,null,null,null,{"$f":"IF(G3923=\"\",\"\",VLOOKUP(G3923,'Lista de precios'!$B$7:$C$5000,2,0))","v":""}]
[null,null,"",null,null,null,null,{"$f":"IF(G3924=\"\",\"\",VLOOKUP(G3924,'Lista de precios'!$B$7:$C$5000,2,0))","v":""}]
[null,null,"",null,null,null,null,{"$f":"IF(G3925=\"\",\"\",VLOOKUP(G3925,'Lista de precios'!$B$7:$C$5000,2,0))","v":""}]
[null,null,"",null,null,null,null,{"$f":"IF(G3926=\"\",\"\",VLOOKUP(G3926,'Lista de precios'!$B$7:$C$5000,2,0))","v":""}]
[null,null,"",null,null,null,null,{"$f":"IF(G3927=\"\",\"\",VLOOKUP(G3927,'Lista de precios'!$B$7:$C$5000,2,0))","v":""}]
[null,null,"",null,null,null,null,{"$f":"IF(G3928=\"\",\"\",VLOOKUP(G3928,'Lista de precios'!$B$7:$C$5000,2,0))","v":""}]
[null,null,"",null,null,null,null,{"$f":"IF(G3929=\"\",\"\",VLOOKUP(G3929,'Lista de precios'!$B$7:$C$5000,2,0))","v":""}]
[null,null,"",null,null,null,null,{"$f":"IF(G3930=\"\",\"\",VLOOKUP(G3930,'Lista de precios'!$B$7:$C$5000,2,0))","v":""}]
[null,null,"",null,null,null,null,{"$f":"IF(G3931=\"\",\"\",VLOOKUP(G3931,'Lista de precios'!$B$7:$C$5000,2,0))","v":""}]
[null,null,"",null,null,null,null,{"$f":"IF(G3932=\"\",\"\",VLOOKUP(G3932,'Lista de precios'!$B$7:$C$5000,2,0))","v":""}]
[null,null,"",null,null,null,null,{"$f":"IF(G3933=\"\",\"\",VLOOKUP(G3933,'Lista de precios'!$B$7:$C$5000,2,0))","v":""}]
[null,null,"",null,null,null,null,{"$f":"IF(G3934=\"\",\"\",VLOOKUP(G3934,'Lista de precios'!$B$7:$C$5000,2,0))","v":""}]
[null,null,"",null,null,null,null,{"$f":"IF(G3935=\"\",\"\",VLOOKUP(G3935,'Lista de precios'!$B$7:$C$5000,2,0))","v":""}]
[null,null,"",null,null,null,null,{"$f":"IF(G3936=\"\",\"\",VLOOKUP(G3936,'Lista de precios'!$B$7:$C$5000,2,0))","v":""}]
[null,null,"",null,null,null,null,{"$f":"IF(G3937=\"\",\"\",VLOOKUP(G3937,'Lista de precios'!$B$7:$C$5000,2,0))","v":""}]
[null,null,"",null,null,null,null,{"$f":"IF(G3938=\"\",\"\",VLOOKUP(G3938,'Lista de precios'!$B$7:$C$5000,2,0))","v":""}]
[null,null,"",null,null,null,null,{"$f":"IF(G3939=\"\",\"\",VLOOKUP(G3939,'Lista de precios'!$B$7:$C$5000,2,0))","v":""}]
[null,null,"",null,null,null,null,{"$f":"IF(G3940=\"\",\"\",VLOOKUP(G3940,'Lista de precios'!$B$7:$C$5000,2,0))","v":""}]
[null,null,"",null,null,null,null,{"$f":"IF(G3941=\"\",\"\",VLOOKUP(G3941,'Lista de precios'!$B$7:$C$5000,2,0))","v":""}]
[null,null,"",null,null,null,null,{"$f":"IF(G3942=\"\",\"\",VLOOKUP(G3942,'Lista de precios'!$B$7:$C$5000,2,0))","v":""}]
[null,null,"",null,null,null,null,{"$f":"IF(G3943=\"\",\"\",VLOOKUP(G3943,'Lista de precios'!$B$7:$C$5000,2,0))","v":""}]
[null,null,"",null,null,null,null,{"$f":"IF(G3944=\"\",\"\",VLOOKUP(G3944,'Lista de precios'!$B$7:$C$5000,2,0))","v":""}]
[null,null,"",null,null,null,null,{"$f":"IF(G3945=\"\",\"\",VLOOKUP(G3945,'Lista de precios'!$B$7:$C$5000,2,0))","v":""}]
[null,null,"",null,null,null,null,{"$f":"IF(G3946=\"\",\"\",VLOOKUP(G3946,'Lista de precios'!$B$7:$C$5000,2,0))","v":""}]
[null,null,"",null,null,null,null,{"$f":"IF(G3947=\"\",\"\",VLOOKUP(G3947,'Lista de precios'!$B$7:$C$5000,2,0))","v":""}]
[null,null,"",null,null,null,null,{"$f":"IF(G3948=\"\",\"\",VLOOKUP(G3948,'Lista de precios'!$B$7:$C$5000,2,0))","v":""}]
[null,null,"",null,null,null,null,{"$f":"IF(G3949=\"\",\"\",VLOOKUP(G3949,'Lista de precios'!$B$7:$C$5000,2,0))","v":""}]
[null,null,"",null,null,null,null,{"$f":"IF(G3950=\"\",\"\",VLOOKUP(G3950,'Lista de precios'!$B$7:$C$5000,2,0))","v":""}]
[null,null,"",null,null,null,null,{"$f":"IF(G3951=\"\",\"\",VLOOKUP(G3951,'Lista de precios'!$B$7:$C$5000,2,0))","v":""}]
[null,null,"",null,null,null,null,{"$f":"IF(G3952=\"\",\"\",VLOOKUP(G3952,'Lista de precios'!$B$7:$C$5000,2,0))","v":""}]
[null,null,"",null,null,null,null,{"$f":"IF(G3953=\"\",\"\",VLOOKUP(G3953,'Lista de precios'!$B$7:$C$5000,2,0))","v":""}]
[null,null,"",null,null,null,null,{"$f":"IF(G3954=\"\",\"\",VLOOKUP(G3954,'Lista de precios'!$B$7:$C$5000,2,0))","v":""}]
[null,null,"",null,null,null,null,{"$f":"IF(G3955=\"\",\"\",VLOOKUP(G3955,'Lista de precios'!$B$7:$C$5000,2,0))","v":""}]
[null,null,"",null,null,null,null,{"$f":"IF(G3956=\"\",\"\",VLOOKUP(G3956,'Lista de precios'!$B$7:$C$5000,2,0))","v":""}]
[null,null,"",null,null,null,null,{"$f":"IF(G3957=\"\",\"\",VLOOKUP(G3957,'Lista de precios'!$B$7:$C$5000,2,0))","v":""}]
[null,null,"",null,null,null,null,{"$f":"IF(G3958=\"\",\"\",VLOOKUP(G3958,'Lista de precios'!$B$7:$C$5000,2,0))","v":""}]
[null,null,"",null,null,null,null,{"$f":"IF(G3959=\"\",\"\",VLOOKUP(G3959,'Lista de precios'!$B$7:$C$5000,2,0))","v":""}]
[null,null,"",null,null,null,null,{"$f":"IF(G3960=\"\",\"\",VLOOKUP(G3960,'Lista de precios'!$B$7:$C$5000,2,0))","v":""}]
[null,null,"",null,null,null,null,{"$f":"IF(G3961=\"\",\"\",VLOOKUP(G3961,'Lista de precios'!$B$7:$C$5000,2,0))","v":""}]
[null,null,"",null,null,null,null,{"$f":"IF(G3962=\"\",\"\",VLOOKUP(G3962,'Lista de precios'!$B$7:$C$5000,2,0))","v":""}]
[null,null,"",null,null,null,null,{"$f":"IF(G3963=\"\",\"\",VLOOKUP(G3963,'Lista de precios'!$B$7:$C$5000,2,0))","v":""}]
[null,null,"",null,null,null,null,{"$f":"IF(G3964=\"\",\"\",VLOOKUP(G3964,'Lista de precios'!$B$7:$C$5000,2,0))","v":""}]
[null,null,"",null,null,null,null,{"$f":"IF(G3965=\"\",\"\",VLOOKUP(G3965,'Lista de precios'!$B$7:$C$5000,2,0))","v":""}]
[null,null,"",null,null,null,null,{"$f":"IF(G3966=\"\",\"\",VLOOKUP(G3966,'Lista de precios'!$B$7:$C$5000,2,0))","v":""}]
[null,null,"",null,null,null,null,{"$f":"IF(G3967=\"\",\"\",VLOOKUP(G3967,'Lista de precios'!$B$7:$C$5000,2,0))","v":""}]
[null,null,"",null,null,null,null,{"$f":"IF(G3968=\"\",\"\",VLOOKUP(G3968,'Lista de precios'!$B$7:$C$5000,2,0))","v":""}]
[null,null,"",null,null,null,null,{"$f":"IF(G3969=\"\",\"\",VLOOKUP(G3969,'Lista de precios'!$B$7:$C$5000,2,0))","v":""}]
[null,null,"",null,null,null,null,{"$f":"IF(G3970=\"\",\"\",VLOOKUP(G3970,'Lista de precios'!$B$7:$C$5000,2,0))","v":""}]
[null,null,"",null,null,null,null,{"$f":"IF(G3971=\"\",\"\",VLOOKUP(G3971,'Lista de precios'!$B$7:$C$5000,2,0))","v":""}]
[null,null,"",null,null,null,null,{"$f":"IF(G3972=\"\",\"\",VLOOKUP(G3972,'Lista de precios'!$B$7:$C$5000,2,0))","v":""}]
[null,null,"",null,null,null,null,{"$f":"IF(G3973=\"\",\"\",VLOOKUP(G3973,'Lista de precios'!$B$7:$C$5000,2,0))","v":""}]
[null,null,"",null,null,null,null,{"$f":"IF(G3974=\"\",\"\",VLOOKUP(G3974,'Lista de precios'!$B$7:$C$5000,2,0))","v":""}]
[null,null,"",null,null,null,null,{"$f":"IF(G3975=\"\",\"\",VLOOKUP(G3975,'Lista de precios'!$B$7:$C$5000,2,0))","v":""}]
[null,null,"",null,null,null,null,{"$f":"IF(G3976=\"\",\"\",VLOOKUP(G3976,'Lista de precios'!$B$7:$C$5000,2,0))","v":""}]
[null,null,"",null,null,null,null,{"$f":"IF(G3977=\"\",\"\",VLOOKUP(G3977,'Lista de precios'!$B$7:$C$5000,2,0))","v":""}]
[null,null,"",null,null,null,null,{"$f":"IF(G3978=\"\",\"\",VLOOKUP(G3978,'Lista de precios'!$B$7:$C$5000,2,0))","v":""}]
[null,null,"",null,null,null,null,{"$f":"IF(G3979=\"\",\"\",VLOOKUP(G3979,'Lista de precios'!$B$7:$C$5000,2,0))","v":""}]
[null,null,{"$f":"IF(B3980=\"\",\"\",TEXT(B3980,\"Mmmm\"))","v":""},null,null,null,null,{"$f":"IF(G3980=\"\",\"\",VLOOKUP(G3980,'Lista de precios'!$B$7:$C$5000,2,0))","v":""}]
[null,null,"",null,null,null,null,{"$f":"IF(G3981=\"\",\"\",VLOOKUP(G3981,'Lista de precios'!$B$7:$C$5000,2,0))","v":""}]
[null,null,"",null,null,null,null,{"$f":"IF(G3982=\"\",\"\",VLOOKUP(G3982,'Lista de precios'!$B$7:$C$5000,2,0))","v":""}]
[null,null,"",null,null,null,null,{"$f":"IF(G3983=\"\",\"\",VLOOKUP(G3983,'Lista de precios'!$B$7:$C$5000,2,0))","v":""}]
[null,null,"",null,null,null,null,{"$f":"IF(G3984=\"\",\"\",VLOOKUP(G3984,'Lista de precios'!$B$7:$C$5000,2,0))","v":""}]
[null,null,"",null,null,null,null,{"$f":"IF(G3985=\"\",\"\",VLOOKUP(G3985,'Lista de precios'!$B$7:$C$5000,2,0))","v":""}]
[null,null,"",null,null,null,null,{"$f":"IF(G3986=\"\",\"\",VLOOKUP(G3986,'Lista de precios'!$B$7:$C$5000,2,0))","v":""}]
[null,null,"",null,null,null,null,{"$f":"IF(G3987=\"\",\"\",VLOOKUP(G3987,'Lista de precios'!$B$7:$C$5000,2,0))","v":""}]
[null,null,"",null,null,null,null,{"$f":"IF(G3988=\"\",\"\",VLOOKUP(G3988,'Lista de precios'!$B$7:$C$5000,2,0))","v":""}]
[null,null,"",null,null,null,null,{"$f":"IF(G3989=\"\",\"\",VLOOKUP(G3989,'Lista de precios'!$B$7:$C$5000,2,0))","v":""}]
[null,null,"",null,null,null,null,{"$f":"IF(G3990=\"\",\"\",VLOOKUP(G3990,'Lista de precios'!$B$7:$C$5000,2,0))","v":""}]
[null,null,"",null,null,null,null,{"$f":"IF(G3991=\"\",\"\",VLOOKUP(G3991,'Lista de precios'!$B$7:$C$5000,2,0))","v":""}]
[null,null,"",null,null,null,null,{"$f":"IF(G3992=\"\",\"\",VLOOKUP(G3992,'Lista de precios'!$B$7:$C$5000,2,0))","v":""}]
[null,null,"",null,null,null,null,{"$f":"IF(G3993=\"\",\"\",VLOOKUP(G3993,'Lista de precios'!$B$7:$C$5000,2,0))","v":""}]
[null,null,"",null,null,null,null,{"$f":"IF(G3994=\"\",\"\",VLOOKUP(G3994,'Lista de precios'!$B$7:$C$5000,2,0))","v":""}]
[null,null,"",null,null,null,null,{"$f":"IF(G3995=\"\",\"\",VLOOKUP(G3995,'Lista de precios'!$B$7:$C$5000,2,0))","v":""}]
[null,null,"",null,null,null,null,{"$f":"IF(G3996=\"\",\"\",VLOOKUP(G3996,'Lista de precios'!$B$7:$C$5000,2,0))","v":""}]
[null,null,"",null,null,null,null,{"$f":"IF(G3997=\"\",\"\",VLOOKUP(G3997,'Lista de precios'!$B$7:$C$5000,2,0))","v":""}]
[null,null,"",null,null,null,null,{"$f":"IF(G3998=\"\",\"\",VLOOKUP(G3998,'Lista de precios'!$B$7:$C$5000,2,0))","v":""}]
[null,null,"",null,null,null,null,{"$f":"IF(G3999=\"\",\"\",VLOOKUP(G3999,'Lista de precios'!$B$7:$C$5000,2,0))","v":""}]
[null,null,"",null,null,null,null,{"$f":"IF(G4000=\"\",\"\",VLOOKUP(G4000,'Lista de precios'!$B$7:$C$5000,2,0))","v":""}]
[null,null,"",null,null,null,null,{"$f":"IF(G4001=\"\",\"\",VLOOKUP(G4001,'Lista de precios'!$B$7:$C$5000,2,0))","v":""}]
[null,null,"",null,null,null,null,{"$f":"IF(G4002=\"\",\"\",VLOOKUP(G4002,'Lista de precios'!$B$7:$C$5000,2,0))","v":""}]
[null,null,"",null,null,null,null,{"$f":"IF(G4003=\"\",\"\",VLOOKUP(G4003,'Lista de precios'!$B$7:$C$5000,2,0))","v":""}]
[null,null,"",null,null,null,null,{"$f":"IF(G4004=\"\",\"\",VLOOKUP(G4004,'Lista de precios'!$B$7:$C$5000,2,0))","v":""}]
[null,null,"",null,null,null,null,{"$f":"IF(G4005=\"\",\"\",VLOOKUP(G4005,'Lista de precios'!$B$7:$C$5000,2,0))","v":""}]
[null,null,"",null,null,null,null,{"$f":"IF(G4006=\"\",\"\",VLOOKUP(G4006,'Lista de precios'!$B$7:$C$5000,2,0))","v":""}]
[null,null,"",null,null,null,null,{"$f":"IF(G4007=\"\",\"\",VLOOKUP(G4007,'Lista de precios'!$B$7:$C$5000,2,0))","v":""}]
[null,null,"",null,null,null,null,{"$f":"IF(G4008=\"\",\"\",VLOOKUP(G4008,'Lista de precios'!$B$7:$C$5000,2,0))","v":""}]
[null,null,"",null,null,null,null,{"$f":"IF(G4009=\"\",\"\",VLOOKUP(G4009,'Lista de precios'!$B$7:$C$5000,2,0))","v":""}]
[null,null,"",null,null,null,null,{"$f":"IF(G4010=\"\",\"\",VLOOKUP(G4010,'Lista de precios'!$B$7:$C$5000,2,0))","v":""}]
[null,null,"",null,null,null,null,{"$f":"IF(G4011=\"\",\"\",VLOOKUP(G4011,'Lista de precios'!$B$7:$C$5000,2,0))","v":""}]
[null,null,"",null,null,null,null,{"$f":"IF(G4012=\"\",\"\",VLOOKUP(G4012,'Lista de precios'!$B$7:$C$5000,2,0))","v":""}]
[null,null,"",null,null,null,null,{"$f":"IF(G4013=\"\",\"\",VLOOKUP(G4013,'Lista de precios'!$B$7:$C$5000,2,0))","v":""}]
[null,null,"",null,null,null,null,{"$f":"IF(G4014=\"\",\"\",VLOOKUP(G4014,'Lista de precios'!$B$7:$C$5000,2,0))","v":""}]
[null,null,"",null,null,null,null,{"$f":"IF(G4015=\"\",\"\",VLOOKUP(G4015,'Lista de precios'!$B$7:$C$5000,2,0))","v":""}]
[null,null,"",null,null,null,null,{"$f":"IF(G4016=\"\",\"\",VLOOKUP(G4016,'Lista de precios'!$B$7:$C$5000,2,0))","v":""}]
[null,null,"",null,null,null,null,{"$f":"IF(G4017=\"\",\"\",VLOOKUP(G4017,'Lista de precios'!$B$7:$C$5000,2,0))","v":""}]
[null,null,"",null,null,null,null,{"$f":"IF(G4018=\"\",\"\",VLOOKUP(G4018,'Lista de precios'!$B$7:$C$5000,2,0))","v":""}]
[null,null,"",null,null,null,null,{"$f":"IF(G4019=\"\",\"\",VLOOKUP(G4019,'Lista de precios'!$B$7:$C$5000,2,0))","v":""}]
[null,null,"",null,null,null,null,{"$f":"IF(G4020=\"\",\"\",VLOOKUP(G4020,'Lista de precios'!$B$7:$C$5000,2,0))","v":""}]
[null,null,"",null,null,null,null,{"$f":"IF(G4021=\"\",\"\",VLOOKUP(G4021,'Lista de precios'!$B$7:$C$5000,2,0))","v":""}]
[null,null,"",null,null,null,null,{"$f":"IF(G4022=\"\",\"\",VLOOKUP(G4022,'Lista de precios'!$B$7:$C$5000,2,0))","v":""}]
[null,null,"",null,null,null,null,{"$f":"IF(G4023=\"\",\"\",VLOOKUP(G4023,'Lista de precios'!$B$7:$C$5000,2,0))","v":""}]
[null,null,"",null,null,null,null,{"$f":"IF(G4024=\"\",\"\",VLOOKUP(G4024,'Lista de precios'!$B$7:$C$5000,2,0))","v":""}]
[null,null,"",null,null,null,null,{"$f":"IF(G4025=\"\",\"\",VLOOKUP(G4025,'Lista de precios'!$B$7:$C$5000,2,0))","v":""}]
[null,null,"",null,null,null,null,{"$f":"IF(G4026=\"\",\"\",VLOOKUP(G4026,'Lista de precios'!$B$7:$C$5000,2,0))","v":""}]
[null,null,"",null,null,null,null,{"$f":"IF(G4027=\"\",\"\",VLOOKUP(G4027,'Lista de precios'!$B$7:$C$5000,2,0))","v":""}]
[null,null,"",null,null,null,null,{"$f":"IF(G4028=\"\",\"\",VLOOKUP(G4028,'Lista de precios'!$B$7:$C$5000,2,0))","v":""}]
[null,null,"",null,null,null,null,{"$f":"IF(G4029=\"\",\"\",VLOOKUP(G4029,'Lista de precios'!$B$7:$C$5000,2,0))","v":""}]
[null,null,"",null,null,null,null,{"$f":"IF(G4030=\"\",\"\",VLOOKUP(G4030,'Lista de precios'!$B$7:$C$5000,2,0))","v":""}]
[null,null,"",null,null,null,null,{"$f":"IF(G4031=\"\",\"\",VLOOKUP(G4031,'Lista de precios'!$B$7:$C$5000,2,0))","v":""}]
[null,null,"",null,null,null,null,{"$f":"IF(G4032=\"\",\"\",VLOOKUP(G4032,'Lista de precios'!$B$7:$C$5000,2,0))","v":""}]
[null,null,"",null,null,null,null,{"$f":"IF(G4033=\"\",\"\",VLOOKUP(G4033,'Lista de precios'!$B$7:$C$5000,2,0))","v":""}]
[null,null,"",null,null,null,null,{"$f":"IF(G4034=\"\",\"\",VLOOKUP(G4034,'Lista de precios'!$B$7:$C$5000,2,0))","v":""}]
[null,null,"",null,null,null,null,{"$f":"IF(G4035=\"\",\"\",VLOOKUP(G4035,'Lista de precios'!$B$7:$C$5000,2,0))","v":""}]
[null,null,"",null,null,null,null,{"$f":"IF(G4036=\"\",\"\",VLOOKUP(G4036,'Lista de precios'!$B$7:$C$5000,2,0))","v":""}]
[null,null,"",null,null,null,null,{"$f":"IF(G4037=\"\",\"\",VLOOKUP(G4037,'Lista de precios'!$B$7:$C$5000,2,0))","v":""}]
[null,null,"",null,null,null,null,{"$f":"IF(G4038=\"\",\"\",VLOOKUP(G4038,'Lista de precios'!$B$7:$C$5000,2,0))","v":""}]
[null,null,"",null,null,null,null,{"$f":"IF(G4039=\"\",\"\",VLOOKUP(G4039,'Lista de precios'!$B$7:$C$5000,2,0))","v":""}]
[null,null,"",null,null,null,null,{"$f":"IF(G4040=\"\",\"\",VLOOKUP(G4040,'Lista de precios'!$B$7:$C$5000,2,0))","v":""}]
[null,null,"",null,null,null,null,{"$f":"IF(G4041=\"\",\"\",VLOOKUP(G4041,'Lista de precios'!$B$7:$C$5000,2,0))","v":""}]
[null,null,"",null,null,null,null,{"$f":"IF(G4042=\"\",\"\",VLOOKUP(G4042,'Lista de precios'!$B$7:$C$5000,2,0))","v":""}]
[null,null,"",null,null,null,null,{"$f":"IF(G4043=\"\",\"\",VLOOKUP(G4043,'Lista de precios'!$B$7:$C$5000,2,0))","v":""}]
[null,null,{"$f":"IF(B4044=\"\",\"\",TEXT(B4044,\"Mmmm\"))","v":""},null,null,null,null,{"$f":"IF(G4044=\"\",\"\",VLOOKUP(G4044,'Lista de precios'!$B$7:$C$5000,2,0))","v":""}]
[null,null,"",null,null,null,null,{"$f":"IF(G4045=\"\",\"\",VLOOKUP(G4045,'Lista de precios'!$B$7:$C$5000,2,0))","v":""}]
[null,null,"",null,null,null,null,{"$f":"IF(G4046=\"\",\"\",VLOOKUP(G4046,'Lista de precios'!$B$7:$C$5000,2,0))","v":""}]
[null,null,"",null,null,null,null,{"$f":"IF(G4047=\"\",\"\",VLOOKUP(G4047,'Lista de precios'!$B$7:$C$5000,2,0))","v":""}]
[null,null,"",null,null,null,null,{"$f":"IF(G4048=\"\",\"\",VLOOKUP(G4048,'Lista de precios'!$B$7:$C$5000,2,0))","v":""}]
[null,null,"",null,null,null,null,{"$f":"IF(G4049=\"\",\"\",VLOOKUP(G4049,'Lista de precios'!$B$7:$C$5000,2,0))","v":""}]
[null,null,"",null,null,null,null,{"$f":"IF(G4050=\"\",\"\",VLOOKUP(G4050,'Lista de precios'!$B$7:$C$5000,2,0))","v":""}]
[null,null,"",null,null,null,null,{"$f":"IF(G4051=\"\",\"\",VLOOKUP(G4051,'Lista de precios'!$B$7:$C$5000,2,0))","v":""}]
[null,null,"",null,null,null,null,{"$f":"IF(G4052=\"\",\"\",VLOOKUP(G4052,'Lista de precios'!$B$7:$C$5000,2,0))","v":""}]
[null,null,"",null,null,null,null,{"$f":"IF(G4053=\"\",\"\",VLOOKUP(G4053,'Lista de precios'!$B$7:$C$5000,2,0))","v":""}]
[null,null,"",null,null,null,null,{"$f":"IF(G4054=\"\",\"\",VLOOKUP(G4054,'Lista de precios'!$B$7:$C$5000,2,0))","v":""}]
[null,null,"",null,null,null,null,{"$f":"IF(G4055=\"\",\"\",VLOOKUP(G4055,'Lista de precios'!$B$7:$C$5000,2,0))","v":""}]
[null,null,"",null,null,null,null,{"$f":"IF(G4056=\"\",\"\",VLOOKUP(G4056,'Lista de precios'!$B$7:$C$5000,2,0))","v":""}]
[null,null,"",null,null,null,null,{"$f":"IF(G4057=\"\",\"\",VLOOKUP(G4057,'Lista de precios'!$B$7:$C$5000,2,0))","v":""}]
[null,null,"",null,null,null,null,{"$f":"IF(G4058=\"\",\"\",VLOOKUP(G4058,'Lista de precios'!$B$7:$C$5000,2,0))","v":""}]
[null,null,"",null,null,null,null,{"$f":"IF(G4059=\"\",\"\",VLOOKUP(G4059,'Lista de precios'!$B$7:$C$5000,2,0))","v":""}]
[null,null,"",null,null,null,null,{"$f":"IF(G4060=\"\",\"\",VLOOKUP(G4060,'Lista de precios'!$B$7:$C$5000,2,0))","v":""}]
[null,null,"",null,null,null,null,{"$f":"IF(G4061=\"\",\"\",VLOOKUP(G4061,'Lista de precios'!$B$7:$C$5000,2,0))","v":""}]
[null,null,"",null,null,null,null,{"$f":"IF(G4062=\"\",\"\",VLOOKUP(G4062,'Lista de precios'!$B$7:$C$5000,2,0))","v":""}]
[null,null,"",null,null,null,null,{"$f":"IF(G4063=\"\",\"\",VLOOKUP(G4063,'Lista de precios'!$B$7:$C$5000,2,0))","v":""}]
[null,null,"",null,null,null,null,{"$f":"IF(G4064=\"\",\"\",VLOOKUP(G4064,'Lista de precios'!$B$7:$C$5000,2,0))","v":""}]
[null,null,"",null,null,null,null,{"$f":"IF(G4065=\"\",\"\",VLOOKUP(G4065,'Lista de precios'!$B$7:$C$5000,2,0))","v":""}]
[null,null,"",null,null,null,null,{"$f":"IF(G4066=\"\",\"\",VLOOKUP(G4066,'Lista de precios'!$B$7:$C$5000,2,0))","v":""}]
[null,null,"",null,null,null,null,{"$f":"IF(G4067=\"\",\"\",VLOOKUP(G4067,'Lista de precios'!$B$7:$C$5000,2,0))","v":""}]
[null,null,"",null,null,null,null,{"$f":"IF(G4068=\"\",\"\",VLOOKUP(G4068,'Lista de precios'!$B$7:$C$5000,2,0))","v":""}]
[null,null,"",null,null,null,null,{"$f":"IF(G4069=\"\",\"\",VLOOKUP(G4069,'Lista de precios'!$B$7:$C$5000,2,0))","v":""}]
[null,null,"",null,null,null,null,{"$f":"IF(G4070=\"\",\"\",VLOOKUP(G4070,'Lista de precios'!$B$7:$C$5000,2,0))","v":""}]
[null,null,"",null,null,null,null,{"$f":"IF(G4071=\"\",\"\",VLOOKUP(G4071,'Lista de precios'!$B$7:$C$5000,2,0))","v":""}]
[null,null,"",null,null,null,null,{"$f":"IF(G4072=\"\",\"\",VLOOKUP(G4072,'Lista de precios'!$B$7:$C$5000,2,0))","v":""}]
[null,null,"",null,null,null,null,{"$f":"IF(G4073=\"\",\"\",VLOOKUP(G4073,'Lista de precios'!$B$7:$C$5000,2,0))","v":""}]
[null,null,"",null,null,null,null,{"$f":"IF(G4074=\"\",\"\",VLOOKUP(G4074,'Lista de precios'!$B$7:$C$5000,2,0))","v":""}]
[null,null,"",null,null,null,null,{"$f":"IF(G4075=\"\",\"\",VLOOKUP(G4075,'Lista de precios'!$B$7:$C$5000,2,0))","v":""}]
[null,null,"",null,null,null,null,{"$f":"IF(G4076=\"\",\"\",VLOOKUP(G4076,'Lista de precios'!$B$7:$C$5000,2,0))","v":""}]
[null,null,"",null,null,null,null,{"$f":"IF(G4077=\"\",\"\",VLOOKUP(G4077,'Lista de precios'!$B$7:$C$5000,2,0))","v":""}]
[null,null,"",null,null,null,null,{"$f":"IF(G4078=\"\",\"\",VLOOKUP(G4078,'Lista de precios'!$B$7:$C$5000,2,0))","v":""}]
[null,null,"",null,null,null,null,{"$f":"IF(G4079=\"\",\"\",VLOOKUP(G4079,'Lista de precios'!$B$7:$C$5000,2,0))","v":""}]
[null,null,"",null,null,null,null,{"$f":"IF(G4080=\"\",\"\",VLOOKUP(G4080,'Lista de precios'!$B$7:$C$5000,2,0))","v":""}]
[null,null,"",null,null,null,null,{"$f":"IF(G4081=\"\",\"\",VLOOKUP(G4081,'Lista de precios'!$B$7:$C$5000,2,0))","v":""}]
[null,null,"",null,null,null,null,{"$f":"IF(G4082=\"\",\"\",VLOOKUP(G4082,'Lista de precios'!$B$7:$C$5000,2,0))","v":""}]
[null,null,"",null,null,null,null,{"$f":"IF(G4083=\"\",\"\",VLOOKUP(G4083,'Lista de precios'!$B$7:$C$5000,2,0))","v":""}]
[null,null,"",null,null,null,null,{"$f":"IF(G4084=\"\",\"\",VLOOKUP(G4084,'Lista de precios'!$B$7:$C$5000,2,0))","v":""}]
[null,null,"",null,null,null,null,{"$f":"IF(G4085=\"\",\"\",VLOOKUP(G4085,'Lista de precios'!$B$7:$C$5000,2,0))","v":""}]
[null,null,"",null,null,null,null,{"$f":"IF(G4086=\"\",\"\",VLOOKUP(G4086,'Lista de precios'!$B$7:$C$5000,2,0))","v":""}]
[null,null,"",null,null,null,null,{"$f":"IF(G4087=\"\",\"\",VLOOKUP(G4087,'Lista de precios'!$B$7:$C$5000,2,0))","v":""}]
[null,null,"",null,null,null,null,{"$f":"IF(G4088=\"\",\"\",VLOOKUP(G4088,'Lista de precios'!$B$7:$C$5000,2,0))","v":""}]
[null,null,"",null,null,null,null,{"$f":"IF(G4089=\"\",\"\",VLOOKUP(G4089,'Lista de precios'!$B$7:$C$5000,2,0))","v":""}]
[null,null,"",null,null,null,null,{"$f":"IF(G4090=\"\",\"\",VLOOKUP(G4090,'Lista de precios'!$B$7:$C$5000,2,0))","v":""}]
[null,null,"",null,null,null,null,{"$f":"IF(G4091=\"\",\"\",VLOOKUP(G4091,'Lista de precios'!$B$7:$C$5000,2,0))","v":""}]
[null,null,"",null,null,null,null,{"$f":"IF(G4092=\"\",\"\",VLOOKUP(G4092,'Lista de precios'!$B$7:$C$5000,2,0))","v":""}]
[null,null,"",null,null,null,null,{"$f":"IF(G4093=\"\",\"\",VLOOKUP(G4093,'Lista de precios'!$B$7:$C$5000,2,0))","v":""}]
[null,null,"",null,null,null,null,{"$f":"IF(G4094=\"\",\"\",VLOOKUP(G4094,'Lista de precios'!$B$7:$C$5000,2,0))","v":""}]
[null,null,"",null,null,null,null,{"$f":"IF(G4095=\"\",\"\",VLOOKUP(G4095,'Lista de precios'!$B$7:$C$5000,2,0))","v":""}]
[null,null,"",null,null,null,null,{"$f":"IF(G4096=\"\",\"\",VLOOKUP(G4096,'Lista de precios'!$B$7:$C$5000,2,0))","v":""}]
[null,null,"",null,null,null,null,{"$f":"IF(G4097=\"\",\"\",VLOOKUP(G4097,'Lista de precios'!$B$7:$C$5000,2,0))","v":""}]
[null,null,"",null,null,null,null,{"$f":"IF(G4098=\"\",\"\",VLOOKUP(G4098,'Lista de precios'!$B$7:$C$5000,2,0))","v":""}]
[null,null,"",null,null,null,null,{"$f":"IF(G4099=\"\",\"\",VLOOKUP(G4099,'Lista de precios'!$B$7:$C$5000,2,0))","v":""}]
[null,null,"",null,null,null,null,{"$f":"IF(G4100=\"\",\"\",VLOOKUP(G4100,'Lista de precios'!$B$7:$C$5000,2,0))","v":""}]
[null,null,"",null,null,null,null,{"$f":"IF(G4101=\"\",\"\",VLOOKUP(G4101,'Lista de precios'!$B$7:$C$5000,2,0))","v":""}]
[null,null,"",null,null,null,null,{"$f":"IF(G4102=\"\",\"\",VLOOKUP(G4102,'Lista de precios'!$B$7:$C$5000,2,0))","v":""}]
[null,null,"",null,null,null,null,{"$f":"IF(G4103=\"\",\"\",VLOOKUP(G4103,'Lista de precios'!$B$7:$C$5000,2,0))","v":""}]
[null,null,"",null,null,null,null,{"$f":"IF(G4104=\"\",\"\",VLOOKUP(G4104,'Lista de precios'!$B$7:$C$5000,2,0))","v":""}]
[null,null,"",null,null,null,null,{"$f":"IF(G4105=\"\",\"\",VLOOKUP(G4105,'Lista de precios'!$B$7:$C$5000,2,0))","v":""}]
[null,null,"",null,null,null,null,{"$f":"IF(G4106=\"\",\"\",VLOOKUP(G4106,'Lista de precios'!$B$7:$C$5000,2,0))","v":""}]
[null,null,"",null,null,null,null,{"$f":"IF(G4107=\"\",\"\",VLOOKUP(G4107,'Lista de precios'!$B$7:$C$5000,2,0))","v":""}]
[null,null,{"$f":"IF(B4108=\"\",\"\",TEXT(B4108,\"Mmmm\"))","v":""},null,null,null,null,{"$f":"IF(G4108=\"\",\"\",VLOOKUP(G4108,'Lista de precios'!$B$7:$C$5000,2,0))","v":""}]
[null,null,"",null,null,null,null,{"$f":"IF(G4109=\"\",\"\",VLOOKUP(G4109,'Lista de precios'!$B$7:$C$5000,2,0))","v":""}]
[null,null,"",null,null,null,null,{"$f":"IF(G4110=\"\",\"\",VLOOKUP(G4110,'Lista de precios'!$B$7:$C$5000,2,0))","v":""}]
[null,null,"",null,null,null,null,{"$f":"IF(G4111=\"\",\"\",VLOOKUP(G4111,'Lista de precios'!$B$7:$C$5000,2,0))","v":""}]
[null,null,"",null,null,null,null,{"$f":"IF(G4112=\"\",\"\",VLOOKUP(G4112,'Lista de precios'!$B$7:$C$5000,2,0))","v":""}]
[null,null,"",null,null,null,null,{"$f":"IF(G4113=\"\",\"\",VLOOKUP(G4113,'Lista de precios'!$B$7:$C$5000,2,0))","v":""}]
[null,null,"",null,null,null,null,{"$f":"IF(G4114=\"\",\"\",VLOOKUP(G4114,'Lista de precios'!$B$7:$C$5000,2,0))","v":""}]
[null,null,"",null,null,null,null,{"$f":"IF(G4115=\"\",\"\",VLOOKUP(G4115,'Lista de precios'!$B$7:$C$5000,2,0))","v":""}]
[null,null,"",null,null,null,null,{"$f":"IF(G4116=\"\",\"\",VLOOKUP(G4116,'Lista de precios'!$B$7:$C$5000,2,0))","v":""}]
[null,null,"",null,null,null,null,{"$f":"IF(G4117=\"\",\"\",VLOOKUP(G4117,'Lista de precios'!$B$7:$C$5000,2,0))","v":""}]
[null,null,"",null,null,null,null,{"$f":"IF(G4118=\"\",\"\",VLOOKUP(G4118,'Lista de precios'!$B$7:$C$5000,2,0))","v":""}]
[null,null,"",null,null,null,null,{"$f":"IF(G4119=\"\",\"\",VLOOKUP(G4119,'Lista de precios'!$B$7:$C$5000,2,0))","v":""}]
[null,null,"",null,null,null,null,{"$f":"IF(G4120=\"\",\"\",VLOOKUP(G4120,'Lista de precios'!$B$7:$C$5000,2,0))","v":""}]
[null,null,"",null,null,null,null,{"$f":"IF(G4121=\"\",\"\",VLOOKUP(G4121,'Lista de precios'!$B$7:$C$5000,2,0))","v":""}]
[null,null,"",null,null,null,null,{"$f":"IF(G4122=\"\",\"\",VLOOKUP(G4122,'Lista de precios'!$B$7:$C$5000,2,0))","v":""}]
[null,null,"",null,null,null,null,{"$f":"IF(G4123=\"\",\"\",VLOOKUP(G4123,'Lista de precios'!$B$7:$C$5000,2,0))","v":""}]
[null,null,"",null,null,null,null,{"$f":"IF(G4124=\"\",\"\",VLOOKUP(G4124,'Lista de precios'!$B$7:$C$5000,2,0))","v":""}]
[null,null,"",null,null,null,null,{"$f":"IF(G4125=\"\",\"\",VLOOKUP(G4125,'Lista de precios'!$B$7:$C$5000,2,0))","v":""}]
[null,null,"",null,null,null,null,{"$f":"IF(G4126=\"\",\"\",VLOOKUP(G4126,'Lista de precios'!$B$7:$C$5000,2,0))","v":""}]
[null,null,"",null,null,null,null,{"$f":"IF(G4127=\"\",\"\",VLOOKUP(G4127,'Lista de precios'!$B$7:$C$5000,2,0))","v":""}]
[null,null,"",null,null,null,null,{"$f":"IF(G4128=\"\",\"\",VLOOKUP(G4128,'Lista de precios'!$B$7:$C$5000,2,0))","v":""}]
[null,null,"",null,null,null,null,{"$f":"IF(G4129=\"\",\"\",VLOOKUP(G4129,'Lista de precios'!$B$7:$C$5000,2,0))","v":""}]
[null,null,"",null,null,null,null,{"$f":"IF(G4130=\"\",\"\",VLOOKUP(G4130,'Lista de precios'!$B$7:$C$5000,2,0))","v":""}]
[null,null,"",null,null,null,null,{"$f":"IF(G4131=\"\",\"\",VLOOKUP(G4131,'Lista de precios'!$B$7:$C$5000,2,0))","v":""}]
[null,null,"",null,null,null,null,{"$f":"IF(G4132=\"\",\"\",VLOOKUP(G4132,'Lista de precios'!$B$7:$C$5000,2,0))","v":""}]
[null,null,"",null,null,null,null,{"$f":"IF(G4133=\"\",\"\",VLOOKUP(G4133,'Lista de precios'!$B$7:$C$5000,2,0))","v":""}]
[null,null,"",null,null,null,null,{"$f":"IF(G4134=\"\",\"\",VLOOKUP(G4134,'Lista de precios'!$B$7:$C$5000,2,0))","v":""}]
[null,null,"",null,null,null,null,{"$f":"IF(G4135=\"\",\"\",VLOOKUP(G4135,'Lista de precios'!$B$7:$C$5000,2,0))","v":""}]
[null,null,"",null,null,null,null,{"$f":"IF(G4136=\"\",\"\",VLOOKUP(G4136,'Lista de precios'!$B$7:$C$5000,2,0))","v":""}]
[null,null,"",null,null,null,null,{"$f":"IF(G4137=\"\",\"\",VLOOKUP(G4137,'Lista de precios'!$B$7:$C$5000,2,0))","v":""}]
[null,null,"",null,null,null,null,{"$f":"IF(G4138=\"\",\"\",VLOOKUP(G4138,'Lista de precios'!$B$7:$C$5000,2,0))","v":""}]
[null,null,"",null,null,null,null,{"$f":"IF(G4139=\"\",\"\",VLOOKUP(G4139,'Lista de precios'!$B$7:$C$5000,2,0))","v":""}]
[null,null,"",null,null,null,null,{"$f":"IF(G4140=\"\",\"\",VLOOKUP(G4140,'Lista de precios'!$B$7:$C$5000,2,0))","v":""}]
[null,null,"",null,null,null,null,{"$f":"IF(G4141=\"\",\"\",VLOOKUP(G4141,'Lista de precios'!$B$7:$C$5000,2,0))","v":""}]
[null,null,"",null,null,null,null,{"$f":"IF(G4142=\"\",\"\",VLOOKUP(G4142,'Lista de precios'!$B$7:$C$5000,2,0))","v":""}]
[null,null,"",null,null,null,null,{"$f":"IF(G4143=\"\",\"\",VLOOKUP(G4143,'Lista de precios'!$B$7:$C$5000,2,0))","v":""}]
[null,null,"",null,null,null,null,{"$f":"IF(G4144=\"\",\"\",VLOOKUP(G4144,'Lista de precios'!$B$7:$C$5000,2,0))","v":""}]
[null,null,"",null,null,null,null,{"$f":"IF(G4145=\"\",\"\",VLOOKUP(G4145,'Lista de precios'!$B$7:$C$5000,2,0))","v":""}]
[null,null,"",null,null,null,null,{"$f":"IF(G4146=\"\",\"\",VLOOKUP(G4146,'Lista de precios'!$B$7:$C$5000,2,0))","v":""}]
[null,null,"",null,null,null,null,{"$f":"IF(G4147=\"\",\"\",VLOOKUP(G4147,'Lista de precios'!$B$7:$C$5000,2,0))","v":""}]
[null,null,"",null,null,null,null,{"$f":"IF(G4148=\"\",\"\",VLOOKUP(G4148,'Lista de precios'!$B$7:$C$5000,2,0))","v":""}]
[null,null,"",null,null,null,null,{"$f":"IF(G4149=\"\",\"\",VLOOKUP(G4149,'Lista de precios'!$B$7:$C$5000,2,0))","v":""}]
[null,null,"",null,null,null,null,{"$f":"IF(G4150=\"\",\"\",VLOOKUP(G4150,'Lista de precios'!$B$7:$C$5000,2,0))","v":""}]
[null,null,"",null,null,null,null,{"$f":"IF(G4151=\"\",\"\",VLOOKUP(G4151,'Lista de precios'!$B$7:$C$5000,2,0))","v":""}]
[null,null,"",null,null,null,null,{"$f":"IF(G4152=\"\",\"\",VLOOKUP(G4152,'Lista de precios'!$B$7:$C$5000,2,0))","v":""}]
[null,null,"",null,null,null,null,{"$f":"IF(G4153=\"\",\"\",VLOOKUP(G4153,'Lista de precios'!$B$7:$C$5000,2,0))","v":""}]
[null,null,"",null,null,null,null,{"$f":"IF(G4154=\"\",\"\",VLOOKUP(G4154,'Lista de precios'!$B$7:$C$5000,2,0))","v":""}]
[null,null,"",null,null,null,null,{"$f":"IF(G4155=\"\",\"\",VLOOKUP(G4155,'Lista de precios'!$B$7:$C$5000,2,0))","v":""}]
[null,null,"",null,null,null,null,{"$f":"IF(G4156=\"\",\"\",VLOOKUP(G4156,'Lista de precios'!$B$7:$C$5000,2,0))","v":""}]
[null,null,"",null,null,null,null,{"$f":"IF(G4157=\"\",\"\",VLOOKUP(G4157,'Lista de precios'!$B$7:$C$5000,2,0))","v":""}]
[null,null,"",null,null,null,null,{"$f":"IF(G4158=\"\",\"\",VLOOKUP(G4158,'Lista de precios'!$B$7:$C$5000,2,0))","v":""}]
[null,null,"",null,null,null,null,{"$f":"IF(G4159=\"\",\"\",VLOOKUP(G4159,'Lista de precios'!$B$7:$C$5000,2,0))","v":""}]
[null,null,"",null,null,null,null,{"$f":"IF(G4160=\"\",\"\",VLOOKUP(G4160,'Lista de precios'!$B$7:$C$5000,2,0))","v":""}]
[null,null,"",null,null,null,null,{"$f":"IF(G4161=\"\",\"\",VLOOKUP(G4161,'Lista de precios'!$B$7:$C$5000,2,0))","v":""}]
[null,null,"",null,null,null,null,{"$f":"IF(G4162=\"\",\"\",VLOOKUP(G4162,'Lista de precios'!$B$7:$C$5000,2,0))","v":""}]
[null,null,"",null,null,null,null,{"$f":"IF(G4163=\"\",\"\",VLOOKUP(G4163,'Lista de precios'!$B$7:$C$5000,2,0))","v":""}]
[null,null,"",null,null,null,null,{"$f":"IF(G4164=\"\",\"\",VLOOKUP(G4164,'Lista de precios'!$B$7:$C$5000,2,0))","v":""}]
[null,null,"",null,null,null,null,{"$f":"IF(G4165=\"\",\"\",VLOOKUP(G4165,'Lista de precios'!$B$7:$C$5000,2,0))","v":""}]
[null,null,"",null,null,null,null,{"$f":"IF(G4166=\"\",\"\",VLOOKUP(G4166,'Lista de precios'!$B$7:$C$5000,2,0))","v":""}]
[null,null,"",null,null,null,null,{"$f":"IF(G4167=\"\",\"\",VLOOKUP(G4167,'Lista de precios'!$B$7:$C$5000,2,0))","v":""}]
[null,null,"",null,null,null,null,{"$f":"IF(G4168=\"\",\"\",VLOOKUP(G4168,'Lista de precios'!$B$7:$C$5000,2,0))","v":""}]
[null,null,"",null,null,null,null,{"$f":"IF(G4169=\"\",\"\",VLOOKUP(G4169,'Lista de precios'!$B$7:$C$5000,2,0))","v":""}]
[null,null,"",null,null,null,null,{"$f":"IF(G4170=\"\",\"\",VLOOKUP(G4170,'Lista de precios'!$B$7:$C$5000,2,0))","v":""}]
[null,null,"",null,null,null,null,{"$f":"IF(G4171=\"\",\"\",VLOOKUP(G4171,'Lista de precios'!$B$7:$C$5000,2,0))","v":""}]
[null,null,{"$f":"IF(B4172=\"\",\"\",TEXT(B4172,\"Mmmm\"))","v":""},null,null,null,null,{"$f":"IF(G4172=\"\",\"\",VLOOKUP(G4172,'Lista de precios'!$B$7:$C$5000,2,0))","v":""}]
[null,null,"",null,null,null,null,{"$f":"IF(G4173=\"\",\"\",VLOOKUP(G4173,'Lista de precios'!$B$7:$C$5000,2,0))","v":""}]
[null,null,"",null,null,null,null,{"$f":"IF(G4174=\"\",\"\",VLOOKUP(G4174,'Lista de precios'!$B$7:$C$5000,2,0))","v":""}]
[null,null,"",null,null,null,null,{"$f":"IF(G4175=\"\",\"\",VLOOKUP(G4175,'Lista de precios'!$B$7:$C$5000,2,0))","v":""}]
[null,null,"",null,null,null,null,{"$f":"IF(G4176=\"\",\"\",VLOOKUP(G4176,'Lista de precios'!$B$7:$C$5000,2,0))","v":""}]
[null,null,"",null,null,null,null,{"$f":"IF(G4177=\"\",\"\",VLOOKUP(G4177,'Lista de precios'!$B$7:$C$5000,2,0))","v":""}]
[null,null,"",null,null,null,null,{"$f":"IF(G4178=\"\",\"\",VLOOKUP(G4178,'Lista de precios'!$B$7:$C$5000,2,0))","v":""}]
[null,null,"",null,null,null,null,{"$f":"IF(G4179=\"\",\"\",VLOOKUP(G4179,'Lista de precios'!$B$7:$C$5000,2,0))","v":""}]
[null,null,"",null,null,null,null,{"$f":"IF(G4180=\"\",\"\",VLOOKUP(G4180,'Lista de precios'!$B$7:$C$5000,2,0))","v":""}]
[null,null,"",null,null,null,null,{"$f":"IF(G4181=\"\",\"\",VLOOKUP(G4181,'Lista de precios'!$B$7:$C$5000,2,0))","v":""}]
[null,null,"",null,null,null,null,{"$f":"IF(G4182=\"\",\"\",VLOOKUP(G4182,'Lista de precios'!$B$7:$C$5000,2,0))","v":""}]
[null,null,"",null,null,null,null,{"$f":"IF(G4183=\"\",\"\",VLOOKUP(G4183,'Lista de precios'!$B$7:$C$5000,2,0))","v":""}]
[null,null,"",null,null,null,null,{"$f":"IF(G4184=\"\",\"\",VLOOKUP(G4184,'Lista de precios'!$B$7:$C$5000,2,0))","v":""}]
[null,null,"",null,null,null,null,{"$f":"IF(G4185=\"\",\"\",VLOOKUP(G4185,'Lista de precios'!$B$7:$C$5000,2,0))","v":""}]
[null,null,"",null,null,null,null,{"$f":"IF(G4186=\"\",\"\",VLOOKUP(G4186,'Lista de precios'!$B$7:$C$5000,2,0))","v":""}]
[null,null,"",null,null,null,null,{"$f":"IF(G4187=\"\",\"\",VLOOKUP(G4187,'Lista de precios'!$B$7:$C$5000,2,0))","v":""}]
[null,null,"",null,null,null,null,{"$f":"IF(G4188=\"\",\"\",VLOOKUP(G4188,'Lista de precios'!$B$7:$C$5000,2,0))","v":""}]
[null,null,"",null,null,null,null,{"$f":"IF(G4189=\"\",\"\",VLOOKUP(G4189,'Lista de precios'!$B$7:$C$5000,2,0))","v":""}]
[null,null,"",null,null,null,null,{"$f":"IF(G4190=\"\",\"\",VLOOKUP(G4190,'Lista de precios'!$B$7:$C$5000,2,0))","v":""}]
[null,null,"",null,null,null,null,{"$f":"IF(G4191=\"\",\"\",VLOOKUP(G4191,'Lista de precios'!$B$7:$C$5000,2,0))","v":""}]
[null,null,"",null,null,null,null,{"$f":"IF(G4192=\"\",\"\",VLOOKUP(G4192,'Lista de precios'!$B$7:$C$5000,2,0))","v":""}]
[null,null,"",null,null,null,null,{"$f":"IF(G4193=\"\",\"\",VLOOKUP(G4193,'Lista de precios'!$B$7:$C$5000,2,0))","v":""}]
[null,null,"",null,null,null,null,{"$f":"IF(G4194=\"\",\"\",VLOOKUP(G4194,'Lista de precios'!$B$7:$C$5000,2,0))","v":""}]
[null,null,"",null,null,null,null,{"$f":"IF(G4195=\"\",\"\",VLOOKUP(G4195,'Lista de precios'!$B$7:$C$5000,2,0))","v":""}]
[null,null,"",null,null,null,null,{"$f":"IF(G4196=\"\",\"\",VLOOKUP(G4196,'Lista de precios'!$B$7:$C$5000,2,0))","v":""}]
[null,null,"",null,null,null,null,{"$f":"IF(G4197=\"\",\"\",VLOOKUP(G4197,'Lista de precios'!$B$7:$C$5000,2,0))","v":""}]
[null,null,"",null,null,null,null,{"$f":"IF(G4198=\"\",\"\",VLOOKUP(G4198,'Lista de precios'!$B$7:$C$5000,2,0))","v":""}]
[null,null,"",null,null,null,null,{"$f":"IF(G4199=\"\",\"\",VLOOKUP(G4199,'Lista de precios'!$B$7:$C$5000,2,0))","v":""}]
[null,null,"",null,null,null,null,{"$f":"IF(G4200=\"\",\"\",VLOOKUP(G4200,'Lista de precios'!$B$7:$C$5000,2,0))","v":""}]
[null,null,"",null,null,null,null,{"$f":"IF(G4201=\"\",\"\",VLOOKUP(G4201,'Lista de precios'!$B$7:$C$5000,2,0))","v":""}]
[null,null,"",null,null,null,null,{"$f":"IF(G4202=\"\",\"\",VLOOKUP(G4202,'Lista de precios'!$B$7:$C$5000,2,0))","v":""}]
[null,null,"",null,null,null,null,{"$f":"IF(G4203=\"\",\"\",VLOOKUP(G4203,'Lista de precios'!$B$7:$C$5000,2,0))","v":""}]
[null,null,"",null,null,null,null,{"$f":"IF(G4204=\"\",\"\",VLOOKUP(G4204,'Lista de precios'!$B$7:$C$5000,2,0))","v":""}]
[null,null,"",null,null,null,null,{"$f":"IF(G4205=\"\",\"\",VLOOKUP(G4205,'Lista de precios'!$B$7:$C$5000,2,0))","v":""}]
[null,null,"",null,null,null,null,{"$f":"IF(G4206=\"\",\"\",VLOOKUP(G4206,'Lista de precios'!$B$7:$C$5000,2,0))","v":""}]
[null,null,"",null,null,null,null,{"$f":"IF(G4207=\"\",\"\",VLOOKUP(G4207,'Lista de precios'!$B$7:$C$5000,2,0))","v":""}]
[null,null,"",null,null,null,null,{"$f":"IF(G4208=\"\",\"\",VLOOKUP(G4208,'Lista de precios'!$B$7:$C$5000,2,0))","v":""}]
[null,null,"",null,null,null,null,{"$f":"IF(G4209=\"\",\"\",VLOOKUP(G4209,'Lista de precios'!$B$7:$C$5000,2,0))","v":""}]
[null,null,"",null,null,null,null,{"$f":"IF(G4210=\"\",\"\",VLOOKUP(G4210,'Lista de precios'!$B$7:$C$5000,2,0))","v":""}]
[null,null,"",null,null,null,null,{"$f":"IF(G4211=\"\",\"\",VLOOKUP(G4211,'Lista de precios'!$B$7:$C$5000,2,0))","v":""}]
[null,null,"",null,null,null,null,{"$f":"IF(G4212=\"\",\"\",VLOOKUP(G4212,'Lista de precios'!$B$7:$C$5000,2,0))","v":""}]
[null,null,"",null,null,null,null,{"$f":"IF(G4213=\"\",\"\",VLOOKUP(G4213,'Lista de precios'!$B$7:$C$5000,2,0))","v":""}]
[null,null,"",null,null,null,null,{"$f":"IF(G4214=\"\",\"\",VLOOKUP(G4214,'Lista de precios'!$B$7:$C$5000,2,0))","v":""}]
[null,null,"",null,null,null,null,{"$f":"IF(G4215=\"\",\"\",VLOOKUP(G4215,'Lista de precios'!$B$7:$C$5000,2,0))","v":""}]
[null,null,"",null,null,null,null,{"$f":"IF(G4216=\"\",\"\",VLOOKUP(G4216,'Lista de precios'!$B$7:$C$5000,2,0))","v":""}]
[null,null,"",null,null,null,null,{"$f":"IF(G4217=\"\",\"\",VLOOKUP(G4217,'Lista de precios'!$B$7:$C$5000,2,0))","v":""}]
[null,null,"",null,null,null,null,{"$f":"IF(G4218=\"\",\"\",VLOOKUP(G4218,'Lista de precios'!$B$7:$C$5000,2,0))","v":""}]
[null,null,"",null,null,null,null,{"$f":"IF(G4219=\"\",\"\",VLOOKUP(G4219,'Lista de precios'!$B$7:$C$5000,2,0))","v":""}]
[null,null,"",null,null,null,null,{"$f":"IF(G4220=\"\",\"\",VLOOKUP(G4220,'Lista de precios'!$B$7:$C$5000,2,0))","v":""}]
[null,null,"",null,null,null,null,{"$f":"IF(G4221=\"\",\"\",VLOOKUP(G4221,'Lista de precios'!$B$7:$C$5000,2,0))","v":""}]
[null,null,"",null,null,null,null,{"$f":"IF(G4222=\"\",\"\",VLOOKUP(G4222,'Lista de precios'!$B$7:$C$5000,2,0))","v":""}]
[null,null,"",null,null,null,null,{"$f":"IF(G4223=\"\",\"\",VLOOKUP(G4223,'Lista de precios'!$B$7:$C$5000,2,0))","v":""}]
[null,null,"",null,null,null,null,{"$f":"IF(G4224=\"\",\"\",VLOOKUP(G4224,'Lista de precios'!$B$7:$C$5000,2,0))","v":""}]
[null,null,"",null,null,null,null,{"$f":"IF(G4225=\"\",\"\",VLOOKUP(G4225,'Lista de precios'!$B$7:$C$5000,2,0))","v":""}]
[null,null,"",null,null,null,null,{"$f":"IF(G4226=\"\",\"\",VLOOKUP(G4226,'Lista de precios'!$B$7:$C$5000,2,0))","v":""}]
[null,null,"",null,null,null,null,{"$f":"IF(G4227=\"\",\"\",VLOOKUP(G4227,'Lista de precios'!$B$7:$C$5000,2,0))","v":""}]
[null,null,"",null,null,null,null,{"$f":"IF(G4228=\"\",\"\",VLOOKUP(G4228,'Lista de precios'!$B$7:$C$5000,2,0))","v":""}]
[null,null,"",null,null,null,null,{"$f":"IF(G4229=\"\",\"\",VLOOKUP(G4229,'Lista de precios'!$B$7:$C$5000,2,0))","v":""}]
[null,null,"",null,null,null,null,{"$f":"IF(G4230=\"\",\"\",VLOOKUP(G4230,'Lista de precios'!$B$7:$C$5000,2,0))","v":""}]
[null,null,"",null,null,null,null,{"$f":"IF(G4231=\"\",\"\",VLOOKUP(G4231,'Lista de precios'!$B$7:$C$5000,2,0))","v":""}]
[null,null,"",null,null,null,null,{"$f":"IF(G4232=\"\",\"\",VLOOKUP(G4232,'Lista de precios'!$B$7:$C$5000,2,0))","v":""}]
[null,null,"",null,null,null,null,{"$f":"IF(G4233=\"\",\"\",VLOOKUP(G4233,'Lista de precios'!$B$7:$C$5000,2,0))","v":""}]
[null,null,"",null,null,null,null,{"$f":"IF(G4234=\"\",\"\",VLOOKUP(G4234,'Lista de precios'!$B$7:$C$5000,2,0))","v":""}]
[null,null,"",null,null,null,null,{"$f":"IF(G4235=\"\",\"\",VLOOKUP(G4235,'Lista de precios'!$B$7:$C$5000,2,0))","v":""}]
[null,null,{"$f":"IF(B4236=\"\",\"\",TEXT(B4236,\"Mmmm\"))","v":""},null,null,null,null,{"$f":"IF(G4236=\"\",\"\",VLOOKUP(G4236,'Lista de precios'!$B$7:$C$5000,2,0))","v":""}]
[null,null,"",null,null,null,null,{"$f":"IF(G4237=\"\",\"\",VLOOKUP(G4237,'Lista de precios'!$B$7:$C$5000,2,0))","v":""}]
[null,null,"",null,null,null,null,{"$f":"IF(G4238=\"\",\"\",VLOOKUP(G4238,'Lista de precios'!$B$7:$C$5000,2,0))","v":""}]
[null,null,"",null,null,null,null,{"$f":"IF(G4239=\"\",\"\",VLOOKUP(G4239,'Lista de precios'!$B$7:$C$5000,2,0))","v":""}]
[null,null,"",null,null,null,null,{"$f":"IF(G4240=\"\",\"\",VLOOKUP(G4240,'Lista de precios'!$B$7:$C$5000,2,0))","v":""}]
[null,null,"",null,null,null,null,{"$f":"IF(G4241=\"\",\"\",VLOOKUP(G4241,'Lista de precios'!$B$7:$C$5000,2,0))","v":""}]
[null,null,"",null,null,null,null,{"$f":"IF(G4242=\"\",\"\",VLOOKUP(G4242,'Lista de precios'!$B$7:$C$5000,2,0))","v":""}]
[null,null,"",null,null,null,null,{"$f":"IF(G4243=\"\",\"\",VLOOKUP(G4243,'Lista de precios'!$B$7:$C$5000,2,0))","v":""}]
[null,null,"",null,null,null,null,{"$f":"IF(G4244=\"\",\"\",VLOOKUP(G4244,'Lista de precios'!$B$7:$C$5000,2,0))","v":""}]
[null,null,"",null,null,null,null,{"$f":"IF(G4245=\"\",\"\",VLOOKUP(G4245,'Lista de precios'!$B$7:$C$5000,2,0))","v":""}]
[null,null,"",null,null,null,null,{"$f":"IF(G4246=\"\",\"\",VLOOKUP(G4246,'Lista de precios'!$B$7:$C$5000,2,0))","v":""}]
[null,null,"",null,null,null,null,{"$f":"IF(G4247=\"\",\"\",VLOOKUP(G4247,'Lista de precios'!$B$7:$C$5000,2,0))","v":""}]
[null,null,"",null,null,null,null,{"$f":"IF(G4248=\"\",\"\",VLOOKUP(G4248,'Lista de precios'!$B$7:$C$5000,2,0))","v":""}]
[null,null,"",null,null,null,null,{"$f":"IF(G4249=\"\",\"\",VLOOKUP(G4249,'Lista de precios'!$B$7:$C$5000,2,0))","v":""}]
[null,null,"",null,null,null,null,{"$f":"IF(G4250=\"\",\"\",VLOOKUP(G4250,'Lista de precios'!$B$7:$C$5000,2,0))","v":""}]
[null,null,"",null,null,null,null,{"$f":"IF(G4251=\"\",\"\",VLOOKUP(G4251,'Lista de precios'!$B$7:$C$5000,2,0))","v":""}]
[null,null,"",null,null,null,null,{"$f":"IF(G4252=\"\",\"\",VLOOKUP(G4252,'Lista de precios'!$B$7:$C$5000,2,0))","v":""}]
[null,null,"",null,null,null,null,{"$f":"IF(G4253=\"\",\"\",VLOOKUP(G4253,'Lista de precios'!$B$7:$C$5000,2,0))","v":""}]
[null,null,"",null,null,null,null,{"$f":"IF(G4254=\"\",\"\",VLOOKUP(G4254,'Lista de precios'!$B$7:$C$5000,2,0))","v":""}]
[null,null,"",null,null,null,null,{"$f":"IF(G4255=\"\",\"\",VLOOKUP(G4255,'Lista de precios'!$B$7:$C$5000,2,0))","v":""}]
[null,null,"",null,null,null,null,{"$f":"IF(G4256=\"\",\"\",VLOOKUP(G4256,'Lista de precios'!$B$7:$C$5000,2,0))","v":""}]
[null,null,"",null,null,null,null,{"$f":"IF(G4257=\"\",\"\",VLOOKUP(G4257,'Lista de precios'!$B$7:$C$5000,2,0))","v":""}]
[null,null,"",null,null,null,null,{"$f":"IF(G4258=\"\",\"\",VLOOKUP(G4258,'Lista de precios'!$B$7:$C$5000,2,0))","v":""}]
[null,null,"",null,null,null,null,{"$f":"IF(G4259=\"\",\"\",VLOOKUP(G4259,'Lista de precios'!$B$7:$C$5000,2,0))","v":""}]
[null,null,"",null,null,null,null,{"$f":"IF(G4260=\"\",\"\",VLOOKUP(G4260,'Lista de precios'!$B$7:$C$5000,2,0))","v":""}]
[null,null,"",null,null,null,null,{"$f":"IF(G4261=\"\",\"\",VLOOKUP(G4261,'Lista de precios'!$B$7:$C$5000,2,0))","v":""}]
[null,null,"",null,null,null,null,{"$f":"IF(G4262=\"\",\"\",VLOOKUP(G4262,'Lista de precios'!$B$7:$C$5000,2,0))","v":""}]
[null,null,"",null,null,null,null,{"$f":"IF(G4263=\"\",\"\",VLOOKUP(G4263,'Lista de precios'!$B$7:$C$5000,2,0))","v":""}]
[null,null,"",null,null,null,null,{"$f":"IF(G4264=\"\",\"\",VLOOKUP(G4264,'Lista de precios'!$B$7:$C$5000,2,0))","v":""}]
[null,null,"",null,null,null,null,{"$f":"IF(G4265=\"\",\"\",VLOOKUP(G4265,'Lista de precios'!$B$7:$C$5000,2,0))","v":""}]
[null,null,"",null,null,null,null,{"$f":"IF(G4266=\"\",\"\",VLOOKUP(G4266,'Lista de precios'!$B$7:$C$5000,2,0))","v":""}]
[null,null,"",null,null,null,null,{"$f":"IF(G4267=\"\",\"\",VLOOKUP(G4267,'Lista de precios'!$B$7:$C$5000,2,0))","v":""}]
[null,null,"",null,null,null,null,{"$f":"IF(G4268=\"\",\"\",VLOOKUP(G4268,'Lista de precios'!$B$7:$C$5000,2,0))","v":""}]
[null,null,"",null,null,null,null,{"$f":"IF(G4269=\"\",\"\",VLOOKUP(G4269,'Lista de precios'!$B$7:$C$5000,2,0))","v":""}]
[null,null,"",null,null,null,null,{"$f":"IF(G4270=\"\",\"\",VLOOKUP(G4270,'Lista de precios'!$B$7:$C$5000,2,0))","v":""}]
[null,null,"",null,null,null,null,{"$f":"IF(G4271=\"\",\"\",VLOOKUP(G4271,'Lista de precios'!$B$7:$C$5000,2,0))","v":""}]
[null,null,"",null,null,null,null,{"$f":"IF(G4272=\"\",\"\",VLOOKUP(G4272,'Lista de precios'!$B$7:$C$5000,2,0))","v":""}]
[null,null,"",null,null,null,null,{"$f":"IF(G4273=\"\",\"\",VLOOKUP(G4273,'Lista de precios'!$B$7:$C$5000,2,0))","v":""}]
[null,null,"",null,null,null,null,{"$f":"IF(G4274=\"\",\"\",VLOOKUP(G4274,'Lista de precios'!$B$7:$C$5000,2,0))","v":""}]
[null,null,"",null,null,null,null,{"$f":"IF(G4275=\"\",\"\",VLOOKUP(G4275,'Lista de precios'!$B$7:$C$5000,2,0))","v":""}]
[null,null,"",null,null,null,null,{"$f":"IF(G4276=\"\",\"\",VLOOKUP(G4276,'Lista de precios'!$B$7:$C$5000,2,0))","v":""}]
[null,null,"",null,null,null,null,{"$f":"IF(G4277=\"\",\"\",VLOOKUP(G4277,'Lista de precios'!$B$7:$C$5000,2,0))","v":""}]
[null,null,"",null,null,null,null,{"$f":"IF(G4278=\"\",\"\",VLOOKUP(G4278,'Lista de precios'!$B$7:$C$5000,2,0))","v":""}]
[null,null,"",null,null,null,null,{"$f":"IF(G4279=\"\",\"\",VLOOKUP(G4279,'Lista de precios'!$B$7:$C$5000,2,0))","v":""}]
[null,null,"",null,null,null,null,{"$f":"IF(G4280=\"\",\"\",VLOOKUP(G4280,'Lista de precios'!$B$7:$C$5000,2,0))","v":""}]
[null,null,"",null,null,null,null,{"$f":"IF(G4281=\"\",\"\",VLOOKUP(G4281,'Lista de precios'!$B$7:$C$5000,2,0))","v":""}]
[null,null,"",null,null,null,null,{"$f":"IF(G4282=\"\",\"\",VLOOKUP(G4282,'Lista de precios'!$B$7:$C$5000,2,0))","v":""}]
[null,null,"",null,null,null,null,{"$f":"IF(G4283=\"\",\"\",VLOOKUP(G4283,'Lista de precios'!$B$7:$C$5000,2,0))","v":""}]
[null,null,"",null,null,null,null,{"$f":"IF(G4284=\"\",\"\",VLOOKUP(G4284,'Lista de precios'!$B$7:$C$5000,2,0))","v":""}]
[null,null,"",null,null,null,null,{"$f":"IF(G4285=\"\",\"\",VLOOKUP(G4285,'Lista de precios'!$B$7:$C$5000,2,0))","v":""}]
[null,null,"",null,null,null,null,{"$f":"IF(G4286=\"\",\"\",VLOOKUP(G4286,'Lista de precios'!$B$7:$C$5000,2,0))","v":""}]
[null,null,"",null,null,null,null,{"$f":"IF(G4287=\"\",\"\",VLOOKUP(G4287,'Lista de precios'!$B$7:$C$5000,2,0))","v":""}]
[null,null,"",null,null,null,null,{"$f":"IF(G4288=\"\",\"\",VLOOKUP(G4288,'Lista de precios'!$B$7:$C$5000,2,0))","v":""}]
[null,null,"",null,null,null,null,{"$f":"IF(G4289=\"\",\"\",VLOOKUP(G4289,'Lista de precios'!$B$7:$C$5000,2,0))","v":""}]
[null,null,"",null,null,null,null,{"$f":"IF(G4290=\"\",\"\",VLOOKUP(G4290,'Lista de precios'!$B$7:$C$5000,2,0))","v":""}]
[null,null,"",null,null,null,null,{"$f":"IF(G4291=\"\",\"\",VLOOKUP(G4291,'Lista de precios'!$B$7:$C$5000,2,0))","v":""}]
[null,null,"",null,null,null,null,{"$f":"IF(G4292=\"\",\"\",VLOOKUP(G4292,'Lista de precios'!$B$7:$C$5000,2,0))","v":""}]
[null,null,"",null,null,null,null,{"$f":"IF(G4293=\"\",\"\",VLOOKUP(G4293,'Lista de precios'!$B$7:$C$5000,2,0))","v":""}]
[null,null,"",null,null,null,null,{"$f":"IF(G4294=\"\",\"\",VLOOKUP(G4294,'Lista de precios'!$B$7:$C$5000,2,0))","v":""}]
[null,null,"",null,null,null,null,{"$f":"IF(G4295=\"\",\"\",VLOOKUP(G4295,'Lista de precios'!$B$7:$C$5000,2,0))","v":""}]
[null,null,"",null,null,null,null,{"$f":"IF(G4296=\"\",\"\",VLOOKUP(G4296,'Lista de precios'!$B$7:$C$5000,2,0))","v":""}]
[null,null,"",null,null,null,null,{"$f":"IF(G4297=\"\",\"\",VLOOKUP(G4297,'Lista de precios'!$B$7:$C$5000,2,0))","v":""}]
[null,null,"",null,null,null,null,{"$f":"IF(G4298=\"\",\"\",VLOOKUP(G4298,'Lista de precios'!$B$7:$C$5000,2,0))","v":""}]
[null,null,"",null,null,null,null,{"$f":"IF(G4299=\"\",\"\",VLOOKUP(G4299,'Lista de precios'!$B$7:$C$5000,2,0))","v":""}]
[null,null,{"$f":"IF(B4300=\"\",\"\",TEXT(B4300,\"Mmmm\"))","v":""},null,null,null,null,{"$f":"IF(G4300=\"\",\"\",VLOOKUP(G4300,'Lista de precios'!$B$7:$C$5000,2,0))","v":""}]
[null,null,"",null,null,null,null,{"$f":"IF(G4301=\"\",\"\",VLOOKUP(G4301,'Lista de precios'!$B$7:$C$5000,2,0))","v":""}]
[null,null,"",null,null,null,null,{"$f":"IF(G4302=\"\",\"\",VLOOKUP(G4302,'Lista de precios'!$B$7:$C$5000,2,0))","v":""}]
[null,null,"",null,null,null,null,{"$f":"IF(G4303=\"\",\"\",VLOOKUP(G4303,'Lista de precios'!$B$7:$C$5000,2,0))","v":""}]
[null,null,"",null,null,null,null,{"$f":"IF(G4304=\"\",\"\",VLOOKUP(G4304,'Lista de precios'!$B$7:$C$5000,2,0))","v":""}]
[null,null,"",null,null,null,null,{"$f":"IF(G4305=\"\",\"\",VLOOKUP(G4305,'Lista de precios'!$B$7:$C$5000,2,0))","v":""}]
[null,null,"",null,null,null,null,{"$f":"IF(G4306=\"\",\"\",VLOOKUP(G4306,'Lista de precios'!$B$7:$C$5000,2,0))","v":""}]
[null,null,"",null,null,null,null,{"$f":"IF(G4307=\"\",\"\",VLOOKUP(G4307,'Lista de precios'!$B$7:$C$5000,2,0))","v":""}]
[null,null,"",null,null,null,null,{"$f":"IF(G4308=\"\",\"\",VLOOKUP(G4308,'Lista de precios'!$B$7:$C$5000,2,0))","v":""}]
[null,null,"",null,null,null,null,{"$f":"IF(G4309=\"\",\"\",VLOOKUP(G4309,'Lista de precios'!$B$7:$C$5000,2,0))","v":""}]
[null,null,"",null,null,null,null,{"$f":"IF(G4310=\"\",\"\",VLOOKUP(G4310,'Lista de precios'!$B$7:$C$5000,2,0))","v":""}]
[null,null,"",null,null,null,null,{"$f":"IF(G4311=\"\",\"\",VLOOKUP(G4311,'Lista de precios'!$B$7:$C$5000,2,0))","v":""}]
[null,null,"",null,null,null,null,{"$f":"IF(G4312=\"\",\"\",VLOOKUP(G4312,'Lista de precios'!$B$7:$C$5000,2,0))","v":""}]
[null,null,"",null,null,null,null,{"$f":"IF(G4313=\"\",\"\",VLOOKUP(G4313,'Lista de precios'!$B$7:$C$5000,2,0))","v":""}]
[null,null,"",null,null,null,null,{"$f":"IF(G4314=\"\",\"\",VLOOKUP(G4314,'Lista de precios'!$B$7:$C$5000,2,0))","v":""}]
[null,null,"",null,null,null,null,{"$f":"IF(G4315=\"\",\"\",VLOOKUP(G4315,'Lista de precios'!$B$7:$C$5000,2,0))","v":""}]
[null,null,"",null,null,null,null,{"$f":"IF(G4316=\"\",\"\",VLOOKUP(G4316,'Lista de precios'!$B$7:$C$5000,2,0))","v":""}]
[null,null,"",null,null,null,null,{"$f":"IF(G4317=\"\",\"\",VLOOKUP(G4317,'Lista de precios'!$B$7:$C$5000,2,0))","v":""}]
[null,null,"",null,null,null,null,{"$f":"IF(G4318=\"\",\"\",VLOOKUP(G4318,'Lista de precios'!$B$7:$C$5000,2,0))","v":""}]
[null,null,"",null,null,null,null,{"$f":"IF(G4319=\"\",\"\",VLOOKUP(G4319,'Lista de precios'!$B$7:$C$5000,2,0))","v":""}]
[null,null,"",null,null,null,null,{"$f":"IF(G4320=\"\",\"\",VLOOKUP(G4320,'Lista de precios'!$B$7:$C$5000,2,0))","v":""}]
[null,null,"",null,null,null,null,{"$f":"IF(G4321=\"\",\"\",VLOOKUP(G4321,'Lista de precios'!$B$7:$C$5000,2,0))","v":""}]
[null,null,"",null,null,null,null,{"$f":"IF(G4322=\"\",\"\",VLOOKUP(G4322,'Lista de precios'!$B$7:$C$5000,2,0))","v":""}]
[null,null,"",null,null,null,null,{"$f":"IF(G4323=\"\",\"\",VLOOKUP(G4323,'Lista de precios'!$B$7:$C$5000,2,0))","v":""}]
[null,null,"",null,null,null,null,{"$f":"IF(G4324=\"\",\"\",VLOOKUP(G4324,'Lista de precios'!$B$7:$C$5000,2,0))","v":""}]
[null,null,"",null,null,null,null,{"$f":"IF(G4325=\"\",\"\",VLOOKUP(G4325,'Lista de precios'!$B$7:$C$5000,2,0))","v":""}]
[null,null,"",null,null,null,null,{"$f":"IF(G4326=\"\",\"\",VLOOKUP(G4326,'Lista de precios'!$B$7:$C$5000,2,0))","v":""}]
[null,null,"",null,null,null,null,{"$f":"IF(G4327=\"\",\"\",VLOOKUP(G4327,'Lista de precios'!$B$7:$C$5000,2,0))","v":""}]
[null,null,"",null,null,null,null,{"$f":"IF(G4328=\"\",\"\",VLOOKUP(G4328,'Lista de precios'!$B$7:$C$5000,2,0))","v":""}]
[null,null,"",null,null,null,null,{"$f":"IF(G4329=\"\",\"\",VLOOKUP(G4329,'Lista de precios'!$B$7:$C$5000,2,0))","v":""}]
[null,null,"",null,null,null,null,{"$f":"IF(G4330=\"\",\"\",VLOOKUP(G4330,'Lista de precios'!$B$7:$C$5000,2,0))","v":""}]
[null,null,"",null,null,null,null,{"$f":"IF(G4331=\"\",\"\",VLOOKUP(G4331,'Lista de precios'!$B$7:$C$5000,2,0))","v":""}]
[null,null,"",null,null,null,null,{"$f":"IF(G4332=\"\",\"\",VLOOKUP(G4332,'Lista de precios'!$B$7:$C$5000,2,0))","v":""}]
[null,null,"",null,null,null,null,{"$f":"IF(G4333=\"\",\"\",VLOOKUP(G4333,'Lista de precios'!$B$7:$C$5000,2,0))","v":""}]
[null,null,"",null,null,null,null,{"$f":"IF(G4334=\"\",\"\",VLOOKUP(G4334,'Lista de precios'!$B$7:$C$5000,2,0))","v":""}]
[null,null,"",null,null,null,null,{"$f":"IF(G4335=\"\",\"\",VLOOKUP(G4335,'Lista de precios'!$B$7:$C$5000,2,0))","v":""}]
[null,null,"",null,null,null,null,{"$f":"IF(G4336=\"\",\"\",VLOOKUP(G4336,'Lista de precios'!$B$7:$C$5000,2,0))","v":""}]
[null,null,"",null,null,null,null,{"$f":"IF(G4337=\"\",\"\",VLOOKUP(G4337,'Lista de precios'!$B$7:$C$5000,2,0))","v":""}]
[null,null,"",null,null,null,null,{"$f":"IF(G4338=\"\",\"\",VLOOKUP(G4338,'Lista de precios'!$B$7:$C$5000,2,0))","v":""}]
[null,null,"",null,null,null,null,{"$f":"IF(G4339=\"\",\"\",VLOOKUP(G4339,'Lista de precios'!$B$7:$C$5000,2,0))","v":""}]
[null,null,"",null,null,null,null,{"$f":"IF(G4340=\"\",\"\",VLOOKUP(G4340,'Lista de precios'!$B$7:$C$5000,2,0))","v":""}]
[null,null,"",null,null,null,null,{"$f":"IF(G4341=\"\",\"\",VLOOKUP(G4341,'Lista de precios'!$B$7:$C$5000,2,0))","v":""}]
[null,null,"",null,null,null,null,{"$f":"IF(G4342=\"\",\"\",VLOOKUP(G4342,'Lista de precios'!$B$7:$C$5000,2,0))","v":""}]
[null,null,"",null,null,null,null,{"$f":"IF(G4343=\"\",\"\",VLOOKUP(G4343,'Lista de precios'!$B$7:$C$5000,2,0))","v":""}]
[null,null,"",null,null,null,null,{"$f":"IF(G4344=\"\",\"\",VLOOKUP(G4344,'Lista de precios'!$B$7:$C$5000,2,0))","v":""}]
[null,null,"",null,null,null,null,{"$f":"IF(G4345=\"\",\"\",VLOOKUP(G4345,'Lista de precios'!$B$7:$C$5000,2,0))","v":""}]
[null,null,"",null,null,null,null,{"$f":"IF(G4346=\"\",\"\",VLOOKUP(G4346,'Lista de precios'!$B$7:$C$5000,2,0))","v":""}]
[null,null,"",null,null,null,null,{"$f":"IF(G4347=\"\",\"\",VLOOKUP(G4347,'Lista de precios'!$B$7:$C$5000,2,0))","v":""}]
[null,null,"",null,null,null,null,{"$f":"IF(G4348=\"\",\"\",VLOOKUP(G4348,'Lista de precios'!$B$7:$C$5000,2,0))","v":""}]
[null,null,"",null,null,null,null,{"$f":"IF(G4349=\"\",\"\",VLOOKUP(G4349,'Lista de precios'!$B$7:$C$5000,2,0))","v":""}]
[null,null,"",null,null,null,null,{"$f":"IF(G4350=\"\",\"\",VLOOKUP(G4350,'Lista de precios'!$B$7:$C$5000,2,0))","v":""}]
[null,null,"",null,null,null,null,{"$f":"IF(G4351=\"\",\"\",VLOOKUP(G4351,'Lista de precios'!$B$7:$C$5000,2,0))","v":""}]
[null,null,"",null,null,null,null,{"$f":"IF(G4352=\"\",\"\",VLOOKUP(G4352,'Lista de precios'!$B$7:$C$5000,2,0))","v":""}]
[null,null,"",null,null,null,null,{"$f":"IF(G4353=\"\",\"\",VLOOKUP(G4353,'Lista de precios'!$B$7:$C$5000,2,0))","v":""}]
[null,null,"",null,null,null,null,{"$f":"IF(G4354=\"\",\"\",VLOOKUP(G4354,'Lista de precios'!$B$7:$C$5000,2,0))","v":""}]
[null,null,"",null,null,null,null,{"$f":"IF(G4355=\"\",\"\",VLOOKUP(G4355,'Lista de precios'!$B$7:$C$5000,2,0))","v":""}]
[null,null,"",null,null,null,null,{"$f":"IF(G4356=\"\",\"\",VLOOKUP(G4356,'Lista de precios'!$B$7:$C$5000,2,0))","v":""}]
[null,null,"",null,null,null,null,{"$f":"IF(G4357=\"\",\"\",VLOOKUP(G4357,'Lista de precios'!$B$7:$C$5000,2,0))","v":""}]
[null,null,"",null,null,null,null,{"$f":"IF(G4358=\"\",\"\",VLOOKUP(G4358,'Lista de precios'!$B$7:$C$5000,2,0))","v":""}]
[null,null,"",null,null,null,null,{"$f":"IF(G4359=\"\",\"\",VLOOKUP(G4359,'Lista de precios'!$B$7:$C$5000,2,0))","v":""}]
[null,null,"",null,null,null,null,{"$f":"IF(G4360=\"\",\"\",VLOOKUP(G4360,'Lista de precios'!$B$7:$C$5000,2,0))","v":""}]
[null,null,"",null,null,null,null,{"$f":"IF(G4361=\"\",\"\",VLOOKUP(G4361,'Lista de precios'!$B$7:$C$5000,2,0))","v":""}]
[null,null,"",null,null,null,null,{"$f":"IF(G4362=\"\",\"\",VLOOKUP(G4362,'Lista de precios'!$B$7:$C$5000,2,0))","v":""}]
[null,null,"",null,null,null,null,{"$f":"IF(G4363=\"\",\"\",VLOOKUP(G4363,'Lista de precios'!$B$7:$C$5000,2,0))","v":""}]
[null,null,{"$f":"IF(B4364=\"\",\"\",TEXT(B4364,\"Mmmm\"))","v":""},null,null,null,null,{"$f":"IF(G4364=\"\",\"\",VLOOKUP(G4364,'Lista de precios'!$B$7:$C$5000,2,0))","v":""}]
[null,null,"",null,null,null,null,{"$f":"IF(G4365=\"\",\"\",VLOOKUP(G4365,'Lista de precios'!$B$7:$C$5000,2,0))","v":""}]
[null,null,"",null,null,null,null,{"$f":"IF(G4366=\"\",\"\",VLOOKUP(G4366,'Lista de precios'!$B$7:$C$5000,2,0))","v":""}]
[null,null,"",null,null,null,null,{"$f":"IF(G4367=\"\",\"\",VLOOKUP(G4367,'Lista de precios'!$B$7:$C$5000,2,0))","v":""}]
[null,null,"",null,null,null,null,{"$f":"IF(G4368=\"\",\"\",VLOOKUP(G4368,'Lista de precios'!$B$7:$C$5000,2,0))","v":""}]
[null,null,"",null,null,null,null,{"$f":"IF(G4369=\"\",\"\",VLOOKUP(G4369,'Lista de precios'!$B$7:$C$5000,2,0))","v":""}]
[null,null,"",null,null,null,null,{"$f":"IF(G4370=\"\",\"\",VLOOKUP(G4370,'Lista de precios'!$B$7:$C$5000,2,0))","v":""}]
[null,null,"",null,null,null,null,{"$f":"IF(G4371=\"\",\"\",VLOOKUP(G4371,'Lista de precios'!$B$7:$C$5000,2,0))","v":""}]
[null,null,"",null,null,null,null,{"$f":"IF(G4372=\"\",\"\",VLOOKUP(G4372,'Lista de precios'!$B$7:$C$5000,2,0))","v":""}]
[null,null,"",null,null,null,null,{"$f":"IF(G4373=\"\",\"\",VLOOKUP(G4373,'Lista de precios'!$B$7:$C$5000,2,0))","v":""}]
[null,null,"",null,null,null,null,{"$f":"IF(G4374=\"\",\"\",VLOOKUP(G4374,'Lista de precios'!$B$7:$C$5000,2,0))","v":""}]
[null,null,"",null,null,null,null,{"$f":"IF(G4375=\"\",\"\",VLOOKUP(G4375,'Lista de precios'!$B$7:$C$5000,2,0))","v":""}]
[null,null,"",null,null,null,null,{"$f":"IF(G4376=\"\",\"\",VLOOKUP(G4376,'Lista de precios'!$B$7:$C$5000,2,0))","v":""}]
[null,null,"",null,null,null,null,{"$f":"IF(G4377=\"\",\"\",VLOOKUP(G4377,'Lista de precios'!$B$7:$C$5000,2,0))","v":""}]
[null,null,"",null,null,null,null,{"$f":"IF(G4378=\"\",\"\",VLOOKUP(G4378,'Lista de precios'!$B$7:$C$5000,2,0))","v":""}]
[null,null,"",null,null,null,null,{"$f":"IF(G4379=\"\",\"\",VLOOKUP(G4379,'Lista de precios'!$B$7:$C$5000,2,0))","v":""}]
[null,null,"",null,null,null,null,{"$f":"IF(G4380=\"\",\"\",VLOOKUP(G4380,'Lista de precios'!$B$7:$C$5000,2,0))","v":""}]
[null,null,"",null,null,null,null,{"$f":"IF(G4381=\"\",\"\",VLOOKUP(G4381,'Lista de precios'!$B$7:$C$5000,2,0))","v":""}]
[null,null,"",null,null,null,null,{"$f":"IF(G4382=\"\",\"\",VLOOKUP(G4382,'Lista de precios'!$B$7:$C$5000,2,0))","v":""}]
[null,null,"",null,null,null,null,{"$f":"IF(G4383=\"\",\"\",VLOOKUP(G4383,'Lista de precios'!$B$7:$C$5000,2,0))","v":""}]
[null,null,"",null,null,null,null,{"$f":"IF(G4384=\"\",\"\",VLOOKUP(G4384,'Lista de precios'!$B$7:$C$5000,2,0))","v":""}]
[null,null,"",null,null,null,null,{"$f":"IF(G4385=\"\",\"\",VLOOKUP(G4385,'Lista de precios'!$B$7:$C$5000,2,0))","v":""}]
[null,null,"",null,null,null,null,{"$f":"IF(G4386=\"\",\"\",VLOOKUP(G4386,'Lista de precios'!$B$7:$C$5000,2,0))","v":""}]
[null,null,"",null,null,null,null,{"$f":"IF(G4387=\"\",\"\",VLOOKUP(G4387,'Lista de precios'!$B$7:$C$5000,2,0))","v":""}]
[null,null,"",null,null,null,null,{"$f":"IF(G4388=\"\",\"\",VLOOKUP(G4388,'Lista de precios'!$B$7:$C$5000,2,0))","v":""}]
[null,null,"",null,null,null,null,{"$f":"IF(G4389=\"\",\"\",VLOOKUP(G4389,'Lista de precios'!$B$7:$C$5000,2,0))","v":""}]
[null,null,"",null,null,null,null,{"$f":"IF(G4390=\"\",\"\",VLOOKUP(G4390,'Lista de precios'!$B$7:$C$5000,2,0))","v":""}]
[null,null,"",null,null,null,null,{"$f":"IF(G4391=\"\",\"\",VLOOKUP(G4391,'Lista de precios'!$B$7:$C$5000,2,0))","v":""}]
[null,null,"",null,null,null,null,{"$f":"IF(G4392=\"\",\"\",VLOOKUP(G4392,'Lista de precios'!$B$7:$C$5000,2,0))","v":""}]
[null,null,"",null,null,null,null,{"$f":"IF(G4393=\"\",\"\",VLOOKUP(G4393,'Lista de precios'!$B$7:$C$5000,2,0))","v":""}]
[null,null,"",null,null,null,null,{"$f":"IF(G4394=\"\",\"\",VLOOKUP(G4394,'Lista de precios'!$B$7:$C$5000,2,0))","v":""}]
[null,null,"",null,null,null,null,{"$f":"IF(G4395=\"\",\"\",VLOOKUP(G4395,'Lista de precios'!$B$7:$C$5000,2,0))","v":""}]
[null,null,"",null,null,null,null,{"$f":"IF(G4396=\"\",\"\",VLOOKUP(G4396,'Lista de precios'!$B$7:$C$5000,2,0))","v":""}]
[null,null,"",null,null,null,null,{"$f":"IF(G4397=\"\",\"\",VLOOKUP(G4397,'Lista de precios'!$B$7:$C$5000,2,0))","v":""}]
[null,null,"",null,null,null,null,{"$f":"IF(G4398=\"\",\"\",VLOOKUP(G4398,'Lista de precios'!$B$7:$C$5000,2,0))","v":""}]
[null,null,"",null,null,null,null,{"$f":"IF(G4399=\"\",\"\",VLOOKUP(G4399,'Lista de precios'!$B$7:$C$5000,2,0))","v":""}]
[null,null,"",null,null,null,null,{"$f":"IF(G4400=\"\",\"\",VLOOKUP(G4400,'Lista de precios'!$B$7:$C$5000,2,0))","v":""}]
[null,null,"",null,null,null,null,{"$f":"IF(G4401=\"\",\"\",VLOOKUP(G4401,'Lista de precios'!$B$7:$C$5000,2,0))","v":""}]
[null,null,"",null,null,null,null,{"$f":"IF(G4402=\"\",\"\",VLOOKUP(G4402,'Lista de precios'!$B$7:$C$5000,2,0))","v":""}]
[null,null,"",null,null,null,null,{"$f":"IF(G4403=\"\",\"\",VLOOKUP(G4403,'Lista de precios'!$B$7:$C$5000,2,0))","v":""}]
[null,null,"",null,null,null,null,{"$f":"IF(G4404=\"\",\"\",VLOOKUP(G4404,'Lista de precios'!$B$7:$C$5000,2,0))","v":""}]
[null,null,"",null,null,null,null,{"$f":"IF(G4405=\"\",\"\",VLOOKUP(G4405,'Lista de precios'!$B$7:$C$5000,2,0))","v":""}]
[null,null,"",null,null,null,null,{"$f":"IF(G4406=\"\",\"\",VLOOKUP(G4406,'Lista de precios'!$B$7:$C$5000,2,0))","v":""}]
[null,null,"",null,null,null,null,{"$f":"IF(G4407=\"\",\"\",VLOOKUP(G4407,'Lista de precios'!$B$7:$C$5000,2,0))","v":""}]
[null,null,"",null,null,null,null,{"$f":"IF(G4408=\"\",\"\",VLOOKUP(G4408,'Lista de precios'!$B$7:$C$5000,2,0))","v":""}]
[null,null,"",null,null,null,null,{"$f":"IF(G4409=\"\",\"\",VLOOKUP(G4409,'Lista de precios'!$B$7:$C$5000,2,0))","v":""}]
[null,null,"",null,null,null,null,{"$f":"IF(G4410=\"\",\"\",VLOOKUP(G4410,'Lista de precios'!$B$7:$C$5000,2,0))","v":""}]
[null,null,"",null,null,null,null,{"$f":"IF(G4411=\"\",\"\",VLOOKUP(G4411,'Lista de precios'!$B$7:$C$5000,2,0))","v":""}]
[null,null,"",null,null,null,null,{"$f":"IF(G4412=\"\",\"\",VLOOKUP(G4412,'Lista de precios'!$B$7:$C$5000,2,0))","v":""}]
[null,null,"",null,null,null,null,{"$f":"IF(G4413=\"\",\"\",VLOOKUP(G4413,'Lista de precios'!$B$7:$C$5000,2,0))","v":""}]
[null,null,"",null,null,null,null,{"$f":"IF(G4414=\"\",\"\",VLOOKUP(G4414,'Lista de precios'!$B$7:$C$5000,2,0))","v":""}]
[null,null,"",null,null,null,null,{"$f":"IF(G4415=\"\",\"\",VLOOKUP(G4415,'Lista de precios'!$B$7:$C$5000,2,0))","v":""}]
[null,null,"",null,null,null,null,{"$f":"IF(G4416=\"\",\"\",VLOOKUP(G4416,'Lista de precios'!$B$7:$C$5000,2,0))","v":""}]
[null,null,"",null,null,null,null,{"$f":"IF(G4417=\"\",\"\",VLOOKUP(G4417,'Lista de precios'!$B$7:$C$5000,2,0))","v":""}]
[null,null,"",null,null,null,null,{"$f":"IF(G4418=\"\",\"\",VLOOKUP(G4418,'Lista de precios'!$B$7:$C$5000,2,0))","v":""}]
[null,null,"",null,null,null,null,{"$f":"IF(G4419=\"\",\"\",VLOOKUP(G4419,'Lista de precios'!$B$7:$C$5000,2,0))","v":""}]
[null,null,"",null,null,null,null,{"$f":"IF(G4420=\"\",\"\",VLOOKUP(G4420,'Lista de precios'!$B$7:$C$5000,2,0))","v":""}]
[null,null,"",null,null,null,null,{"$f":"IF(G4421=\"\",\"\",VLOOKUP(G4421,'Lista de precios'!$B$7:$C$5000,2,0))","v":""}]
[null,null,"",null,null,null,null,{"$f":"IF(G4422=\"\",\"\",VLOOKUP(G4422,'Lista de precios'!$B$7:$C$5000,2,0))","v":""}]
[null,null,"",null,null,null,null,{"$f":"IF(G4423=\"\",\"\",VLOOKUP(G4423,'Lista de precios'!$B$7:$C$5000,2,0))","v":""}]
[null,null,"",null,null,null,null,{"$f":"IF(G4424=\"\",\"\",VLOOKUP(G4424,'Lista de precios'!$B$7:$C$5000,2,0))","v":""}]
[null,null,"",null,null,null,null,{"$f":"IF(G4425=\"\",\"\",VLOOKUP(G4425,'Lista de precios'!$B$7:$C$5000,2,0))","v":""}]
[null,null,"",null,null,null,null,{"$f":"IF(G4426=\"\",\"\",VLOOKUP(G4426,'Lista de precios'!$B$7:$C$5000,2,0))","v":""}]
[null,null,"",null,null,null,null,{"$f":"IF(G4427=\"\",\"\",VLOOKUP(G4427,'Lista de precios'!$B$7:$C$5000,2,0))","v":""}]
[null,null,{"$f":"IF(B4428=\"\",\"\",TEXT(B4428,\"Mmmm\"))","v":""},null,null,null,null,{"$f":"IF(G4428=\"\",\"\",VLOOKUP(G4428,'Lista de precios'!$B$7:$C$5000,2,0))","v":""}]
[null,null,"",null,null,null,null,{"$f":"IF(G4429=\"\",\"\",VLOOKUP(G4429,'Lista de precios'!$B$7:$C$5000,2,0))","v":""}]
[null,null,"",null,null,null,null,{"$f":"IF(G4430=\"\",\"\",VLOOKUP(G4430,'Lista de precios'!$B$7:$C$5000,2,0))","v":""}]
[null,null,"",null,null,null,null,{"$f":"IF(G4431=\"\",\"\",VLOOKUP(G4431,'Lista de precios'!$B$7:$C$5000,2,0))","v":""}]
[null,null,"",null,null,null,null,{"$f":"IF(G4432=\"\",\"\",VLOOKUP(G4432,'Lista de precios'!$B$7:$C$5000,2,0))","v":""}]
[null,null,"",null,null,null,null,{"$f":"IF(G4433=\"\",\"\",VLOOKUP(G4433,'Lista de precios'!$B$7:$C$5000,2,0))","v":""}]
[null,null,"",null,null,null,null,{"$f":"IF(G4434=\"\",\"\",VLOOKUP(G4434,'Lista de precios'!$B$7:$C$5000,2,0))","v":""}]
[null,null,"",null,null,null,null,{"$f":"IF(G4435=\"\",\"\",VLOOKUP(G4435,'Lista de precios'!$B$7:$C$5000,2,0))","v":""}]
[null,null,"",null,null,null,null,{"$f":"IF(G4436=\"\",\"\",VLOOKUP(G4436,'Lista de precios'!$B$7:$C$5000,2,0))","v":""}]
[null,null,"",null,null,null,null,{"$f":"IF(G4437=\"\",\"\",VLOOKUP(G4437,'Lista de precios'!$B$7:$C$5000,2,0))","v":""}]
[null,null,"",null,null,null,null,{"$f":"IF(G4438=\"\",\"\",VLOOKUP(G4438,'Lista de precios'!$B$7:$C$5000,2,0))","v":""}]
[null,null,"",null,null,null,null,{"$f":"IF(G4439=\"\",\"\",VLOOKUP(G4439,'Lista de precios'!$B$7:$C$5000,2,0))","v":""}]
[null,null,"",null,null,null,null,{"$f":"IF(G4440=\"\",\"\",VLOOKUP(G4440,'Lista de precios'!$B$7:$C$5000,2,0))","v":""}]
[null,null,"",null,null,null,null,{"$f":"IF(G4441=\"\",\"\",VLOOKUP(G4441,'Lista de precios'!$B$7:$C$5000,2,0))","v":""}]
[null,null,"",null,null,null,null,{"$f":"IF(G4442=\"\",\"\",VLOOKUP(G4442,'Lista de precios'!$B$7:$C$5000,2,0))","v":""}]
[null,null,"",null,null,null,null,{"$f":"IF(G4443=\"\",\"\",VLOOKUP(G4443,'Lista de precios'!$B$7:$C$5000,2,0))","v":""}]
[null,null,"",null,null,null,null,{"$f":"IF(G4444=\"\",\"\",VLOOKUP(G4444,'Lista de precios'!$B$7:$C$5000,2,0))","v":""}]
[null,null,"",null,null,null,null,{"$f":"IF(G4445=\"\",\"\",VLOOKUP(G4445,'Lista de precios'!$B$7:$C$5000,2,0))","v":""}]
[null,null,"",null,null,null,null,{"$f":"IF(G4446=\"\",\"\",VLOOKUP(G4446,'Lista de precios'!$B$7:$C$5000,2,0))","v":""}]
[null,null,"",null,null,null,null,{"$f":"IF(G4447=\"\",\"\",VLOOKUP(G4447,'Lista de precios'!$B$7:$C$5000,2,0))","v":""}]
[null,null,"",null,null,null,null,{"$f":"IF(G4448=\"\",\"\",VLOOKUP(G4448,'Lista de precios'!$B$7:$C$5000,2,0))","v":""}]
[null,null,"",null,null,null,null,{"$f":"IF(G4449=\"\",\"\",VLOOKUP(G4449,'Lista de precios'!$B$7:$C$5000,2,0))","v":""}]
[null,null,"",null,null,null,null,{"$f":"IF(G4450=\"\",\"\",VLOOKUP(G4450,'Lista de precios'!$B$7:$C$5000,2,0))","v":""}]
[null,null,"",null,null,null,null,{"$f":"IF(G4451=\"\",\"\",VLOOKUP(G4451,'Lista de precios'!$B$7:$C$5000,2,0))","v":""}]
[null,null,"",null,null,null,null,{"$f":"IF(G4452=\"\",\"\",VLOOKUP(G4452,'Lista de precios'!$B$7:$C$5000,2,0))","v":""}]
[null,null,"",null,null,null,null,{"$f":"IF(G4453=\"\",\"\",VLOOKUP(G4453,'Lista de precios'!$B$7:$C$5000,2,0))","v":""}]
[null,null,"",null,null,null,null,{"$f":"IF(G4454=\"\",\"\",VLOOKUP(G4454,'Lista de precios'!$B$7:$C$5000,2,0))","v":""}]
[null,null,"",null,null,null,null,{"$f":"IF(G4455=\"\",\"\",VLOOKUP(G4455,'Lista de precios'!$B$7:$C$5000,2,0))","v":""}]
[null,null,"",null,null,null,null,{"$f":"IF(G4456=\"\",\"\",VLOOKUP(G4456,'Lista de precios'!$B$7:$C$5000,2,0))","v":""}]
[null,null,"",null,null,null,null,{"$f":"IF(G4457=\"\",\"\",VLOOKUP(G4457,'Lista de precios'!$B$7:$C$5000,2,0))","v":""}]
[null,null,"",null,null,null,null,{"$f":"IF(G4458=\"\",\"\",VLOOKUP(G4458,'Lista de precios'!$B$7:$C$5000,2,0))","v":""}]
[null,null,"",null,null,null,null,{"$f":"IF(G4459=\"\",\"\",VLOOKUP(G4459,'Lista de precios'!$B$7:$C$5000,2,0))","v":""}]
[null,null,"",null,null,null,null,{"$f":"IF(G4460=\"\",\"\",VLOOKUP(G4460,'Lista de precios'!$B$7:$C$5000,2,0))","v":""}]
[null,null,"",null,null,null,null,{"$f":"IF(G4461=\"\",\"\",VLOOKUP(G4461,'Lista de precios'!$B$7:$C$5000,2,0))","v":""}]
[null,null,"",null,null,null,null,{"$f":"IF(G4462=\"\",\"\",VLOOKUP(G4462,'Lista de precios'!$B$7:$C$5000,2,0))","v":""}]
[null,null,"",null,null,null,null,{"$f":"IF(G4463=\"\",\"\",VLOOKUP(G4463,'Lista de precios'!$B$7:$C$5000,2,0))","v":""}]
[null,null,"",null,null,null,null,{"$f":"IF(G4464=\"\",\"\",VLOOKUP(G4464,'Lista de precios'!$B$7:$C$5000,2,0))","v":""}]
[null,null,"",null,null,null,null,{"$f":"IF(G4465=\"\",\"\",VLOOKUP(G4465,'Lista de precios'!$B$7:$C$5000,2,0))","v":""}]
[null,null,"",null,null,null,null,{"$f":"IF(G4466=\"\",\"\",VLOOKUP(G4466,'Lista de precios'!$B$7:$C$5000,2,0))","v":""}]
[null,null,"",null,null,null,null,{"$f":"IF(G4467=\"\",\"\",VLOOKUP(G4467,'Lista de precios'!$B$7:$C$5000,2,0))","v":""}]
[null,null,"",null,null,null,null,{"$f":"IF(G4468=\"\",\"\",VLOOKUP(G4468,'Lista de precios'!$B$7:$C$5000,2,0))","v":""}]
[null,null,"",null,null,null,null,{"$f":"IF(G4469=\"\",\"\",VLOOKUP(G4469,'Lista de precios'!$B$7:$C$5000,2,0))","v":""}]
[null,null,"",null,null,null,null,{"$f":"IF(G4470=\"\",\"\",VLOOKUP(G4470,'Lista de precios'!$B$7:$C$5000,2,0))","v":""}]
[null,null,"",null,null,null,null,{"$f":"IF(G4471=\"\",\"\",VLOOKUP(G4471,'Lista de precios'!$B$7:$C$5000,2,0))","v":""}]
[null,null,"",null,null,null,null,{"$f":"IF(G4472=\"\",\"\",VLOOKUP(G4472,'Lista de precios'!$B$7:$C$5000,2,0))","v":""}]
[null,null,"",null,null,null,null,{"$f":"IF(G4473=\"\",\"\",VLOOKUP(G4473,'Lista de precios'!$B$7:$C$5000,2,0))","v":""}]
[null,null,"",null,null,null,null,{"$f":"IF(G4474=\"\",\"\",VLOOKUP(G4474,'Lista de precios'!$B$7:$C$5000,2,0))","v":""}]
[null,null,"",null,null,null,null,{"$f":"IF(G4475=\"\",\"\",VLOOKUP(G4475,'Lista de precios'!$B$7:$C$5000,2,0))","v":""}]
[null,null,"",null,null,null,null,{"$f":"IF(G4476=\"\",\"\",VLOOKUP(G4476,'Lista de precios'!$B$7:$C$5000,2,0))","v":""}]
[null,null,"",null,null,null,null,{"$f":"IF(G4477=\"\",\"\",VLOOKUP(G4477,'Lista de precios'!$B$7:$C$5000,2,0))","v":""}]
[null,null,"",null,null,null,null,{"$f":"IF(G4478=\"\",\"\",VLOOKUP(G4478,'Lista de precios'!$B$7:$C$5000,2,0))","v":""}]
[null,null,"",null,null,null,null,{"$f":"IF(G4479=\"\",\"\",VLOOKUP(G4479,'Lista de precios'!$B$7:$C$5000,2,0))","v":""}]
[null,null,"",null,null,null,null,{"$f":"IF(G4480=\"\",\"\",VLOOKUP(G4480,'Lista de precios'!$B$7:$C$5000,2,0))","v":""}]
[null,null,"",null,null,null,null,{"$f":"IF(G4481=\"\",\"\",VLOOKUP(G4481,'Lista de precios'!$B$7:$C$5000,2,0))","v":""}]
[null,null,"",null,null,null,null,{"$f":"IF(G4482=\"\",\"\",VLOOKUP(G4482,'Lista de precios'!$B$7:$C$5000,2,0))","v":""}]
[null,null,"",null,null,null,null,{"$f":"IF(G4483=\"\",\"\",VLOOKUP(G4483,'Lista de precios'!$B$7:$C$5000,2,0))","v":""}]
[null,null,"",null,null,null,null,{"$f":"IF(G4484=\"\",\"\",VLOOKUP(G4484,'Lista de precios'!$B$7:$C$5000,2,0))","v":""}]
[null,null,"",null,null,null,null,{"$f":"IF(G4485=\"\",\"\",VLOOKUP(G4485,'Lista de precios'!$B$7:$C$5000,2,0))","v":""}]
[null,null,"",null,null,null,null,{"$f":"IF(G4486=\"\",\"\",VLOOKUP(G4486,'Lista de precios'!$B$7:$C$5000,2,0))","v":""}]
[null,null,"",null,null,null,null,{"$f":"IF(G4487=\"\",\"\",VLOOKUP(G4487,'Lista de precios'!$B$7:$C$5000,2,0))","v":""}]
[null,null,"",null,null,null,null,{"$f":"IF(G4488=\"\",\"\",VLOOKUP(G4488,'Lista de precios'!$B$7:$C$5000,2,0))","v":""}]
[null,null,"",null,null,null,null,{"$f":"IF(G4489=\"\",\"\",VLOOKUP(G4489,'Lista de precios'!$B$7:$C$5000,2,0))","v":""}]
[null,null,"",null,null,null,null,{"$f":"IF(G4490=\"\",\"\",VLOOKUP(G4490,'Lista de precios'!$B$7:$C$5000,2,0))","v":""}]
[null,null,"",null,null,null,null,{"$f":"IF(G4491=\"\",\"\",VLOOKUP(G4491,'Lista de precios'!$B$7:$C$5000,2,0))","v":""}]
[null,null,{"$f":"IF(B4492=\"\",\"\",TEXT(B4492,\"Mmmm\"))","v":""},null,null,null,null,{"$f":"IF(G4492=\"\",\"\",VLOOKUP(G4492,'Lista de precios'!$B$7:$C$5000,2,0))","v":""}]
[null,null,"",null,null,null,null,{"$f":"IF(G4493=\"\",\"\",VLOOKUP(G4493,'Lista de precios'!$B$7:$C$5000,2,0))","v":""}]
[null,null,"",null,null,null,null,{"$f":"IF(G4494=\"\",\"\",VLOOKUP(G4494,'Lista de precios'!$B$7:$C$5000,2,0))","v":""}]
[null,null,"",null,null,null,null,{"$f":"IF(G4495=\"\",\"\",VLOOKUP(G4495,'Lista de precios'!$B$7:$C$5000,2,0))","v":""}]
[null,null,"",null,null,null,null,{"$f":"IF(G4496=\"\",\"\",VLOOKUP(G4496,'Lista de precios'!$B$7:$C$5000,2,0))","v":""}]
[null,null,"",null,null,null,null,{"$f":"IF(G4497=\"\",\"\",VLOOKUP(G4497,'Lista de precios'!$B$7:$C$5000,2,0))","v":""}]
[null,null,"",null,null,null,null,{"$f":"IF(G4498=\"\",\"\",VLOOKUP(G4498,'Lista de precios'!$B$7:$C$5000,2,0))","v":""}]
[null,null,"",null,null,null,null,{"$f":"IF(G4499=\"\",\"\",VLOOKUP(G4499,'Lista de precios'!$B$7:$C$5000,2,0))","v":""}]
[null,null,"",null,null,null,null,{"$f":"IF(G4500=\"\",\"\",VLOOKUP(G4500,'Lista de precios'!$B$7:$C$5000,2,0))","v":""}]
[null,null,"",null,null,null,null,{"$f":"IF(G4501=\"\",\"\",VLOOKUP(G4501,'Lista de precios'!$B$7:$C$5000,2,0))","v":""}]
[null,null,"",null,null,null,null,{"$f":"IF(G4502=\"\",\"\",VLOOKUP(G4502,'Lista de precios'!$B$7:$C$5000,2,0))","v":""}]
[null,null,"",null,null,null,null,{"$f":"IF(G4503=\"\",\"\",VLOOKUP(G4503,'Lista de precios'!$B$7:$C$5000,2,0))","v":""}]
[null,null,"",null,null,null,null,{"$f":"IF(G4504=\"\",\"\",VLOOKUP(G4504,'Lista de precios'!$B$7:$C$5000,2,0))","v":""}]
[null,null,"",null,null,null,null,{"$f":"IF(G4505=\"\",\"\",VLOOKUP(G4505,'Lista de precios'!$B$7:$C$5000,2,0))","v":""}]
[null,null,"",null,null,null,null,{"$f":"IF(G4506=\"\",\"\",VLOOKUP(G4506,'Lista de precios'!$B$7:$C$5000,2,0))","v":""}]
[null,null,"",null,null,null,null,{"$f":"IF(G4507=\"\",\"\",VLOOKUP(G4507,'Lista de precios'!$B$7:$C$5000,2,0))","v":""}]
[null,null,"",null,null,null,null,{"$f":"IF(G4508=\"\",\"\",VLOOKUP(G4508,'Lista de precios'!$B$7:$C$5000,2,0))","v":""}]
[null,null,"",null,null,null,null,{"$f":"IF(G4509=\"\",\"\",VLOOKUP(G4509,'Lista de precios'!$B$7:$C$5000,2,0))","v":""}]
[null,null,"",null,null,null,null,{"$f":"IF(G4510=\"\",\"\",VLOOKUP(G4510,'Lista de precios'!$B$7:$C$5000,2,0))","v":""}]
[null,null,"",null,null,null,null,{"$f":"IF(G4511=\"\",\"\",VLOOKUP(G4511,'Lista de precios'!$B$7:$C$5000,2,0))","v":""}]
[null,null,"",null,null,null,null,{"$f":"IF(G4512=\"\",\"\",VLOOKUP(G4512,'Lista de precios'!$B$7:$C$5000,2,0))","v":""}]
[null,null,"",null,null,null,null,{"$f":"IF(G4513=\"\",\"\",VLOOKUP(G4513,'Lista de precios'!$B$7:$C$5000,2,0))","v":""}]
[null,null,"",null,null,null,null,{"$f":"IF(G4514=\"\",\"\",VLOOKUP(G4514,'Lista de precios'!$B$7:$C$5000,2,0))","v":""}]
[null,null,"",null,null,null,null,{"$f":"IF(G4515=\"\",\"\",VLOOKUP(G4515,'Lista de precios'!$B$7:$C$5000,2,0))","v":""}]
[null,null,"",null,null,null,null,{"$f":"IF(G4516=\"\",\"\",VLOOKUP(G4516,'Lista de precios'!$B$7:$C$5000,2,0))","v":""}]
[null,null,"",null,null,null,null,{"$f":"IF(G4517=\"\",\"\",VLOOKUP(G4517,'Lista de precios'!$B$7:$C$5000,2,0))","v":""}]
[null,null,"",null,null,null,null,{"$f":"IF(G4518=\"\",\"\",VLOOKUP(G4518,'Lista de precios'!$B$7:$C$5000,2,0))","v":""}]
[null,null,"",null,null,null,null,{"$f":"IF(G4519=\"\",\"\",VLOOKUP(G4519,'Lista de precios'!$B$7:$C$5000,2,0))","v":""}]
[null,null,"",null,null,null,null,{"$f":"IF(G4520=\"\",\"\",VLOOKUP(G4520,'Lista de precios'!$B$7:$C$5000,2,0))","v":""}]
[null,null,"",null,null,null,null,{"$f":"IF(G4521=\"\",\"\",VLOOKUP(G4521,'Lista de precios'!$B$7:$C$5000,2,0))","v":""}]
[null,null,"",null,null,null,null,{"$f":"IF(G4522=\"\",\"\",VLOOKUP(G4522,'Lista de precios'!$B$7:$C$5000,2,0))","v":""}]
[null,null,"",null,null,null,null,{"$f":"IF(G4523=\"\",\"\",VLOOKUP(G4523,'Lista de precios'!$B$7:$C$5000,2,0))","v":""}]
[null,null,"",null,null,null,null,{"$f":"IF(G4524=\"\",\"\",VLOOKUP(G4524,'Lista de precios'!$B$7:$C$5000,2,0))","v":""}]
[null,null,"",null,null,null,null,{"$f":"IF(G4525=\"\",\"\",VLOOKUP(G4525,'Lista de precios'!$B$7:$C$5000,2,0))","v":""}]
[null,null,"",null,null,null,null,{"$f":"IF(G4526=\"\",\"\",VLOOKUP(G4526,'Lista de precios'!$B$7:$C$5000,2,0))","v":""}]
[null,null,"",null,null,null,null,{"$f":"IF(G4527=\"\",\"\",VLOOKUP(G4527,'Lista de precios'!$B$7:$C$5000,2,0))","v":""}]
[null,null,"",null,null,null,null,{"$f":"IF(G4528=\"\",\"\",VLOOKUP(G4528,'Lista de precios'!$B$7:$C$5000,2,0))","v":""}]
[null,null,"",null,null,null,null,{"$f":"IF(G4529=\"\",\"\",VLOOKUP(G4529,'Lista de precios'!$B$7:$C$5000,2,0))","v":""}]
[null,null,"",null,null,null,null,{"$f":"IF(G4530=\"\",\"\",VLOOKUP(G4530,'Lista de precios'!$B$7:$C$5000,2,0))","v":""}]
[null,null,"",null,null,null,null,{"$f":"IF(G4531=\"\",\"\",VLOOKUP(G4531,'Lista de precios'!$B$7:$C$5000,2,0))","v":""}]
[null,null,"",null,null,null,null,{"$f":"IF(G4532=\"\",\"\",VLOOKUP(G4532,'Lista de precios'!$B$7:$C$5000,2,0))","v":""}]
[null,null,"",null,null,null,null,{"$f":"IF(G4533=\"\",\"\",VLOOKUP(G4533,'Lista de precios'!$B$7:$C$5000,2,0))","v":""}]
[null,null,"",null,null,null,null,{"$f":"IF(G4534=\"\",\"\",VLOOKUP(G4534,'Lista de precios'!$B$7:$C$5000,2,0))","v":""}]
[null,null,"",null,null,null,null,{"$f":"IF(G4535=\"\",\"\",VLOOKUP(G4535,'Lista de precios'!$B$7:$C$5000,2,0))","v":""}]
[null,null,"",null,null,null,null,{"$f":"IF(G4536=\"\",\"\",VLOOKUP(G4536,'Lista de precios'!$B$7:$C$5000,2,0))","v":""}]
[null,null,"",null,null,null,null,{"$f":"IF(G4537=\"\",\"\",VLOOKUP(G4537,'Lista de precios'!$B$7:$C$5000,2,0))","v":""}]
[null,null,"",null,null,null,null,{"$f":"IF(G4538=\"\",\"\",VLOOKUP(G4538,'Lista de precios'!$B$7:$C$5000,2,0))","v":""}]
[null,null,"",null,null,null,null,{"$f":"IF(G4539=\"\",\"\",VLOOKUP(G4539,'Lista de precios'!$B$7:$C$5000,2,0))","v":""}]
[null,null,"",null,null,null,null,{"$f":"IF(G4540=\"\",\"\",VLOOKUP(G4540,'Lista de precios'!$B$7:$C$5000,2,0))","v":""}]
[null,null,"",null,null,null,null,{"$f":"IF(G4541=\"\",\"\",VLOOKUP(G4541,'Lista de precios'!$B$7:$C$5000,2,0))","v":""}]
[null,null,"",null,null,null,null,{"$f":"IF(G4542=\"\",\"\",VLOOKUP(G4542,'Lista de precios'!$B$7:$C$5000,2,0))","v":""}]
[null,null,"",null,null,null,null,{"$f":"IF(G4543=\"\",\"\",VLOOKUP(G4543,'Lista de precios'!$B$7:$C$5000,2,0))","v":""}]
[null,null,"",null,null,null,null,{"$f":"IF(G4544=\"\",\"\",VLOOKUP(G4544,'Lista de precios'!$B$7:$C$5000,2,0))","v":""}]
[null,null,"",null,null,null,null,{"$f":"IF(G4545=\"\",\"\",VLOOKUP(G4545,'Lista de precios'!$B$7:$C$5000,2,0))","v":""}]
[null,null,"",null,null,null,null,{"$f":"IF(G4546=\"\",\"\",VLOOKUP(G4546,'Lista de precios'!$B$7:$C$5000,2,0))","v":""}]
[null,null,"",null,null,null,null,{"$f":"IF(G4547=\"\",\"\",VLOOKUP(G4547,'Lista de precios'!$B$7:$C$5000,2,0))","v":""}]
[null,null,"",null,null,null,null,{"$f":"IF(G4548=\"\",\"\",VLOOKUP(G4548,'Lista de precios'!$B$7:$C$5000,2,0))","v":""}]
[null,null,"",null,null,null,null,{"$f":"IF(G4549=\"\",\"\",VLOOKUP(G4549,'Lista de precios'!$B$7:$C$5000,2,0))","v":""}]
[null,null,"",null,null,null,null,{"$f":"IF(G4550=\"\",\"\",VLOOKUP(G4550,'Lista de precios'!$B$7:$C$5000,2,0))","v":""}]
[null,null,"",null,null,null,null,{"$f":"IF(G4551=\"\",\"\",VLOOKUP(G4551,'Lista de precios'!$B$7:$C$5000,2,0))","v":""}]
[null,null,"",null,null,null,null,{"$f":"IF(G4552=\"\",\"\",VLOOKUP(G4552,'Lista de precios'!$B$7:$C$5000,2,0))","v":""}]
[null,null,"",null,null,null,null,{"$f":"IF(G4553=\"\",\"\",VLOOKUP(G4553,'Lista de precios'!$B$7:$C$5000,2,0))","v":""}]
[null,null,"",null,null,null,null,{"$f":"IF(G4554=\"\",\"\",VLOOKUP(G4554,'Lista de precios'!$B$7:$C$5000,2,0))","v":""}]
[null,null,"",null,null,null,null,{"$f":"IF(G4555=\"\",\"\",VLOOKUP(G4555,'Lista de precios'!$B$7:$C$5000,2,0))","v":""}]
[null,null,{"$f":"IF(B4556=\"\",\"\",TEXT(B4556,\"Mmmm\"))","v":""},null,null,null,null,{"$f":"IF(G4556=\"\",\"\",VLOOKUP(G4556,'Lista de precios'!$B$7:$C$5000,2,0))","v":""}]
[null,null,"",null,null,null,null,{"$f":"IF(G4557=\"\",\"\",VLOOKUP(G4557,'Lista de precios'!$B$7:$C$5000,2,0))","v":""}]
[null,null,"",null,null,null,null,{"$f":"IF(G4558=\"\",\"\",VLOOKUP(G4558,'Lista de precios'!$B$7:$C$5000,2,0))","v":""}]
[null,null,"",null,null,null,null,{"$f":"IF(G4559=\"\",\"\",VLOOKUP(G4559,'Lista de precios'!$B$7:$C$5000,2,0))","v":""}]
[null,null,"",null,null,null,null,{"$f":"IF(G4560=\"\",\"\",VLOOKUP(G4560,'Lista de precios'!$B$7:$C$5000,2,0))","v":""}]
[null,null,"",null,null,null,null,{"$f":"IF(G4561=\"\",\"\",VLOOKUP(G4561,'Lista de precios'!$B$7:$C$5000,2,0))","v":""}]
[null,null,"",null,null,null,null,{"$f":"IF(G4562=\"\",\"\",VLOOKUP(G4562,'Lista de precios'!$B$7:$C$5000,2,0))","v":""}]
[null,null,"",null,null,null,null,{"$f":"IF(G4563=\"\",\"\",VLOOKUP(G4563,'Lista de precios'!$B$7:$C$5000,2,0))","v":""}]
[null,null,"",null,null,null,null,{"$f":"IF(G4564=\"\",\"\",VLOOKUP(G4564,'Lista de precios'!$B$7:$C$5000,2,0))","v":""}]
[null,null,"",null,null,null,null,{"$f":"IF(G4565=\"\",\"\",VLOOKUP(G4565,'Lista de precios'!$B$7:$C$5000,2,0))","v":""}]
[null,null,"",null,null,null,null,{"$f":"IF(G4566=\"\",\"\",VLOOKUP(G4566,'Lista de precios'!$B$7:$C$5000,2,0))","v":""}]
[null,null,"",null,null,null,null,{"$f":"IF(G4567=\"\",\"\",VLOOKUP(G4567,'Lista de precios'!$B$7:$C$5000,2,0))","v":""}]
[null,null,"",null,null,null,null,{"$f":"IF(G4568=\"\",\"\",VLOOKUP(G4568,'Lista de precios'!$B$7:$C$5000,2,0))","v":""}]
[null,null,"",null,null,null,null,{"$f":"IF(G4569=\"\",\"\",VLOOKUP(G4569,'Lista de precios'!$B$7:$C$5000,2,0))","v":""}]
[null,null,"",null,null,null,null,{"$f":"IF(G4570=\"\",\"\",VLOOKUP(G4570,'Lista de precios'!$B$7:$C$5000,2,0))","v":""}]
[null,null,"",null,null,null,null,{"$f":"IF(G4571=\"\",\"\",VLOOKUP(G4571,'Lista de precios'!$B$7:$C$5000,2,0))","v":""}]
[null,null,"",null,null,null,null,{"$f":"IF(G4572=\"\",\"\",VLOOKUP(G4572,'Lista de precios'!$B$7:$C$5000,2,0))","v":""}]
[null,null,"",null,null,null,null,{"$f":"IF(G4573=\"\",\"\",VLOOKUP(G4573,'Lista de precios'!$B$7:$C$5000,2,0))","v":""}]
[null,null,"",null,null,null,null,{"$f":"IF(G4574=\"\",\"\",VLOOKUP(G4574,'Lista de precios'!$B$7:$C$5000,2,0))","v":""}]
[null,null,"",null,null,null,null,{"$f":"IF(G4575=\"\",\"\",VLOOKUP(G4575,'Lista de precios'!$B$7:$C$5000,2,0))","v":""}]
[null,null,"",null,null,null,null,{"$f":"IF(G4576=\"\",\"\",VLOOKUP(G4576,'Lista de precios'!$B$7:$C$5000,2,0))","v":""}]
[null,null,"",null,null,null,null,{"$f":"IF(G4577=\"\",\"\",VLOOKUP(G4577,'Lista de precios'!$B$7:$C$5000,2,0))","v":""}]
[null,null,"",null,null,null,null,{"$f":"IF(G4578=\"\",\"\",VLOOKUP(G4578,'Lista de precios'!$B$7:$C$5000,2,0))","v":""}]
[null,null,"",null,null,null,null,{"$f":"IF(G4579=\"\",\"\",VLOOKUP(G4579,'Lista de precios'!$B$7:$C$5000,2,0))","v":""}]
[null,null,"",null,null,null,null,{"$f":"IF(G4580=\"\",\"\",VLOOKUP(G4580,'Lista de precios'!$B$7:$C$5000,2,0))","v":""}]
[null,null,"",null,null,null,null,{"$f":"IF(G4581=\"\",\"\",VLOOKUP(G4581,'Lista de precios'!$B$7:$C$5000,2,0))","v":""}]
[null,null,"",null,null,null,null,{"$f":"IF(G4582=\"\",\"\",VLOOKUP(G4582,'Lista de precios'!$B$7:$C$5000,2,0))","v":""}]
[null,null,"",null,null,null,null,{"$f":"IF(G4583=\"\",\"\",VLOOKUP(G4583,'Lista de precios'!$B$7:$C$5000,2,0))","v":""}]
[null,null,"",null,null,null,null,{"$f":"IF(G4584=\"\",\"\",VLOOKUP(G4584,'Lista de precios'!$B$7:$C$5000,2,0))","v":""}]
[null,null,"",null,null,null,null,{"$f":"IF(G4585=\"\",\"\",VLOOKUP(G4585,'Lista de precios'!$B$7:$C$5000,2,0))","v":""}]
[null,null,"",null,null,null,null,{"$f":"IF(G4586=\"\",\"\",VLOOKUP(G4586,'Lista de precios'!$B$7:$C$5000,2,0))","v":""}]
[null,null,"",null,null,null,null,{"$f":"IF(G4587=\"\",\"\",VLOOKUP(G4587,'Lista de precios'!$B$7:$C$5000,2,0))","v":""}]
[null,null,"",null,null,null,null,{"$f":"IF(G4588=\"\",\"\",VLOOKUP(G4588,'Lista de precios'!$B$7:$C$5000,2,0))","v":""}]
[null,null,"",null,null,null,null,{"$f":"IF(G4589=\"\",\"\",VLOOKUP(G4589,'Lista de precios'!$B$7:$C$5000,2,0))","v":""}]
[null,null,"",null,null,null,null,{"$f":"IF(G4590=\"\",\"\",VLOOKUP(G4590,'Lista de precios'!$B$7:$C$5000,2,0))","v":""}]
[null,null,"",null,null,null,null,{"$f":"IF(G4591=\"\",\"\",VLOOKUP(G4591,'Lista de precios'!$B$7:$C$5000,2,0))","v":""}]
[null,null,"",null,null,null,null,{"$f":"IF(G4592=\"\",\"\",VLOOKUP(G4592,'Lista de precios'!$B$7:$C$5000,2,0))","v":""}]
[null,null,"",null,null,null,null,{"$f":"IF(G4593=\"\",\"\",VLOOKUP(G4593,'Lista de precios'!$B$7:$C$5000,2,0))","v":""}]
[null,null,"",null,null,null,null,{"$f":"IF(G4594=\"\",\"\",VLOOKUP(G4594,'Lista de precios'!$B$7:$C$5000,2,0))","v":""}]
[null,null,"",null,null,null,null,{"$f":"IF(G4595=\"\",\"\",VLOOKUP(G4595,'Lista de precios'!$B$7:$C$5000,2,0))","v":""}]
[null,null,"",null,null,null,null,{"$f":"IF(G4596=\"\",\"\",VLOOKUP(G4596,'Lista de precios'!$B$7:$C$5000,2,0))","v":""}]
[null,null,"",null,null,null,null,{"$f":"IF(G4597=\"\",\"\",VLOOKUP(G4597,'Lista de precios'!$B$7:$C$5000,2,0))","v":""}]
[null,null,"",null,null,null,null,{"$f":"IF(G4598=\"\",\"\",VLOOKUP(G4598,'Lista de precios'!$B$7:$C$5000,2,0))","v":""}]
[null,null,"",null,null,null,null,{"$f":"IF(G4599=\"\",\"\",VLOOKUP(G4599,'Lista de precios'!$B$7:$C$5000,2,0))","v":""}]
[null,null,"",null,null,null,null,{"$f":"IF(G4600=\"\",\"\",VLOOKUP(G4600,'Lista de precios'!$B$7:$C$5000,2,0))","v":""}]
[null,null,"",null,null,null,null,{"$f":"IF(G4601=\"\",\"\",VLOOKUP(G4601,'Lista de precios'!$B$7:$C$5000,2,0))","v":""}]
[null,null,"",null,null,null,null,{"$f":"IF(G4602=\"\",\"\",VLOOKUP(G4602,'Lista de precios'!$B$7:$C$5000,2,0))","v":""}]
[null,null,"",null,null,null,null,{"$f":"IF(G4603=\"\",\"\",VLOOKUP(G4603,'Lista de precios'!$B$7:$C$5000,2,0))","v":""}]
[null,null,"",null,null,null,null,{"$f":"IF(G4604=\"\",\"\",VLOOKUP(G4604,'Lista de precios'!$B$7:$C$5000,2,0))","v":""}]
[null,null,"",null,null,null,null,{"$f":"IF(G4605=\"\",\"\",VLOOKUP(G4605,'Lista de precios'!$B$7:$C$5000,2,0))","v":""}]
[null,null,"",null,null,null,null,{"$f":"IF(G4606=\"\",\"\",VLOOKUP(G4606,'Lista de precios'!$B$7:$C$5000,2,0))","v":""}]
[null,null,"",null,null,null,null,{"$f":"IF(G4607=\"\",\"\",VLOOKUP(G4607,'Lista de precios'!$B$7:$C$5000,2,0))","v":""}]
[null,null,"",null,null,null,null,{"$f":"IF(G4608=\"\",\"\",VLOOKUP(G4608,'Lista de precios'!$B$7:$C$5000,2,0))","v":""}]
[null,null,"",null,null,null,null,{"$f":"IF(G4609=\"\",\"\",VLOOKUP(G4609,'Lista de precios'!$B$7:$C$5000,2,0))","v":""}]
[null,null,"",null,null,null,null,{"$f":"IF(G4610=\"\",\"\",VLOOKUP(G4610,'Lista de precios'!$B$7:$C$5000,2,0))","v":""}]
[null,null,"",null,null,null,null,{"$f":"IF(G4611=\"\",\"\",VLOOKUP(G4611,'Lista de precios'!$B$7:$C$5000,2,0))","v":""}]
[null,null,"",null,null,null,null,{"$f":"IF(G4612=\"\",\"\",VLOOKUP(G4612,'Lista de precios'!$B$7:$C$5000,2,0))","v":""}]
[null,null,"",null,null,null,null,{"$f":"IF(G4613=\"\",\"\",VLOOKUP(G4613,'Lista de precios'!$B$7:$C$5000,2,0))","v":""}]
[null,null,"",null,null,null,null,{"$f":"IF(G4614=\"\",\"\",VLOOKUP(G4614,'Lista de precios'!$B$7:$C$5000,2,0))","v":""}]
[null,null,"",null,null,null,null,{"$f":"IF(G4615=\"\",\"\",VLOOKUP(G4615,'Lista de precios'!$B$7:$C$5000,2,0))","v":""}]
[null,null,"",null,null,null,null,{"$f":"IF(G4616=\"\",\"\",VLOOKUP(G4616,'Lista de precios'!$B$7:$C$5000,2,0))","v":""}]
[null,null,"",null,null,null,null,{"$f":"IF(G4617=\"\",\"\",VLOOKUP(G4617,'Lista de precios'!$B$7:$C$5000,2,0))","v":""}]
[null,null,"",null,null,null,null,{"$f":"IF(G4618=\"\",\"\",VLOOKUP(G4618,'Lista de precios'!$B$7:$C$5000,2,0))","v":""}]
[null,null,"",null,null,null,null,{"$f":"IF(G4619=\"\",\"\",VLOOKUP(G4619,'Lista de precios'!$B$7:$C$5000,2,0))","v":""}]
[null,null,{"$f":"IF(B4620=\"\",\"\",TEXT(B4620,\"Mmmm\"))","v":""},null,null,null,null,{"$f":"IF(G4620=\"\",\"\",VLOOKUP(G4620,'Lista de precios'!$B$7:$C$5000,2,0))","v":""}]
[null,null,"",null,null,null,null,{"$f":"IF(G4621=\"\",\"\",VLOOKUP(G4621,'Lista de precios'!$B$7:$C$5000,2,0))","v":""}]
[null,null,"",null,null,null,null,{"$f":"IF(G4622=\"\",\"\",VLOOKUP(G4622,'Lista de precios'!$B$7:$C$5000,2,0))","v":""}]
[null,null,"",null,null,null,null,{"$f":"IF(G4623=\"\",\"\",VLOOKUP(G4623,'Lista de precios'!$B$7:$C$5000,2,0))","v":""}]
[null,null,"",null,null,null,null,{"$f":"IF(G4624=\"\",\"\",VLOOKUP(G4624,'Lista de precios'!$B$7:$C$5000,2,0))","v":""}]
[null,null,"",null,null,null,null,{"$f":"IF(G4625=\"\",\"\",VLOOKUP(G4625,'Lista de precios'!$B$7:$C$5000,2,0))","v":""}]
[null,null,"",null,null,null,null,{"$f":"IF(G4626=\"\",\"\",VLOOKUP(G4626,'Lista de precios'!$B$7:$C$5000,2,0))","v":""}]
[null,null,"",null,null,null,null,{"$f":"IF(G4627=\"\",\"\",VLOOKUP(G4627,'Lista de precios'!$B$7:$C$5000,2,0))","v":""}]
[null,null,"",null,null,null,null,{"$f":"IF(G4628=\"\",\"\",VLOOKUP(G4628,'Lista de precios'!$B$7:$C$5000,2,0))","v":""}]
[null,null,"",null,null,null,null,{"$f":"IF(G4629=\"\",\"\",VLOOKUP(G4629,'Lista de precios'!$B$7:$C$5000,2,0))","v":""}]
[null,null,"",null,null,null,null,{"$f":"IF(G4630=\"\",\"\",VLOOKUP(G4630,'Lista de precios'!$B$7:$C$5000,2,0))","v":""}]
[null,null,"",null,null,null,null,{"$f":"IF(G4631=\"\",\"\",VLOOKUP(G4631,'Lista de precios'!$B$7:$C$5000,2,0))","v":""}]
[null,null,"",null,null,null,null,{"$f":"IF(G4632=\"\",\"\",VLOOKUP(G4632,'Lista de precios'!$B$7:$C$5000,2,0))","v":""}]
[null,null,"",null,null,null,null,{"$f":"IF(G4633=\"\",\"\",VLOOKUP(G4633,'Lista de precios'!$B$7:$C$5000,2,0))","v":""}]
[null,null,"",null,null,null,null,{"$f":"IF(G4634=\"\",\"\",VLOOKUP(G4634,'Lista de precios'!$B$7:$C$5000,2,0))","v":""}]
[null,null,"",null,null,null,null,{"$f":"IF(G4635=\"\",\"\",VLOOKUP(G4635,'Lista de precios'!$B$7:$C$5000,2,0))","v":""}]
[null,null,"",null,null,null,null,{"$f":"IF(G4636=\"\",\"\",VLOOKUP(G4636,'Lista de precios'!$B$7:$C$5000,2,0))","v":""}]
[null,null,"",null,null,null,null,{"$f":"IF(G4637=\"\",\"\",VLOOKUP(G4637,'Lista de precios'!$B$7:$C$5000,2,0))","v":""}]
[null,null,"",null,null,null,null,{"$f":"IF(G4638=\"\",\"\",VLOOKUP(G4638,'Lista de precios'!$B$7:$C$5000,2,0))","v":""}]
[null,null,"",null,null,null,null,{"$f":"IF(G4639=\"\",\"\",VLOOKUP(G4639,'Lista de precios'!$B$7:$C$5000,2,0))","v":""}]
[null,null,"",null,null,null,null,{"$f":"IF(G4640=\"\",\"\",VLOOKUP(G4640,'Lista de precios'!$B$7:$C$5000,2,0))","v":""}]
[null,null,"",null,null,null,null,{"$f":"IF(G4641=\"\",\"\",VLOOKUP(G4641,'Lista de precios'!$B$7:$C$5000,2,0))","v":""}]
[null,null,"",null,null,null,null,{"$f":"IF(G4642=\"\",\"\",VLOOKUP(G4642,'Lista de precios'!$B$7:$C$5000,2,0))","v":""}]
[null,null,"",null,null,null,null,{"$f":"IF(G4643=\"\",\"\",VLOOKUP(G4643,'Lista de precios'!$B$7:$C$5000,2,0))","v":""}]
[null,null,"",null,null,null,null,{"$f":"IF(G4644=\"\",\"\",VLOOKUP(G4644,'Lista de precios'!$B$7:$C$5000,2,0))","v":""}]
[null,null,"",null,null,null,null,{"$f":"IF(G4645=\"\",\"\",VLOOKUP(G4645,'Lista de precios'!$B$7:$C$5000,2,0))","v":""}]
[null,null,"",null,null,null,null,{"$f":"IF(G4646=\"\",\"\",VLOOKUP(G4646,'Lista de precios'!$B$7:$C$5000,2,0))","v":""}]
[null,null,"",null,null,null,null,{"$f":"IF(G4647=\"\",\"\",VLOOKUP(G4647,'Lista de precios'!$B$7:$C$5000,2,0))","v":""}]
[null,null,"",null,null,null,null,{"$f":"IF(G4648=\"\",\"\",VLOOKUP(G4648,'Lista de precios'!$B$7:$C$5000,2,0))","v":""}]
[null,null,"",null,null,null,null,{"$f":"IF(G4649=\"\",\"\",VLOOKUP(G4649,'Lista de precios'!$B$7:$C$5000,2,0))","v":""}]
[null,null,"",null,null,null,null,{"$f":"IF(G4650=\"\",\"\",VLOOKUP(G4650,'Lista de precios'!$B$7:$C$5000,2,0))","v":""}]
[null,null,"",null,null,null,null,{"$f":"IF(G4651=\"\",\"\",VLOOKUP(G4651,'Lista de precios'!$B$7:$C$5000,2,0))","v":""}]
[null,null,"",null,null,null,null,{"$f":"IF(G4652=\"\",\"\",VLOOKUP(G4652,'Lista de precios'!$B$7:$C$5000,2,0))","v":""}]
[null,null,"",null,null,null,null,{"$f":"IF(G4653=\"\",\"\",VLOOKUP(G4653,'Lista de precios'!$B$7:$C$5000,2,0))","v":""}]
[null,null,"",null,null,null,null,{"$f":"IF(G4654=\"\",\"\",VLOOKUP(G4654,'Lista de precios'!$B$7:$C$5000,2,0))","v":""}]
[null,null,"",null,null,null,null,{"$f":"IF(G4655=\"\",\"\",VLOOKUP(G4655,'Lista de precios'!$B$7:$C$5000,2,0))","v":""}]
[null,null,"",null,null,null,null,{"$f":"IF(G4656=\"\",\"\",VLOOKUP(G4656,'Lista de precios'!$B$7:$C$5000,2,0))","v":""}]
[null,null,"",null,null,null,null,{"$f":"IF(G4657=\"\",\"\",VLOOKUP(G4657,'Lista de precios'!$B$7:$C$5000,2,0))","v":""}]
[null,null,"",null,null,null,null,{"$f":"IF(G4658=\"\",\"\",VLOOKUP(G4658,'Lista de precios'!$B$7:$C$5000,2,0))","v":""}]
[null,null,"",null,null,null,null,{"$f":"IF(G4659=\"\",\"\",VLOOKUP(G4659,'Lista de precios'!$B$7:$C$5000,2,0))","v":""}]
[null,null,"",null,null,null,null,{"$f":"IF(G4660=\"\",\"\",VLOOKUP(G4660,'Lista de precios'!$B$7:$C$5000,2,0))","v":""}]
[null,null,"",null,null,null,null,{"$f":"IF(G4661=\"\",\"\",VLOOKUP(G4661,'Lista de precios'!$B$7:$C$5000,2,0))","v":""}]
[null,null,"",null,null,null,null,{"$f":"IF(G4662=\"\",\"\",VLOOKUP(G4662,'Lista de precios'!$B$7:$C$5000,2,0))","v":""}]
[null,null,"",null,null,null,null,{"$f":"IF(G4663=\"\",\"\",VLOOKUP(G4663,'Lista de precios'!$B$7:$C$5000,2,0))","v":""}]
[null,null,"",null,null,null,null,{"$f":"IF(G4664=\"\",\"\",VLOOKUP(G4664,'Lista de precios'!$B$7:$C$5000,2,0))","v":""}]
[null,null,"",null,null,null,null,{"$f":"IF(G4665=\"\",\"\",VLOOKUP(G4665,'Lista de precios'!$B$7:$C$5000,2,0))","v":""}]
[null,null,"",null,null,null,null,{"$f":"IF(G4666=\"\",\"\",VLOOKUP(G4666,'Lista de precios'!$B$7:$C$5000,2,0))","v":""}]
[null,null,"",null,null,null,null,{"$f":"IF(G4667=\"\",\"\",VLOOKUP(G4667,'Lista de precios'!$B$7:$C$5000,2,0))","v":""}]
[null,null,"",null,null,null,null,{"$f":"IF(G4668=\"\",\"\",VLOOKUP(G4668,'Lista de precios'!$B$7:$C$5000,2,0))","v":""}]
[null,null,"",null,null,null,null,{"$f":"IF(G4669=\"\",\"\",VLOOKUP(G4669,'Lista de precios'!$B$7:$C$5000,2,0))","v":""}]
[null,null,"",null,null,null,null,{"$f":"IF(G4670=\"\",\"\",VLOOKUP(G4670,'Lista de precios'!$B$7:$C$5000,2,0))","v":""}]
[null,null,"",null,null,null,null,{"$f":"IF(G4671=\"\",\"\",VLOOKUP(G4671,'Lista de precios'!$B$7:$C$5000,2,0))","v":""}]
[null,null,"",null,null,null,null,{"$f":"IF(G4672=\"\",\"\",VLOOKUP(G4672,'Lista de precios'!$B$7:$C$5000,2,0))","v":""}]
[null,null,"",null,null,null,null,{"$f":"IF(G4673=\"\",\"\",VLOOKUP(G4673,'Lista de precios'!$B$7:$C$5000,2,0))","v":""}]
[null,null,"",null,null,null,null,{"$f":"IF(G4674=\"\",\"\",VLOOKUP(G4674,'Lista de precios'!$B$7:$C$5000,2,0))","v":""}]
[null,null,"",null,null,null,null,{"$f":"IF(G4675=\"\",\"\",VLOOKUP(G4675,'Lista de precios'!$B$7:$C$5000,2,0))","v":""}]
[null,null,"",null,null,null,null,{"$f":"IF(G4676=\"\",\"\",VLOOKUP(G4676,'Lista de precios'!$B$7:$C$5000,2,0))","v":""}]
[null,null,"",null,null,null,null,{"$f":"IF(G4677=\"\",\"\",VLOOKUP(G4677,'Lista de precios'!$B$7:$C$5000,2,0))","v":""}]
[null,null,"",null,null,null,null,{"$f":"IF(G4678=\"\",\"\",VLOOKUP(G4678,'Lista de precios'!$B$7:$C$5000,2,0))","v":""}]
[null,null,"",null,null,null,null,{"$f":"IF(G4679=\"\",\"\",VLOOKUP(G4679,'Lista de precios'!$B$7:$C$5000,2,0))","v":""}]
[null,null,"",null,null,null,null,{"$f":"IF(G4680=\"\",\"\",VLOOKUP(G4680,'Lista de precios'!$B$7:$C$5000,2,0))","v":""}]
[null,null,"",null,null,null,null,{"$f":"IF(G4681=\"\",\"\",VLOOKUP(G4681,'Lista de precios'!$B$7:$C$5000,2,0))","v":""}]
[null,null,"",null,null,null,null,{"$f":"IF(G4682=\"\",\"\",VLOOKUP(G4682,'Lista de precios'!$B$7:$C$5000,2,0))","v":""}]
[null,null,"",null,null,null,null,{"$f":"IF(G4683=\"\",\"\",VLOOKUP(G4683,'Lista de precios'!$B$7:$C$5000,2,0))","v":""}]
[null,null,{"$f":"IF(B4684=\"\",\"\",TEXT(B4684,\"Mmmm\"))","v":""},null,null,null,null,{"$f":"IF(G4684=\"\",\"\",VLOOKUP(G4684,'Lista de precios'!$B$7:$C$5000,2,0))","v":""}]
[null,null,"",null,null,null,null,{"$f":"IF(G4685=\"\",\"\",VLOOKUP(G4685,'Lista de precios'!$B$7:$C$5000,2,0))","v":""}]
[null,null,"",null,null,null,null,{"$f":"IF(G4686=\"\",\"\",VLOOKUP(G4686,'Lista de precios'!$B$7:$C$5000,2,0))","v":""}]
[null,null,"",null,null,null,null,{"$f":"IF(G4687=\"\",\"\",VLOOKUP(G4687,'Lista de precios'!$B$7:$C$5000,2,0))","v":""}]
[null,null,"",null,null,null,null,{"$f":"IF(G4688=\"\",\"\",VLOOKUP(G4688,'Lista de precios'!$B$7:$C$5000,2,0))","v":""}]
[null,null,"",null,null,null,null,{"$f":"IF(G4689=\"\",\"\",VLOOKUP(G4689,'Lista de precios'!$B$7:$C$5000,2,0))","v":""}]
[null,null,"",null,null,null,null,{"$f":"IF(G4690=\"\",\"\",VLOOKUP(G4690,'Lista de precios'!$B$7:$C$5000,2,0))","v":""}]
[null,null,"",null,null,null,null,{"$f":"IF(G4691=\"\",\"\",VLOOKUP(G4691,'Lista de precios'!$B$7:$C$5000,2,0))","v":""}]
[null,null,"",null,null,null,null,{"$f":"IF(G4692=\"\",\"\",VLOOKUP(G4692,'Lista de precios'!$B$7:$C$5000,2,0))","v":""}]
[null,null,"",null,null,null,null,{"$f":"IF(G4693=\"\",\"\",VLOOKUP(G4693,'Lista de precios'!$B$7:$C$5000,2,0))","v":""}]
[null,null,"",null,null,null,null,{"$f":"IF(G4694=\"\",\"\",VLOOKUP(G4694,'Lista de precios'!$B$7:$C$5000,2,0))","v":""}]
[null,null,"",null,null,null,null,{"$f":"IF(G4695=\"\",\"\",VLOOKUP(G4695,'Lista de precios'!$B$7:$C$5000,2,0))","v":""}]
[null,null,"",null,null,null,null,{"$f":"IF(G4696=\"\",\"\",VLOOKUP(G4696,'Lista de precios'!$B$7:$C$5000,2,0))","v":""}]
[null,null,"",null,null,null,null,{"$f":"IF(G4697=\"\",\"\",VLOOKUP(G4697,'Lista de precios'!$B$7:$C$5000,2,0))","v":""}]
[null,null,"",null,null,null,null,{"$f":"IF(G4698=\"\",\"\",VLOOKUP(G4698,'Lista de precios'!$B$7:$C$5000,2,0))","v":""}]
[null,null,"",null,null,null,null,{"$f":"IF(G4699=\"\",\"\",VLOOKUP(G4699,'Lista de precios'!$B$7:$C$5000,2,0))","v":""}]
[null,null,"",null,null,null,null,{"$f":"IF(G4700=\"\",\"\",VLOOKUP(G4700,'Lista de precios'!$B$7:$C$5000,2,0))","v":""}]
[null,null,"",null,null,null,null,{"$f":"IF(G4701=\"\",\"\",VLOOKUP(G4701,'Lista de precios'!$B$7:$C$5000,2,0))","v":""}]
[null,null,"",null,null,null,null,{"$f":"IF(G4702=\"\",\"\",VLOOKUP(G4702,'Lista de precios'!$B$7:$C$5000,2,0))","v":""}]
[null,null,"",null,null,null,null,{"$f":"IF(G4703=\"\",\"\",VLOOKUP(G4703,'Lista de precios'!$B$7:$C$5000,2,0))","v":""}]
[null,null,"",null,null,null,null,{"$f":"IF(G4704=\"\",\"\",VLOOKUP(G4704,'Lista de precios'!$B$7:$C$5000,2,0))","v":""}]
[null,null,"",null,null,null,null,{"$f":"IF(G4705=\"\",\"\",VLOOKUP(G4705,'Lista de precios'!$B$7:$C$5000,2,0))","v":""}]
[null,null,"",null,null,null,null,{"$f":"IF(G4706=\"\",\"\",VLOOKUP(G4706,'Lista de precios'!$B$7:$C$5000,2,0))","v":""}]
[null,null,"",null,null,null,null,{"$f":"IF(G4707=\"\",\"\",VLOOKUP(G4707,'Lista de precios'!$B$7:$C$5000,2,0))","v":""}]
[null,null,"",null,null,null,null,{"$f":"IF(G4708=\"\",\"\",VLOOKUP(G4708,'Lista de precios'!$B$7:$C$5000,2,0))","v":""}]
[null,null,"",null,null,null,null,{"$f":"IF(G4709=\"\",\"\",VLOOKUP(G4709,'Lista de precios'!$B$7:$C$5000,2,0))","v":""}]
[null,null,"",null,null,null,null,{"$f":"IF(G4710=\"\",\"\",VLOOKUP(G4710,'Lista de precios'!$B$7:$C$5000,2,0))","v":""}]
[null,null,"",null,null,null,null,{"$f":"IF(G4711=\"\",\"\",VLOOKUP(G4711,'Lista de precios'!$B$7:$C$5000,2,0))","v":""}]
[null,null,"",null,null,null,null,{"$f":"IF(G4712=\"\",\"\",VLOOKUP(G4712,'Lista de precios'!$B$7:$C$5000,2,0))","v":""}]
[null,null,"",null,null,null,null,{"$f":"IF(G4713=\"\",\"\",VLOOKUP(G4713,'Lista de precios'!$B$7:$C$5000,2,0))","v":""}]
[null,null,"",null,null,null,null,{"$f":"IF(G4714=\"\",\"\",VLOOKUP(G4714,'Lista de precios'!$B$7:$C$5000,2,0))","v":""}]
[null,null,"",null,null,null,null,{"$f":"IF(G4715=\"\",\"\",VLOOKUP(G4715,'Lista de precios'!$B$7:$C$5000,2,0))","v":""}]
[null,null,"",null,null,null,null,{"$f":"IF(G4716=\"\",\"\",VLOOKUP(G4716,'Lista de precios'!$B$7:$C$5000,2,0))","v":""}]
[null,null,"",null,null,null,null,{"$f":"IF(G4717=\"\",\"\",VLOOKUP(G4717,'Lista de precios'!$B$7:$C$5000,2,0))","v":""}]
[null,null,"",null,null,null,null,{"$f":"IF(G4718=\"\",\"\",VLOOKUP(G4718,'Lista de precios'!$B$7:$C$5000,2,0))","v":""}]
[null,null,"",null,null,null,null,{"$f":"IF(G4719=\"\",\"\",VLOOKUP(G4719,'Lista de precios'!$B$7:$C$5000,2,0))","v":""}]
[null,null,"",null,null,null,null,{"$f":"IF(G4720=\"\",\"\",VLOOKUP(G4720,'Lista de precios'!$B$7:$C$5000,2,0))","v":""}]
[null,null,"",null,null,null,null,{"$f":"IF(G4721=\"\",\"\",VLOOKUP(G4721,'Lista de precios'!$B$7:$C$5000,2,0))","v":""}]
[null,null,"",null,null,null,null,{"$f":"IF(G4722=\"\",\"\",VLOOKUP(G4722,'Lista de precios'!$B$7:$C$5000,2,0))","v":""}]
[null,null,"",null,null,null,null,{"$f":"IF(G4723=\"\",\"\",VLOOKUP(G4723,'Lista de precios'!$B$7:$C$5000,2,0))","v":""}]
[null,null,"",null,null,null,null,{"$f":"IF(G4724=\"\",\"\",VLOOKUP(G4724,'Lista de precios'!$B$7:$C$5000,2,0))","v":""}]
[null,null,"",null,null,null,null,{"$f":"IF(G4725=\"\",\"\",VLOOKUP(G4725,'Lista de precios'!$B$7:$C$5000,2,0))","v":""}]
[null,null,"",null,null,null,null,{"$f":"IF(G4726=\"\",\"\",VLOOKUP(G4726,'Lista de precios'!$B$7:$C$5000,2,0))","v":""}]
[null,null,"",null,null,null,null,{"$f":"IF(G4727=\"\",\"\",VLOOKUP(G4727,'Lista de precios'!$B$7:$C$5000,2,0))","v":""}]
[null,null,"",null,null,null,null,{"$f":"IF(G4728=\"\",\"\",VLOOKUP(G4728,'Lista de precios'!$B$7:$C$5000,2,0))","v":""}]
[null,null,"",null,null,null,null,{"$f":"IF(G4729=\"\",\"\",VLOOKUP(G4729,'Lista de precios'!$B$7:$C$5000,2,0))","v":""}]
[null,null,"",null,null,null,null,{"$f":"IF(G4730=\"\",\"\",VLOOKUP(G4730,'Lista de precios'!$B$7:$C$5000,2,0))","v":""}]
[null,null,"",null,null,null,null,{"$f":"IF(G4731=\"\",\"\",VLOOKUP(G4731,'Lista de precios'!$B$7:$C$5000,2,0))","v":""}]
[null,null,"",null,null,null,null,{"$f":"IF(G4732=\"\",\"\",VLOOKUP(G4732,'Lista de precios'!$B$7:$C$5000,2,0))","v":""}]
[null,null,"",null,null,null,null,{"$f":"IF(G4733=\"\",\"\",VLOOKUP(G4733,'Lista de precios'!$B$7:$C$5000,2,0))","v":""}]
[null,null,"",null,null,null,null,{"$f":"IF(G4734=\"\",\"\",VLOOKUP(G4734,'Lista de precios'!$B$7:$C$5000,2,0))","v":""}]
[null,null,"",null,null,null,null,{"$f":"IF(G4735=\"\",\"\",VLOOKUP(G4735,'Lista de precios'!$B$7:$C$5000,2,0))","v":""}]
[null,null,"",null,null,null,null,{"$f":"IF(G4736=\"\",\"\",VLOOKUP(G4736,'Lista de precios'!$B$7:$C$5000,2,0))","v":""}]
[null,null,"",null,null,null,null,{"$f":"IF(G4737=\"\",\"\",VLOOKUP(G4737,'Lista de precios'!$B$7:$C$5000,2,0))","v":""}]
[null,null,"",null,null,null,null,{"$f":"IF(G4738=\"\",\"\",VLOOKUP(G4738,'Lista de precios'!$B$7:$C$5000,2,0))","v":""}]
[null,null,"",null,null,null,null,{"$f":"IF(G4739=\"\",\"\",VLOOKUP(G4739,'Lista de precios'!$B$7:$C$5000,2,0))","v":""}]
[null,null,"",null,null,null,null,{"$f":"IF(G4740=\"\",\"\",VLOOKUP(G4740,'Lista de precios'!$B$7:$C$5000,2,0))","v":""}]
[null,null,"",null,null,null,null,{"$f":"IF(G4741=\"\",\"\",VLOOKUP(G4741,'Lista de precios'!$B$7:$C$5000,2,0))","v":""}]
[null,null,"",null,null,null,null,{"$f":"IF(G4742=\"\",\"\",VLOOKUP(G4742,'Lista de precios'!$B$7:$C$5000,2,0))","v":""}]
[null,null,"",null,null,null,null,{"$f":"IF(G4743=\"\",\"\",VLOOKUP(G4743,'Lista de precios'!$B$7:$C$5000,2,0))","v":""}]
[null,null,"",null,null,null,null,{"$f":"IF(G4744=\"\",\"\",VLOOKUP(G4744,'Lista de precios'!$B$7:$C$5000,2,0))","v":""}]
[null,null,"",null,null,null,null,{"$f":"IF(G4745=\"\",\"\",VLOOKUP(G4745,'Lista de precios'!$B$7:$C$5000,2,0))","v":""}]
[null,null,"",null,null,null,null,{"$f":"IF(G4746=\"\",\"\",VLOOKUP(G4746,'Lista de precios'!$B$7:$C$5000,2,0))","v":""}]
[null,null,"",null,null,null,null,{"$f":"IF(G4747=\"\",\"\",VLOOKUP(G4747,'Lista de precios'!$B$7:$C$5000,2,0))","v":""}]
[null,null,{"$f":"IF(B4748=\"\",\"\",TEXT(B4748,\"Mmmm\"))","v":""},null,null,null,null,{"$f":"IF(G4748=\"\",\"\",VLOOKUP(G4748,'Lista de precios'!$B$7:$C$5000,2,0))","v":""}]
[null,null,"",null,null,null,null,{"$f":"IF(G4749=\"\",\"\",VLOOKUP(G4749,'Lista de precios'!$B$7:$C$5000,2,0))","v":""}]
[null,null,"",null,null,null,null,{"$f":"IF(G4750=\"\",\"\",VLOOKUP(G4750,'Lista de precios'!$B$7:$C$5000,2,0))","v":""}]
[null,null,"",null,null,null,null,{"$f":"IF(G4751=\"\",\"\",VLOOKUP(G4751,'Lista de precios'!$B$7:$C$5000,2,0))","v":""}]
[null,null,"",null,null,null,null,{"$f":"IF(G4752=\"\",\"\",VLOOKUP(G4752,'Lista de precios'!$B$7:$C$5000,2,0))","v":""}]
[null,null,"",null,null,null,null,{"$f":"IF(G4753=\"\",\"\",VLOOKUP(G4753,'Lista de precios'!$B$7:$C$5000,2,0))","v":""}]
[null,null,"",null,null,null,null,{"$f":"IF(G4754=\"\",\"\",VLOOKUP(G4754,'Lista de precios'!$B$7:$C$5000,2,0))","v":""}]
[null,null,"",null,null,null,null,{"$f":"IF(G4755=\"\",\"\",VLOOKUP(G4755,'Lista de precios'!$B$7:$C$5000,2,0))","v":""}]
[null,null,"",null,null,null,null,{"$f":"IF(G4756=\"\",\"\",VLOOKUP(G4756,'Lista de precios'!$B$7:$C$5000,2,0))","v":""}]
[null,null,"",null,null,null,null,{"$f":"IF(G4757=\"\",\"\",VLOOKUP(G4757,'Lista de precios'!$B$7:$C$5000,2,0))","v":""}]
[null,null,"",null,null,null,null,{"$f":"IF(G4758=\"\",\"\",VLOOKUP(G4758,'Lista de precios'!$B$7:$C$5000,2,0))","v":""}]
[null,null,"",null,null,null,null,{"$f":"IF(G4759=\"\",\"\",VLOOKUP(G4759,'Lista de precios'!$B$7:$C$5000,2,0))","v":""}]
[null,null,"",null,null,null,null,{"$f":"IF(G4760=\"\",\"\",VLOOKUP(G4760,'Lista de precios'!$B$7:$C$5000,2,0))","v":""}]
[null,null,"",null,null,null,null,{"$f":"IF(G4761=\"\",\"\",VLOOKUP(G4761,'Lista de precios'!$B$7:$C$5000,2,0))","v":""}]
[null,null,"",null,null,null,null,{"$f":"IF(G4762=\"\",\"\",VLOOKUP(G4762,'Lista de precios'!$B$7:$C$5000,2,0))","v":""}]
[null,null,"",null,null,null,null,{"$f":"IF(G4763=\"\",\"\",VLOOKUP(G4763,'Lista de precios'!$B$7:$C$5000,2,0))","v":""}]
[null,null,"",null,null,null,null,{"$f":"IF(G4764=\"\",\"\",VLOOKUP(G4764,'Lista de precios'!$B$7:$C$5000,2,0))","v":""}]
[null,null,"",null,null,null,null,{"$f":"IF(G4765=\"\",\"\",VLOOKUP(G4765,'Lista de precios'!$B$7:$C$5000,2,0))","v":""}]
[null,null,"",null,null,null,null,{"$f":"IF(G4766=\"\",\"\",VLOOKUP(G4766,'Lista de precios'!$B$7:$C$5000,2,0))","v":""}]
[null,null,"",null,null,null,null,{"$f":"IF(G4767=\"\",\"\",VLOOKUP(G4767,'Lista de precios'!$B$7:$C$5000,2,0))","v":""}]
[null,null,"",null,null,null,null,{"$f":"IF(G4768=\"\",\"\",VLOOKUP(G4768,'Lista de precios'!$B$7:$C$5000,2,0))","v":""}]
[null,null,"",null,null,null,null,{"$f":"IF(G4769=\"\",\"\",VLOOKUP(G4769,'Lista de precios'!$B$7:$C$5000,2,0))","v":""}]
[null,null,"",null,null,null,null,{"$f":"IF(G4770=\"\",\"\",VLOOKUP(G4770,'Lista de precios'!$B$7:$C$5000,2,0))","v":""}]
[null,null,"",null,null,null,null,{"$f":"IF(G4771=\"\",\"\",VLOOKUP(G4771,'Lista de precios'!$B$7:$C$5000,2,0))","v":""}]
[null,null,"",null,null,null,null,{"$f":"IF(G4772=\"\",\"\",VLOOKUP(G4772,'Lista de precios'!$B$7:$C$5000,2,0))","v":""}]
[null,null,"",null,null,null,null,{"$f":"IF(G4773=\"\",\"\",VLOOKUP(G4773,'Lista de precios'!$B$7:$C$5000,2,0))","v":""}]
[null,null,"",null,null,null,null,{"$f":"IF(G4774=\"\",\"\",VLOOKUP(G4774,'Lista de precios'!$B$7:$C$5000,2,0))","v":""}]
[null,null,"",null,null,null,null,{"$f":"IF(G4775=\"\",\"\",VLOOKUP(G4775,'Lista de precios'!$B$7:$C$5000,2,0))","v":""}]
[null,null,"",null,null,null,null,{"$f":"IF(G4776=\"\",\"\",VLOOKUP(G4776,'Lista de precios'!$B$7:$C$5000,2,0))","v":""}]
[null,null,"",null,null,null,null,{"$f":"IF(G4777=\"\",\"\",VLOOKUP(G4777,'Lista de precios'!$B$7:$C$5000,2,0))","v":""}]
[null,null,"",null,null,null,null,{"$f":"IF(G4778=\"\",\"\",VLOOKUP(G4778,'Lista de precios'!$B$7:$C$5000,2,0))","v":""}]
[null,null,"",null,null,null,null,{"$f":"IF(G4779=\"\",\"\",VLOOKUP(G4779,'Lista de precios'!$B$7:$C$5000,2,0))","v":""}]
[null,null,"",null,null,null,null,{"$f":"IF(G4780=\"\",\"\",VLOOKUP(G4780,'Lista de precios'!$B$7:$C$5000,2,0))","v":""}]
[null,null,"",null,null,null,null,{"$f":"IF(G4781=\"\",\"\",VLOOKUP(G4781,'Lista de precios'!$B$7:$C$5000,2,0))","v":""}]
[null,null,"",null,null,null,null,{"$f":"IF(G4782=\"\",\"\",VLOOKUP(G4782,'Lista de precios'!$B$7:$C$5000,2,0))","v":""}]
[null,null,"",null,null,null,null,{"$f":"IF(G4783=\"\",\"\",VLOOKUP(G4783,'Lista de precios'!$B$7:$C$5000,2,0))","v":""}]
[null,null,"",null,null,null,null,{"$f":"IF(G4784=\"\",\"\",VLOOKUP(G4784,'Lista de precios'!$B$7:$C$5000,2,0))","v":""}]
[null,null,"",null,null,null,null,{"$f":"IF(G4785=\"\",\"\",VLOOKUP(G4785,'Lista de precios'!$B$7:$C$5000,2,0))","v":""}]
[null,null,"",null,null,null,null,{"$f":"IF(G4786=\"\",\"\",VLOOKUP(G4786,'Lista de precios'!$B$7:$C$5000,2,0))","v":""}]
[null,null,"",null,null,null,null,{"$f":"IF(G4787=\"\",\"\",VLOOKUP(G4787,'Lista de precios'!$B$7:$C$5000,2,0))","v":""}]
[null,null,"",null,null,null,null,{"$f":"IF(G4788=\"\",\"\",VLOOKUP(G4788,'Lista de precios'!$B$7:$C$5000,2,0))","v":""}]
[null,null,"",null,null,null,null,{"$f":"IF(G4789=\"\",\"\",VLOOKUP(G4789,'Lista de precios'!$B$7:$C$5000,2,0))","v":""}]
[null,null,"",null,null,null,null,{"$f":"IF(G4790=\"\",\"\",VLOOKUP(G4790,'Lista de precios'!$B$7:$C$5000,2,0))","v":""}]
[null,null,"",null,null,null,null,{"$f":"IF(G4791=\"\",\"\",VLOOKUP(G4791,'Lista de precios'!$B$7:$C$5000,2,0))","v":""}]
[null,null,"",null,null,null,null,{"$f":"IF(G4792=\"\",\"\",VLOOKUP(G4792,'Lista de precios'!$B$7:$C$5000,2,0))","v":""}]
[null,null,"",null,null,null,null,{"$f":"IF(G4793=\"\",\"\",VLOOKUP(G4793,'Lista de precios'!$B$7:$C$5000,2,0))","v":""}]
[null,null,"",null,null,null,null,{"$f":"IF(G4794=\"\",\"\",VLOOKUP(G4794,'Lista de precios'!$B$7:$C$5000,2,0))","v":""}]
[null,null,"",null,null,null,null,{"$f":"IF(G4795=\"\",\"\",VLOOKUP(G4795,'Lista de precios'!$B$7:$C$5000,2,0))","v":""}]
[null,null,"",null,null,null,null,{"$f":"IF(G4796=\"\",\"\",VLOOKUP(G4796,'Lista de precios'!$B$7:$C$5000,2,0))","v":""}]
[null,null,"",null,null,null,null,{"$f":"IF(G4797=\"\",\"\",VLOOKUP(G4797,'Lista de precios'!$B$7:$C$5000,2,0))","v":""}]
[null,null,"",null,null,null,null,{"$f":"IF(G4798=\"\",\"\",VLOOKUP(G4798,'Lista de precios'!$B$7:$C$5000,2,0))","v":""}]
[null,null,"",null,null,null,null,{"$f":"IF(G4799=\"\",\"\",VLOOKUP(G4799,'Lista de precios'!$B$7:$C$5000,2,0))","v":""}]
[null,null,"",null,null,null,null,{"$f":"IF(G4800=\"\",\"\",VLOOKUP(G4800,'Lista de precios'!$B$7:$C$5000,2,0))","v":""}]
[null,null,"",null,null,null,null,{"$f":"IF(G4801=\"\",\"\",VLOOKUP(G4801,'Lista de precios'!$B$7:$C$5000,2,0))","v":""}]
[null,null,"",null,null,null,null,{"$f":"IF(G4802=\"\",\"\",VLOOKUP(G4802,'Lista de precios'!$B$7:$C$5000,2,0))","v":""}]
[null,null,"",null,null,null,null,{"$f":"IF(G4803=\"\",\"\",VLOOKUP(G4803,'Lista de precios'!$B$7:$C$5000,2,0))","v":""}]
[null,null,"",null,null,null,null,{"$f":"IF(G4804=\"\",\"\",VLOOKUP(G4804,'Lista de precios'!$B$7:$C$5000,2,0))","v":""}]
[null,null,"",null,null,null,null,{"$f":"IF(G4805=\"\",\"\",VLOOKUP(G4805,'Lista de precios'!$B$7:$C$5000,2,0))","v":""}]
[null,null,"",null,null,null,null,{"$f":"IF(G4806=\"\",\"\",VLOOKUP(G4806,'Lista de precios'!$B$7:$C$5000,2,0))","v":""}]
[null,null,"",null,null,null,null,{"$f":"IF(G4807=\"\",\"\",VLOOKUP(G4807,'Lista de precios'!$B$7:$C$5000,2,0))","v":""}]
[null,null,"",null,null,null,null,{"$f":"IF(G4808=\"\",\"\",VLOOKUP(G4808,'Lista de precios'!$B$7:$C$5000,2,0))","v":""}]
[null,null,"",null,null,null,null,{"$f":"IF(G4809=\"\",\"\",VLOOKUP(G4809,'Lista de precios'!$B$7:$C$5000,2,0))","v":""}]
[null,null,"",null,null,null,null,{"$f":"IF(G4810=\"\",\"\",VLOOKUP(G4810,'Lista de precios'!$B$7:$C$5000,2,0))","v":""}]
[null,null,"",null,null,null,null,{"$f":"IF(G4811=\"\",\"\",VLOOKUP(G4811,'Lista de precios'!$B$7:$C$5000,2,0))","v":""}]
[null,null,{"$f":"IF(B4812=\"\",\"\",TEXT(B4812,\"Mmmm\"))","v":""},null,null,null,null,{"$f":"IF(G4812=\"\",\"\",VLOOKUP(G4812,'Lista de precios'!$B$7:$C$5000,2,0))","v":""}]
[null,null,"",null,null,null,null,{"$f":"IF(G4813=\"\",\"\",VLOOKUP(G4813,'Lista de precios'!$B$7:$C$5000,2,0))","v":""}]
[null,null,"",null,null,null,null,{"$f":"IF(G4814=\"\",\"\",VLOOKUP(G4814,'Lista de precios'!$B$7:$C$5000,2,0))","v":""}]
[null,null,"",null,null,null,null,{"$f":"IF(G4815=\"\",\"\",VLOOKUP(G4815,'Lista de precios'!$B$7:$C$5000,2,0))","v":""}]
[null,null,"",null,null,null,null,{"$f":"IF(G4816=\"\",\"\",VLOOKUP(G4816,'Lista de precios'!$B$7:$C$5000,2,0))","v":""}]
[null,null,"",null,null,null,null,{"$f":"IF(G4817=\"\",\"\",VLOOKUP(G4817,'Lista de precios'!$B$7:$C$5000,2,0))","v":""}]
[null,null,"",null,null,null,null,{"$f":"IF(G4818=\"\",\"\",VLOOKUP(G4818,'Lista de precios'!$B$7:$C$5000,2,0))","v":""}]
[null,null,"",null,null,null,null,{"$f":"IF(G4819=\"\",\"\",VLOOKUP(G4819,'Lista de precios'!$B$7:$C$5000,2,0))","v":""}]
[null,null,"",null,null,null,null,{"$f":"IF(G4820=\"\",\"\",VLOOKUP(G4820,'Lista de precios'!$B$7:$C$5000,2,0))","v":""}]
[null,null,"",null,null,null,null,{"$f":"IF(G4821=\"\",\"\",VLOOKUP(G4821,'Lista de precios'!$B$7:$C$5000,2,0))","v":""}]
[null,null,"",null,null,null,null,{"$f":"IF(G4822=\"\",\"\",VLOOKUP(G4822,'Lista de precios'!$B$7:$C$5000,2,0))","v":""}]
[null,null,"",null,null,null,null,{"$f":"IF(G4823=\"\",\"\",VLOOKUP(G4823,'Lista de precios'!$B$7:$C$5000,2,0))","v":""}]
[null,null,"",null,null,null,null,{"$f":"IF(G4824=\"\",\"\",VLOOKUP(G4824,'Lista de precios'!$B$7:$C$5000,2,0))","v":""}]
[null,null,"",null,null,null,null,{"$f":"IF(G4825=\"\",\"\",VLOOKUP(G4825,'Lista de precios'!$B$7:$C$5000,2,0))","v":""}]
[null,null,"",null,null,null,null,{"$f":"IF(G4826=\"\",\"\",VLOOKUP(G4826,'Lista de precios'!$B$7:$C$5000,2,0))","v":""}]
[null,null,"",null,null,null,null,{"$f":"IF(G4827=\"\",\"\",VLOOKUP(G4827,'Lista de precios'!$B$7:$C$5000,2,0))","v":""}]
[null,null,"",null,null,null,null,{"$f":"IF(G4828=\"\",\"\",VLOOKUP(G4828,'Lista de precios'!$B$7:$C$5000,2,0))","v":""}]
[null,null,"",null,null,null,null,{"$f":"IF(G4829=\"\",\"\",VLOOKUP(G4829,'Lista de precios'!$B$7:$C$5000,2,0))","v":""}]
[null,null,"",null,null,null,null,{"$f":"IF(G4830=\"\",\"\",VLOOKUP(G4830,'Lista de precios'!$B$7:$C$5000,2,0))","v":""}]
[null,null,"",null,null,null,null,{"$f":"IF(G4831=\"\",\"\",VLOOKUP(G4831,'Lista de precios'!$B$7:$C$5000,2,0))","v":""}]
[null,null,"",null,null,null,null,{"$f":"IF(G4832=\"\",\"\",VLOOKUP(G4832,'Lista de precios'!$B$7:$C$5000,2,0))","v":""}]
[null,null,"",null,null,null,null,{"$f":"IF(G4833=\"\",\"\",VLOOKUP(G4833,'Lista de precios'!$B$7:$C$5000,2,0))","v":""}]
[null,null,"",null,null,null,null,{"$f":"IF(G4834=\"\",\"\",VLOOKUP(G4834,'Lista de precios'!$B$7:$C$5000,2,0))","v":""}]
[null,null,"",null,null,null,null,{"$f":"IF(G4835=\"\",\"\",VLOOKUP(G4835,'Lista de precios'!$B$7:$C$5000,2,0))","v":""}]
[null,null,"",null,null,null,null,{"$f":"IF(G4836=\"\",\"\",VLOOKUP(G4836,'Lista de precios'!$B$7:$C$5000,2,0))","v":""}]
[null,null,"",null,null,null,null,{"$f":"IF(G4837=\"\",\"\",VLOOKUP(G4837,'Lista de precios'!$B$7:$C$5000,2,0))","v":""}]
[null,null,"",null,null,null,null,{"$f":"IF(G4838=\"\",\"\",VLOOKUP(G4838,'Lista de precios'!$B$7:$C$5000,2,0))","v":""}]
[null,null,"",null,null,null,null,{"$f":"IF(G4839=\"\",\"\",VLOOKUP(G4839,'Lista de precios'!$B$7:$C$5000,2,0))","v":""}]
[null,null,"",null,null,null,null,{"$f":"IF(G4840=\"\",\"\",VLOOKUP(G4840,'Lista de precios'!$B$7:$C$5000,2,0))","v":""}]
[null,null,"",null,null,null,null,{"$f":"IF(G4841=\"\",\"\",VLOOKUP(G4841,'Lista de precios'!$B$7:$C$5000,2,0))","v":""}]
[null,null,"",null,null,null,null,{"$f":"IF(G4842=\"\",\"\",VLOOKUP(G4842,'Lista de precios'!$B$7:$C$5000,2,0))","v":""}]
[null,null,"",null,null,null,null,{"$f":"IF(G4843=\"\",\"\",VLOOKUP(G4843,'Lista de precios'!$B$7:$C$5000,2,0))","v":""}]
[null,null,"",null,null,null,null,{"$f":"IF(G4844=\"\",\"\",VLOOKUP(G4844,'Lista de precios'!$B$7:$C$5000,2,0))","v":""}]
[null,null,"",null,null,null,null,{"$f":"IF(G4845=\"\",\"\",VLOOKUP(G4845,'Lista de precios'!$B$7:$C$5000,2,0))","v":""}]
[null,null,"",null,null,null,null,{"$f":"IF(G4846=\"\",\"\",VLOOKUP(G4846,'Lista de precios'!$B$7:$C$5000,2,0))","v":""}]
[null,null,"",null,null,null,null,{"$f":"IF(G4847=\"\",\"\",VLOOKUP(G4847,'Lista de precios'!$B$7:$C$5000,2,0))","v":""}]
[null,null,"",null,null,null,null,{"$f":"IF(G4848=\"\",\"\",VLOOKUP(G4848,'Lista de precios'!$B$7:$C$5000,2,0))","v":""}]
[null,null,"",null,null,null,null,{"$f":"IF(G4849=\"\",\"\",VLOOKUP(G4849,'Lista de precios'!$B$7:$C$5000,2,0))","v":""}]
[null,null,"",null,null,null,null,{"$f":"IF(G4850=\"\",\"\",VLOOKUP(G4850,'Lista de precios'!$B$7:$C$5000,2,0))","v":""}]
[null,null,"",null,null,null,null,{"$f":"IF(G4851=\"\",\"\",VLOOKUP(G4851,'Lista de precios'!$B$7:$C$5000,2,0))","v":""}]
[null,null,"",null,null,null,null,{"$f":"IF(G4852=\"\",\"\",VLOOKUP(G4852,'Lista de precios'!$B$7:$C$5000,2,0))","v":""}]
[null,null,"",null,null,null,null,{"$f":"IF(G4853=\"\",\"\",VLOOKUP(G4853,'Lista de precios'!$B$7:$C$5000,2,0))","v":""}]
[null,null,"",null,null,null,null,{"$f":"IF(G4854=\"\",\"\",VLOOKUP(G4854,'Lista de precios'!$B$7:$C$5000,2,0))","v":""}]
[null,null,"",null,null,null,null,{"$f":"IF(G4855=\"\",\"\",VLOOKUP(G4855,'Lista de precios'!$B$7:$C$5000,2,0))","v":""}]
[null,null,"",null,null,null,null,{"$f":"IF(G4856=\"\",\"\",VLOOKUP(G4856,'Lista de precios'!$B$7:$C$5000,2,0))","v":""}]
[null,null,"",null,null,null,null,{"$f":"IF(G4857=\"\",\"\",VLOOKUP(G4857,'Lista de precios'!$B$7:$C$5000,2,0))","v":""}]
[null,null,"",null,null,null,null,{"$f":"IF(G4858=\"\",\"\",VLOOKUP(G4858,'Lista de precios'!$B$7:$C$5000,2,0))","v":""}]
[null,null,"",null,null,null,null,{"$f":"IF(G4859=\"\",\"\",VLOOKUP(G4859,'Lista de precios'!$B$7:$C$5000,2,0))","v":""}]
[null,null,"",null,null,null,null,{"$f":"IF(G4860=\"\",\"\",VLOOKUP(G4860,'Lista de precios'!$B$7:$C$5000,2,0))","v":""}]
[null,null,"",null,null,null,null,{"$f":"IF(G4861=\"\",\"\",VLOOKUP(G4861,'Lista de precios'!$B$7:$C$5000,2,0))","v":""}]
[null,null,"",null,null,null,null,{"$f":"IF(G4862=\"\",\"\",VLOOKUP(G4862,'Lista de precios'!$B$7:$C$5000,2,0))","v":""}]
[null,null,"",null,null,null,null,{"$f":"IF(G4863=\"\",\"\",VLOOKUP(G4863,'Lista de precios'!$B$7:$C$5000,2,0))","v":""}]
[null,null,"",null,null,null,null,{"$f":"IF(G4864=\"\",\"\",VLOOKUP(G4864,'Lista de precios'!$B$7:$C$5000,2,0))","v":""}]
[null,null,"",null,null,null,null,{"$f":"IF(G4865=\"\",\"\",VLOOKUP(G4865,'Lista de precios'!$B$7:$C$5000,2,0))","v":""}]
[null,null,"",null,null,null,null,{"$f":"IF(G4866=\"\",\"\",VLOOKUP(G4866,'Lista de precios'!$B$7:$C$5000,2,0))","v":""}]
[null,null,"",null,null,null,null,{"$f":"IF(G4867=\"\",\"\",VLOOKUP(G4867,'Lista de precios'!$B$7:$C$5000,2,0))","v":""}]
[null,null,"",null,null,null,null,{"$f":"IF(G4868=\"\",\"\",VLOOKUP(G4868,'Lista de precios'!$B$7:$C$5000,2,0))","v":""}]
[null,null,"",null,null,null,null,{"$f":"IF(G4869=\"\",\"\",VLOOKUP(G4869,'Lista de precios'!$B$7:$C$5000,2,0))","v":""}]
[null,null,"",null,null,null,null,{"$f":"IF(G4870=\"\",\"\",VLOOKUP(G4870,'Lista de precios'!$B$7:$C$5000,2,0))","v":""}]
[null,null,"",null,null,null,null,{"$f":"IF(G4871=\"\",\"\",VLOOKUP(G4871,'Lista de precios'!$B$7:$C$5000,2,0))","v":""}]
[null,null,"",null,null,null,null,{"$f":"IF(G4872=\"\",\"\",VLOOKUP(G4872,'Lista de precios'!$B$7:$C$5000,2,0))","v":""}]
[null,null,"",null,null,null,null,{"$f":"IF(G4873=\"\",\"\",VLOOKUP(G4873,'Lista de precios'!$B$7:$C$5000,2,0))","v":""}]
[null,null,"",null,null,null,null,{"$f":"IF(G4874=\"\",\"\",VLOOKUP(G4874,'Lista de precios'!$B$7:$C$5000,2,0))","v":""}]
[null,null,"",null,null,null,null,{"$f":"IF(G4875=\"\",\"\",VLOOKUP(G4875,'Lista de precios'!$B$7:$C$5000,2,0))","v":""}]
[null,null,{"$f":"IF(B4876=\"\",\"\",TEXT(B4876,\"Mmmm\"))","v":""},null,null,null,null,{"$f":"IF(G4876=\"\",\"\",VLOOKUP(G4876,'Lista de precios'!$B$7:$C$5000,2,0))","v":""}]
[null,null,"",null,null,null,null,{"$f":"IF(G4877=\"\",\"\",VLOOKUP(G4877,'Lista de precios'!$B$7:$C$5000,2,0))","v":""}]
[null,null,"",null,null,null,null,{"$f":"IF(G4878=\"\",\"\",VLOOKUP(G4878,'Lista de precios'!$B$7:$C$5000,2,0))","v":""}]
[null,null,"",null,null,null,null,{"$f":"IF(G4879=\"\",\"\",VLOOKUP(G4879,'Lista de precios'!$B$7:$C$5000,2,0))","v":""}]
[null,null,"",null,null,null,null,{"$f":"IF(G4880=\"\",\"\",VLOOKUP(G4880,'Lista de precios'!$B$7:$C$5000,2,0))","v":""}]
[null,null,"",null,null,null,null,{"$f":"IF(G4881=\"\",\"\",VLOOKUP(G4881,'Lista de precios'!$B$7:$C$5000,2,0))","v":""}]
[null,null,"",null,null,null,null,{"$f":"IF(G4882=\"\",\"\",VLOOKUP(G4882,'Lista de precios'!$B$7:$C$5000,2,0))","v":""}]
[null,null,"",null,null,null,null,{"$f":"IF(G4883=\"\",\"\",VLOOKUP(G4883,'Lista de precios'!$B$7:$C$5000,2,0))","v":""}]
[null,null,"",null,null,null,null,{"$f":"IF(G4884=\"\",\"\",VLOOKUP(G4884,'Lista de precios'!$B$7:$C$5000,2,0))","v":""}]
[null,null,"",null,null,null,null,{"$f":"IF(G4885=\"\",\"\",VLOOKUP(G4885,'Lista de precios'!$B$7:$C$5000,2,0))","v":""}]
[null,null,"",null,null,null,null,{"$f":"IF(G4886=\"\",\"\",VLOOKUP(G4886,'Lista de precios'!$B$7:$C$5000,2,0))","v":""}]
[null,null,"",null,null,null,null,{"$f":"IF(G4887=\"\",\"\",VLOOKUP(G4887,'Lista de precios'!$B$7:$C$5000,2,0))","v":""}]
[null,null,"",null,null,null,null,{"$f":"IF(G4888=\"\",\"\",VLOOKUP(G4888,'Lista de precios'!$B$7:$C$5000,2,0))","v":""}]
[null,null,"",null,null,null,null,{"$f":"IF(G4889=\"\",\"\",VLOOKUP(G4889,'Lista de precios'!$B$7:$C$5000,2,0))","v":""}]
[null,null,"",null,null,null,null,{"$f":"IF(G4890=\"\",\"\",VLOOKUP(G4890,'Lista de precios'!$B$7:$C$5000,2,0))","v":""}]
[null,null,"",null,null,null,null,{"$f":"IF(G4891=\"\",\"\",VLOOKUP(G4891,'Lista de precios'!$B$7:$C$5000,2,0))","v":""}]
[null,null,"",null,null,null,null,{"$f":"IF(G4892=\"\",\"\",VLOOKUP(G4892,'Lista de precios'!$B$7:$C$5000,2,0))","v":""}]
[null,null,"",null,null,null,null,{"$f":"IF(G4893=\"\",\"\",VLOOKUP(G4893,'Lista de precios'!$B$7:$C$5000,2,0))","v":""}]
[null,null,"",null,null,null,null,{"$f":"IF(G4894=\"\",\"\",VLOOKUP(G4894,'Lista de precios'!$B$7:$C$5000,2,0))","v":""}]
[null,null,"",null,null,null,null,{"$f":"IF(G4895=\"\",\"\",VLOOKUP(G4895,'Lista de precios'!$B$7:$C$5000,2,0))","v":""}]
[null,null,"",null,null,null,null,{"$f":"IF(G4896=\"\",\"\",VLOOKUP(G4896,'Lista de precios'!$B$7:$C$5000,2,0))","v":""}]
[null,null,"",null,null,null,null,{"$f":"IF(G4897=\"\",\"\",VLOOKUP(G4897,'Lista de precios'!$B$7:$C$5000,2,0))","v":""}]
[null,null,"",null,null,null,null,{"$f":"IF(G4898=\"\",\"\",VLOOKUP(G4898,'Lista de precios'!$B$7:$C$5000,2,0))","v":""}]
[null,null,"",null,null,null,null,{"$f":"IF(G4899=\"\",\"\",VLOOKUP(G4899,'Lista de precios'!$B$7:$C$5000,2,0))","v":""}]
[null,null,"",null,null,null,null,{"$f":"IF(G4900=\"\",\"\",VLOOKUP(G4900,'Lista de precios'!$B$7:$C$5000,2,0))","v":""}]
[null,null,"",null,null,null,null,{"$f":"IF(G4901=\"\",\"\",VLOOKUP(G4901,'Lista de precios'!$B$7:$C$5000,2,0))","v":""}]
[null,null,"",null,null,null,null,{"$f":"IF(G4902=\"\",\"\",VLOOKUP(G4902,'Lista de precios'!$B$7:$C$5000,2,0))","v":""}]
[null,null,"",null,null,null,null,{"$f":"IF(G4903=\"\",\"\",VLOOKUP(G4903,'Lista de precios'!$B$7:$C$5000,2,0))","v":""}]
[null,null,"",null,null,null,null,{"$f":"IF(G4904=\"\",\"\",VLOOKUP(G4904,'Lista de precios'!$B$7:$C$5000,2,0))","v":""}]
[null,null,"",null,null,null,null,{"$f":"IF(G4905=\"\",\"\",VLOOKUP(G4905,'Lista de precios'!$B$7:$C$5000,2,0))","v":""}]
[null,null,"",null,null,null,null,{"$f":"IF(G4906=\"\",\"\",VLOOKUP(G4906,'Lista de precios'!$B$7:$C$5000,2,0))","v":""}]
[null,null,"",null,null,null,null,{"$f":"IF(G4907=\"\",\"\",VLOOKUP(G4907,'Lista de precios'!$B$7:$C$5000,2,0))","v":""}]
[null,null,"",null,null,null,null,{"$f":"IF(G4908=\"\",\"\",VLOOKUP(G4908,'Lista de precios'!$B$7:$C$5000,2,0))","v":""}]
[null,null,"",null,null,null,null,{"$f":"IF(G4909=\"\",\"\",VLOOKUP(G4909,'Lista de precios'!$B$7:$C$5000,2,0))","v":""}]
[null,null,"",null,null,null,null,{"$f":"IF(G4910=\"\",\"\",VLOOKUP(G4910,'Lista de precios'!$B$7:$C$5000,2,0))","v":""}]
[null,null,"",null,null,null,null,{"$f":"IF(G4911=\"\",\"\",VLOOKUP(G4911,'Lista de precios'!$B$7:$C$5000,2,0))","v":""}]
[null,null,"",null,null,null,null,{"$f":"IF(G4912=\"\",\"\",VLOOKUP(G4912,'Lista de precios'!$B$7:$C$5000,2,0))","v":""}]
[null,null,"",null,null,null,null,{"$f":"IF(G4913=\"\",\"\",VLOOKUP(G4913,'Lista de precios'!$B$7:$C$5000,2,0))","v":""}]
[null,null,"",null,null,null,null,{"$f":"IF(G4914=\"\",\"\",VLOOKUP(G4914,'Lista de precios'!$B$7:$C$5000,2,0))","v":""}]
[null,null,"",null,null,null,null,{"$f":"IF(G4915=\"\",\"\",VLOOKUP(G4915,'Lista de precios'!$B$7:$C$5000,2,0))","v":""}]
[null,null,"",null,null,null,null,{"$f":"IF(G4916=\"\",\"\",VLOOKUP(G4916,'Lista de precios'!$B$7:$C$5000,2,0))","v":""}]
[null,null,"",null,null,null,null,{"$f":"IF(G4917=\"\",\"\",VLOOKUP(G4917,'Lista de precios'!$B$7:$C$5000,2,0))","v":""}]
[null,null,"",null,null,null,null,{"$f":"IF(G4918=\"\",\"\",VLOOKUP(G4918,'Lista de precios'!$B$7:$C$5000,2,0))","v":""}]
[null,null,"",null,null,null,null,{"$f":"IF(G4919=\"\",\"\",VLOOKUP(G4919,'Lista de precios'!$B$7:$C$5000,2,0))","v":""}]
[null,null,"",null,null,null,null,{"$f":"IF(G4920=\"\",\"\",VLOOKUP(G4920,'Lista de precios'!$B$7:$C$5000,2,0))","v":""}]
[null,null,"",null,null,null,null,{"$f":"IF(G4921=\"\",\"\",VLOOKUP(G4921,'Lista de precios'!$B$7:$C$5000,2,0))","v":""}]
[null,null,"",null,null,null,null,{"$f":"IF(G4922=\"\",\"\",VLOOKUP(G4922,'Lista de precios'!$B$7:$C$5000,2,0))","v":""}]
[null,null,"",null,null,null,null,{"$f":"IF(G4923=\"\",\"\",VLOOKUP(G4923,'Lista de precios'!$B$7:$C$5000,2,0))","v":""}]
[null,null,"",null,null,null,null,{"$f":"IF(G4924=\"\",\"\",VLOOKUP(G4924,'Lista de precios'!$B$7:$C$5000,2,0))","v":""}]
[null,null,"",null,null,null,null,{"$f":"IF(G4925=\"\",\"\",VLOOKUP(G4925,'Lista de precios'!$B$7:$C$5000,2,0))","v":""}]
[null,null,"",null,null,null,null,{"$f":"IF(G4926=\"\",\"\",VLOOKUP(G4926,'Lista de precios'!$B$7:$C$5000,2,0))","v":""}]
[null,null,"",null,null,null,null,{"$f":"IF(G4927=\"\",\"\",VLOOKUP(G4927,'Lista de precios'!$B$7:$C$5000,2,0))","v":""}]
[null,null,"",null,null,null,null,{"$f":"IF(G4928=\"\",\"\",VLOOKUP(G4928,'Lista de precios'!$B$7:$C$5000,2,0))","v":""}]
[null,null,"",null,null,null,null,{"$f":"IF(G4929=\"\",\"\",VLOOKUP(G4929,'Lista de precios'!$B$7:$C$5000,2,0))","v":""}]
[null,null,"",null,null,null,null,{"$f":"IF(G4930=\"\",\"\",VLOOKUP(G4930,'Lista de precios'!$B$7:$C$5000,2,0))","v":""}]
[null,null,"",null,null,null,null,{"$f":"IF(G4931=\"\",\"\",VLOOKUP(G4931,'Lista de precios'!$B$7:$C$5000,2,0))","v":""}]
[null,null,"",null,null,null,null,{"$f":"IF(G4932=\"\",\"\",VLOOKUP(G4932,'Lista de precios'!$B$7:$C$5000,2,0))","v":""}]
[null,null,"",null,null,null,null,{"$f":"IF(G4933=\"\",\"\",VLOOKUP(G4933,'Lista de precios'!$B$7:$C$5000,2,0))","v":""}]
[null,null,"",null,null,null,null,{"$f":"IF(G4934=\"\",\"\",VLOOKUP(G4934,'Lista de precios'!$B$7:$C$5000,2,0))","v":""}]
[null,null,"",null,null,null,null,{"$f":"IF(G4935=\"\",\"\",VLOOKUP(G4935,'Lista de precios'!$B$7:$C$5000,2,0))","v":""}]
[null,null,"",null,null,null,null,{"$f":"IF(G4936=\"\",\"\",VLOOKUP(G4936,'Lista de precios'!$B$7:$C$5000,2,0))","v":""}]
[null,null,"",null,null,null,null,{"$f":"IF(G4937=\"\",\"\",VLOOKUP(G4937,'Lista de precios'!$B$7:$C$5000,2,0))","v":""}]
[null,null,"",null,null,null,null,{"$f":"IF(G4938=\"\",\"\",VLOOKUP(G4938,'Lista de precios'!$B$7:$C$5000,2,0))","v":""}]
[null,null,"",null,null,null,null,{"$f":"IF(G4939=\"\",\"\",VLOOKUP(G4939,'Lista de precios'!$B$7:$C$5000,2,0))","v":""}]
[null,null,{"$f":"IF(B4940=\"\",\"\",TEXT(B4940,\"Mmmm\"))","v":""},null,null,null,null,{"$f":"IF(G4940=\"\",\"\",VLOOKUP(G4940,'Lista de precios'!$B$7:$C$5000,2,0))","v":""}]
[null,null,"",null,null,null,null,{"$f":"IF(G4941=\"\",\"\",VLOOKUP(G4941,'Lista de precios'!$B$7:$C$5000,2,0))","v":""}]
[null,null,"",null,null,null,null,{"$f":"IF(G4942=\"\",\"\",VLOOKUP(G4942,'Lista de precios'!$B$7:$C$5000,2,0))","v":""}]
[null,null,"",null,null,null,null,{"$f":"IF(G4943=\"\",\"\",VLOOKUP(G4943,'Lista de precios'!$B$7:$C$5000,2,0))","v":""}]
[null,null,"",null,null,null,null,{"$f":"IF(G4944=\"\",\"\",VLOOKUP(G4944,'Lista de precios'!$B$7:$C$5000,2,0))","v":""}]
[null,null,"",null,null,null,null,{"$f":"IF(G4945=\"\",\"\",VLOOKUP(G4945,'Lista de precios'!$B$7:$C$5000,2,0))","v":""}]
[null,null,"",null,null,null,null,{"$f":"IF(G4946=\"\",\"\",VLOOKUP(G4946,'Lista de precios'!$B$7:$C$5000,2,0))","v":""}]
[null,null,"",null,null,null,null,{"$f":"IF(G4947=\"\",\"\",VLOOKUP(G4947,'Lista de precios'!$B$7:$C$5000,2,0))","v":""}]
[null,null,"",null,null,null,null,{"$f":"IF(G4948=\"\",\"\",VLOOKUP(G4948,'Lista de precios'!$B$7:$C$5000,2,0))","v":""}]
[null,null,"",null,null,null,null,{"$f":"IF(G4949=\"\",\"\",VLOOKUP(G4949,'Lista de precios'!$B$7:$C$5000,2,0))","v":""}]
[null,null,"",null,null,null,null,{"$f":"IF(G4950=\"\",\"\",VLOOKUP(G4950,'Lista de precios'!$B$7:$C$5000,2,0))","v":""}]
[null,null,"",null,null,null,null,{"$f":"IF(G4951=\"\",\"\",VLOOKUP(G4951,'Lista de precios'!$B$7:$C$5000,2,0))","v":""}]
[null,null,"",null,null,null,null,{"$f":"IF(G4952=\"\",\"\",VLOOKUP(G4952,'Lista de precios'!$B$7:$C$5000,2,0))","v":""}]
[null,null,"",null,null,null,null,{"$f":"IF(G4953=\"\",\"\",VLOOKUP(G4953,'Lista de precios'!$B$7:$C$5000,2,0))","v":""}]
[null,null,"",null,null,null,null,{"$f":"IF(G4954=\"\",\"\",VLOOKUP(G4954,'Lista de precios'!$B$7:$C$5000,2,0))","v":""}]
[null,null,"",null,null,null,null,{"$f":"IF(G4955=\"\",\"\",VLOOKUP(G4955,'Lista de precios'!$B$7:$C$5000,2,0))","v":""}]
[null,null,"",null,null,null,null,{"$f":"IF(G4956=\"\",\"\",VLOOKUP(G4956,'Lista de precios'!$B$7:$C$5000,2,0))","v":""}]
[null,null,"",null,null,null,null,{"$f":"IF(G4957=\"\",\"\",VLOOKUP(G4957,'Lista de precios'!$B$7:$C$5000,2,0))","v":""}]
[null,null,"",null,null,null,null,{"$f":"IF(G4958=\"\",\"\",VLOOKUP(G4958,'Lista de precios'!$B$7:$C$5000,2,0))","v":""}]
[null,null,"",null,null,null,null,{"$f":"IF(G4959=\"\",\"\",VLOOKUP(G4959,'Lista de precios'!$B$7:$C$5000,2,0))","v":""}]
[null,null,"",null,null,null,null,{"$f":"IF(G4960=\"\",\"\",VLOOKUP(G4960,'Lista de precios'!$B$7:$C$5000,2,0))","v":""}]
[null,null,"",null,null,null,null,{"$f":"IF(G4961=\"\",\"\",VLOOKUP(G4961,'Lista de precios'!$B$7:$C$5000,2,0))","v":""}]
[null,null,"",null,null,null,null,{"$f":"IF(G4962=\"\",\"\",VLOOKUP(G4962,'Lista de precios'!$B$7:$C$5000,2,0))","v":""}]
[null,null,"",null,null,null,null,{"$f":"IF(G4963=\"\",\"\",VLOOKUP(G4963,'Lista de precios'!$B$7:$C$5000,2,0))","v":""}]
[null,null,"",null,null,null,null,{"$f":"IF(G4964=\"\",\"\",VLOOKUP(G4964,'Lista de precios'!$B$7:$C$5000,2,0))","v":""}]
[null,null,"",null,null,null,null,{"$f":"IF(G4965=\"\",\"\",VLOOKUP(G4965,'Lista de precios'!$B$7:$C$5000,2,0))","v":""}]
[null,null,"",null,null,null,null,{"$f":"IF(G4966=\"\",\"\",VLOOKUP(G4966,'Lista de precios'!$B$7:$C$5000,2,0))","v":""}]
[null,null,"",null,null,null,null,{"$f":"IF(G4967=\"\",\"\",VLOOKUP(G4967,'Lista de precios'!$B$7:$C$5000,2,0))","v":""}]
[null,null,"",null,null,null,null,{"$f":"IF(G4968=\"\",\"\",VLOOKUP(G4968,'Lista de precios'!$B$7:$C$5000,2,0))","v":""}]
[null,null,"",null,null,null,null,{"$f":"IF(G4969=\"\",\"\",VLOOKUP(G4969,'Lista de precios'!$B$7:$C$5000,2,0))","v":""}]
[null,null,"",null,null,null,null,{"$f":"IF(G4970=\"\",\"\",VLOOKUP(G4970,'Lista de precios'!$B$7:$C$5000,2,0))","v":""}]
[null,null,"",null,null,null,null,{"$f":"IF(G4971=\"\",\"\",VLOOKUP(G4971,'Lista de precios'!$B$7:$C$5000,2,0))","v":""}]
[null,null,"",null,null,null,null,{"$f":"IF(G4972=\"\",\"\",VLOOKUP(G4972,'Lista de precios'!$B$7:$C$5000,2,0))","v":""}]
[null,null,"",null,null,null,null,{"$f":"IF(G4973=\"\",\"\",VLOOKUP(G4973,'Lista de precios'!$B$7:$C$5000,2,0))","v":""}]
[null,null,"",null,null,null,null,{"$f":"IF(G4974=\"\",\"\",VLOOKUP(G4974,'Lista de precios'!$B$7:$C$5000,2,0))","v":""}]
[null,null,"",null,null,null,null,{"$f":"IF(G4975=\"\",\"\",VLOOKUP(G4975,'Lista de precios'!$B$7:$C$5000,2,0))","v":""}]
[null,null,"",null,null,null,null,{"$f":"IF(G4976=\"\",\"\",VLOOKUP(G4976,'Lista de precios'!$B$7:$C$5000,2,0))","v":""}]
[null,null,"",null,null,null,null,{"$f":"IF(G4977=\"\",\"\",VLOOKUP(G4977,'Lista de precios'!$B$7:$C$5000,2,0))","v":""}]
[null,null,"",null,null,null,null,{"$f":"IF(G4978=\"\",\"\",VLOOKUP(G4978,'Lista de precios'!$B$7:$C$5000,2,0))","v":""}]
[null,null,"",null,null,null,null,{"$f":"IF(G4979=\"\",\"\",VLOOKUP(G4979,'Lista de precios'!$B$7:$C$5000,2,0))","v":""}]
[null,null,"",null,null,null,null,{"$f":"IF(G4980=\"\",\"\",VLOOKUP(G4980,'Lista de precios'!$B$7:$C$5000,2,0))","v":""}]
[null,null,"",null,null,null,null,{"$f":"IF(G4981=\"\",\"\",VLOOKUP(G4981,'Lista de precios'!$B$7:$C$5000,2,0))","v":""}]
[null,null,"",null,null,null,null,{"$f":"IF(G4982=\"\",\"\",VLOOKUP(G4982,'Lista de precios'!$B$7:$C$5000,2,0))","v":""}]
[null,null,"",null,null,null,null,{"$f":"IF(G4983=\"\",\"\",VLOOKUP(G4983,'Lista de precios'!$B$7:$C$5000,2,0))","v":""}]
[null,null,"",null,null,null,null,{"$f":"IF(G4984=\"\",\"\",VLOOKUP(G4984,'Lista de precios'!$B$7:$C$5000,2,0))","v":""}]
[null,null,"",null,null,null,null,{"$f":"IF(G4985=\"\",\"\",VLOOKUP(G4985,'Lista de precios'!$B$7:$C$5000,2,0))","v":""}]
[null,null,"",null,null,null,null,{"$f":"IF(G4986=\"\",\"\",VLOOKUP(G4986,'Lista de precios'!$B$7:$C$5000,2,0))","v":""}]
[null,null,"",null,null,null,null,{"$f":"IF(G4987=\"\",\"\",VLOOKUP(G4987,'Lista de precios'!$B$7:$C$5000,2,0))","v":""}]
[null,null,"",null,null,null,null,{"$f":"IF(G4988=\"\",\"\",VLOOKUP(G4988,'Lista de precios'!$B$7:$C$5000,2,0))","v":""}]
[null,null,"",null,null,null,null,{"$f":"IF(G4989=\"\",\"\",VLOOKUP(G4989,'Lista de precios'!$B$7:$C$5000,2,0))","v":""}]
[null,null,"",null,null,null,null,{"$f":"IF(G4990=\"\",\"\",VLOOKUP(G4990,'Lista de precios'!$B$7:$C$5000,2,0))","v":""}]
[null,null,"",null,null,null,null,{"$f":"IF(G4991=\"\",\"\",VLOOKUP(G4991,'Lista de precios'!$B$7:$C$5000,2,0))","v":""}]
[null,null,"",null,null,null,null,{"$f":"IF(G4992=\"\",\"\",VLOOKUP(G4992,'Lista de precios'!$B$7:$C$5000,2,0))","v":""}]
[null,null,"",null,null,null,null,{"$f":"IF(G4993=\"\",\"\",VLOOKUP(G4993,'Lista de precios'!$B$7:$C$5000,2,0))","v":""}]
[null,null,"",null,null,null,null,{"$f":"IF(G4994=\"\",\"\",VLOOKUP(G4994,'Lista de precios'!$B$7:$C$5000,2,0))","v":""}]
[null,null,"",null,null,null,null,{"$f":"IF(G4995=\"\",\"\",VLOOKUP(G4995,'Lista de precios'!$B$7:$C$5000,2,0))","v":""}]
[null,null,"",null,null,null,null,{"$f":"IF(G4996=\"\",\"\",VLOOKUP(G4996,'Lista de precios'!$B$7:$C$5000,2,0))","v":""}]
[null,null,"",null,null,null,null,{"$f":"IF(G4997=\"\",\"\",VLOOKUP(G4997,'Lista de precios'!$B$7:$C$5000,2,0))","v":""}]
[null,null,"",null,null,null,null,{"$f":"IF(G4998=\"\",\"\",VLOOKUP(G4998,'Lista de precios'!$B$7:$C$5000,2,0))","v":""}]
[null,null,"",null,null,null,null,{"$f":"IF(G4999=\"\",\"\",VLOOKUP(G4999,'Lista de precios'!$B$7:$C$5000,2,0))","v":""}]
[null,null,"",null,null,null,null,{"$f":"IF(G5000=\"\",\"\",VLOOKUP(G5000,'Lista de precios'!$B$7:$C$5000,2,0))","v":""}]
[null,null,"",null,null,null,null,{"$f":"IF(G5001=\"\",\"\",VLOOKUP(G5001,'Lista de precios'!$B$7:$C$5000,2,0))","v":""}]
[null,null,"",null,null,null,null,{"$f":"IF(G5002=\"\",\"\",VLOOKUP(G5002,'Lista de precios'!$B$7:$C$5000,2,0))","v":""}]
[null,null,"",null,null,null,null,{"$f":"IF(G5003=\"\",\"\",VLOOKUP(G5003,'Lista de precios'!$B$7:$C$5000,2,0))","v":""}]
[null,null,{"$f":"IF(B5004=\"\",\"\",TEXT(B5004,\"Mmmm\"))","v":""},null,null,null,null,{"$f":"IF(G5004=\"\",\"\",VLOOKUP(G5004,'Lista de precios'!$B$7:$C$5000,2,0))","v":""}]
[null,null,"",null,null,null,null,{"$f":"IF(G5005=\"\",\"\",VLOOKUP(G5005,'Lista de precios'!$B$7:$C$5000,2,0))","v":""}]
[null,null,"",null,null,null,null,{"$f":"IF(G5006=\"\",\"\",VLOOKUP(G5006,'Lista de precios'!$B$7:$C$5000,2,0))","v":""}]
[null,null,"",null,null,null,null,{"$f":"IF(G5007=\"\",\"\",VLOOKUP(G5007,'Lista de precios'!$B$7:$C$5000,2,0))","v":""}]
[null,null,"",null,null,null,null,{"$f":"IF(G5008=\"\",\"\",VLOOKUP(G5008,'Lista de precios'!$B$7:$C$5000,2,0))","v":""}]
[null,null,"",null,null,null,null,{"$f":"IF(G5009=\"\",\"\",VLOOKUP(G5009,'Lista de precios'!$B$7:$C$5000,2,0))","v":""}]
[null,null,"",null,null,null,null,{"$f":"IF(G5010=\"\",\"\",VLOOKUP(G5010,'Lista de precios'!$B$7:$C$5000,2,0))","v":""}]
[null,null,"",null,null,null,null,{"$f":"IF(G5011=\"\",\"\",VLOOKUP(G5011,'Lista de precios'!$B$7:$C$5000,2,0))","v":""}]
[null,null,"",null,null,null,null,{"$f":"IF(G5012=\"\",\"\",VLOOKUP(G5012,'Lista de precios'!$B$7:$C$5000,2,0))","v":""}]
[null,null,"",null,null,null,null,{"$f":"IF(G5013=\"\",\"\",VLOOKUP(G5013,'Lista de precios'!$B$7:$C$5000,2,0))","v":""}]
[null,null,"",null,null,null,null,{"$f":"IF(G5014=\"\",\"\",VLOOKUP(G5014,'Lista de precios'!$B$7:$C$5000,2,0))","v":""}]
[null,null,"",null,null,null,null,{"$f":"IF(G5015=\"\",\"\",VLOOKUP(G5015,'Lista de precios'!$B$7:$C$5000,2,0))","v":""}]
[null,null,"",null,null,null,null,{"$f":"IF(G5016=\"\",\"\",VLOOKUP(G5016,'Lista de precios'!$B$7:$C$5000,2,0))","v":""}]
[null,null,"",null,null,null,null,{"$f":"IF(G5017=\"\",\"\",VLOOKUP(G5017,'Lista de precios'!$B$7:$C$5000,2,0))","v":""}]
[null,null,"",null,null,null,null,{"$f":"IF(G5018=\"\",\"\",VLOOKUP(G5018,'Lista de precios'!$B$7:$C$5000,2,0))","v":""}]
[null,null,"",null,null,null,null,{"$f":"IF(G5019=\"\",\"\",VLOOKUP(G5019,'Lista de precios'!$B$7:$C$5000,2,0))","v":""}]
[null,null,"",null,null,null,null,{"$f":"IF(G5020=\"\",\"\",VLOOKUP(G5020,'Lista de precios'!$B$7:$C$5000,2,0))","v":""}]
[null,null,"",null,null,null,null,{"$f":"IF(G5021=\"\",\"\",VLOOKUP(G5021,'Lista de precios'!$B$7:$C$5000,2,0))","v":""}]
[null,null,"",null,null,null,null,{"$f":"IF(G5022=\"\",\"\",VLOOKUP(G5022,'Lista de precios'!$B$7:$C$5000,2,0))","v":""}]
[null,null,"",null,null,null,null,{"$f":"IF(G5023=\"\",\"\",VLOOKUP(G5023,'Lista de precios'!$B$7:$C$5000,2,0))","v":""}]
[null,null,"",null,null,null,null,{"$f":"IF(G5024=\"\",\"\",VLOOKUP(G5024,'Lista de precios'!$B$7:$C$5000,2,0))","v":""}]
[null,null,"",null,null,null,null,{"$f":"IF(G5025=\"\",\"\",VLOOKUP(G5025,'Lista de precios'!$B$7:$C$5000,2,0))","v":""}]
[null,null,"",null,null,null,null,{"$f":"IF(G5026=\"\",\"\",VLOOKUP(G5026,'Lista de precios'!$B$7:$C$5000,2,0))","v":""}]
[null,null,"",null,null,null,null,{"$f":"IF(G5027=\"\",\"\",VLOOKUP(G5027,'Lista de precios'!$B$7:$C$5000,2,0))","v":""}]
[null,null,"",null,null,null,null,{"$f":"IF(G5028=\"\",\"\",VLOOKUP(G5028,'Lista de precios'!$B$7:$C$5000,2,0))","v":""}]
[null,null,"",null,null,null,null,{"$f":"IF(G5029=\"\",\"\",VLOOKUP(G5029,'Lista de precios'!$B$7:$C$5000,2,0))","v":""}]
[null,null,"",null,null,null,null,{"$f":"IF(G5030=\"\",\"\",VLOOKUP(G5030,'Lista de precios'!$B$7:$C$5000,2,0))","v":""}]
[null,null,"",null,null,null,null,{"$f":"IF(G5031=\"\",\"\",VLOOKUP(G5031,'Lista de precios'!$B$7:$C$5000,2,0))","v":""}]
[null,null,"",null,null,null,null,{"$f":"IF(G5032=\"\",\"\",VLOOKUP(G5032,'Lista de precios'!$B$7:$C$5000,2,0))","v":""}]
[null,null,"",null,null,null,null,{"$f":"IF(G5033=\"\",\"\",VLOOKUP(G5033,'Lista de precios'!$B$7:$C$5000,2,0))","v":""}]
[null,null,"",null,null,null,null,{"$f":"IF(G5034=\"\",\"\",VLOOKUP(G5034,'Lista de precios'!$B$7:$C$5000,2,0))","v":""}]
[null,null,"",null,null,null,null,{"$f":"IF(G5035=\"\",\"\",VLOOKUP(G5035,'Lista de precios'!$B$7:$C$5000,2,0))","v":""}]
[null,null,"",null,null,null,null,{"$f":"IF(G5036=\"\",\"\",VLOOKUP(G5036,'Lista de precios'!$B$7:$C$5000,2,0))","v":""}]
[null,null,"",null,null,null,null,{"$f":"IF(G5037=\"\",\"\",VLOOKUP(G5037,'Lista de precios'!$B$7:$C$5000,2,0))","v":""}]
[null,null,"",null,null,null,null,{"$f":"IF(G5038=\"\",\"\",VLOOKUP(G5038,'Lista de precios'!$B$7:$C$5000,2,0))","v":""}]
[null,null,"",null,null,null,null,{"$f":"IF(G5039=\"\",\"\",VLOOKUP(G5039,'Lista de precios'!$B$7:$C$5000,2,0))","v":""}]
[null,null,"",null,null,null,null,{"$f":"IF(G5040=\"\",\"\",VLOOKUP(G5040,'Lista de precios'!$B$7:$C$5000,2,0))","v":""}]
[null,null,"",null,null,null,null,{"$f":"IF(G5041=\"\",\"\",VLOOKUP(G5041,'Lista de precios'!$B$7:$C$5000,2,0))","v":""}]
[null,null,"",null,null,null,null,{"$f":"IF(G5042=\"\",\"\",VLOOKUP(G5042,'Lista de precios'!$B$7:$C$5000,2,0))","v":""}]
[null,null,"",null,null,null,null,{"$f":"IF(G5043=\"\",\"\",VLOOKUP(G5043,'Lista de precios'!$B$7:$C$5000,2,0))","v":""}]
[null,null,"",null,null,null,null,{"$f":"IF(G5044=\"\",\"\",VLOOKUP(G5044,'Lista de precios'!$B$7:$C$5000,2,0))","v":""}]
[null,null,"",null,null,null,null,{"$f":"IF(G5045=\"\",\"\",VLOOKUP(G5045,'Lista de precios'!$B$7:$C$5000,2,0))","v":""}]
[null,null,"",null,null,null,null,{"$f":"IF(G5046=\"\",\"\",VLOOKUP(G5046,'Lista de precios'!$B$7:$C$5000,2,0))","v":""}]
[null,null,"",null,null,null,null,{"$f":"IF(G5047=\"\",\"\",VLOOKUP(G5047,'Lista de precios'!$B$7:$C$5000,2,0))","v":""}]
[null,null,"",null,null,null,null,{"$f":"IF(G5048=\"\",\"\",VLOOKUP(G5048,'Lista de precios'!$B$7:$C$5000,2,0))","v":""}]
[null,null,"",null,null,null,null,{"$f":"IF(G5049=\"\",\"\",VLOOKUP(G5049,'Lista de precios'!$B$7:$C$5000,2,0))","v":""}]
[null,null,"",null,null,null,null,{"$f":"IF(G5050=\"\",\"\",VLOOKUP(G5050,'Lista de precios'!$B$7:$C$5000,2,0))","v":""}]
[null,null,"",null,null,null,null,{"$f":"IF(G5051=\"\",\"\",VLOOKUP(G5051,'Lista de precios'!$B$7:$C$5000,2,0))","v":""}]
[null,null,"",null,null,null,null,{"$f":"IF(G5052=\"\",\"\",VLOOKUP(G5052,'Lista de precios'!$B$7:$C$5000,2,0))","v":""}]
[null,null,"",null,null,null,null,{"$f":"IF(G5053=\"\",\"\",VLOOKUP(G5053,'Lista de precios'!$B$7:$C$5000,2,0))","v":""}]
[null,null,"",null,null,null,null,{"$f":"IF(G5054=\"\",\"\",VLOOKUP(G5054,'Lista de precios'!$B$7:$C$5000,2,0))","v":""}]
[null,null,"",null,null,null,null,{"$f":"IF(G5055=\"\",\"\",VLOOKUP(G5055,'Lista de precios'!$B$7:$C$5000,2,0))","v":""}]
[null,null,"",null,null,null,null,{"$f":"IF(G5056=\"\",\"\",VLOOKUP(G5056,'Lista de precios'!$B$7:$C$5000,2,0))","v":""}]
[null,null,"",null,null,null,null,{"$f":"IF(G5057=\"\",\"\",VLOOKUP(G5057,'Lista de precios'!$B$7:$C$5000,2,0))","v":""}]
[null,null,"",null,null,null,null,{"$f":"IF(G5058=\"\",\"\",VLOOKUP(G5058,'Lista de precios'!$B$7:$C$5000,2,0))","v":""}]
[null,null,"",null,null,null,null,{"$f":"IF(G5059=\"\",\"\",VLOOKUP(G5059,'Lista de precios'!$B$7:$C$5000,2,0))","v":""}]
[null,null,"",null,null,null,null,{"$f":"IF(G5060=\"\",\"\",VLOOKUP(G5060,'Lista de precios'!$B$7:$C$5000,2,0))","v":""}]
[null,null,"",null,null,null,null,{"$f":"IF(G5061=\"\",\"\",VLOOKUP(G5061,'Lista de precios'!$B$7:$C$5000,2,0))","v":""}]
[null,null,"",null,null,null,null,{"$f":"IF(G5062=\"\",\"\",VLOOKUP(G5062,'Lista de precios'!$B$7:$C$5000,2,0))","v":""}]
[null,null,"",null,null,null,null,{"$f":"IF(G5063=\"\",\"\",VLOOKUP(G5063,'Lista de precios'!$B$7:$C$5000,2,0))","v":""}]
[null,null,"",null,null,null,null,{"$f":"IF(G5064=\"\",\"\",VLOOKUP(G5064,'Lista de precios'!$B$7:$C$5000,2,0))","v":""}]
[null,null,"",null,null,null,null,{"$f":"IF(G5065=\"\",\"\",VLOOKUP(G5065,'Lista de precios'!$B$7:$C$5000,2,0))","v":""}]
[null,null,"",null,null,null,null,{"$f":"IF(G5066=\"\",\"\",VLOOKUP(G5066,'Lista de precios'!$B$7:$C$5000,2,0))","v":""}]
[null,null,"",null,null,null,null,{"$f":"IF(G5067=\"\",\"\",VLOOKUP(G5067,'Lista de precios'!$B$7:$C$5000,2,0))","v":""}]
[null,null,{"$f":"IF(B5068=\"\",\"\",TEXT(B5068,\"Mmmm\"))","v":""},null,null,null,null,{"$f":"IF(G5068=\"\",\"\",VLOOKUP(G5068,'Lista de precios'!$B$7:$C$5000,2,0))","v":""}]
[null,null,"",null,null,null,null,{"$f":"IF(G5069=\"\",\"\",VLOOKUP(G5069,'Lista de precios'!$B$7:$C$5000,2,0))","v":""}]
[null,null,"",null,null,null,null,{"$f":"IF(G5070=\"\",\"\",VLOOKUP(G5070,'Lista de precios'!$B$7:$C$5000,2,0))","v":""}]
[null,null,"",null,null,null,null,{"$f":"IF(G5071=\"\",\"\",VLOOKUP(G5071,'Lista de precios'!$B$7:$C$5000,2,0))","v":""}]
[null,null,"",null,null,null,null,{"$f":"IF(G5072=\"\",\"\",VLOOKUP(G5072,'Lista de precios'!$B$7:$C$5000,2,0))","v":""}]
[null,null,"",null,null,null,null,{"$f":"IF(G5073=\"\",\"\",VLOOKUP(G5073,'Lista de precios'!$B$7:$C$5000,2,0))","v":""}]
[null,null,"",null,null,null,null,{"$f":"IF(G5074=\"\",\"\",VLOOKUP(G5074,'Lista de precios'!$B$7:$C$5000,2,0))","v":""}]
[null,null,"",null,null,null,null,{"$f":"IF(G5075=\"\",\"\",VLOOKUP(G5075,'Lista de precios'!$B$7:$C$5000,2,0))","v":""}]
[null,null,"",null,null,null,null,{"$f":"IF(G5076=\"\",\"\",VLOOKUP(G5076,'Lista de precios'!$B$7:$C$5000,2,0))","v":""}]
[null,null,"",null,null,null,null,{"$f":"IF(G5077=\"\",\"\",VLOOKUP(G5077,'Lista de precios'!$B$7:$C$5000,2,0))","v":""}]
[null,null,"",null,null,null,null,{"$f":"IF(G5078=\"\",\"\",VLOOKUP(G5078,'Lista de precios'!$B$7:$C$5000,2,0))","v":""}]
[null,null,"",null,null,null,null,{"$f":"IF(G5079=\"\",\"\",VLOOKUP(G5079,'Lista de precios'!$B$7:$C$5000,2,0))","v":""}]
[null,null,"",null,null,null,null,{"$f":"IF(G5080=\"\",\"\",VLOOKUP(G5080,'Lista de precios'!$B$7:$C$5000,2,0))","v":""}]
[null,null,"",null,null,null,null,{"$f":"IF(G5081=\"\",\"\",VLOOKUP(G5081,'Lista de precios'!$B$7:$C$5000,2,0))","v":""}]
[null,null,"",null,null,null,null,{"$f":"IF(G5082=\"\",\"\",VLOOKUP(G5082,'Lista de precios'!$B$7:$C$5000,2,0))","v":""}]
[null,null,"",null,null,null,null,{"$f":"IF(G5083=\"\",\"\",VLOOKUP(G5083,'Lista de precios'!$B$7:$C$5000,2,0))","v":""}]
[null,null,"",null,null,null,null,{"$f":"IF(G5084=\"\",\"\",VLOOKUP(G5084,'Lista de precios'!$B$7:$C$5000,2,0))","v":""}]
[null,null,"",null,null,null,null,{"$f":"IF(G5085=\"\",\"\",VLOOKUP(G5085,'Lista de precios'!$B$7:$C$5000,2,0))","v":""}]
[null,null,"",null,null,null,null,{"$f":"IF(G5086=\"\",\"\",VLOOKUP(G5086,'Lista de precios'!$B$7:$C$5000,2,0))","v":""}]
[null,null,"",null,null,null,null,{"$f":"IF(G5087=\"\",\"\",VLOOKUP(G5087,'Lista de precios'!$B$7:$C$5000,2,0))","v":""}]
[null,null,"",null,null,null,null,{"$f":"IF(G5088=\"\",\"\",VLOOKUP(G5088,'Lista de precios'!$B$7:$C$5000,2,0))","v":""}]
[null,null,"",null,null,null,null,{"$f":"IF(G5089=\"\",\"\",VLOOKUP(G5089,'Lista de precios'!$B$7:$C$5000,2,0))","v":""}]
[null,null,"",null,null,null,null,{"$f":"IF(G5090=\"\",\"\",VLOOKUP(G5090,'Lista de precios'!$B$7:$C$5000,2,0))","v":""}]
[null,null,"",null,null,null,null,{"$f":"IF(G5091=\"\",\"\",VLOOKUP(G5091,'Lista de precios'!$B$7:$C$5000,2,0))","v":""}]
[null,null,"",null,null,null,null,{"$f":"IF(G5092=\"\",\"\",VLOOKUP(G5092,'Lista de precios'!$B$7:$C$5000,2,0))","v":""}]
[null,null,"",null,null,null,null,{"$f":"IF(G5093=\"\",\"\",VLOOKUP(G5093,'Lista de precios'!$B$7:$C$5000,2,0))","v":""}]
[null,null,"",null,null,null,null,{"$f":"IF(G5094=\"\",\"\",VLOOKUP(G5094,'Lista de precios'!$B$7:$C$5000,2,0))","v":""}]
[null,null,"",null,null,null,null,{"$f":"IF(G5095=\"\",\"\",VLOOKUP(G5095,'Lista de precios'!$B$7:$C$5000,2,0))","v":""}]
[null,null,"",null,null,null,null,{"$f":"IF(G5096=\"\",\"\",VLOOKUP(G5096,'Lista de precios'!$B$7:$C$5000,2,0))","v":""}]
[null,null,"",null,null,null,null,{"$f":"IF(G5097=\"\",\"\",VLOOKUP(G5097,'Lista de precios'!$B$7:$C$5000,2,0))","v":""}]
[null,null,"",null,null,null,null,{"$f":"IF(G5098=\"\",\"\",VLOOKUP(G5098,'Lista de precios'!$B$7:$C$5000,2,0))","v":""}]
[null,null,"",null,null,null,null,{"$f":"IF(G5099=\"\",\"\",VLOOKUP(G5099,'Lista de precios'!$B$7:$C$5000,2,0))","v":""}]
[null,null,"",null,null,null,null,{"$f":"IF(G5100=\"\",\"\",VLOOKUP(G5100,'Lista de precios'!$B$7:$C$5000,2,0))","v":""}]
[null,null,"",null,null,null,null,{"$f":"IF(G5101=\"\",\"\",VLOOKUP(G5101,'Lista de precios'!$B$7:$C$5000,2,0))","v":""}]
[null,null,"",null,null,null,null,{"$f":"IF(G5102=\"\",\"\",VLOOKUP(G5102,'Lista de precios'!$B$7:$C$5000,2,0))","v":""}]
[null,null,"",null,null,null,null,{"$f":"IF(G5103=\"\",\"\",VLOOKUP(G5103,'Lista de precios'!$B$7:$C$5000,2,0))","v":""}]
[null,null,"",null,null,null,null,{"$f":"IF(G5104=\"\",\"\",VLOOKUP(G5104,'Lista de precios'!$B$7:$C$5000,2,0))","v":""}]
[null,null,"",null,null,null,null,{"$f":"IF(G5105=\"\",\"\",VLOOKUP(G5105,'Lista de precios'!$B$7:$C$5000,2,0))","v":""}]
[null,null,"",null,null,null,null,{"$f":"IF(G5106=\"\",\"\",VLOOKUP(G5106,'Lista de precios'!$B$7:$C$5000,2,0))","v":""}]
[null,null,"",null,null,null,null,{"$f":"IF(G5107=\"\",\"\",VLOOKUP(G5107,'Lista de precios'!$B$7:$C$5000,2,0))","v":""}]
[null,null,"",null,null,null,null,{"$f":"IF(G5108=\"\",\"\",VLOOKUP(G5108,'Lista de precios'!$B$7:$C$5000,2,0))","v":""}]
[null,null,"",null,null,null,null,{"$f":"IF(G5109=\"\",\"\",VLOOKUP(G5109,'Lista de precios'!$B$7:$C$5000,2,0))","v":""}]
[null,null,"",null,null,null,null,{"$f":"IF(G5110=\"\",\"\",VLOOKUP(G5110,'Lista de precios'!$B$7:$C$5000,2,0))","v":""}]
[null,null,"",null,null,null,null,{"$f":"IF(G5111=\"\",\"\",VLOOKUP(G5111,'Lista de precios'!$B$7:$C$5000,2,0))","v":""}]
[null,null,"",null,null,null,null,{"$f":"IF(G5112=\"\",\"\",VLOOKUP(G5112,'Lista de precios'!$B$7:$C$5000,2,0))","v":""}]
[null,null,"",null,null,null,null,{"$f":"IF(G5113=\"\",\"\",VLOOKUP(G5113,'Lista de precios'!$B$7:$C$5000,2,0))","v":""}]
[null,null,"",null,null,null,null,{"$f":"IF(G5114=\"\",\"\",VLOOKUP(G5114,'Lista de precios'!$B$7:$C$5000,2,0))","v":""}]
[null,null,"",null,null,null,null,{"$f":"IF(G5115=\"\",\"\",VLOOKUP(G5115,'Lista de precios'!$B$7:$C$5000,2,0))","v":""}]
[null,null,"",null,null,null,null,{"$f":"IF(G5116=\"\",\"\",VLOOKUP(G5116,'Lista de precios'!$B$7:$C$5000,2,0))","v":""}]
[null,null,"",null,null,null,null,{"$f":"IF(G5117=\"\",\"\",VLOOKUP(G5117,'Lista de precios'!$B$7:$C$5000,2,0))","v":""}]
[null,null,"",null,null,null,null,{"$f":"IF(G5118=\"\",\"\",VLOOKUP(G5118,'Lista de precios'!$B$7:$C$5000,2,0))","v":""}]
[null,null,"",null,null,null,null,{"$f":"IF(G5119=\"\",\"\",VLOOKUP(G5119,'Lista de precios'!$B$7:$C$5000,2,0))","v":""}]
[null,null,"",null,null,null,null,{"$f":"IF(G5120=\"\",\"\",VLOOKUP(G5120,'Lista de precios'!$B$7:$C$5000,2,0))","v":""}]
[null,null,"",null,null,null,null,{"$f":"IF(G5121=\"\",\"\",VLOOKUP(G5121,'Lista de precios'!$B$7:$C$5000,2,0))","v":""}]
[null,null,"",null,null,null,null,{"$f":"IF(G5122=\"\",\"\",VLOOKUP(G5122,'Lista de precios'!$B$7:$C$5000,2,0))","v":""}]
[null,null,"",null,null,null,null,{"$f":"IF(G5123=\"\",\"\",VLOOKUP(G5123,'Lista de precios'!$B$7:$C$5000,2,0))","v":""}]
[null,null,"",null,null,null,null,{"$f":"IF(G5124=\"\",\"\",VLOOKUP(G5124,'Lista de precios'!$B$7:$C$5000,2,0))","v":""}]
[null,null,"",null,null,null,null,{"$f":"IF(G5125=\"\",\"\",VLOOKUP(G5125,'Lista de precios'!$B$7:$C$5000,2,0))","v":""}]
[null,null,"",null,null,null,null,{"$f":"IF(G5126=\"\",\"\",VLOOKUP(G5126,'Lista de precios'!$B$7:$C$5000,2,0))","v":""}]
[null,null,"",null,null,null,null,{"$f":"IF(G5127=\"\",\"\",VLOOKUP(G5127,'Lista de precios'!$B$7:$C$5000,2,0))","v":""}]
[null,null,"",null,null,null,null,{"$f":"IF(G5128=\"\",\"\",VLOOKUP(G5128,'Lista de precios'!$B$7:$C$5000,2,0))","v":""}]
[null,null,"",null,null,null,null,{"$f":"IF(G5129=\"\",\"\",VLOOKUP(G5129,'Lista de precios'!$B$7:$C$5000,2,0))","v":""}]
[null,null,"",null,null,null,null,{"$f":"IF(G5130=\"\",\"\",VLOOKUP(G5130,'Lista de precios'!$B$7:$C$5000,2,0))","v":""}]
[null,null,"",null,null,null,null,{"$f":"IF(G5131=\"\",\"\",VLOOKUP(G5131,'Lista de precios'!$B$7:$C$5000,2,0))","v":""}]
[null,null,{"$f":"IF(B5132=\"\",\"\",TEXT(B5132,\"Mmmm\"))","v":""},null,null,null,null,{"$f":"IF(G5132=\"\",\"\",VLOOKUP(G5132,'Lista de precios'!$B$7:$C$5000,2,0))","v":""}]
[null,null,"",null,null,null,null,{"$f":"IF(G5133=\"\",\"\",VLOOKUP(G5133,'Lista de precios'!$B$7:$C$5000,2,0))","v":""}]
[null,null,"",null,null,null,null,{"$f":"IF(G5134=\"\",\"\",VLOOKUP(G5134,'Lista de precios'!$B$7:$C$5000,2,0))","v":""}]
[null,null,"",null,null,null,null,{"$f":"IF(G5135=\"\",\"\",VLOOKUP(G5135,'Lista de precios'!$B$7:$C$5000,2,0))","v":""}]
[null,null,"",null,null,null,null,{"$f":"IF(G5136=\"\",\"\",VLOOKUP(G5136,'Lista de precios'!$B$7:$C$5000,2,0))","v":""}]
[null,null,"",null,null,null,null,{"$f":"IF(G5137=\"\",\"\",VLOOKUP(G5137,'Lista de precios'!$B$7:$C$5000,2,0))","v":""}]
[null,null,"",null,null,null,null,{"$f":"IF(G5138=\"\",\"\",VLOOKUP(G5138,'Lista de precios'!$B$7:$C$5000,2,0))","v":""}]
[null,null,"",null,null,null,null,{"$f":"IF(G5139=\"\",\"\",VLOOKUP(G5139,'Lista de precios'!$B$7:$C$5000,2,0))","v":""}]
[null,null,"",null,null,null,null,{"$f":"IF(G5140=\"\",\"\",VLOOKUP(G5140,'Lista de precios'!$B$7:$C$5000,2,0))","v":""}]
[null,null,"",null,null,null,null,{"$f":"IF(G5141=\"\",\"\",VLOOKUP(G5141,'Lista de precios'!$B$7:$C$5000,2,0))","v":""}]
[null,null,"",null,null,null,null,{"$f":"IF(G5142=\"\",\"\",VLOOKUP(G5142,'Lista de precios'!$B$7:$C$5000,2,0))","v":""}]
[null,null,"",null,null,null,null,{"$f":"IF(G5143=\"\",\"\",VLOOKUP(G5143,'Lista de precios'!$B$7:$C$5000,2,0))","v":""}]
[null,null,"",null,null,null,null,{"$f":"IF(G5144=\"\",\"\",VLOOKUP(G5144,'Lista de precios'!$B$7:$C$5000,2,0))","v":""}]
[null,null,"",null,null,null,null,{"$f":"IF(G5145=\"\",\"\",VLOOKUP(G5145,'Lista de precios'!$B$7:$C$5000,2,0))","v":""}]
[null,null,"",null,null,null,null,{"$f":"IF(G5146=\"\",\"\",VLOOKUP(G5146,'Lista de precios'!$B$7:$C$5000,2,0))","v":""}]
[null,null,"",null,null,null,null,{"$f":"IF(G5147=\"\",\"\",VLOOKUP(G5147,'Lista de precios'!$B$7:$C$5000,2,0))","v":""}]
[null,null,"",null,null,null,null,{"$f":"IF(G5148=\"\",\"\",VLOOKUP(G5148,'Lista de precios'!$B$7:$C$5000,2,0))","v":""}]
[null,null,"",null,null,null,null,{"$f":"IF(G5149=\"\",\"\",VLOOKUP(G5149,'Lista de precios'!$B$7:$C$5000,2,0))","v":""}]
[null,null,"",null,null,null,null,{"$f":"IF(G5150=\"\",\"\",VLOOKUP(G5150,'Lista de precios'!$B$7:$C$5000,2,0))","v":""}]
[null,null,"",null,null,null,null,{"$f":"IF(G5151=\"\",\"\",VLOOKUP(G5151,'Lista de precios'!$B$7:$C$5000,2,0))","v":""}]
[null,null,"",null,null,null,null,{"$f":"IF(G5152=\"\",\"\",VLOOKUP(G5152,'Lista de precios'!$B$7:$C$5000,2,0))","v":""}]
[null,null,"",null,null,null,null,{"$f":"IF(G5153=\"\",\"\",VLOOKUP(G5153,'Lista de precios'!$B$7:$C$5000,2,0))","v":""}]
[null,null,"",null,null,null,null,{"$f":"IF(G5154=\"\",\"\",VLOOKUP(G5154,'Lista de precios'!$B$7:$C$5000,2,0))","v":""}]
[null,null,"",null,null,null,null,{"$f":"IF(G5155=\"\",\"\",VLOOKUP(G5155,'Lista de precios'!$B$7:$C$5000,2,0))","v":""}]
[null,null,"",null,null,null,null,{"$f":"IF(G5156=\"\",\"\",VLOOKUP(G5156,'Lista de precios'!$B$7:$C$5000,2,0))","v":""}]
[null,null,"",null,null,null,null,{"$f":"IF(G5157=\"\",\"\",VLOOKUP(G5157,'Lista de precios'!$B$7:$C$5000,2,0))","v":""}]
[null,null,"",null,null,null,null,{"$f":"IF(G5158=\"\",\"\",VLOOKUP(G5158,'Lista de precios'!$B$7:$C$5000,2,0))","v":""}]
[null,null,"",null,null,null,null,{"$f":"IF(G5159=\"\",\"\",VLOOKUP(G5159,'Lista de precios'!$B$7:$C$5000,2,0))","v":""}]
[null,null,"",null,null,null,null,{"$f":"IF(G5160=\"\",\"\",VLOOKUP(G5160,'Lista de precios'!$B$7:$C$5000,2,0))","v":""}]
[null,null,"",null,null,null,null,{"$f":"IF(G5161=\"\",\"\",VLOOKUP(G5161,'Lista de precios'!$B$7:$C$5000,2,0))","v":""}]
[null,null,"",null,null,null,null,{"$f":"IF(G5162=\"\",\"\",VLOOKUP(G5162,'Lista de precios'!$B$7:$C$5000,2,0))","v":""}]
[null,null,"",null,null,null,null,{"$f":"IF(G5163=\"\",\"\",VLOOKUP(G5163,'Lista de precios'!$B$7:$C$5000,2,0))","v":""}]
[null,null,"",null,null,null,null,{"$f":"IF(G5164=\"\",\"\",VLOOKUP(G5164,'Lista de precios'!$B$7:$C$5000,2,0))","v":""}]
[null,null,"",null,null,null,null,{"$f":"IF(G5165=\"\",\"\",VLOOKUP(G5165,'Lista de precios'!$B$7:$C$5000,2,0))","v":""}]
[null,null,"",null,null,null,null,{"$f":"IF(G5166=\"\",\"\",VLOOKUP(G5166,'Lista de precios'!$B$7:$C$5000,2,0))","v":""}]
[null,null,"",null,null,null,null,{"$f":"IF(G5167=\"\",\"\",VLOOKUP(G5167,'Lista de precios'!$B$7:$C$5000,2,0))","v":""}]
[null,null,"",null,null,null,null,{"$f":"IF(G5168=\"\",\"\",VLOOKUP(G5168,'Lista de precios'!$B$7:$C$5000,2,0))","v":""}]
[null,null,"",null,null,null,null,{"$f":"IF(G5169=\"\",\"\",VLOOKUP(G5169,'Lista de precios'!$B$7:$C$5000,2,0))","v":""}]
[null,null,"",null,null,null,null,{"$f":"IF(G5170=\"\",\"\",VLOOKUP(G5170,'Lista de precios'!$B$7:$C$5000,2,0))","v":""}]
[null,null,"",null,null,null,null,{"$f":"IF(G5171=\"\",\"\",VLOOKUP(G5171,'Lista de precios'!$B$7:$C$5000,2,0))","v":""}]
[null,null,"",null,null,null,null,{"$f":"IF(G5172=\"\",\"\",VLOOKUP(G5172,'Lista de precios'!$B$7:$C$5000,2,0))","v":""}]
[null,null,"",null,null,null,null,{"$f":"IF(G5173=\"\",\"\",VLOOKUP(G5173,'Lista de precios'!$B$7:$C$5000,2,0))","v":""}]
[null,null,"",null,null,null,null,{"$f":"IF(G5174=\"\",\"\",VLOOKUP(G5174,'Lista de precios'!$B$7:$C$5000,2,0))","v":""}]
[null,null,"",null,null,null,null,{"$f":"IF(G5175=\"\",\"\",VLOOKUP(G5175,'Lista de precios'!$B$7:$C$5000,2,0))","v":""}]
[null,null,"",null,null,null,null,{"$f":"IF(G5176=\"\",\"\",VLOOKUP(G5176,'Lista de precios'!$B$7:$C$5000,2,0))","v":""}]
[null,null,"",null,null,null,null,{"$f":"IF(G5177=\"\",\"\",VLOOKUP(G5177,'Lista de precios'!$B$7:$C$5000,2,0))","v":""}]
[null,null,"",null,null,null,null,{"$f":"IF(G5178=\"\",\"\",VLOOKUP(G5178,'Lista de precios'!$B$7:$C$5000,2,0))","v":""}]
[null,null,"",null,null,null,null,{"$f":"IF(G5179=\"\",\"\",VLOOKUP(G5179,'Lista de precios'!$B$7:$C$5000,2,0))","v":""}]
[null,null,"",null,null,null,null,{"$f":"IF(G5180=\"\",\"\",VLOOKUP(G5180,'Lista de precios'!$B$7:$C$5000,2,0))","v":""}]
[null,null,"",null,null,null,null,{"$f":"IF(G5181=\"\",\"\",VLOOKUP(G5181,'Lista de precios'!$B$7:$C$5000,2,0))","v":""}]
[null,null,"",null,null,null,null,{"$f":"IF(G5182=\"\",\"\",VLOOKUP(G5182,'Lista de precios'!$B$7:$C$5000,2,0))","v":""}]
[null,null,"",null,null,null,null,{"$f":"IF(G5183=\"\",\"\",VLOOKUP(G5183,'Lista de precios'!$B$7:$C$5000,2,0))","v":""}]
[null,null,"",null,null,null,null,{"$f":"IF(G5184=\"\",\"\",VLOOKUP(G5184,'Lista de precios'!$B$7:$C$5000,2,0))","v":""}]
[null,null,"",null,null,null,null,{"$f":"IF(G5185=\"\",\"\",VLOOKUP(G5185,'Lista de precios'!$B$7:$C$5000,2,0))","v":""}]
[null,null,"",null,null,null,null,{"$f":"IF(G5186=\"\",\"\",VLOOKUP(G5186,'Lista de precios'!$B$7:$C$5000,2,0))","v":""}]
[null,null,"",null,null,null,null,{"$f":"IF(G5187=\"\",\"\",VLOOKUP(G5187,'Lista de precios'!$B$7:$C$5000,2,0))","v":""}]
[null,null,"",null,null,null,null,{"$f":"IF(G5188=\"\",\"\",VLOOKUP(G5188,'Lista de precios'!$B$7:$C$5000,2,0))","v":""}]
[null,null,"",null,null,null,null,{"$f":"IF(G5189=\"\",\"\",VLOOKUP(G5189,'Lista de precios'!$B$7:$C$5000,2,0))","v":""}]
[null,null,"",null,null,null,null,{"$f":"IF(G5190=\"\",\"\",VLOOKUP(G5190,'Lista de precios'!$B$7:$C$5000,2,0))","v":""}]
[null,null,"",null,null,null,null,{"$f":"IF(G5191=\"\",\"\",VLOOKUP(G5191,'Lista de precios'!$B$7:$C$5000,2,0))","v":""}]
[null,null,"",null,null,null,null,{"$f":"IF(G5192=\"\",\"\",VLOOKUP(G5192,'Lista de precios'!$B$7:$C$5000,2,0))","v":""}]
[null,null,"",null,null,null,null,{"$f":"IF(G5193=\"\",\"\",VLOOKUP(G5193,'Lista de precios'!$B$7:$C$5000,2,0))","v":""}]
[null,null,"",null,null,null,null,{"$f":"IF(G5194=\"\",\"\",VLOOKUP(G5194,'Lista de precios'!$B$7:$C$5000,2,0))","v":""}]
[null,null,"",null,null,null,null,{"$f":"IF(G5195=\"\",\"\",VLOOKUP(G5195,'Lista de precios'!$B$7:$C$5000,2,0))","v":""}]
[null,null,{"$f":"IF(B5196=\"\",\"\",TEXT(B5196,\"Mmmm\"))","v":""},null,null,null,null,{"$f":"IF(G5196=\"\",\"\",VLOOKUP(G5196,'Lista de precios'!$B$7:$C$5000,2,0))","v":""}]
[null,null,"",null,null,null,null,{"$f":"IF(G5197=\"\",\"\",VLOOKUP(G5197,'Lista de precios'!$B$7:$C$5000,2,0))","v":""}]
[null,null,"",null,null,null,null,{"$f":"IF(G5198=\"\",\"\",VLOOKUP(G5198,'Lista de precios'!$B$7:$C$5000,2,0))","v":""}]
[null,null,"",null,null,null,null,{"$f":"IF(G5199=\"\",\"\",VLOOKUP(G5199,'Lista de precios'!$B$7:$C$5000,2,0))","v":""}]
[null,null,"",null,null,null,null,{"$f":"IF(G5200=\"\",\"\",VLOOKUP(G5200,'Lista de precios'!$B$7:$C$5000,2,0))","v":""}]
[null,null,"",null,null,null,null,{"$f":"IF(G5201=\"\",\"\",VLOOKUP(G5201,'Lista de precios'!$B$7:$C$5000,2,0))","v":""}]
[null,null,"",null,null,null,null,{"$f":"IF(G5202=\"\",\"\",VLOOKUP(G5202,'Lista de precios'!$B$7:$C$5000,2,0))","v":""}]
[null,null,"",null,null,null,null,{"$f":"IF(G5203=\"\",\"\",VLOOKUP(G5203,'Lista de precios'!$B$7:$C$5000,2,0))","v":""}]
[null,null,"",null,null,null,null,{"$f":"IF(G5204=\"\",\"\",VLOOKUP(G5204,'Lista de precios'!$B$7:$C$5000,2,0))","v":""}]
[null,null,"",null,null,null,null,{"$f":"IF(G5205=\"\",\"\",VLOOKUP(G5205,'Lista de precios'!$B$7:$C$5000,2,0))","v":""}]
[null,null,"",null,null,null,null,{"$f":"IF(G5206=\"\",\"\",VLOOKUP(G5206,'Lista de precios'!$B$7:$C$5000,2,0))","v":""}]
[null,null,"",null,null,null,null,{"$f":"IF(G5207=\"\",\"\",VLOOKUP(G5207,'Lista de precios'!$B$7:$C$5000,2,0))","v":""}]
[null,null,"",null,null,null,null,{"$f":"IF(G5208=\"\",\"\",VLOOKUP(G5208,'Lista de precios'!$B$7:$C$5000,2,0))","v":""}]
[null,null,"",null,null,null,null,{"$f":"IF(G5209=\"\",\"\",VLOOKUP(G5209,'Lista de precios'!$B$7:$C$5000,2,0))","v":""}]
[null,null,"",null,null,null,null,{"$f":"IF(G5210=\"\",\"\",VLOOKUP(G5210,'Lista de precios'!$B$7:$C$5000,2,0))","v":""}]
[null,null,"",null,null,null,null,{"$f":"IF(G5211=\"\",\"\",VLOOKUP(G5211,'Lista de precios'!$B$7:$C$5000,2,0))","v":""}]
[null,null,"",null,null,null,null,{"$f":"IF(G5212=\"\",\"\",VLOOKUP(G5212,'Lista de precios'!$B$7:$C$5000,2,0))","v":""}]
[null,null,"",null,null,null,null,{"$f":"IF(G5213=\"\",\"\",VLOOKUP(G5213,'Lista de precios'!$B$7:$C$5000,2,0))","v":""}]
[null,null,"",null,null,null,null,{"$f":"IF(G5214=\"\",\"\",VLOOKUP(G5214,'Lista de precios'!$B$7:$C$5000,2,0))","v":""}]
[null,null,"",null,null,null,null,{"$f":"IF(G5215=\"\",\"\",VLOOKUP(G5215,'Lista de precios'!$B$7:$C$5000,2,0))","v":""}]
[null,null,"",null,null,null,null,{"$f":"IF(G5216=\"\",\"\",VLOOKUP(G5216,'Lista de precios'!$B$7:$C$5000,2,0))","v":""}]
[null,null,"",null,null,null,null,{"$f":"IF(G5217=\"\",\"\",VLOOKUP(G5217,'Lista de precios'!$B$7:$C$5000,2,0))","v":""}]
[null,null,"",null,null,null,null,{"$f":"IF(G5218=\"\",\"\",VLOOKUP(G5218,'Lista de precios'!$B$7:$C$5000,2,0))","v":""}]
[null,null,"",null,null,null,null,{"$f":"IF(G5219=\"\",\"\",VLOOKUP(G5219,'Lista de precios'!$B$7:$C$5000,2,0))","v":""}]
[null,null,"",null,null,null,null,{"$f":"IF(G5220=\"\",\"\",VLOOKUP(G5220,'Lista de precios'!$B$7:$C$5000,2,0))","v":""}]
[null,null,"",null,null,null,null,{"$f":"IF(G5221=\"\",\"\",VLOOKUP(G5221,'Lista de precios'!$B$7:$C$5000,2,0))","v":""}]
[null,null,"",null,null,null,null,{"$f":"IF(G5222=\"\",\"\",VLOOKUP(G5222,'Lista de precios'!$B$7:$C$5000,2,0))","v":""}]
[null,null,"",null,null,null,null,{"$f":"IF(G5223=\"\",\"\",VLOOKUP(G5223,'Lista de precios'!$B$7:$C$5000,2,0))","v":""}]
[null,null,"",null,null,null,null,{"$f":"IF(G5224=\"\",\"\",VLOOKUP(G5224,'Lista de precios'!$B$7:$C$5000,2,0))","v":""}]
[null,null,"",null,null,null,null,{"$f":"IF(G5225=\"\",\"\",VLOOKUP(G5225,'Lista de precios'!$B$7:$C$5000,2,0))","v":""}]
[null,null,"",null,null,null,null,{"$f":"IF(G5226=\"\",\"\",VLOOKUP(G5226,'Lista de precios'!$B$7:$C$5000,2,0))","v":""}]
[null,null,"",null,null,null,null,{"$f":"IF(G5227=\"\",\"\",VLOOKUP(G5227,'Lista de precios'!$B$7:$C$5000,2,0))","v":""}]
[null,null,"",null,null,null,null,{"$f":"IF(G5228=\"\",\"\",VLOOKUP(G5228,'Lista de precios'!$B$7:$C$5000,2,0))","v":""}]
[null,null,"",null,null,null,null,{"$f":"IF(G5229=\"\",\"\",VLOOKUP(G5229,'Lista de precios'!$B$7:$C$5000,2,0))","v":""}]
[null,null,"",null,null,null,null,{"$f":"IF(G5230=\"\",\"\",VLOOKUP(G5230,'Lista de precios'!$B$7:$C$5000,2,0))","v":""}]
[null,null,"",null,null,null,null,{"$f":"IF(G5231=\"\",\"\",VLOOKUP(G5231,'Lista de precios'!$B$7:$C$5000,2,0))","v":""}]
[null,null,"",null,null,null,null,{"$f":"IF(G5232=\"\",\"\",VLOOKUP(G5232,'Lista de precios'!$B$7:$C$5000,2,0))","v":""}]
[null,null,"",null,null,null,null,{"$f":"IF(G5233=\"\",\"\",VLOOKUP(G5233,'Lista de precios'!$B$7:$C$5000,2,0))","v":""}]
[null,null,"",null,null,null,null,{"$f":"IF(G5234=\"\",\"\",VLOOKUP(G5234,'Lista de precios'!$B$7:$C$5000,2,0))","v":""}]
[null,null,"",null,null,null,null,{"$f":"IF(G5235=\"\",\"\",VLOOKUP(G5235,'Lista de precios'!$B$7:$C$5000,2,0))","v":""}]
[null,null,"",null,null,null,null,{"$f":"IF(G5236=\"\",\"\",VLOOKUP(G5236,'Lista de precios'!$B$7:$C$5000,2,0))","v":""}]
[null,null,"",null,null,null,null,{"$f":"IF(G5237=\"\",\"\",VLOOKUP(G5237,'Lista de precios'!$B$7:$C$5000,2,0))","v":""}]
[null,null,"",null,null,null,null,{"$f":"IF(G5238=\"\",\"\",VLOOKUP(G5238,'Lista de precios'!$B$7:$C$5000,2,0))","v":""}]
[null,null,"",null,null,null,null,{"$f":"IF(G5239=\"\",\"\",VLOOKUP(G5239,'Lista de precios'!$B$7:$C$5000,2,0))","v":""}]
[null,null,"",null,null,null,null,{"$f":"IF(G5240=\"\",\"\",VLOOKUP(G5240,'Lista de precios'!$B$7:$C$5000,2,0))","v":""}]
[null,null,"",null,null,null,null,{"$f":"IF(G5241=\"\",\"\",VLOOKUP(G5241,'Lista de precios'!$B$7:$C$5000,2,0))","v":""}]
[null,null,"",null,null,null,null,{"$f":"IF(G5242=\"\",\"\",VLOOKUP(G5242,'Lista de precios'!$B$7:$C$5000,2,0))","v":""}]
[null,null,"",null,null,null,null,{"$f":"IF(G5243=\"\",\"\",VLOOKUP(G5243,'Lista de precios'!$B$7:$C$5000,2,0))","v":""}]
[null,null,"",null,null,null,null,{"$f":"IF(G5244=\"\",\"\",VLOOKUP(G5244,'Lista de precios'!$B$7:$C$5000,2,0))","v":""}]
[null,null,"",null,null,null,null,{"$f":"IF(G5245=\"\",\"\",VLOOKUP(G5245,'Lista de precios'!$B$7:$C$5000,2,0))","v":""}]
[null,null,"",null,null,null,null,{"$f":"IF(G5246=\"\",\"\",VLOOKUP(G5246,'Lista de precios'!$B$7:$C$5000,2,0))","v":""}]
[null,null,"",null,null,null,null,{"$f":"IF(G5247=\"\",\"\",VLOOKUP(G5247,'Lista de precios'!$B$7:$C$5000,2,0))","v":""}]
[null,null,"",null,null,null,null,{"$f":"IF(G5248=\"\",\"\",VLOOKUP(G5248,'Lista de precios'!$B$7:$C$5000,2,0))","v":""}]
[null,null,"",null,null,null,null,{"$f":"IF(G5249=\"\",\"\",VLOOKUP(G5249,'Lista de precios'!$B$7:$C$5000,2,0))","v":""}]
[null,null,"",null,null,null,null,{"$f":"IF(G5250=\"\",\"\",VLOOKUP(G5250,'Lista de precios'!$B$7:$C$5000,2,0))","v":""}]
[null,null,"",null,null,null,null,{"$f":"IF(G5251=\"\",\"\",VLOOKUP(G5251,'Lista de precios'!$B$7:$C$5000,2,0))","v":""}]
[null,null,"",null,null,null,null,{"$f":"IF(G5252=\"\",\"\",VLOOKUP(G5252,'Lista de precios'!$B$7:$C$5000,2,0))","v":""}]
[null,null,"",null,null,null,null,{"$f":"IF(G5253=\"\",\"\",VLOOKUP(G5253,'Lista de precios'!$B$7:$C$5000,2,0))","v":""}]
[null,null,"",null,null,null,null,{"$f":"IF(G5254=\"\",\"\",VLOOKUP(G5254,'Lista de precios'!$B$7:$C$5000,2,0))","v":""}]
[null,null,"",null,null,null,null,{"$f":"IF(G5255=\"\",\"\",VLOOKUP(G5255,'Lista de precios'!$B$7:$C$5000,2,0))","v":""}]
[null,null,"",null,null,null,null,{"$f":"IF(G5256=\"\",\"\",VLOOKUP(G5256,'Lista de precios'!$B$7:$C$5000,2,0))","v":""}]
[null,null,"",null,null,null,null,{"$f":"IF(G5257=\"\",\"\",VLOOKUP(G5257,'Lista de precios'!$B$7:$C$5000,2,0))","v":""}]
[null,null,"",null,null,null,null,{"$f":"IF(G5258=\"\",\"\",VLOOKUP(G5258,'Lista de precios'!$B$7:$C$5000,2,0))","v":""}]
[null,null,"",null,null,null,null,{"$f":"IF(G5259=\"\",\"\",VLOOKUP(G5259,'Lista de precios'!$B$7:$C$5000,2,0))","v":""}]
[null,null,{"$f":"IF(B5260=\"\",\"\",TEXT(B5260,\"Mmmm\"))","v":""},null,null,null,null,{"$f":"IF(G5260=\"\",\"\",VLOOKUP(G5260,'Lista de precios'!$B$7:$C$5000,2,0))","v":""}]
[null,null,"",null,null,null,null,{"$f":"IF(G5261=\"\",\"\",VLOOKUP(G5261,'Lista de precios'!$B$7:$C$5000,2,0))","v":""}]
[null,null,"",null,null,null,null,{"$f":"IF(G5262=\"\",\"\",VLOOKUP(G5262,'Lista de precios'!$B$7:$C$5000,2,0))","v":""}]
[null,null,"",null,null,null,null,{"$f":"IF(G5263=\"\",\"\",VLOOKUP(G5263,'Lista de precios'!$B$7:$C$5000,2,0))","v":""}]
[null,null,"",null,null,null,null,{"$f":"IF(G5264=\"\",\"\",VLOOKUP(G5264,'Lista de precios'!$B$7:$C$5000,2,0))","v":""}]
[null,null,"",null,null,null,null,{"$f":"IF(G5265=\"\",\"\",VLOOKUP(G5265,'Lista de precios'!$B$7:$C$5000,2,0))","v":""}]
[null,null,"",null,null,null,null,{"$f":"IF(G5266=\"\",\"\",VLOOKUP(G5266,'Lista de precios'!$B$7:$C$5000,2,0))","v":""}]
[null,null,"",null,null,null,null,{"$f":"IF(G5267=\"\",\"\",VLOOKUP(G5267,'Lista de precios'!$B$7:$C$5000,2,0))","v":""}]
[null,null,"",null,null,null,null,{"$f":"IF(G5268=\"\",\"\",VLOOKUP(G5268,'Lista de precios'!$B$7:$C$5000,2,0))","v":""}]
[null,null,"",null,null,null,null,{"$f":"IF(G5269=\"\",\"\",VLOOKUP(G5269,'Lista de precios'!$B$7:$C$5000,2,0))","v":""}]
[null,null,"",null,null,null,null,{"$f":"IF(G5270=\"\",\"\",VLOOKUP(G5270,'Lista de precios'!$B$7:$C$5000,2,0))","v":""}]
[null,null,"",null,null,null,null,{"$f":"IF(G5271=\"\",\"\",VLOOKUP(G5271,'Lista de precios'!$B$7:$C$5000,2,0))","v":""}]
[null,null,"",null,null,null,null,{"$f":"IF(G5272=\"\",\"\",VLOOKUP(G5272,'Lista de precios'!$B$7:$C$5000,2,0))","v":""}]
[null,null,"",null,null,null,null,{"$f":"IF(G5273=\"\",\"\",VLOOKUP(G5273,'Lista de precios'!$B$7:$C$5000,2,0))","v":""}]
[null,null,"",null,null,null,null,{"$f":"IF(G5274=\"\",\"\",VLOOKUP(G5274,'Lista de precios'!$B$7:$C$5000,2,0))","v":""}]
[null,null,"",null,null,null,null,{"$f":"IF(G5275=\"\",\"\",VLOOKUP(G5275,'Lista de precios'!$B$7:$C$5000,2,0))","v":""}]
[null,null,"",null,null,null,null,{"$f":"IF(G5276=\"\",\"\",VLOOKUP(G5276,'Lista de precios'!$B$7:$C$5000,2,0))","v":""}]
[null,null,"",null,null,null,null,{"$f":"IF(G5277=\"\",\"\",VLOOKUP(G5277,'Lista de precios'!$B$7:$C$5000,2,0))","v":""}]
[null,null,"",null,null,null,null,{"$f":"IF(G5278=\"\",\"\",VLOOKUP(G5278,'Lista de precios'!$B$7:$C$5000,2,0))","v":""}]
[null,null,"",null,null,null,null,{"$f":"IF(G5279=\"\",\"\",VLOOKUP(G5279,'Lista de precios'!$B$7:$C$5000,2,0))","v":""}]
[null,null,"",null,null,null,null,{"$f":"IF(G5280=\"\",\"\",VLOOKUP(G5280,'Lista de precios'!$B$7:$C$5000,2,0))","v":""}]
[null,null,"",null,null,null,null,{"$f":"IF(G5281=\"\",\"\",VLOOKUP(G5281,'Lista de precios'!$B$7:$C$5000,2,0))","v":""}]
[null,null,"",null,null,null,null,{"$f":"IF(G5282=\"\",\"\",VLOOKUP(G5282,'Lista de precios'!$B$7:$C$5000,2,0))","v":""}]
[null,null,"",null,null,null,null,{"$f":"IF(G5283=\"\",\"\",VLOOKUP(G5283,'Lista de precios'!$B$7:$C$5000,2,0))","v":""}]
[null,null,"",null,null,null,null,{"$f":"IF(G5284=\"\",\"\",VLOOKUP(G5284,'Lista de precios'!$B$7:$C$5000,2,0))","v":""}]
[null,null,"",null,null,null,null,{"$f":"IF(G5285=\"\",\"\",VLOOKUP(G5285,'Lista de precios'!$B$7:$C$5000,2,0))","v":""}]
[null,null,"",null,null,null,null,{"$f":"IF(G5286=\"\",\"\",VLOOKUP(G5286,'Lista de precios'!$B$7:$C$5000,2,0))","v":""}]
[null,null,"",null,null,null,null,{"$f":"IF(G5287=\"\",\"\",VLOOKUP(G5287,'Lista de precios'!$B$7:$C$5000,2,0))","v":""}]
[null,null,"",null,null,null,null,{"$f":"IF(G5288=\"\",\"\",VLOOKUP(G5288,'Lista de precios'!$B$7:$C$5000,2,0))","v":""}]
[null,null,"",null,null,null,null,{"$f":"IF(G5289=\"\",\"\",VLOOKUP(G5289,'Lista de precios'!$B$7:$C$5000,2,0))","v":""}]
[null,null,"",null,null,null,null,{"$f":"IF(G5290=\"\",\"\",VLOOKUP(G5290,'Lista de precios'!$B$7:$C$5000,2,0))","v":""}]
[null,null,"",null,null,null,null,{"$f":"IF(G5291=\"\",\"\",VLOOKUP(G5291,'Lista de precios'!$B$7:$C$5000,2,0))","v":""}]
[null,null,"",null,null,null,null,{"$f":"IF(G5292=\"\",\"\",VLOOKUP(G5292,'Lista de precios'!$B$7:$C$5000,2,0))","v":""}]
[null,null,"",null,null,null,null,{"$f":"IF(G5293=\"\",\"\",VLOOKUP(G5293,'Lista de precios'!$B$7:$C$5000,2,0))","v":""}]
[null,null,"",null,null,null,null,{"$f":"IF(G5294=\"\",\"\",VLOOKUP(G5294,'Lista de precios'!$B$7:$C$5000,2,0))","v":""}]
[null,null,"",null,null,null,null,{"$f":"IF(G5295=\"\",\"\",VLOOKUP(G5295,'Lista de precios'!$B$7:$C$5000,2,0))","v":""}]
[null,null,"",null,null,null,null,{"$f":"IF(G5296=\"\",\"\",VLOOKUP(G5296,'Lista de precios'!$B$7:$C$5000,2,0))","v":""}]
[null,null,"",null,null,null,null,{"$f":"IF(G5297=\"\",\"\",VLOOKUP(G5297,'Lista de precios'!$B$7:$C$5000,2,0))","v":""}]
[null,null,"",null,null,null,null,{"$f":"IF(G5298=\"\",\"\",VLOOKUP(G5298,'Lista de precios'!$B$7:$C$5000,2,0))","v":""}]
[null,null,"",null,null,null,null,{"$f":"IF(G5299=\"\",\"\",VLOOKUP(G5299,'Lista de precios'!$B$7:$C$5000,2,0))","v":""}]
[null,null,"",null,null,null,null,{"$f":"IF(G5300=\"\",\"\",VLOOKUP(G5300,'Lista de precios'!$B$7:$C$5000,2,0))","v":""}]
[null,null,"",null,null,null,null,{"$f":"IF(G5301=\"\",\"\",VLOOKUP(G5301,'Lista de precios'!$B$7:$C$5000,2,0))","v":""}]
[null,null,"",null,null,null,null,{"$f":"IF(G5302=\"\",\"\",VLOOKUP(G5302,'Lista de precios'!$B$7:$C$5000,2,0))","v":""}]
[null,null,"",null,null,null,null,{"$f":"IF(G5303=\"\",\"\",VLOOKUP(G5303,'Lista de precios'!$B$7:$C$5000,2,0))","v":""}]
[null,null,"",null,null,null,null,{"$f":"IF(G5304=\"\",\"\",VLOOKUP(G5304,'Lista de precios'!$B$7:$C$5000,2,0))","v":""}]
[null,null,"",null,null,null,null,{"$f":"IF(G5305=\"\",\"\",VLOOKUP(G5305,'Lista de precios'!$B$7:$C$5000,2,0))","v":""}]
[null,null,"",null,null,null,null,{"$f":"IF(G5306=\"\",\"\",VLOOKUP(G5306,'Lista de precios'!$B$7:$C$5000,2,0))","v":""}]
[null,null,"",null,null,null,null,{"$f":"IF(G5307=\"\",\"\",VLOOKUP(G5307,'Lista de precios'!$B$7:$C$5000,2,0))","v":""}]
[null,null,"",null,null,null,null,{"$f":"IF(G5308=\"\",\"\",VLOOKUP(G5308,'Lista de precios'!$B$7:$C$5000,2,0))","v":""}]
[null,null,"",null,null,null,null,{"$f":"IF(G5309=\"\",\"\",VLOOKUP(G5309,'Lista de precios'!$B$7:$C$5000,2,0))","v":""}]
[null,null,"",null,null,null,null,{"$f":"IF(G5310=\"\",\"\",VLOOKUP(G5310,'Lista de precios'!$B$7:$C$5000,2,0))","v":""}]
[null,null,"",null,null,null,null,{"$f":"IF(G5311=\"\",\"\",VLOOKUP(G5311,'Lista de precios'!$B$7:$C$5000,2,0))","v":""}]
[null,null,"",null,null,null,null,{"$f":"IF(G5312=\"\",\"\",VLOOKUP(G5312,'Lista de precios'!$B$7:$C$5000,2,0))","v":""}]
[null,null,"",null,null,null,null,{"$f":"IF(G5313=\"\",\"\",VLOOKUP(G5313,'Lista de precios'!$B$7:$C$5000,2,0))","v":""}]
[null,null,"",null,null,null,null,{"$f":"IF(G5314=\"\",\"\",VLOOKUP(G5314,'Lista de precios'!$B$7:$C$5000,2,0))","v":""}]
[null,null,"",null,null,null,null,{"$f":"IF(G5315=\"\",\"\",VLOOKUP(G5315,'Lista de precios'!$B$7:$C$5000,2,0))","v":""}]
[null,null,"",null,null,null,null,{"$f":"IF(G5316=\"\",\"\",VLOOKUP(G5316,'Lista de precios'!$B$7:$C$5000,2,0))","v":""}]
[null,null,"",null,null,null,null,{"$f":"IF(G5317=\"\",\"\",VLOOKUP(G5317,'Lista de precios'!$B$7:$C$5000,2,0))","v":""}]
[null,null,"",null,null,null,null,{"$f":"IF(G5318=\"\",\"\",VLOOKUP(G5318,'Lista de precios'!$B$7:$C$5000,2,0))","v":""}]
[null,null,"",null,null,null,null,{"$f":"IF(G5319=\"\",\"\",VLOOKUP(G5319,'Lista de precios'!$B$7:$C$5000,2,0))","v":""}]
[null,null,"",null,null,null,null,{"$f":"IF(G5320=\"\",\"\",VLOOKUP(G5320,'Lista de precios'!$B$7:$C$5000,2,0))","v":""}]
[null,null,"",null,null,null,null,{"$f":"IF(G5321=\"\",\"\",VLOOKUP(G5321,'Lista de precios'!$B$7:$C$5000,2,0))","v":""}]
[null,null,"",null,null,null,null,{"$f":"IF(G5322=\"\",\"\",VLOOKUP(G5322,'Lista de precios'!$B$7:$C$5000,2,0))","v":""}]
[null,null,"",null,null,null,null,{"$f":"IF(G5323=\"\",\"\",VLOOKUP(G5323,'Lista de precios'!$B$7:$C$5000,2,0))","v":""}]
[null,null,{"$f":"IF(B5324=\"\",\"\",TEXT(B5324,\"Mmmm\"))","v":""},null,null,null,null,{"$f":"IF(G5324=\"\",\"\",VLOOKUP(G5324,'Lista de precios'!$B$7:$C$5000,2,0))","v":""}]
[null,null,"",null,null,null,null,{"$f":"IF(G5325=\"\",\"\",VLOOKUP(G5325,'Lista de precios'!$B$7:$C$5000,2,0))","v":""}]
[null,null,"",null,null,null,null,{"$f":"IF(G5326=\"\",\"\",VLOOKUP(G5326,'Lista de precios'!$B$7:$C$5000,2,0))","v":""}]
[null,null,"",null,null,null,null,{"$f":"IF(G5327=\"\",\"\",VLOOKUP(G5327,'Lista de precios'!$B$7:$C$5000,2,0))","v":""}]
[null,null,"",null,null,null,null,{"$f":"IF(G5328=\"\",\"\",VLOOKUP(G5328,'Lista de precios'!$B$7:$C$5000,2,0))","v":""}]
[null,null,"",null,null,null,null,{"$f":"IF(G5329=\"\",\"\",VLOOKUP(G5329,'Lista de precios'!$B$7:$C$5000,2,0))","v":""}]
[null,null,"",null,null,null,null,{"$f":"IF(G5330=\"\",\"\",VLOOKUP(G5330,'Lista de precios'!$B$7:$C$5000,2,0))","v":""}]
[null,null,"",null,null,null,null,{"$f":"IF(G5331=\"\",\"\",VLOOKUP(G5331,'Lista de precios'!$B$7:$C$5000,2,0))","v":""}]
[null,null,"",null,null,null,null,{"$f":"IF(G5332=\"\",\"\",VLOOKUP(G5332,'Lista de precios'!$B$7:$C$5000,2,0))","v":""}]
[null,null,"",null,null,null,null,{"$f":"IF(G5333=\"\",\"\",VLOOKUP(G5333,'Lista de precios'!$B$7:$C$5000,2,0))","v":""}]
[null,null,"",null,null,null,null,{"$f":"IF(G5334=\"\",\"\",VLOOKUP(G5334,'Lista de precios'!$B$7:$C$5000,2,0))","v":""}]
[null,null,"",null,null,null,null,{"$f":"IF(G5335=\"\",\"\",VLOOKUP(G5335,'Lista de precios'!$B$7:$C$5000,2,0))","v":""}]
[null,null,"",null,null,null,null,{"$f":"IF(G5336=\"\",\"\",VLOOKUP(G5336,'Lista de precios'!$B$7:$C$5000,2,0))","v":""}]
[null,null,"",null,null,null,null,{"$f":"IF(G5337=\"\",\"\",VLOOKUP(G5337,'Lista de precios'!$B$7:$C$5000,2,0))","v":""}]
[null,null,"",null,null,null,null,{"$f":"IF(G5338=\"\",\"\",VLOOKUP(G5338,'Lista de precios'!$B$7:$C$5000,2,0))","v":""}]
[null,null,"",null,null,null,null,{"$f":"IF(G5339=\"\",\"\",VLOOKUP(G5339,'Lista de precios'!$B$7:$C$5000,2,0))","v":""}]
[null,null,"",null,null,null,null,{"$f":"IF(G5340=\"\",\"\",VLOOKUP(G5340,'Lista de precios'!$B$7:$C$5000,2,0))","v":""}]
[null,null,"",null,null,null,null,{"$f":"IF(G5341=\"\",\"\",VLOOKUP(G5341,'Lista de precios'!$B$7:$C$5000,2,0))","v":""}]
[null,null,"",null,null,null,null,{"$f":"IF(G5342=\"\",\"\",VLOOKUP(G5342,'Lista de precios'!$B$7:$C$5000,2,0))","v":""}]
[null,null,"",null,null,null,null,{"$f":"IF(G5343=\"\",\"\",VLOOKUP(G5343,'Lista de precios'!$B$7:$C$5000,2,0))","v":""}]
[null,null,"",null,null,null,null,{"$f":"IF(G5344=\"\",\"\",VLOOKUP(G5344,'Lista de precios'!$B$7:$C$5000,2,0))","v":""}]
[null,null,"",null,null,null,null,{"$f":"IF(G5345=\"\",\"\",VLOOKUP(G5345,'Lista de precios'!$B$7:$C$5000,2,0))","v":""}]
[null,null,"",null,null,null,null,{"$f":"IF(G5346=\"\",\"\",VLOOKUP(G5346,'Lista de precios'!$B$7:$C$5000,2,0))","v":""}]
[null,null,"",null,null,null,null,{"$f":"IF(G5347=\"\",\"\",VLOOKUP(G5347,'Lista de precios'!$B$7:$C$5000,2,0))","v":""}]
[null,null,"",null,null,null,null,{"$f":"IF(G5348=\"\",\"\",VLOOKUP(G5348,'Lista de precios'!$B$7:$C$5000,2,0))","v":""}]
[null,null,"",null,null,null,null,{"$f":"IF(G5349=\"\",\"\",VLOOKUP(G5349,'Lista de precios'!$B$7:$C$5000,2,0))","v":""}]
[null,null,"",null,null,null,null,{"$f":"IF(G5350=\"\",\"\",VLOOKUP(G5350,'Lista de precios'!$B$7:$C$5000,2,0))","v":""}]
[null,null,"",null,null,null,null,{"$f":"IF(G5351=\"\",\"\",VLOOKUP(G5351,'Lista de precios'!$B$7:$C$5000,2,0))","v":""}]
[null,null,"",null,null,null,null,{"$f":"IF(G5352=\"\",\"\",VLOOKUP(G5352,'Lista de precios'!$B$7:$C$5000,2,0))","v":""}]
[null,null,"",null,null,null,null,{"$f":"IF(G5353=\"\",\"\",VLOOKUP(G5353,'Lista de precios'!$B$7:$C$5000,2,0))","v":""}]
[null,null,"",null,null,null,null,{"$f":"IF(G5354=\"\",\"\",VLOOKUP(G5354,'Lista de precios'!$B$7:$C$5000,2,0))","v":""}]
[null,null,"",null,null,null,null,{"$f":"IF(G5355=\"\",\"\",VLOOKUP(G5355,'Lista de precios'!$B$7:$C$5000,2,0))","v":""}]
[null,null,"",null,null,null,null,{"$f":"IF(G5356=\"\",\"\",VLOOKUP(G5356,'Lista de precios'!$B$7:$C$5000,2,0))","v":""}]
[null,null,"",null,null,null,null,{"$f":"IF(G5357=\"\",\"\",VLOOKUP(G5357,'Lista de precios'!$B$7:$C$5000,2,0))","v":""}]
[null,null,"",null,null,null,null,{"$f":"IF(G5358=\"\",\"\",VLOOKUP(G5358,'Lista de precios'!$B$7:$C$5000,2,0))","v":""}]
[null,null,"",null,null,null,null,{"$f":"IF(G5359=\"\",\"\",VLOOKUP(G5359,'Lista de precios'!$B$7:$C$5000,2,0))","v":""}]
[null,null,"",null,null,null,null,{"$f":"IF(G5360=\"\",\"\",VLOOKUP(G5360,'Lista de precios'!$B$7:$C$5000,2,0))","v":""}]
[null,null,"",null,null,null,null,{"$f":"IF(G5361=\"\",\"\",VLOOKUP(G5361,'Lista de precios'!$B$7:$C$5000,2,0))","v":""}]
[null,null,"",null,null,null,null,{"$f":"IF(G5362=\"\",\"\",VLOOKUP(G5362,'Lista de precios'!$B$7:$C$5000,2,0))","v":""}]
[null,null,"",null,null,null,null,{"$f":"IF(G5363=\"\",\"\",VLOOKUP(G5363,'Lista de precios'!$B$7:$C$5000,2,0))","v":""}]
[null,null,"",null,null,null,null,{"$f":"IF(G5364=\"\",\"\",VLOOKUP(G5364,'Lista de precios'!$B$7:$C$5000,2,0))","v":""}]
[null,null,"",null,null,null,null,{"$f":"IF(G5365=\"\",\"\",VLOOKUP(G5365,'Lista de precios'!$B$7:$C$5000,2,0))","v":""}]
[null,null,"",null,null,null,null,{"$f":"IF(G5366=\"\",\"\",VLOOKUP(G5366,'Lista de precios'!$B$7:$C$5000,2,0))","v":""}]
[null,null,"",null,null,null,null,{"$f":"IF(G5367=\"\",\"\",VLOOKUP(G5367,'Lista de precios'!$B$7:$C$5000,2,0))","v":""}]
[null,null,"",null,null,null,null,{"$f":"IF(G5368=\"\",\"\",VLOOKUP(G5368,'Lista de precios'!$B$7:$C$5000,2,0))","v":""}]
[null,null,"",null,null,null,null,{"$f":"IF(G5369=\"\",\"\",VLOOKUP(G5369,'Lista de precios'!$B$7:$C$5000,2,0))","v":""}]
[null,null,"",null,null,null,null,{"$f":"IF(G5370=\"\",\"\",VLOOKUP(G5370,'Lista de precios'!$B$7:$C$5000,2,0))","v":""}]
[null,null,"",null,null,null,null,{"$f":"IF(G5371=\"\",\"\",VLOOKUP(G5371,'Lista de precios'!$B$7:$C$5000,2,0))","v":""}]
[null,null,"",null,null,null,null,{"$f":"IF(G5372=\"\",\"\",VLOOKUP(G5372,'Lista de precios'!$B$7:$C$5000,2,0))","v":""}]
[null,null,"",null,null,null,null,{"$f":"IF(G5373=\"\",\"\",VLOOKUP(G5373,'Lista de precios'!$B$7:$C$5000,2,0))","v":""}]
[null,null,"",null,null,null,null,{"$f":"IF(G5374=\"\",\"\",VLOOKUP(G5374,'Lista de precios'!$B$7:$C$5000,2,0))","v":""}]
[null,null,"",null,null,null,null,{"$f":"IF(G5375=\"\",\"\",VLOOKUP(G5375,'Lista de precios'!$B$7:$C$5000,2,0))","v":""}]
[null,null,"",null,null,null,null,{"$f":"IF(G5376=\"\",\"\",VLOOKUP(G5376,'Lista de precios'!$B$7:$C$5000,2,0))","v":""}]
[null,null,"",null,null,null,null,{"$f":"IF(G5377=\"\",\"\",VLOOKUP(G5377,'Lista de precios'!$B$7:$C$5000,2,0))","v":""}]
[null,null,"",null,null,null,null,{"$f":"IF(G5378=\"\",\"\",VLOOKUP(G5378,'Lista de precios'!$B$7:$C$5000,2,0))","v":""}]
[null,null,"",null,null,null,null,{"$f":"IF(G5379=\"\",\"\",VLOOKUP(G5379,'Lista de precios'!$B$7:$C$5000,2,0))","v":""}]
[null,null,"",null,null,null,null,{"$f":"IF(G5380=\"\",\"\",VLOOKUP(G5380,'Lista de precios'!$B$7:$C$5000,2,0))","v":""}]
[null,null,"",null,null,null,null,{"$f":"IF(G5381=\"\",\"\",VLOOKUP(G5381,'Lista de precios'!$B$7:$C$5000,2,0))","v":""}]
[null,null,"",null,null,null,null,{"$f":"IF(G5382=\"\",\"\",VLOOKUP(G5382,'Lista de precios'!$B$7:$C$5000,2,0))","v":""}]
[null,null,"",null,null,null,null,{"$f":"IF(G5383=\"\",\"\",VLOOKUP(G5383,'Lista de precios'!$B$7:$C$5000,2,0))","v":""}]
[null,null,"",null,null,null,null,{"$f":"IF(G5384=\"\",\"\",VLOOKUP(G5384,'Lista de precios'!$B$7:$C$5000,2,0))","v":""}]
[null,null,"",null,null,null,null,{"$f":"IF(G5385=\"\",\"\",VLOOKUP(G5385,'Lista de precios'!$B$7:$C$5000,2,0))","v":""}]
[null,null,"",null,null,null,null,{"$f":"IF(G5386=\"\",\"\",VLOOKUP(G5386,'Lista de precios'!$B$7:$C$5000,2,0))","v":""}]
[null,null,"",null,null,null,null,{"$f":"IF(G5387=\"\",\"\",VLOOKUP(G5387,'Lista de precios'!$B$7:$C$5000,2,0))","v":""}]
[null,null,{"$f":"IF(B5388=\"\",\"\",TEXT(B5388,\"Mmmm\"))","v":""},null,null,null,null,{"$f":"IF(G5388=\"\",\"\",VLOOKUP(G5388,'Lista de precios'!$B$7:$C$5000,2,0))","v":""}]
[null,null,"",null,null,null,null,{"$f":"IF(G5389=\"\",\"\",VLOOKUP(G5389,'Lista de precios'!$B$7:$C$5000,2,0))","v":""}]
[null,null,"",null,null,null,null,{"$f":"IF(G5390=\"\",\"\",VLOOKUP(G5390,'Lista de precios'!$B$7:$C$5000,2,0))","v":""}]
[null,null,"",null,null,null,null,{"$f":"IF(G5391=\"\",\"\",VLOOKUP(G5391,'Lista de precios'!$B$7:$C$5000,2,0))","v":""}]
[null,null,"",null,null,null,null,{"$f":"IF(G5392=\"\",\"\",VLOOKUP(G5392,'Lista de precios'!$B$7:$C$5000,2,0))","v":""}]
[null,null,"",null,null,null,null,{"$f":"IF(G5393=\"\",\"\",VLOOKUP(G5393,'Lista de precios'!$B$7:$C$5000,2,0))","v":""}]
[null,null,"",null,null,null,null,{"$f":"IF(G5394=\"\",\"\",VLOOKUP(G5394,'Lista de precios'!$B$7:$C$5000,2,0))","v":""}]
[null,null,"",null,null,null,null,{"$f":"IF(G5395=\"\",\"\",VLOOKUP(G5395,'Lista de precios'!$B$7:$C$5000,2,0))","v":""}]
[null,null,"",null,null,null,null,{"$f":"IF(G5396=\"\",\"\",VLOOKUP(G5396,'Lista de precios'!$B$7:$C$5000,2,0))","v":""}]
[null,null,"",null,null,null,null,{"$f":"IF(G5397=\"\",\"\",VLOOKUP(G5397,'Lista de precios'!$B$7:$C$5000,2,0))","v":""}]
[null,null,"",null,null,null,null,{"$f":"IF(G5398=\"\",\"\",VLOOKUP(G5398,'Lista de precios'!$B$7:$C$5000,2,0))","v":""}]
[null,null,"",null,null,null,null,{"$f":"IF(G5399=\"\",\"\",VLOOKUP(G5399,'Lista de precios'!$B$7:$C$5000,2,0))","v":""}]
[null,null,"",null,null,null,null,{"$f":"IF(G5400=\"\",\"\",VLOOKUP(G5400,'Lista de precios'!$B$7:$C$5000,2,0))","v":""}]
[null,null,"",null,null,null,null,{"$f":"IF(G5401=\"\",\"\",VLOOKUP(G5401,'Lista de precios'!$B$7:$C$5000,2,0))","v":""}]
[null,null,"",null,null,null,null,{"$f":"IF(G5402=\"\",\"\",VLOOKUP(G5402,'Lista de precios'!$B$7:$C$5000,2,0))","v":""}]
[null,null,"",null,null,null,null,{"$f":"IF(G5403=\"\",\"\",VLOOKUP(G5403,'Lista de precios'!$B$7:$C$5000,2,0))","v":""}]
[null,null,"",null,null,null,null,{"$f":"IF(G5404=\"\",\"\",VLOOKUP(G5404,'Lista de precios'!$B$7:$C$5000,2,0))","v":""}]
[null,null,"",null,null,null,null,{"$f":"IF(G5405=\"\",\"\",VLOOKUP(G5405,'Lista de precios'!$B$7:$C$5000,2,0))","v":""}]
[null,null,"",null,null,null,null,{"$f":"IF(G5406=\"\",\"\",VLOOKUP(G5406,'Lista de precios'!$B$7:$C$5000,2,0))","v":""}]
[null,null,"",null,null,null,null,{"$f":"IF(G5407=\"\",\"\",VLOOKUP(G5407,'Lista de precios'!$B$7:$C$5000,2,0))","v":""}]
[null,null,"",null,null,null,null,{"$f":"IF(G5408=\"\",\"\",VLOOKUP(G5408,'Lista de precios'!$B$7:$C$5000,2,0))","v":""}]
[null,null,"",null,null,null,null,{"$f":"IF(G5409=\"\",\"\",VLOOKUP(G5409,'Lista de precios'!$B$7:$C$5000,2,0))","v":""}]
[null,null,"",null,null,null,null,{"$f":"IF(G5410=\"\",\"\",VLOOKUP(G5410,'Lista de precios'!$B$7:$C$5000,2,0))","v":""}]
[null,null,"",null,null,null,null,{"$f":"IF(G5411=\"\",\"\",VLOOKUP(G5411,'Lista de precios'!$B$7:$C$5000,2,0))","v":""}]
[null,null,"",null,null,null,null,{"$f":"IF(G5412=\"\",\"\",VLOOKUP(G5412,'Lista de precios'!$B$7:$C$5000,2,0))","v":""}]
[null,null,"",null,null,null,null,{"$f":"IF(G5413=\"\",\"\",VLOOKUP(G5413,'Lista de precios'!$B$7:$C$5000,2,0))","v":""}]
[null,null,"",null,null,null,null,{"$f":"IF(G5414=\"\",\"\",VLOOKUP(G5414,'Lista de precios'!$B$7:$C$5000,2,0))","v":""}]
[null,null,"",null,null,null,null,{"$f":"IF(G5415=\"\",\"\",VLOOKUP(G5415,'Lista de precios'!$B$7:$C$5000,2,0))","v":""}]
[null,null,"",null,null,null,null,{"$f":"IF(G5416=\"\",\"\",VLOOKUP(G5416,'Lista de precios'!$B$7:$C$5000,2,0))","v":""}]
[null,null,"",null,null,null,null,{"$f":"IF(G5417=\"\",\"\",VLOOKUP(G5417,'Lista de precios'!$B$7:$C$5000,2,0))","v":""}]
[null,null,"",null,null,null,null,{"$f":"IF(G5418=\"\",\"\",VLOOKUP(G5418,'Lista de precios'!$B$7:$C$5000,2,0))","v":""}]
[null,null,"",null,null,null,null,{"$f":"IF(G5419=\"\",\"\",VLOOKUP(G5419,'Lista de precios'!$B$7:$C$5000,2,0))","v":""}]
[null,null,"",null,null,null,null,{"$f":"IF(G5420=\"\",\"\",VLOOKUP(G5420,'Lista de precios'!$B$7:$C$5000,2,0))","v":""}]
[null,null,"",null,null,null,null,{"$f":"IF(G5421=\"\",\"\",VLOOKUP(G5421,'Lista de precios'!$B$7:$C$5000,2,0))","v":""}]
[null,null,"",null,null,null,null,{"$f":"IF(G5422=\"\",\"\",VLOOKUP(G5422,'Lista de precios'!$B$7:$C$5000,2,0))","v":""}]
[null,null,"",null,null,null,null,{"$f":"IF(G5423=\"\",\"\",VLOOKUP(G5423,'Lista de precios'!$B$7:$C$5000,2,0))","v":""}]
[null,null,"",null,null,null,null,{"$f":"IF(G5424=\"\",\"\",VLOOKUP(G5424,'Lista de precios'!$B$7:$C$5000,2,0))","v":""}]
[null,null,"",null,null,null,null,{"$f":"IF(G5425=\"\",\"\",VLOOKUP(G5425,'Lista de precios'!$B$7:$C$5000,2,0))","v":""}]
[null,null,"",null,null,null,null,{"$f":"IF(G5426=\"\",\"\",VLOOKUP(G5426,'Lista de precios'!$B$7:$C$5000,2,0))","v":""}]
[null,null,"",null,null,null,null,{"$f":"IF(G5427=\"\",\"\",VLOOKUP(G5427,'Lista de precios'!$B$7:$C$5000,2,0))","v":""}]
[null,null,"",null,null,null,null,{"$f":"IF(G5428=\"\",\"\",VLOOKUP(G5428,'Lista de precios'!$B$7:$C$5000,2,0))","v":""}]
[null,null,"",null,null,null,null,{"$f":"IF(G5429=\"\",\"\",VLOOKUP(G5429,'Lista de precios'!$B$7:$C$5000,2,0))","v":""}]
[null,null,"",null,null,null,null,{"$f":"IF(G5430=\"\",\"\",VLOOKUP(G5430,'Lista de precios'!$B$7:$C$5000,2,0))","v":""}]
[null,null,"",null,null,null,null,{"$f":"IF(G5431=\"\",\"\",VLOOKUP(G5431,'Lista de precios'!$B$7:$C$5000,2,0))","v":""}]
[null,null,"",null,null,null,null,{"$f":"IF(G5432=\"\",\"\",VLOOKUP(G5432,'Lista de precios'!$B$7:$C$5000,2,0))","v":""}]
[null,null,"",null,null,null,null,{"$f":"IF(G5433=\"\",\"\",VLOOKUP(G5433,'Lista de precios'!$B$7:$C$5000,2,0))","v":""}]
[null,null,"",null,null,null,null,{"$f":"IF(G5434=\"\",\"\",VLOOKUP(G5434,'Lista de precios'!$B$7:$C$5000,2,0))","v":""}]
[null,null,"",null,null,null,null,{"$f":"IF(G5435=\"\",\"\",VLOOKUP(G5435,'Lista de precios'!$B$7:$C$5000,2,0))","v":""}]
[null,null,"",null,null,null,null,{"$f":"IF(G5436=\"\",\"\",VLOOKUP(G5436,'Lista de precios'!$B$7:$C$5000,2,0))","v":""}]
[null,null,"",null,null,null,null,{"$f":"IF(G5437=\"\",\"\",VLOOKUP(G5437,'Lista de precios'!$B$7:$C$5000,2,0))","v":""}]
[null,null,"",null,null,null,null,{"$f":"IF(G5438=\"\",\"\",VLOOKUP(G5438,'Lista de precios'!$B$7:$C$5000,2,0))","v":""}]
[null,null,"",null,null,null,null,{"$f":"IF(G5439=\"\",\"\",VLOOKUP(G5439,'Lista de precios'!$B$7:$C$5000,2,0))","v":""}]
[null,null,"",null,null,null,null,{"$f":"IF(G5440=\"\",\"\",VLOOKUP(G5440,'Lista de precios'!$B$7:$C$5000,2,0))","v":""}]
[null,null,"",null,null,null,null,{"$f":"IF(G5441=\"\",\"\",VLOOKUP(G5441,'Lista de precios'!$B$7:$C$5000,2,0))","v":""}]
[null,null,"",null,null,null,null,{"$f":"IF(G5442=\"\",\"\",VLOOKUP(G5442,'Lista de precios'!$B$7:$C$5000,2,0))","v":""}]
[null,null,"",null,null,null,null,{"$f":"IF(G5443=\"\",\"\",VLOOKUP(G5443,'Lista de precios'!$B$7:$C$5000,2,0))","v":""}]
[null,null,"",null,null,null,null,{"$f":"IF(G5444=\"\",\"\",VLOOKUP(G5444,'Lista de precios'!$B$7:$C$5000,2,0))","v":""}]
[null,null,"",null,null,null,null,{"$f":"IF(G5445=\"\",\"\",VLOOKUP(G5445,'Lista de precios'!$B$7:$C$5000,2,0))","v":""}]
[null,null,"",null,null,null,null,{"$f":"IF(G5446=\"\",\"\",VLOOKUP(G5446,'Lista de precios'!$B$7:$C$5000,2,0))","v":""}]
[null,null,"",null,null,null,null,{"$f":"IF(G5447=\"\",\"\",VLOOKUP(G5447,'Lista de precios'!$B$7:$C$5000,2,0))","v":""}]
[null,null,"",null,null,null,null,{"$f":"IF(G5448=\"\",\"\",VLOOKUP(G5448,'Lista de precios'!$B$7:$C$5000,2,0))","v":""}]
[null,null,"",null,null,null,null,{"$f":"IF(G5449=\"\",\"\",VLOOKUP(G5449,'Lista de precios'!$B$7:$C$5000,2,0))","v":""}]
[null,null,"",null,null,null,null,{"$f":"IF(G5450=\"\",\"\",VLOOKUP(G5450,'Lista de precios'!$B$7:$C$5000,2,0))","v":""}]
[null,null,"",null,null,null,null,{"$f":"IF(G5451=\"\",\"\",VLOOKUP(G5451,'Lista de precios'!$B$7:$C$5000,2,0))","v":""}]
[null,null,{"$f":"IF(B5452=\"\",\"\",TEXT(B5452,\"Mmmm\"))","v":""},null,null,null,null,{"$f":"IF(G5452=\"\",\"\",VLOOKUP(G5452,'Lista de precios'!$B$7:$C$5000,2,0))","v":""}]
[null,null,"",null,null,null,null,{"$f":"IF(G5453=\"\",\"\",VLOOKUP(G5453,'Lista de precios'!$B$7:$C$5000,2,0))","v":""}]
[null,null,"",null,null,null,null,{"$f":"IF(G5454=\"\",\"\",VLOOKUP(G5454,'Lista de precios'!$B$7:$C$5000,2,0))","v":""}]
[null,null,"",null,null,null,null,{"$f":"IF(G5455=\"\",\"\",VLOOKUP(G5455,'Lista de precios'!$B$7:$C$5000,2,0))","v":""}]
[null,null,"",null,null,null,null,{"$f":"IF(G5456=\"\",\"\",VLOOKUP(G5456,'Lista de precios'!$B$7:$C$5000,2,0))","v":""}]
[null,null,"",null,null,null,null,{"$f":"IF(G5457=\"\",\"\",VLOOKUP(G5457,'Lista de precios'!$B$7:$C$5000,2,0))","v":""}]
[null,null,"",null,null,null,null,{"$f":"IF(G5458=\"\",\"\",VLOOKUP(G5458,'Lista de precios'!$B$7:$C$5000,2,0))","v":""}]
[null,null,"",null,null,null,null,{"$f":"IF(G5459=\"\",\"\",VLOOKUP(G5459,'Lista de precios'!$B$7:$C$5000,2,0))","v":""}]
[null,null,"",null,null,null,null,{"$f":"IF(G5460=\"\",\"\",VLOOKUP(G5460,'Lista de precios'!$B$7:$C$5000,2,0))","v":""}]
[null,null,"",null,null,null,null,{"$f":"IF(G5461=\"\",\"\",VLOOKUP(G5461,'Lista de precios'!$B$7:$C$5000,2,0))","v":""}]
[null,null,"",null,null,null,null,{"$f":"IF(G5462=\"\",\"\",VLOOKUP(G5462,'Lista de precios'!$B$7:$C$5000,2,0))","v":""}]
[null,null,"",null,null,null,null,{"$f":"IF(G5463=\"\",\"\",VLOOKUP(G5463,'Lista de precios'!$B$7:$C$5000,2,0))","v":""}]
[null,null,"",null,null,null,null,{"$f":"IF(G5464=\"\",\"\",VLOOKUP(G5464,'Lista de precios'!$B$7:$C$5000,2,0))","v":""}]
[null,null,"",null,null,null,null,{"$f":"IF(G5465=\"\",\"\",VLOOKUP(G5465,'Lista de precios'!$B$7:$C$5000,2,0))","v":""}]
[null,null,"",null,null,null,null,{"$f":"IF(G5466=\"\",\"\",VLOOKUP(G5466,'Lista de precios'!$B$7:$C$5000,2,0))","v":""}]
[null,null,"",null,null,null,null,{"$f":"IF(G5467=\"\",\"\",VLOOKUP(G5467,'Lista de precios'!$B$7:$C$5000,2,0))","v":""}]
[null,null,"",null,null,null,null,{"$f":"IF(G5468=\"\",\"\",VLOOKUP(G5468,'Lista de precios'!$B$7:$C$5000,2,0))","v":""}]
[null,null,"",null,null,null,null,{"$f":"IF(G5469=\"\",\"\",VLOOKUP(G5469,'Lista de precios'!$B$7:$C$5000,2,0))","v":""}]
[null,null,"",null,null,null,null,{"$f":"IF(G5470=\"\",\"\",VLOOKUP(G5470,'Lista de precios'!$B$7:$C$5000,2,0))","v":""}]
[null,null,"",null,null,null,null,{"$f":"IF(G5471=\"\",\"\",VLOOKUP(G5471,'Lista de precios'!$B$7:$C$5000,2,0))","v":""}]
[null,null,"",null,null,null,null,{"$f":"IF(G5472=\"\",\"\",VLOOKUP(G5472,'Lista de precios'!$B$7:$C$5000,2,0))","v":""}]
[null,null,"",null,null,null,null,{"$f":"IF(G5473=\"\",\"\",VLOOKUP(G5473,'Lista de precios'!$B$7:$C$5000,2,0))","v":""}]
[null,null,"",null,null,null,null,{"$f":"IF(G5474=\"\",\"\",VLOOKUP(G5474,'Lista de precios'!$B$7:$C$5000,2,0))","v":""}]
[null,null,"",null,null,null,null,{"$f":"IF(G5475=\"\",\"\",VLOOKUP(G5475,'Lista de precios'!$B$7:$C$5000,2,0))","v":""}]
[null,null,"",null,null,null,null,{"$f":"IF(G5476=\"\",\"\",VLOOKUP(G5476,'Lista de precios'!$B$7:$C$5000,2,0))","v":""}]
[null,null,"",null,null,null,null,{"$f":"IF(G5477=\"\",\"\",VLOOKUP(G5477,'Lista de precios'!$B$7:$C$5000,2,0))","v":""}]
[null,null,"",null,null,null,null,{"$f":"IF(G5478=\"\",\"\",VLOOKUP(G5478,'Lista de precios'!$B$7:$C$5000,2,0))","v":""}]
[null,null,"",null,null,null,null,{"$f":"IF(G5479=\"\",\"\",VLOOKUP(G5479,'Lista de precios'!$B$7:$C$5000,2,0))","v":""}]
[null,null,"",null,null,null,null,{"$f":"IF(G5480=\"\",\"\",VLOOKUP(G5480,'Lista de precios'!$B$7:$C$5000,2,0))","v":""}]
[null,null,"",null,null,null,null,{"$f":"IF(G5481=\"\",\"\",VLOOKUP(G5481,'Lista de precios'!$B$7:$C$5000,2,0))","v":""}]
[null,null,"",null,null,null,null,{"$f":"IF(G5482=\"\",\"\",VLOOKUP(G5482,'Lista de precios'!$B$7:$C$5000,2,0))","v":""}]
[null,null,"",null,null,null,null,{"$f":"IF(G5483=\"\",\"\",VLOOKUP(G5483,'Lista de precios'!$B$7:$C$5000,2,0))","v":""}]
[null,null,"",null,null,null,null,{"$f":"IF(G5484=\"\",\"\",VLOOKUP(G5484,'Lista de precios'!$B$7:$C$5000,2,0))","v":""}]
[null,null,"",null,null,null,null,{"$f":"IF(G5485=\"\",\"\",VLOOKUP(G5485,'Lista de precios'!$B$7:$C$5000,2,0))","v":""}]
[null,null,"",null,null,null,null,{"$f":"IF(G5486=\"\",\"\",VLOOKUP(G5486,'Lista de precios'!$B$7:$C$5000,2,0))","v":""}]
[null,null,"",null,null,null,null,{"$f":"IF(G5487=\"\",\"\",VLOOKUP(G5487,'Lista de precios'!$B$7:$C$5000,2,0))","v":""}]
[null,null,"",null,null,null,null,{"$f":"IF(G5488=\"\",\"\",VLOOKUP(G5488,'Lista de precios'!$B$7:$C$5000,2,0))","v":""}]
[null,null,"",null,null,null,null,{"$f":"IF(G5489=\"\",\"\",VLOOKUP(G5489,'Lista de precios'!$B$7:$C$5000,2,0))","v":""}]
[null,null,"",null,null,null,null,{"$f":"IF(G5490=\"\",\"\",VLOOKUP(G5490,'Lista de precios'!$B$7:$C$5000,2,0))","v":""}]
[null,null,"",null,null,null,null,{"$f":"IF(G5491=\"\",\"\",VLOOKUP(G5491,'Lista de precios'!$B$7:$C$5000,2,0))","v":""}]
[null,null,"",null,null,null,null,{"$f":"IF(G5492=\"\",\"\",VLOOKUP(G5492,'Lista de precios'!$B$7:$C$5000,2,0))","v":""}]
[null,null,"",null,null,null,null,{"$f":"IF(G5493=\"\",\"\",VLOOKUP(G5493,'Lista de precios'!$B$7:$C$5000,2,0))","v":""}]
[null,null,"",null,null,null,null,{"$f":"IF(G5494=\"\",\"\",VLOOKUP(G5494,'Lista de precios'!$B$7:$C$5000,2,0))","v":""}]
[null,null,"",null,null,null,null,{"$f":"IF(G5495=\"\",\"\",VLOOKUP(G5495,'Lista de precios'!$B$7:$C$5000,2,0))","v":""}]
[null,null,"",null,null,null,null,{"$f":"IF(G5496=\"\",\"\",VLOOKUP(G5496,'Lista de precios'!$B$7:$C$5000,2,0))","v":""}]
[null,null,"",null,null,null,null,{"$f":"IF(G5497=\"\",\"\",VLOOKUP(G5497,'Lista de precios'!$B$7:$C$5000,2,0))","v":""}]
[null,null,"",null,null,null,null,{"$f":"IF(G5498=\"\",\"\",VLOOKUP(G5498,'Lista de precios'!$B$7:$C$5000,2,0))","v":""}]
[null,null,"",null,null,null,null,{"$f":"IF(G5499=\"\",\"\",VLOOKUP(G5499,'Lista de precios'!$B$7:$C$5000,2,0))","v":""}]
[null,null,"",null,null,null,null,{"$f":"IF(G5500=\"\",\"\",VLOOKUP(G5500,'Lista de precios'!$B$7:$C$5000,2,0))","v":""}]
[null,null,"",null,null,null,null,{"$f":"IF(G5501=\"\",\"\",VLOOKUP(G5501,'Lista de precios'!$B$7:$C$5000,2,0))","v":""}]
[null,null,"",null,null,null,null,{"$f":"IF(G5502=\"\",\"\",VLOOKUP(G5502,'Lista de precios'!$B$7:$C$5000,2,0))","v":""}]
[null,null,"",null,null,null,null,{"$f":"IF(G5503=\"\",\"\",VLOOKUP(G5503,'Lista de precios'!$B$7:$C$5000,2,0))","v":""}]
[null,null,"",null,null,null,null,{"$f":"IF(G5504=\"\",\"\",VLOOKUP(G5504,'Lista de precios'!$B$7:$C$5000,2,0))","v":""}]
[null,null,"",null,null,null,null,{"$f":"IF(G5505=\"\",\"\",VLOOKUP(G5505,'Lista de precios'!$B$7:$C$5000,2,0))","v":""}]
[null,null,"",null,null,null,null,{"$f":"IF(G5506=\"\",\"\",VLOOKUP(G5506,'Lista de precios'!$B$7:$C$5000,2,0))","v":""}]
[null,null,"",null,null,null,null,{"$f":"IF(G5507=\"\",\"\",VLOOKUP(G5507,'Lista de precios'!$B$7:$C$5000,2,0))","v":""}]
[null,null,"",null,null,null,null,{"$f":"IF(G5508=\"\",\"\",VLOOKUP(G5508,'Lista de precios'!$B$7:$C$5000,2,0))","v":""}]
[null,null,"",null,null,null,null,{"$f":"IF(G5509=\"\",\"\",VLOOKUP(G5509,'Lista de precios'!$B$7:$C$5000,2,0))","v":""}]
[null,null,"",null,null,null,null,{"$f":"IF(G5510=\"\",\"\",VLOOKUP(G5510,'Lista de precios'!$B$7:$C$5000,2,0))","v":""}]
[null,null,"",null,null,null,null,{"$f":"IF(G5511=\"\",\"\",VLOOKUP(G5511,'Lista de precios'!$B$7:$C$5000,2,0))","v":""}]
[null,null,"",null,null,null,null,{"$f":"IF(G5512=\"\",\"\",VLOOKUP(G5512,'Lista de precios'!$B$7:$C$5000,2,0))","v":""}]
[null,null,"",null,null,null,null,{"$f":"IF(G5513=\"\",\"\",VLOOKUP(G5513,'Lista de precios'!$B$7:$C$5000,2,0))","v":""}]
[null,null,"",null,null,null,null,{"$f":"IF(G5514=\"\",\"\",VLOOKUP(G5514,'Lista de precios'!$B$7:$C$5000,2,0))","v":""}]
[null,null,"",null,null,null,null,{"$f":"IF(G5515=\"\",\"\",VLOOKUP(G5515,'Lista de precios'!$B$7:$C$5000,2,0))","v":""}]
[null,null,{"$f":"IF(B5516=\"\",\"\",TEXT(B5516,\"Mmmm\"))","v":""},null,null,null,null,{"$f":"IF(G5516=\"\",\"\",VLOOKUP(G5516,'Lista de precios'!$B$7:$C$5000,2,0))","v":""}]
[null,null,"",null,null,null,null,{"$f":"IF(G5517=\"\",\"\",VLOOKUP(G5517,'Lista de precios'!$B$7:$C$5000,2,0))","v":""}]
[null,null,"",null,null,null,null,{"$f":"IF(G5518=\"\",\"\",VLOOKUP(G5518,'Lista de precios'!$B$7:$C$5000,2,0))","v":""}]
[null,null,"",null,null,null,null,{"$f":"IF(G5519=\"\",\"\",VLOOKUP(G5519,'Lista de precios'!$B$7:$C$5000,2,0))","v":""}]
[null,null,"",null,null,null,null,{"$f":"IF(G5520=\"\",\"\",VLOOKUP(G5520,'Lista de precios'!$B$7:$C$5000,2,0))","v":""}]
[null,null,"",null,null,null,null,{"$f":"IF(G5521=\"\",\"\",VLOOKUP(G5521,'Lista de precios'!$B$7:$C$5000,2,0))","v":""}]
[null,null,"",null,null,null,null,{"$f":"IF(G5522=\"\",\"\",VLOOKUP(G5522,'Lista de precios'!$B$7:$C$5000,2,0))","v":""}]
[null,null,"",null,null,null,null,{"$f":"IF(G5523=\"\",\"\",VLOOKUP(G5523,'Lista de precios'!$B$7:$C$5000,2,0))","v":""}]
[null,null,"",null,null,null,null,{"$f":"IF(G5524=\"\",\"\",VLOOKUP(G5524,'Lista de precios'!$B$7:$C$5000,2,0))","v":""}]
[null,null,"",null,null,null,null,{"$f":"IF(G5525=\"\",\"\",VLOOKUP(G5525,'Lista de precios'!$B$7:$C$5000,2,0))","v":""}]
[null,null,"",null,null,null,null,{"$f":"IF(G5526=\"\",\"\",VLOOKUP(G5526,'Lista de precios'!$B$7:$C$5000,2,0))","v":""}]
[null,null,"",null,null,null,null,{"$f":"IF(G5527=\"\",\"\",VLOOKUP(G5527,'Lista de precios'!$B$7:$C$5000,2,0))","v":""}]
[null,null,"",null,null,null,null,{"$f":"IF(G5528=\"\",\"\",VLOOKUP(G5528,'Lista de precios'!$B$7:$C$5000,2,0))","v":""}]
[null,null,"",null,null,null,null,{"$f":"IF(G5529=\"\",\"\",VLOOKUP(G5529,'Lista de precios'!$B$7:$C$5000,2,0))","v":""}]
[null,null,"",null,null,null,null,{"$f":"IF(G5530=\"\",\"\",VLOOKUP(G5530,'Lista de precios'!$B$7:$C$5000,2,0))","v":""}]
[null,null,"",null,null,null,null,{"$f":"IF(G5531=\"\",\"\",VLOOKUP(G5531,'Lista de precios'!$B$7:$C$5000,2,0))","v":""}]
[null,null,"",null,null,null,null,{"$f":"IF(G5532=\"\",\"\",VLOOKUP(G5532,'Lista de precios'!$B$7:$C$5000,2,0))","v":""}]
[null,null,"",null,null,null,null,{"$f":"IF(G5533=\"\",\"\",VLOOKUP(G5533,'Lista de precios'!$B$7:$C$5000,2,0))","v":""}]
[null,null,"",null,null,null,null,{"$f":"IF(G5534=\"\",\"\",VLOOKUP(G5534,'Lista de precios'!$B$7:$C$5000,2,0))","v":""}]
[null,null,"",null,null,null,null,{"$f":"IF(G5535=\"\",\"\",VLOOKUP(G5535,'Lista de precios'!$B$7:$C$5000,2,0))","v":""}]
[null,null,"",null,null,null,null,{"$f":"IF(G5536=\"\",\"\",VLOOKUP(G5536,'Lista de precios'!$B$7:$C$5000,2,0))","v":""}]
[null,null,"",null,null,null,null,{"$f":"IF(G5537=\"\",\"\",VLOOKUP(G5537,'Lista de precios'!$B$7:$C$5000,2,0))","v":""}]
[null,null,"",null,null,null,null,{"$f":"IF(G5538=\"\",\"\",VLOOKUP(G5538,'Lista de precios'!$B$7:$C$5000,2,0))","v":""}]
[null,null,"",null,null,null,null,{"$f":"IF(G5539=\"\",\"\",VLOOKUP(G5539,'Lista de precios'!$B$7:$C$5000,2,0))","v":""}]
[null,null,"",null,null,null,null,{"$f":"IF(G5540=\"\",\"\",VLOOKUP(G5540,'Lista de precios'!$B$7:$C$5000,2,0))","v":""}]
[null,null,"",null,null,null,null,{"$f":"IF(G5541=\"\",\"\",VLOOKUP(G5541,'Lista de precios'!$B$7:$C$5000,2,0))","v":""}]
[null,null,"",null,null,null,null,{"$f":"IF(G5542=\"\",\"\",VLOOKUP(G5542,'Lista de precios'!$B$7:$C$5000,2,0))","v":""}]
[null,null,"",null,null,null,null,{"$f":"IF(G5543=\"\",\"\",VLOOKUP(G5543,'Lista de precios'!$B$7:$C$5000,2,0))","v":""}]
[null,null,"",null,null,null,null,{"$f":"IF(G5544=\"\",\"\",VLOOKUP(G5544,'Lista de precios'!$B$7:$C$5000,2,0))","v":""}]
[null,null,"",null,null,null,null,{"$f":"IF(G5545=\"\",\"\",VLOOKUP(G5545,'Lista de precios'!$B$7:$C$5000,2,0))","v":""}]
[null,null,"",null,null,null,null,{"$f":"IF(G5546=\"\",\"\",VLOOKUP(G5546,'Lista de precios'!$B$7:$C$5000,2,0))","v":""}]
[null,null,"",null,null,null,null,{"$f":"IF(G5547=\"\",\"\",VLOOKUP(G5547,'Lista de precios'!$B$7:$C$5000,2,0))","v":""}]
[null,null,"",null,null,null,null,{"$f":"IF(G5548=\"\",\"\",VLOOKUP(G5548,'Lista de precios'!$B$7:$C$5000,2,0))","v":""}]
[null,null,"",null,null,null,null,{"$f":"IF(G5549=\"\",\"\",VLOOKUP(G5549,'Lista de precios'!$B$7:$C$5000,2,0))","v":""}]
[null,null,"",null,null,null,null,{"$f":"IF(G5550=\"\",\"\",VLOOKUP(G5550,'Lista de precios'!$B$7:$C$5000,2,0))","v":""}]
[null,null,"",null,null,null,null,{"$f":"IF(G5551=\"\",\"\",VLOOKUP(G5551,'Lista de precios'!$B$7:$C$5000,2,0))","v":""}]
[null,null,"",null,null,null,null,{"$f":"IF(G5552=\"\",\"\",VLOOKUP(G5552,'Lista de precios'!$B$7:$C$5000,2,0))","v":""}]
[null,null,"",null,null,null,null,{"$f":"IF(G5553=\"\",\"\",VLOOKUP(G5553,'Lista de precios'!$B$7:$C$5000,2,0))","v":""}]
[null,null,"",null,null,null,null,{"$f":"IF(G5554=\"\",\"\",VLOOKUP(G5554,'Lista de precios'!$B$7:$C$5000,2,0))","v":""}]
[null,null,"",null,null,null,null,{"$f":"IF(G5555=\"\",\"\",VLOOKUP(G5555,'Lista de precios'!$B$7:$C$5000,2,0))","v":""}]
[null,null,"",null,null,null,null,{"$f":"IF(G5556=\"\",\"\",VLOOKUP(G5556,'Lista de precios'!$B$7:$C$5000,2,0))","v":""}]
[null,null,"",null,null,null,null,{"$f":"IF(G5557=\"\",\"\",VLOOKUP(G5557,'Lista de precios'!$B$7:$C$5000,2,0))","v":""}]
[null,null,"",null,null,null,null,{"$f":"IF(G5558=\"\",\"\",VLOOKUP(G5558,'Lista de precios'!$B$7:$C$5000,2,0))","v":""}]
[null,null,"",null,null,null,null,{"$f":"IF(G5559=\"\",\"\",VLOOKUP(G5559,'Lista de precios'!$B$7:$C$5000,2,0))","v":""}]
[null,null,"",null,null,null,null,{"$f":"IF(G5560=\"\",\"\",VLOOKUP(G5560,'Lista de precios'!$B$7:$C$5000,2,0))","v":""}]
[null,null,"",null,null,null,null,{"$f":"IF(G5561=\"\",\"\",VLOOKUP(G5561,'Lista de precios'!$B$7:$C$5000,2,0))","v":""}]
[null,null,"",null,null,null,null,{"$f":"IF(G5562=\"\",\"\",VLOOKUP(G5562,'Lista de precios'!$B$7:$C$5000,2,0))","v":""}]
[null,null,"",null,null,null,null,{"$f":"IF(G5563=\"\",\"\",VLOOKUP(G5563,'Lista de precios'!$B$7:$C$5000,2,0))","v":""}]
[null,null,"",null,null,null,null,{"$f":"IF(G5564=\"\",\"\",VLOOKUP(G5564,'Lista de precios'!$B$7:$C$5000,2,0))","v":""}]
[null,null,"",null,null,null,null,{"$f":"IF(G5565=\"\",\"\",VLOOKUP(G5565,'Lista de precios'!$B$7:$C$5000,2,0))","v":""}]
[null,null,"",null,null,null,null,{"$f":"IF(G5566=\"\",\"\",VLOOKUP(G5566,'Lista de precios'!$B$7:$C$5000,2,0))","v":""}]
[null,null,"",null,null,null,null,{"$f":"IF(G5567=\"\",\"\",VLOOKUP(G5567,'Lista de precios'!$B$7:$C$5000,2,0))","v":""}]
[null,null,"",null,null,null,null,{"$f":"IF(G5568=\"\",\"\",VLOOKUP(G5568,'Lista de precios'!$B$7:$C$5000,2,0))","v":""}]
[null,null,"",null,null,null,null,{"$f":"IF(G5569=\"\",\"\",VLOOKUP(G5569,'Lista de precios'!$B$7:$C$5000,2,0))","v":""}]
[null,null,"",null,null,null,null,{"$f":"IF(G5570=\"\",\"\",VLOOKUP(G5570,'Lista de precios'!$B$7:$C$5000,2,0))","v":""}]
[null,null,"",null,null,null,null,{"$f":"IF(G5571=\"\",\"\",VLOOKUP(G5571,'Lista de precios'!$B$7:$C$5000,2,0))","v":""}]
[null,null,"",null,null,null,null,{"$f":"IF(G5572=\"\",\"\",VLOOKUP(G5572,'Lista de precios'!$B$7:$C$5000,2,0))","v":""}]
[null,null,"",null,null,null,null,{"$f":"IF(G5573=\"\",\"\",VLOOKUP(G5573,'Lista de precios'!$B$7:$C$5000,2,0))","v":""}]
[null,null,"",null,null,null,null,{"$f":"IF(G5574=\"\",\"\",VLOOKUP(G5574,'Lista de precios'!$B$7:$C$5000,2,0))","v":""}]
[null,null,"",null,null,null,null,{"$f":"IF(G5575=\"\",\"\",VLOOKUP(G5575,'Lista de precios'!$B$7:$C$5000,2,0))","v":""}]
[null,null,"",null,null,null,null,{"$f":"IF(G5576=\"\",\"\",VLOOKUP(G5576,'Lista de precios'!$B$7:$C$5000,2,0))","v":""}]
[null,null,"",null,null,null,null,{"$f":"IF(G5577=\"\",\"\",VLOOKUP(G5577,'Lista de precios'!$B$7:$C$5000,2,0))","v":""}]
[null,null,"",null,null,null,null,{"$f":"IF(G5578=\"\",\"\",VLOOKUP(G5578,'Lista de precios'!$B$7:$C$5000,2,0))","v":""}]
[null,null,"",null,null,null,null,{"$f":"IF(G5579=\"\",\"\",VLOOKUP(G5579,'Lista de precios'!$B$7:$C$5000,2,0))","v":""}]
[null,null,{"$f":"IF(B5580=\"\",\"\",TEXT(B5580,\"Mmmm\"))","v":""},null,null,null,null,{"$f":"IF(G5580=\"\",\"\",VLOOKUP(G5580,'Lista de precios'!$B$7:$C$5000,2,0))","v":""}]
[null,null,"",null,null,null,null,{"$f":"IF(G5581=\"\",\"\",VLOOKUP(G5581,'Lista de precios'!$B$7:$C$5000,2,0))","v":""}]
[null,null,"",null,null,null,null,{"$f":"IF(G5582=\"\",\"\",VLOOKUP(G5582,'Lista de precios'!$B$7:$C$5000,2,0))","v":""}]
[null,null,"",null,null,null,null,{"$f":"IF(G5583=\"\",\"\",VLOOKUP(G5583,'Lista de precios'!$B$7:$C$5000,2,0))","v":""}]
[null,null,"",null,null,null,null,{"$f":"IF(G5584=\"\",\"\",VLOOKUP(G5584,'Lista de precios'!$B$7:$C$5000,2,0))","v":""}]
[null,null,"",null,null,null,null,{"$f":"IF(G5585=\"\",\"\",VLOOKUP(G5585,'Lista de precios'!$B$7:$C$5000,2,0))","v":""}]
[null,null,"",null,null,null,null,{"$f":"IF(G5586=\"\",\"\",VLOOKUP(G5586,'Lista de precios'!$B$7:$C$5000,2,0))","v":""}]
[null,null,"",null,null,null,null,{"$f":"IF(G5587=\"\",\"\",VLOOKUP(G5587,'Lista de precios'!$B$7:$C$5000,2,0))","v":""}]
[null,null,"",null,null,null,null,{"$f":"IF(G5588=\"\",\"\",VLOOKUP(G5588,'Lista de precios'!$B$7:$C$5000,2,0))","v":""}]
[null,null,"",null,null,null,null,{"$f":"IF(G5589=\"\",\"\",VLOOKUP(G5589,'Lista de precios'!$B$7:$C$5000,2,0))","v":""}]
[null,null,"",null,null,null,null,{"$f":"IF(G5590=\"\",\"\",VLOOKUP(G5590,'Lista de precios'!$B$7:$C$5000,2,0))","v":""}]
[null,null,"",null,null,null,null,{"$f":"IF(G5591=\"\",\"\",VLOOKUP(G5591,'Lista de precios'!$B$7:$C$5000,2,0))","v":""}]
[null,null,"",null,null,null,null,{"$f":"IF(G5592=\"\",\"\",VLOOKUP(G5592,'Lista de precios'!$B$7:$C$5000,2,0))","v":""}]
[null,null,"",null,null,null,null,{"$f":"IF(G5593=\"\",\"\",VLOOKUP(G5593,'Lista de precios'!$B$7:$C$5000,2,0))","v":""}]
[null,null,"",null,null,null,null,{"$f":"IF(G5594=\"\",\"\",VLOOKUP(G5594,'Lista de precios'!$B$7:$C$5000,2,0))","v":""}]
[null,null,"",null,null,null,null,{"$f":"IF(G5595=\"\",\"\",VLOOKUP(G5595,'Lista de precios'!$B$7:$C$5000,2,0))","v":""}]
[null,null,"",null,null,null,null,{"$f":"IF(G5596=\"\",\"\",VLOOKUP(G5596,'Lista de precios'!$B$7:$C$5000,2,0))","v":""}]
[null,null,"",null,null,null,null,{"$f":"IF(G5597=\"\",\"\",VLOOKUP(G5597,'Lista de precios'!$B$7:$C$5000,2,0))","v":""}]
[null,null,"",null,null,null,null,{"$f":"IF(G5598=\"\",\"\",VLOOKUP(G5598,'Lista de precios'!$B$7:$C$5000,2,0))","v":""}]
[null,null,"",null,null,null,null,{"$f":"IF(G5599=\"\",\"\",VLOOKUP(G5599,'Lista de precios'!$B$7:$C$5000,2,0))","v":""}]
[null,null,"",null,null,null,null,{"$f":"IF(G5600=\"\",\"\",VLOOKUP(G5600,'Lista de precios'!$B$7:$C$5000,2,0))","v":""}]
[null,null,"",null,null,null,null,{"$f":"IF(G5601=\"\",\"\",VLOOKUP(G5601,'Lista de precios'!$B$7:$C$5000,2,0))","v":""}]
[null,null,"",null,null,null,null,{"$f":"IF(G5602=\"\",\"\",VLOOKUP(G5602,'Lista de precios'!$B$7:$C$5000,2,0))","v":""}]
[null,null,"",null,null,null,null,{"$f":"IF(G5603=\"\",\"\",VLOOKUP(G5603,'Lista de precios'!$B$7:$C$5000,2,0))","v":""}]
[null,null,"",null,null,null,null,{"$f":"IF(G5604=\"\",\"\",VLOOKUP(G5604,'Lista de precios'!$B$7:$C$5000,2,0))","v":""}]
[null,null,"",null,null,null,null,{"$f":"IF(G5605=\"\",\"\",VLOOKUP(G5605,'Lista de precios'!$B$7:$C$5000,2,0))","v":""}]
[null,null,"",null,null,null,null,{"$f":"IF(G5606=\"\",\"\",VLOOKUP(G5606,'Lista de precios'!$B$7:$C$5000,2,0))","v":""}]
[null,null,"",null,null,null,null,{"$f":"IF(G5607=\"\",\"\",VLOOKUP(G5607,'Lista de precios'!$B$7:$C$5000,2,0))","v":""}]
[null,null,"",null,null,null,null,{"$f":"IF(G5608=\"\",\"\",VLOOKUP(G5608,'Lista de precios'!$B$7:$C$5000,2,0))","v":""}]
[null,null,"",null,null,null,null,{"$f":"IF(G5609=\"\",\"\",VLOOKUP(G5609,'Lista de precios'!$B$7:$C$5000,2,0))","v":""}]
[null,null,"",null,null,null,null,{"$f":"IF(G5610=\"\",\"\",VLOOKUP(G5610,'Lista de precios'!$B$7:$C$5000,2,0))","v":""}]
[null,null,"",null,null,null,null,{"$f":"IF(G5611=\"\",\"\",VLOOKUP(G5611,'Lista de precios'!$B$7:$C$5000,2,0))","v":""}]
[null,null,"",null,null,null,null,{"$f":"IF(G5612=\"\",\"\",VLOOKUP(G5612,'Lista de precios'!$B$7:$C$5000,2,0))","v":""}]
[null,null,"",null,null,null,null,{"$f":"IF(G5613=\"\",\"\",VLOOKUP(G5613,'Lista de precios'!$B$7:$C$5000,2,0))","v":""}]
[null,null,"",null,null,null,null,{"$f":"IF(G5614=\"\",\"\",VLOOKUP(G5614,'Lista de precios'!$B$7:$C$5000,2,0))","v":""}]
[null,null,"",null,null,null,null,{"$f":"IF(G5615=\"\",\"\",VLOOKUP(G5615,'Lista de precios'!$B$7:$C$5000,2,0))","v":""}]
[null,null,"",null,null,null,null,{"$f":"IF(G5616=\"\",\"\",VLOOKUP(G5616,'Lista de precios'!$B$7:$C$5000,2,0))","v":""}]
[null,null,"",null,null,null,null,{"$f":"IF(G5617=\"\",\"\",VLOOKUP(G5617,'Lista de precios'!$B$7:$C$5000,2,0))","v":""}]
[null,null,"",null,null,null,null,{"$f":"IF(G5618=\"\",\"\",VLOOKUP(G5618,'Lista de precios'!$B$7:$C$5000,2,0))","v":""}]
[null,null,"",null,null,null,null,{"$f":"IF(G5619=\"\",\"\",VLOOKUP(G5619,'Lista de precios'!$B$7:$C$5000,2,0))","v":""}]
[null,null,"",null,null,null,null,{"$f":"IF(G5620=\"\",\"\",VLOOKUP(G5620,'Lista de precios'!$B$7:$C$5000,2,0))","v":""}]
[null,null,"",null,null,null,null,{"$f":"IF(G5621=\"\",\"\",VLOOKUP(G5621,'Lista de precios'!$B$7:$C$5000,2,0))","v":""}]
[null,null,"",null,null,null,null,{"$f":"IF(G5622=\"\",\"\",VLOOKUP(G5622,'Lista de precios'!$B$7:$C$5000,2,0))","v":""}]
[null,null,"",null,null,null,null,{"$f":"IF(G5623=\"\",\"\",VLOOKUP(G5623,'Lista de precios'!$B$7:$C$5000,2,0))","v":""}]
[null,null,"",null,null,null,null,{"$f":"IF(G5624=\"\",\"\",VLOOKUP(G5624,'Lista de precios'!$B$7:$C$5000,2,0))","v":""}]
[null,null,"",null,null,null,null,{"$f":"IF(G5625=\"\",\"\",VLOOKUP(G5625,'Lista de precios'!$B$7:$C$5000,2,0))","v":""}]
[null,null,"",null,null,null,null,{"$f":"IF(G5626=\"\",\"\",VLOOKUP(G5626,'Lista de precios'!$B$7:$C$5000,2,0))","v":""}]
[null,null,"",null,null,null,null,{"$f":"IF(G5627=\"\",\"\",VLOOKUP(G5627,'Lista de precios'!$B$7:$C$5000,2,0))","v":""}]
[null,null,"",null,null,null,null,{"$f":"IF(G5628=\"\",\"\",VLOOKUP(G5628,'Lista de precios'!$B$7:$C$5000,2,0))","v":""}]
[null,null,"",null,null,null,null,{"$f":"IF(G5629=\"\",\"\",VLOOKUP(G5629,'Lista de precios'!$B$7:$C$5000,2,0))","v":""}]
[null,null,"",null,null,null,null,{"$f":"IF(G5630=\"\",\"\",VLOOKUP(G5630,'Lista de precios'!$B$7:$C$5000,2,0))","v":""}]
[null,null,"",null,null,null,null,{"$f":"IF(G5631=\"\",\"\",VLOOKUP(G5631,'Lista de precios'!$B$7:$C$5000,2,0))","v":""}]
[null,null,"",null,null,null,null,{"$f":"IF(G5632=\"\",\"\",VLOOKUP(G5632,'Lista de precios'!$B$7:$C$5000,2,0))","v":""}]
[null,null,"",null,null,null,null,{"$f":"IF(G5633=\"\",\"\",VLOOKUP(G5633,'Lista de precios'!$B$7:$C$5000,2,0))","v":""}]
[null,null,"",null,null,null,null,{"$f":"IF(G5634=\"\",\"\",VLOOKUP(G5634,'Lista de precios'!$B$7:$C$5000,2,0))","v":""}]
[null,null,"",null,null,null,null,{"$f":"IF(G5635=\"\",\"\",VLOOKUP(G5635,'Lista de precios'!$B$7:$C$5000,2,0))","v":""}]
[null,null,"",null,null,null,null,{"$f":"IF(G5636=\"\",\"\",VLOOKUP(G5636,'Lista de precios'!$B$7:$C$5000,2,0))","v":""}]
[null,null,"",null,null,null,null,{"$f":"IF(G5637=\"\",\"\",VLOOKUP(G5637,'Lista de precios'!$B$7:$C$5000,2,0))","v":""}]
[null,null,"",null,null,null,null,{"$f":"IF(G5638=\"\",\"\",VLOOKUP(G5638,'Lista de precios'!$B$7:$C$5000,2,0))","v":""}]
[null,null,"",null,null,null,null,{"$f":"IF(G5639=\"\",\"\",VLOOKUP(G5639,'Lista de precios'!$B$7:$C$5000,2,0))","v":""}]
[null,null,"",null,null,null,null,{"$f":"IF(G5640=\"\",\"\",VLOOKUP(G5640,'Lista de precios'!$B$7:$C$5000,2,0))","v":""}]
[null,null,"",null,null,null,null,{"$f":"IF(G5641=\"\",\"\",VLOOKUP(G5641,'Lista de precios'!$B$7:$C$5000,2,0))","v":""}]
[null,null,"",null,null,null,null,{"$f":"IF(G5642=\"\",\"\",VLOOKUP(G5642,'Lista de precios'!$B$7:$C$5000,2,0))","v":""}]
[null,null,"",null,null,null,null,{"$f":"IF(G5643=\"\",\"\",VLOOKUP(G5643,'Lista de precios'!$B$7:$C$5000,2,0))","v":""}]
[null,null,{"$f":"IF(B5644=\"\",\"\",TEXT(B5644,\"Mmmm\"))","v":""},null,null,null,null,{"$f":"IF(G5644=\"\",\"\",VLOOKUP(G5644,'Lista de precios'!$B$7:$C$5000,2,0))","v":""}]
[null,null,"",null,null,null,null,{"$f":"IF(G5645=\"\",\"\",VLOOKUP(G5645,'Lista de precios'!$B$7:$C$5000,2,0))","v":""}]
[null,null,"",null,null,null,null,{"$f":"IF(G5646=\"\",\"\",VLOOKUP(G5646,'Lista de precios'!$B$7:$C$5000,2,0))","v":""}]
[null,null,"",null,null,null,null,{"$f":"IF(G5647=\"\",\"\",VLOOKUP(G5647,'Lista de precios'!$B$7:$C$5000,2,0))","v":""}]
[null,null,"",null,null,null,null,{"$f":"IF(G5648=\"\",\"\",VLOOKUP(G5648,'Lista de precios'!$B$7:$C$5000,2,0))","v":""}]
[null,null,"",null,null,null,null,{"$f":"IF(G5649=\"\",\"\",VLOOKUP(G5649,'Lista de precios'!$B$7:$C$5000,2,0))","v":""}]
[null,null,"",null,null,null,null,{"$f":"IF(G5650=\"\",\"\",VLOOKUP(G5650,'Lista de precios'!$B$7:$C$5000,2,0))","v":""}]
[null,null,"",null,null,null,null,{"$f":"IF(G5651=\"\",\"\",VLOOKUP(G5651,'Lista de precios'!$B$7:$C$5000,2,0))","v":""}]
[null,null,"",null,null,null,null,{"$f":"IF(G5652=\"\",\"\",VLOOKUP(G5652,'Lista de precios'!$B$7:$C$5000,2,0))","v":""}]
[null,null,"",null,null,null,null,{"$f":"IF(G5653=\"\",\"\",VLOOKUP(G5653,'Lista de precios'!$B$7:$C$5000,2,0))","v":""}]
[null,null,"",null,null,null,null,{"$f":"IF(G5654=\"\",\"\",VLOOKUP(G5654,'Lista de precios'!$B$7:$C$5000,2,0))","v":""}]
[null,null,"",null,null,null,null,{"$f":"IF(G5655=\"\",\"\",VLOOKUP(G5655,'Lista de precios'!$B$7:$C$5000,2,0))","v":""}]
[null,null,"",null,null,null,null,{"$f":"IF(G5656=\"\",\"\",VLOOKUP(G5656,'Lista de precios'!$B$7:$C$5000,2,0))","v":""}]
[null,null,"",null,null,null,null,{"$f":"IF(G5657=\"\",\"\",VLOOKUP(G5657,'Lista de precios'!$B$7:$C$5000,2,0))","v":""}]
[null,null,"",null,null,null,null,{"$f":"IF(G5658=\"\",\"\",VLOOKUP(G5658,'Lista de precios'!$B$7:$C$5000,2,0))","v":""}]
[null,null,"",null,null,null,null,{"$f":"IF(G5659=\"\",\"\",VLOOKUP(G5659,'Lista de precios'!$B$7:$C$5000,2,0))","v":""}]
[null,null,"",null,null,null,null,{"$f":"IF(G5660=\"\",\"\",VLOOKUP(G5660,'Lista de precios'!$B$7:$C$5000,2,0))","v":""}]
[null,null,"",null,null,null,null,{"$f":"IF(G5661=\"\",\"\",VLOOKUP(G5661,'Lista de precios'!$B$7:$C$5000,2,0))","v":""}]
[null,null,"",null,null,null,null,{"$f":"IF(G5662=\"\",\"\",VLOOKUP(G5662,'Lista de precios'!$B$7:$C$5000,2,0))","v":""}]
[null,null,"",null,null,null,null,{"$f":"IF(G5663=\"\",\"\",VLOOKUP(G5663,'Lista de precios'!$B$7:$C$5000,2,0))","v":""}]
[null,null,"",null,null,null,null,{"$f":"IF(G5664=\"\",\"\",VLOOKUP(G5664,'Lista de precios'!$B$7:$C$5000,2,0))","v":""}]
[null,null,"",null,null,null,null,{"$f":"IF(G5665=\"\",\"\",VLOOKUP(G5665,'Lista de precios'!$B$7:$C$5000,2,0))","v":""}]
[null,null,"",null,null,null,null,{"$f":"IF(G5666=\"\",\"\",VLOOKUP(G5666,'Lista de precios'!$B$7:$C$5000,2,0))","v":""}]
[null,null,"",null,null,null,null,{"$f":"IF(G5667=\"\",\"\",VLOOKUP(G5667,'Lista de precios'!$B$7:$C$5000,2,0))","v":""}]
[null,null,"",null,null,null,null,{"$f":"IF(G5668=\"\",\"\",VLOOKUP(G5668,'Lista de precios'!$B$7:$C$5000,2,0))","v":""}]
[null,null,"",null,null,null,null,{"$f":"IF(G5669=\"\",\"\",VLOOKUP(G5669,'Lista de precios'!$B$7:$C$5000,2,0))","v":""}]
[null,null,"",null,null,null,null,{"$f":"IF(G5670=\"\",\"\",VLOOKUP(G5670,'Lista de precios'!$B$7:$C$5000,2,0))","v":""}]
[null,null,"",null,null,null,null,{"$f":"IF(G5671=\"\",\"\",VLOOKUP(G5671,'Lista de precios'!$B$7:$C$5000,2,0))","v":""}]
[null,null,"",null,null,null,null,{"$f":"IF(G5672=\"\",\"\",VLOOKUP(G5672,'Lista de precios'!$B$7:$C$5000,2,0))","v":""}]
[null,null,"",null,null,null,null,{"$f":"IF(G5673=\"\",\"\",VLOOKUP(G5673,'Lista de precios'!$B$7:$C$5000,2,0))","v":""}]
[null,null,"",null,null,null,null,{"$f":"IF(G5674=\"\",\"\",VLOOKUP(G5674,'Lista de precios'!$B$7:$C$5000,2,0))","v":""}]
[null,null,"",null,null,null,null,{"$f":"IF(G5675=\"\",\"\",VLOOKUP(G5675,'Lista de precios'!$B$7:$C$5000,2,0))","v":""}]
[null,null,"",null,null,null,null,{"$f":"IF(G5676=\"\",\"\",VLOOKUP(G5676,'Lista de precios'!$B$7:$C$5000,2,0))","v":""}]
[null,null,"",null,null,null,null,{"$f":"IF(G5677=\"\",\"\",VLOOKUP(G5677,'Lista de precios'!$B$7:$C$5000,2,0))","v":""}]
[null,null,"",null,null,null,null,{"$f":"IF(G5678=\"\",\"\",VLOOKUP(G5678,'Lista de precios'!$B$7:$C$5000,2,0))","v":""}]
[null,null,"",null,null,null,null,{"$f":"IF(G5679=\"\",\"\",VLOOKUP(G5679,'Lista de precios'!$B$7:$C$5000,2,0))","v":""}]
[null,null,"",null,null,null,null,{"$f":"IF(G5680=\"\",\"\",VLOOKUP(G5680,'Lista de precios'!$B$7:$C$5000,2,0))","v":""}]
[null,null,"",null,null,null,null,{"$f":"IF(G5681=\"\",\"\",VLOOKUP(G5681,'Lista de precios'!$B$7:$C$5000,2,0))","v":""}]
[null,null,"",null,null,null,null,{"$f":"IF(G5682=\"\",\"\",VLOOKUP(G5682,'Lista de precios'!$B$7:$C$5000,2,0))","v":""}]
[null,null,"",null,null,null,null,{"$f":"IF(G5683=\"\",\"\",VLOOKUP(G5683,'Lista de precios'!$B$7:$C$5000,2,0))","v":""}]
[null,null,"",null,null,null,null,{"$f":"IF(G5684=\"\",\"\",VLOOKUP(G5684,'Lista de precios'!$B$7:$C$5000,2,0))","v":""}]
[null,null,"",null,null,null,null,{"$f":"IF(G5685=\"\",\"\",VLOOKUP(G5685,'Lista de precios'!$B$7:$C$5000,2,0))","v":""}]
[null,null,"",null,null,null,null,{"$f":"IF(G5686=\"\",\"\",VLOOKUP(G5686,'Lista de precios'!$B$7:$C$5000,2,0))","v":""}]
[null,null,"",null,null,null,null,{"$f":"IF(G5687=\"\",\"\",VLOOKUP(G5687,'Lista de precios'!$B$7:$C$5000,2,0))","v":""}]
[null,null,"",null,null,null,null,{"$f":"IF(G5688=\"\",\"\",VLOOKUP(G5688,'Lista de precios'!$B$7:$C$5000,2,0))","v":""}]
[null,null,"",null,null,null,null,{"$f":"IF(G5689=\"\",\"\",VLOOKUP(G5689,'Lista de precios'!$B$7:$C$5000,2,0))","v":""}]
[null,null,"",null,null,null,null,{"$f":"IF(G5690=\"\",\"\",VLOOKUP(G5690,'Lista de precios'!$B$7:$C$5000,2,0))","v":""}]
[null,null,"",null,null,null,null,{"$f":"IF(G5691=\"\",\"\",VLOOKUP(G5691,'Lista de precios'!$B$7:$C$5000,2,0))","v":""}]
[null,null,"",null,null,null,null,{"$f":"IF(G5692=\"\",\"\",VLOOKUP(G5692,'Lista de precios'!$B$7:$C$5000,2,0))","v":""}]
[null,null,"",null,null,null,null,{"$f":"IF(G5693=\"\",\"\",VLOOKUP(G5693,'Lista de precios'!$B$7:$C$5000,2,0))","v":""}]
[null,null,"",null,null,null,null,{"$f":"IF(G5694=\"\",\"\",VLOOKUP(G5694,'Lista de precios'!$B$7:$C$5000,2,0))","v":""}]
[null,null,"",null,null,null,null,{"$f":"IF(G5695=\"\",\"\",VLOOKUP(G5695,'Lista de precios'!$B$7:$C$5000,2,0))","v":""}]
[null,null,"",null,null,null,null,{"$f":"IF(G5696=\"\",\"\",VLOOKUP(G5696,'Lista de precios'!$B$7:$C$5000,2,0))","v":""}]
[null,null,"",null,null,null,null,{"$f":"IF(G5697=\"\",\"\",VLOOKUP(G5697,'Lista de precios'!$B$7:$C$5000,2,0))","v":""}]
[null,null,"",null,null,null,null,{"$f":"IF(G5698=\"\",\"\",VLOOKUP(G5698,'Lista de precios'!$B$7:$C$5000,2,0))","v":""}]
[null,null,"",null,null,null,null,{"$f":"IF(G5699=\"\",\"\",VLOOKUP(G5699,'Lista de precios'!$B$7:$C$5000,2,0))","v":""}]
[null,null,"",null,null,null,null,{"$f":"IF(G5700=\"\",\"\",VLOOKUP(G5700,'Lista de precios'!$B$7:$C$5000,2,0))","v":""}]
[null,null,"",null,null,null,null,{"$f":"IF(G5701=\"\",\"\",VLOOKUP(G5701,'Lista de precios'!$B$7:$C$5000,2,0))","v":""}]
[null,null,"",null,null,null,null,{"$f":"IF(G5702=\"\",\"\",VLOOKUP(G5702,'Lista de precios'!$B$7:$C$5000,2,0))","v":""}]
[null,null,"",null,null,null,null,{"$f":"IF(G5703=\"\",\"\",VLOOKUP(G5703,'Lista de precios'!$B$7:$C$5000,2,0))","v":""}]
[null,null,"",null,null,null,null,{"$f":"IF(G5704=\"\",\"\",VLOOKUP(G5704,'Lista de precios'!$B$7:$C$5000,2,0))","v":""}]
[null,null,"",null,null,null,null,{"$f":"IF(G5705=\"\",\"\",VLOOKUP(G5705,'Lista de precios'!$B$7:$C$5000,2,0))","v":""}]
[null,null,"",null,null,null,null,{"$f":"IF(G5706=\"\",\"\",VLOOKUP(G5706,'Lista de precios'!$B$7:$C$5000,2,0))","v":""}]
[null,null,"",null,null,null,null,{"$f":"IF(G5707=\"\",\"\",VLOOKUP(G5707,'Lista de precios'!$B$7:$C$5000,2,0))","v":""}]
[null,null,{"$f":"IF(B5708=\"\",\"\",TEXT(B5708,\"Mmmm\"))","v":""},null,null,null,null,{"$f":"IF(G5708=\"\",\"\",VLOOKUP(G5708,'Lista de precios'!$B$7:$C$5000,2,0))","v":""}]
[null,null,"",null,null,null,null,{"$f":"IF(G5709=\"\",\"\",VLOOKUP(G5709,'Lista de precios'!$B$7:$C$5000,2,0))","v":""}]
[null,null,"",null,null,null,null,{"$f":"IF(G5710=\"\",\"\",VLOOKUP(G5710,'Lista de precios'!$B$7:$C$5000,2,0))","v":""}]
[null,null,"",null,null,null,null,{"$f":"IF(G5711=\"\",\"\",VLOOKUP(G5711,'Lista de precios'!$B$7:$C$5000,2,0))","v":""}]
[null,null,"",null,null,null,null,{"$f":"IF(G5712=\"\",\"\",VLOOKUP(G5712,'Lista de precios'!$B$7:$C$5000,2,0))","v":""}]
[null,null,"",null,null,null,null,{"$f":"IF(G5713=\"\",\"\",VLOOKUP(G5713,'Lista de precios'!$B$7:$C$5000,2,0))","v":""}]
[null,null,"",null,null,null,null,{"$f":"IF(G5714=\"\",\"\",VLOOKUP(G5714,'Lista de precios'!$B$7:$C$5000,2,0))","v":""}]
[null,null,"",null,null,null,null,{"$f":"IF(G5715=\"\",\"\",VLOOKUP(G5715,'Lista de precios'!$B$7:$C$5000,2,0))","v":""}]
[null,null,"",null,null,null,null,{"$f":"IF(G5716=\"\",\"\",VLOOKUP(G5716,'Lista de precios'!$B$7:$C$5000,2,0))","v":""}]
[null,null,"",null,null,null,null,{"$f":"IF(G5717=\"\",\"\",VLOOKUP(G5717,'Lista de precios'!$B$7:$C$5000,2,0))","v":""}]
[null,null,"",null,null,null,null,{"$f":"IF(G5718=\"\",\"\",VLOOKUP(G5718,'Lista de precios'!$B$7:$C$5000,2,0))","v":""}]
[null,null,"",null,null,null,null,{"$f":"IF(G5719=\"\",\"\",VLOOKUP(G5719,'Lista de precios'!$B$7:$C$5000,2,0))","v":""}]
[null,null,"",null,null,null,null,{"$f":"IF(G5720=\"\",\"\",VLOOKUP(G5720,'Lista de precios'!$B$7:$C$5000,2,0))","v":""}]
[null,null,"",null,null,null,null,{"$f":"IF(G5721=\"\",\"\",VLOOKUP(G5721,'Lista de precios'!$B$7:$C$5000,2,0))","v":""}]
[null,null,"",null,null,null,null,{"$f":"IF(G5722=\"\",\"\",VLOOKUP(G5722,'Lista de precios'!$B$7:$C$5000,2,0))","v":""}]
[null,null,"",null,null,null,null,{"$f":"IF(G5723=\"\",\"\",VLOOKUP(G5723,'Lista de precios'!$B$7:$C$5000,2,0))","v":""}]
[null,null,"",null,null,null,null,{"$f":"IF(G5724=\"\",\"\",VLOOKUP(G5724,'Lista de precios'!$B$7:$C$5000,2,0))","v":""}]
[null,null,"",null,null,null,null,{"$f":"IF(G5725=\"\",\"\",VLOOKUP(G5725,'Lista de precios'!$B$7:$C$5000,2,0))","v":""}]
[null,null,"",null,null,null,null,{"$f":"IF(G5726=\"\",\"\",VLOOKUP(G5726,'Lista de precios'!$B$7:$C$5000,2,0))","v":""}]
[null,null,"",null,null,null,null,{"$f":"IF(G5727=\"\",\"\",VLOOKUP(G5727,'Lista de precios'!$B$7:$C$5000,2,0))","v":""}]
[null,null,"",null,null,null,null,{"$f":"IF(G5728=\"\",\"\",VLOOKUP(G5728,'Lista de precios'!$B$7:$C$5000,2,0))","v":""}]
[null,null,"",null,null,null,null,{"$f":"IF(G5729=\"\",\"\",VLOOKUP(G5729,'Lista de precios'!$B$7:$C$5000,2,0))","v":""}]
[null,null,"",null,null,null,null,{"$f":"IF(G5730=\"\",\"\",VLOOKUP(G5730,'Lista de precios'!$B$7:$C$5000,2,0))","v":""}]
[null,null,"",null,null,null,null,{"$f":"IF(G5731=\"\",\"\",VLOOKUP(G5731,'Lista de precios'!$B$7:$C$5000,2,0))","v":""}]
[null,null,"",null,null,null,null,{"$f":"IF(G5732=\"\",\"\",VLOOKUP(G5732,'Lista de precios'!$B$7:$C$5000,2,0))","v":""}]
[null,null,"",null,null,null,null,{"$f":"IF(G5733=\"\",\"\",VLOOKUP(G5733,'Lista de precios'!$B$7:$C$5000,2,0))","v":""}]
[null,null,"",null,null,null,null,{"$f":"IF(G5734=\"\",\"\",VLOOKUP(G5734,'Lista de precios'!$B$7:$C$5000,2,0))","v":""}]
[null,null,"",null,null,null,null,{"$f":"IF(G5735=\"\",\"\",VLOOKUP(G5735,'Lista de precios'!$B$7:$C$5000,2,0))","v":""}]
[null,null,"",null,null,null,null,{"$f":"IF(G5736=\"\",\"\",VLOOKUP(G5736,'Lista de precios'!$B$7:$C$5000,2,0))","v":""}]
[null,null,"",null,null,null,null,{"$f":"IF(G5737=\"\",\"\",VLOOKUP(G5737,'Lista de precios'!$B$7:$C$5000,2,0))","v":""}]
[null,null,"",null,null,null,null,{"$f":"IF(G5738=\"\",\"\",VLOOKUP(G5738,'Lista de precios'!$B$7:$C$5000,2,0))","v":""}]
[null,null,"",null,null,null,null,{"$f":"IF(G5739=\"\",\"\",VLOOKUP(G5739,'Lista de precios'!$B$7:$C$5000,2,0))","v":""}]
[null,null,"",null,null,null,null,{"$f":"IF(G5740=\"\",\"\",VLOOKUP(G5740,'Lista de precios'!$B$7:$C$5000,2,0))","v":""}]
[null,null,"",null,null,null,null,{"$f":"IF(G5741=\"\",\"\",VLOOKUP(G5741,'Lista de precios'!$B$7:$C$5000,2,0))","v":""}]
[null,null,"",null,null,null,null,{"$f":"IF(G5742=\"\",\"\",VLOOKUP(G5742,'Lista de precios'!$B$7:$C$5000,2,0))","v":""}]
[null,null,"",null,null,null,null,{"$f":"IF(G5743=\"\",\"\",VLOOKUP(G5743,'Lista de precios'!$B$7:$C$5000,2,0))","v":""}]
[null,null,"",null,null,null,null,{"$f":"IF(G5744=\"\",\"\",VLOOKUP(G5744,'Lista de precios'!$B$7:$C$5000,2,0))","v":""}]
[null,null,"",null,null,null,null,{"$f":"IF(G5745=\"\",\"\",VLOOKUP(G5745,'Lista de precios'!$B$7:$C$5000,2,0))","v":""}]
[null,null,"",null,null,null,null,{"$f":"IF(G5746=\"\",\"\",VLOOKUP(G5746,'Lista de precios'!$B$7:$C$5000,2,0))","v":""}]
[null,null,"",null,null,null,null,{"$f":"IF(G5747=\"\",\"\",VLOOKUP(G5747,'Lista de precios'!$B$7:$C$5000,2,0))","v":""}]
[null,null,"",null,null,null,null,{"$f":"IF(G5748=\"\",\"\",VLOOKUP(G5748,'Lista de precios'!$B$7:$C$5000,2,0))","v":""}]
[null,null,"",null,null,null,null,{"$f":"IF(G5749=\"\",\"\",VLOOKUP(G5749,'Lista de precios'!$B$7:$C$5000,2,0))","v":""}]
[null,null,"",null,null,null,null,{"$f":"IF(G5750=\"\",\"\",VLOOKUP(G5750,'Lista de precios'!$B$7:$C$5000,2,0))","v":""}]
[null,null,"",null,null,null,null,{"$f":"IF(G5751=\"\",\"\",VLOOKUP(G5751,'Lista de precios'!$B$7:$C$5000,2,0))","v":""}]
[null,null,"",null,null,null,null,{"$f":"IF(G5752=\"\",\"\",VLOOKUP(G5752,'Lista de precios'!$B$7:$C$5000,2,0))","v":""}]
[null,null,"",null,null,null,null,{"$f":"IF(G5753=\"\",\"\",VLOOKUP(G5753,'Lista de precios'!$B$7:$C$5000,2,0))","v":""}]
[null,null,"",null,null,null,null,{"$f":"IF(G5754=\"\",\"\",VLOOKUP(G5754,'Lista de precios'!$B$7:$C$5000,2,0))","v":""}]
[null,null,"",null,null,null,null,{"$f":"IF(G5755=\"\",\"\",VLOOKUP(G5755,'Lista de precios'!$B$7:$C$5000,2,0))","v":""}]
[null,null,"",null,null,null,null,{"$f":"IF(G5756=\"\",\"\",VLOOKUP(G5756,'Lista de precios'!$B$7:$C$5000,2,0))","v":""}]
[null,null,"",null,null,null,null,{"$f":"IF(G5757=\"\",\"\",VLOOKUP(G5757,'Lista de precios'!$B$7:$C$5000,2,0))","v":""}]
[null,null,"",null,null,null,null,{"$f":"IF(G5758=\"\",\"\",VLOOKUP(G5758,'Lista de precios'!$B$7:$C$5000,2,0))","v":""}]
[null,null,"",null,null,null,null,{"$f":"IF(G5759=\"\",\"\",VLOOKUP(G5759,'Lista de precios'!$B$7:$C$5000,2,0))","v":""}]
[null,null,"",null,null,null,null,{"$f":"IF(G5760=\"\",\"\",VLOOKUP(G5760,'Lista de precios'!$B$7:$C$5000,2,0))","v":""}]
[null,null,"",null,null,null,null,{"$f":"IF(G5761=\"\",\"\",VLOOKUP(G5761,'Lista de precios'!$B$7:$C$5000,2,0))","v":""}]
[null,null,"",null,null,null,null,{"$f":"IF(G5762=\"\",\"\",VLOOKUP(G5762,'Lista de precios'!$B$7:$C$5000,2,0))","v":""}]
[null,null,"",null,null,null,null,{"$f":"IF(G5763=\"\",\"\",VLOOKUP(G5763,'Lista de precios'!$B$7:$C$5000,2,0))","v":""}]
[null,null,"",null,null,null,null,{"$f":"IF(G5764=\"\",\"\",VLOOKUP(G5764,'Lista de precios'!$B$7:$C$5000,2,0))","v":""}]
[null,null,"",null,null,null,null,{"$f":"IF(G5765=\"\",\"\",VLOOKUP(G5765,'Lista de precios'!$B$7:$C$5000,2,0))","v":""}]
[null,null,"",null,null,null,null,{"$f":"IF(G5766=\"\",\"\",VLOOKUP(G5766,'Lista de precios'!$B$7:$C$5000,2,0))","v":""}]
[null,null,"",null,null,null,null,{"$f":"IF(G5767=\"\",\"\",VLOOKUP(G5767,'Lista de precios'!$B$7:$C$5000,2,0))","v":""}]
[null,null,"",null,null,null,null,{"$f":"IF(G5768=\"\",\"\",VLOOKUP(G5768,'Lista de precios'!$B$7:$C$5000,2,0))","v":""}]
[null,null,"",null,null,null,null,{"$f":"IF(G5769=\"\",\"\",VLOOKUP(G5769,'Lista de precios'!$B$7:$C$5000,2,0))","v":""}]
[null,null,"",null,null,null,null,{"$f":"IF(G5770=\"\",\"\",VLOOKUP(G5770,'Lista de precios'!$B$7:$C$5000,2,0))","v":""}]
[null,null,"",null,null,null,null,{"$f":"IF(G5771=\"\",\"\",VLOOKUP(G5771,'Lista de precios'!$B$7:$C$5000,2,0))","v":""}]
[null,null,{"$f":"IF(B5772=\"\",\"\",TEXT(B5772,\"Mmmm\"))","v":""},null,null,null,null,{"$f":"IF(G5772=\"\",\"\",VLOOKUP(G5772,'Lista de precios'!$B$7:$C$5000,2,0))","v":""}]
[null,null,"",null,null,null,null,{"$f":"IF(G5773=\"\",\"\",VLOOKUP(G5773,'Lista de precios'!$B$7:$C$5000,2,0))","v":""}]
[null,null,"",null,null,null,null,{"$f":"IF(G5774=\"\",\"\",VLOOKUP(G5774,'Lista de precios'!$B$7:$C$5000,2,0))","v":""}]
[null,null,"",null,null,null,null,{"$f":"IF(G5775=\"\",\"\",VLOOKUP(G5775,'Lista de precios'!$B$7:$C$5000,2,0))","v":""}]
[null,null,"",null,null,null,null,{"$f":"IF(G5776=\"\",\"\",VLOOKUP(G5776,'Lista de precios'!$B$7:$C$5000,2,0))","v":""}]
[null,null,"",null,null,null,null,{"$f":"IF(G5777=\"\",\"\",VLOOKUP(G5777,'Lista de precios'!$B$7:$C$5000,2,0))","v":""}]
[null,null,"",null,null,null,null,{"$f":"IF(G5778=\"\",\"\",VLOOKUP(G5778,'Lista de precios'!$B$7:$C$5000,2,0))","v":""}]
[null,null,"",null,null,null,null,{"$f":"IF(G5779=\"\",\"\",VLOOKUP(G5779,'Lista de precios'!$B$7:$C$5000,2,0))","v":""}]
[null,null,"",null,null,null,null,{"$f":"IF(G5780=\"\",\"\",VLOOKUP(G5780,'Lista de precios'!$B$7:$C$5000,2,0))","v":""}]
[null,null,"",null,null,null,null,{"$f":"IF(G5781=\"\",\"\",VLOOKUP(G5781,'Lista de precios'!$B$7:$C$5000,2,0))","v":""}]
[null,null,"",null,null,null,null,{"$f":"IF(G5782=\"\",\"\",VLOOKUP(G5782,'Lista de precios'!$B$7:$C$5000,2,0))","v":""}]
[null,null,"",null,null,null,null,{"$f":"IF(G5783=\"\",\"\",VLOOKUP(G5783,'Lista de precios'!$B$7:$C$5000,2,0))","v":""}]
[null,null,"",null,null,null,null,{"$f":"IF(G5784=\"\",\"\",VLOOKUP(G5784,'Lista de precios'!$B$7:$C$5000,2,0))","v":""}]
[null,null,"",null,null,null,null,{"$f":"IF(G5785=\"\",\"\",VLOOKUP(G5785,'Lista de precios'!$B$7:$C$5000,2,0))","v":""}]
[null,null,"",null,null,null,null,{"$f":"IF(G5786=\"\",\"\",VLOOKUP(G5786,'Lista de precios'!$B$7:$C$5000,2,0))","v":""}]
[null,null,"",null,null,null,null,{"$f":"IF(G5787=\"\",\"\",VLOOKUP(G5787,'Lista de precios'!$B$7:$C$5000,2,0))","v":""}]
[null,null,"",null,null,null,null,{"$f":"IF(G5788=\"\",\"\",VLOOKUP(G5788,'Lista de precios'!$B$7:$C$5000,2,0))","v":""}]
[null,null,"",null,null,null,null,{"$f":"IF(G5789=\"\",\"\",VLOOKUP(G5789,'Lista de precios'!$B$7:$C$5000,2,0))","v":""}]
[null,null,"",null,null,null,null,{"$f":"IF(G5790=\"\",\"\",VLOOKUP(G5790,'Lista de precios'!$B$7:$C$5000,2,0))","v":""}]
[null,null,"",null,null,null,null,{"$f":"IF(G5791=\"\",\"\",VLOOKUP(G5791,'Lista de precios'!$B$7:$C$5000,2,0))","v":""}]
[null,null,"",null,null,null,null,{"$f":"IF(G5792=\"\",\"\",VLOOKUP(G5792,'Lista de precios'!$B$7:$C$5000,2,0))","v":""}]
[null,null,"",null,null,null,null,{"$f":"IF(G5793=\"\",\"\",VLOOKUP(G5793,'Lista de precios'!$B$7:$C$5000,2,0))","v":""}]
[null,null,"",null,null,null,null,{"$f":"IF(G5794=\"\",\"\",VLOOKUP(G5794,'Lista de precios'!$B$7:$C$5000,2,0))","v":""}]
[null,null,"",null,null,null,null,{"$f":"IF(G5795=\"\",\"\",VLOOKUP(G5795,'Lista de precios'!$B$7:$C$5000,2,0))","v":""}]
[null,null,"",null,null,null,null,{"$f":"IF(G5796=\"\",\"\",VLOOKUP(G5796,'Lista de precios'!$B$7:$C$5000,2,0))","v":""}]
[null,null,"",null,null,null,null,{"$f":"IF(G5797=\"\",\"\",VLOOKUP(G5797,'Lista de precios'!$B$7:$C$5000,2,0))","v":""}]
[null,null,"",null,null,null,null,{"$f":"IF(G5798=\"\",\"\",VLOOKUP(G5798,'Lista de precios'!$B$7:$C$5000,2,0))","v":""}]
[null,null,"",null,null,null,null,{"$f":"IF(G5799=\"\",\"\",VLOOKUP(G5799,'Lista de precios'!$B$7:$C$5000,2,0))","v":""}]
[null,null,"",null,null,null,null,{"$f":"IF(G5800=\"\",\"\",VLOOKUP(G5800,'Lista de precios'!$B$7:$C$5000,2,0))","v":""}]
[null,null,"",null,null,null,null,{"$f":"IF(G5801=\"\",\"\",VLOOKUP(G5801,'Lista de precios'!$B$7:$C$5000,2,0))","v":""}]
[null,null,"",null,null,null,null,{"$f":"IF(G5802=\"\",\"\",VLOOKUP(G5802,'Lista de precios'!$B$7:$C$5000,2,0))","v":""}]
[null,null,"",null,null,null,null,{"$f":"IF(G5803=\"\",\"\",VLOOKUP(G5803,'Lista de precios'!$B$7:$C$5000,2,0))","v":""}]
[null,null,"",null,null,null,null,{"$f":"IF(G5804=\"\",\"\",VLOOKUP(G5804,'Lista de precios'!$B$7:$C$5000,2,0))","v":""}]
[null,null,"",null,null,null,null,{"$f":"IF(G5805=\"\",\"\",VLOOKUP(G5805,'Lista de precios'!$B$7:$C$5000,2,0))","v":""}]
[null,null,"",null,null,null,null,{"$f":"IF(G5806=\"\",\"\",VLOOKUP(G5806,'Lista de precios'!$B$7:$C$5000,2,0))","v":""}]
[null,null,"",null,null,null,null,{"$f":"IF(G5807=\"\",\"\",VLOOKUP(G5807,'Lista de precios'!$B$7:$C$5000,2,0))","v":""}]
[null,null,"",null,null,null,null,{"$f":"IF(G5808=\"\",\"\",VLOOKUP(G5808,'Lista de precios'!$B$7:$C$5000,2,0))","v":""}]
[null,null,"",null,null,null,null,{"$f":"IF(G5809=\"\",\"\",VLOOKUP(G5809,'Lista de precios'!$B$7:$C$5000,2,0))","v":""}]
[null,null,"",null,null,null,null,{"$f":"IF(G5810=\"\",\"\",VLOOKUP(G5810,'Lista de precios'!$B$7:$C$5000,2,0))","v":""}]
[null,null,"",null,null,null,null,{"$f":"IF(G5811=\"\",\"\",VLOOKUP(G5811,'Lista de precios'!$B$7:$C$5000,2,0))","v":""}]
[null,null,"",null,null,null,null,{"$f":"IF(G5812=\"\",\"\",VLOOKUP(G5812,'Lista de precios'!$B$7:$C$5000,2,0))","v":""}]
[null,null,"",null,null,null,null,{"$f":"IF(G5813=\"\",\"\",VLOOKUP(G5813,'Lista de precios'!$B$7:$C$5000,2,0))","v":""}]
[null,null,"",null,null,null,null,{"$f":"IF(G5814=\"\",\"\",VLOOKUP(G5814,'Lista de precios'!$B$7:$C$5000,2,0))","v":""}]
[null,null,"",null,null,null,null,{"$f":"IF(G5815=\"\",\"\",VLOOKUP(G5815,'Lista de precios'!$B$7:$C$5000,2,0))","v":""}]
[null,null,"",null,null,null,null,{"$f":"IF(G5816=\"\",\"\",VLOOKUP(G5816,'Lista de precios'!$B$7:$C$5000,2,0))","v":""}]
[null,null,"",null,null,null,null,{"$f":"IF(G5817=\"\",\"\",VLOOKUP(G5817,'Lista de precios'!$B$7:$C$5000,2,0))","v":""}]
[null,null,"",null,null,null,null,{"$f":"IF(G5818=\"\",\"\",VLOOKUP(G5818,'Lista de precios'!$B$7:$C$5000,2,0))","v":""}]
[null,null,"",null,null,null,null,{"$f":"IF(G5819=\"\",\"\",VLOOKUP(G5819,'Lista de precios'!$B$7:$C$5000,2,0))","v":""}]
[null,null,"",null,null,null,null,{"$f":"IF(G5820=\"\",\"\",VLOOKUP(G5820,'Lista de precios'!$B$7:$C$5000,2,0))","v":""}]
[null,null,"",null,null,null,null,{"$f":"IF(G5821=\"\",\"\",VLOOKUP(G5821,'Lista de precios'!$B$7:$C$5000,2,0))","v":""}]
[null,null,"",null,null,null,null,{"$f":"IF(G5822=\"\",\"\",VLOOKUP(G5822,'Lista de precios'!$B$7:$C$5000,2,0))","v":""}]
[null,null,"",null,null,null,null,{"$f":"IF(G5823=\"\",\"\",VLOOKUP(G5823,'Lista de precios'!$B$7:$C$5000,2,0))","v":""}]
[null,null,"",null,null,null,null,{"$f":"IF(G5824=\"\",\"\",VLOOKUP(G5824,'Lista de precios'!$B$7:$C$5000,2,0))","v":""}]
[null,null,"",null,null,null,null,{"$f":"IF(G5825=\"\",\"\",VLOOKUP(G5825,'Lista de precios'!$B$7:$C$5000,2,0))","v":""}]
[null,null,"",null,null,null,null,{"$f":"IF(G5826=\"\",\"\",VLOOKUP(G5826,'Lista de precios'!$B$7:$C$5000,2,0))","v":""}]
[null,null,"",null,null,null,null,{"$f":"IF(G5827=\"\",\"\",VLOOKUP(G5827,'Lista de precios'!$B$7:$C$5000,2,0))","v":""}]
[null,null,"",null,null,null,null,{"$f":"IF(G5828=\"\",\"\",VLOOKUP(G5828,'Lista de precios'!$B$7:$C$5000,2,0))","v":""}]
[null,null,"",null,null,null,null,{"$f":"IF(G5829=\"\",\"\",VLOOKUP(G5829,'Lista de precios'!$B$7:$C$5000,2,0))","v":""}]
[null,null,"",null,null,null,null,{"$f":"IF(G5830=\"\",\"\",VLOOKUP(G5830,'Lista de precios'!$B$7:$C$5000,2,0))","v":""}]
[null,null,"",null,null,null,null,{"$f":"IF(G5831=\"\",\"\",VLOOKUP(G5831,'Lista de precios'!$B$7:$C$5000,2,0))","v":""}]
[null,null,"",null,null,null,null,{"$f":"IF(G5832=\"\",\"\",VLOOKUP(G5832,'Lista de precios'!$B$7:$C$5000,2,0))","v":""}]
[null,null,"",null,null,null,null,{"$f":"IF(G5833=\"\",\"\",VLOOKUP(G5833,'Lista de precios'!$B$7:$C$5000,2,0))","v":""}]
[null,null,"",null,null,null,null,{"$f":"IF(G5834=\"\",\"\",VLOOKUP(G5834,'Lista de precios'!$B$7:$C$5000,2,0))","v":""}]
[null,null,"",null,null,null,null,{"$f":"IF(G5835=\"\",\"\",VLOOKUP(G5835,'Lista de precios'!$B$7:$C$5000,2,0))","v":""}]
[null,null,{"$f":"IF(B5836=\"\",\"\",TEXT(B5836,\"Mmmm\"))","v":""},null,null,null,null,{"$f":"IF(G5836=\"\",\"\",VLOOKUP(G5836,'Lista de precios'!$B$7:$C$5000,2,0))","v":""}]
[null,null,"",null,null,null,null,{"$f":"IF(G5837=\"\",\"\",VLOOKUP(G5837,'Lista de precios'!$B$7:$C$5000,2,0))","v":""}]
[null,null,"",null,null,null,null,{"$f":"IF(G5838=\"\",\"\",VLOOKUP(G5838,'Lista de precios'!$B$7:$C$5000,2,0))","v":""}]
[null,null,"",null,null,null,null,{"$f":"IF(G5839=\"\",\"\",VLOOKUP(G5839,'Lista de precios'!$B$7:$C$5000,2,0))","v":""}]
[null,null,"",null,null,null,null,{"$f":"IF(G5840=\"\",\"\",VLOOKUP(G5840,'Lista de precios'!$B$7:$C$5000,2,0))","v":""}]
[null,null,"",null,null,null,null,{"$f":"IF(G5841=\"\",\"\",VLOOKUP(G5841,'Lista de precios'!$B$7:$C$5000,2,0))","v":""}]
[null,null,"",null,null,null,null,{"$f":"IF(G5842=\"\",\"\",VLOOKUP(G5842,'Lista de precios'!$B$7:$C$5000,2,0))","v":""}]
[null,null,"",null,null,null,null,{"$f":"IF(G5843=\"\",\"\",VLOOKUP(G5843,'Lista de precios'!$B$7:$C$5000,2,0))","v":""}]
[null,null,"",null,null,null,null,{"$f":"IF(G5844=\"\",\"\",VLOOKUP(G5844,'Lista de precios'!$B$7:$C$5000,2,0))","v":""}]
[null,null,"",null,null,null,null,{"$f":"IF(G5845=\"\",\"\",VLOOKUP(G5845,'Lista de precios'!$B$7:$C$5000,2,0))","v":""}]
[null,null,"",null,null,null,null,{"$f":"IF(G5846=\"\",\"\",VLOOKUP(G5846,'Lista de precios'!$B$7:$C$5000,2,0))","v":""}]
[null,null,"",null,null,null,null,{"$f":"IF(G5847=\"\",\"\",VLOOKUP(G5847,'Lista de precios'!$B$7:$C$5000,2,0))","v":""}]
[null,null,"",null,null,null,null,{"$f":"IF(G5848=\"\",\"\",VLOOKUP(G5848,'Lista de precios'!$B$7:$C$5000,2,0))","v":""}]
[null,null,"",null,null,null,null,{"$f":"IF(G5849=\"\",\"\",VLOOKUP(G5849,'Lista de precios'!$B$7:$C$5000,2,0))","v":""}]
[null,null,"",null,null,null,null,{"$f":"IF(G5850=\"\",\"\",VLOOKUP(G5850,'Lista de precios'!$B$7:$C$5000,2,0))","v":""}]
[null,null,"",null,null,null,null,{"$f":"IF(G5851=\"\",\"\",VLOOKUP(G5851,'Lista de precios'!$B$7:$C$5000,2,0))","v":""}]
[null,null,"",null,null,null,null,{"$f":"IF(G5852=\"\",\"\",VLOOKUP(G5852,'Lista de precios'!$B$7:$C$5000,2,0))","v":""}]
[null,null,"",null,null,null,null,{"$f":"IF(G5853=\"\",\"\",VLOOKUP(G5853,'Lista de precios'!$B$7:$C$5000,2,0))","v":""}]
[null,null,"",null,null,null,null,{"$f":"IF(G5854=\"\",\"\",VLOOKUP(G5854,'Lista de precios'!$B$7:$C$5000,2,0))","v":""}]
[null,null,"",null,null,null,null,{"$f":"IF(G5855=\"\",\"\",VLOOKUP(G5855,'Lista de precios'!$B$7:$C$5000,2,0))","v":""}]
[null,null,"",null,null,null,null,{"$f":"IF(G5856=\"\",\"\",VLOOKUP(G5856,'Lista de precios'!$B$7:$C$5000,2,0))","v":""}]
[null,null,"",null,null,null,null,{"$f":"IF(G5857=\"\",\"\",VLOOKUP(G5857,'Lista de precios'!$B$7:$C$5000,2,0))","v":""}]
[null,null,"",null,null,null,null,{"$f":"IF(G5858=\"\",\"\",VLOOKUP(G5858,'Lista de precios'!$B$7:$C$5000,2,0))","v":""}]
[null,null,"",null,null,null,null,{"$f":"IF(G5859=\"\",\"\",VLOOKUP(G5859,'Lista de precios'!$B$7:$C$5000,2,0))","v":""}]
[null,null,"",null,null,null,null,{"$f":"IF(G5860=\"\",\"\",VLOOKUP(G5860,'Lista de precios'!$B$7:$C$5000,2,0))","v":""}]
[null,null,"",null,null,null,null,{"$f":"IF(G5861=\"\",\"\",VLOOKUP(G5861,'Lista de precios'!$B$7:$C$5000,2,0))","v":""}]
[null,null,"",null,null,null,null,{"$f":"IF(G5862=\"\",\"\",VLOOKUP(G5862,'Lista de precios'!$B$7:$C$5000,2,0))","v":""}]
[null,null,"",null,null,null,null,{"$f":"IF(G5863=\"\",\"\",VLOOKUP(G5863,'Lista de precios'!$B$7:$C$5000,2,0))","v":""}]
[null,null,"",null,null,null,null,{"$f":"IF(G5864=\"\",\"\",VLOOKUP(G5864,'Lista de precios'!$B$7:$C$5000,2,0))","v":""}]
[null,null,"",null,null,null,null,{"$f":"IF(G5865=\"\",\"\",VLOOKUP(G5865,'Lista de precios'!$B$7:$C$5000,2,0))","v":""}]
[null,null,"",null,null,null,null,{"$f":"IF(G5866=\"\",\"\",VLOOKUP(G5866,'Lista de precios'!$B$7:$C$5000,2,0))","v":""}]
[null,null,"",null,null,null,null,{"$f":"IF(G5867=\"\",\"\",VLOOKUP(G5867,'Lista de precios'!$B$7:$C$5000,2,0))","v":""}]
[null,null,"",null,null,null,null,{"$f":"IF(G5868=\"\",\"\",VLOOKUP(G5868,'Lista de precios'!$B$7:$C$5000,2,0))","v":""}]
[null,null,"",null,null,null,null,{"$f":"IF(G5869=\"\",\"\",VLOOKUP(G5869,'Lista de precios'!$B$7:$C$5000,2,0))","v":""}]
[null,null,"",null,null,null,null,{"$f":"IF(G5870=\"\",\"\",VLOOKUP(G5870,'Lista de precios'!$B$7:$C$5000,2,0))","v":""}]
[null,null,"",null,null,null,null,{"$f":"IF(G5871=\"\",\"\",VLOOKUP(G5871,'Lista de precios'!$B$7:$C$5000,2,0))","v":""}]
[null,null,"",null,null,null,null,{"$f":"IF(G5872=\"\",\"\",VLOOKUP(G5872,'Lista de precios'!$B$7:$C$5000,2,0))","v":""}]
[null,null,"",null,null,null,null,{"$f":"IF(G5873=\"\",\"\",VLOOKUP(G5873,'Lista de precios'!$B$7:$C$5000,2,0))","v":""}]
[null,null,"",null,null,null,null,{"$f":"IF(G5874=\"\",\"\",VLOOKUP(G5874,'Lista de precios'!$B$7:$C$5000,2,0))","v":""}]
[null,null,"",null,null,null,null,{"$f":"IF(G5875=\"\",\"\",VLOOKUP(G5875,'Lista de precios'!$B$7:$C$5000,2,0))","v":""}]
[null,null,"",null,null,null,null,{"$f":"IF(G5876=\"\",\"\",VLOOKUP(G5876,'Lista de precios'!$B$7:$C$5000,2,0))","v":""}]
[null,null,"",null,null,null,null,{"$f":"IF(G5877=\"\",\"\",VLOOKUP(G5877,'Lista de precios'!$B$7:$C$5000,2,0))","v":""}]
[null,null,"",null,null,null,null,{"$f":"IF(G5878=\"\",\"\",VLOOKUP(G5878,'Lista de precios'!$B$7:$C$5000,2,0))","v":""}]
[null,null,"",null,null,null,null,{"$f":"IF(G5879=\"\",\"\",VLOOKUP(G5879,'Lista de precios'!$B$7:$C$5000,2,0))","v":""}]
[null,null,"",null,null,null,null,{"$f":"IF(G5880=\"\",\"\",VLOOKUP(G5880,'Lista de precios'!$B$7:$C$5000,2,0))","v":""}]
[null,null,"",null,null,null,null,{"$f":"IF(G5881=\"\",\"\",VLOOKUP(G5881,'Lista de precios'!$B$7:$C$5000,2,0))","v":""}]
[null,null,"",null,null,null,null,{"$f":"IF(G5882=\"\",\"\",VLOOKUP(G5882,'Lista de precios'!$B$7:$C$5000,2,0))","v":""}]
[null,null,"",null,null,null,null,{"$f":"IF(G5883=\"\",\"\",VLOOKUP(G5883,'Lista de precios'!$B$7:$C$5000,2,0))","v":""}]
[null,null,"",null,null,null,null,{"$f":"IF(G5884=\"\",\"\",VLOOKUP(G5884,'Lista de precios'!$B$7:$C$5000,2,0))","v":""}]
[null,null,"",null,null,null,null,{"$f":"IF(G5885=\"\",\"\",VLOOKUP(G5885,'Lista de precios'!$B$7:$C$5000,2,0))","v":""}]
[null,null,"",null,null,null,null,{"$f":"IF(G5886=\"\",\"\",VLOOKUP(G5886,'Lista de precios'!$B$7:$C$5000,2,0))","v":""}]
[null,null,"",null,null,null,null,{"$f":"IF(G5887=\"\",\"\",VLOOKUP(G5887,'Lista de precios'!$B$7:$C$5000,2,0))","v":""}]
[null,null,"",null,null,null,null,{"$f":"IF(G5888=\"\",\"\",VLOOKUP(G5888,'Lista de precios'!$B$7:$C$5000,2,0))","v":""}]
[null,null,"",null,null,null,null,{"$f":"IF(G5889=\"\",\"\",VLOOKUP(G5889,'Lista de precios'!$B$7:$C$5000,2,0))","v":""}]
[null,null,"",null,null,null,null,{"$f":"IF(G5890=\"\",\"\",VLOOKUP(G5890,'Lista de precios'!$B$7:$C$5000,2,0))","v":""}]
[null,null,"",null,null,null,null,{"$f":"IF(G5891=\"\",\"\",VLOOKUP(G5891,'Lista de precios'!$B$7:$C$5000,2,0))","v":""}]
[null,null,"",null,null,null,null,{"$f":"IF(G5892=\"\",\"\",VLOOKUP(G5892,'Lista de precios'!$B$7:$C$5000,2,0))","v":""}]
[null,null,"",null,null,null,null,{"$f":"IF(G5893=\"\",\"\",VLOOKUP(G5893,'Lista de precios'!$B$7:$C$5000,2,0))","v":""}]
[null,null,"",null,null,null,null,{"$f":"IF(G5894=\"\",\"\",VLOOKUP(G5894,'Lista de precios'!$B$7:$C$5000,2,0))","v":""}]
[null,null,"",null,null,null,null,{"$f":"IF(G5895=\"\",\"\",VLOOKUP(G5895,'Lista de precios'!$B$7:$C$5000,2,0))","v":""}]
[null,null,"",null,null,null,null,{"$f":"IF(G5896=\"\",\"\",VLOOKUP(G5896,'Lista de precios'!$B$7:$C$5000,2,0))","v":""}]
[null,null,"",null,null,null,null,{"$f":"IF(G5897=\"\",\"\",VLOOKUP(G5897,'Lista de precios'!$B$7:$C$5000,2,0))","v":""}]
[null,null,"",null,null,null,null,{"$f":"IF(G5898=\"\",\"\",VLOOKUP(G5898,'Lista de precios'!$B$7:$C$5000,2,0))","v":""}]
[null,null,"",null,null,null,null,{"$f":"IF(G5899=\"\",\"\",VLOOKUP(G5899,'Lista de precios'!$B$7:$C$5000,2,0))","v":""}]
[null,null,{"$f":"IF(B5900=\"\",\"\",TEXT(B5900,\"Mmmm\"))","v":""},null,null,null,null,{"$f":"IF(G5900=\"\",\"\",VLOOKUP(G5900,'Lista de precios'!$B$7:$C$5000,2,0))","v":""}]
[null,null,"",null,null,null,null,{"$f":"IF(G5901=\"\",\"\",VLOOKUP(G5901,'Lista de precios'!$B$7:$C$5000,2,0))","v":""}]
[null,null,"",null,null,null,null,{"$f":"IF(G5902=\"\",\"\",VLOOKUP(G5902,'Lista de precios'!$B$7:$C$5000,2,0))","v":""}]
[null,null,"",null,null,null,null,{"$f":"IF(G5903=\"\",\"\",VLOOKUP(G5903,'Lista de precios'!$B$7:$C$5000,2,0))","v":""}]
[null,null,"",null,null,null,null,{"$f":"IF(G5904=\"\",\"\",VLOOKUP(G5904,'Lista de precios'!$B$7:$C$5000,2,0))","v":""}]
[null,null,"",null,null,null,null,{"$f":"IF(G5905=\"\",\"\",VLOOKUP(G5905,'Lista de precios'!$B$7:$C$5000,2,0))","v":""}]
[null,null,"",null,null,null,null,{"$f":"IF(G5906=\"\",\"\",VLOOKUP(G5906,'Lista de precios'!$B$7:$C$5000,2,0))","v":""}]
[null,null,"",null,null,null,null,{"$f":"IF(G5907=\"\",\"\",VLOOKUP(G5907,'Lista de precios'!$B$7:$C$5000,2,0))","v":""}]
[null,null,"",null,null,null,null,{"$f":"IF(G5908=\"\",\"\",VLOOKUP(G5908,'Lista de precios'!$B$7:$C$5000,2,0))","v":""}]
[null,null,"",null,null,null,null,{"$f":"IF(G5909=\"\",\"\",VLOOKUP(G5909,'Lista de precios'!$B$7:$C$5000,2,0))","v":""}]
[null,null,"",null,null,null,null,{"$f":"IF(G5910=\"\",\"\",VLOOKUP(G5910,'Lista de precios'!$B$7:$C$5000,2,0))","v":""}]
[null,null,"",null,null,null,null,{"$f":"IF(G5911=\"\",\"\",VLOOKUP(G5911,'Lista de precios'!$B$7:$C$5000,2,0))","v":""}]
[null,null,"",null,null,null,null,{"$f":"IF(G5912=\"\",\"\",VLOOKUP(G5912,'Lista de precios'!$B$7:$C$5000,2,0))","v":""}]
[null,null,"",null,null,null,null,{"$f":"IF(G5913=\"\",\"\",VLOOKUP(G5913,'Lista de precios'!$B$7:$C$5000,2,0))","v":""}]
[null,null,"",null,null,null,null,{"$f":"IF(G5914=\"\",\"\",VLOOKUP(G5914,'Lista de precios'!$B$7:$C$5000,2,0))","v":""}]
[null,null,"",null,null,null,null,{"$f":"IF(G5915=\"\",\"\",VLOOKUP(G5915,'Lista de precios'!$B$7:$C$5000,2,0))","v":""}]
[null,null,"",null,null,null,null,{"$f":"IF(G5916=\"\",\"\",VLOOKUP(G5916,'Lista de precios'!$B$7:$C$5000,2,0))","v":""}]
[null,null,"",null,null,null,null,{"$f":"IF(G5917=\"\",\"\",VLOOKUP(G5917,'Lista de precios'!$B$7:$C$5000,2,0))","v":""}]
[null,null,"",null,null,null,null,{"$f":"IF(G5918=\"\",\"\",VLOOKUP(G5918,'Lista de precios'!$B$7:$C$5000,2,0))","v":""}]
[null,null,"",null,null,null,null,{"$f":"IF(G5919=\"\",\"\",VLOOKUP(G5919,'Lista de precios'!$B$7:$C$5000,2,0))","v":""}]
[null,null,"",null,null,null,null,{"$f":"IF(G5920=\"\",\"\",VLOOKUP(G5920,'Lista de precios'!$B$7:$C$5000,2,0))","v":""}]
[null,null,"",null,null,null,null,{"$f":"IF(G5921=\"\",\"\",VLOOKUP(G5921,'Lista de precios'!$B$7:$C$5000,2,0))","v":""}]
[null,null,"",null,null,null,null,{"$f":"IF(G5922=\"\",\"\",VLOOKUP(G5922,'Lista de precios'!$B$7:$C$5000,2,0))","v":""}]
[null,null,"",null,null,null,null,{"$f":"IF(G5923=\"\",\"\",VLOOKUP(G5923,'Lista de precios'!$B$7:$C$5000,2,0))","v":""}]
[null,null,"",null,null,null,null,{"$f":"IF(G5924=\"\",\"\",VLOOKUP(G5924,'Lista de precios'!$B$7:$C$5000,2,0))","v":""}]
[null,null,"",null,null,null,null,{"$f":"IF(G5925=\"\",\"\",VLOOKUP(G5925,'Lista de precios'!$B$7:$C$5000,2,0))","v":""}]
[null,null,"",null,null,null,null,{"$f":"IF(G5926=\"\",\"\",VLOOKUP(G5926,'Lista de precios'!$B$7:$C$5000,2,0))","v":""}]
[null,null,"",null,null,null,null,{"$f":"IF(G5927=\"\",\"\",VLOOKUP(G5927,'Lista de precios'!$B$7:$C$5000,2,0))","v":""}]
[null,null,"",null,null,null,null,{"$f":"IF(G5928=\"\",\"\",VLOOKUP(G5928,'Lista de precios'!$B$7:$C$5000,2,0))","v":""}]
[null,null,"",null,null,null,null,{"$f":"IF(G5929=\"\",\"\",VLOOKUP(G5929,'Lista de precios'!$B$7:$C$5000,2,0))","v":""}]
[null,null,"",null,null,null,null,{"$f":"IF(G5930=\"\",\"\",VLOOKUP(G5930,'Lista de precios'!$B$7:$C$5000,2,0))","v":""}]
[null,null,"",null,null,null,null,{"$f":"IF(G5931=\"\",\"\",VLOOKUP(G5931,'Lista de precios'!$B$7:$C$5000,2,0))","v":""}]
[null,null,"",null,null,null,null,{"$f":"IF(G5932=\"\",\"\",VLOOKUP(G5932,'Lista de precios'!$B$7:$C$5000,2,0))","v":""}]
[null,null,"",null,null,null,null,{"$f":"IF(G5933=\"\",\"\",VLOOKUP(G5933,'Lista de precios'!$B$7:$C$5000,2,0))","v":""}]
[null,null,"",null,null,null,null,{"$f":"IF(G5934=\"\",\"\",VLOOKUP(G5934,'Lista de precios'!$B$7:$C$5000,2,0))","v":""}]
[null,null,"",null,null,null,null,{"$f":"IF(G5935=\"\",\"\",VLOOKUP(G5935,'Lista de precios'!$B$7:$C$5000,2,0))","v":""}]
[null,null,"",null,null,null,null,{"$f":"IF(G5936=\"\",\"\",VLOOKUP(G5936,'Lista de precios'!$B$7:$C$5000,2,0))","v":""}]
[null,null,"",null,null,null,null,{"$f":"IF(G5937=\"\",\"\",VLOOKUP(G5937,'Lista de precios'!$B$7:$C$5000,2,0))","v":""}]
[null,null,"",null,null,null,null,{"$f":"IF(G5938=\"\",\"\",VLOOKUP(G5938,'Lista de precios'!$B$7:$C$5000,2,0))","v":""}]
[null,null,"",null,null,null,null,{"$f":"IF(G5939=\"\",\"\",VLOOKUP(G5939,'Lista de precios'!$B$7:$C$5000,2,0))","v":""}]
[null,null,"",null,null,null,null,{"$f":"IF(G5940=\"\",\"\",VLOOKUP(G5940,'Lista de precios'!$B$7:$C$5000,2,0))","v":""}]
[null,null,"",null,null,null,null,{"$f":"IF(G5941=\"\",\"\",VLOOKUP(G5941,'Lista de precios'!$B$7:$C$5000,2,0))","v":""}]
[null,null,"",null,null,null,null,{"$f":"IF(G5942=\"\",\"\",VLOOKUP(G5942,'Lista de precios'!$B$7:$C$5000,2,0))","v":""}]
[null,null,"",null,null,null,null,{"$f":"IF(G5943=\"\",\"\",VLOOKUP(G5943,'Lista de precios'!$B$7:$C$5000,2,0))","v":""}]
[null,null,"",null,null,null,null,{"$f":"IF(G5944=\"\",\"\",VLOOKUP(G5944,'Lista de precios'!$B$7:$C$5000,2,0))","v":""}]
[null,null,"",null,null,null,null,{"$f":"IF(G5945=\"\",\"\",VLOOKUP(G5945,'Lista de precios'!$B$7:$C$5000,2,0))","v":""}]
[null,null,"",null,null,null,null,{"$f":"IF(G5946=\"\",\"\",VLOOKUP(G5946,'Lista de precios'!$B$7:$C$5000,2,0))","v":""}]
[null,null,"",null,null,null,null,{"$f":"IF(G5947=\"\",\"\",VLOOKUP(G5947,'Lista de precios'!$B$7:$C$5000,2,0))","v":""}]
[null,null,"",null,null,null,null,{"$f":"IF(G5948=\"\",\"\",VLOOKUP(G5948,'Lista de precios'!$B$7:$C$5000,2,0))","v":""}]
[null,null,"",null,null,null,null,{"$f":"IF(G5949=\"\",\"\",VLOOKUP(G5949,'Lista de precios'!$B$7:$C$5000,2,0))","v":""}]
[null,null,"",null,null,null,null,{"$f":"IF(G5950=\"\",\"\",VLOOKUP(G5950,'Lista de precios'!$B$7:$C$5000,2,0))","v":""}]
[null,null,"",null,null,null,null,{"$f":"IF(G5951=\"\",\"\",VLOOKUP(G5951,'Lista de precios'!$B$7:$C$5000,2,0))","v":""}]
[null,null,"",null,null,null,null,{"$f":"IF(G5952=\"\",\"\",VLOOKUP(G5952,'Lista de precios'!$B$7:$C$5000,2,0))","v":""}]
[null,null,"",null,null,null,null,{"$f":"IF(G5953=\"\",\"\",VLOOKUP(G5953,'Lista de precios'!$B$7:$C$5000,2,0))","v":""}]
[null,null,"",null,null,null,null,{"$f":"IF(G5954=\"\",\"\",VLOOKUP(G5954,'Lista de precios'!$B$7:$C$5000,2,0))","v":""}]
[null,null,"",null,null,null,null,{"$f":"IF(G5955=\"\",\"\",VLOOKUP(G5955,'Lista de precios'!$B$7:$C$5000,2,0))","v":""}]
[null,null,"",null,null,null,null,{"$f":"IF(G5956=\"\",\"\",VLOOKUP(G5956,'Lista de precios'!$B$7:$C$5000,2,0))","v":""}]
[null,null,"",null,null,null,null,{"$f":"IF(G5957=\"\",\"\",VLOOKUP(G5957,'Lista de precios'!$B$7:$C$5000,2,0))","v":""}]
[null,null,"",null,null,null,null,{"$f":"IF(G5958=\"\",\"\",VLOOKUP(G5958,'Lista de precios'!$B$7:$C$5000,2,0))","v":""}]
[null,null,"",null,null,null,null,{"$f":"IF(G5959=\"\",\"\",VLOOKUP(G5959,'Lista de precios'!$B$7:$C$5000,2,0))","v":""}]
[null,null,"",null,null,null,null,{"$f":"IF(G5960=\"\",\"\",VLOOKUP(G5960,'Lista de precios'!$B$7:$C$5000,2,0))","v":""}]
[null,null,"",null,null,null,null,{"$f":"IF(G5961=\"\",\"\",VLOOKUP(G5961,'Lista de precios'!$B$7:$C$5000,2,0))","v":""}]
[null,null,"",null,null,null,null,{"$f":"IF(G5962=\"\",\"\",VLOOKUP(G5962,'Lista de precios'!$B$7:$C$5000,2,0))","v":""}]
[null,null,"",null,null,null,null,{"$f":"IF(G5963=\"\",\"\",VLOOKUP(G5963,'Lista de precios'!$B$7:$C$5000,2,0))","v":""}]
[null,null,{"$f":"IF(B5964=\"\",\"\",TEXT(B5964,\"Mmmm\"))","v":""},null,null,null,null,{"$f":"IF(G5964=\"\",\"\",VLOOKUP(G5964,'Lista de precios'!$B$7:$C$5000,2,0))","v":""}]
[null,null,"",null,null,null,null,{"$f":"IF(G5965=\"\",\"\",VLOOKUP(G5965,'Lista de precios'!$B$7:$C$5000,2,0))","v":""}]
[null,null,"",null,null,null,null,{"$f":"IF(G5966=\"\",\"\",VLOOKUP(G5966,'Lista de precios'!$B$7:$C$5000,2,0))","v":""}]
[null,null,"",null,null,null,null,{"$f":"IF(G5967=\"\",\"\",VLOOKUP(G5967,'Lista de precios'!$B$7:$C$5000,2,0))","v":""}]
[null,null,"",null,null,null,null,{"$f":"IF(G5968=\"\",\"\",VLOOKUP(G5968,'Lista de precios'!$B$7:$C$5000,2,0))","v":""}]
[null,null,"",null,null,null,null,{"$f":"IF(G5969=\"\",\"\",VLOOKUP(G5969,'Lista de precios'!$B$7:$C$5000,2,0))","v":""}]
[null,null,"",null,null,null,null,{"$f":"IF(G5970=\"\",\"\",VLOOKUP(G5970,'Lista de precios'!$B$7:$C$5000,2,0))","v":""}]
[null,null,"",null,null,null,null,{"$f":"IF(G5971=\"\",\"\",VLOOKUP(G5971,'Lista de precios'!$B$7:$C$5000,2,0))","v":""}]
[null,null,"",null,null,null,null,{"$f":"IF(G5972=\"\",\"\",VLOOKUP(G5972,'Lista de precios'!$B$7:$C$5000,2,0))","v":""}]
[null,null,"",null,null,null,null,{"$f":"IF(G5973=\"\",\"\",VLOOKUP(G5973,'Lista de precios'!$B$7:$C$5000,2,0))","v":""}]
[null,null,"",null,null,null,null,{"$f":"IF(G5974=\"\",\"\",VLOOKUP(G5974,'Lista de precios'!$B$7:$C$5000,2,0))","v":""}]
[null,null,"",null,null,null,null,{"$f":"IF(G5975=\"\",\"\",VLOOKUP(G5975,'Lista de precios'!$B$7:$C$5000,2,0))","v":""}]
[null,null,"",null,null,null,null,{"$f":"IF(G5976=\"\",\"\",VLOOKUP(G5976,'Lista de precios'!$B$7:$C$5000,2,0))","v":""}]
[null,null,"",null,null,null,null,{"$f":"IF(G5977=\"\",\"\",VLOOKUP(G5977,'Lista de precios'!$B$7:$C$5000,2,0))","v":""}]
[null,null,"",null,null,null,null,{"$f":"IF(G5978=\"\",\"\",VLOOKUP(G5978,'Lista de precios'!$B$7:$C$5000,2,0))","v":""}]
[null,null,"",null,null,null,null,{"$f":"IF(G5979=\"\",\"\",VLOOKUP(G5979,'Lista de precios'!$B$7:$C$5000,2,0))","v":""}]
[null,null,"",null,null,null,null,{"$f":"IF(G5980=\"\",\"\",VLOOKUP(G5980,'Lista de precios'!$B$7:$C$5000,2,0))","v":""}]
[null,null,"",null,null,null,null,{"$f":"IF(G5981=\"\",\"\",VLOOKUP(G5981,'Lista de precios'!$B$7:$C$5000,2,0))","v":""}]
[null,null,"",null,null,null,null,{"$f":"IF(G5982=\"\",\"\",VLOOKUP(G5982,'Lista de precios'!$B$7:$C$5000,2,0))","v":""}]
[null,null,"",null,null,null,null,{"$f":"IF(G5983=\"\",\"\",VLOOKUP(G5983,'Lista de precios'!$B$7:$C$5000,2,0))","v":""}]
[null,null,"",null,null,null,null,{"$f":"IF(G5984=\"\",\"\",VLOOKUP(G5984,'Lista de precios'!$B$7:$C$5000,2,0))","v":""}]
[null,null,"",null,null,null,null,{"$f":"IF(G5985=\"\",\"\",VLOOKUP(G5985,'Lista de precios'!$B$7:$C$5000,2,0))","v":""}]
[null,null,"",null,null,null,null,{"$f":"IF(G5986=\"\",\"\",VLOOKUP(G5986,'Lista de precios'!$B$7:$C$5000,2,0))","v":""}]
[null,null,"",null,null,null,null,{"$f":"IF(G5987=\"\",\"\",VLOOKUP(G5987,'Lista de precios'!$B$7:$C$5000,2,0))","v":""}]
[null,null,"",null,null,null,null,{"$f":"IF(G5988=\"\",\"\",VLOOKUP(G5988,'Lista de precios'!$B$7:$C$5000,2,0))","v":""}]
[null,null,"",null,null,null,null,{"$f":"IF(G5989=\"\",\"\",VLOOKUP(G5989,'Lista de precios'!$B$7:$C$5000,2,0))","v":""}]
[null,null,"",null,null,null,null,{"$f":"IF(G5990=\"\",\"\",VLOOKUP(G5990,'Lista de precios'!$B$7:$C$5000,2,0))","v":""}]
[null,null,"",null,null,null,null,{"$f":"IF(G5991=\"\",\"\",VLOOKUP(G5991,'Lista de precios'!$B$7:$C$5000,2,0))","v":""}]
[null,null,"",null,null,null,null,{"$f":"IF(G5992=\"\",\"\",VLOOKUP(G5992,'Lista de precios'!$B$7:$C$5000,2,0))","v":""}]
[null,null,"",null,null,null,null,{"$f":"IF(G5993=\"\",\"\",VLOOKUP(G5993,'Lista de precios'!$B$7:$C$5000,2,0))","v":""}]
[null,null,"",null,null,null,null,{"$f":"IF(G5994=\"\",\"\",VLOOKUP(G5994,'Lista de precios'!$B$7:$C$5000,2,0))","v":""}]
[null,null,"",null,null,null,null,{"$f":"IF(G5995=\"\",\"\",VLOOKUP(G5995,'Lista de precios'!$B$7:$C$5000,2,0))","v":""}]
[null,null,"",null,null,null,null,{"$f":"IF(G5996=\"\",\"\",VLOOKUP(G5996,'Lista de precios'!$B$7:$C$5000,2,0))","v":""}]
[null,null,"",null,null,null,null,{"$f":"IF(G5997=\"\",\"\",VLOOKUP(G5997,'Lista de precios'!$B$7:$C$5000,2,0))","v":""}]
[null,null,"",null,null,null,null,{"$f":"IF(G5998=\"\",\"\",VLOOKUP(G5998,'Lista de precios'!$B$7:$C$5000,2,0))","v":""}]
[null,null,"",null,null,null,null,{"$f":"IF(G5999=\"\",\"\",VLOOKUP(G5999,'Lista de precios'!$B$7:$C$5000,2,0))","v":""}]
[null,null,"",null,null,null,null,{"$f":"IF(G6000=\"\",\"\",VLOOKUP(G6000,'Lista de precios'!$B$7:$C$5000,2,0))","v":""}]
[null,null,"",null,null,null,null,{"$f":"IF(G6001=\"\",\"\",VLOOKUP(G6001,'Lista de precios'!$B$7:$C$5000,2,0))","v":""}]
[null,null,"",null,null,null,null,{"$f":"IF(G6002=\"\",\"\",VLOOKUP(G6002,'Lista de precios'!$B$7:$C$5000,2,0))","v":""}]
[null,null,"",null,null,null,null,{"$f":"IF(G6003=\"\",\"\",VLOOKUP(G6003,'Lista de precios'!$B$7:$C$5000,2,0))","v":""}]
[null,null,"",null,null,null,null,{"$f":"IF(G6004=\"\",\"\",VLOOKUP(G6004,'Lista de precios'!$B$7:$C$5000,2,0))","v":""}]
[null,null,"",null,null,null,null,{"$f":"IF(G6005=\"\",\"\",VLOOKUP(G6005,'Lista de precios'!$B$7:$C$5000,2,0))","v":""}]
[null,null,"",null,null,null,null,{"$f":"IF(G6006=\"\",\"\",VLOOKUP(G6006,'Lista de precios'!$B$7:$C$5000,2,0))","v":""}]
[null,null,"",null,null,null,null,{"$f":"IF(G6007=\"\",\"\",VLOOKUP(G6007,'Lista de precios'!$B$7:$C$5000,2,0))","v":""}]
[null,null,"",null,null,null,null,{"$f":"IF(G6008=\"\",\"\",VLOOKUP(G6008,'Lista de precios'!$B$7:$C$5000,2,0))","v":""}]
[null,null,"",null,null,null,null,{"$f":"IF(G6009=\"\",\"\",VLOOKUP(G6009,'Lista de precios'!$B$7:$C$5000,2,0))","v":""}]
[null,null,"",null,null,null,null,{"$f":"IF(G6010=\"\",\"\",VLOOKUP(G6010,'Lista de precios'!$B$7:$C$5000,2,0))","v":""}]
[null,null,"",null,null,null,null,{"$f":"IF(G6011=\"\",\"\",VLOOKUP(G6011,'Lista de precios'!$B$7:$C$5000,2,0))","v":""}]
[null,null,"",null,null,null,null,{"$f":"IF(G6012=\"\",\"\",VLOOKUP(G6012,'Lista de precios'!$B$7:$C$5000,2,0))","v":""}]
[null,null,"",null,null,null,null,{"$f":"IF(G6013=\"\",\"\",VLOOKUP(G6013,'Lista de precios'!$B$7:$C$5000,2,0))","v":""}]
[null,null,"",null,null,null,null,{"$f":"IF(G6014=\"\",\"\",VLOOKUP(G6014,'Lista de precios'!$B$7:$C$5000,2,0))","v":""}]
[null,null,"",null,null,null,null,{"$f":"IF(G6015=\"\",\"\",VLOOKUP(G6015,'Lista de precios'!$B$7:$C$5000,2,0))","v":""}]
[null,null,"",null,null,null,null,{"$f":"IF(G6016=\"\",\"\",VLOOKUP(G6016,'Lista de precios'!$B$7:$C$5000,2,0))","v":""}]
[null,null,"",null,null,null,null,{"$f":"IF(G6017=\"\",\"\",VLOOKUP(G6017,'Lista de precios'!$B$7:$C$5000,2,0))","v":""}]
[null,null,"",null,null,null,null,{"$f":"IF(G6018=\"\",\"\",VLOOKUP(G6018,'Lista de precios'!$B$7:$C$5000,2,0))","v":""}]
[null,null,"",null,null,null,null,{"$f":"IF(G6019=\"\",\"\",VLOOKUP(G6019,'Lista de precios'!$B$7:$C$5000,2,0))","v":""}]
[null,null,"",null,null,null,null,{"$f":"IF(G6020=\"\",\"\",VLOOKUP(G6020,'Lista de precios'!$B$7:$C$5000,2,0))","v":""}]
[null,null,"",null,null,null,null,{"$f":"IF(G6021=\"\",\"\",VLOOKUP(G6021,'Lista de precios'!$B$7:$C$5000,2,0))","v":""}]
[null,null,"",null,null,null,null,{"$f":"IF(G6022=\"\",\"\",VLOOKUP(G6022,'Lista de precios'!$B$7:$C$5000,2,0))","v":""}]
[null,null,"",null,null,null,null,{"$f":"IF(G6023=\"\",\"\",VLOOKUP(G6023,'Lista de precios'!$B$7:$C$5000,2,0))","v":""}]
[null,null,"",null,null,null,null,{"$f":"IF(G6024=\"\",\"\",VLOOKUP(G6024,'Lista de precios'!$B$7:$C$5000,2,0))","v":""}]
[null,null,"",null,null,null,null,{"$f":"IF(G6025=\"\",\"\",VLOOKUP(G6025,'Lista de precios'!$B$7:$C$5000,2,0))","v":""}]
[null,null,"",null,null,null,null,{"$f":"IF(G6026=\"\",\"\",VLOOKUP(G6026,'Lista de precios'!$B$7:$C$5000,2,0))","v":""}]
[null,null,"",null,null,null,null,{"$f":"IF(G6027=\"\",\"\",VLOOKUP(G6027,'Lista de precios'!$B$7:$C$5000,2,0))","v":""}]
[null,null,{"$f":"IF(B6028=\"\",\"\",TEXT(B6028,\"Mmmm\"))","v":""},null,null,null,null,{"$f":"IF(G6028=\"\",\"\",VLOOKUP(G6028,'Lista de precios'!$B$7:$C$5000,2,0))","v":""}]
[null,null,"",null,null,null,null,{"$f":"IF(G6029=\"\",\"\",VLOOKUP(G6029,'Lista de precios'!$B$7:$C$5000,2,0))","v":""}]
[null,null,"",null,null,null,null,{"$f":"IF(G6030=\"\",\"\",VLOOKUP(G6030,'Lista de precios'!$B$7:$C$5000,2,0))","v":""}]
[null,null,"",null,null,null,null,{"$f":"IF(G6031=\"\",\"\",VLOOKUP(G6031,'Lista de precios'!$B$7:$C$5000,2,0))","v":""}]
[null,null,"",null,null,null,null,{"$f":"IF(G6032=\"\",\"\",VLOOKUP(G6032,'Lista de precios'!$B$7:$C$5000,2,0))","v":""}]
[null,null,"",null,null,null,null,{"$f":"IF(G6033=\"\",\"\",VLOOKUP(G6033,'Lista de precios'!$B$7:$C$5000,2,0))","v":""}]
[null,null,"",null,null,null,null,{"$f":"IF(G6034=\"\",\"\",VLOOKUP(G6034,'Lista de precios'!$B$7:$C$5000,2,0))","v":""}]
[null,null,"",null,null,null,null,{"$f":"IF(G6035=\"\",\"\",VLOOKUP(G6035,'Lista de precios'!$B$7:$C$5000,2,0))","v":""}]
[null,null,"",null,null,null,null,{"$f":"IF(G6036=\"\",\"\",VLOOKUP(G6036,'Lista de precios'!$B$7:$C$5000,2,0))","v":""}]
[null,null,"",null,null,null,null,{"$f":"IF(G6037=\"\",\"\",VLOOKUP(G6037,'Lista de precios'!$B$7:$C$5000,2,0))","v":""}]
[null,null,"",null,null,null,null,{"$f":"IF(G6038=\"\",\"\",VLOOKUP(G6038,'Lista de precios'!$B$7:$C$5000,2,0))","v":""}]
[null,null,"",null,null,null,null,{"$f":"IF(G6039=\"\",\"\",VLOOKUP(G6039,'Lista de precios'!$B$7:$C$5000,2,0))","v":""}]
[null,null,"",null,null,null,null,{"$f":"IF(G6040=\"\",\"\",VLOOKUP(G6040,'Lista de precios'!$B$7:$C$5000,2,0))","v":""}]
[null,null,"",null,null,null,null,{"$f":"IF(G6041=\"\",\"\",VLOOKUP(G6041,'Lista de precios'!$B$7:$C$5000,2,0))","v":""}]
[null,null,"",null,null,null,null,{"$f":"IF(G6042=\"\",\"\",VLOOKUP(G6042,'Lista de precios'!$B$7:$C$5000,2,0))","v":""}]
[null,null,"",null,null,null,null,{"$f":"IF(G6043=\"\",\"\",VLOOKUP(G6043,'Lista de precios'!$B$7:$C$5000,2,0))","v":""}]
[null,null,"",null,null,null,null,{"$f":"IF(G6044=\"\",\"\",VLOOKUP(G6044,'Lista de precios'!$B$7:$C$5000,2,0))","v":""}]
[null,null,"",null,null,null,null,{"$f":"IF(G6045=\"\",\"\",VLOOKUP(G6045,'Lista de precios'!$B$7:$C$5000,2,0))","v":""}]
[null,null,"",null,null,null,null,{"$f":"IF(G6046=\"\",\"\",VLOOKUP(G6046,'Lista de precios'!$B$7:$C$5000,2,0))","v":""}]
[null,null,"",null,null,null,null,{"$f":"IF(G6047=\"\",\"\",VLOOKUP(G6047,'Lista de precios'!$B$7:$C$5000,2,0))","v":""}]
[null,null,"",null,null,null,null,{"$f":"IF(G6048=\"\",\"\",VLOOKUP(G6048,'Lista de precios'!$B$7:$C$5000,2,0))","v":""}]
[null,null,"",null,null,null,null,{"$f":"IF(G6049=\"\",\"\",VLOOKUP(G6049,'Lista de precios'!$B$7:$C$5000,2,0))","v":""}]
[null,null,"",null,null,null,null,{"$f":"IF(G6050=\"\",\"\",VLOOKUP(G6050,'Lista de precios'!$B$7:$C$5000,2,0))","v":""}]
[null,null,"",null,null,null,null,{"$f":"IF(G6051=\"\",\"\",VLOOKUP(G6051,'Lista de precios'!$B$7:$C$5000,2,0))","v":""}]
[null,null,"",null,null,null,null,{"$f":"IF(G6052=\"\",\"\",VLOOKUP(G6052,'Lista de precios'!$B$7:$C$5000,2,0))","v":""}]
[null,null,"",null,null,null,null,{"$f":"IF(G6053=\"\",\"\",VLOOKUP(G6053,'Lista de precios'!$B$7:$C$5000,2,0))","v":""}]
[null,null,"",null,null,null,null,{"$f":"IF(G6054=\"\",\"\",VLOOKUP(G6054,'Lista de precios'!$B$7:$C$5000,2,0))","v":""}]
[null,null,"",null,null,null,null,{"$f":"IF(G6055=\"\",\"\",VLOOKUP(G6055,'Lista de precios'!$B$7:$C$5000,2,0))","v":""}]
[null,null,"",null,null,null,null,{"$f":"IF(G6056=\"\",\"\",VLOOKUP(G6056,'Lista de precios'!$B$7:$C$5000,2,0))","v":""}]
[null,null,"",null,null,null,null,{"$f":"IF(G6057=\"\",\"\",VLOOKUP(G6057,'Lista de precios'!$B$7:$C$5000,2,0))","v":""}]
[null,null,"",null,null,null,null,{"$f":"IF(G6058=\"\",\"\",VLOOKUP(G6058,'Lista de precios'!$B$7:$C$5000,2,0))","v":""}]
[null,null,"",null,null,null,null,{"$f":"IF(G6059=\"\",\"\",VLOOKUP(G6059,'Lista de precios'!$B$7:$C$5000,2,0))","v":""}]
[null,null,"",null,null,null,null,{"$f":"IF(G6060=\"\",\"\",VLOOKUP(G6060,'Lista de precios'!$B$7:$C$5000,2,0))","v":""}]
[null,null,"",null,null,null,null,{"$f":"IF(G6061=\"\",\"\",VLOOKUP(G6061,'Lista de precios'!$B$7:$C$5000,2,0))","v":""}]
[null,null,"",null,null,null,null,{"$f":"IF(G6062=\"\",\"\",VLOOKUP(G6062,'Lista de precios'!$B$7:$C$5000,2,0))","v":""}]
[null,null,"",null,null,null,null,{"$f":"IF(G6063=\"\",\"\",VLOOKUP(G6063,'Lista de precios'!$B$7:$C$5000,2,0))","v":""}]
[null,null,"",null,null,null,null,{"$f":"IF(G6064=\"\",\"\",VLOOKUP(G6064,'Lista de precios'!$B$7:$C$5000,2,0))","v":""}]
[null,null,"",null,null,null,null,{"$f":"IF(G6065=\"\",\"\",VLOOKUP(G6065,'Lista de precios'!$B$7:$C$5000,2,0))","v":""}]
[null,null,"",null,null,null,null,{"$f":"IF(G6066=\"\",\"\",VLOOKUP(G6066,'Lista de precios'!$B$7:$C$5000,2,0))","v":""}]
[null,null,"",null,null,null,null,{"$f":"IF(G6067=\"\",\"\",VLOOKUP(G6067,'Lista de precios'!$B$7:$C$5000,2,0))","v":""}]
[null,null,"",null,null,null,null,{"$f":"IF(G6068=\"\",\"\",VLOOKUP(G6068,'Lista de precios'!$B$7:$C$5000,2,0))","v":""}]
[null,null,"",null,null,null,null,{"$f":"IF(G6069=\"\",\"\",VLOOKUP(G6069,'Lista de precios'!$B$7:$C$5000,2,0))","v":""}]
[null,null,"",null,null,null,null,{"$f":"IF(G6070=\"\",\"\",VLOOKUP(G6070,'Lista de precios'!$B$7:$C$5000,2,0))","v":""}]
[null,null,"",null,null,null,null,{"$f":"IF(G6071=\"\",\"\",VLOOKUP(G6071,'Lista de precios'!$B$7:$C$5000,2,0))","v":""}]
[null,null,"",null,null,null,null,{"$f":"IF(G6072=\"\",\"\",VLOOKUP(G6072,'Lista de precios'!$B$7:$C$5000,2,0))","v":""}]
[null,null,"",null,null,null,null,{"$f":"IF(G6073=\"\",\"\",VLOOKUP(G6073,'Lista de precios'!$B$7:$C$5000,2,0))","v":""}]
[null,null,"",null,null,null,null,{"$f":"IF(G6074=\"\",\"\",VLOOKUP(G6074,'Lista de precios'!$B$7:$C$5000,2,0))","v":""}]
[null,null,"",null,null,null,null,{"$f":"IF(G6075=\"\",\"\",VLOOKUP(G6075,'Lista de precios'!$B$7:$C$5000,2,0))","v":""}]
[null,null,"",null,null,null,null,{"$f":"IF(G6076=\"\",\"\",VLOOKUP(G6076,'Lista de precios'!$B$7:$C$5000,2,0))","v":""}]
[null,null,"",null,null,null,null,{"$f":"IF(G6077=\"\",\"\",VLOOKUP(G6077,'Lista de precios'!$B$7:$C$5000,2,0))","v":""}]
[null,null,"",null,null,null,null,{"$f":"IF(G6078=\"\",\"\",VLOOKUP(G6078,'Lista de precios'!$B$7:$C$5000,2,0))","v":""}]
[null,null,"",null,null,null,null,{"$f":"IF(G6079=\"\",\"\",VLOOKUP(G6079,'Lista de precios'!$B$7:$C$5000,2,0))","v":""}]
[null,null,"",null,null,null,null,{"$f":"IF(G6080=\"\",\"\",VLOOKUP(G6080,'Lista de precios'!$B$7:$C$5000,2,0))","v":""}]
[null,null,"",null,null,null,null,{"$f":"IF(G6081=\"\",\"\",VLOOKUP(G6081,'Lista de precios'!$B$7:$C$5000,2,0))","v":""}]
[null,null,"",null,null,null,null,{"$f":"IF(G6082=\"\",\"\",VLOOKUP(G6082,'Lista de precios'!$B$7:$C$5000,2,0))","v":""}]
[null,null,"",null,null,null,null,{"$f":"IF(G6083=\"\",\"\",VLOOKUP(G6083,'Lista de precios'!$B$7:$C$5000,2,0))","v":""}]
[null,null,"",null,null,null,null,{"$f":"IF(G6084=\"\",\"\",VLOOKUP(G6084,'Lista de precios'!$B$7:$C$5000,2,0))","v":""}]
[null,null,"",null,null,null,null,{"$f":"IF(G6085=\"\",\"\",VLOOKUP(G6085,'Lista de precios'!$B$7:$C$5000,2,0))","v":""}]
[null,null,"",null,null,null,null,{"$f":"IF(G6086=\"\",\"\",VLOOKUP(G6086,'Lista de precios'!$B$7:$C$5000,2,0))","v":""}]
[null,null,"",null,null,null,null,{"$f":"IF(G6087=\"\",\"\",VLOOKUP(G6087,'Lista de precios'!$B$7:$C$5000,2,0))","v":""}]
[null,null,"",null,null,null,null,{"$f":"IF(G6088=\"\",\"\",VLOOKUP(G6088,'Lista de precios'!$B$7:$C$5000,2,0))","v":""}]
[null,null,"",null,null,null,null,{"$f":"IF(G6089=\"\",\"\",VLOOKUP(G6089,'Lista de precios'!$B$7:$C$5000,2,0))","v":""}]
[null,null,"",null,null,null,null,{"$f":"IF(G6090=\"\",\"\",VLOOKUP(G6090,'Lista de precios'!$B$7:$C$5000,2,0))","v":""}]
[null,null,"",null,null,null,null,{"$f":"IF(G6091=\"\",\"\",VLOOKUP(G6091,'Lista de precios'!$B$7:$C$5000,2,0))","v":""}]
[null,null,{"$f":"IF(B6092=\"\",\"\",TEXT(B6092,\"Mmmm\"))","v":""},null,null,null,null,{"$f":"IF(G6092=\"\",\"\",VLOOKUP(G6092,'Lista de precios'!$B$7:$C$5000,2,0))","v":""}]
[null,null,"",null,null,null,null,{"$f":"IF(G6093=\"\",\"\",VLOOKUP(G6093,'Lista de precios'!$B$7:$C$5000,2,0))","v":""}]
[null,null,"",null,null,null,null,{"$f":"IF(G6094=\"\",\"\",VLOOKUP(G6094,'Lista de precios'!$B$7:$C$5000,2,0))","v":""}]
[null,null,"",null,null,null,null,{"$f":"IF(G6095=\"\",\"\",VLOOKUP(G6095,'Lista de precios'!$B$7:$C$5000,2,0))","v":""}]
[null,null,"",null,null,null,null,{"$f":"IF(G6096=\"\",\"\",VLOOKUP(G6096,'Lista de precios'!$B$7:$C$5000,2,0))","v":""}]
[null,null,"",null,null,null,null,{"$f":"IF(G6097=\"\",\"\",VLOOKUP(G6097,'Lista de precios'!$B$7:$C$5000,2,0))","v":""}]
[null,null,"",null,null,null,null,{"$f":"IF(G6098=\"\",\"\",VLOOKUP(G6098,'Lista de precios'!$B$7:$C$5000,2,0))","v":""}]
[null,null,"",null,null,null,null,{"$f":"IF(G6099=\"\",\"\",VLOOKUP(G6099,'Lista de precios'!$B$7:$C$5000,2,0))","v":""}]
[null,null,"",null,null,null,null,{"$f":"IF(G6100=\"\",\"\",VLOOKUP(G6100,'Lista de precios'!$B$7:$C$5000,2,0))","v":""}]
[null,null,"",null,null,null,null,{"$f":"IF(G6101=\"\",\"\",VLOOKUP(G6101,'Lista de precios'!$B$7:$C$5000,2,0))","v":""}]
[null,null,"",null,null,null,null,{"$f":"IF(G6102=\"\",\"\",VLOOKUP(G6102,'Lista de precios'!$B$7:$C$5000,2,0))","v":""}]
[null,null,"",null,null,null,null,{"$f":"IF(G6103=\"\",\"\",VLOOKUP(G6103,'Lista de precios'!$B$7:$C$5000,2,0))","v":""}]
[null,null,"",null,null,null,null,{"$f":"IF(G6104=\"\",\"\",VLOOKUP(G6104,'Lista de precios'!$B$7:$C$5000,2,0))","v":""}]
[null,null,"",null,null,null,null,{"$f":"IF(G6105=\"\",\"\",VLOOKUP(G6105,'Lista de precios'!$B$7:$C$5000,2,0))","v":""}]
[null,null,"",null,null,null,null,{"$f":"IF(G6106=\"\",\"\",VLOOKUP(G6106,'Lista de precios'!$B$7:$C$5000,2,0))","v":""}]
[null,null,"",null,null,null,null,{"$f":"IF(G6107=\"\",\"\",VLOOKUP(G6107,'Lista de precios'!$B$7:$C$5000,2,0))","v":""}]
[null,null,"",null,null,null,null,{"$f":"IF(G6108=\"\",\"\",VLOOKUP(G6108,'Lista de precios'!$B$7:$C$5000,2,0))","v":""}]
[null,null,"",null,null,null,null,{"$f":"IF(G6109=\"\",\"\",VLOOKUP(G6109,'Lista de precios'!$B$7:$C$5000,2,0))","v":""}]
[null,null,"",null,null,null,null,{"$f":"IF(G6110=\"\",\"\",VLOOKUP(G6110,'Lista de precios'!$B$7:$C$5000,2,0))","v":""}]
[null,null,"",null,null,null,null,{"$f":"IF(G6111=\"\",\"\",VLOOKUP(G6111,'Lista de precios'!$B$7:$C$5000,2,0))","v":""}]
[null,null,"",null,null,null,null,{"$f":"IF(G6112=\"\",\"\",VLOOKUP(G6112,'Lista de precios'!$B$7:$C$5000,2,0))","v":""}]
[null,null,"",null,null,null,null,{"$f":"IF(G6113=\"\",\"\",VLOOKUP(G6113,'Lista de precios'!$B$7:$C$5000,2,0))","v":""}]
[null,null,"",null,null,null,null,{"$f":"IF(G6114=\"\",\"\",VLOOKUP(G6114,'Lista de precios'!$B$7:$C$5000,2,0))","v":""}]
[null,null,"",null,null,null,null,{"$f":"IF(G6115=\"\",\"\",VLOOKUP(G6115,'Lista de precios'!$B$7:$C$5000,2,0))","v":""}]
[null,null,"",null,null,null,null,{"$f":"IF(G6116=\"\",\"\",VLOOKUP(G6116,'Lista de precios'!$B$7:$C$5000,2,0))","v":""}]
[null,null,"",null,null,null,null,{"$f":"IF(G6117=\"\",\"\",VLOOKUP(G6117,'Lista de precios'!$B$7:$C$5000,2,0))","v":""}]
[null,null,"",null,null,null,null,{"$f":"IF(G6118=\"\",\"\",VLOOKUP(G6118,'Lista de precios'!$B$7:$C$5000,2,0))","v":""}]
[null,null,"",null,null,null,null,{"$f":"IF(G6119=\"\",\"\",VLOOKUP(G6119,'Lista de precios'!$B$7:$C$5000,2,0))","v":""}]
[null,null,"",null,null,null,null,{"$f":"IF(G6120=\"\",\"\",VLOOKUP(G6120,'Lista de precios'!$B$7:$C$5000,2,0))","v":""}]
[null,null,"",null,null,null,null,{"$f":"IF(G6121=\"\",\"\",VLOOKUP(G6121,'Lista de precios'!$B$7:$C$5000,2,0))","v":""}]
[null,null,"",null,null,null,null,{"$f":"IF(G6122=\"\",\"\",VLOOKUP(G6122,'Lista de precios'!$B$7:$C$5000,2,0))","v":""}]
[null,null,"",null,null,null,null,{"$f":"IF(G6123=\"\",\"\",VLOOKUP(G6123,'Lista de precios'!$B$7:$C$5000,2,0))","v":""}]
[null,null,"",null,null,null,null,{"$f":"IF(G6124=\"\",\"\",VLOOKUP(G6124,'Lista de precios'!$B$7:$C$5000,2,0))","v":""}]
[null,null,"",null,null,null,null,{"$f":"IF(G6125=\"\",\"\",VLOOKUP(G6125,'Lista de precios'!$B$7:$C$5000,2,0))","v":""}]
[null,null,"",null,null,null,null,{"$f":"IF(G6126=\"\",\"\",VLOOKUP(G6126,'Lista de precios'!$B$7:$C$5000,2,0))","v":""}]
[null,null,"",null,null,null,null,{"$f":"IF(G6127=\"\",\"\",VLOOKUP(G6127,'Lista de precios'!$B$7:$C$5000,2,0))","v":""}]
[null,null,"",null,null,null,null,{"$f":"IF(G6128=\"\",\"\",VLOOKUP(G6128,'Lista de precios'!$B$7:$C$5000,2,0))","v":""}]
[null,null,"",null,null,null,null,{"$f":"IF(G6129=\"\",\"\",VLOOKUP(G6129,'Lista de precios'!$B$7:$C$5000,2,0))","v":""}]
[null,null,"",null,null,null,null,{"$f":"IF(G6130=\"\",\"\",VLOOKUP(G6130,'Lista de precios'!$B$7:$C$5000,2,0))","v":""}]
[null,null,"",null,null,null,null,{"$f":"IF(G6131=\"\",\"\",VLOOKUP(G6131,'Lista de precios'!$B$7:$C$5000,2,0))","v":""}]
[null,null,"",null,null,null,null,{"$f":"IF(G6132=\"\",\"\",VLOOKUP(G6132,'Lista de precios'!$B$7:$C$5000,2,0))","v":""}]
[null,null,"",null,null,null,null,{"$f":"IF(G6133=\"\",\"\",VLOOKUP(G6133,'Lista de precios'!$B$7:$C$5000,2,0))","v":""}]
[null,null,"",null,null,null,null,{"$f":"IF(G6134=\"\",\"\",VLOOKUP(G6134,'Lista de precios'!$B$7:$C$5000,2,0))","v":""}]
[null,null,"",null,null,null,null,{"$f":"IF(G6135=\"\",\"\",VLOOKUP(G6135,'Lista de precios'!$B$7:$C$5000,2,0))","v":""}]
[null,null,"",null,null,null,null,{"$f":"IF(G6136=\"\",\"\",VLOOKUP(G6136,'Lista de precios'!$B$7:$C$5000,2,0))","v":""}]
[null,null,"",null,null,null,null,{"$f":"IF(G6137=\"\",\"\",VLOOKUP(G6137,'Lista de precios'!$B$7:$C$5000,2,0))","v":""}]
[null,null,"",null,null,null,null,{"$f":"IF(G6138=\"\",\"\",VLOOKUP(G6138,'Lista de precios'!$B$7:$C$5000,2,0))","v":""}]
[null,null,"",null,null,null,null,{"$f":"IF(G6139=\"\",\"\",VLOOKUP(G6139,'Lista de precios'!$B$7:$C$5000,2,0))","v":""}]
[null,null,"",null,null,null,null,{"$f":"IF(G6140=\"\",\"\",VLOOKUP(G6140,'Lista de precios'!$B$7:$C$5000,2,0))","v":""}]
[null,null,"",null,null,null,null,{"$f":"IF(G6141=\"\",\"\",VLOOKUP(G6141,'Lista de precios'!$B$7:$C$5000,2,0))","v":""}]
[null,null,"",null,null,null,null,{"$f":"IF(G6142=\"\",\"\",VLOOKUP(G6142,'Lista de precios'!$B$7:$C$5000,2,0))","v":""}]
[null,null,"",null,null,null,null,{"$f":"IF(G6143=\"\",\"\",VLOOKUP(G6143,'Lista de precios'!$B$7:$C$5000,2,0))","v":""}]
[null,null,"",null,null,null,null,{"$f":"IF(G6144=\"\",\"\",VLOOKUP(G6144,'Lista de precios'!$B$7:$C$5000,2,0))","v":""}]
[null,null,"",null,null,null,null,{"$f":"IF(G6145=\"\",\"\",VLOOKUP(G6145,'Lista de precios'!$B$7:$C$5000,2,0))","v":""}]
[null,null,"",null,null,null,null,{"$f":"IF(G6146=\"\",\"\",VLOOKUP(G6146,'Lista de precios'!$B$7:$C$5000,2,0))","v":""}]
[null,null,"",null,null,null,null,{"$f":"IF(G6147=\"\",\"\",VLOOKUP(G6147,'Lista de precios'!$B$7:$C$5000,2,0))","v":""}]
[null,null,"",null,null,null,null,{"$f":"IF(G6148=\"\",\"\",VLOOKUP(G6148,'Lista de precios'!$B$7:$C$5000,2,0))","v":""}]
[null,null,"",null,null,null,null,{"$f":"IF(G6149=\"\",\"\",VLOOKUP(G6149,'Lista de precios'!$B$7:$C$5000,2,0))","v":""}]
[null,null,"",null,null,null,null,{"$f":"IF(G6150=\"\",\"\",VLOOKUP(G6150,'Lista de precios'!$B$7:$C$5000,2,0))","v":""}]
[null,null,"",null,null,null,null,{"$f":"IF(G6151=\"\",\"\",VLOOKUP(G6151,'Lista de precios'!$B$7:$C$5000,2,0))","v":""}]
[null,null,"",null,null,null,null,{"$f":"IF(G6152=\"\",\"\",VLOOKUP(G6152,'Lista de precios'!$B$7:$C$5000,2,0))","v":""}]
[null,null,"",null,null,null,null,{"$f":"IF(G6153=\"\",\"\",VLOOKUP(G6153,'Lista de precios'!$B$7:$C$5000,2,0))","v":""}]
[null,null,"",null,null,null,null,{"$f":"IF(G6154=\"\",\"\",VLOOKUP(G6154,'Lista de precios'!$B$7:$C$5000,2,0))","v":""}]
[null,null,"",null,null,null,null,{"$f":"IF(G6155=\"\",\"\",VLOOKUP(G6155,'Lista de precios'!$B$7:$C$5000,2,0))","v":""}]
[null,null,{"$f":"IF(B6156=\"\",\"\",TEXT(B6156,\"Mmmm\"))","v":""},null,null,null,null,{"$f":"IF(G6156=\"\",\"\",VLOOKUP(G6156,'Lista de precios'!$B$7:$C$5000,2,0))","v":""}]
[null,null,"",null,null,null,null,{"$f":"IF(G6157=\"\",\"\",VLOOKUP(G6157,'Lista de precios'!$B$7:$C$5000,2,0))","v":""}]
[null,null,"",null,null,null,null,{"$f":"IF(G6158=\"\",\"\",VLOOKUP(G6158,'Lista de precios'!$B$7:$C$5000,2,0))","v":""}]
[null,null,"",null,null,null,null,{"$f":"IF(G6159=\"\",\"\",VLOOKUP(G6159,'Lista de precios'!$B$7:$C$5000,2,0))","v":""}]
[null,null,"",null,null,null,null,{"$f":"IF(G6160=\"\",\"\",VLOOKUP(G6160,'Lista de precios'!$B$7:$C$5000,2,0))","v":""}]
[null,null,"",null,null,null,null,{"$f":"IF(G6161=\"\",\"\",VLOOKUP(G6161,'Lista de precios'!$B$7:$C$5000,2,0))","v":""}]
[null,null,"",null,null,null,null,{"$f":"IF(G6162=\"\",\"\",VLOOKUP(G6162,'Lista de precios'!$B$7:$C$5000,2,0))","v":""}]
[null,null,"",null,null,null,null,{"$f":"IF(G6163=\"\",\"\",VLOOKUP(G6163,'Lista de precios'!$B$7:$C$5000,2,0))","v":""}]
[null,null,"",null,null,null,null,{"$f":"IF(G6164=\"\",\"\",VLOOKUP(G6164,'Lista de precios'!$B$7:$C$5000,2,0))","v":""}]
[null,null,"",null,null,null,null,{"$f":"IF(G6165=\"\",\"\",VLOOKUP(G6165,'Lista de precios'!$B$7:$C$5000,2,0))","v":""}]
[null,null,"",null,null,null,null,{"$f":"IF(G6166=\"\",\"\",VLOOKUP(G6166,'Lista de precios'!$B$7:$C$5000,2,0))","v":""}]
[null,null,"",null,null,null,null,{"$f":"IF(G6167=\"\",\"\",VLOOKUP(G6167,'Lista de precios'!$B$7:$C$5000,2,0))","v":""}]
[null,null,"",null,null,null,null,{"$f":"IF(G6168=\"\",\"\",VLOOKUP(G6168,'Lista de precios'!$B$7:$C$5000,2,0))","v":""}]
[null,null,"",null,null,null,null,{"$f":"IF(G6169=\"\",\"\",VLOOKUP(G6169,'Lista de precios'!$B$7:$C$5000,2,0))","v":""}]
[null,null,"",null,null,null,null,{"$f":"IF(G6170=\"\",\"\",VLOOKUP(G6170,'Lista de precios'!$B$7:$C$5000,2,0))","v":""}]
[null,null,"",null,null,null,null,{"$f":"IF(G6171=\"\",\"\",VLOOKUP(G6171,'Lista de precios'!$B$7:$C$5000,2,0))","v":""}]
[null,null,"",null,null,null,null,{"$f":"IF(G6172=\"\",\"\",VLOOKUP(G6172,'Lista de precios'!$B$7:$C$5000,2,0))","v":""}]
[null,null,"",null,null,null,null,{"$f":"IF(G6173=\"\",\"\",VLOOKUP(G6173,'Lista de precios'!$B$7:$C$5000,2,0))","v":""}]
[null,null,"",null,null,null,null,{"$f":"IF(G6174=\"\",\"\",VLOOKUP(G6174,'Lista de precios'!$B$7:$C$5000,2,0))","v":""}]
[null,null,"",null,null,null,null,{"$f":"IF(G6175=\"\",\"\",VLOOKUP(G6175,'Lista de precios'!$B$7:$C$5000,2,0))","v":""}]
[null,null,"",null,null,null,null,{"$f":"IF(G6176=\"\",\"\",VLOOKUP(G6176,'Lista de precios'!$B$7:$C$5000,2,0))","v":""}]
[null,null,"",null,null,null,null,{"$f":"IF(G6177=\"\",\"\",VLOOKUP(G6177,'Lista de precios'!$B$7:$C$5000,2,0))","v":""}]
[null,null,"",null,null,null,null,{"$f":"IF(G6178=\"\",\"\",VLOOKUP(G6178,'Lista de precios'!$B$7:$C$5000,2,0))","v":""}]
[null,null,"",null,null,null,null,{"$f":"IF(G6179=\"\",\"\",VLOOKUP(G6179,'Lista de precios'!$B$7:$C$5000,2,0))","v":""}]
[null,null,"",null,null,null,null,{"$f":"IF(G6180=\"\",\"\",VLOOKUP(G6180,'Lista de precios'!$B$7:$C$5000,2,0))","v":""}]
[null,null,"",null,null,null,null,{"$f":"IF(G6181=\"\",\"\",VLOOKUP(G6181,'Lista de precios'!$B$7:$C$5000,2,0))","v":""}]
[null,null,"",null,null,null,null,{"$f":"IF(G6182=\"\",\"\",VLOOKUP(G6182,'Lista de precios'!$B$7:$C$5000,2,0))","v":""}]
[null,null,"",null,null,null,null,{"$f":"IF(G6183=\"\",\"\",VLOOKUP(G6183,'Lista de precios'!$B$7:$C$5000,2,0))","v":""}]
[null,null,"",null,null,null,null,{"$f":"IF(G6184=\"\",\"\",VLOOKUP(G6184,'Lista de precios'!$B$7:$C$5000,2,0))","v":""}]
[null,null,"",null,null,null,null,{"$f":"IF(G6185=\"\",\"\",VLOOKUP(G6185,'Lista de precios'!$B$7:$C$5000,2,0))","v":""}]
[null,null,"",null,null,null,null,{"$f":"IF(G6186=\"\",\"\",VLOOKUP(G6186,'Lista de precios'!$B$7:$C$5000,2,0))","v":""}]
[null,null,"",null,null,null,null,{"$f":"IF(G6187=\"\",\"\",VLOOKUP(G6187,'Lista de precios'!$B$7:$C$5000,2,0))","v":""}]
[null,null,"",null,null,null,null,{"$f":"IF(G6188=\"\",\"\",VLOOKUP(G6188,'Lista de precios'!$B$7:$C$5000,2,0))","v":""}]
[null,null,"",null,null,null,null,{"$f":"IF(G6189=\"\",\"\",VLOOKUP(G6189,'Lista de precios'!$B$7:$C$5000,2,0))","v":""}]
[null,null,"",null,null,null,null,{"$f":"IF(G6190=\"\",\"\",VLOOKUP(G6190,'Lista de precios'!$B$7:$C$5000,2,0))","v":""}]
[null,null,"",null,null,null,null,{"$f":"IF(G6191=\"\",\"\",VLOOKUP(G6191,'Lista de precios'!$B$7:$C$5000,2,0))","v":""}]
[null,null,"",null,null,null,null,{"$f":"IF(G6192=\"\",\"\",VLOOKUP(G6192,'Lista de precios'!$B$7:$C$5000,2,0))","v":""}]
[null,null,"",null,null,null,null,{"$f":"IF(G6193=\"\",\"\",VLOOKUP(G6193,'Lista de precios'!$B$7:$C$5000,2,0))","v":""}]
[null,null,"",null,null,null,null,{"$f":"IF(G6194=\"\",\"\",VLOOKUP(G6194,'Lista de precios'!$B$7:$C$5000,2,0))","v":""}]
[null,null,"",null,null,null,null,{"$f":"IF(G6195=\"\",\"\",VLOOKUP(G6195,'Lista de precios'!$B$7:$C$5000,2,0))","v":""}]
[null,null,"",null,null,null,null,{"$f":"IF(G6196=\"\",\"\",VLOOKUP(G6196,'Lista de precios'!$B$7:$C$5000,2,0))","v":""}]
[null,null,"",null,null,null,null,{"$f":"IF(G6197=\"\",\"\",VLOOKUP(G6197,'Lista de precios'!$B$7:$C$5000,2,0))","v":""}]
[null,null,"",null,null,null,null,{"$f":"IF(G6198=\"\",\"\",VLOOKUP(G6198,'Lista de precios'!$B$7:$C$5000,2,0))","v":""}]
[null,null,"",null,null,null,null,{"$f":"IF(G6199=\"\",\"\",VLOOKUP(G6199,'Lista de precios'!$B$7:$C$5000,2,0))","v":""}]
[null,null,"",null,null,null,null,{"$f":"IF(G6200=\"\",\"\",VLOOKUP(G6200,'Lista de precios'!$B$7:$C$5000,2,0))","v":""}]
[null,null,"",null,null,null,null,{"$f":"IF(G6201=\"\",\"\",VLOOKUP(G6201,'Lista de precios'!$B$7:$C$5000,2,0))","v":""}]
[null,null,"",null,null,null,null,{"$f":"IF(G6202=\"\",\"\",VLOOKUP(G6202,'Lista de precios'!$B$7:$C$5000,2,0))","v":""}]
[null,null,"",null,null,null,null,{"$f":"IF(G6203=\"\",\"\",VLOOKUP(G6203,'Lista de precios'!$B$7:$C$5000,2,0))","v":""}]
[null,null,"",null,null,null,null,{"$f":"IF(G6204=\"\",\"\",VLOOKUP(G6204,'Lista de precios'!$B$7:$C$5000,2,0))","v":""}]
[null,null,"",null,null,null,null,{"$f":"IF(G6205=\"\",\"\",VLOOKUP(G6205,'Lista de precios'!$B$7:$C$5000,2,0))","v":""}]
[null,null,"",null,null,null,null,{"$f":"IF(G6206=\"\",\"\",VLOOKUP(G6206,'Lista de precios'!$B$7:$C$5000,2,0))","v":""}]
[null,null,"",null,null,null,null,{"$f":"IF(G6207=\"\",\"\",VLOOKUP(G6207,'Lista de precios'!$B$7:$C$5000,2,0))","v":""}]
[null,null,"",null,null,null,null,{"$f":"IF(G6208=\"\",\"\",VLOOKUP(G6208,'Lista de precios'!$B$7:$C$5000,2,0))","v":""}]
[null,null,"",null,null,null,null,{"$f":"IF(G6209=\"\",\"\",VLOOKUP(G6209,'Lista de precios'!$B$7:$C$5000,2,0))","v":""}]
[null,null,"",null,null,null,null,{"$f":"IF(G6210=\"\",\"\",VLOOKUP(G6210,'Lista de precios'!$B$7:$C$5000,2,0))","v":""}]
[null,null,"",null,null,null,null,{"$f":"IF(G6211=\"\",\"\",VLOOKUP(G6211,'Lista de precios'!$B$7:$C$5000,2,0))","v":""}]
[null,null,"",null,null,null,null,{"$f":"IF(G6212=\"\",\"\",VLOOKUP(G6212,'Lista de precios'!$B$7:$C$5000,2,0))","v":""}]
[null,null,"",null,null,null,null,{"$f":"IF(G6213=\"\",\"\",VLOOKUP(G6213,'Lista de precios'!$B$7:$C$5000,2,0))","v":""}]
[null,null,"",null,null,null,null,{"$f":"IF(G6214=\"\",\"\",VLOOKUP(G6214,'Lista de precios'!$B$7:$C$5000,2,0))","v":""}]
[null,null,"",null,null,null,null,{"$f":"IF(G6215=\"\",\"\",VLOOKUP(G6215,'Lista de precios'!$B$7:$C$5000,2,0))","v":""}]
[null,null,"",null,null,null,null,{"$f":"IF(G6216=\"\",\"\",VLOOKUP(G6216,'Lista de precios'!$B$7:$C$5000,2,0))","v":""}]
[null,null,"",null,null,null,null,{"$f":"IF(G6217=\"\",\"\",VLOOKUP(G6217,'Lista de precios'!$B$7:$C$5000,2,0))","v":""}]
[null,null,"",null,null,null,null,{"$f":"IF(G6218=\"\",\"\",VLOOKUP(G6218,'Lista de precios'!$B$7:$C$5000,2,0))","v":""}]
[null,null,"",null,null,null,null,{"$f":"IF(G6219=\"\",\"\",VLOOKUP(G6219,'Lista de precios'!$B$7:$C$5000,2,0))","v":""}]
[null,null,{"$f":"IF(B6220=\"\",\"\",TEXT(B6220,\"Mmmm\"))","v":""},null,null,null,null,{"$f":"IF(G6220=\"\",\"\",VLOOKUP(G6220,'Lista de precios'!$B$7:$C$5000,2,0))","v":""}]
[null,null,"",null,null,null,null,{"$f":"IF(G6221=\"\",\"\",VLOOKUP(G6221,'Lista de precios'!$B$7:$C$5000,2,0))","v":""}]
[null,null,"",null,null,null,null,{"$f":"IF(G6222=\"\",\"\",VLOOKUP(G6222,'Lista de precios'!$B$7:$C$5000,2,0))","v":""}]
[null,null,"",null,null,null,null,{"$f":"IF(G6223=\"\",\"\",VLOOKUP(G6223,'Lista de precios'!$B$7:$C$5000,2,0))","v":""}]
[null,null,"",null,null,null,null,{"$f":"IF(G6224=\"\",\"\",VLOOKUP(G6224,'Lista de precios'!$B$7:$C$5000,2,0))","v":""}]
[null,null,"",null,null,null,null,{"$f":"IF(G6225=\"\",\"\",VLOOKUP(G6225,'Lista de precios'!$B$7:$C$5000,2,0))","v":""}]
[null,null,"",null,null,null,null,{"$f":"IF(G6226=\"\",\"\",VLOOKUP(G6226,'Lista de precios'!$B$7:$C$5000,2,0))","v":""}]
[null,null,"",null,null,null,null,{"$f":"IF(G6227=\"\",\"\",VLOOKUP(G6227,'Lista de precios'!$B$7:$C$5000,2,0))","v":""}]
[null,null,"",null,null,null,null,{"$f":"IF(G6228=\"\",\"\",VLOOKUP(G6228,'Lista de precios'!$B$7:$C$5000,2,0))","v":""}]
[null,null,"",null,null,null,null,{"$f":"IF(G6229=\"\",\"\",VLOOKUP(G6229,'Lista de precios'!$B$7:$C$5000,2,0))","v":""}]
[null,null,"",null,null,null,null,{"$f":"IF(G6230=\"\",\"\",VLOOKUP(G6230,'Lista de precios'!$B$7:$C$5000,2,0))","v":""}]
[null,null,"",null,null,null,null,{"$f":"IF(G6231=\"\",\"\",VLOOKUP(G6231,'Lista de precios'!$B$7:$C$5000,2,0))","v":""}]
[null,null,"",null,null,null,null,{"$f":"IF(G6232=\"\",\"\",VLOOKUP(G6232,'Lista de precios'!$B$7:$C$5000,2,0))","v":""}]
[null,null,"",null,null,null,null,{"$f":"IF(G6233=\"\",\"\",VLOOKUP(G6233,'Lista de precios'!$B$7:$C$5000,2,0))","v":""}]
[null,null,"",null,null,null,null,{"$f":"IF(G6234=\"\",\"\",VLOOKUP(G6234,'Lista de precios'!$B$7:$C$5000,2,0))","v":""}]
[null,null,"",null,null,null,null,{"$f":"IF(G6235=\"\",\"\",VLOOKUP(G6235,'Lista de precios'!$B$7:$C$5000,2,0))","v":""}]
[null,null,"",null,null,null,null,{"$f":"IF(G6236=\"\",\"\",VLOOKUP(G6236,'Lista de precios'!$B$7:$C$5000,2,0))","v":""}]
[null,null,"",null,null,null,null,{"$f":"IF(G6237=\"\",\"\",VLOOKUP(G6237,'Lista de precios'!$B$7:$C$5000,2,0))","v":""}]
[null,null,"",null,null,null,null,{"$f":"IF(G6238=\"\",\"\",VLOOKUP(G6238,'Lista de precios'!$B$7:$C$5000,2,0))","v":""}]
[null,null,"",null,null,null,null,{"$f":"IF(G6239=\"\",\"\",VLOOKUP(G6239,'Lista de precios'!$B$7:$C$5000,2,0))","v":""}]
[null,null,"",null,null,null,null,{"$f":"IF(G6240=\"\",\"\",VLOOKUP(G6240,'Lista de precios'!$B$7:$C$5000,2,0))","v":""}]
[null,null,"",null,null,null,null,{"$f":"IF(G6241=\"\",\"\",VLOOKUP(G6241,'Lista de precios'!$B$7:$C$5000,2,0))","v":""}]
[null,null,"",null,null,null,null,{"$f":"IF(G6242=\"\",\"\",VLOOKUP(G6242,'Lista de precios'!$B$7:$C$5000,2,0))","v":""}]
[null,null,"",null,null,null,null,{"$f":"IF(G6243=\"\",\"\",VLOOKUP(G6243,'Lista de precios'!$B$7:$C$5000,2,0))","v":""}]
[null,null,"",null,null,null,null,{"$f":"IF(G6244=\"\",\"\",VLOOKUP(G6244,'Lista de precios'!$B$7:$C$5000,2,0))","v":""}]
[null,null,"",null,null,null,null,{"$f":"IF(G6245=\"\",\"\",VLOOKUP(G6245,'Lista de precios'!$B$7:$C$5000,2,0))","v":""}]
[null,null,"",null,null,null,null,{"$f":"IF(G6246=\"\",\"\",VLOOKUP(G6246,'Lista de precios'!$B$7:$C$5000,2,0))","v":""}]
[null,null,"",null,null,null,null,{"$f":"IF(G6247=\"\",\"\",VLOOKUP(G6247,'Lista de precios'!$B$7:$C$5000,2,0))","v":""}]
[null,null,"",null,null,null,null,{"$f":"IF(G6248=\"\",\"\",VLOOKUP(G6248,'Lista de precios'!$B$7:$C$5000,2,0))","v":""}]
[null,null,"",null,null,null,null,{"$f":"IF(G6249=\"\",\"\",VLOOKUP(G6249,'Lista de precios'!$B$7:$C$5000,2,0))","v":""}]
[null,null,"",null,null,null,null,{"$f":"IF(G6250=\"\",\"\",VLOOKUP(G6250,'Lista de precios'!$B$7:$C$5000,2,0))","v":""}]
[null,null,"",null,null,null,null,{"$f":"IF(G6251=\"\",\"\",VLOOKUP(G6251,'Lista de precios'!$B$7:$C$5000,2,0))","v":""}]
[null,null,"",null,null,null,null,{"$f":"IF(G6252=\"\",\"\",VLOOKUP(G6252,'Lista de precios'!$B$7:$C$5000,2,0))","v":""}]
[null,null,"",null,null,null,null,{"$f":"IF(G6253=\"\",\"\",VLOOKUP(G6253,'Lista de precios'!$B$7:$C$5000,2,0))","v":""}]
[null,null,"",null,null,null,null,{"$f":"IF(G6254=\"\",\"\",VLOOKUP(G6254,'Lista de precios'!$B$7:$C$5000,2,0))","v":""}]
[null,null,"",null,null,null,null,{"$f":"IF(G6255=\"\",\"\",VLOOKUP(G6255,'Lista de precios'!$B$7:$C$5000,2,0))","v":""}]
[null,null,"",null,null,null,null,{"$f":"IF(G6256=\"\",\"\",VLOOKUP(G6256,'Lista de precios'!$B$7:$C$5000,2,0))","v":""}]
[null,null,"",null,null,null,null,{"$f":"IF(G6257=\"\",\"\",VLOOKUP(G6257,'Lista de precios'!$B$7:$C$5000,2,0))","v":""}]
[null,null,"",null,null,null,null,{"$f":"IF(G6258=\"\",\"\",VLOOKUP(G6258,'Lista de precios'!$B$7:$C$5000,2,0))","v":""}]
[null,null,"",null,null,null,null,{"$f":"IF(G6259=\"\",\"\",VLOOKUP(G6259,'Lista de precios'!$B$7:$C$5000,2,0))","v":""}]
[null,null,"",null,null,null,null,{"$f":"IF(G6260=\"\",\"\",VLOOKUP(G6260,'Lista de precios'!$B$7:$C$5000,2,0))","v":""}]
[null,null,"",null,null,null,null,{"$f":"IF(G6261=\"\",\"\",VLOOKUP(G6261,'Lista de precios'!$B$7:$C$5000,2,0))","v":""}]
[null,null,"",null,null,null,null,{"$f":"IF(G6262=\"\",\"\",VLOOKUP(G6262,'Lista de precios'!$B$7:$C$5000,2,0))","v":""}]
[null,null,"",null,null,null,null,{"$f":"IF(G6263=\"\",\"\",VLOOKUP(G6263,'Lista de precios'!$B$7:$C$5000,2,0))","v":""}]
[null,null,"",null,null,null,null,{"$f":"IF(G6264=\"\",\"\",VLOOKUP(G6264,'Lista de precios'!$B$7:$C$5000,2,0))","v":""}]
[null,null,"",null,null,null,null,{"$f":"IF(G6265=\"\",\"\",VLOOKUP(G6265,'Lista de precios'!$B$7:$C$5000,2,0))","v":""}]
[null,null,"",null,null,null,null,{"$f":"IF(G6266=\"\",\"\",VLOOKUP(G6266,'Lista de precios'!$B$7:$C$5000,2,0))","v":""}]
[null,null,"",null,null,null,null,{"$f":"IF(G6267=\"\",\"\",VLOOKUP(G6267,'Lista de precios'!$B$7:$C$5000,2,0))","v":""}]
[null,null,"",null,null,null,null,{"$f":"IF(G6268=\"\",\"\",VLOOKUP(G6268,'Lista de precios'!$B$7:$C$5000,2,0))","v":""}]
[null,null,"",null,null,null,null,{"$f":"IF(G6269=\"\",\"\",VLOOKUP(G6269,'Lista de precios'!$B$7:$C$5000,2,0))","v":""}]
[null,null,"",null,null,null,null,{"$f":"IF(G6270=\"\",\"\",VLOOKUP(G6270,'Lista de precios'!$B$7:$C$5000,2,0))","v":""}]
[null,null,"",null,null,null,null,{"$f":"IF(G6271=\"\",\"\",VLOOKUP(G6271,'Lista de precios'!$B$7:$C$5000,2,0))","v":""}]
[null,null,"",null,null,null,null,{"$f":"IF(G6272=\"\",\"\",VLOOKUP(G6272,'Lista de precios'!$B$7:$C$5000,2,0))","v":""}]
[null,null,"",null,null,null,null,{"$f":"IF(G6273=\"\",\"\",VLOOKUP(G6273,'Lista de precios'!$B$7:$C$5000,2,0))","v":""}]
[null,null,"",null,null,null,null,{"$f":"IF(G6274=\"\",\"\",VLOOKUP(G6274,'Lista de precios'!$B$7:$C$5000,2,0))","v":""}]
[null,null,"",null,null,null,null,{"$f":"IF(G6275=\"\",\"\",VLOOKUP(G6275,'Lista de precios'!$B$7:$C$5000,2,0))","v":""}]
[null,null,"",null,null,null,null,{"$f":"IF(G6276=\"\",\"\",VLOOKUP(G6276,'Lista de precios'!$B$7:$C$5000,2,0))","v":""}]
[null,null,"",null,null,null,null,{"$f":"IF(G6277=\"\",\"\",VLOOKUP(G6277,'Lista de precios'!$B$7:$C$5000,2,0))","v":""}]
[null,null,"",null,null,null,null,{"$f":"IF(G6278=\"\",\"\",VLOOKUP(G6278,'Lista de precios'!$B$7:$C$5000,2,0))","v":""}]
[null,null,"",null,null,null,null,{"$f":"IF(G6279=\"\",\"\",VLOOKUP(G6279,'Lista de precios'!$B$7:$C$5000,2,0))","v":""}]
[null,null,"",null,null,null,null,{"$f":"IF(G6280=\"\",\"\",VLOOKUP(G6280,'Lista de precios'!$B$7:$C$5000,2,0))","v":""}]
[null,null,"",null,null,null,null,{"$f":"IF(G6281=\"\",\"\",VLOOKUP(G6281,'Lista de precios'!$B$7:$C$5000,2,0))","v":""}]
[null,null,"",null,null,null,null,{"$f":"IF(G6282=\"\",\"\",VLOOKUP(G6282,'Lista de precios'!$B$7:$C$5000,2,0))","v":""}]
[null,null,"",null,null,null,null,{"$f":"IF(G6283=\"\",\"\",VLOOKUP(G6283,'Lista de precios'!$B$7:$C$5000,2,0))","v":""}]
[null,null,{"$f":"IF(B6284=\"\",\"\",TEXT(B6284,\"Mmmm\"))","v":""},null,null,null,null,{"$f":"IF(G6284=\"\",\"\",VLOOKUP(G6284,'Lista de precios'!$B$7:$C$5000,2,0))","v":""}]
[null,null,"",null,null,null,null,{"$f":"IF(G6285=\"\",\"\",VLOOKUP(G6285,'Lista de precios'!$B$7:$C$5000,2,0))","v":""}]
[null,null,"",null,null,null,null,{"$f":"IF(G6286=\"\",\"\",VLOOKUP(G6286,'Lista de precios'!$B$7:$C$5000,2,0))","v":""}]
[null,null,"",null,null,null,null,{"$f":"IF(G6287=\"\",\"\",VLOOKUP(G6287,'Lista de precios'!$B$7:$C$5000,2,0))","v":""}]
[null,null,"",null,null,null,null,{"$f":"IF(G6288=\"\",\"\",VLOOKUP(G6288,'Lista de precios'!$B$7:$C$5000,2,0))","v":""}]
[null,null,"",null,null,null,null,{"$f":"IF(G6289=\"\",\"\",VLOOKUP(G6289,'Lista de precios'!$B$7:$C$5000,2,0))","v":""}]
[null,null,"",null,null,null,null,{"$f":"IF(G6290=\"\",\"\",VLOOKUP(G6290,'Lista de precios'!$B$7:$C$5000,2,0))","v":""}]
[null,null,"",null,null,null,null,{"$f":"IF(G6291=\"\",\"\",VLOOKUP(G6291,'Lista de precios'!$B$7:$C$5000,2,0))","v":""}]
[null,null,"",null,null,null,null,{"$f":"IF(G6292=\"\",\"\",VLOOKUP(G6292,'Lista de precios'!$B$7:$C$5000,2,0))","v":""}]
[null,null,"",null,null,null,null,{"$f":"IF(G6293=\"\",\"\",VLOOKUP(G6293,'Lista de precios'!$B$7:$C$5000,2,0))","v":""}]
[null,null,"",null,null,null,null,{"$f":"IF(G6294=\"\",\"\",VLOOKUP(G6294,'Lista de precios'!$B$7:$C$5000,2,0))","v":""}]
[null,null,"",null,null,null,null,{"$f":"IF(G6295=\"\",\"\",VLOOKUP(G6295,'Lista de precios'!$B$7:$C$5000,2,0))","v":""}]
[null,null,"",null,null,null,null,{"$f":"IF(G6296=\"\",\"\",VLOOKUP(G6296,'Lista de precios'!$B$7:$C$5000,2,0))","v":""}]
[null,null,"",null,null,null,null,{"$f":"IF(G6297=\"\",\"\",VLOOKUP(G6297,'Lista de precios'!$B$7:$C$5000,2,0))","v":""}]
[null,null,"",null,null,null,null,{"$f":"IF(G6298=\"\",\"\",VLOOKUP(G6298,'Lista de precios'!$B$7:$C$5000,2,0))","v":""}]
[null,null,"",null,null,null,null,{"$f":"IF(G6299=\"\",\"\",VLOOKUP(G6299,'Lista de precios'!$B$7:$C$5000,2,0))","v":""}]
[null,null,"",null,null,null,null,{"$f":"IF(G6300=\"\",\"\",VLOOKUP(G6300,'Lista de precios'!$B$7:$C$5000,2,0))","v":""}]
[null,null,"",null,null,null,null,{"$f":"IF(G6301=\"\",\"\",VLOOKUP(G6301,'Lista de precios'!$B$7:$C$5000,2,0))","v":""}]
[null,null,"",null,null,null,null,{"$f":"IF(G6302=\"\",\"\",VLOOKUP(G6302,'Lista de precios'!$B$7:$C$5000,2,0))","v":""}]
[null,null,"",null,null,null,null,{"$f":"IF(G6303=\"\",\"\",VLOOKUP(G6303,'Lista de precios'!$B$7:$C$5000,2,0))","v":""}]
[null,null,"",null,null,null,null,{"$f":"IF(G6304=\"\",\"\",VLOOKUP(G6304,'Lista de precios'!$B$7:$C$5000,2,0))","v":""}]
[null,null,"",null,null,null,null,{"$f":"IF(G6305=\"\",\"\",VLOOKUP(G6305,'Lista de precios'!$B$7:$C$5000,2,0))","v":""}]
[null,null,"",null,null,null,null,{"$f":"IF(G6306=\"\",\"\",VLOOKUP(G6306,'Lista de precios'!$B$7:$C$5000,2,0))","v":""}]
[null,null,"",null,null,null,null,{"$f":"IF(G6307=\"\",\"\",VLOOKUP(G6307,'Lista de precios'!$B$7:$C$5000,2,0))","v":""}]
[null,null,"",null,null,null,null,{"$f":"IF(G6308=\"\",\"\",VLOOKUP(G6308,'Lista de precios'!$B$7:$C$5000,2,0))","v":""}]
[null,null,"",null,null,null,null,{"$f":"IF(G6309=\"\",\"\",VLOOKUP(G6309,'Lista de precios'!$B$7:$C$5000,2,0))","v":""}]
[null,null,"",null,null,null,null,{"$f":"IF(G6310=\"\",\"\",VLOOKUP(G6310,'Lista de precios'!$B$7:$C$5000,2,0))","v":""}]
[null,null,"",null,null,null,null,{"$f":"IF(G6311=\"\",\"\",VLOOKUP(G6311,'Lista de precios'!$B$7:$C$5000,2,0))","v":""}]
[null,null,"",null,null,null,null,{"$f":"IF(G6312=\"\",\"\",VLOOKUP(G6312,'Lista de precios'!$B$7:$C$5000,2,0))","v":""}]
[null,null,"",null,null,null,null,{"$f":"IF(G6313=\"\",\"\",VLOOKUP(G6313,'Lista de precios'!$B$7:$C$5000,2,0))","v":""}]
[null,null,"",null,null,null,null,{"$f":"IF(G6314=\"\",\"\",VLOOKUP(G6314,'Lista de precios'!$B$7:$C$5000,2,0))","v":""}]
[null,null,"",null,null,null,null,{"$f":"IF(G6315=\"\",\"\",VLOOKUP(G6315,'Lista de precios'!$B$7:$C$5000,2,0))","v":""}]
[null,null,"",null,null,null,null,{"$f":"IF(G6316=\"\",\"\",VLOOKUP(G6316,'Lista de precios'!$B$7:$C$5000,2,0))","v":""}]
[null,null,"",null,null,null,null,{"$f":"IF(G6317=\"\",\"\",VLOOKUP(G6317,'Lista de precios'!$B$7:$C$5000,2,0))","v":""}]
[null,null,"",null,null,null,null,{"$f":"IF(G6318=\"\",\"\",VLOOKUP(G6318,'Lista de precios'!$B$7:$C$5000,2,0))","v":""}]
[null,null,"",null,null,null,null,{"$f":"IF(G6319=\"\",\"\",VLOOKUP(G6319,'Lista de precios'!$B$7:$C$5000,2,0))","v":""}]
[null,null,"",null,null,null,null,{"$f":"IF(G6320=\"\",\"\",VLOOKUP(G6320,'Lista de precios'!$B$7:$C$5000,2,0))","v":""}]
[null,null,"",null,null,null,null,{"$f":"IF(G6321=\"\",\"\",VLOOKUP(G6321,'Lista de precios'!$B$7:$C$5000,2,0))","v":""}]
[null,null,"",null,null,null,null,{"$f":"IF(G6322=\"\",\"\",VLOOKUP(G6322,'Lista de precios'!$B$7:$C$5000,2,0))","v":""}]
[null,null,"",null,null,null,null,{"$f":"IF(G6323=\"\",\"\",VLOOKUP(G6323,'Lista de precios'!$B$7:$C$5000,2,0))","v":""}]
[null,null,"",null,null,null,null,{"$f":"IF(G6324=\"\",\"\",VLOOKUP(G6324,'Lista de precios'!$B$7:$C$5000,2,0))","v":""}]
[null,null,"",null,null,null,null,{"$f":"IF(G6325=\"\",\"\",VLOOKUP(G6325,'Lista de precios'!$B$7:$C$5000,2,0))","v":""}]
[null,null,"",null,null,null,null,{"$f":"IF(G6326=\"\",\"\",VLOOKUP(G6326,'Lista de precios'!$B$7:$C$5000,2,0))","v":""}]
[null,null,"",null,null,null,null,{"$f":"IF(G6327=\"\",\"\",VLOOKUP(G6327,'Lista de precios'!$B$7:$C$5000,2,0))","v":""}]
[null,null,"",null,null,null,null,{"$f":"IF(G6328=\"\",\"\",VLOOKUP(G6328,'Lista de precios'!$B$7:$C$5000,2,0))","v":""}]
[null,null,"",null,null,null,null,{"$f":"IF(G6329=\"\",\"\",VLOOKUP(G6329,'Lista de precios'!$B$7:$C$5000,2,0))","v":""}]
[null,null,"",null,null,null,null,{"$f":"IF(G6330=\"\",\"\",VLOOKUP(G6330,'Lista de precios'!$B$7:$C$5000,2,0))","v":""}]
[null,null,"",null,null,null,null,{"$f":"IF(G6331=\"\",\"\",VLOOKUP(G6331,'Lista de precios'!$B$7:$C$5000,2,0))","v":""}]
[null,null,"",null,null,null,null,{"$f":"IF(G6332=\"\",\"\",VLOOKUP(G6332,'Lista de precios'!$B$7:$C$5000,2,0))","v":""}]
[null,null,"",null,null,null,null,{"$f":"IF(G6333=\"\",\"\",VLOOKUP(G6333,'Lista de precios'!$B$7:$C$5000,2,0))","v":""}]
[null,null,"",null,null,null,null,{"$f":"IF(G6334=\"\",\"\",VLOOKUP(G6334,'Lista de precios'!$B$7:$C$5000,2,0))","v":""}]
[null,null,"",null,null,null,null,{"$f":"IF(G6335=\"\",\"\",VLOOKUP(G6335,'Lista de precios'!$B$7:$C$5000,2,0))","v":""}]
[null,null,"",null,null,null,null,{"$f":"IF(G6336=\"\",\"\",VLOOKUP(G6336,'Lista de precios'!$B$7:$C$5000,2,0))","v":""}]
[null,null,"",null,null,null,null,{"$f":"IF(G6337=\"\",\"\",VLOOKUP(G6337,'Lista de precios'!$B$7:$C$5000,2,0))","v":""}]
[null,null,"",null,null,null,null,{"$f":"IF(G6338=\"\",\"\",VLOOKUP(G6338,'Lista de precios'!$B$7:$C$5000,2,0))","v":""}]
[null,null,"",null,null,null,null,{"$f":"IF(G6339=\"\",\"\",VLOOKUP(G6339,'Lista de precios'!$B$7:$C$5000,2,0))","v":""}]
[null,null,"",null,null,null,null,{"$f":"IF(G6340=\"\",\"\",VLOOKUP(G6340,'Lista de precios'!$B$7:$C$5000,2,0))","v":""}]
[null,null,"",null,null,null,null,{"$f":"IF(G6341=\"\",\"\",VLOOKUP(G6341,'Lista de precios'!$B$7:$C$5000,2,0))","v":""}]
[null,null,"",null,null,null,null,{"$f":"IF(G6342=\"\",\"\",VLOOKUP(G6342,'Lista de precios'!$B$7:$C$5000,2,0))","v":""}]
[null,null,"",null,null,null,null,{"$f":"IF(G6343=\"\",\"\",VLOOKUP(G6343,'Lista de precios'!$B$7:$C$5000,2,0))","v":""}]
[null,null,"",null,null,null,null,{"$f":"IF(G6344=\"\",\"\",VLOOKUP(G6344,'Lista de precios'!$B$7:$C$5000,2,0))","v":""}]
[null,null,"",null,null,null,null,{"$f":"IF(G6345=\"\",\"\",VLOOKUP(G6345,'Lista de precios'!$B$7:$C$5000,2,0))","v":""}]
[null,null,"",null,null,null,null,{"$f":"IF(G6346=\"\",\"\",VLOOKUP(G6346,'Lista de precios'!$B$7:$C$5000,2,0))","v":""}]
[null,null,"",null,null,null,null,{"$f":"IF(G6347=\"\",\"\",VLOOKUP(G6347,'Lista de precios'!$B$7:$C$5000,2,0))","v":""}]
[null,null,{"$f":"IF(B6348=\"\",\"\",TEXT(B6348,\"Mmmm\"))","v":""},null,null,null,null,{"$f":"IF(G6348=\"\",\"\",VLOOKUP(G6348,'Lista de precios'!$B$7:$C$5000,2,0))","v":""}]
[null,null,"",null,null,null,null,{"$f":"IF(G6349=\"\",\"\",VLOOKUP(G6349,'Lista de precios'!$B$7:$C$5000,2,0))","v":""}]
[null,null,"",null,null,null,null,{"$f":"IF(G6350=\"\",\"\",VLOOKUP(G6350,'Lista de precios'!$B$7:$C$5000,2,0))","v":""}]
[null,null,"",null,null,null,null,{"$f":"IF(G6351=\"\",\"\",VLOOKUP(G6351,'Lista de precios'!$B$7:$C$5000,2,0))","v":""}]
[null,null,"",null,null,null,null,{"$f":"IF(G6352=\"\",\"\",VLOOKUP(G6352,'Lista de precios'!$B$7:$C$5000,2,0))","v":""}]
[null,null,"",null,null,null,null,{"$f":"IF(G6353=\"\",\"\",VLOOKUP(G6353,'Lista de precios'!$B$7:$C$5000,2,0))","v":""}]
[null,null,"",null,null,null,null,{"$f":"IF(G6354=\"\",\"\",VLOOKUP(G6354,'Lista de precios'!$B$7:$C$5000,2,0))","v":""}]
[null,null,"",null,null,null,null,{"$f":"IF(G6355=\"\",\"\",VLOOKUP(G6355,'Lista de precios'!$B$7:$C$5000,2,0))","v":""}]
[null,null,"",null,null,null,null,{"$f":"IF(G6356=\"\",\"\",VLOOKUP(G6356,'Lista de precios'!$B$7:$C$5000,2,0))","v":""}]
[null,null,"",null,null,null,null,{"$f":"IF(G6357=\"\",\"\",VLOOKUP(G6357,'Lista de precios'!$B$7:$C$5000,2,0))","v":""}]
[null,null,"",null,null,null,null,{"$f":"IF(G6358=\"\",\"\",VLOOKUP(G6358,'Lista de precios'!$B$7:$C$5000,2,0))","v":""}]
[null,null,"",null,null,null,null,{"$f":"IF(G6359=\"\",\"\",VLOOKUP(G6359,'Lista de precios'!$B$7:$C$5000,2,0))","v":""}]
[null,null,"",null,null,null,null,{"$f":"IF(G6360=\"\",\"\",VLOOKUP(G6360,'Lista de precios'!$B$7:$C$5000,2,0))","v":""}]
[null,null,"",null,null,null,null,{"$f":"IF(G6361=\"\",\"\",VLOOKUP(G6361,'Lista de precios'!$B$7:$C$5000,2,0))","v":""}]
[null,null,"",null,null,null,null,{"$f":"IF(G6362=\"\",\"\",VLOOKUP(G6362,'Lista de precios'!$B$7:$C$5000,2,0))","v":""}]
[null,null,"",null,null,null,null,{"$f":"IF(G6363=\"\",\"\",VLOOKUP(G6363,'Lista de precios'!$B$7:$C$5000,2,0))","v":""}]
[null,null,"",null,null,null,null,{"$f":"IF(G6364=\"\",\"\",VLOOKUP(G6364,'Lista de precios'!$B$7:$C$5000,2,0))","v":""}]
[null,null,"",null,null,null,null,{"$f":"IF(G6365=\"\",\"\",VLOOKUP(G6365,'Lista de precios'!$B$7:$C$5000,2,0))","v":""}]
[null,null,"",null,null,null,null,{"$f":"IF(G6366=\"\",\"\",VLOOKUP(G6366,'Lista de precios'!$B$7:$C$5000,2,0))","v":""}]
[null,null,"",null,null,null,null,{"$f":"IF(G6367=\"\",\"\",VLOOKUP(G6367,'Lista de precios'!$B$7:$C$5000,2,0))","v":""}]
[null,null,"",null,null,null,null,{"$f":"IF(G6368=\"\",\"\",VLOOKUP(G6368,'Lista de precios'!$B$7:$C$5000,2,0))","v":""}]
[null,null,"",null,null,null,null,{"$f":"IF(G6369=\"\",\"\",VLOOKUP(G6369,'Lista de precios'!$B$7:$C$5000,2,0))","v":""}]
[null,null,"",null,null,null,null,{"$f":"IF(G6370=\"\",\"\",VLOOKUP(G6370,'Lista de precios'!$B$7:$C$5000,2,0))","v":""}]
[null,null,"",null,null,null,null,{"$f":"IF(G6371=\"\",\"\",VLOOKUP(G6371,'Lista de precios'!$B$7:$C$5000,2,0))","v":""}]
[null,null,"",null,null,null,null,{"$f":"IF(G6372=\"\",\"\",VLOOKUP(G6372,'Lista de precios'!$B$7:$C$5000,2,0))","v":""}]
[null,null,"",null,null,null,null,{"$f":"IF(G6373=\"\",\"\",VLOOKUP(G6373,'Lista de precios'!$B$7:$C$5000,2,0))","v":""}]
[null,null,"",null,null,null,null,{"$f":"IF(G6374=\"\",\"\",VLOOKUP(G6374,'Lista de precios'!$B$7:$C$5000,2,0))","v":""}]
[null,null,"",null,null,null,null,{"$f":"IF(G6375=\"\",\"\",VLOOKUP(G6375,'Lista de precios'!$B$7:$C$5000,2,0))","v":""}]
[null,null,"",null,null,null,null,{"$f":"IF(G6376=\"\",\"\",VLOOKUP(G6376,'Lista de precios'!$B$7:$C$5000,2,0))","v":""}]
[null,null,"",null,null,null,null,{"$f":"IF(G6377=\"\",\"\",VLOOKUP(G6377,'Lista de precios'!$B$7:$C$5000,2,0))","v":""}]
[null,null,"",null,null,null,null,{"$f":"IF(G6378=\"\",\"\",VLOOKUP(G6378,'Lista de precios'!$B$7:$C$5000,2,0))","v":""}]
[null,null,"",null,null,null,null,{"$f":"IF(G6379=\"\",\"\",VLOOKUP(G6379,'Lista de precios'!$B$7:$C$5000,2,0))","v":""}]
[null,null,"",null,null,null,null,{"$f":"IF(G6380=\"\",\"\",VLOOKUP(G6380,'Lista de precios'!$B$7:$C$5000,2,0))","v":""}]
[null,null,"",null,null,null,null,{"$f":"IF(G6381=\"\",\"\",VLOOKUP(G6381,'Lista de precios'!$B$7:$C$5000,2,0))","v":""}]
[null,null,"",null,null,null,null,{"$f":"IF(G6382=\"\",\"\",VLOOKUP(G6382,'Lista de precios'!$B$7:$C$5000,2,0))","v":""}]
[null,null,"",null,null,null,null,{"$f":"IF(G6383=\"\",\"\",VLOOKUP(G6383,'Lista de precios'!$B$7:$C$5000,2,0))","v":""}]
[null,null,"",null,null,null,null,{"$f":"IF(G6384=\"\",\"\",VLOOKUP(G6384,'Lista de precios'!$B$7:$C$5000,2,0))","v":""}]
[null,null,"",null,null,null,null,{"$f":"IF(G6385=\"\",\"\",VLOOKUP(G6385,'Lista de precios'!$B$7:$C$5000,2,0))","v":""}]
[null,null,"",null,null,null,null,{"$f":"IF(G6386=\"\",\"\",VLOOKUP(G6386,'Lista de precios'!$B$7:$C$5000,2,0))","v":""}]
[null,null,"",null,null,null,null,{"$f":"IF(G6387=\"\",\"\",VLOOKUP(G6387,'Lista de precios'!$B$7:$C$5000,2,0))","v":""}]
[null,null,"",null,null,null,null,{"$f":"IF(G6388=\"\",\"\",VLOOKUP(G6388,'Lista de precios'!$B$7:$C$5000,2,0))","v":""}]
[null,null,"",null,null,null,null,{"$f":"IF(G6389=\"\",\"\",VLOOKUP(G6389,'Lista de precios'!$B$7:$C$5000,2,0))","v":""}]
[null,null,"",null,null,null,null,{"$f":"IF(G6390=\"\",\"\",VLOOKUP(G6390,'Lista de precios'!$B$7:$C$5000,2,0))","v":""}]
[null,null,"",null,null,null,null,{"$f":"IF(G6391=\"\",\"\",VLOOKUP(G6391,'Lista de precios'!$B$7:$C$5000,2,0))","v":""}]
[null,null,"",null,null,null,null,{"$f":"IF(G6392=\"\",\"\",VLOOKUP(G6392,'Lista de precios'!$B$7:$C$5000,2,0))","v":""}]
[null,null,"",null,null,null,null,{"$f":"IF(G6393=\"\",\"\",VLOOKUP(G6393,'Lista de precios'!$B$7:$C$5000,2,0))","v":""}]
[null,null,"",null,null,null,null,{"$f":"IF(G6394=\"\",\"\",VLOOKUP(G6394,'Lista de precios'!$B$7:$C$5000,2,0))","v":""}]
[null,null,"",null,null,null,null,{"$f":"IF(G6395=\"\",\"\",VLOOKUP(G6395,'Lista de precios'!$B$7:$C$5000,2,0))","v":""}]
[null,null,"",null,null,null,null,{"$f":"IF(G6396=\"\",\"\",VLOOKUP(G6396,'Lista de precios'!$B$7:$C$5000,2,0))","v":""}]
[null,null,"",null,null,null,null,{"$f":"IF(G6397=\"\",\"\",VLOOKUP(G6397,'Lista de precios'!$B$7:$C$5000,2,0))","v":""}]
[null,null,"",null,null,null,null,{"$f":"IF(G6398=\"\",\"\",VLOOKUP(G6398,'Lista de precios'!$B$7:$C$5000,2,0))","v":""}]
[null,null,"",null,null,null,null,{"$f":"IF(G6399=\"\",\"\",VLOOKUP(G6399,'Lista de precios'!$B$7:$C$5000,2,0))","v":""}]
[null,null,"",null,null,null,null,{"$f":"IF(G6400=\"\",\"\",VLOOKUP(G6400,'Lista de precios'!$B$7:$C$5000,2,0))","v":""}]
[null,null,"",null,null,null,null,{"$f":"IF(G6401=\"\",\"\",VLOOKUP(G6401,'Lista de precios'!$B$7:$C$5000,2,0))","v":""}]
[null,null,"",null,null,null,null,{"$f":"IF(G6402=\"\",\"\",VLOOKUP(G6402,'Lista de precios'!$B$7:$C$5000,2,0))","v":""}]
[null,null,"",null,null,null,null,{"$f":"IF(G6403=\"\",\"\",VLOOKUP(G6403,'Lista de precios'!$B$7:$C$5000,2,0))","v":""}]
[null,null,"",null,null,null,null,{"$f":"IF(G6404=\"\",\"\",VLOOKUP(G6404,'Lista de precios'!$B$7:$C$5000,2,0))","v":""}]
[null,null,"",null,null,null,null,{"$f":"IF(G6405=\"\",\"\",VLOOKUP(G6405,'Lista de precios'!$B$7:$C$5000,2,0))","v":""}]
[null,null,"",null,null,null,null,{"$f":"IF(G6406=\"\",\"\",VLOOKUP(G6406,'Lista de precios'!$B$7:$C$5000,2,0))","v":""}]
[null,null,"",null,null,null,null,{"$f":"IF(G6407=\"\",\"\",VLOOKUP(G6407,'Lista de precios'!$B$7:$C$5000,2,0))","v":""}]
[null,null,"",null,null,null,null,{"$f":"IF(G6408=\"\",\"\",VLOOKUP(G6408,'Lista de precios'!$B$7:$C$5000,2,0))","v":""}]
[null,null,"",null,null,null,null,{"$f":"IF(G6409=\"\",\"\",VLOOKUP(G6409,'Lista de precios'!$B$7:$C$5000,2,0))","v":""}]
[null,null,"",null,null,null,null,{"$f":"IF(G6410=\"\",\"\",VLOOKUP(G6410,'Lista de precios'!$B$7:$C$5000,2,0))","v":""}]
[null,null,"",null,null,null,null,{"$f":"IF(G6411=\"\",\"\",VLOOKUP(G6411,'Lista de precios'!$B$7:$C$5000,2,0))","v":""}]
[null,null,{"$f":"IF(B6412=\"\",\"\",TEXT(B6412,\"Mmmm\"))","v":""},null,null,null,null,{"$f":"IF(G6412=\"\",\"\",VLOOKUP(G6412,'Lista de precios'!$B$7:$C$5000,2,0))","v":""}]
[null,null,"",null,null,null,null,{"$f":"IF(G6413=\"\",\"\",VLOOKUP(G6413,'Lista de precios'!$B$7:$C$5000,2,0))","v":""}]
[null,null,"",null,null,null,null,{"$f":"IF(G6414=\"\",\"\",VLOOKUP(G6414,'Lista de precios'!$B$7:$C$5000,2,0))","v":""}]
[null,null,"",null,null,null,null,{"$f":"IF(G6415=\"\",\"\",VLOOKUP(G6415,'Lista de precios'!$B$7:$C$5000,2,0))","v":""}]
[null,null,"",null,null,null,null,{"$f":"IF(G6416=\"\",\"\",VLOOKUP(G6416,'Lista de precios'!$B$7:$C$5000,2,0))","v":""}]
[null,null,"",null,null,null,null,{"$f":"IF(G6417=\"\",\"\",VLOOKUP(G6417,'Lista de precios'!$B$7:$C$5000,2,0))","v":""}]
[null,null,"",null,null,null,null,{"$f":"IF(G6418=\"\",\"\",VLOOKUP(G6418,'Lista de precios'!$B$7:$C$5000,2,0))","v":""}]
[null,null,"",null,null,null,null,{"$f":"IF(G6419=\"\",\"\",VLOOKUP(G6419,'Lista de precios'!$B$7:$C$5000,2,0))","v":""}]
[null,null,"",null,null,null,null,{"$f":"IF(G6420=\"\",\"\",VLOOKUP(G6420,'Lista de precios'!$B$7:$C$5000,2,0))","v":""}]
[null,null,"",null,null,null,null,{"$f":"IF(G6421=\"\",\"\",VLOOKUP(G6421,'Lista de precios'!$B$7:$C$5000,2,0))","v":""}]
[null,null,"",null,null,null,null,{"$f":"IF(G6422=\"\",\"\",VLOOKUP(G6422,'Lista de precios'!$B$7:$C$5000,2,0))","v":""}]
[null,null,"",null,null,null,null,{"$f":"IF(G6423=\"\",\"\",VLOOKUP(G6423,'Lista de precios'!$B$7:$C$5000,2,0))","v":""}]
[null,null,"",null,null,null,null,{"$f":"IF(G6424=\"\",\"\",VLOOKUP(G6424,'Lista de precios'!$B$7:$C$5000,2,0))","v":""}]
[null,null,"",null,null,null,null,{"$f":"IF(G6425=\"\",\"\",VLOOKUP(G6425,'Lista de precios'!$B$7:$C$5000,2,0))","v":""}]
[null,null,"",null,null,null,null,{"$f":"IF(G6426=\"\",\"\",VLOOKUP(G6426,'Lista de precios'!$B$7:$C$5000,2,0))","v":""}]
[null,null,"",null,null,null,null,{"$f":"IF(G6427=\"\",\"\",VLOOKUP(G6427,'Lista de precios'!$B$7:$C$5000,2,0))","v":""}]
[null,null,"",null,null,null,null,{"$f":"IF(G6428=\"\",\"\",VLOOKUP(G6428,'Lista de precios'!$B$7:$C$5000,2,0))","v":""}]
[null,null,"",null,null,null,null,{"$f":"IF(G6429=\"\",\"\",VLOOKUP(G6429,'Lista de precios'!$B$7:$C$5000,2,0))","v":""}]
[null,null,"",null,null,null,null,{"$f":"IF(G6430=\"\",\"\",VLOOKUP(G6430,'Lista de precios'!$B$7:$C$5000,2,0))","v":""}]
[null,null,"",null,null,null,null,{"$f":"IF(G6431=\"\",\"\",VLOOKUP(G6431,'Lista de precios'!$B$7:$C$5000,2,0))","v":""}]
[null,null,"",null,null,null,null,{"$f":"IF(G6432=\"\",\"\",VLOOKUP(G6432,'Lista de precios'!$B$7:$C$5000,2,0))","v":""}]
[null,null,"",null,null,null,null,{"$f":"IF(G6433=\"\",\"\",VLOOKUP(G6433,'Lista de precios'!$B$7:$C$5000,2,0))","v":""}]
[null,null,"",null,null,null,null,{"$f":"IF(G6434=\"\",\"\",VLOOKUP(G6434,'Lista de precios'!$B$7:$C$5000,2,0))","v":""}]
[null,null,"",null,null,null,null,{"$f":"IF(G6435=\"\",\"\",VLOOKUP(G6435,'Lista de precios'!$B$7:$C$5000,2,0))","v":""}]
[null,null,"",null,null,null,null,{"$f":"IF(G6436=\"\",\"\",VLOOKUP(G6436,'Lista de precios'!$B$7:$C$5000,2,0))","v":""}]
[null,null,"",null,null,null,null,{"$f":"IF(G6437=\"\",\"\",VLOOKUP(G6437,'Lista de precios'!$B$7:$C$5000,2,0))","v":""}]
[null,null,"",null,null,null,null,{"$f":"IF(G6438=\"\",\"\",VLOOKUP(G6438,'Lista de precios'!$B$7:$C$5000,2,0))","v":""}]
[null,null,"",null,null,null,null,{"$f":"IF(G6439=\"\",\"\",VLOOKUP(G6439,'Lista de precios'!$B$7:$C$5000,2,0))","v":""}]
[null,null,"",null,null,null,null,{"$f":"IF(G6440=\"\",\"\",VLOOKUP(G6440,'Lista de precios'!$B$7:$C$5000,2,0))","v":""}]
[null,null,"",null,null,null,null,{"$f":"IF(G6441=\"\",\"\",VLOOKUP(G6441,'Lista de precios'!$B$7:$C$5000,2,0))","v":""}]
[null,null,"",null,null,null,null,{"$f":"IF(G6442=\"\",\"\",VLOOKUP(G6442,'Lista de precios'!$B$7:$C$5000,2,0))","v":""}]
[null,null,"",null,null,null,null,{"$f":"IF(G6443=\"\",\"\",VLOOKUP(G6443,'Lista de precios'!$B$7:$C$5000,2,0))","v":""}]
[null,null,"",null,null,null,null,{"$f":"IF(G6444=\"\",\"\",VLOOKUP(G6444,'Lista de precios'!$B$7:$C$5000,2,0))","v":""}]
[null,null,"",null,null,null,null,{"$f":"IF(G6445=\"\",\"\",VLOOKUP(G6445,'Lista de precios'!$B$7:$C$5000,2,0))","v":""}]
[null,null,"",null,null,null,null,{"$f":"IF(G6446=\"\",\"\",VLOOKUP(G6446,'Lista de precios'!$B$7:$C$5000,2,0))","v":""}]
[null,null,"",null,null,null,null,{"$f":"IF(G6447=\"\",\"\",VLOOKUP(G6447,'Lista de precios'!$B$7:$C$5000,2,0))","v":""}]
[null,null,"",null,null,null,null,{"$f":"IF(G6448=\"\",\"\",VLOOKUP(G6448,'Lista de precios'!$B$7:$C$5000,2,0))","v":""}]
[null,null,"",null,null,null,null,{"$f":"IF(G6449=\"\",\"\",VLOOKUP(G6449,'Lista de precios'!$B$7:$C$5000,2,0))","v":""}]
[null,null,"",null,null,null,null,{"$f":"IF(G6450=\"\",\"\",VLOOKUP(G6450,'Lista de precios'!$B$7:$C$5000,2,0))","v":""}]
[null,null,"",null,null,null,null,{"$f":"IF(G6451=\"\",\"\",VLOOKUP(G6451,'Lista de precios'!$B$7:$C$5000,2,0))","v":""}]
[null,null,"",null,null,null,null,{"$f":"IF(G6452=\"\",\"\",VLOOKUP(G6452,'Lista de precios'!$B$7:$C$5000,2,0))","v":""}]
[null,null,"",null,null,null,null,{"$f":"IF(G6453=\"\",\"\",VLOOKUP(G6453,'Lista de precios'!$B$7:$C$5000,2,0))","v":""}]
[null,null,"",null,null,null,null,{"$f":"IF(G6454=\"\",\"\",VLOOKUP(G6454,'Lista de precios'!$B$7:$C$5000,2,0))","v":""}]
[null,null,"",null,null,null,null,{"$f":"IF(G6455=\"\",\"\",VLOOKUP(G6455,'Lista de precios'!$B$7:$C$5000,2,0))","v":""}]
[null,null,"",null,null,null,null,{"$f":"IF(G6456=\"\",\"\",VLOOKUP(G6456,'Lista de precios'!$B$7:$C$5000,2,0))","v":""}]
[null,null,"",null,null,null,null,{"$f":"IF(G6457=\"\",\"\",VLOOKUP(G6457,'Lista de precios'!$B$7:$C$5000,2,0))","v":""}]
[null,null,"",null,null,null,null,{"$f":"IF(G6458=\"\",\"\",VLOOKUP(G6458,'Lista de precios'!$B$7:$C$5000,2,0))","v":""}]
[null,null,"",null,null,null,null,{"$f":"IF(G6459=\"\",\"\",VLOOKUP(G6459,'Lista de precios'!$B$7:$C$5000,2,0))","v":""}]
[null,null,"",null,null,null,null,{"$f":"IF(G6460=\"\",\"\",VLOOKUP(G6460,'Lista de precios'!$B$7:$C$5000,2,0))","v":""}]
[null,null,"",null,null,null,null,{"$f":"IF(G6461=\"\",\"\",VLOOKUP(G6461,'Lista de precios'!$B$7:$C$5000,2,0))","v":""}]
[null,null,"",null,null,null,null,{"$f":"IF(G6462=\"\",\"\",VLOOKUP(G6462,'Lista de precios'!$B$7:$C$5000,2,0))","v":""}]
[null,null,"",null,null,null,null,{"$f":"IF(G6463=\"\",\"\",VLOOKUP(G6463,'Lista de precios'!$B$7:$C$5000,2,0))","v":""}]
[null,null,"",null,null,null,null,{"$f":"IF(G6464=\"\",\"\",VLOOKUP(G6464,'Lista de precios'!$B$7:$C$5000,2,0))","v":""}]
[null,null,"",null,null,null,null,{"$f":"IF(G6465=\"\",\"\",VLOOKUP(G6465,'Lista de precios'!$B$7:$C$5000,2,0))","v":""}]
[null,null,"",null,null,null,null,{"$f":"IF(G6466=\"\",\"\",VLOOKUP(G6466,'Lista de precios'!$B$7:$C$5000,2,0))","v":""}]
[null,null,"",null,null,null,null,{"$f":"IF(G6467=\"\",\"\",VLOOKUP(G6467,'Lista de precios'!$B$7:$C$5000,2,0))","v":""}]
[null,null,"",null,null,null,null,{"$f":"IF(G6468=\"\",\"\",VLOOKUP(G6468,'Lista de precios'!$B$7:$C$5000,2,0))","v":""}]
[null,null,"",null,null,null,null,{"$f":"IF(G6469=\"\",\"\",VLOOKUP(G6469,'Lista de precios'!$B$7:$C$5000,2,0))","v":""}]
[null,null,"",null,null,null,null,{"$f":"IF(G6470=\"\",\"\",VLOOKUP(G6470,'Lista de precios'!$B$7:$C$5000,2,0))","v":""}]
[null,null,"",null,null,null,null,{"$f":"IF(G6471=\"\",\"\",VLOOKUP(G6471,'Lista de precios'!$B$7:$C$5000,2,0))","v":""}]
[null,null,"",null,null,null,null,{"$f":"IF(G6472=\"\",\"\",VLOOKUP(G6472,'Lista de precios'!$B$7:$C$5000,2,0))","v":""}]
[null,null,"",null,null,null,null,{"$f":"IF(G6473=\"\",\"\",VLOOKUP(G6473,'Lista de precios'!$B$7:$C$5000,2,0))","v":""}]
[null,null,"",null,null,null,null,{"$f":"IF(G6474=\"\",\"\",VLOOKUP(G6474,'Lista de precios'!$B$7:$C$5000,2,0))","v":""}]
[null,null,"",null,null,null,null,{"$f":"IF(G6475=\"\",\"\",VLOOKUP(G6475,'Lista de precios'!$B$7:$C$5000,2,0))","v":""}]
[null,null,{"$f":"IF(B6476=\"\",\"\",TEXT(B6476,\"Mmmm\"))","v":""},null,null,null,null,{"$f":"IF(G6476=\"\",\"\",VLOOKUP(G6476,'Lista de precios'!$B$7:$C$5000,2,0))","v":""}]
[null,null,"",null,null,null,null,{"$f":"IF(G6477=\"\",\"\",VLOOKUP(G6477,'Lista de precios'!$B$7:$C$5000,2,0))","v":""}]
[null,null,"",null,null,null,null,{"$f":"IF(G6478=\"\",\"\",VLOOKUP(G6478,'Lista de precios'!$B$7:$C$5000,2,0))","v":""}]
[null,null,"",null,null,null,null,{"$f":"IF(G6479=\"\",\"\",VLOOKUP(G6479,'Lista de precios'!$B$7:$C$5000,2,0))","v":""}]
[null,null,"",null,null,null,null,{"$f":"IF(G6480=\"\",\"\",VLOOKUP(G6480,'Lista de precios'!$B$7:$C$5000,2,0))","v":""}]
[null,null,"",null,null,null,null,{"$f":"IF(G6481=\"\",\"\",VLOOKUP(G6481,'Lista de precios'!$B$7:$C$5000,2,0))","v":""}]
[null,null,"",null,null,null,null,{"$f":"IF(G6482=\"\",\"\",VLOOKUP(G6482,'Lista de precios'!$B$7:$C$5000,2,0))","v":""}]
[null,null,"",null,null,null,null,{"$f":"IF(G6483=\"\",\"\",VLOOKUP(G6483,'Lista de precios'!$B$7:$C$5000,2,0))","v":""}]
[null,null,"",null,null,null,null,{"$f":"IF(G6484=\"\",\"\",VLOOKUP(G6484,'Lista de precios'!$B$7:$C$5000,2,0))","v":""}]
[null,null,"",null,null,null,null,{"$f":"IF(G6485=\"\",\"\",VLOOKUP(G6485,'Lista de precios'!$B$7:$C$5000,2,0))","v":""}]
[null,null,"",null,null,null,null,{"$f":"IF(G6486=\"\",\"\",VLOOKUP(G6486,'Lista de precios'!$B$7:$C$5000,2,0))","v":""}]
[null,null,"",null,null,null,null,{"$f":"IF(G6487=\"\",\"\",VLOOKUP(G6487,'Lista de precios'!$B$7:$C$5000,2,0))","v":""}]
[null,null,"",null,null,null,null,{"$f":"IF(G6488=\"\",\"\",VLOOKUP(G6488,'Lista de precios'!$B$7:$C$5000,2,0))","v":""}]
[null,null,"",null,null,null,null,{"$f":"IF(G6489=\"\",\"\",VLOOKUP(G6489,'Lista de precios'!$B$7:$C$5000,2,0))","v":""}]
[null,null,"",null,null,null,null,{"$f":"IF(G6490=\"\",\"\",VLOOKUP(G6490,'Lista de precios'!$B$7:$C$5000,2,0))","v":""}]
[null,null,"",null,null,null,null,{"$f":"IF(G6491=\"\",\"\",VLOOKUP(G6491,'Lista de precios'!$B$7:$C$5000,2,0))","v":""}]
[null,null,"",null,null,null,null,{"$f":"IF(G6492=\"\",\"\",VLOOKUP(G6492,'Lista de precios'!$B$7:$C$5000,2,0))","v":""}]
[null,null,"",null,null,null,null,{"$f":"IF(G6493=\"\",\"\",VLOOKUP(G6493,'Lista de precios'!$B$7:$C$5000,2,0))","v":""}]
[null,null,"",null,null,null,null,{"$f":"IF(G6494=\"\",\"\",VLOOKUP(G6494,'Lista de precios'!$B$7:$C$5000,2,0))","v":""}]
[null,null,"",null,null,null,null,{"$f":"IF(G6495=\"\",\"\",VLOOKUP(G6495,'Lista de precios'!$B$7:$C$5000,2,0))","v":""}]
[null,null,"",null,null,null,null,{"$f":"IF(G6496=\"\",\"\",VLOOKUP(G6496,'Lista de precios'!$B$7:$C$5000,2,0))","v":""}]
[null,null,"",null,null,null,null,{"$f":"IF(G6497=\"\",\"\",VLOOKUP(G6497,'Lista de precios'!$B$7:$C$5000,2,0))","v":""}]
[null,null,"",null,null,null,null,{"$f":"IF(G6498=\"\",\"\",VLOOKUP(G6498,'Lista de precios'!$B$7:$C$5000,2,0))","v":""}]
[null,null,"",null,null,null,null,{"$f":"IF(G6499=\"\",\"\",VLOOKUP(G6499,'Lista de precios'!$B$7:$C$5000,2,0))","v":""}]
[null,null,"",null,null,null,null,{"$f":"IF(G6500=\"\",\"\",VLOOKUP(G6500,'Lista de precios'!$B$7:$C$5000,2,0))","v":""}]
[null,null,"",null,null,null,null,{"$f":"IF(G6501=\"\",\"\",VLOOKUP(G6501,'Lista de precios'!$B$7:$C$5000,2,0))","v":""}]
[null,null,"",null,null,null,null,{"$f":"IF(G6502=\"\",\"\",VLOOKUP(G6502,'Lista de precios'!$B$7:$C$5000,2,0))","v":""}]
[null,null,"",null,null,null,null,{"$f":"IF(G6503=\"\",\"\",VLOOKUP(G6503,'Lista de precios'!$B$7:$C$5000,2,0))","v":""}]
[null,null,"",null,null,null,null,{"$f":"IF(G6504=\"\",\"\",VLOOKUP(G6504,'Lista de precios'!$B$7:$C$5000,2,0))","v":""}]
[null,null,"",null,null,null,null,{"$f":"IF(G6505=\"\",\"\",VLOOKUP(G6505,'Lista de precios'!$B$7:$C$5000,2,0))","v":""}]
[null,null,"",null,null,null,null,{"$f":"IF(G6506=\"\",\"\",VLOOKUP(G6506,'Lista de precios'!$B$7:$C$5000,2,0))","v":""}]
[null,null,"",null,null,null,null,{"$f":"IF(G6507=\"\",\"\",VLOOKUP(G6507,'Lista de precios'!$B$7:$C$5000,2,0))","v":""}]
[null,null,"",null,null,null,null,{"$f":"IF(G6508=\"\",\"\",VLOOKUP(G6508,'Lista de precios'!$B$7:$C$5000,2,0))","v":""}]
[null,null,"",null,null,null,null,{"$f":"IF(G6509=\"\",\"\",VLOOKUP(G6509,'Lista de precios'!$B$7:$C$5000,2,0))","v":""}]
[null,null,"",null,null,null,null,{"$f":"IF(G6510=\"\",\"\",VLOOKUP(G6510,'Lista de precios'!$B$7:$C$5000,2,0))","v":""}]
[null,null,"",null,null,null,null,{"$f":"IF(G6511=\"\",\"\",VLOOKUP(G6511,'Lista de precios'!$B$7:$C$5000,2,0))","v":""}]
[null,null,"",null,null,null,null,{"$f":"IF(G6512=\"\",\"\",VLOOKUP(G6512,'Lista de precios'!$B$7:$C$5000,2,0))","v":""}]
[null,null,"",null,null,null,null,{"$f":"IF(G6513=\"\",\"\",VLOOKUP(G6513,'Lista de precios'!$B$7:$C$5000,2,0))","v":""}]
[null,null,"",null,null,null,null,{"$f":"IF(G6514=\"\",\"\",VLOOKUP(G6514,'Lista de precios'!$B$7:$C$5000,2,0))","v":""}]
[null,null,"",null,null,null,null,{"$f":"IF(G6515=\"\",\"\",VLOOKUP(G6515,'Lista de precios'!$B$7:$C$5000,2,0))","v":""}]
[null,null,"",null,null,null,null,{"$f":"IF(G6516=\"\",\"\",VLOOKUP(G6516,'Lista de precios'!$B$7:$C$5000,2,0))","v":""}]
[null,null,"",null,null,null,null,{"$f":"IF(G6517=\"\",\"\",VLOOKUP(G6517,'Lista de precios'!$B$7:$C$5000,2,0))","v":""}]
[null,null,"",null,null,null,null,{"$f":"IF(G6518=\"\",\"\",VLOOKUP(G6518,'Lista de precios'!$B$7:$C$5000,2,0))","v":""}]
[null,null,"",null,null,null,null,{"$f":"IF(G6519=\"\",\"\",VLOOKUP(G6519,'Lista de precios'!$B$7:$C$5000,2,0))","v":""}]
[null,null,"",null,null,null,null,{"$f":"IF(G6520=\"\",\"\",VLOOKUP(G6520,'Lista de precios'!$B$7:$C$5000,2,0))","v":""}]
[null,null,"",null,null,null,null,{"$f":"IF(G6521=\"\",\"\",VLOOKUP(G6521,'Lista de precios'!$B$7:$C$5000,2,0))","v":""}]
[null,null,"",null,null,null,null,{"$f":"IF(G6522=\"\",\"\",VLOOKUP(G6522,'Lista de precios'!$B$7:$C$5000,2,0))","v":""}]
[null,null,"",null,null,null,null,{"$f":"IF(G6523=\"\",\"\",VLOOKUP(G6523,'Lista de precios'!$B$7:$C$5000,2,0))","v":""}]
[null,null,"",null,null,null,null,{"$f":"IF(G6524=\"\",\"\",VLOOKUP(G6524,'Lista de precios'!$B$7:$C$5000,2,0))","v":""}]
[null,null,"",null,null,null,null,{"$f":"IF(G6525=\"\",\"\",VLOOKUP(G6525,'Lista de precios'!$B$7:$C$5000,2,0))","v":""}]
[null,null,"",null,null,null,null,{"$f":"IF(G6526=\"\",\"\",VLOOKUP(G6526,'Lista de precios'!$B$7:$C$5000,2,0))","v":""}]
[null,null,"",null,null,null,null,{"$f":"IF(G6527=\"\",\"\",VLOOKUP(G6527,'Lista de precios'!$B$7:$C$5000,2,0))","v":""}]
[null,null,"",null,null,null,null,{"$f":"IF(G6528=\"\",\"\",VLOOKUP(G6528,'Lista de precios'!$B$7:$C$5000,2,0))","v":""}]
[null,null,"",null,null,null,null,{"$f":"IF(G6529=\"\",\"\",VLOOKUP(G6529,'Lista de precios'!$B$7:$C$5000,2,0))","v":""}]
[null,null,"",null,null,null,null,{"$f":"IF(G6530=\"\",\"\",VLOOKUP(G6530,'Lista de precios'!$B$7:$C$5000,2,0))","v":""}]
[null,null,"",null,null,null,null,{"$f":"IF(G6531=\"\",\"\",VLOOKUP(G6531,'Lista de precios'!$B$7:$C$5000,2,0))","v":""}]
[null,null,"",null,null,null,null,{"$f":"IF(G6532=\"\",\"\",VLOOKUP(G6532,'Lista de precios'!$B$7:$C$5000,2,0))","v":""}]
[null,null,"",null,null,null,null,{"$f":"IF(G6533=\"\",\"\",VLOOKUP(G6533,'Lista de precios'!$B$7:$C$5000,2,0))","v":""}]
[null,null,"",null,null,null,null,{"$f":"IF(G6534=\"\",\"\",VLOOKUP(G6534,'Lista de precios'!$B$7:$C$5000,2,0))","v":""}]
[null,null,"",null,null,null,null,{"$f":"IF(G6535=\"\",\"\",VLOOKUP(G6535,'Lista de precios'!$B$7:$C$5000,2,0))","v":""}]
[null,null,"",null,null,null,null,{"$f":"IF(G6536=\"\",\"\",VLOOKUP(G6536,'Lista de precios'!$B$7:$C$5000,2,0))","v":""}]
[null,null,"",null,null,null,null,{"$f":"IF(G6537=\"\",\"\",VLOOKUP(G6537,'Lista de precios'!$B$7:$C$5000,2,0))","v":""}]
[null,null,"",null,null,null,null,{"$f":"IF(G6538=\"\",\"\",VLOOKUP(G6538,'Lista de precios'!$B$7:$C$5000,2,0))","v":""}]
[null,null,"",null,null,null,null,{"$f":"IF(G6539=\"\",\"\",VLOOKUP(G6539,'Lista de precios'!$B$7:$C$5000,2,0))","v":""}]
[null,null,{"$f":"IF(B6540=\"\",\"\",TEXT(B6540,\"Mmmm\"))","v":""},null,null,null,null,{"$f":"IF(G6540=\"\",\"\",VLOOKUP(G6540,'Lista de precios'!$B$7:$C$5000,2,0))","v":""}]
[null,null,"",null,null,null,null,{"$f":"IF(G6541=\"\",\"\",VLOOKUP(G6541,'Lista de precios'!$B$7:$C$5000,2,0))","v":""}]
[null,null,"",null,null,null,null,{"$f":"IF(G6542=\"\",\"\",VLOOKUP(G6542,'Lista de precios'!$B$7:$C$5000,2,0))","v":""}]
[null,null,"",null,null,null,null,{"$f":"IF(G6543=\"\",\"\",VLOOKUP(G6543,'Lista de precios'!$B$7:$C$5000,2,0))","v":""}]
[null,null,"",null,null,null,null,{"$f":"IF(G6544=\"\",\"\",VLOOKUP(G6544,'Lista de precios'!$B$7:$C$5000,2,0))","v":""}]
[null,null,"",null,null,null,null,{"$f":"IF(G6545=\"\",\"\",VLOOKUP(G6545,'Lista de precios'!$B$7:$C$5000,2,0))","v":""}]
[null,null,"",null,null,null,null,{"$f":"IF(G6546=\"\",\"\",VLOOKUP(G6546,'Lista de precios'!$B$7:$C$5000,2,0))","v":""}]
[null,null,"",null,null,null,null,{"$f":"IF(G6547=\"\",\"\",VLOOKUP(G6547,'Lista de precios'!$B$7:$C$5000,2,0))","v":""}]
[null,null,"",null,null,null,null,{"$f":"IF(G6548=\"\",\"\",VLOOKUP(G6548,'Lista de precios'!$B$7:$C$5000,2,0))","v":""}]
[null,null,"",null,null,null,null,{"$f":"IF(G6549=\"\",\"\",VLOOKUP(G6549,'Lista de precios'!$B$7:$C$5000,2,0))","v":""}]
[null,null,"",null,null,null,null,{"$f":"IF(G6550=\"\",\"\",VLOOKUP(G6550,'Lista de precios'!$B$7:$C$5000,2,0))","v":""}]
[null,null,"",null,null,null,null,{"$f":"IF(G6551=\"\",\"\",VLOOKUP(G6551,'Lista de precios'!$B$7:$C$5000,2,0))","v":""}]
[null,null,"",null,null,null,null,{"$f":"IF(G6552=\"\",\"\",VLOOKUP(G6552,'Lista de precios'!$B$7:$C$5000,2,0))","v":""}]
[null,null,"",null,null,null,null,{"$f":"IF(G6553=\"\",\"\",VLOOKUP(G6553,'Lista de precios'!$B$7:$C$5000,2,0))","v":""}]
[null,null,"",null,null,null,null,{"$f":"IF(G6554=\"\",\"\",VLOOKUP(G6554,'Lista de precios'!$B$7:$C$5000,2,0))","v":""}]
[null,null,"",null,null,null,null,{"$f":"IF(G6555=\"\",\"\",VLOOKUP(G6555,'Lista de precios'!$B$7:$C$5000,2,0))","v":""}]
[null,null,"",null,null,null,null,{"$f":"IF(G6556=\"\",\"\",VLOOKUP(G6556,'Lista de precios'!$B$7:$C$5000,2,0))","v":""}]
[null,null,"",null,null,null,null,{"$f":"IF(G6557=\"\",\"\",VLOOKUP(G6557,'Lista de precios'!$B$7:$C$5000,2,0))","v":""}]
[null,null,"",null,null,null,null,{"$f":"IF(G6558=\"\",\"\",VLOOKUP(G6558,'Lista de precios'!$B$7:$C$5000,2,0))","v":""}]
[null,null,"",null,null,null,null,{"$f":"IF(G6559=\"\",\"\",VLOOKUP(G6559,'Lista de precios'!$B$7:$C$5000,2,0))","v":""}]
[null,null,"",null,null,null,null,{"$f":"IF(G6560=\"\",\"\",VLOOKUP(G6560,'Lista de precios'!$B$7:$C$5000,2,0))","v":""}]
[null,null,"",null,null,null,null,{"$f":"IF(G6561=\"\",\"\",VLOOKUP(G6561,'Lista de precios'!$B$7:$C$5000,2,0))","v":""}]
[null,null,"",null,null,null,null,{"$f":"IF(G6562=\"\",\"\",VLOOKUP(G6562,'Lista de precios'!$B$7:$C$5000,2,0))","v":""}]
[null,null,"",null,null,null,null,{"$f":"IF(G6563=\"\",\"\",VLOOKUP(G6563,'Lista de precios'!$B$7:$C$5000,2,0))","v":""}]
[null,null,"",null,null,null,null,{"$f":"IF(G6564=\"\",\"\",VLOOKUP(G6564,'Lista de precios'!$B$7:$C$5000,2,0))","v":""}]
[null,null,"",null,null,null,null,{"$f":"IF(G6565=\"\",\"\",VLOOKUP(G6565,'Lista de precios'!$B$7:$C$5000,2,0))","v":""}]
[null,null,"",null,null,null,null,{"$f":"IF(G6566=\"\",\"\",VLOOKUP(G6566,'Lista de precios'!$B$7:$C$5000,2,0))","v":""}]
[null,null,"",null,null,null,null,{"$f":"IF(G6567=\"\",\"\",VLOOKUP(G6567,'Lista de precios'!$B$7:$C$5000,2,0))","v":""}]
[null,null,"",null,null,null,null,{"$f":"IF(G6568=\"\",\"\",VLOOKUP(G6568,'Lista de precios'!$B$7:$C$5000,2,0))","v":""}]
[null,null,"",null,null,null,null,{"$f":"IF(G6569=\"\",\"\",VLOOKUP(G6569,'Lista de precios'!$B$7:$C$5000,2,0))","v":""}]
[null,null,"",null,null,null,null,{"$f":"IF(G6570=\"\",\"\",VLOOKUP(G6570,'Lista de precios'!$B$7:$C$5000,2,0))","v":""}]
[null,null,"",null,null,null,null,{"$f":"IF(G6571=\"\",\"\",VLOOKUP(G6571,'Lista de precios'!$B$7:$C$5000,2,0))","v":""}]
[null,null,"",null,null,null,null,{"$f":"IF(G6572=\"\",\"\",VLOOKUP(G6572,'Lista de precios'!$B$7:$C$5000,2,0))","v":""}]
[null,null,"",null,null,null,null,{"$f":"IF(G6573=\"\",\"\",VLOOKUP(G6573,'Lista de precios'!$B$7:$C$5000,2,0))","v":""}]
[null,null,"",null,null,null,null,{"$f":"IF(G6574=\"\",\"\",VLOOKUP(G6574,'Lista de precios'!$B$7:$C$5000,2,0))","v":""}]
[null,null,"",null,null,null,null,{"$f":"IF(G6575=\"\",\"\",VLOOKUP(G6575,'Lista de precios'!$B$7:$C$5000,2,0))","v":""}]
[null,null,"",null,null,null,null,{"$f":"IF(G6576=\"\",\"\",VLOOKUP(G6576,'Lista de precios'!$B$7:$C$5000,2,0))","v":""}]
[null,null,"",null,null,null,null,{"$f":"IF(G6577=\"\",\"\",VLOOKUP(G6577,'Lista de precios'!$B$7:$C$5000,2,0))","v":""}]
[null,null,"",null,null,null,null,{"$f":"IF(G6578=\"\",\"\",VLOOKUP(G6578,'Lista de precios'!$B$7:$C$5000,2,0))","v":""}]
[null,null,"",null,null,null,null,{"$f":"IF(G6579=\"\",\"\",VLOOKUP(G6579,'Lista de precios'!$B$7:$C$5000,2,0))","v":""}]
[null,null,"",null,null,null,null,{"$f":"IF(G6580=\"\",\"\",VLOOKUP(G6580,'Lista de precios'!$B$7:$C$5000,2,0))","v":""}]
[null,null,"",null,null,null,null,{"$f":"IF(G6581=\"\",\"\",VLOOKUP(G6581,'Lista de precios'!$B$7:$C$5000,2,0))","v":""}]
[null,null,"",null,null,null,null,{"$f":"IF(G6582=\"\",\"\",VLOOKUP(G6582,'Lista de precios'!$B$7:$C$5000,2,0))","v":""}]
[null,null,"",null,null,null,null,{"$f":"IF(G6583=\"\",\"\",VLOOKUP(G6583,'Lista de precios'!$B$7:$C$5000,2,0))","v":""}]
[null,null,"",null,null,null,null,{"$f":"IF(G6584=\"\",\"\",VLOOKUP(G6584,'Lista de precios'!$B$7:$C$5000,2,0))","v":""}]
[null,null,"",null,null,null,null,{"$f":"IF(G6585=\"\",\"\",VLOOKUP(G6585,'Lista de precios'!$B$7:$C$5000,2,0))","v":""}]
[null,null,"",null,null,null,null,{"$f":"IF(G6586=\"\",\"\",VLOOKUP(G6586,'Lista de precios'!$B$7:$C$5000,2,0))","v":""}]
[null,null,"",null,null,null,null,{"$f":"IF(G6587=\"\",\"\",VLOOKUP(G6587,'Lista de precios'!$B$7:$C$5000,2,0))","v":""}]
[null,null,"",null,null,null,null,{"$f":"IF(G6588=\"\",\"\",VLOOKUP(G6588,'Lista de precios'!$B$7:$C$5000,2,0))","v":""}]
[null,null,"",null,null,null,null,{"$f":"IF(G6589=\"\",\"\",VLOOKUP(G6589,'Lista de precios'!$B$7:$C$5000,2,0))","v":""}]
[null,null,"",null,null,null,null,{"$f":"IF(G6590=\"\",\"\",VLOOKUP(G6590,'Lista de precios'!$B$7:$C$5000,2,0))","v":""}]
[null,null,"",null,null,null,null,{"$f":"IF(G6591=\"\",\"\",VLOOKUP(G6591,'Lista de precios'!$B$7:$C$5000,2,0))","v":""}]
[null,null,"",null,null,null,null,{"$f":"IF(G6592=\"\",\"\",VLOOKUP(G6592,'Lista de precios'!$B$7:$C$5000,2,0))","v":""}]
[null,null,"",null,null,null,null,{"$f":"IF(G6593=\"\",\"\",VLOOKUP(G6593,'Lista de precios'!$B$7:$C$5000,2,0))","v":""}]
[null,null,"",null,null,null,null,{"$f":"IF(G6594=\"\",\"\",VLOOKUP(G6594,'Lista de precios'!$B$7:$C$5000,2,0))","v":""}]
[null,null,"",null,null,null,null,{"$f":"IF(G6595=\"\",\"\",VLOOKUP(G6595,'Lista de precios'!$B$7:$C$5000,2,0))","v":""}]
[null,null,"",null,null,null,null,{"$f":"IF(G6596=\"\",\"\",VLOOKUP(G6596,'Lista de precios'!$B$7:$C$5000,2,0))","v":""}]
[null,null,"",null,null,null,null,{"$f":"IF(G6597=\"\",\"\",VLOOKUP(G6597,'Lista de precios'!$B$7:$C$5000,2,0))","v":""}]
[null,null,"",null,null,null,null,{"$f":"IF(G6598=\"\",\"\",VLOOKUP(G6598,'Lista de precios'!$B$7:$C$5000,2,0))","v":""}]
[null,null,"",null,null,null,null,{"$f":"IF(G6599=\"\",\"\",VLOOKUP(G6599,'Lista de precios'!$B$7:$C$5000,2,0))","v":""}]
[null,null,"",null,null,null,null,{"$f":"IF(G6600=\"\",\"\",VLOOKUP(G6600,'Lista de precios'!$B$7:$C$5000,2,0))","v":""}]
[null,null,"",null,null,null,null,{"$f":"IF(G6601=\"\",\"\",VLOOKUP(G6601,'Lista de precios'!$B$7:$C$5000,2,0))","v":""}]
[null,null,"",null,null,null,null,{"$f":"IF(G6602=\"\",\"\",VLOOKUP(G6602,'Lista de precios'!$B$7:$C$5000,2,0))","v":""}]
[null,null,"",null,null,null,null,{"$f":"IF(G6603=\"\",\"\",VLOOKUP(G6603,'Lista de precios'!$B$7:$C$5000,2,0))","v":""}]
[null,null,{"$f":"IF(B6604=\"\",\"\",TEXT(B6604,\"Mmmm\"))","v":""},null,null,null,null,{"$f":"IF(G6604=\"\",\"\",VLOOKUP(G6604,'Lista de precios'!$B$7:$C$5000,2,0))","v":""}]
[null,null,"",null,null,null,null,{"$f":"IF(G6605=\"\",\"\",VLOOKUP(G6605,'Lista de precios'!$B$7:$C$5000,2,0))","v":""}]
[null,null,"",null,null,null,null,{"$f":"IF(G6606=\"\",\"\",VLOOKUP(G6606,'Lista de precios'!$B$7:$C$5000,2,0))","v":""}]
[null,null,"",null,null,null,null,{"$f":"IF(G6607=\"\",\"\",VLOOKUP(G6607,'Lista de precios'!$B$7:$C$5000,2,0))","v":""}]
[null,null,"",null,null,null,null,{"$f":"IF(G6608=\"\",\"\",VLOOKUP(G6608,'Lista de precios'!$B$7:$C$5000,2,0))","v":""}]
[null,null,"",null,null,null,null,{"$f":"IF(G6609=\"\",\"\",VLOOKUP(G6609,'Lista de precios'!$B$7:$C$5000,2,0))","v":""}]
[null,null,"",null,null,null,null,{"$f":"IF(G6610=\"\",\"\",VLOOKUP(G6610,'Lista de precios'!$B$7:$C$5000,2,0))","v":""}]
[null,null,"",null,null,null,null,{"$f":"IF(G6611=\"\",\"\",VLOOKUP(G6611,'Lista de precios'!$B$7:$C$5000,2,0))","v":""}]
[null,null,"",null,null,null,null,{"$f":"IF(G6612=\"\",\"\",VLOOKUP(G6612,'Lista de precios'!$B$7:$C$5000,2,0))","v":""}]
[null,null,"",null,null,null,null,{"$f":"IF(G6613=\"\",\"\",VLOOKUP(G6613,'Lista de precios'!$B$7:$C$5000,2,0))","v":""}]
[null,null,"",null,null,null,null,{"$f":"IF(G6614=\"\",\"\",VLOOKUP(G6614,'Lista de precios'!$B$7:$C$5000,2,0))","v":""}]
[null,null,"",null,null,null,null,{"$f":"IF(G6615=\"\",\"\",VLOOKUP(G6615,'Lista de precios'!$B$7:$C$5000,2,0))","v":""}]
[null,null,"",null,null,null,null,{"$f":"IF(G6616=\"\",\"\",VLOOKUP(G6616,'Lista de precios'!$B$7:$C$5000,2,0))","v":""}]
[null,null,"",null,null,null,null,{"$f":"IF(G6617=\"\",\"\",VLOOKUP(G6617,'Lista de precios'!$B$7:$C$5000,2,0))","v":""}]
[null,null,"",null,null,null,null,{"$f":"IF(G6618=\"\",\"\",VLOOKUP(G6618,'Lista de precios'!$B$7:$C$5000,2,0))","v":""}]
[null,null,"",null,null,null,null,{"$f":"IF(G6619=\"\",\"\",VLOOKUP(G6619,'Lista de precios'!$B$7:$C$5000,2,0))","v":""}]
[null,null,"",null,null,null,null,{"$f":"IF(G6620=\"\",\"\",VLOOKUP(G6620,'Lista de precios'!$B$7:$C$5000,2,0))","v":""}]
[null,null,"",null,null,null,null,{"$f":"IF(G6621=\"\",\"\",VLOOKUP(G6621,'Lista de precios'!$B$7:$C$5000,2,0))","v":""}]
[null,null,"",null,null,null,null,{"$f":"IF(G6622=\"\",\"\",VLOOKUP(G6622,'Lista de precios'!$B$7:$C$5000,2,0))","v":""}]
[null,null,"",null,null,null,null,{"$f":"IF(G6623=\"\",\"\",VLOOKUP(G6623,'Lista de precios'!$B$7:$C$5000,2,0))","v":""}]
[null,null,"",null,null,null,null,{"$f":"IF(G6624=\"\",\"\",VLOOKUP(G6624,'Lista de precios'!$B$7:$C$5000,2,0))","v":""}]
[null,null,"",null,null,null,null,{"$f":"IF(G6625=\"\",\"\",VLOOKUP(G6625,'Lista de precios'!$B$7:$C$5000,2,0))","v":""}]
[null,null,"",null,null,null,null,{"$f":"IF(G6626=\"\",\"\",VLOOKUP(G6626,'Lista de precios'!$B$7:$C$5000,2,0))","v":""}]
[null,null,"",null,null,null,null,{"$f":"IF(G6627=\"\",\"\",VLOOKUP(G6627,'Lista de precios'!$B$7:$C$5000,2,0))","v":""}]
[null,null,"",null,null,null,null,{"$f":"IF(G6628=\"\",\"\",VLOOKUP(G6628,'Lista de precios'!$B$7:$C$5000,2,0))","v":""}]
[null,null,"",null,null,null,null,{"$f":"IF(G6629=\"\",\"\",VLOOKUP(G6629,'Lista de precios'!$B$7:$C$5000,2,0))","v":""}]
[null,null,"",null,null,null,null,{"$f":"IF(G6630=\"\",\"\",VLOOKUP(G6630,'Lista de precios'!$B$7:$C$5000,2,0))","v":""}]
[null,null,"",null,null,null,null,{"$f":"IF(G6631=\"\",\"\",VLOOKUP(G6631,'Lista de precios'!$B$7:$C$5000,2,0))","v":""}]
[null,null,"",null,null,null,null,{"$f":"IF(G6632=\"\",\"\",VLOOKUP(G6632,'Lista de precios'!$B$7:$C$5000,2,0))","v":""}]
[null,null,"",null,null,null,null,{"$f":"IF(G6633=\"\",\"\",VLOOKUP(G6633,'Lista de precios'!$B$7:$C$5000,2,0))","v":""}]
[null,null,"",null,null,null,null,{"$f":"IF(G6634=\"\",\"\",VLOOKUP(G6634,'Lista de precios'!$B$7:$C$5000,2,0))","v":""}]
[null,null,"",null,null,null,null,{"$f":"IF(G6635=\"\",\"\",VLOOKUP(G6635,'Lista de precios'!$B$7:$C$5000,2,0))","v":""}]
[null,null,"",null,null,null,null,{"$f":"IF(G6636=\"\",\"\",VLOOKUP(G6636,'Lista de precios'!$B$7:$C$5000,2,0))","v":""}]
[null,null,"",null,null,null,null,{"$f":"IF(G6637=\"\",\"\",VLOOKUP(G6637,'Lista de precios'!$B$7:$C$5000,2,0))","v":""}]
[null,null,"",null,null,null,null,{"$f":"IF(G6638=\"\",\"\",VLOOKUP(G6638,'Lista de precios'!$B$7:$C$5000,2,0))","v":""}]
[null,null,"",null,null,null,null,{"$f":"IF(G6639=\"\",\"\",VLOOKUP(G6639,'Lista de precios'!$B$7:$C$5000,2,0))","v":""}]
[null,null,"",null,null,null,null,{"$f":"IF(G6640=\"\",\"\",VLOOKUP(G6640,'Lista de precios'!$B$7:$C$5000,2,0))","v":""}]
[null,null,"",null,null,null,null,{"$f":"IF(G6641=\"\",\"\",VLOOKUP(G6641,'Lista de precios'!$B$7:$C$5000,2,0))","v":""}]
[null,null,"",null,null,null,null,{"$f":"IF(G6642=\"\",\"\",VLOOKUP(G6642,'Lista de precios'!$B$7:$C$5000,2,0))","v":""}]
[null,null,"",null,null,null,null,{"$f":"IF(G6643=\"\",\"\",VLOOKUP(G6643,'Lista de precios'!$B$7:$C$5000,2,0))","v":""}]
[null,null,"",null,null,null,null,{"$f":"IF(G6644=\"\",\"\",VLOOKUP(G6644,'Lista de precios'!$B$7:$C$5000,2,0))","v":""}]
[null,null,"",null,null,null,null,{"$f":"IF(G6645=\"\",\"\",VLOOKUP(G6645,'Lista de precios'!$B$7:$C$5000,2,0))","v":""}]
[null,null,"",null,null,null,null,{"$f":"IF(G6646=\"\",\"\",VLOOKUP(G6646,'Lista de precios'!$B$7:$C$5000,2,0))","v":""}]
[null,null,"",null,null,null,null,{"$f":"IF(G6647=\"\",\"\",VLOOKUP(G6647,'Lista de precios'!$B$7:$C$5000,2,0))","v":""}]
[null,null,"",null,null,null,null,{"$f":"IF(G6648=\"\",\"\",VLOOKUP(G6648,'Lista de precios'!$B$7:$C$5000,2,0))","v":""}]
[null,null,"",null,null,null,null,{"$f":"IF(G6649=\"\",\"\",VLOOKUP(G6649,'Lista de precios'!$B$7:$C$5000,2,0))","v":""}]
[null,null,"",null,null,null,null,{"$f":"IF(G6650=\"\",\"\",VLOOKUP(G6650,'Lista de precios'!$B$7:$C$5000,2,0))","v":""}]
[null,null,"",null,null,null,null,{"$f":"IF(G6651=\"\",\"\",VLOOKUP(G6651,'Lista de precios'!$B$7:$C$5000,2,0))","v":""}]
[null,null,"",null,null,null,null,{"$f":"IF(G6652=\"\",\"\",VLOOKUP(G6652,'Lista de precios'!$B$7:$C$5000,2,0))","v":""}]
[null,null,"",null,null,null,null,{"$f":"IF(G6653=\"\",\"\",VLOOKUP(G6653,'Lista de precios'!$B$7:$C$5000,2,0))","v":""}]
[null,null,"",null,null,null,null,{"$f":"IF(G6654=\"\",\"\",VLOOKUP(G6654,'Lista de precios'!$B$7:$C$5000,2,0))","v":""}]
[null,null,"",null,null,null,null,{"$f":"IF(G6655=\"\",\"\",VLOOKUP(G6655,'Lista de precios'!$B$7:$C$5000,2,0))","v":""}]
[null,null,"",null,null,null,null,{"$f":"IF(G6656=\"\",\"\",VLOOKUP(G6656,'Lista de precios'!$B$7:$C$5000,2,0))","v":""}]
[null,null,"",null,null,null,null,{"$f":"IF(G6657=\"\",\"\",VLOOKUP(G6657,'Lista de precios'!$B$7:$C$5000,2,0))","v":""}]
[null,null,"",null,null,null,null,{"$f":"IF(G6658=\"\",\"\",VLOOKUP(G6658,'Lista de precios'!$B$7:$C$5000,2,0))","v":""}]
[null,null,"",null,null,null,null,{"$f":"IF(G6659=\"\",\"\",VLOOKUP(G6659,'Lista de precios'!$B$7:$C$5000,2,0))","v":""}]
[null,null,"",null,null,null,null,{"$f":"IF(G6660=\"\",\"\",VLOOKUP(G6660,'Lista de precios'!$B$7:$C$5000,2,0))","v":""}]
[null,null,"",null,null,null,null,{"$f":"IF(G6661=\"\",\"\",VLOOKUP(G6661,'Lista de precios'!$B$7:$C$5000,2,0))","v":""}]
[null,null,"",null,null,null,null,{"$f":"IF(G6662=\"\",\"\",VLOOKUP(G6662,'Lista de precios'!$B$7:$C$5000,2,0))","v":""}]
[null,null,"",null,null,null,null,{"$f":"IF(G6663=\"\",\"\",VLOOKUP(G6663,'Lista de precios'!$B$7:$C$5000,2,0))","v":""}]
[null,null,"",null,null,null,null,{"$f":"IF(G6664=\"\",\"\",VLOOKUP(G6664,'Lista de precios'!$B$7:$C$5000,2,0))","v":""}]
[null,null,"",null,null,null,null,{"$f":"IF(G6665=\"\",\"\",VLOOKUP(G6665,'Lista de precios'!$B$7:$C$5000,2,0))","v":""}]
[null,null,"",null,null,null,null,{"$f":"IF(G6666=\"\",\"\",VLOOKUP(G6666,'Lista de precios'!$B$7:$C$5000,2,0))","v":""}]
[null,null,"",null,null,null,null,{"$f":"IF(G6667=\"\",\"\",VLOOKUP(G6667,'Lista de precios'!$B$7:$C$5000,2,0))","v":""}]
[null,null,{"$f":"IF(B6668=\"\",\"\",TEXT(B6668,\"Mmmm\"))","v":""},null,null,null,null,{"$f":"IF(G6668=\"\",\"\",VLOOKUP(G6668,'Lista de precios'!$B$7:$C$5000,2,0))","v":""}]
[null,null,"",null,null,null,null,{"$f":"IF(G6669=\"\",\"\",VLOOKUP(G6669,'Lista de precios'!$B$7:$C$5000,2,0))","v":""}]
[null,null,"",null,null,null,null,{"$f":"IF(G6670=\"\",\"\",VLOOKUP(G6670,'Lista de precios'!$B$7:$C$5000,2,0))","v":""}]
[null,null,"",null,null,null,null,{"$f":"IF(G6671=\"\",\"\",VLOOKUP(G6671,'Lista de precios'!$B$7:$C$5000,2,0))","v":""}]
[null,null,"",null,null,null,null,{"$f":"IF(G6672=\"\",\"\",VLOOKUP(G6672,'Lista de precios'!$B$7:$C$5000,2,0))","v":""}]
[null,null,"",null,null,null,null,{"$f":"IF(G6673=\"\",\"\",VLOOKUP(G6673,'Lista de precios'!$B$7:$C$5000,2,0))","v":""}]
[null,null,"",null,null,null,null,{"$f":"IF(G6674=\"\",\"\",VLOOKUP(G6674,'Lista de precios'!$B$7:$C$5000,2,0))","v":""}]
[null,null,"",null,null,null,null,{"$f":"IF(G6675=\"\",\"\",VLOOKUP(G6675,'Lista de precios'!$B$7:$C$5000,2,0))","v":""}]
[null,null,"",null,null,null,null,{"$f":"IF(G6676=\"\",\"\",VLOOKUP(G6676,'Lista de precios'!$B$7:$C$5000,2,0))","v":""}]
[null,null,"",null,null,null,null,{"$f":"IF(G6677=\"\",\"\",VLOOKUP(G6677,'Lista de precios'!$B$7:$C$5000,2,0))","v":""}]
[null,null,"",null,null,null,null,{"$f":"IF(G6678=\"\",\"\",VLOOKUP(G6678,'Lista de precios'!$B$7:$C$5000,2,0))","v":""}]
[null,null,"",null,null,null,null,{"$f":"IF(G6679=\"\",\"\",VLOOKUP(G6679,'Lista de precios'!$B$7:$C$5000,2,0))","v":""}]
[null,null,"",null,null,null,null,{"$f":"IF(G6680=\"\",\"\",VLOOKUP(G6680,'Lista de precios'!$B$7:$C$5000,2,0))","v":""}]
[null,null,"",null,null,null,null,{"$f":"IF(G6681=\"\",\"\",VLOOKUP(G6681,'Lista de precios'!$B$7:$C$5000,2,0))","v":""}]
[null,null,"",null,null,null,null,{"$f":"IF(G6682=\"\",\"\",VLOOKUP(G6682,'Lista de precios'!$B$7:$C$5000,2,0))","v":""}]
[null,null,"",null,null,null,null,{"$f":"IF(G6683=\"\",\"\",VLOOKUP(G6683,'Lista de precios'!$B$7:$C$5000,2,0))","v":""}]
[null,null,"",null,null,null,null,{"$f":"IF(G6684=\"\",\"\",VLOOKUP(G6684,'Lista de precios'!$B$7:$C$5000,2,0))","v":""}]
[null,null,"",null,null,null,null,{"$f":"IF(G6685=\"\",\"\",VLOOKUP(G6685,'Lista de precios'!$B$7:$C$5000,2,0))","v":""}]
[null,null,"",null,null,null,null,{"$f":"IF(G6686=\"\",\"\",VLOOKUP(G6686,'Lista de precios'!$B$7:$C$5000,2,0))","v":""}]
[null,null,"",null,null,null,null,{"$f":"IF(G6687=\"\",\"\",VLOOKUP(G6687,'Lista de precios'!$B$7:$C$5000,2,0))","v":""}]
[null,null,"",null,null,null,null,{"$f":"IF(G6688=\"\",\"\",VLOOKUP(G6688,'Lista de precios'!$B$7:$C$5000,2,0))","v":""}]
[null,null,"",null,null,null,null,{"$f":"IF(G6689=\"\",\"\",VLOOKUP(G6689,'Lista de precios'!$B$7:$C$5000,2,0))","v":""}]
[null,null,"",null,null,null,null,{"$f":"IF(G6690=\"\",\"\",VLOOKUP(G6690,'Lista de precios'!$B$7:$C$5000,2,0))","v":""}]
[null,null,"",null,null,null,null,{"$f":"IF(G6691=\"\",\"\",VLOOKUP(G6691,'Lista de precios'!$B$7:$C$5000,2,0))","v":""}]
[null,null,"",null,null,null,null,{"$f":"IF(G6692=\"\",\"\",VLOOKUP(G6692,'Lista de precios'!$B$7:$C$5000,2,0))","v":""}]
[null,null,"",null,null,null,null,{"$f":"IF(G6693=\"\",\"\",VLOOKUP(G6693,'Lista de precios'!$B$7:$C$5000,2,0))","v":""}]
[null,null,"",null,null,null,null,{"$f":"IF(G6694=\"\",\"\",VLOOKUP(G6694,'Lista de precios'!$B$7:$C$5000,2,0))","v":""}]
[null,null,"",null,null,null,null,{"$f":"IF(G6695=\"\",\"\",VLOOKUP(G6695,'Lista de precios'!$B$7:$C$5000,2,0))","v":""}]
[null,null,"",null,null,null,null,{"$f":"IF(G6696=\"\",\"\",VLOOKUP(G6696,'Lista de precios'!$B$7:$C$5000,2,0))","v":""}]
[null,null,"",null,null,null,null,{"$f":"IF(G6697=\"\",\"\",VLOOKUP(G6697,'Lista de precios'!$B$7:$C$5000,2,0))","v":""}]
[null,null,"",null,null,null,null,{"$f":"IF(G6698=\"\",\"\",VLOOKUP(G6698,'Lista de precios'!$B$7:$C$5000,2,0))","v":""}]
[null,null,"",null,null,null,null,{"$f":"IF(G6699=\"\",\"\",VLOOKUP(G6699,'Lista de precios'!$B$7:$C$5000,2,0))","v":""}]
[null,null,"",null,null,null,null,{"$f":"IF(G6700=\"\",\"\",VLOOKUP(G6700,'Lista de precios'!$B$7:$C$5000,2,0))","v":""}]
[null,null,"",null,null,null,null,{"$f":"IF(G6701=\"\",\"\",VLOOKUP(G6701,'Lista de precios'!$B$7:$C$5000,2,0))","v":""}]
[null,null,"",null,null,null,null,{"$f":"IF(G6702=\"\",\"\",VLOOKUP(G6702,'Lista de precios'!$B$7:$C$5000,2,0))","v":""}]
[null,null,"",null,null,null,null,{"$f":"IF(G6703=\"\",\"\",VLOOKUP(G6703,'Lista de precios'!$B$7:$C$5000,2,0))","v":""}]
[null,null,"",null,null,null,null,{"$f":"IF(G6704=\"\",\"\",VLOOKUP(G6704,'Lista de precios'!$B$7:$C$5000,2,0))","v":""}]
[null,null,"",null,null,null,null,{"$f":"IF(G6705=\"\",\"\",VLOOKUP(G6705,'Lista de precios'!$B$7:$C$5000,2,0))","v":""}]
[null,null,"",null,null,null,null,{"$f":"IF(G6706=\"\",\"\",VLOOKUP(G6706,'Lista de precios'!$B$7:$C$5000,2,0))","v":""}]
[null,null,"",null,null,null,null,{"$f":"IF(G6707=\"\",\"\",VLOOKUP(G6707,'Lista de precios'!$B$7:$C$5000,2,0))","v":""}]
[null,null,"",null,null,null,null,{"$f":"IF(G6708=\"\",\"\",VLOOKUP(G6708,'Lista de precios'!$B$7:$C$5000,2,0))","v":""}]
[null,null,"",null,null,null,null,{"$f":"IF(G6709=\"\",\"\",VLOOKUP(G6709,'Lista de precios'!$B$7:$C$5000,2,0))","v":""}]
[null,null,"",null,null,null,null,{"$f":"IF(G6710=\"\",\"\",VLOOKUP(G6710,'Lista de precios'!$B$7:$C$5000,2,0))","v":""}]
[null,null,"",null,null,null,null,{"$f":"IF(G6711=\"\",\"\",VLOOKUP(G6711,'Lista de precios'!$B$7:$C$5000,2,0))","v":""}]
[null,null,"",null,null,null,null,{"$f":"IF(G6712=\"\",\"\",VLOOKUP(G6712,'Lista de precios'!$B$7:$C$5000,2,0))","v":""}]
[null,null,"",null,null,null,null,{"$f":"IF(G6713=\"\",\"\",VLOOKUP(G6713,'Lista de precios'!$B$7:$C$5000,2,0))","v":""}]
[null,null,"",null,null,null,null,{"$f":"IF(G6714=\"\",\"\",VLOOKUP(G6714,'Lista de precios'!$B$7:$C$5000,2,0))","v":""}]
[null,null,"",null,null,null,null,{"$f":"IF(G6715=\"\",\"\",VLOOKUP(G6715,'Lista de precios'!$B$7:$C$5000,2,0))","v":""}]
[null,null,"",null,null,null,null,{"$f":"IF(G6716=\"\",\"\",VLOOKUP(G6716,'Lista de precios'!$B$7:$C$5000,2,0))","v":""}]
[null,null,"",null,null,null,null,{"$f":"IF(G6717=\"\",\"\",VLOOKUP(G6717,'Lista de precios'!$B$7:$C$5000,2,0))","v":""}]
[null,null,"",null,null,null,null,{"$f":"IF(G6718=\"\",\"\",VLOOKUP(G6718,'Lista de precios'!$B$7:$C$5000,2,0))","v":""}]
[null,null,"",null,null,null,null,{"$f":"IF(G6719=\"\",\"\",VLOOKUP(G6719,'Lista de precios'!$B$7:$C$5000,2,0))","v":""}]
[null,null,"",null,null,null,null,{"$f":"IF(G6720=\"\",\"\",VLOOKUP(G6720,'Lista de precios'!$B$7:$C$5000,2,0))","v":""}]
[null,null,"",null,null,null,null,{"$f":"IF(G6721=\"\",\"\",VLOOKUP(G6721,'Lista de precios'!$B$7:$C$5000,2,0))","v":""}]
[null,null,"",null,null,null,null,{"$f":"IF(G6722=\"\",\"\",VLOOKUP(G6722,'Lista de precios'!$B$7:$C$5000,2,0))","v":""}]
[null,null,"",null,null,null,null,{"$f":"IF(G6723=\"\",\"\",VLOOKUP(G6723,'Lista de precios'!$B$7:$C$5000,2,0))","v":""}]
[null,null,"",null,null,null,null,{"$f":"IF(G6724=\"\",\"\",VLOOKUP(G6724,'Lista de precios'!$B$7:$C$5000,2,0))","v":""}]
[null,null,"",null,null,null,null,{"$f":"IF(G6725=\"\",\"\",VLOOKUP(G6725,'Lista de precios'!$B$7:$C$5000,2,0))","v":""}]
[null,null,"",null,null,null,null,{"$f":"IF(G6726=\"\",\"\",VLOOKUP(G6726,'Lista de precios'!$B$7:$C$5000,2,0))","v":""}]
[null,null,"",null,null,null,null,{"$f":"IF(G6727=\"\",\"\",VLOOKUP(G6727,'Lista de precios'!$B$7:$C$5000,2,0))","v":""}]
[null,null,"",null,null,null,null,{"$f":"IF(G6728=\"\",\"\",VLOOKUP(G6728,'Lista de precios'!$B$7:$C$5000,2,0))","v":""}]
[null,null,"",null,null,null,null,{"$f":"IF(G6729=\"\",\"\",VLOOKUP(G6729,'Lista de precios'!$B$7:$C$5000,2,0))","v":""}]
[null,null,"",null,null,null,null,{"$f":"IF(G6730=\"\",\"\",VLOOKUP(G6730,'Lista de precios'!$B$7:$C$5000,2,0))","v":""}]
[null,null,"",null,null,null,null,{"$f":"IF(G6731=\"\",\"\",VLOOKUP(G6731,'Lista de precios'!$B$7:$C$5000,2,0))","v":""}]
[null,null,{"$f":"IF(B6732=\"\",\"\",TEXT(B6732,\"Mmmm\"))","v":""},null,null,null,null,{"$f":"IF(G6732=\"\",\"\",VLOOKUP(G6732,'Lista de precios'!$B$7:$C$5000,2,0))","v":""}]
[null,null,"",null,null,null,null,{"$f":"IF(G6733=\"\",\"\",VLOOKUP(G6733,'Lista de precios'!$B$7:$C$5000,2,0))","v":""}]
[null,null,"",null,null,null,null,{"$f":"IF(G6734=\"\",\"\",VLOOKUP(G6734,'Lista de precios'!$B$7:$C$5000,2,0))","v":""}]
[null,null,"",null,null,null,null,{"$f":"IF(G6735=\"\",\"\",VLOOKUP(G6735,'Lista de precios'!$B$7:$C$5000,2,0))","v":""}]
[null,null,"",null,null,null,null,{"$f":"IF(G6736=\"\",\"\",VLOOKUP(G6736,'Lista de precios'!$B$7:$C$5000,2,0))","v":""}]
[null,null,"",null,null,null,null,{"$f":"IF(G6737=\"\",\"\",VLOOKUP(G6737,'Lista de precios'!$B$7:$C$5000,2,0))","v":""}]
[null,null,"",null,null,null,null,{"$f":"IF(G6738=\"\",\"\",VLOOKUP(G6738,'Lista de precios'!$B$7:$C$5000,2,0))","v":""}]
[null,null,"",null,null,null,null,{"$f":"IF(G6739=\"\",\"\",VLOOKUP(G6739,'Lista de precios'!$B$7:$C$5000,2,0))","v":""}]
[null,null,"",null,null,null,null,{"$f":"IF(G6740=\"\",\"\",VLOOKUP(G6740,'Lista de precios'!$B$7:$C$5000,2,0))","v":""}]
[null,null,"",null,null,null,null,{"$f":"IF(G6741=\"\",\"\",VLOOKUP(G6741,'Lista de precios'!$B$7:$C$5000,2,0))","v":""}]
[null,null,"",null,null,null,null,{"$f":"IF(G6742=\"\",\"\",VLOOKUP(G6742,'Lista de precios'!$B$7:$C$5000,2,0))","v":""}]
[null,null,"",null,null,null,null,{"$f":"IF(G6743=\"\",\"\",VLOOKUP(G6743,'Lista de precios'!$B$7:$C$5000,2,0))","v":""}]
[null,null,"",null,null,null,null,{"$f":"IF(G6744=\"\",\"\",VLOOKUP(G6744,'Lista de precios'!$B$7:$C$5000,2,0))","v":""}]
[null,null,"",null,null,null,null,{"$f":"IF(G6745=\"\",\"\",VLOOKUP(G6745,'Lista de precios'!$B$7:$C$5000,2,0))","v":""}]
[null,null,"",null,null,null,null,{"$f":"IF(G6746=\"\",\"\",VLOOKUP(G6746,'Lista de precios'!$B$7:$C$5000,2,0))","v":""}]
[null,null,"",null,null,null,null,{"$f":"IF(G6747=\"\",\"\",VLOOKUP(G6747,'Lista de precios'!$B$7:$C$5000,2,0))","v":""}]
[null,null,"",null,null,null,null,{"$f":"IF(G6748=\"\",\"\",VLOOKUP(G6748,'Lista de precios'!$B$7:$C$5000,2,0))","v":""}]
[null,null,"",null,null,null,null,{"$f":"IF(G6749=\"\",\"\",VLOOKUP(G6749,'Lista de precios'!$B$7:$C$5000,2,0))","v":""}]
[null,null,"",null,null,null,null,{"$f":"IF(G6750=\"\",\"\",VLOOKUP(G6750,'Lista de precios'!$B$7:$C$5000,2,0))","v":""}]
[null,null,"",null,null,null,null,{"$f":"IF(G6751=\"\",\"\",VLOOKUP(G6751,'Lista de precios'!$B$7:$C$5000,2,0))","v":""}]
[null,null,"",null,null,null,null,{"$f":"IF(G6752=\"\",\"\",VLOOKUP(G6752,'Lista de precios'!$B$7:$C$5000,2,0))","v":""}]
[null,null,"",null,null,null,null,{"$f":"IF(G6753=\"\",\"\",VLOOKUP(G6753,'Lista de precios'!$B$7:$C$5000,2,0))","v":""}]
[null,null,"",null,null,null,null,{"$f":"IF(G6754=\"\",\"\",VLOOKUP(G6754,'Lista de precios'!$B$7:$C$5000,2,0))","v":""}]
[null,null,"",null,null,null,null,{"$f":"IF(G6755=\"\",\"\",VLOOKUP(G6755,'Lista de precios'!$B$7:$C$5000,2,0))","v":""}]
[null,null,"",null,null,null,null,{"$f":"IF(G6756=\"\",\"\",VLOOKUP(G6756,'Lista de precios'!$B$7:$C$5000,2,0))","v":""}]
[null,null,"",null,null,null,null,{"$f":"IF(G6757=\"\",\"\",VLOOKUP(G6757,'Lista de precios'!$B$7:$C$5000,2,0))","v":""}]
[null,null,"",null,null,null,null,{"$f":"IF(G6758=\"\",\"\",VLOOKUP(G6758,'Lista de precios'!$B$7:$C$5000,2,0))","v":""}]
[null,null,"",null,null,null,null,{"$f":"IF(G6759=\"\",\"\",VLOOKUP(G6759,'Lista de precios'!$B$7:$C$5000,2,0))","v":""}]
[null,null,"",null,null,null,null,{"$f":"IF(G6760=\"\",\"\",VLOOKUP(G6760,'Lista de precios'!$B$7:$C$5000,2,0))","v":""}]
[null,null,"",null,null,null,null,{"$f":"IF(G6761=\"\",\"\",VLOOKUP(G6761,'Lista de precios'!$B$7:$C$5000,2,0))","v":""}]
[null,null,"",null,null,null,null,{"$f":"IF(G6762=\"\",\"\",VLOOKUP(G6762,'Lista de precios'!$B$7:$C$5000,2,0))","v":""}]
[null,null,"",null,null,null,null,{"$f":"IF(G6763=\"\",\"\",VLOOKUP(G6763,'Lista de precios'!$B$7:$C$5000,2,0))","v":""}]
[null,null,"",null,null,null,null,{"$f":"IF(G6764=\"\",\"\",VLOOKUP(G6764,'Lista de precios'!$B$7:$C$5000,2,0))","v":""}]
[null,null,"",null,null,null,null,{"$f":"IF(G6765=\"\",\"\",VLOOKUP(G6765,'Lista de precios'!$B$7:$C$5000,2,0))","v":""}]
[null,null,"",null,null,null,null,{"$f":"IF(G6766=\"\",\"\",VLOOKUP(G6766,'Lista de precios'!$B$7:$C$5000,2,0))","v":""}]
[null,null,"",null,null,null,null,{"$f":"IF(G6767=\"\",\"\",VLOOKUP(G6767,'Lista de precios'!$B$7:$C$5000,2,0))","v":""}]
[null,null,"",null,null,null,null,{"$f":"IF(G6768=\"\",\"\",VLOOKUP(G6768,'Lista de precios'!$B$7:$C$5000,2,0))","v":""}]
[null,null,"",null,null,null,null,{"$f":"IF(G6769=\"\",\"\",VLOOKUP(G6769,'Lista de precios'!$B$7:$C$5000,2,0))","v":""}]
[null,null,"",null,null,null,null,{"$f":"IF(G6770=\"\",\"\",VLOOKUP(G6770,'Lista de precios'!$B$7:$C$5000,2,0))","v":""}]
[null,null,"",null,null,null,null,{"$f":"IF(G6771=\"\",\"\",VLOOKUP(G6771,'Lista de precios'!$B$7:$C$5000,2,0))","v":""}]
[null,null,"",null,null,null,null,{"$f":"IF(G6772=\"\",\"\",VLOOKUP(G6772,'Lista de precios'!$B$7:$C$5000,2,0))","v":""}]
[null,null,"",null,null,null,null,{"$f":"IF(G6773=\"\",\"\",VLOOKUP(G6773,'Lista de precios'!$B$7:$C$5000,2,0))","v":""}]
[null,null,"",null,null,null,null,{"$f":"IF(G6774=\"\",\"\",VLOOKUP(G6774,'Lista de precios'!$B$7:$C$5000,2,0))","v":""}]
[null,null,"",null,null,null,null,{"$f":"IF(G6775=\"\",\"\",VLOOKUP(G6775,'Lista de precios'!$B$7:$C$5000,2,0))","v":""}]
[null,null,"",null,null,null,null,{"$f":"IF(G6776=\"\",\"\",VLOOKUP(G6776,'Lista de precios'!$B$7:$C$5000,2,0))","v":""}]
[null,null,"",null,null,null,null,{"$f":"IF(G6777=\"\",\"\",VLOOKUP(G6777,'Lista de precios'!$B$7:$C$5000,2,0))","v":""}]
[null,null,"",null,null,null,null,{"$f":"IF(G6778=\"\",\"\",VLOOKUP(G6778,'Lista de precios'!$B$7:$C$5000,2,0))","v":""}]
[null,null,"",null,null,null,null,{"$f":"IF(G6779=\"\",\"\",VLOOKUP(G6779,'Lista de precios'!$B$7:$C$5000,2,0))","v":""}]
[null,null,"",null,null,null,null,{"$f":"IF(G6780=\"\",\"\",VLOOKUP(G6780,'Lista de precios'!$B$7:$C$5000,2,0))","v":""}]
[null,null,"",null,null,null,null,{"$f":"IF(G6781=\"\",\"\",VLOOKUP(G6781,'Lista de precios'!$B$7:$C$5000,2,0))","v":""}]
[null,null,"",null,null,null,null,{"$f":"IF(G6782=\"\",\"\",VLOOKUP(G6782,'Lista de precios'!$B$7:$C$5000,2,0))","v":""}]
[null,null,"",null,null,null,null,{"$f":"IF(G6783=\"\",\"\",VLOOKUP(G6783,'Lista de precios'!$B$7:$C$5000,2,0))","v":""}]
[null,null,"",null,null,null,null,{"$f":"IF(G6784=\"\",\"\",VLOOKUP(G6784,'Lista de precios'!$B$7:$C$5000,2,0))","v":""}]
[null,null,"",null,null,null,null,{"$f":"IF(G6785=\"\",\"\",VLOOKUP(G6785,'Lista de precios'!$B$7:$C$5000,2,0))","v":""}]
[null,null,"",null,null,null,null,{"$f":"IF(G6786=\"\",\"\",VLOOKUP(G6786,'Lista de precios'!$B$7:$C$5000,2,0))","v":""}]
[null,null,"",null,null,null,null,{"$f":"IF(G6787=\"\",\"\",VLOOKUP(G6787,'Lista de precios'!$B$7:$C$5000,2,0))","v":""}]
[null,null,"",null,null,null,null,{"$f":"IF(G6788=\"\",\"\",VLOOKUP(G6788,'Lista de precios'!$B$7:$C$5000,2,0))","v":""}]
[null,null,"",null,null,null,null,{"$f":"IF(G6789=\"\",\"\",VLOOKUP(G6789,'Lista de precios'!$B$7:$C$5000,2,0))","v":""}]
[null,null,"",null,null,null,null,{"$f":"IF(G6790=\"\",\"\",VLOOKUP(G6790,'Lista de precios'!$B$7:$C$5000,2,0))","v":""}]
[null,null,"",null,null,null,null,{"$f":"IF(G6791=\"\",\"\",VLOOKUP(G6791,'Lista de precios'!$B$7:$C$5000,2,0))","v":""}]
[null,null,"",null,null,null,null,{"$f":"IF(G6792=\"\",\"\",VLOOKUP(G6792,'Lista de precios'!$B$7:$C$5000,2,0))","v":""}]
[null,null,"",null,null,null,null,{"$f":"IF(G6793=\"\",\"\",VLOOKUP(G6793,'Lista de precios'!$B$7:$C$5000,2,0))","v":""}]
[null,null,"",null,null,null,null,{"$f":"IF(G6794=\"\",\"\",VLOOKUP(G6794,'Lista de precios'!$B$7:$C$5000,2,0))","v":""}]
[null,null,"",null,null,null,null,{"$f":"IF(G6795=\"\",\"\",VLOOKUP(G6795,'Lista de precios'!$B$7:$C$5000,2,0))","v":""}]
[null,null,{"$f":"IF(B6796=\"\",\"\",TEXT(B6796,\"Mmmm\"))","v":""},null,null,null,null,{"$f":"IF(G6796=\"\",\"\",VLOOKUP(G6796,'Lista de precios'!$B$7:$C$5000,2,0))","v":""}]
[null,null,"",null,null,null,null,{"$f":"IF(G6797=\"\",\"\",VLOOKUP(G6797,'Lista de precios'!$B$7:$C$5000,2,0))","v":""}]
[null,null,"",null,null,null,null,{"$f":"IF(G6798=\"\",\"\",VLOOKUP(G6798,'Lista de precios'!$B$7:$C$5000,2,0))","v":""}]
[null,null,"",null,null,null,null,{"$f":"IF(G6799=\"\",\"\",VLOOKUP(G6799,'Lista de precios'!$B$7:$C$5000,2,0))","v":""}]
[null,null,"",null,null,null,null,{"$f":"IF(G6800=\"\",\"\",VLOOKUP(G6800,'Lista de precios'!$B$7:$C$5000,2,0))","v":""}]
[null,null,"",null,null,null,null,{"$f":"IF(G6801=\"\",\"\",VLOOKUP(G6801,'Lista de precios'!$B$7:$C$5000,2,0))","v":""}]
[null,null,"",null,null,null,null,{"$f":"IF(G6802=\"\",\"\",VLOOKUP(G6802,'Lista de precios'!$B$7:$C$5000,2,0))","v":""}]
[null,null,"",null,null,null,null,{"$f":"IF(G6803=\"\",\"\",VLOOKUP(G6803,'Lista de precios'!$B$7:$C$5000,2,0))","v":""}]
[null,null,"",null,null,null,null,{"$f":"IF(G6804=\"\",\"\",VLOOKUP(G6804,'Lista de precios'!$B$7:$C$5000,2,0))","v":""}]
[null,null,"",null,null,null,null,{"$f":"IF(G6805=\"\",\"\",VLOOKUP(G6805,'Lista de precios'!$B$7:$C$5000,2,0))","v":""}]
[null,null,"",null,null,null,null,{"$f":"IF(G6806=\"\",\"\",VLOOKUP(G6806,'Lista de precios'!$B$7:$C$5000,2,0))","v":""}]
[null,null,"",null,null,null,null,{"$f":"IF(G6807=\"\",\"\",VLOOKUP(G6807,'Lista de precios'!$B$7:$C$5000,2,0))","v":""}]
[null,null,"",null,null,null,null,{"$f":"IF(G6808=\"\",\"\",VLOOKUP(G6808,'Lista de precios'!$B$7:$C$5000,2,0))","v":""}]
[null,null,"",null,null,null,null,{"$f":"IF(G6809=\"\",\"\",VLOOKUP(G6809,'Lista de precios'!$B$7:$C$5000,2,0))","v":""}]
[null,null,"",null,null,null,null,{"$f":"IF(G6810=\"\",\"\",VLOOKUP(G6810,'Lista de precios'!$B$7:$C$5000,2,0))","v":""}]
[null,null,"",null,null,null,null,{"$f":"IF(G6811=\"\",\"\",VLOOKUP(G6811,'Lista de precios'!$B$7:$C$5000,2,0))","v":""}]
[null,null,"",null,null,null,null,{"$f":"IF(G6812=\"\",\"\",VLOOKUP(G6812,'Lista de precios'!$B$7:$C$5000,2,0))","v":""}]
[null,null,"",null,null,null,null,{"$f":"IF(G6813=\"\",\"\",VLOOKUP(G6813,'Lista de precios'!$B$7:$C$5000,2,0))","v":""}]
[null,null,"",null,null,null,null,{"$f":"IF(G6814=\"\",\"\",VLOOKUP(G6814,'Lista de precios'!$B$7:$C$5000,2,0))","v":""}]
[null,null,"",null,null,null,null,{"$f":"IF(G6815=\"\",\"\",VLOOKUP(G6815,'Lista de precios'!$B$7:$C$5000,2,0))","v":""}]
[null,null,"",null,null,null,null,{"$f":"IF(G6816=\"\",\"\",VLOOKUP(G6816,'Lista de precios'!$B$7:$C$5000,2,0))","v":""}]
[null,null,"",null,null,null,null,{"$f":"IF(G6817=\"\",\"\",VLOOKUP(G6817,'Lista de precios'!$B$7:$C$5000,2,0))","v":""}]
[null,null,"",null,null,null,null,{"$f":"IF(G6818=\"\",\"\",VLOOKUP(G6818,'Lista de precios'!$B$7:$C$5000,2,0))","v":""}]
[null,null,"",null,null,null,null,{"$f":"IF(G6819=\"\",\"\",VLOOKUP(G6819,'Lista de precios'!$B$7:$C$5000,2,0))","v":""}]
[null,null,"",null,null,null,null,{"$f":"IF(G6820=\"\",\"\",VLOOKUP(G6820,'Lista de precios'!$B$7:$C$5000,2,0))","v":""}]
[null,null,"",null,null,null,null,{"$f":"IF(G6821=\"\",\"\",VLOOKUP(G6821,'Lista de precios'!$B$7:$C$5000,2,0))","v":""}]
[null,null,"",null,null,null,null,{"$f":"IF(G6822=\"\",\"\",VLOOKUP(G6822,'Lista de precios'!$B$7:$C$5000,2,0))","v":""}]
[null,null,"",null,null,null,null,{"$f":"IF(G6823=\"\",\"\",VLOOKUP(G6823,'Lista de precios'!$B$7:$C$5000,2,0))","v":""}]
[null,null,"",null,null,null,null,{"$f":"IF(G6824=\"\",\"\",VLOOKUP(G6824,'Lista de precios'!$B$7:$C$5000,2,0))","v":""}]
[null,null,"",null,null,null,null,{"$f":"IF(G6825=\"\",\"\",VLOOKUP(G6825,'Lista de precios'!$B$7:$C$5000,2,0))","v":""}]
[null,null,"",null,null,null,null,{"$f":"IF(G6826=\"\",\"\",VLOOKUP(G6826,'Lista de precios'!$B$7:$C$5000,2,0))","v":""}]
[null,null,"",null,null,null,null,{"$f":"IF(G6827=\"\",\"\",VLOOKUP(G6827,'Lista de precios'!$B$7:$C$5000,2,0))","v":""}]
[null,null,"",null,null,null,null,{"$f":"IF(G6828=\"\",\"\",VLOOKUP(G6828,'Lista de precios'!$B$7:$C$5000,2,0))","v":""}]
[null,null,"",null,null,null,null,{"$f":"IF(G6829=\"\",\"\",VLOOKUP(G6829,'Lista de precios'!$B$7:$C$5000,2,0))","v":""}]
[null,null,"",null,null,null,null,{"$f":"IF(G6830=\"\",\"\",VLOOKUP(G6830,'Lista de precios'!$B$7:$C$5000,2,0))","v":""}]
[null,null,"",null,null,null,null,{"$f":"IF(G6831=\"\",\"\",VLOOKUP(G6831,'Lista de precios'!$B$7:$C$5000,2,0))","v":""}]
[null,null,"",null,null,null,null,{"$f":"IF(G6832=\"\",\"\",VLOOKUP(G6832,'Lista de precios'!$B$7:$C$5000,2,0))","v":""}]
[null,null,"",null,null,null,null,{"$f":"IF(G6833=\"\",\"\",VLOOKUP(G6833,'Lista de precios'!$B$7:$C$5000,2,0))","v":""}]
[null,null,"",null,null,null,null,{"$f":"IF(G6834=\"\",\"\",VLOOKUP(G6834,'Lista de precios'!$B$7:$C$5000,2,0))","v":""}]
[null,null,"",null,null,null,null,{"$f":"IF(G6835=\"\",\"\",VLOOKUP(G6835,'Lista de precios'!$B$7:$C$5000,2,0))","v":""}]
[null,null,"",null,null,null,null,{"$f":"IF(G6836=\"\",\"\",VLOOKUP(G6836,'Lista de precios'!$B$7:$C$5000,2,0))","v":""}]
[null,null,"",null,null,null,null,{"$f":"IF(G6837=\"\",\"\",VLOOKUP(G6837,'Lista de precios'!$B$7:$C$5000,2,0))","v":""}]
[null,null,"",null,null,null,null,{"$f":"IF(G6838=\"\",\"\",VLOOKUP(G6838,'Lista de precios'!$B$7:$C$5000,2,0))","v":""}]
[null,null,"",null,null,null,null,{"$f":"IF(G6839=\"\",\"\",VLOOKUP(G6839,'Lista de precios'!$B$7:$C$5000,2,0))","v":""}]
[null,null,"",null,null,null,null,{"$f":"IF(G6840=\"\",\"\",VLOOKUP(G6840,'Lista de precios'!$B$7:$C$5000,2,0))","v":""}]
[null,null,"",null,null,null,null,{"$f":"IF(G6841=\"\",\"\",VLOOKUP(G6841,'Lista de precios'!$B$7:$C$5000,2,0))","v":""}]
[null,null,"",null,null,null,null,{"$f":"IF(G6842=\"\",\"\",VLOOKUP(G6842,'Lista de precios'!$B$7:$C$5000,2,0))","v":""}]
[null,null,"",null,null,null,null,{"$f":"IF(G6843=\"\",\"\",VLOOKUP(G6843,'Lista de precios'!$B$7:$C$5000,2,0))","v":""}]
[null,null,"",null,null,null,null,{"$f":"IF(G6844=\"\",\"\",VLOOKUP(G6844,'Lista de precios'!$B$7:$C$5000,2,0))","v":""}]
[null,null,"",null,null,null,null,{"$f":"IF(G6845=\"\",\"\",VLOOKUP(G6845,'Lista de precios'!$B$7:$C$5000,2,0))","v":""}]
[null,null,"",null,null,null,null,{"$f":"IF(G6846=\"\",\"\",VLOOKUP(G6846,'Lista de precios'!$B$7:$C$5000,2,0))","v":""}]
[null,null,"",null,null,null,null,{"$f":"IF(G6847=\"\",\"\",VLOOKUP(G6847,'Lista de precios'!$B$7:$C$5000,2,0))","v":""}]
[null,null,"",null,null,null,null,{"$f":"IF(G6848=\"\",\"\",VLOOKUP(G6848,'Lista de precios'!$B$7:$C$5000,2,0))","v":""}]
[null,null,"",null,null,null,null,{"$f":"IF(G6849=\"\",\"\",VLOOKUP(G6849,'Lista de precios'!$B$7:$C$5000,2,0))","v":""}]
[null,null,"",null,null,null,null,{"$f":"IF(G6850=\"\",\"\",VLOOKUP(G6850,'Lista de precios'!$B$7:$C$5000,2,0))","v":""}]
[null,null,"",null,null,null,null,{"$f":"IF(G6851=\"\",\"\",VLOOKUP(G6851,'Lista de precios'!$B$7:$C$5000,2,0))","v":""}]
[null,null,"",null,null,null,null,{"$f":"IF(G6852=\"\",\"\",VLOOKUP(G6852,'Lista de precios'!$B$7:$C$5000,2,0))","v":""}]
[null,null,"",null,null,null,null,{"$f":"IF(G6853=\"\",\"\",VLOOKUP(G6853,'Lista de precios'!$B$7:$C$5000,2,0))","v":""}]
[null,null,"",null,null,null,null,{"$f":"IF(G6854=\"\",\"\",VLOOKUP(G6854,'Lista de precios'!$B$7:$C$5000,2,0))","v":""}]
[null,null,"",null,null,null,null,{"$f":"IF(G6855=\"\",\"\",VLOOKUP(G6855,'Lista de precios'!$B$7:$C$5000,2,0))","v":""}]
[null,null,"",null,null,null,null,{"$f":"IF(G6856=\"\",\"\",VLOOKUP(G6856,'Lista de precios'!$B$7:$C$5000,2,0))","v":""}]
[null,null,"",null,null,null,null,{"$f":"IF(G6857=\"\",\"\",VLOOKUP(G6857,'Lista de precios'!$B$7:$C$5000,2,0))","v":""}]
[null,null,"",null,null,null,null,{"$f":"IF(G6858=\"\",\"\",VLOOKUP(G6858,'Lista de precios'!$B$7:$C$5000,2,0))","v":""}]
[null,null,"",null,null,null,null,{"$f":"IF(G6859=\"\",\"\",VLOOKUP(G6859,'Lista de precios'!$B$7:$C$5000,2,0))","v":""}]
[null,null,{"$f":"IF(B6860=\"\",\"\",TEXT(B6860,\"Mmmm\"))","v":""},null,null,null,null,{"$f":"IF(G6860=\"\",\"\",VLOOKUP(G6860,'Lista de precios'!$B$7:$C$5000,2,0))","v":""}]
[null,null,"",null,null,null,null,{"$f":"IF(G6861=\"\",\"\",VLOOKUP(G6861,'Lista de precios'!$B$7:$C$5000,2,0))","v":""}]
[null,null,"",null,null,null,null,{"$f":"IF(G6862=\"\",\"\",VLOOKUP(G6862,'Lista de precios'!$B$7:$C$5000,2,0))","v":""}]
[null,null,"",null,null,null,null,{"$f":"IF(G6863=\"\",\"\",VLOOKUP(G6863,'Lista de precios'!$B$7:$C$5000,2,0))","v":""}]
[null,null,"",null,null,null,null,{"$f":"IF(G6864=\"\",\"\",VLOOKUP(G6864,'Lista de precios'!$B$7:$C$5000,2,0))","v":""}]
[null,null,"",null,null,null,null,{"$f":"IF(G6865=\"\",\"\",VLOOKUP(G6865,'Lista de precios'!$B$7:$C$5000,2,0))","v":""}]
[null,null,"",null,null,null,null,{"$f":"IF(G6866=\"\",\"\",VLOOKUP(G6866,'Lista de precios'!$B$7:$C$5000,2,0))","v":""}]
[null,null,"",null,null,null,null,{"$f":"IF(G6867=\"\",\"\",VLOOKUP(G6867,'Lista de precios'!$B$7:$C$5000,2,0))","v":""}]
[null,null,"",null,null,null,null,{"$f":"IF(G6868=\"\",\"\",VLOOKUP(G6868,'Lista de precios'!$B$7:$C$5000,2,0))","v":""}]
[null,null,"",null,null,null,null,{"$f":"IF(G6869=\"\",\"\",VLOOKUP(G6869,'Lista de precios'!$B$7:$C$5000,2,0))","v":""}]
[null,null,"",null,null,null,null,{"$f":"IF(G6870=\"\",\"\",VLOOKUP(G6870,'Lista de precios'!$B$7:$C$5000,2,0))","v":""}]
[null,null,"",null,null,null,null,{"$f":"IF(G6871=\"\",\"\",VLOOKUP(G6871,'Lista de precios'!$B$7:$C$5000,2,0))","v":""}]
[null,null,"",null,null,null,null,{"$f":"IF(G6872=\"\",\"\",VLOOKUP(G6872,'Lista de precios'!$B$7:$C$5000,2,0))","v":""}]
[null,null,"",null,null,null,null,{"$f":"IF(G6873=\"\",\"\",VLOOKUP(G6873,'Lista de precios'!$B$7:$C$5000,2,0))","v":""}]
[null,null,"",null,null,null,null,{"$f":"IF(G6874=\"\",\"\",VLOOKUP(G6874,'Lista de precios'!$B$7:$C$5000,2,0))","v":""}]
[null,null,"",null,null,null,null,{"$f":"IF(G6875=\"\",\"\",VLOOKUP(G6875,'Lista de precios'!$B$7:$C$5000,2,0))","v":""}]
[null,null,"",null,null,null,null,{"$f":"IF(G6876=\"\",\"\",VLOOKUP(G6876,'Lista de precios'!$B$7:$C$5000,2,0))","v":""}]
[null,null,"",null,null,null,null,{"$f":"IF(G6877=\"\",\"\",VLOOKUP(G6877,'Lista de precios'!$B$7:$C$5000,2,0))","v":""}]
[null,null,"",null,null,null,null,{"$f":"IF(G6878=\"\",\"\",VLOOKUP(G6878,'Lista de precios'!$B$7:$C$5000,2,0))","v":""}]
[null,null,"",null,null,null,null,{"$f":"IF(G6879=\"\",\"\",VLOOKUP(G6879,'Lista de precios'!$B$7:$C$5000,2,0))","v":""}]
[null,null,"",null,null,null,null,{"$f":"IF(G6880=\"\",\"\",VLOOKUP(G6880,'Lista de precios'!$B$7:$C$5000,2,0))","v":""}]
[null,null,"",null,null,null,null,{"$f":"IF(G6881=\"\",\"\",VLOOKUP(G6881,'Lista de precios'!$B$7:$C$5000,2,0))","v":""}]
[null,null,"",null,null,null,null,{"$f":"IF(G6882=\"\",\"\",VLOOKUP(G6882,'Lista de precios'!$B$7:$C$5000,2,0))","v":""}]
[null,null,"",null,null,null,null,{"$f":"IF(G6883=\"\",\"\",VLOOKUP(G6883,'Lista de precios'!$B$7:$C$5000,2,0))","v":""}]
[null,null,"",null,null,null,null,{"$f":"IF(G6884=\"\",\"\",VLOOKUP(G6884,'Lista de precios'!$B$7:$C$5000,2,0))","v":""}]
[null,null,"",null,null,null,null,{"$f":"IF(G6885=\"\",\"\",VLOOKUP(G6885,'Lista de precios'!$B$7:$C$5000,2,0))","v":""}]
[null,null,"",null,null,null,null,{"$f":"IF(G6886=\"\",\"\",VLOOKUP(G6886,'Lista de precios'!$B$7:$C$5000,2,0))","v":""}]
[null,null,"",null,null,null,null,{"$f":"IF(G6887=\"\",\"\",VLOOKUP(G6887,'Lista de precios'!$B$7:$C$5000,2,0))","v":""}]
[null,null,"",null,null,null,null,{"$f":"IF(G6888=\"\",\"\",VLOOKUP(G6888,'Lista de precios'!$B$7:$C$5000,2,0))","v":""}]
[null,null,"",null,null,null,null,{"$f":"IF(G6889=\"\",\"\",VLOOKUP(G6889,'Lista de precios'!$B$7:$C$5000,2,0))","v":""}]
[null,null,"",null,null,null,null,{"$f":"IF(G6890=\"\",\"\",VLOOKUP(G6890,'Lista de precios'!$B$7:$C$5000,2,0))","v":""}]
[null,null,"",null,null,null,null,{"$f":"IF(G6891=\"\",\"\",VLOOKUP(G6891,'Lista de precios'!$B$7:$C$5000,2,0))","v":""}]
[null,null,"",null,null,null,null,{"$f":"IF(G6892=\"\",\"\",VLOOKUP(G6892,'Lista de precios'!$B$7:$C$5000,2,0))","v":""}]
[null,null,"",null,null,null,null,{"$f":"IF(G6893=\"\",\"\",VLOOKUP(G6893,'Lista de precios'!$B$7:$C$5000,2,0))","v":""}]
[null,null,"",null,null,null,null,{"$f":"IF(G6894=\"\",\"\",VLOOKUP(G6894,'Lista de precios'!$B$7:$C$5000,2,0))","v":""}]
[null,null,"",null,null,null,null,{"$f":"IF(G6895=\"\",\"\",VLOOKUP(G6895,'Lista de precios'!$B$7:$C$5000,2,0))","v":""}]
[null,null,"",null,null,null,null,{"$f":"IF(G6896=\"\",\"\",VLOOKUP(G6896,'Lista de precios'!$B$7:$C$5000,2,0))","v":""}]
[null,null,"",null,null,null,null,{"$f":"IF(G6897=\"\",\"\",VLOOKUP(G6897,'Lista de precios'!$B$7:$C$5000,2,0))","v":""}]
[null,null,"",null,null,null,null,{"$f":"IF(G6898=\"\",\"\",VLOOKUP(G6898,'Lista de precios'!$B$7:$C$5000,2,0))","v":""}]
[null,null,"",null,null,null,null,{"$f":"IF(G6899=\"\",\"\",VLOOKUP(G6899,'Lista de precios'!$B$7:$C$5000,2,0))","v":""}]
[null,null,"",null,null,null,null,{"$f":"IF(G6900=\"\",\"\",VLOOKUP(G6900,'Lista de precios'!$B$7:$C$5000,2,0))","v":""}]
[null,null,"",null,null,null,null,{"$f":"IF(G6901=\"\",\"\",VLOOKUP(G6901,'Lista de precios'!$B$7:$C$5000,2,0))","v":""}]
[null,null,"",null,null,null,null,{"$f":"IF(G6902=\"\",\"\",VLOOKUP(G6902,'Lista de precios'!$B$7:$C$5000,2,0))","v":""}]
[null,null,"",null,null,null,null,{"$f":"IF(G6903=\"\",\"\",VLOOKUP(G6903,'Lista de precios'!$B$7:$C$5000,2,0))","v":""}]
[null,null,"",null,null,null,null,{"$f":"IF(G6904=\"\",\"\",VLOOKUP(G6904,'Lista de precios'!$B$7:$C$5000,2,0))","v":""}]
[null,null,"",null,null,null,null,{"$f":"IF(G6905=\"\",\"\",VLOOKUP(G6905,'Lista de precios'!$B$7:$C$5000,2,0))","v":""}]
[null,null,"",null,null,null,null,{"$f":"IF(G6906=\"\",\"\",VLOOKUP(G6906,'Lista de precios'!$B$7:$C$5000,2,0))","v":""}]
[null,null,"",null,null,null,null,{"$f":"IF(G6907=\"\",\"\",VLOOKUP(G6907,'Lista de precios'!$B$7:$C$5000,2,0))","v":""}]
[null,null,"",null,null,null,null,{"$f":"IF(G6908=\"\",\"\",VLOOKUP(G6908,'Lista de precios'!$B$7:$C$5000,2,0))","v":""}]
[null,null,"",null,null,null,null,{"$f":"IF(G6909=\"\",\"\",VLOOKUP(G6909,'Lista de precios'!$B$7:$C$5000,2,0))","v":""}]
[null,null,"",null,null,null,null,{"$f":"IF(G6910=\"\",\"\",VLOOKUP(G6910,'Lista de precios'!$B$7:$C$5000,2,0))","v":""}]
[null,null,"",null,null,null,null,{"$f":"IF(G6911=\"\",\"\",VLOOKUP(G6911,'Lista de precios'!$B$7:$C$5000,2,0))","v":""}]
[null,null,"",null,null,null,null,{"$f":"IF(G6912=\"\",\"\",VLOOKUP(G6912,'Lista de precios'!$B$7:$C$5000,2,0))","v":""}]
[null,null,"",null,null,null,null,{"$f":"IF(G6913=\"\",\"\",VLOOKUP(G6913,'Lista de precios'!$B$7:$C$5000,2,0))","v":""}]
[null,null,"",null,null,null,null,{"$f":"IF(G6914=\"\",\"\",VLOOKUP(G6914,'Lista de precios'!$B$7:$C$5000,2,0))","v":""}]
[null,null,"",null,null,null,null,{"$f":"IF(G6915=\"\",\"\",VLOOKUP(G6915,'Lista de precios'!$B$7:$C$5000,2,0))","v":""}]
[null,null,"",null,null,null,null,{"$f":"IF(G6916=\"\",\"\",VLOOKUP(G6916,'Lista de precios'!$B$7:$C$5000,2,0))","v":""}]
[null,null,"",null,null,null,null,{"$f":"IF(G6917=\"\",\"\",VLOOKUP(G6917,'Lista de precios'!$B$7:$C$5000,2,0))","v":""}]
[null,null,"",null,null,null,null,{"$f":"IF(G6918=\"\",\"\",VLOOKUP(G6918,'Lista de precios'!$B$7:$C$5000,2,0))","v":""}]
[null,null,"",null,null,null,null,{"$f":"IF(G6919=\"\",\"\",VLOOKUP(G6919,'Lista de precios'!$B$7:$C$5000,2,0))","v":""}]
[null,null,"",null,null,null,null,{"$f":"IF(G6920=\"\",\"\",VLOOKUP(G6920,'Lista de precios'!$B$7:$C$5000,2,0))","v":""}]
[null,null,"",null,null,null,null,{"$f":"IF(G6921=\"\",\"\",VLOOKUP(G6921,'Lista de precios'!$B$7:$C$5000,2,0))","v":""}]
[null,null,"",null,null,null,null,{"$f":"IF(G6922=\"\",\"\",VLOOKUP(G6922,'Lista de precios'!$B$7:$C$5000,2,0))","v":""}]
[null,null,"",null,null,null,null,{"$f":"IF(G6923=\"\",\"\",VLOOKUP(G6923,'Lista de precios'!$B$7:$C$5000,2,0))","v":""}]
[null,null,{"$f":"IF(B6924=\"\",\"\",TEXT(B6924,\"Mmmm\"))","v":""},null,null,null,null,{"$f":"IF(G6924=\"\",\"\",VLOOKUP(G6924,'Lista de precios'!$B$7:$C$5000,2,0))","v":""}]
[null,null,"",null,null,null,null,{"$f":"IF(G6925=\"\",\"\",VLOOKUP(G6925,'Lista de precios'!$B$7:$C$5000,2,0))","v":""}]
[null,null,"",null,null,null,null,{"$f":"IF(G6926=\"\",\"\",VLOOKUP(G6926,'Lista de precios'!$B$7:$C$5000,2,0))","v":""}]
[null,null,"",null,null,null,null,{"$f":"IF(G6927=\"\",\"\",VLOOKUP(G6927,'Lista de precios'!$B$7:$C$5000,2,0))","v":""}]
[null,null,"",null,null,null,null,{"$f":"IF(G6928=\"\",\"\",VLOOKUP(G6928,'Lista de precios'!$B$7:$C$5000,2,0))","v":""}]
[null,null,"",null,null,null,null,{"$f":"IF(G6929=\"\",\"\",VLOOKUP(G6929,'Lista de precios'!$B$7:$C$5000,2,0))","v":""}]
[null,null,"",null,null,null,null,{"$f":"IF(G6930=\"\",\"\",VLOOKUP(G6930,'Lista de precios'!$B$7:$C$5000,2,0))","v":""}]
[null,null,"",null,null,null,null,{"$f":"IF(G6931=\"\",\"\",VLOOKUP(G6931,'Lista de precios'!$B$7:$C$5000,2,0))","v":""}]
[null,null,"",null,null,null,null,{"$f":"IF(G6932=\"\",\"\",VLOOKUP(G6932,'Lista de precios'!$B$7:$C$5000,2,0))","v":""}]
[null,null,"",null,null,null,null,{"$f":"IF(G6933=\"\",\"\",VLOOKUP(G6933,'Lista de precios'!$B$7:$C$5000,2,0))","v":""}]
[null,null,"",null,null,null,null,{"$f":"IF(G6934=\"\",\"\",VLOOKUP(G6934,'Lista de precios'!$B$7:$C$5000,2,0))","v":""}]
[null,null,"",null,null,null,null,{"$f":"IF(G6935=\"\",\"\",VLOOKUP(G6935,'Lista de precios'!$B$7:$C$5000,2,0))","v":""}]
[null,null,"",null,null,null,null,{"$f":"IF(G6936=\"\",\"\",VLOOKUP(G6936,'Lista de precios'!$B$7:$C$5000,2,0))","v":""}]
[null,null,"",null,null,null,null,{"$f":"IF(G6937=\"\",\"\",VLOOKUP(G6937,'Lista de precios'!$B$7:$C$5000,2,0))","v":""}]
[null,null,"",null,null,null,null,{"$f":"IF(G6938=\"\",\"\",VLOOKUP(G6938,'Lista de precios'!$B$7:$C$5000,2,0))","v":""}]
[null,null,"",null,null,null,null,{"$f":"IF(G6939=\"\",\"\",VLOOKUP(G6939,'Lista de precios'!$B$7:$C$5000,2,0))","v":""}]
[null,null,"",null,null,null,null,{"$f":"IF(G6940=\"\",\"\",VLOOKUP(G6940,'Lista de precios'!$B$7:$C$5000,2,0))","v":""}]
[null,null,"",null,null,null,null,{"$f":"IF(G6941=\"\",\"\",VLOOKUP(G6941,'Lista de precios'!$B$7:$C$5000,2,0))","v":""}]
[null,null,"",null,null,null,null,{"$f":"IF(G6942=\"\",\"\",VLOOKUP(G6942,'Lista de precios'!$B$7:$C$5000,2,0))","v":""}]
[null,null,"",null,null,null,null,{"$f":"IF(G6943=\"\",\"\",VLOOKUP(G6943,'Lista de precios'!$B$7:$C$5000,2,0))","v":""}]
[null,null,"",null,null,null,null,{"$f":"IF(G6944=\"\",\"\",VLOOKUP(G6944,'Lista de precios'!$B$7:$C$5000,2,0))","v":""}]
[null,null,"",null,null,null,null,{"$f":"IF(G6945=\"\",\"\",VLOOKUP(G6945,'Lista de precios'!$B$7:$C$5000,2,0))","v":""}]
[null,null,"",null,null,null,null,{"$f":"IF(G6946=\"\",\"\",VLOOKUP(G6946,'Lista de precios'!$B$7:$C$5000,2,0))","v":""}]
[null,null,"",null,null,null,null,{"$f":"IF(G6947=\"\",\"\",VLOOKUP(G6947,'Lista de precios'!$B$7:$C$5000,2,0))","v":""}]
[null,null,"",null,null,null,null,{"$f":"IF(G6948=\"\",\"\",VLOOKUP(G6948,'Lista de precios'!$B$7:$C$5000,2,0))","v":""}]
[null,null,"",null,null,null,null,{"$f":"IF(G6949=\"\",\"\",VLOOKUP(G6949,'Lista de precios'!$B$7:$C$5000,2,0))","v":""}]
[null,null,"",null,null,null,null,{"$f":"IF(G6950=\"\",\"\",VLOOKUP(G6950,'Lista de precios'!$B$7:$C$5000,2,0))","v":""}]
[null,null,"",null,null,null,null,{"$f":"IF(G6951=\"\",\"\",VLOOKUP(G6951,'Lista de precios'!$B$7:$C$5000,2,0))","v":""}]
[null,null,"",null,null,null,null,{"$f":"IF(G6952=\"\",\"\",VLOOKUP(G6952,'Lista de precios'!$B$7:$C$5000,2,0))","v":""}]
[null,null,"",null,null,null,null,{"$f":"IF(G6953=\"\",\"\",VLOOKUP(G6953,'Lista de precios'!$B$7:$C$5000,2,0))","v":""}]
[null,null,"",null,null,null,null,{"$f":"IF(G6954=\"\",\"\",VLOOKUP(G6954,'Lista de precios'!$B$7:$C$5000,2,0))","v":""}]
[null,null,"",null,null,null,null,{"$f":"IF(G6955=\"\",\"\",VLOOKUP(G6955,'Lista de precios'!$B$7:$C$5000,2,0))","v":""}]
[null,null,"",null,null,null,null,{"$f":"IF(G6956=\"\",\"\",VLOOKUP(G6956,'Lista de precios'!$B$7:$C$5000,2,0))","v":""}]
[null,null,"",null,null,null,null,{"$f":"IF(G6957=\"\",\"\",VLOOKUP(G6957,'Lista de precios'!$B$7:$C$5000,2,0))","v":""}]
[null,null,"",null,null,null,null,{"$f":"IF(G6958=\"\",\"\",VLOOKUP(G6958,'Lista de precios'!$B$7:$C$5000,2,0))","v":""}]
[null,null,"",null,null,null,null,{"$f":"IF(G6959=\"\",\"\",VLOOKUP(G6959,'Lista de precios'!$B$7:$C$5000,2,0))","v":""}]
[null,null,"",null,null,null,null,{"$f":"IF(G6960=\"\",\"\",VLOOKUP(G6960,'Lista de precios'!$B$7:$C$5000,2,0))","v":""}]
[null,null,"",null,null,null,null,{"$f":"IF(G6961=\"\",\"\",VLOOKUP(G6961,'Lista de precios'!$B$7:$C$5000,2,0))","v":""}]
[null,null,"",null,null,null,null,{"$f":"IF(G6962=\"\",\"\",VLOOKUP(G6962,'Lista de precios'!$B$7:$C$5000,2,0))","v":""}]
[null,null,"",null,null,null,null,{"$f":"IF(G6963=\"\",\"\",VLOOKUP(G6963,'Lista de precios'!$B$7:$C$5000,2,0))","v":""}]
[null,null,"",null,null,null,null,{"$f":"IF(G6964=\"\",\"\",VLOOKUP(G6964,'Lista de precios'!$B$7:$C$5000,2,0))","v":""}]
[null,null,"",null,null,null,null,{"$f":"IF(G6965=\"\",\"\",VLOOKUP(G6965,'Lista de precios'!$B$7:$C$5000,2,0))","v":""}]
[null,null,"",null,null,null,null,{"$f":"IF(G6966=\"\",\"\",VLOOKUP(G6966,'Lista de precios'!$B$7:$C$5000,2,0))","v":""}]
[null,null,"",null,null,null,null,{"$f":"IF(G6967=\"\",\"\",VLOOKUP(G6967,'Lista de precios'!$B$7:$C$5000,2,0))","v":""}]
[null,null,"",null,null,null,null,{"$f":"IF(G6968=\"\",\"\",VLOOKUP(G6968,'Lista de precios'!$B$7:$C$5000,2,0))","v":""}]
[null,null,"",null,null,null,null,{"$f":"IF(G6969=\"\",\"\",VLOOKUP(G6969,'Lista de precios'!$B$7:$C$5000,2,0))","v":""}]
[null,null,"",null,null,null,null,{"$f":"IF(G6970=\"\",\"\",VLOOKUP(G6970,'Lista de precios'!$B$7:$C$5000,2,0))","v":""}]
[null,null,"",null,null,null,null,{"$f":"IF(G6971=\"\",\"\",VLOOKUP(G6971,'Lista de precios'!$B$7:$C$5000,2,0))","v":""}]
[null,null,"",null,null,null,null,{"$f":"IF(G6972=\"\",\"\",VLOOKUP(G6972,'Lista de precios'!$B$7:$C$5000,2,0))","v":""}]
[null,null,"",null,null,null,null,{"$f":"IF(G6973=\"\",\"\",VLOOKUP(G6973,'Lista de precios'!$B$7:$C$5000,2,0))","v":""}]
[null,null,"",null,null,null,null,{"$f":"IF(G6974=\"\",\"\",VLOOKUP(G6974,'Lista de precios'!$B$7:$C$5000,2,0))","v":""}]
[null,null,"",null,null,null,null,{"$f":"IF(G6975=\"\",\"\",VLOOKUP(G6975,'Lista de precios'!$B$7:$C$5000,2,0))","v":""}]
[null,null,"",null,null,null,null,{"$f":"IF(G6976=\"\",\"\",VLOOKUP(G6976,'Lista de precios'!$B$7:$C$5000,2,0))","v":""}]
[null,null,"",null,null,null,null,{"$f":"IF(G6977=\"\",\"\",VLOOKUP(G6977,'Lista de precios'!$B$7:$C$5000,2,0))","v":""}]
[null,null,"",null,null,null,null,{"$f":"IF(G6978=\"\",\"\",VLOOKUP(G6978,'Lista de precios'!$B$7:$C$5000,2,0))","v":""}]
[null,null,"",null,null,null,null,{"$f":"IF(G6979=\"\",\"\",VLOOKUP(G6979,'Lista de precios'!$B$7:$C$5000,2,0))","v":""}]
[null,null,"",null,null,null,null,{"$f":"IF(G6980=\"\",\"\",VLOOKUP(G6980,'Lista de precios'!$B$7:$C$5000,2,0))","v":""}]
[null,null,"",null,null,null,null,{"$f":"IF(G6981=\"\",\"\",VLOOKUP(G6981,'Lista de precios'!$B$7:$C$5000,2,0))","v":""}]
[null,null,"",null,null,null,null,{"$f":"IF(G6982=\"\",\"\",VLOOKUP(G6982,'Lista de precios'!$B$7:$C$5000,2,0))","v":""}]
[null,null,"",null,null,null,null,{"$f":"IF(G6983=\"\",\"\",VLOOKUP(G6983,'Lista de precios'!$B$7:$C$5000,2,0))","v":""}]
[null,null,"",null,null,null,null,{"$f":"IF(G6984=\"\",\"\",VLOOKUP(G6984,'Lista de precios'!$B$7:$C$5000,2,0))","v":""}]
[null,null,"",null,null,null,null,{"$f":"IF(G6985=\"\",\"\",VLOOKUP(G6985,'Lista de precios'!$B$7:$C$5000,2,0))","v":""}]
[null,null,"",null,null,null,null,{"$f":"IF(G6986=\"\",\"\",VLOOKUP(G6986,'Lista de precios'!$B$7:$C$5000,2,0))","v":""}]
[null,null,"",null,null,null,null,{"$f":"IF(G6987=\"\",\"\",VLOOKUP(G6987,'Lista de precios'!$B$7:$C$5000,2,0))","v":""}]
[null,null,{"$f":"IF(B6988=\"\",\"\",TEXT(B6988,\"Mmmm\"))","v":""},null,null,null,null,{"$f":"IF(G6988=\"\",\"\",VLOOKUP(G6988,'Lista de precios'!$B$7:$C$5000,2,0))","v":""}]
[null,null,"",null,null,null,null,{"$f":"IF(G6989=\"\",\"\",VLOOKUP(G6989,'Lista de precios'!$B$7:$C$5000,2,0))","v":""}]
[null,null,"",null,null,null,null,{"$f":"IF(G6990=\"\",\"\",VLOOKUP(G6990,'Lista de precios'!$B$7:$C$5000,2,0))","v":""}]
[null,null,"",null,null,null,null,{"$f":"IF(G6991=\"\",\"\",VLOOKUP(G6991,'Lista de precios'!$B$7:$C$5000,2,0))","v":""}]
[null,null,"",null,null,null,null,{"$f":"IF(G6992=\"\",\"\",VLOOKUP(G6992,'Lista de precios'!$B$7:$C$5000,2,0))","v":""}]
[null,null,"",null,null,null,null,{"$f":"IF(G6993=\"\",\"\",VLOOKUP(G6993,'Lista de precios'!$B$7:$C$5000,2,0))","v":""}]
[null,null,"",null,null,null,null,{"$f":"IF(G6994=\"\",\"\",VLOOKUP(G6994,'Lista de precios'!$B$7:$C$5000,2,0))","v":""}]
[null,null,"",null,null,null,null,{"$f":"IF(G6995=\"\",\"\",VLOOKUP(G6995,'Lista de precios'!$B$7:$C$5000,2,0))","v":""}]
[null,null,"",null,null,null,null,{"$f":"IF(G6996=\"\",\"\",VLOOKUP(G6996,'Lista de precios'!$B$7:$C$5000,2,0))","v":""}]
[null,null,"",null,null,null,null,{"$f":"IF(G6997=\"\",\"\",VLOOKUP(G6997,'Lista de precios'!$B$7:$C$5000,2,0))","v":""}]
[null,null,"",null,null,null,null,{"$f":"IF(G6998=\"\",\"\",VLOOKUP(G6998,'Lista de precios'!$B$7:$C$5000,2,0))","v":""}]
[null,null,"",null,null,null,null,{"$f":"IF(G6999=\"\",\"\",VLOOKUP(G6999,'Lista de precios'!$B$7:$C$5000,2,0))","v":""}]
[null,null,"",null,null,null,null,{"$f":"IF(G7000=\"\",\"\",VLOOKUP(G7000,'Lista de precios'!$B$7:$C$5000,2,0))","v":""}]
[null,null,"",null,null,null,null,{"$f":"IF(G7001=\"\",\"\",VLOOKUP(G7001,'Lista de precios'!$B$7:$C$5000,2,0))","v":""}]
[null,null,"",null,null,null,null,{"$f":"IF(G7002=\"\",\"\",VLOOKUP(G7002,'Lista de precios'!$B$7:$C$5000,2,0))","v":""}]
[null,null,"",null,null,null,null,{"$f":"IF(G7003=\"\",\"\",VLOOKUP(G7003,'Lista de precios'!$B$7:$C$5000,2,0))","v":""}]
[null,null,"",null,null,null,null,{"$f":"IF(G7004=\"\",\"\",VLOOKUP(G7004,'Lista de precios'!$B$7:$C$5000,2,0))","v":""}]
[null,null,"",null,null,null,null,{"$f":"IF(G7005=\"\",\"\",VLOOKUP(G7005,'Lista de precios'!$B$7:$C$5000,2,0))","v":""}]
[null,null,"",null,null,null,null,{"$f":"IF(G7006=\"\",\"\",VLOOKUP(G7006,'Lista de precios'!$B$7:$C$5000,2,0))","v":""}]
[null,null,"",null,null,null,null,{"$f":"IF(G7007=\"\",\"\",VLOOKUP(G7007,'Lista de precios'!$B$7:$C$5000,2,0))","v":""}]
[null,null,"",null,null,null,null,{"$f":"IF(G7008=\"\",\"\",VLOOKUP(G7008,'Lista de precios'!$B$7:$C$5000,2,0))","v":""}]
[null,null,"",null,null,null,null,{"$f":"IF(G7009=\"\",\"\",VLOOKUP(G7009,'Lista de precios'!$B$7:$C$5000,2,0))","v":""}]
[null,null,"",null,null,null,null,{"$f":"IF(G7010=\"\",\"\",VLOOKUP(G7010,'Lista de precios'!$B$7:$C$5000,2,0))","v":""}]
[null,null,"",null,null,null,null,{"$f":"IF(G7011=\"\",\"\",VLOOKUP(G7011,'Lista de precios'!$B$7:$C$5000,2,0))","v":""}]
[null,null,"",null,null,null,null,{"$f":"IF(G7012=\"\",\"\",VLOOKUP(G7012,'Lista de precios'!$B$7:$C$5000,2,0))","v":""}]
[null,null,"",null,null,null,null,{"$f":"IF(G7013=\"\",\"\",VLOOKUP(G7013,'Lista de precios'!$B$7:$C$5000,2,0))","v":""}]
[null,null,"",null,null,null,null,{"$f":"IF(G7014=\"\",\"\",VLOOKUP(G7014,'Lista de precios'!$B$7:$C$5000,2,0))","v":""}]
[null,null,"",null,null,null,null,{"$f":"IF(G7015=\"\",\"\",VLOOKUP(G7015,'Lista de precios'!$B$7:$C$5000,2,0))","v":""}]
[null,null,"",null,null,null,null,{"$f":"IF(G7016=\"\",\"\",VLOOKUP(G7016,'Lista de precios'!$B$7:$C$5000,2,0))","v":""}]
[null,null,"",null,null,null,null,{"$f":"IF(G7017=\"\",\"\",VLOOKUP(G7017,'Lista de precios'!$B$7:$C$5000,2,0))","v":""}]
[null,null,"",null,null,null,null,{"$f":"IF(G7018=\"\",\"\",VLOOKUP(G7018,'Lista de precios'!$B$7:$C$5000,2,0))","v":""}]
[null,null,"",null,null,null,null,{"$f":"IF(G7019=\"\",\"\",VLOOKUP(G7019,'Lista de precios'!$B$7:$C$5000,2,0))","v":""}]
[null,null,"",null,null,null,null,{"$f":"IF(G7020=\"\",\"\",VLOOKUP(G7020,'Lista de precios'!$B$7:$C$5000,2,0))","v":""}]
[null,null,"",null,null,null,null,{"$f":"IF(G7021=\"\",\"\",VLOOKUP(G7021,'Lista de precios'!$B$7:$C$5000,2,0))","v":""}]
[null,null,"",null,null,null,null,{"$f":"IF(G7022=\"\",\"\",VLOOKUP(G7022,'Lista de precios'!$B$7:$C$5000,2,0))","v":""}]
[null,null,"",null,null,null,null,{"$f":"IF(G7023=\"\",\"\",VLOOKUP(G7023,'Lista de precios'!$B$7:$C$5000,2,0))","v":""}]
[null,null,"",null,null,null,null,{"$f":"IF(G7024=\"\",\"\",VLOOKUP(G7024,'Lista de precios'!$B$7:$C$5000,2,0))","v":""}]
[null,null,"",null,null,null,null,{"$f":"IF(G7025=\"\",\"\",VLOOKUP(G7025,'Lista de precios'!$B$7:$C$5000,2,0))","v":""}]
[null,null,"",null,null,null,null,{"$f":"IF(G7026=\"\",\"\",VLOOKUP(G7026,'Lista de precios'!$B$7:$C$5000,2,0))","v":""}]
[null,null,"",null,null,null,null,{"$f":"IF(G7027=\"\",\"\",VLOOKUP(G7027,'Lista de precios'!$B$7:$C$5000,2,0))","v":""}]
[null,null,"",null,null,null,null,{"$f":"IF(G7028=\"\",\"\",VLOOKUP(G7028,'Lista de precios'!$B$7:$C$5000,2,0))","v":""}]
[null,null,"",null,null,null,null,{"$f":"IF(G7029=\"\",\"\",VLOOKUP(G7029,'Lista de precios'!$B$7:$C$5000,2,0))","v":""}]
[null,null,"",null,null,null,null,{"$f":"IF(G7030=\"\",\"\",VLOOKUP(G7030,'Lista de precios'!$B$7:$C$5000,2,0))","v":""}]
[null,null,"",null,null,null,null,{"$f":"IF(G7031=\"\",\"\",VLOOKUP(G7031,'Lista de precios'!$B$7:$C$5000,2,0))","v":""}]
[null,null,"",null,null,null,null,{"$f":"IF(G7032=\"\",\"\",VLOOKUP(G7032,'Lista de precios'!$B$7:$C$5000,2,0))","v":""}]
[null,null,"",null,null,null,null,{"$f":"IF(G7033=\"\",\"\",VLOOKUP(G7033,'Lista de precios'!$B$7:$C$5000,2,0))","v":""}]
[null,null,"",null,null,null,null,{"$f":"IF(G7034=\"\",\"\",VLOOKUP(G7034,'Lista de precios'!$B$7:$C$5000,2,0))","v":""}]
[null,null,"",null,null,null,null,{"$f":"IF(G7035=\"\",\"\",VLOOKUP(G7035,'Lista de precios'!$B$7:$C$5000,2,0))","v":""}]
[null,null,"",null,null,null,null,{"$f":"IF(G7036=\"\",\"\",VLOOKUP(G7036,'Lista de precios'!$B$7:$C$5000,2,0))","v":""}]
[null,null,"",null,null,null,null,{"$f":"IF(G7037=\"\",\"\",VLOOKUP(G7037,'Lista de precios'!$B$7:$C$5000,2,0))","v":""}]
[null,null,"",null,null,null,null,{"$f":"IF(G7038=\"\",\"\",VLOOKUP(G7038,'Lista de precios'!$B$7:$C$5000,2,0))","v":""}]
[null,null,"",null,null,null,null,{"$f":"IF(G7039=\"\",\"\",VLOOKUP(G7039,'Lista de precios'!$B$7:$C$5000,2,0))","v":""}]
[null,null,"",null,null,null,null,{"$f":"IF(G7040=\"\",\"\",VLOOKUP(G7040,'Lista de precios'!$B$7:$C$5000,2,0))","v":""}]
[null,null,"",null,null,null,null,{"$f":"IF(G7041=\"\",\"\",VLOOKUP(G7041,'Lista de precios'!$B$7:$C$5000,2,0))","v":""}]
[null,null,"",null,null,null,null,{"$f":"IF(G7042=\"\",\"\",VLOOKUP(G7042,'Lista de precios'!$B$7:$C$5000,2,0))","v":""}]
[null,null,"",null,null,null,null,{"$f":"IF(G7043=\"\",\"\",VLOOKUP(G7043,'Lista de precios'!$B$7:$C$5000,2,0))","v":""}]
[null,null,"",null,null,null,null,{"$f":"IF(G7044=\"\",\"\",VLOOKUP(G7044,'Lista de precios'!$B$7:$C$5000,2,0))","v":""}]
[null,null,"",null,null,null,null,{"$f":"IF(G7045=\"\",\"\",VLOOKUP(G7045,'Lista de precios'!$B$7:$C$5000,2,0))","v":""}]
[null,null,"",null,null,null,null,{"$f":"IF(G7046=\"\",\"\",VLOOKUP(G7046,'Lista de precios'!$B$7:$C$5000,2,0))","v":""}]
[null,null,"",null,null,null,null,{"$f":"IF(G7047=\"\",\"\",VLOOKUP(G7047,'Lista de precios'!$B$7:$C$5000,2,0))","v":""}]
[null,null,"",null,null,null,null,{"$f":"IF(G7048=\"\",\"\",VLOOKUP(G7048,'Lista de precios'!$B$7:$C$5000,2,0))","v":""}]
[null,null,"",null,null,null,null,{"$f":"IF(G7049=\"\",\"\",VLOOKUP(G7049,'Lista de precios'!$B$7:$C$5000,2,0))","v":""}]
[null,null,"",null,null,null,null,{"$f":"IF(G7050=\"\",\"\",VLOOKUP(G7050,'Lista de precios'!$B$7:$C$5000,2,0))","v":""}]
[null,null,"",null,null,null,null,{"$f":"IF(G7051=\"\",\"\",VLOOKUP(G7051,'Lista de precios'!$B$7:$C$5000,2,0))","v":""}]
[null,null,{"$f":"IF(B7052=\"\",\"\",TEXT(B7052,\"Mmmm\"))","v":""},null,null,null,null,{"$f":"IF(G7052=\"\",\"\",VLOOKUP(G7052,'Lista de precios'!$B$7:$C$5000,2,0))","v":""}]
[null,null,"",null,null,null,null,{"$f":"IF(G7053=\"\",\"\",VLOOKUP(G7053,'Lista de precios'!$B$7:$C$5000,2,0))","v":""}]
[null,null,"",null,null,null,null,{"$f":"IF(G7054=\"\",\"\",VLOOKUP(G7054,'Lista de precios'!$B$7:$C$5000,2,0))","v":""}]
[null,null,"",null,null,null,null,{"$f":"IF(G7055=\"\",\"\",VLOOKUP(G7055,'Lista de precios'!$B$7:$C$5000,2,0))","v":""}]
[null,null,"",null,null,null,null,{"$f":"IF(G7056=\"\",\"\",VLOOKUP(G7056,'Lista de precios'!$B$7:$C$5000,2,0))","v":""}]
[null,null,"",null,null,null,null,{"$f":"IF(G7057=\"\",\"\",VLOOKUP(G7057,'Lista de precios'!$B$7:$C$5000,2,0))","v":""}]
[null,null,"",null,null,null,null,{"$f":"IF(G7058=\"\",\"\",VLOOKUP(G7058,'Lista de precios'!$B$7:$C$5000,2,0))","v":""}]
[null,null,"",null,null,null,null,{"$f":"IF(G7059=\"\",\"\",VLOOKUP(G7059,'Lista de precios'!$B$7:$C$5000,2,0))","v":""}]
[null,null,"",null,null,null,null,{"$f":"IF(G7060=\"\",\"\",VLOOKUP(G7060,'Lista de precios'!$B$7:$C$5000,2,0))","v":""}]
[null,null,"",null,null,null,null,{"$f":"IF(G7061=\"\",\"\",VLOOKUP(G7061,'Lista de precios'!$B$7:$C$5000,2,0))","v":""}]
[null,null,"",null,null,null,null,{"$f":"IF(G7062=\"\",\"\",VLOOKUP(G7062,'Lista de precios'!$B$7:$C$5000,2,0))","v":""}]
[null,null,"",null,null,null,null,{"$f":"IF(G7063=\"\",\"\",VLOOKUP(G7063,'Lista de precios'!$B$7:$C$5000,2,0))","v":""}]
[null,null,"",null,null,null,null,{"$f":"IF(G7064=\"\",\"\",VLOOKUP(G7064,'Lista de precios'!$B$7:$C$5000,2,0))","v":""}]
[null,null,"",null,null,null,null,{"$f":"IF(G7065=\"\",\"\",VLOOKUP(G7065,'Lista de precios'!$B$7:$C$5000,2,0))","v":""}]
[null,null,"",null,null,null,null,{"$f":"IF(G7066=\"\",\"\",VLOOKUP(G7066,'Lista de precios'!$B$7:$C$5000,2,0))","v":""}]
[null,null,"",null,null,null,null,{"$f":"IF(G7067=\"\",\"\",VLOOKUP(G7067,'Lista de precios'!$B$7:$C$5000,2,0))","v":""}]
[null,null,"",null,null,null,null,{"$f":"IF(G7068=\"\",\"\",VLOOKUP(G7068,'Lista de precios'!$B$7:$C$5000,2,0))","v":""}]
[null,null,"",null,null,null,null,{"$f":"IF(G7069=\"\",\"\",VLOOKUP(G7069,'Lista de precios'!$B$7:$C$5000,2,0))","v":""}]
[null,null,"",null,null,null,null,{"$f":"IF(G7070=\"\",\"\",VLOOKUP(G7070,'Lista de precios'!$B$7:$C$5000,2,0))","v":""}]
[null,null,"",null,null,null,null,{"$f":"IF(G7071=\"\",\"\",VLOOKUP(G7071,'Lista de precios'!$B$7:$C$5000,2,0))","v":""}]
[null,null,"",null,null,null,null,{"$f":"IF(G7072=\"\",\"\",VLOOKUP(G7072,'Lista de precios'!$B$7:$C$5000,2,0))","v":""}]
[null,null,"",null,null,null,null,{"$f":"IF(G7073=\"\",\"\",VLOOKUP(G7073,'Lista de precios'!$B$7:$C$5000,2,0))","v":""}]
[null,null,"",null,null,null,null,{"$f":"IF(G7074=\"\",\"\",VLOOKUP(G7074,'Lista de precios'!$B$7:$C$5000,2,0))","v":""}]
[null,null,"",null,null,null,null,{"$f":"IF(G7075=\"\",\"\",VLOOKUP(G7075,'Lista de precios'!$B$7:$C$5000,2,0))","v":""}]
[null,null,"",null,null,null,null,{"$f":"IF(G7076=\"\",\"\",VLOOKUP(G7076,'Lista de precios'!$B$7:$C$5000,2,0))","v":""}]
[null,null,"",null,null,null,null,{"$f":"IF(G7077=\"\",\"\",VLOOKUP(G7077,'Lista de precios'!$B$7:$C$5000,2,0))","v":""}]
[null,null,"",null,null,null,null,{"$f":"IF(G7078=\"\",\"\",VLOOKUP(G7078,'Lista de precios'!$B$7:$C$5000,2,0))","v":""}]
[null,null,"",null,null,null,null,{"$f":"IF(G7079=\"\",\"\",VLOOKUP(G7079,'Lista de precios'!$B$7:$C$5000,2,0))","v":""}]
[null,null,"",null,null,null,null,{"$f":"IF(G7080=\"\",\"\",VLOOKUP(G7080,'Lista de precios'!$B$7:$C$5000,2,0))","v":""}]
[null,null,"",null,null,null,null,{"$f":"IF(G7081=\"\",\"\",VLOOKUP(G7081,'Lista de precios'!$B$7:$C$5000,2,0))","v":""}]
[null,null,"",null,null,null,null,{"$f":"IF(G7082=\"\",\"\",VLOOKUP(G7082,'Lista de precios'!$B$7:$C$5000,2,0))","v":""}]
[null,null,"",null,null,null,null,{"$f":"IF(G7083=\"\",\"\",VLOOKUP(G7083,'Lista de precios'!$B$7:$C$5000,2,0))","v":""}]
[null,null,"",null,null,null,null,{"$f":"IF(G7084=\"\",\"\",VLOOKUP(G7084,'Lista de precios'!$B$7:$C$5000,2,0))","v":""}]
[null,null,"",null,null,null,null,{"$f":"IF(G7085=\"\",\"\",VLOOKUP(G7085,'Lista de precios'!$B$7:$C$5000,2,0))","v":""}]
[null,null,"",null,null,null,null,{"$f":"IF(G7086=\"\",\"\",VLOOKUP(G7086,'Lista de precios'!$B$7:$C$5000,2,0))","v":""}]
[null,null,"",null,null,null,null,{"$f":"IF(G7087=\"\",\"\",VLOOKUP(G7087,'Lista de precios'!$B$7:$C$5000,2,0))","v":""}]
[null,null,"",null,null,null,null,{"$f":"IF(G7088=\"\",\"\",VLOOKUP(G7088,'Lista de precios'!$B$7:$C$5000,2,0))","v":""}]
[null,null,"",null,null,null,null,{"$f":"IF(G7089=\"\",\"\",VLOOKUP(G7089,'Lista de precios'!$B$7:$C$5000,2,0))","v":""}]
[null,null,"",null,null,null,null,{"$f":"IF(G7090=\"\",\"\",VLOOKUP(G7090,'Lista de precios'!$B$7:$C$5000,2,0))","v":""}]
[null,null,"",null,null,null,null,{"$f":"IF(G7091=\"\",\"\",VLOOKUP(G7091,'Lista de precios'!$B$7:$C$5000,2,0))","v":""}]
[null,null,"",null,null,null,null,{"$f":"IF(G7092=\"\",\"\",VLOOKUP(G7092,'Lista de precios'!$B$7:$C$5000,2,0))","v":""}]
[null,null,"",null,null,null,null,{"$f":"IF(G7093=\"\",\"\",VLOOKUP(G7093,'Lista de precios'!$B$7:$C$5000,2,0))","v":""}]
[null,null,"",null,null,null,null,{"$f":"IF(G7094=\"\",\"\",VLOOKUP(G7094,'Lista de precios'!$B$7:$C$5000,2,0))","v":""}]
[null,null,"",null,null,null,null,{"$f":"IF(G7095=\"\",\"\",VLOOKUP(G7095,'Lista de precios'!$B$7:$C$5000,2,0))","v":""}]
[null,null,"",null,null,null,null,{"$f":"IF(G7096=\"\",\"\",VLOOKUP(G7096,'Lista de precios'!$B$7:$C$5000,2,0))","v":""}]
[null,null,"",null,null,null,null,{"$f":"IF(G7097=\"\",\"\",VLOOKUP(G7097,'Lista de precios'!$B$7:$C$5000,2,0))","v":""}]
[null,null,"",null,null,null,null,{"$f":"IF(G7098=\"\",\"\",VLOOKUP(G7098,'Lista de precios'!$B$7:$C$5000,2,0))","v":""}]
[null,null,"",null,null,null,null,{"$f":"IF(G7099=\"\",\"\",VLOOKUP(G7099,'Lista de precios'!$B$7:$C$5000,2,0))","v":""}]
[null,null,"",null,null,null,null,{"$f":"IF(G7100=\"\",\"\",VLOOKUP(G7100,'Lista de precios'!$B$7:$C$5000,2,0))","v":""}]
[null,null,"",null,null,null,null,{"$f":"IF(G7101=\"\",\"\",VLOOKUP(G7101,'Lista de precios'!$B$7:$C$5000,2,0))","v":""}]
[null,null,"",null,null,null,null,{"$f":"IF(G7102=\"\",\"\",VLOOKUP(G7102,'Lista de precios'!$B$7:$C$5000,2,0))","v":""}]
[null,null,"",null,null,null,null,{"$f":"IF(G7103=\"\",\"\",VLOOKUP(G7103,'Lista de precios'!$B$7:$C$5000,2,0))","v":""}]
[null,null,"",null,null,null,null,{"$f":"IF(G7104=\"\",\"\",VLOOKUP(G7104,'Lista de precios'!$B$7:$C$5000,2,0))","v":""}]
[null,null,"",null,null,null,null,{"$f":"IF(G7105=\"\",\"\",VLOOKUP(G7105,'Lista de precios'!$B$7:$C$5000,2,0))","v":""}]
[null,null,"",null,null,null,null,{"$f":"IF(G7106=\"\",\"\",VLOOKUP(G7106,'Lista de precios'!$B$7:$C$5000,2,0))","v":""}]
[null,null,"",null,null,null,null,{"$f":"IF(G7107=\"\",\"\",VLOOKUP(G7107,'Lista de precios'!$B$7:$C$5000,2,0))","v":""}]
[null,null,"",null,null,null,null,{"$f":"IF(G7108=\"\",\"\",VLOOKUP(G7108,'Lista de precios'!$B$7:$C$5000,2,0))","v":""}]
[null,null,"",null,null,null,null,{"$f":"IF(G7109=\"\",\"\",VLOOKUP(G7109,'Lista de precios'!$B$7:$C$5000,2,0))","v":""}]
[null,null,"",null,null,null,null,{"$f":"IF(G7110=\"\",\"\",VLOOKUP(G7110,'Lista de precios'!$B$7:$C$5000,2,0))","v":""}]
[null,null,"",null,null,null,null,{"$f":"IF(G7111=\"\",\"\",VLOOKUP(G7111,'Lista de precios'!$B$7:$C$5000,2,0))","v":""}]
[null,null,"",null,null,null,null,{"$f":"IF(G7112=\"\",\"\",VLOOKUP(G7112,'Lista de precios'!$B$7:$C$5000,2,0))","v":""}]
[null,null,"",null,null,null,null,{"$f":"IF(G7113=\"\",\"\",VLOOKUP(G7113,'Lista de precios'!$B$7:$C$5000,2,0))","v":""}]
[null,null,"",null,null,null,null,{"$f":"IF(G7114=\"\",\"\",VLOOKUP(G7114,'Lista de precios'!$B$7:$C$5000,2,0))","v":""}]
[null,null,"",null,null,null,null,{"$f":"IF(G7115=\"\",\"\",VLOOKUP(G7115,'Lista de precios'!$B$7:$C$5000,2,0))","v":""}]
[null,null,{"$f":"IF(B7116=\"\",\"\",TEXT(B7116,\"Mmmm\"))","v":""},null,null,null,null,{"$f":"IF(G7116=\"\",\"\",VLOOKUP(G7116,'Lista de precios'!$B$7:$C$5000,2,0))","v":""}]
[null,null,"",null,null,null,null,{"$f":"IF(G7117=\"\",\"\",VLOOKUP(G7117,'Lista de precios'!$B$7:$C$5000,2,0))","v":""}]
[null,null,"",null,null,null,null,{"$f":"IF(G7118=\"\",\"\",VLOOKUP(G7118,'Lista de precios'!$B$7:$C$5000,2,0))","v":""}]
[null,null,"",null,null,null,null,{"$f":"IF(G7119=\"\",\"\",VLOOKUP(G7119,'Lista de precios'!$B$7:$C$5000,2,0))","v":""}]
[null,null,"",null,null,null,null,{"$f":"IF(G7120=\"\",\"\",VLOOKUP(G7120,'Lista de precios'!$B$7:$C$5000,2,0))","v":""}]
[null,null,"",null,null,null,null,{"$f":"IF(G7121=\"\",\"\",VLOOKUP(G7121,'Lista de precios'!$B$7:$C$5000,2,0))","v":""}]
[null,null,"",null,null,null,null,{"$f":"IF(G7122=\"\",\"\",VLOOKUP(G7122,'Lista de precios'!$B$7:$C$5000,2,0))","v":""}]
[null,null,"",null,null,null,null,{"$f":"IF(G7123=\"\",\"\",VLOOKUP(G7123,'Lista de precios'!$B$7:$C$5000,2,0))","v":""}]
[null,null,"",null,null,null,null,{"$f":"IF(G7124=\"\",\"\",VLOOKUP(G7124,'Lista de precios'!$B$7:$C$5000,2,0))","v":""}]
[null,null,"",null,null,null,null,{"$f":"IF(G7125=\"\",\"\",VLOOKUP(G7125,'Lista de precios'!$B$7:$C$5000,2,0))","v":""}]
[null,null,"",null,null,null,null,{"$f":"IF(G7126=\"\",\"\",VLOOKUP(G7126,'Lista de precios'!$B$7:$C$5000,2,0))","v":""}]
[null,null,"",null,null,null,null,{"$f":"IF(G7127=\"\",\"\",VLOOKUP(G7127,'Lista de precios'!$B$7:$C$5000,2,0))","v":""}]
[null,null,"",null,null,null,null,{"$f":"IF(G7128=\"\",\"\",VLOOKUP(G7128,'Lista de precios'!$B$7:$C$5000,2,0))","v":""}]
[null,null,"",null,null,null,null,{"$f":"IF(G7129=\"\",\"\",VLOOKUP(G7129,'Lista de precios'!$B$7:$C$5000,2,0))","v":""}]
[null,null,"",null,null,null,null,{"$f":"IF(G7130=\"\",\"\",VLOOKUP(G7130,'Lista de precios'!$B$7:$C$5000,2,0))","v":""}]
[null,null,"",null,null,null,null,{"$f":"IF(G7131=\"\",\"\",VLOOKUP(G7131,'Lista de precios'!$B$7:$C$5000,2,0))","v":""}]
[null,null,"",null,null,null,null,{"$f":"IF(G7132=\"\",\"\",VLOOKUP(G7132,'Lista de precios'!$B$7:$C$5000,2,0))","v":""}]
[null,null,"",null,null,null,null,{"$f":"IF(G7133=\"\",\"\",VLOOKUP(G7133,'Lista de precios'!$B$7:$C$5000,2,0))","v":""}]
[null,null,"",null,null,null,null,{"$f":"IF(G7134=\"\",\"\",VLOOKUP(G7134,'Lista de precios'!$B$7:$C$5000,2,0))","v":""}]
[null,null,"",null,null,null,null,{"$f":"IF(G7135=\"\",\"\",VLOOKUP(G7135,'Lista de precios'!$B$7:$C$5000,2,0))","v":""}]
[null,null,"",null,null,null,null,{"$f":"IF(G7136=\"\",\"\",VLOOKUP(G7136,'Lista de precios'!$B$7:$C$5000,2,0))","v":""}]
[null,null,"",null,null,null,null,{"$f":"IF(G7137=\"\",\"\",VLOOKUP(G7137,'Lista de precios'!$B$7:$C$5000,2,0))","v":""}]
[null,null,"",null,null,null,null,{"$f":"IF(G7138=\"\",\"\",VLOOKUP(G7138,'Lista de precios'!$B$7:$C$5000,2,0))","v":""}]
[null,null,"",null,null,null,null,{"$f":"IF(G7139=\"\",\"\",VLOOKUP(G7139,'Lista de precios'!$B$7:$C$5000,2,0))","v":""}]
[null,null,"",null,null,null,null,{"$f":"IF(G7140=\"\",\"\",VLOOKUP(G7140,'Lista de precios'!$B$7:$C$5000,2,0))","v":""}]
[null,null,"",null,null,null,null,{"$f":"IF(G7141=\"\",\"\",VLOOKUP(G7141,'Lista de precios'!$B$7:$C$5000,2,0))","v":""}]
[null,null,"",null,null,null,null,{"$f":"IF(G7142=\"\",\"\",VLOOKUP(G7142,'Lista de precios'!$B$7:$C$5000,2,0))","v":""}]
[null,null,"",null,null,null,null,{"$f":"IF(G7143=\"\",\"\",VLOOKUP(G7143,'Lista de precios'!$B$7:$C$5000,2,0))","v":""}]
[null,null,"",null,null,null,null,{"$f":"IF(G7144=\"\",\"\",VLOOKUP(G7144,'Lista de precios'!$B$7:$C$5000,2,0))","v":""}]
[null,null,"",null,null,null,null,{"$f":"IF(G7145=\"\",\"\",VLOOKUP(G7145,'Lista de precios'!$B$7:$C$5000,2,0))","v":""}]
[null,null,"",null,null,null,null,{"$f":"IF(G7146=\"\",\"\",VLOOKUP(G7146,'Lista de precios'!$B$7:$C$5000,2,0))","v":""}]
[null,null,"",null,null,null,null,{"$f":"IF(G7147=\"\",\"\",VLOOKUP(G7147,'Lista de precios'!$B$7:$C$5000,2,0))","v":""}]
[null,null,"",null,null,null,null,{"$f":"IF(G7148=\"\",\"\",VLOOKUP(G7148,'Lista de precios'!$B$7:$C$5000,2,0))","v":""}]
[null,null,"",null,null,null,null,{"$f":"IF(G7149=\"\",\"\",VLOOKUP(G7149,'Lista de precios'!$B$7:$C$5000,2,0))","v":""}]
[null,null,"",null,null,null,null,{"$f":"IF(G7150=\"\",\"\",VLOOKUP(G7150,'Lista de precios'!$B$7:$C$5000,2,0))","v":""}]
[null,null,"",null,null,null,null,{"$f":"IF(G7151=\"\",\"\",VLOOKUP(G7151,'Lista de precios'!$B$7:$C$5000,2,0))","v":""}]
[null,null,"",null,null,null,null,{"$f":"IF(G7152=\"\",\"\",VLOOKUP(G7152,'Lista de precios'!$B$7:$C$5000,2,0))","v":""}]
[null,null,"",null,null,null,null,{"$f":"IF(G7153=\"\",\"\",VLOOKUP(G7153,'Lista de precios'!$B$7:$C$5000,2,0))","v":""}]
[null,null,"",null,null,null,null,{"$f":"IF(G7154=\"\",\"\",VLOOKUP(G7154,'Lista de precios'!$B$7:$C$5000,2,0))","v":""}]
[null,null,"",null,null,null,null,{"$f":"IF(G7155=\"\",\"\",VLOOKUP(G7155,'Lista de precios'!$B$7:$C$5000,2,0))","v":""}]
[null,null,"",null,null,null,null,{"$f":"IF(G7156=\"\",\"\",VLOOKUP(G7156,'Lista de precios'!$B$7:$C$5000,2,0))","v":""}]
[null,null,"",null,null,null,null,{"$f":"IF(G7157=\"\",\"\",VLOOKUP(G7157,'Lista de precios'!$B$7:$C$5000,2,0))","v":""}]
[null,null,"",null,null,null,null,{"$f":"IF(G7158=\"\",\"\",VLOOKUP(G7158,'Lista de precios'!$B$7:$C$5000,2,0))","v":""}]
[null,null,"",null,null,null,null,{"$f":"IF(G7159=\"\",\"\",VLOOKUP(G7159,'Lista de precios'!$B$7:$C$5000,2,0))","v":""}]
[null,null,"",null,null,null,null,{"$f":"IF(G7160=\"\",\"\",VLOOKUP(G7160,'Lista de precios'!$B$7:$C$5000,2,0))","v":""}]
[null,null,"",null,null,null,null,{"$f":"IF(G7161=\"\",\"\",VLOOKUP(G7161,'Lista de precios'!$B$7:$C$5000,2,0))","v":""}]
[null,null,"",null,null,null,null,{"$f":"IF(G7162=\"\",\"\",VLOOKUP(G7162,'Lista de precios'!$B$7:$C$5000,2,0))","v":""}]
[null,null,"",null,null,null,null,{"$f":"IF(G7163=\"\",\"\",VLOOKUP(G7163,'Lista de precios'!$B$7:$C$5000,2,0))","v":""}]
[null,null,"",null,null,null,null,{"$f":"IF(G7164=\"\",\"\",VLOOKUP(G7164,'Lista de precios'!$B$7:$C$5000,2,0))","v":""}]
[null,null,"",null,null,null,null,{"$f":"IF(G7165=\"\",\"\",VLOOKUP(G7165,'Lista de precios'!$B$7:$C$5000,2,0))","v":""}]
[null,null,"",null,null,null,null,{"$f":"IF(G7166=\"\",\"\",VLOOKUP(G7166,'Lista de precios'!$B$7:$C$5000,2,0))","v":""}]
[null,null,"",null,null,null,null,{"$f":"IF(G7167=\"\",\"\",VLOOKUP(G7167,'Lista de precios'!$B$7:$C$5000,2,0))","v":""}]
[null,null,"",null,null,null,null,{"$f":"IF(G7168=\"\",\"\",VLOOKUP(G7168,'Lista de precios'!$B$7:$C$5000,2,0))","v":""}]
[null,null,"",null,null,null,null,{"$f":"IF(G7169=\"\",\"\",VLOOKUP(G7169,'Lista de precios'!$B$7:$C$5000,2,0))","v":""}]
[null,null,"",null,null,null,null,{"$f":"IF(G7170=\"\",\"\",VLOOKUP(G7170,'Lista de precios'!$B$7:$C$5000,2,0))","v":""}]
[null,null,"",null,null,null,null,{"$f":"IF(G7171=\"\",\"\",VLOOKUP(G7171,'Lista de precios'!$B$7:$C$5000,2,0))","v":""}]
[null,null,"",null,null,null,null,{"$f":"IF(G7172=\"\",\"\",VLOOKUP(G7172,'Lista de precios'!$B$7:$C$5000,2,0))","v":""}]
[null,null,"",null,null,null,null,{"$f":"IF(G7173=\"\",\"\",VLOOKUP(G7173,'Lista de precios'!$B$7:$C$5000,2,0))","v":""}]
[null,null,"",null,null,null,null,{"$f":"IF(G7174=\"\",\"\",VLOOKUP(G7174,'Lista de precios'!$B$7:$C$5000,2,0))","v":""}]
[null,null,"",null,null,null,null,{"$f":"IF(G7175=\"\",\"\",VLOOKUP(G7175,'Lista de precios'!$B$7:$C$5000,2,0))","v":""}]
[null,null,"",null,null,null,null,{"$f":"IF(G7176=\"\",\"\",VLOOKUP(G7176,'Lista de precios'!$B$7:$C$5000,2,0))","v":""}]
[null,null,"",null,null,null,null,{"$f":"IF(G7177=\"\",\"\",VLOOKUP(G7177,'Lista de precios'!$B$7:$C$5000,2,0))","v":""}]
[null,null,"",null,null,null,null,{"$f":"IF(G7178=\"\",\"\",VLOOKUP(G7178,'Lista de precios'!$B$7:$C$5000,2,0))","v":""}]
[null,null,"",null,null,null,null,{"$f":"IF(G7179=\"\",\"\",VLOOKUP(G7179,'Lista de precios'!$B$7:$C$5000,2,0))","v":""}]
[null,null,{"$f":"IF(B7180=\"\",\"\",TEXT(B7180,\"Mmmm\"))","v":""},null,null,null,null,{"$f":"IF(G7180=\"\",\"\",VLOOKUP(G7180,'Lista de precios'!$B$7:$C$5000,2,0))","v":""}]
[null,null,"",null,null,null,null,{"$f":"IF(G7181=\"\",\"\",VLOOKUP(G7181,'Lista de precios'!$B$7:$C$5000,2,0))","v":""}]
[null,null,"",null,null,null,null,{"$f":"IF(G7182=\"\",\"\",VLOOKUP(G7182,'Lista de precios'!$B$7:$C$5000,2,0))","v":""}]
[null,null,"",null,null,null,null,{"$f":"IF(G7183=\"\",\"\",VLOOKUP(G7183,'Lista de precios'!$B$7:$C$5000,2,0))","v":""}]
[null,null,"",null,null,null,null,{"$f":"IF(G7184=\"\",\"\",VLOOKUP(G7184,'Lista de precios'!$B$7:$C$5000,2,0))","v":""}]
[null,null,"",null,null,null,null,{"$f":"IF(G7185=\"\",\"\",VLOOKUP(G7185,'Lista de precios'!$B$7:$C$5000,2,0))","v":""}]
[null,null,"",null,null,null,null,{"$f":"IF(G7186=\"\",\"\",VLOOKUP(G7186,'Lista de precios'!$B$7:$C$5000,2,0))","v":""}]
[null,null,"",null,null,null,null,{"$f":"IF(G7187=\"\",\"\",VLOOKUP(G7187,'Lista de precios'!$B$7:$C$5000,2,0))","v":""}]
[null,null,"",null,null,null,null,{"$f":"IF(G7188=\"\",\"\",VLOOKUP(G7188,'Lista de precios'!$B$7:$C$5000,2,0))","v":""}]
[null,null,"",null,null,null,null,{"$f":"IF(G7189=\"\",\"\",VLOOKUP(G7189,'Lista de precios'!$B$7:$C$5000,2,0))","v":""}]
[null,null,"",null,null,null,null,{"$f":"IF(G7190=\"\",\"\",VLOOKUP(G7190,'Lista de precios'!$B$7:$C$5000,2,0))","v":""}]
[null,null,"",null,null,null,null,{"$f":"IF(G7191=\"\",\"\",VLOOKUP(G7191,'Lista de precios'!$B$7:$C$5000,2,0))","v":""}]
[null,null,"",null,null,null,null,{"$f":"IF(G7192=\"\",\"\",VLOOKUP(G7192,'Lista de precios'!$B$7:$C$5000,2,0))","v":""}]
[null,null,"",null,null,null,null,{"$f":"IF(G7193=\"\",\"\",VLOOKUP(G7193,'Lista de precios'!$B$7:$C$5000,2,0))","v":""}]
[null,null,"",null,null,null,null,{"$f":"IF(G7194=\"\",\"\",VLOOKUP(G7194,'Lista de precios'!$B$7:$C$5000,2,0))","v":""}]
[null,null,"",null,null,null,null,{"$f":"IF(G7195=\"\",\"\",VLOOKUP(G7195,'Lista de precios'!$B$7:$C$5000,2,0))","v":""}]
[null,null,"",null,null,null,null,{"$f":"IF(G7196=\"\",\"\",VLOOKUP(G7196,'Lista de precios'!$B$7:$C$5000,2,0))","v":""}]
[null,null,"",null,null,null,null,{"$f":"IF(G7197=\"\",\"\",VLOOKUP(G7197,'Lista de precios'!$B$7:$C$5000,2,0))","v":""}]
[null,null,"",null,null,null,null,{"$f":"IF(G7198=\"\",\"\",VLOOKUP(G7198,'Lista de precios'!$B$7:$C$5000,2,0))","v":""}]
[null,null,"",null,null,null,null,{"$f":"IF(G7199=\"\",\"\",VLOOKUP(G7199,'Lista de precios'!$B$7:$C$5000,2,0))","v":""}]
[null,null,"",null,null,null,null,{"$f":"IF(G7200=\"\",\"\",VLOOKUP(G7200,'Lista de precios'!$B$7:$C$5000,2,0))","v":""}]
[null,null,"",null,null,null,null,{"$f":"IF(G7201=\"\",\"\",VLOOKUP(G7201,'Lista de precios'!$B$7:$C$5000,2,0))","v":""}]
[null,null,"",null,null,null,null,{"$f":"IF(G7202=\"\",\"\",VLOOKUP(G7202,'Lista de precios'!$B$7:$C$5000,2,0))","v":""}]
[null,null,"",null,null,null,null,{"$f":"IF(G7203=\"\",\"\",VLOOKUP(G7203,'Lista de precios'!$B$7:$C$5000,2,0))","v":""}]
[null,null,"",null,null,null,null,{"$f":"IF(G7204=\"\",\"\",VLOOKUP(G7204,'Lista de precios'!$B$7:$C$5000,2,0))","v":""}]
[null,null,"",null,null,null,null,{"$f":"IF(G7205=\"\",\"\",VLOOKUP(G7205,'Lista de precios'!$B$7:$C$5000,2,0))","v":""}]
[null,null,"",null,null,null,null,{"$f":"IF(G7206=\"\",\"\",VLOOKUP(G7206,'Lista de precios'!$B$7:$C$5000,2,0))","v":""}]
[null,null,"",null,null,null,null,{"$f":"IF(G7207=\"\",\"\",VLOOKUP(G7207,'Lista de precios'!$B$7:$C$5000,2,0))","v":""}]
[null,null,"",null,null,null,null,{"$f":"IF(G7208=\"\",\"\",VLOOKUP(G7208,'Lista de precios'!$B$7:$C$5000,2,0))","v":""}]
[null,null,"",null,null,null,null,{"$f":"IF(G7209=\"\",\"\",VLOOKUP(G7209,'Lista de precios'!$B$7:$C$5000,2,0))","v":""}]
[null,null,"",null,null,null,null,{"$f":"IF(G7210=\"\",\"\",VLOOKUP(G7210,'Lista de precios'!$B$7:$C$5000,2,0))","v":""}]
[null,null,"",null,null,null,null,{"$f":"IF(G7211=\"\",\"\",VLOOKUP(G7211,'Lista de precios'!$B$7:$C$5000,2,0))","v":""}]
[null,null,"",null,null,null,null,{"$f":"IF(G7212=\"\",\"\",VLOOKUP(G7212,'Lista de precios'!$B$7:$C$5000,2,0))","v":""}]
[null,null,"",null,null,null,null,{"$f":"IF(G7213=\"\",\"\",VLOOKUP(G7213,'Lista de precios'!$B$7:$C$5000,2,0))","v":""}]
[null,null,"",null,null,null,null,{"$f":"IF(G7214=\"\",\"\",VLOOKUP(G7214,'Lista de precios'!$B$7:$C$5000,2,0))","v":""}]
[null,null,"",null,null,null,null,{"$f":"IF(G7215=\"\",\"\",VLOOKUP(G7215,'Lista de precios'!$B$7:$C$5000,2,0))","v":""}]
[null,null,"",null,null,null,null,{"$f":"IF(G7216=\"\",\"\",VLOOKUP(G7216,'Lista de precios'!$B$7:$C$5000,2,0))","v":""}]
[null,null,"",null,null,null,null,{"$f":"IF(G7217=\"\",\"\",VLOOKUP(G7217,'Lista de precios'!$B$7:$C$5000,2,0))","v":""}]
[null,null,"",null,null,null,null,{"$f":"IF(G7218=\"\",\"\",VLOOKUP(G7218,'Lista de precios'!$B$7:$C$5000,2,0))","v":""}]
[null,null,"",null,null,null,null,{"$f":"IF(G7219=\"\",\"\",VLOOKUP(G7219,'Lista de precios'!$B$7:$C$5000,2,0))","v":""}]
[null,null,"",null,null,null,null,{"$f":"IF(G7220=\"\",\"\",VLOOKUP(G7220,'Lista de precios'!$B$7:$C$5000,2,0))","v":""}]
[null,null,"",null,null,null,null,{"$f":"IF(G7221=\"\",\"\",VLOOKUP(G7221,'Lista de precios'!$B$7:$C$5000,2,0))","v":""}]
[null,null,"",null,null,null,null,{"$f":"IF(G7222=\"\",\"\",VLOOKUP(G7222,'Lista de precios'!$B$7:$C$5000,2,0))","v":""}]
[null,null,"",null,null,null,null,{"$f":"IF(G7223=\"\",\"\",VLOOKUP(G7223,'Lista de precios'!$B$7:$C$5000,2,0))","v":""}]
[null,null,"",null,null,null,null,{"$f":"IF(G7224=\"\",\"\",VLOOKUP(G7224,'Lista de precios'!$B$7:$C$5000,2,0))","v":""}]
[null,null,"",null,null,null,null,{"$f":"IF(G7225=\"\",\"\",VLOOKUP(G7225,'Lista de precios'!$B$7:$C$5000,2,0))","v":""}]
[null,null,"",null,null,null,null,{"$f":"IF(G7226=\"\",\"\",VLOOKUP(G7226,'Lista de precios'!$B$7:$C$5000,2,0))","v":""}]
[null,null,"",null,null,null,null,{"$f":"IF(G7227=\"\",\"\",VLOOKUP(G7227,'Lista de precios'!$B$7:$C$5000,2,0))","v":""}]
[null,null,"",null,null,null,null,{"$f":"IF(G7228=\"\",\"\",VLOOKUP(G7228,'Lista de precios'!$B$7:$C$5000,2,0))","v":""}]
[null,null,"",null,null,null,null,{"$f":"IF(G7229=\"\",\"\",VLOOKUP(G7229,'Lista de precios'!$B$7:$C$5000,2,0))","v":""}]
[null,null,"",null,null,null,null,{"$f":"IF(G7230=\"\",\"\",VLOOKUP(G7230,'Lista de precios'!$B$7:$C$5000,2,0))","v":""}]
[null,null,"",null,null,null,null,{"$f":"IF(G7231=\"\",\"\",VLOOKUP(G7231,'Lista de precios'!$B$7:$C$5000,2,0))","v":""}]
[null,null,"",null,null,null,null,{"$f":"IF(G7232=\"\",\"\",VLOOKUP(G7232,'Lista de precios'!$B$7:$C$5000,2,0))","v":""}]
[null,null,"",null,null,null,null,{"$f":"IF(G7233=\"\",\"\",VLOOKUP(G7233,'Lista de precios'!$B$7:$C$5000,2,0))","v":""}]
[null,null,"",null,null,null,null,{"$f":"IF(G7234=\"\",\"\",VLOOKUP(G7234,'Lista de precios'!$B$7:$C$5000,2,0))","v":""}]
[null,null,"",null,null,null,null,{"$f":"IF(G7235=\"\",\"\",VLOOKUP(G7235,'Lista de precios'!$B$7:$C$5000,2,0))","v":""}]
[null,null,"",null,null,null,null,{"$f":"IF(G7236=\"\",\"\",VLOOKUP(G7236,'Lista de precios'!$B$7:$C$5000,2,0))","v":""}]
[null,null,"",null,null,null,null,{"$f":"IF(G7237=\"\",\"\",VLOOKUP(G7237,'Lista de precios'!$B$7:$C$5000,2,0))","v":""}]
[null,null,"",null,null,null,null,{"$f":"IF(G7238=\"\",\"\",VLOOKUP(G7238,'Lista de precios'!$B$7:$C$5000,2,0))","v":""}]
[null,null,"",null,null,null,null,{"$f":"IF(G7239=\"\",\"\",VLOOKUP(G7239,'Lista de precios'!$B$7:$C$5000,2,0))","v":""}]
[null,null,"",null,null,null,null,{"$f":"IF(G7240=\"\",\"\",VLOOKUP(G7240,'Lista de precios'!$B$7:$C$5000,2,0))","v":""}]
[null,null,"",null,null,null,null,{"$f":"IF(G7241=\"\",\"\",VLOOKUP(G7241,'Lista de precios'!$B$7:$C$5000,2,0))","v":""}]
[null,null,"",null,null,null,null,{"$f":"IF(G7242=\"\",\"\",VLOOKUP(G7242,'Lista de precios'!$B$7:$C$5000,2,0))","v":""}]
[null,null,"",null,null,null,null,{"$f":"IF(G7243=\"\",\"\",VLOOKUP(G7243,'Lista de precios'!$B$7:$C$5000,2,0))","v":""}]
[null,null,{"$f":"IF(B7244=\"\",\"\",TEXT(B7244,\"Mmmm\"))","v":""},null,null,null,null,{"$f":"IF(G7244=\"\",\"\",VLOOKUP(G7244,'Lista de precios'!$B$7:$C$5000,2,0))","v":""}]
[null,null,"",null,null,null,null,{"$f":"IF(G7245=\"\",\"\",VLOOKUP(G7245,'Lista de precios'!$B$7:$C$5000,2,0))","v":""}]
[null,null,"",null,null,null,null,{"$f":"IF(G7246=\"\",\"\",VLOOKUP(G7246,'Lista de precios'!$B$7:$C$5000,2,0))","v":""}]
[null,null,"",null,null,null,null,{"$f":"IF(G7247=\"\",\"\",VLOOKUP(G7247,'Lista de precios'!$B$7:$C$5000,2,0))","v":""}]
[null,null,"",null,null,null,null,{"$f":"IF(G7248=\"\",\"\",VLOOKUP(G7248,'Lista de precios'!$B$7:$C$5000,2,0))","v":""}]
[null,null,"",null,null,null,null,{"$f":"IF(G7249=\"\",\"\",VLOOKUP(G7249,'Lista de precios'!$B$7:$C$5000,2,0))","v":""}]
[null,null,"",null,null,null,null,{"$f":"IF(G7250=\"\",\"\",VLOOKUP(G7250,'Lista de precios'!$B$7:$C$5000,2,0))","v":""}]
[null,null,"",null,null,null,null,{"$f":"IF(G7251=\"\",\"\",VLOOKUP(G7251,'Lista de precios'!$B$7:$C$5000,2,0))","v":""}]
[null,null,"",null,null,null,null,{"$f":"IF(G7252=\"\",\"\",VLOOKUP(G7252,'Lista de precios'!$B$7:$C$5000,2,0))","v":""}]
[null,null,"",null,null,null,null,{"$f":"IF(G7253=\"\",\"\",VLOOKUP(G7253,'Lista de precios'!$B$7:$C$5000,2,0))","v":""}]
[null,null,"",null,null,null,null,{"$f":"IF(G7254=\"\",\"\",VLOOKUP(G7254,'Lista de precios'!$B$7:$C$5000,2,0))","v":""}]
[null,null,"",null,null,null,null,{"$f":"IF(G7255=\"\",\"\",VLOOKUP(G7255,'Lista de precios'!$B$7:$C$5000,2,0))","v":""}]
[null,null,"",null,null,null,null,{"$f":"IF(G7256=\"\",\"\",VLOOKUP(G7256,'Lista de precios'!$B$7:$C$5000,2,0))","v":""}]
[null,null,"",null,null,null,null,{"$f":"IF(G7257=\"\",\"\",VLOOKUP(G7257,'Lista de precios'!$B$7:$C$5000,2,0))","v":""}]
[null,null,"",null,null,null,null,{"$f":"IF(G7258=\"\",\"\",VLOOKUP(G7258,'Lista de precios'!$B$7:$C$5000,2,0))","v":""}]
[null,null,"",null,null,null,null,{"$f":"IF(G7259=\"\",\"\",VLOOKUP(G7259,'Lista de precios'!$B$7:$C$5000,2,0))","v":""}]
[null,null,"",null,null,null,null,{"$f":"IF(G7260=\"\",\"\",VLOOKUP(G7260,'Lista de precios'!$B$7:$C$5000,2,0))","v":""}]
[null,null,"",null,null,null,null,{"$f":"IF(G7261=\"\",\"\",VLOOKUP(G7261,'Lista de precios'!$B$7:$C$5000,2,0))","v":""}]
[null,null,"",null,null,null,null,{"$f":"IF(G7262=\"\",\"\",VLOOKUP(G7262,'Lista de precios'!$B$7:$C$5000,2,0))","v":""}]
[null,null,"",null,null,null,null,{"$f":"IF(G7263=\"\",\"\",VLOOKUP(G7263,'Lista de precios'!$B$7:$C$5000,2,0))","v":""}]
[null,null,"",null,null,null,null,{"$f":"IF(G7264=\"\",\"\",VLOOKUP(G7264,'Lista de precios'!$B$7:$C$5000,2,0))","v":""}]
[null,null,"",null,null,null,null,{"$f":"IF(G7265=\"\",\"\",VLOOKUP(G7265,'Lista de precios'!$B$7:$C$5000,2,0))","v":""}]
[null,null,"",null,null,null,null,{"$f":"IF(G7266=\"\",\"\",VLOOKUP(G7266,'Lista de precios'!$B$7:$C$5000,2,0))","v":""}]
[null,null,"",null,null,null,null,{"$f":"IF(G7267=\"\",\"\",VLOOKUP(G7267,'Lista de precios'!$B$7:$C$5000,2,0))","v":""}]
[null,null,"",null,null,null,null,{"$f":"IF(G7268=\"\",\"\",VLOOKUP(G7268,'Lista de precios'!$B$7:$C$5000,2,0))","v":""}]
[null,null,"",null,null,null,null,{"$f":"IF(G7269=\"\",\"\",VLOOKUP(G7269,'Lista de precios'!$B$7:$C$5000,2,0))","v":""}]
[null,null,"",null,null,null,null,{"$f":"IF(G7270=\"\",\"\",VLOOKUP(G7270,'Lista de precios'!$B$7:$C$5000,2,0))","v":""}]
[null,null,"",null,null,null,null,{"$f":"IF(G7271=\"\",\"\",VLOOKUP(G7271,'Lista de precios'!$B$7:$C$5000,2,0))","v":""}]
[null,null,"",null,null,null,null,{"$f":"IF(G7272=\"\",\"\",VLOOKUP(G7272,'Lista de precios'!$B$7:$C$5000,2,0))","v":""}]
[null,null,"",null,null,null,null,{"$f":"IF(G7273=\"\",\"\",VLOOKUP(G7273,'Lista de precios'!$B$7:$C$5000,2,0))","v":""}]
[null,null,"",null,null,null,null,{"$f":"IF(G7274=\"\",\"\",VLOOKUP(G7274,'Lista de precios'!$B$7:$C$5000,2,0))","v":""}]
[null,null,"",null,null,null,null,{"$f":"IF(G7275=\"\",\"\",VLOOKUP(G7275,'Lista de precios'!$B$7:$C$5000,2,0))","v":""}]
[null,null,"",null,null,null,null,{"$f":"IF(G7276=\"\",\"\",VLOOKUP(G7276,'Lista de precios'!$B$7:$C$5000,2,0))","v":""}]
[null,null,"",null,null,null,null,{"$f":"IF(G7277=\"\",\"\",VLOOKUP(G7277,'Lista de precios'!$B$7:$C$5000,2,0))","v":""}]
[null,null,"",null,null,null,null,{"$f":"IF(G7278=\"\",\"\",VLOOKUP(G7278,'Lista de precios'!$B$7:$C$5000,2,0))","v":""}]
[null,null,"",null,null,null,null,{"$f":"IF(G7279=\"\",\"\",VLOOKUP(G7279,'Lista de precios'!$B$7:$C$5000,2,0))","v":""}]
[null,null,"",null,null,null,null,{"$f":"IF(G7280=\"\",\"\",VLOOKUP(G7280,'Lista de precios'!$B$7:$C$5000,2,0))","v":""}]
[null,null,"",null,null,null,null,{"$f":"IF(G7281=\"\",\"\",VLOOKUP(G7281,'Lista de precios'!$B$7:$C$5000,2,0))","v":""}]
[null,null,"",null,null,null,null,{"$f":"IF(G7282=\"\",\"\",VLOOKUP(G7282,'Lista de precios'!$B$7:$C$5000,2,0))","v":""}]
[null,null,"",null,null,null,null,{"$f":"IF(G7283=\"\",\"\",VLOOKUP(G7283,'Lista de precios'!$B$7:$C$5000,2,0))","v":""}]
[null,null,"",null,null,null,null,{"$f":"IF(G7284=\"\",\"\",VLOOKUP(G7284,'Lista de precios'!$B$7:$C$5000,2,0))","v":""}]
[null,null,"",null,null,null,null,{"$f":"IF(G7285=\"\",\"\",VLOOKUP(G7285,'Lista de precios'!$B$7:$C$5000,2,0))","v":""}]
[null,null,"",null,null,null,null,{"$f":"IF(G7286=\"\",\"\",VLOOKUP(G7286,'Lista de precios'!$B$7:$C$5000,2,0))","v":""}]
[null,null,"",null,null,null,null,{"$f":"IF(G7287=\"\",\"\",VLOOKUP(G7287,'Lista de precios'!$B$7:$C$5000,2,0))","v":""}]
[null,null,"",null,null,null,null,{"$f":"IF(G7288=\"\",\"\",VLOOKUP(G7288,'Lista de precios'!$B$7:$C$5000,2,0))","v":""}]
[null,null,"",null,null,null,null,{"$f":"IF(G7289=\"\",\"\",VLOOKUP(G7289,'Lista de precios'!$B$7:$C$5000,2,0))","v":""}]
[null,null,"",null,null,null,null,{"$f":"IF(G7290=\"\",\"\",VLOOKUP(G7290,'Lista de precios'!$B$7:$C$5000,2,0))","v":""}]
[null,null,"",null,null,null,null,{"$f":"IF(G7291=\"\",\"\",VLOOKUP(G7291,'Lista de precios'!$B$7:$C$5000,2,0))","v":""}]
[null,null,"",null,null,null,null,{"$f":"IF(G7292=\"\",\"\",VLOOKUP(G7292,'Lista de precios'!$B$7:$C$5000,2,0))","v":""}]
[null,null,"",null,null,null,null,{"$f":"IF(G7293=\"\",\"\",VLOOKUP(G7293,'Lista de precios'!$B$7:$C$5000,2,0))","v":""}]
[null,null,"",null,null,null,null,{"$f":"IF(G7294=\"\",\"\",VLOOKUP(G7294,'Lista de precios'!$B$7:$C$5000,2,0))","v":""}]
[null,null,"",null,null,null,null,{"$f":"IF(G7295=\"\",\"\",VLOOKUP(G7295,'Lista de precios'!$B$7:$C$5000,2,0))","v":""}]
[null,null,"",null,null,null,null,{"$f":"IF(G7296=\"\",\"\",VLOOKUP(G7296,'Lista de precios'!$B$7:$C$5000,2,0))","v":""}]
[null,null,"",null,null,null,null,{"$f":"IF(G7297=\"\",\"\",VLOOKUP(G7297,'Lista de precios'!$B$7:$C$5000,2,0))","v":""}]
[null,null,"",null,null,null,null,{"$f":"IF(G7298=\"\",\"\",VLOOKUP(G7298,'Lista de precios'!$B$7:$C$5000,2,0))","v":""}]
[null,null,"",null,null,null,null,{"$f":"IF(G7299=\"\",\"\",VLOOKUP(G7299,'Lista de precios'!$B$7:$C$5000,2,0))","v":""}]
[null,null,"",null,null,null,null,{"$f":"IF(G7300=\"\",\"\",VLOOKUP(G7300,'Lista de precios'!$B$7:$C$5000,2,0))","v":""}]
[null,null,"",null,null,null,null,{"$f":"IF(G7301=\"\",\"\",VLOOKUP(G7301,'Lista de precios'!$B$7:$C$5000,2,0))","v":""}]
[null,null,"",null,null,null,null,{"$f":"IF(G7302=\"\",\"\",VLOOKUP(G7302,'Lista de precios'!$B$7:$C$5000,2,0))","v":""}]
[null,null,"",null,null,null,null,{"$f":"IF(G7303=\"\",\"\",VLOOKUP(G7303,'Lista de precios'!$B$7:$C$5000,2,0))","v":""}]
[null,null,"",null,null,null,null,{"$f":"IF(G7304=\"\",\"\",VLOOKUP(G7304,'Lista de precios'!$B$7:$C$5000,2,0))","v":""}]
[null,null,"",null,null,null,null,{"$f":"IF(G7305=\"\",\"\",VLOOKUP(G7305,'Lista de precios'!$B$7:$C$5000,2,0))","v":""}]
[null,null,"",null,null,null,null,{"$f":"IF(G7306=\"\",\"\",VLOOKUP(G7306,'Lista de precios'!$B$7:$C$5000,2,0))","v":""}]
[null,null,"",null,null,null,null,{"$f":"IF(G7307=\"\",\"\",VLOOKUP(G7307,'Lista de precios'!$B$7:$C$5000,2,0))","v":""}]
[null,null,{"$f":"IF(B7308=\"\",\"\",TEXT(B7308,\"Mmmm\"))","v":""},null,null,null,null,{"$f":"IF(G7308=\"\",\"\",VLOOKUP(G7308,'Lista de precios'!$B$7:$C$5000,2,0))","v":""}]
[null,null,"",null,null,null,null,{"$f":"IF(G7309=\"\",\"\",VLOOKUP(G7309,'Lista de precios'!$B$7:$C$5000,2,0))","v":""}]
[null,null,"",null,null,null,null,{"$f":"IF(G7310=\"\",\"\",VLOOKUP(G7310,'Lista de precios'!$B$7:$C$5000,2,0))","v":""}]
[null,null,"",null,null,null,null,{"$f":"IF(G7311=\"\",\"\",VLOOKUP(G7311,'Lista de precios'!$B$7:$C$5000,2,0))","v":""}]
[null,null,"",null,null,null,null,{"$f":"IF(G7312=\"\",\"\",VLOOKUP(G7312,'Lista de precios'!$B$7:$C$5000,2,0))","v":""}]
[null,null,"",null,null,null,null,{"$f":"IF(G7313=\"\",\"\",VLOOKUP(G7313,'Lista de precios'!$B$7:$C$5000,2,0))","v":""}]
[null,null,"",null,null,null,null,{"$f":"IF(G7314=\"\",\"\",VLOOKUP(G7314,'Lista de precios'!$B$7:$C$5000,2,0))","v":""}]
[null,null,"",null,null,null,null,{"$f":"IF(G7315=\"\",\"\",VLOOKUP(G7315,'Lista de precios'!$B$7:$C$5000,2,0))","v":""}]
[null,null,"",null,null,null,null,{"$f":"IF(G7316=\"\",\"\",VLOOKUP(G7316,'Lista de precios'!$B$7:$C$5000,2,0))","v":""}]
[null,null,"",null,null,null,null,{"$f":"IF(G7317=\"\",\"\",VLOOKUP(G7317,'Lista de precios'!$B$7:$C$5000,2,0))","v":""}]
[null,null,"",null,null,null,null,{"$f":"IF(G7318=\"\",\"\",VLOOKUP(G7318,'Lista de precios'!$B$7:$C$5000,2,0))","v":""}]
[null,null,"",null,null,null,null,{"$f":"IF(G7319=\"\",\"\",VLOOKUP(G7319,'Lista de precios'!$B$7:$C$5000,2,0))","v":""}]
[null,null,"",null,null,null,null,{"$f":"IF(G7320=\"\",\"\",VLOOKUP(G7320,'Lista de precios'!$B$7:$C$5000,2,0))","v":""}]
[null,null,"",null,null,null,null,{"$f":"IF(G7321=\"\",\"\",VLOOKUP(G7321,'Lista de precios'!$B$7:$C$5000,2,0))","v":""}]
[null,null,"",null,null,null,null,{"$f":"IF(G7322=\"\",\"\",VLOOKUP(G7322,'Lista de precios'!$B$7:$C$5000,2,0))","v":""}]
[null,null,"",null,null,null,null,{"$f":"IF(G7323=\"\",\"\",VLOOKUP(G7323,'Lista de precios'!$B$7:$C$5000,2,0))","v":""}]
[null,null,"",null,null,null,null,{"$f":"IF(G7324=\"\",\"\",VLOOKUP(G7324,'Lista de precios'!$B$7:$C$5000,2,0))","v":""}]
[null,null,"",null,null,null,null,{"$f":"IF(G7325=\"\",\"\",VLOOKUP(G7325,'Lista de precios'!$B$7:$C$5000,2,0))","v":""}]
[null,null,"",null,null,null,null,{"$f":"IF(G7326=\"\",\"\",VLOOKUP(G7326,'Lista de precios'!$B$7:$C$5000,2,0))","v":""}]
[null,null,"",null,null,null,null,{"$f":"IF(G7327=\"\",\"\",VLOOKUP(G7327,'Lista de precios'!$B$7:$C$5000,2,0))","v":""}]
[null,null,"",null,null,null,null,{"$f":"IF(G7328=\"\",\"\",VLOOKUP(G7328,'Lista de precios'!$B$7:$C$5000,2,0))","v":""}]
[null,null,"",null,null,null,null,{"$f":"IF(G7329=\"\",\"\",VLOOKUP(G7329,'Lista de precios'!$B$7:$C$5000,2,0))","v":""}]
[null,null,"",null,null,null,null,{"$f":"IF(G7330=\"\",\"\",VLOOKUP(G7330,'Lista de precios'!$B$7:$C$5000,2,0))","v":""}]
[null,null,"",null,null,null,null,{"$f":"IF(G7331=\"\",\"\",VLOOKUP(G7331,'Lista de precios'!$B$7:$C$5000,2,0))","v":""}]
[null,null,"",null,null,null,null,{"$f":"IF(G7332=\"\",\"\",VLOOKUP(G7332,'Lista de precios'!$B$7:$C$5000,2,0))","v":""}]
[null,null,"",null,null,null,null,{"$f":"IF(G7333=\"\",\"\",VLOOKUP(G7333,'Lista de precios'!$B$7:$C$5000,2,0))","v":""}]
[null,null,"",null,null,null,null,{"$f":"IF(G7334=\"\",\"\",VLOOKUP(G7334,'Lista de precios'!$B$7:$C$5000,2,0))","v":""}]
[null,null,"",null,null,null,null,{"$f":"IF(G7335=\"\",\"\",VLOOKUP(G7335,'Lista de precios'!$B$7:$C$5000,2,0))","v":""}]
[null,null,"",null,null,null,null,{"$f":"IF(G7336=\"\",\"\",VLOOKUP(G7336,'Lista de precios'!$B$7:$C$5000,2,0))","v":""}]
[null,null,"",null,null,null,null,{"$f":"IF(G7337=\"\",\"\",VLOOKUP(G7337,'Lista de precios'!$B$7:$C$5000,2,0))","v":""}]
[null,null,"",null,null,null,null,{"$f":"IF(G7338=\"\",\"\",VLOOKUP(G7338,'Lista de precios'!$B$7:$C$5000,2,0))","v":""}]
[null,null,"",null,null,null,null,{"$f":"IF(G7339=\"\",\"\",VLOOKUP(G7339,'Lista de precios'!$B$7:$C$5000,2,0))","v":""}]
[null,null,"",null,null,null,null,{"$f":"IF(G7340=\"\",\"\",VLOOKUP(G7340,'Lista de precios'!$B$7:$C$5000,2,0))","v":""}]
[null,null,"",null,null,null,null,{"$f":"IF(G7341=\"\",\"\",VLOOKUP(G7341,'Lista de precios'!$B$7:$C$5000,2,0))","v":""}]
[null,null,"",null,null,null,null,{"$f":"IF(G7342=\"\",\"\",VLOOKUP(G7342,'Lista de precios'!$B$7:$C$5000,2,0))","v":""}]
[null,null,"",null,null,null,null,{"$f":"IF(G7343=\"\",\"\",VLOOKUP(G7343,'Lista de precios'!$B$7:$C$5000,2,0))","v":""}]
[null,null,"",null,null,null,null,{"$f":"IF(G7344=\"\",\"\",VLOOKUP(G7344,'Lista de precios'!$B$7:$C$5000,2,0))","v":""}]
[null,null,"",null,null,null,null,{"$f":"IF(G7345=\"\",\"\",VLOOKUP(G7345,'Lista de precios'!$B$7:$C$5000,2,0))","v":""}]
[null,null,"",null,null,null,null,{"$f":"IF(G7346=\"\",\"\",VLOOKUP(G7346,'Lista de precios'!$B$7:$C$5000,2,0))","v":""}]
[null,null,"",null,null,null,null,{"$f":"IF(G7347=\"\",\"\",VLOOKUP(G7347,'Lista de precios'!$B$7:$C$5000,2,0))","v":""}]
[null,null,"",null,null,null,null,{"$f":"IF(G7348=\"\",\"\",VLOOKUP(G7348,'Lista de precios'!$B$7:$C$5000,2,0))","v":""}]
[null,null,"",null,null,null,null,{"$f":"IF(G7349=\"\",\"\",VLOOKUP(G7349,'Lista de precios'!$B$7:$C$5000,2,0))","v":""}]
[null,null,"",null,null,null,null,{"$f":"IF(G7350=\"\",\"\",VLOOKUP(G7350,'Lista de precios'!$B$7:$C$5000,2,0))","v":""}]
[null,null,"",null,null,null,null,{"$f":"IF(G7351=\"\",\"\",VLOOKUP(G7351,'Lista de precios'!$B$7:$C$5000,2,0))","v":""}]
[null,null,"",null,null,null,null,{"$f":"IF(G7352=\"\",\"\",VLOOKUP(G7352,'Lista de precios'!$B$7:$C$5000,2,0))","v":""}]
[null,null,"",null,null,null,null,{"$f":"IF(G7353=\"\",\"\",VLOOKUP(G7353,'Lista de precios'!$B$7:$C$5000,2,0))","v":""}]
[null,null,"",null,null,null,null,{"$f":"IF(G7354=\"\",\"\",VLOOKUP(G7354,'Lista de precios'!$B$7:$C$5000,2,0))","v":""}]
[null,null,"",null,null,null,null,{"$f":"IF(G7355=\"\",\"\",VLOOKUP(G7355,'Lista de precios'!$B$7:$C$5000,2,0))","v":""}]
[null,null,"",null,null,null,null,{"$f":"IF(G7356=\"\",\"\",VLOOKUP(G7356,'Lista de precios'!$B$7:$C$5000,2,0))","v":""}]
[null,null,"",null,null,null,null,{"$f":"IF(G7357=\"\",\"\",VLOOKUP(G7357,'Lista de precios'!$B$7:$C$5000,2,0))","v":""}]
[null,null,"",null,null,null,null,{"$f":"IF(G7358=\"\",\"\",VLOOKUP(G7358,'Lista de precios'!$B$7:$C$5000,2,0))","v":""}]
[null,null,"",null,null,null,null,{"$f":"IF(G7359=\"\",\"\",VLOOKUP(G7359,'Lista de precios'!$B$7:$C$5000,2,0))","v":""}]
[null,null,"",null,null,null,null,{"$f":"IF(G7360=\"\",\"\",VLOOKUP(G7360,'Lista de precios'!$B$7:$C$5000,2,0))","v":""}]
[null,null,"",null,null,null,null,{"$f":"IF(G7361=\"\",\"\",VLOOKUP(G7361,'Lista de precios'!$B$7:$C$5000,2,0))","v":""}]
[null,null,"",null,null,null,null,{"$f":"IF(G7362=\"\",\"\",VLOOKUP(G7362,'Lista de precios'!$B$7:$C$5000,2,0))","v":""}]
[null,null,"",null,null,null,null,{"$f":"IF(G7363=\"\",\"\",VLOOKUP(G7363,'Lista de precios'!$B$7:$C$5000,2,0))","v":""}]
[null,null,"",null,null,null,null,{"$f":"IF(G7364=\"\",\"\",VLOOKUP(G7364,'Lista de precios'!$B$7:$C$5000,2,0))","v":""}]
[null,null,"",null,null,null,null,{"$f":"IF(G7365=\"\",\"\",VLOOKUP(G7365,'Lista de precios'!$B$7:$C$5000,2,0))","v":""}]
[null,null,"",null,null,null,null,{"$f":"IF(G7366=\"\",\"\",VLOOKUP(G7366,'Lista de precios'!$B$7:$C$5000,2,0))","v":""}]
[null,null,"",null,null,null,null,{"$f":"IF(G7367=\"\",\"\",VLOOKUP(G7367,'Lista de precios'!$B$7:$C$5000,2,0))","v":""}]
[null,null,"",null,null,null,null,{"$f":"IF(G7368=\"\",\"\",VLOOKUP(G7368,'Lista de precios'!$B$7:$C$5000,2,0))","v":""}]
[null,null,"",null,null,null,null,{"$f":"IF(G7369=\"\",\"\",VLOOKUP(G7369,'Lista de precios'!$B$7:$C$5000,2,0))","v":""}]
[null,null,"",null,null,null,null,{"$f":"IF(G7370=\"\",\"\",VLOOKUP(G7370,'Lista de precios'!$B$7:$C$5000,2,0))","v":""}]
[null,null,"",null,null,null,null,{"$f":"IF(G7371=\"\",\"\",VLOOKUP(G7371,'Lista de precios'!$B$7:$C$5000,2,0))","v":""}]
[null,null,{"$f":"IF(B7372=\"\",\"\",TEXT(B7372,\"Mmmm\"))","v":""},null,null,null,null,{"$f":"IF(G7372=\"\",\"\",VLOOKUP(G7372,'Lista de precios'!$B$7:$C$5000,2,0))","v":""}]
[null,null,"",null,null,null,null,{"$f":"IF(G7373=\"\",\"\",VLOOKUP(G7373,'Lista de precios'!$B$7:$C$5000,2,0))","v":""}]
[null,null,"",null,null,null,null,{"$f":"IF(G7374=\"\",\"\",VLOOKUP(G7374,'Lista de precios'!$B$7:$C$5000,2,0))","v":""}]
[null,null,"",null,null,null,null,{"$f":"IF(G7375=\"\",\"\",VLOOKUP(G7375,'Lista de precios'!$B$7:$C$5000,2,0))","v":""}]
[null,null,"",null,null,null,null,{"$f":"IF(G7376=\"\",\"\",VLOOKUP(G7376,'Lista de precios'!$B$7:$C$5000,2,0))","v":""}]
[null,null,"",null,null,null,null,{"$f":"IF(G7377=\"\",\"\",VLOOKUP(G7377,'Lista de precios'!$B$7:$C$5000,2,0))","v":""}]
[null,null,"",null,null,null,null,{"$f":"IF(G7378=\"\",\"\",VLOOKUP(G7378,'Lista de precios'!$B$7:$C$5000,2,0))","v":""}]
[null,null,"",null,null,null,null,{"$f":"IF(G7379=\"\",\"\",VLOOKUP(G7379,'Lista de precios'!$B$7:$C$5000,2,0))","v":""}]
[null,null,"",null,null,null,null,{"$f":"IF(G7380=\"\",\"\",VLOOKUP(G7380,'Lista de precios'!$B$7:$C$5000,2,0))","v":""}]
[null,null,"",null,null,null,null,{"$f":"IF(G7381=\"\",\"\",VLOOKUP(G7381,'Lista de precios'!$B$7:$C$5000,2,0))","v":""}]
[null,null,"",null,null,null,null,{"$f":"IF(G7382=\"\",\"\",VLOOKUP(G7382,'Lista de precios'!$B$7:$C$5000,2,0))","v":""}]
[null,null,"",null,null,null,null,{"$f":"IF(G7383=\"\",\"\",VLOOKUP(G7383,'Lista de precios'!$B$7:$C$5000,2,0))","v":""}]
[null,null,"",null,null,null,null,{"$f":"IF(G7384=\"\",\"\",VLOOKUP(G7384,'Lista de precios'!$B$7:$C$5000,2,0))","v":""}]
[null,null,"",null,null,null,null,{"$f":"IF(G7385=\"\",\"\",VLOOKUP(G7385,'Lista de precios'!$B$7:$C$5000,2,0))","v":""}]
[null,null,"",null,null,null,null,{"$f":"IF(G7386=\"\",\"\",VLOOKUP(G7386,'Lista de precios'!$B$7:$C$5000,2,0))","v":""}]
[null,null,"",null,null,null,null,{"$f":"IF(G7387=\"\",\"\",VLOOKUP(G7387,'Lista de precios'!$B$7:$C$5000,2,0))","v":""}]
[null,null,"",null,null,null,null,{"$f":"IF(G7388=\"\",\"\",VLOOKUP(G7388,'Lista de precios'!$B$7:$C$5000,2,0))","v":""}]
[null,null,"",null,null,null,null,{"$f":"IF(G7389=\"\",\"\",VLOOKUP(G7389,'Lista de precios'!$B$7:$C$5000,2,0))","v":""}]
[null,null,"",null,null,null,null,{"$f":"IF(G7390=\"\",\"\",VLOOKUP(G7390,'Lista de precios'!$B$7:$C$5000,2,0))","v":""}]
[null,null,"",null,null,null,null,{"$f":"IF(G7391=\"\",\"\",VLOOKUP(G7391,'Lista de precios'!$B$7:$C$5000,2,0))","v":""}]
[null,null,"",null,null,null,null,{"$f":"IF(G7392=\"\",\"\",VLOOKUP(G7392,'Lista de precios'!$B$7:$C$5000,2,0))","v":""}]
[null,null,"",null,null,null,null,{"$f":"IF(G7393=\"\",\"\",VLOOKUP(G7393,'Lista de precios'!$B$7:$C$5000,2,0))","v":""}]
[null,null,"",null,null,null,null,{"$f":"IF(G7394=\"\",\"\",VLOOKUP(G7394,'Lista de precios'!$B$7:$C$5000,2,0))","v":""}]
[null,null,"",null,null,null,null,{"$f":"IF(G7395=\"\",\"\",VLOOKUP(G7395,'Lista de precios'!$B$7:$C$5000,2,0))","v":""}]
[null,null,"",null,null,null,null,{"$f":"IF(G7396=\"\",\"\",VLOOKUP(G7396,'Lista de precios'!$B$7:$C$5000,2,0))","v":""}]
[null,null,"",null,null,null,null,{"$f":"IF(G7397=\"\",\"\",VLOOKUP(G7397,'Lista de precios'!$B$7:$C$5000,2,0))","v":""}]
[null,null,"",null,null,null,null,{"$f":"IF(G7398=\"\",\"\",VLOOKUP(G7398,'Lista de precios'!$B$7:$C$5000,2,0))","v":""}]
[null,null,"",null,null,null,null,{"$f":"IF(G7399=\"\",\"\",VLOOKUP(G7399,'Lista de precios'!$B$7:$C$5000,2,0))","v":""}]
[null,null,"",null,null,null,null,{"$f":"IF(G7400=\"\",\"\",VLOOKUP(G7400,'Lista de precios'!$B$7:$C$5000,2,0))","v":""}]
[null,null,"",null,null,null,null,{"$f":"IF(G7401=\"\",\"\",VLOOKUP(G7401,'Lista de precios'!$B$7:$C$5000,2,0))","v":""}]
[null,null,"",null,null,null,null,{"$f":"IF(G7402=\"\",\"\",VLOOKUP(G7402,'Lista de precios'!$B$7:$C$5000,2,0))","v":""}]
[null,null,"",null,null,null,null,{"$f":"IF(G7403=\"\",\"\",VLOOKUP(G7403,'Lista de precios'!$B$7:$C$5000,2,0))","v":""}]
[null,null,"",null,null,null,null,{"$f":"IF(G7404=\"\",\"\",VLOOKUP(G7404,'Lista de precios'!$B$7:$C$5000,2,0))","v":""}]
[null,null,"",null,null,null,null,{"$f":"IF(G7405=\"\",\"\",VLOOKUP(G7405,'Lista de precios'!$B$7:$C$5000,2,0))","v":""}]
[null,null,"",null,null,null,null,{"$f":"IF(G7406=\"\",\"\",VLOOKUP(G7406,'Lista de precios'!$B$7:$C$5000,2,0))","v":""}]
[null,null,"",null,null,null,null,{"$f":"IF(G7407=\"\",\"\",VLOOKUP(G7407,'Lista de precios'!$B$7:$C$5000,2,0))","v":""}]
[null,null,"",null,null,null,null,{"$f":"IF(G7408=\"\",\"\",VLOOKUP(G7408,'Lista de precios'!$B$7:$C$5000,2,0))","v":""}]
[null,null,"",null,null,null,null,{"$f":"IF(G7409=\"\",\"\",VLOOKUP(G7409,'Lista de precios'!$B$7:$C$5000,2,0))","v":""}]
[null,null,"",null,null,null,null,{"$f":"IF(G7410=\"\",\"\",VLOOKUP(G7410,'Lista de precios'!$B$7:$C$5000,2,0))","v":""}]
[null,null,"",null,null,null,null,{"$f":"IF(G7411=\"\",\"\",VLOOKUP(G7411,'Lista de precios'!$B$7:$C$5000,2,0))","v":""}]
[null,null,"",null,null,null,null,{"$f":"IF(G7412=\"\",\"\",VLOOKUP(G7412,'Lista de precios'!$B$7:$C$5000,2,0))","v":""}]
[null,null,"",null,null,null,null,{"$f":"IF(G7413=\"\",\"\",VLOOKUP(G7413,'Lista de precios'!$B$7:$C$5000,2,0))","v":""}]
[null,null,"",null,null,null,null,{"$f":"IF(G7414=\"\",\"\",VLOOKUP(G7414,'Lista de precios'!$B$7:$C$5000,2,0))","v":""}]
[null,null,"",null,null,null,null,{"$f":"IF(G7415=\"\",\"\",VLOOKUP(G7415,'Lista de precios'!$B$7:$C$5000,2,0))","v":""}]
[null,null,"",null,null,null,null,{"$f":"IF(G7416=\"\",\"\",VLOOKUP(G7416,'Lista de precios'!$B$7:$C$5000,2,0))","v":""}]
[null,null,"",null,null,null,null,{"$f":"IF(G7417=\"\",\"\",VLOOKUP(G7417,'Lista de precios'!$B$7:$C$5000,2,0))","v":""}]
[null,null,"",null,null,null,null,{"$f":"IF(G7418=\"\",\"\",VLOOKUP(G7418,'Lista de precios'!$B$7:$C$5000,2,0))","v":""}]
[null,null,"",null,null,null,null,{"$f":"IF(G7419=\"\",\"\",VLOOKUP(G7419,'Lista de precios'!$B$7:$C$5000,2,0))","v":""}]
[null,null,"",null,null,null,null,{"$f":"IF(G7420=\"\",\"\",VLOOKUP(G7420,'Lista de precios'!$B$7:$C$5000,2,0))","v":""}]
[null,null,"",null,null,null,null,{"$f":"IF(G7421=\"\",\"\",VLOOKUP(G7421,'Lista de precios'!$B$7:$C$5000,2,0))","v":""}]
[null,null,"",null,null,null,null,{"$f":"IF(G7422=\"\",\"\",VLOOKUP(G7422,'Lista de precios'!$B$7:$C$5000,2,0))","v":""}]
[null,null,"",null,null,null,null,{"$f":"IF(G7423=\"\",\"\",VLOOKUP(G7423,'Lista de precios'!$B$7:$C$5000,2,0))","v":""}]
[null,null,"",null,null,null,null,{"$f":"IF(G7424=\"\",\"\",VLOOKUP(G7424,'Lista de precios'!$B$7:$C$5000,2,0))","v":""}]
[null,null,"",null,null,null,null,{"$f":"IF(G7425=\"\",\"\",VLOOKUP(G7425,'Lista de precios'!$B$7:$C$5000,2,0))","v":""}]
[null,null,"",null,null,null,null,{"$f":"IF(G7426=\"\",\"\",VLOOKUP(G7426,'Lista de precios'!$B$7:$C$5000,2,0))","v":""}]
[null,null,"",null,null,null,null,{"$f":"IF(G7427=\"\",\"\",VLOOKUP(G7427,'Lista de precios'!$B$7:$C$5000,2,0))","v":""}]
[null,null,"",null,null,null,null,{"$f":"IF(G7428=\"\",\"\",VLOOKUP(G7428,'Lista de precios'!$B$7:$C$5000,2,0))","v":""}]
[null,null,"",null,null,null,null,{"$f":"IF(G7429=\"\",\"\",VLOOKUP(G7429,'Lista de precios'!$B$7:$C$5000,2,0))","v":""}]
[null,null,"",null,null,null,null,{"$f":"IF(G7430=\"\",\"\",VLOOKUP(G7430,'Lista de precios'!$B$7:$C$5000,2,0))","v":""}]
[null,null,"",null,null,null,null,{"$f":"IF(G7431=\"\",\"\",VLOOKUP(G7431,'Lista de precios'!$B$7:$C$5000,2,0))","v":""}]
[null,null,"",null,null,null,null,{"$f":"IF(G7432=\"\",\"\",VLOOKUP(G7432,'Lista de precios'!$B$7:$C$5000,2,0))","v":""}]
[null,null,"",null,null,null,null,{"$f":"IF(G7433=\"\",\"\",VLOOKUP(G7433,'Lista de precios'!$B$7:$C$5000,2,0))","v":""}]
[null,null,"",null,null,null,null,{"$f":"IF(G7434=\"\",\"\",VLOOKUP(G7434,'Lista de precios'!$B$7:$C$5000,2,0))","v":""}]
[null,null,"",null,null,null,null,{"$f":"IF(G7435=\"\",\"\",VLOOKUP(G7435,'Lista de precios'!$B$7:$C$5000,2,0))","v":""}]
[null,null,{"$f":"IF(B7436=\"\",\"\",TEXT(B7436,\"Mmmm\"))","v":""},null,null,null,null,{"$f":"IF(G7436=\"\",\"\",VLOOKUP(G7436,'Lista de precios'!$B$7:$C$5000,2,0))","v":""}]
[null,null,"",null,null,null,null,{"$f":"IF(G7437=\"\",\"\",VLOOKUP(G7437,'Lista de precios'!$B$7:$C$5000,2,0))","v":""}]
[null,null,"",null,null,null,null,{"$f":"IF(G7438=\"\",\"\",VLOOKUP(G7438,'Lista de precios'!$B$7:$C$5000,2,0))","v":""}]
[null,null,"",null,null,null,null,{"$f":"IF(G7439=\"\",\"\",VLOOKUP(G7439,'Lista de precios'!$B$7:$C$5000,2,0))","v":""}]
[null,null,"",null,null,null,null,{"$f":"IF(G7440=\"\",\"\",VLOOKUP(G7440,'Lista de precios'!$B$7:$C$5000,2,0))","v":""}]
[null,null,"",null,null,null,null,{"$f":"IF(G7441=\"\",\"\",VLOOKUP(G7441,'Lista de precios'!$B$7:$C$5000,2,0))","v":""}]
[null,null,"",null,null,null,null,{"$f":"IF(G7442=\"\",\"\",VLOOKUP(G7442,'Lista de precios'!$B$7:$C$5000,2,0))","v":""}]
[null,null,"",null,null,null,null,{"$f":"IF(G7443=\"\",\"\",VLOOKUP(G7443,'Lista de precios'!$B$7:$C$5000,2,0))","v":""}]
[null,null,"",null,null,null,null,{"$f":"IF(G7444=\"\",\"\",VLOOKUP(G7444,'Lista de precios'!$B$7:$C$5000,2,0))","v":""}]
[null,null,"",null,null,null,null,{"$f":"IF(G7445=\"\",\"\",VLOOKUP(G7445,'Lista de precios'!$B$7:$C$5000,2,0))","v":""}]
[null,null,"",null,null,null,null,{"$f":"IF(G7446=\"\",\"\",VLOOKUP(G7446,'Lista de precios'!$B$7:$C$5000,2,0))","v":""}]
[null,null,"",null,null,null,null,{"$f":"IF(G7447=\"\",\"\",VLOOKUP(G7447,'Lista de precios'!$B$7:$C$5000,2,0))","v":""}]
[null,null,"",null,null,null,null,{"$f":"IF(G7448=\"\",\"\",VLOOKUP(G7448,'Lista de precios'!$B$7:$C$5000,2,0))","v":""}]
[null,null,"",null,null,null,null,{"$f":"IF(G7449=\"\",\"\",VLOOKUP(G7449,'Lista de precios'!$B$7:$C$5000,2,0))","v":""}]
[null,null,"",null,null,null,null,{"$f":"IF(G7450=\"\",\"\",VLOOKUP(G7450,'Lista de precios'!$B$7:$C$5000,2,0))","v":""}]
[null,null,"",null,null,null,null,{"$f":"IF(G7451=\"\",\"\",VLOOKUP(G7451,'Lista de precios'!$B$7:$C$5000,2,0))","v":""}]
[null,null,"",null,null,null,null,{"$f":"IF(G7452=\"\",\"\",VLOOKUP(G7452,'Lista de precios'!$B$7:$C$5000,2,0))","v":""}]
[null,null,"",null,null,null,null,{"$f":"IF(G7453=\"\",\"\",VLOOKUP(G7453,'Lista de precios'!$B$7:$C$5000,2,0))","v":""}]
[null,null,"",null,null,null,null,{"$f":"IF(G7454=\"\",\"\",VLOOKUP(G7454,'Lista de precios'!$B$7:$C$5000,2,0))","v":""}]
[null,null,"",null,null,null,null,{"$f":"IF(G7455=\"\",\"\",VLOOKUP(G7455,'Lista de precios'!$B$7:$C$5000,2,0))","v":""}]
[null,null,"",null,null,null,null,{"$f":"IF(G7456=\"\",\"\",VLOOKUP(G7456,'Lista de precios'!$B$7:$C$5000,2,0))","v":""}]
[null,null,"",null,null,null,null,{"$f":"IF(G7457=\"\",\"\",VLOOKUP(G7457,'Lista de precios'!$B$7:$C$5000,2,0))","v":""}]
[null,null,"",null,null,null,null,{"$f":"IF(G7458=\"\",\"\",VLOOKUP(G7458,'Lista de precios'!$B$7:$C$5000,2,0))","v":""}]
[null,null,"",null,null,null,null,{"$f":"IF(G7459=\"\",\"\",VLOOKUP(G7459,'Lista de precios'!$B$7:$C$5000,2,0))","v":""}]
[null,null,"",null,null,null,null,{"$f":"IF(G7460=\"\",\"\",VLOOKUP(G7460,'Lista de precios'!$B$7:$C$5000,2,0))","v":""}]
[null,null,"",null,null,null,null,{"$f":"IF(G7461=\"\",\"\",VLOOKUP(G7461,'Lista de precios'!$B$7:$C$5000,2,0))","v":""}]
[null,null,"",null,null,null,null,{"$f":"IF(G7462=\"\",\"\",VLOOKUP(G7462,'Lista de precios'!$B$7:$C$5000,2,0))","v":""}]
[null,null,"",null,null,null,null,{"$f":"IF(G7463=\"\",\"\",VLOOKUP(G7463,'Lista de precios'!$B$7:$C$5000,2,0))","v":""}]
[null,null,"",null,null,null,null,{"$f":"IF(G7464=\"\",\"\",VLOOKUP(G7464,'Lista de precios'!$B$7:$C$5000,2,0))","v":""}]
[null,null,"",null,null,null,null,{"$f":"IF(G7465=\"\",\"\",VLOOKUP(G7465,'Lista de precios'!$B$7:$C$5000,2,0))","v":""}]
[null,null,"",null,null,null,null,{"$f":"IF(G7466=\"\",\"\",VLOOKUP(G7466,'Lista de precios'!$B$7:$C$5000,2,0))","v":""}]
[null,null,"",null,null,null,null,{"$f":"IF(G7467=\"\",\"\",VLOOKUP(G7467,'Lista de precios'!$B$7:$C$5000,2,0))","v":""}]
[null,null,"",null,null,null,null,{"$f":"IF(G7468=\"\",\"\",VLOOKUP(G7468,'Lista de precios'!$B$7:$C$5000,2,0))","v":""}]
[null,null,"",null,null,null,null,{"$f":"IF(G7469=\"\",\"\",VLOOKUP(G7469,'Lista de precios'!$B$7:$C$5000,2,0))","v":""}]
[null,null,"",null,null,null,null,{"$f":"IF(G7470=\"\",\"\",VLOOKUP(G7470,'Lista de precios'!$B$7:$C$5000,2,0))","v":""}]
[null,null,"",null,null,null,null,{"$f":"IF(G7471=\"\",\"\",VLOOKUP(G7471,'Lista de precios'!$B$7:$C$5000,2,0))","v":""}]
[null,null,"",null,null,null,null,{"$f":"IF(G7472=\"\",\"\",VLOOKUP(G7472,'Lista de precios'!$B$7:$C$5000,2,0))","v":""}]
[null,null,"",null,null,null,null,{"$f":"IF(G7473=\"\",\"\",VLOOKUP(G7473,'Lista de precios'!$B$7:$C$5000,2,0))","v":""}]
[null,null,"",null,null,null,null,{"$f":"IF(G7474=\"\",\"\",VLOOKUP(G7474,'Lista de precios'!$B$7:$C$5000,2,0))","v":""}]
[null,null,"",null,null,null,null,{"$f":"IF(G7475=\"\",\"\",VLOOKUP(G7475,'Lista de precios'!$B$7:$C$5000,2,0))","v":""}]
[null,null,"",null,null,null,null,{"$f":"IF(G7476=\"\",\"\",VLOOKUP(G7476,'Lista de precios'!$B$7:$C$5000,2,0))","v":""}]
[null,null,"",null,null,null,null,{"$f":"IF(G7477=\"\",\"\",VLOOKUP(G7477,'Lista de precios'!$B$7:$C$5000,2,0))","v":""}]
[null,null,"",null,null,null,null,{"$f":"IF(G7478=\"\",\"\",VLOOKUP(G7478,'Lista de precios'!$B$7:$C$5000,2,0))","v":""}]
[null,null,"",null,null,null,null,{"$f":"IF(G7479=\"\",\"\",VLOOKUP(G7479,'Lista de precios'!$B$7:$C$5000,2,0))","v":""}]
[null,null,"",null,null,null,null,{"$f":"IF(G7480=\"\",\"\",VLOOKUP(G7480,'Lista de precios'!$B$7:$C$5000,2,0))","v":""}]
[null,null,"",null,null,null,null,{"$f":"IF(G7481=\"\",\"\",VLOOKUP(G7481,'Lista de precios'!$B$7:$C$5000,2,0))","v":""}]
[null,null,"",null,null,null,null,{"$f":"IF(G7482=\"\",\"\",VLOOKUP(G7482,'Lista de precios'!$B$7:$C$5000,2,0))","v":""}]
[null,null,"",null,null,null,null,{"$f":"IF(G7483=\"\",\"\",VLOOKUP(G7483,'Lista de precios'!$B$7:$C$5000,2,0))","v":""}]
[null,null,"",null,null,null,null,{"$f":"IF(G7484=\"\",\"\",VLOOKUP(G7484,'Lista de precios'!$B$7:$C$5000,2,0))","v":""}]
[null,null,"",null,null,null,null,{"$f":"IF(G7485=\"\",\"\",VLOOKUP(G7485,'Lista de precios'!$B$7:$C$5000,2,0))","v":""}]
[null,null,"",null,null,null,null,{"$f":"IF(G7486=\"\",\"\",VLOOKUP(G7486,'Lista de precios'!$B$7:$C$5000,2,0))","v":""}]
[null,null,"",null,null,null,null,{"$f":"IF(G7487=\"\",\"\",VLOOKUP(G7487,'Lista de precios'!$B$7:$C$5000,2,0))","v":""}]
[null,null,"",null,null,null,null,{"$f":"IF(G7488=\"\",\"\",VLOOKUP(G7488,'Lista de precios'!$B$7:$C$5000,2,0))","v":""}]
[null,null,"",null,null,null,null,{"$f":"IF(G7489=\"\",\"\",VLOOKUP(G7489,'Lista de precios'!$B$7:$C$5000,2,0))","v":""}]
[null,null,"",null,null,null,null,{"$f":"IF(G7490=\"\",\"\",VLOOKUP(G7490,'Lista de precios'!$B$7:$C$5000,2,0))","v":""}]
[null,null,"",null,null,null,null,{"$f":"IF(G7491=\"\",\"\",VLOOKUP(G7491,'Lista de precios'!$B$7:$C$5000,2,0))","v":""}]
[null,null,"",null,null,null,null,{"$f":"IF(G7492=\"\",\"\",VLOOKUP(G7492,'Lista de precios'!$B$7:$C$5000,2,0))","v":""}]
[null,null,"",null,null,null,null,{"$f":"IF(G7493=\"\",\"\",VLOOKUP(G7493,'Lista de precios'!$B$7:$C$5000,2,0))","v":""}]
[null,null,"",null,null,null,null,{"$f":"IF(G7494=\"\",\"\",VLOOKUP(G7494,'Lista de precios'!$B$7:$C$5000,2,0))","v":""}]
[null,null,"",null,null,null,null,{"$f":"IF(G7495=\"\",\"\",VLOOKUP(G7495,'Lista de precios'!$B$7:$C$5000,2,0))","v":""}]
[null,null,"",null,null,null,null,{"$f":"IF(G7496=\"\",\"\",VLOOKUP(G7496,'Lista de precios'!$B$7:$C$5000,2,0))","v":""}]
[null,null,"",null,null,null,null,{"$f":"IF(G7497=\"\",\"\",VLOOKUP(G7497,'Lista de precios'!$B$7:$C$5000,2,0))","v":""}]
[null,null,"",null,null,null,null,{"$f":"IF(G7498=\"\",\"\",VLOOKUP(G7498,'Lista de precios'!$B$7:$C$5000,2,0))","v":""}]
[null,null,"",null,null,null,null,{"$f":"IF(G7499=\"\",\"\",VLOOKUP(G7499,'Lista de precios'!$B$7:$C$5000,2,0))","v":""}]
[null,null,{"$f":"IF(B7500=\"\",\"\",TEXT(B7500,\"Mmmm\"))","v":""},null,null,null,null,{"$f":"IF(G7500=\"\",\"\",VLOOKUP(G7500,'Lista de precios'!$B$7:$C$5000,2,0))","v":""}]
[null,null,"",null,null,null,null,{"$f":"IF(G7501=\"\",\"\",VLOOKUP(G7501,'Lista de precios'!$B$7:$C$5000,2,0))","v":""}]
[null,null,"",null,null,null,null,{"$f":"IF(G7502=\"\",\"\",VLOOKUP(G7502,'Lista de precios'!$B$7:$C$5000,2,0))","v":""}]
[null,null,"",null,null,null,null,{"$f":"IF(G7503=\"\",\"\",VLOOKUP(G7503,'Lista de precios'!$B$7:$C$5000,2,0))","v":""}]
[null,null,"",null,null,null,null,{"$f":"IF(G7504=\"\",\"\",VLOOKUP(G7504,'Lista de precios'!$B$7:$C$5000,2,0))","v":""}]
[null,null,"",null,null,null,null,{"$f":"IF(G7505=\"\",\"\",VLOOKUP(G7505,'Lista de precios'!$B$7:$C$5000,2,0))","v":""}]
[null,null,"",null,null,null,null,{"$f":"IF(G7506=\"\",\"\",VLOOKUP(G7506,'Lista de precios'!$B$7:$C$5000,2,0))","v":""}]
[null,null,"",null,null,null,null,{"$f":"IF(G7507=\"\",\"\",VLOOKUP(G7507,'Lista de precios'!$B$7:$C$5000,2,0))","v":""}]
[null,null,"",null,null,null,null,{"$f":"IF(G7508=\"\",\"\",VLOOKUP(G7508,'Lista de precios'!$B$7:$C$5000,2,0))","v":""}]
[null,null,"",null,null,null,null,{"$f":"IF(G7509=\"\",\"\",VLOOKUP(G7509,'Lista de precios'!$B$7:$C$5000,2,0))","v":""}]
[null,null,"",null,null,null,null,{"$f":"IF(G7510=\"\",\"\",VLOOKUP(G7510,'Lista de precios'!$B$7:$C$5000,2,0))","v":""}]
[null,null,"",null,null,null,null,{"$f":"IF(G7511=\"\",\"\",VLOOKUP(G7511,'Lista de precios'!$B$7:$C$5000,2,0))","v":""}]
[null,null,"",null,null,null,null,{"$f":"IF(G7512=\"\",\"\",VLOOKUP(G7512,'Lista de precios'!$B$7:$C$5000,2,0))","v":""}]
[null,null,"",null,null,null,null,{"$f":"IF(G7513=\"\",\"\",VLOOKUP(G7513,'Lista de precios'!$B$7:$C$5000,2,0))","v":""}]
[null,null,"",null,null,null,null,{"$f":"IF(G7514=\"\",\"\",VLOOKUP(G7514,'Lista de precios'!$B$7:$C$5000,2,0))","v":""}]
[null,null,"",null,null,null,null,{"$f":"IF(G7515=\"\",\"\",VLOOKUP(G7515,'Lista de precios'!$B$7:$C$5000,2,0))","v":""}]
[null,null,"",null,null,null,null,{"$f":"IF(G7516=\"\",\"\",VLOOKUP(G7516,'Lista de precios'!$B$7:$C$5000,2,0))","v":""}]
[null,null,"",null,null,null,null,{"$f":"IF(G7517=\"\",\"\",VLOOKUP(G7517,'Lista de precios'!$B$7:$C$5000,2,0))","v":""}]
[null,null,"",null,null,null,null,{"$f":"IF(G7518=\"\",\"\",VLOOKUP(G7518,'Lista de precios'!$B$7:$C$5000,2,0))","v":""}]
[null,null,"",null,null,null,null,{"$f":"IF(G7519=\"\",\"\",VLOOKUP(G7519,'Lista de precios'!$B$7:$C$5000,2,0))","v":""}]
[null,null,"",null,null,null,null,{"$f":"IF(G7520=\"\",\"\",VLOOKUP(G7520,'Lista de precios'!$B$7:$C$5000,2,0))","v":""}]
[null,null,"",null,null,null,null,{"$f":"IF(G7521=\"\",\"\",VLOOKUP(G7521,'Lista de precios'!$B$7:$C$5000,2,0))","v":""}]
[null,null,"",null,null,null,null,{"$f":"IF(G7522=\"\",\"\",VLOOKUP(G7522,'Lista de precios'!$B$7:$C$5000,2,0))","v":""}]
[null,null,"",null,null,null,null,{"$f":"IF(G7523=\"\",\"\",VLOOKUP(G7523,'Lista de precios'!$B$7:$C$5000,2,0))","v":""}]
[null,null,"",null,null,null,null,{"$f":"IF(G7524=\"\",\"\",VLOOKUP(G7524,'Lista de precios'!$B$7:$C$5000,2,0))","v":""}]
[null,null,"",null,null,null,null,{"$f":"IF(G7525=\"\",\"\",VLOOKUP(G7525,'Lista de precios'!$B$7:$C$5000,2,0))","v":""}]
[null,null,"",null,null,null,null,{"$f":"IF(G7526=\"\",\"\",VLOOKUP(G7526,'Lista de precios'!$B$7:$C$5000,2,0))","v":""}]
[null,null,"",null,null,null,null,{"$f":"IF(G7527=\"\",\"\",VLOOKUP(G7527,'Lista de precios'!$B$7:$C$5000,2,0))","v":""}]
[null,null,"",null,null,null,null,{"$f":"IF(G7528=\"\",\"\",VLOOKUP(G7528,'Lista de precios'!$B$7:$C$5000,2,0))","v":""}]
[null,null,"",null,null,null,null,{"$f":"IF(G7529=\"\",\"\",VLOOKUP(G7529,'Lista de precios'!$B$7:$C$5000,2,0))","v":""}]
[null,null,"",null,null,null,null,{"$f":"IF(G7530=\"\",\"\",VLOOKUP(G7530,'Lista de precios'!$B$7:$C$5000,2,0))","v":""}]
[null,null,"",null,null,null,null,{"$f":"IF(G7531=\"\",\"\",VLOOKUP(G7531,'Lista de precios'!$B$7:$C$5000,2,0))","v":""}]
[null,null,"",null,null,null,null,{"$f":"IF(G7532=\"\",\"\",VLOOKUP(G7532,'Lista de precios'!$B$7:$C$5000,2,0))","v":""}]
[null,null,"",null,null,null,null,{"$f":"IF(G7533=\"\",\"\",VLOOKUP(G7533,'Lista de precios'!$B$7:$C$5000,2,0))","v":""}]
[null,null,"",null,null,null,null,{"$f":"IF(G7534=\"\",\"\",VLOOKUP(G7534,'Lista de precios'!$B$7:$C$5000,2,0))","v":""}]
[null,null,"",null,null,null,null,{"$f":"IF(G7535=\"\",\"\",VLOOKUP(G7535,'Lista de precios'!$B$7:$C$5000,2,0))","v":""}]
[null,null,"",null,null,null,null,{"$f":"IF(G7536=\"\",\"\",VLOOKUP(G7536,'Lista de precios'!$B$7:$C$5000,2,0))","v":""}]
[null,null,"",null,null,null,null,{"$f":"IF(G7537=\"\",\"\",VLOOKUP(G7537,'Lista de precios'!$B$7:$C$5000,2,0))","v":""}]
[null,null,"",null,null,null,null,{"$f":"IF(G7538=\"\",\"\",VLOOKUP(G7538,'Lista de precios'!$B$7:$C$5000,2,0))","v":""}]
[null,null,"",null,null,null,null,{"$f":"IF(G7539=\"\",\"\",VLOOKUP(G7539,'Lista de precios'!$B$7:$C$5000,2,0))","v":""}]
[null,null,"",null,null,null,null,{"$f":"IF(G7540=\"\",\"\",VLOOKUP(G7540,'Lista de precios'!$B$7:$C$5000,2,0))","v":""}]
[null,null,"",null,null,null,null,{"$f":"IF(G7541=\"\",\"\",VLOOKUP(G7541,'Lista de precios'!$B$7:$C$5000,2,0))","v":""}]
[null,null,"",null,null,null,null,{"$f":"IF(G7542=\"\",\"\",VLOOKUP(G7542,'Lista de precios'!$B$7:$C$5000,2,0))","v":""}]
[null,null,"",null,null,null,null,{"$f":"IF(G7543=\"\",\"\",VLOOKUP(G7543,'Lista de precios'!$B$7:$C$5000,2,0))","v":""}]
[null,null,"",null,null,null,null,{"$f":"IF(G7544=\"\",\"\",VLOOKUP(G7544,'Lista de precios'!$B$7:$C$5000,2,0))","v":""}]
[null,null,"",null,null,null,null,{"$f":"IF(G7545=\"\",\"\",VLOOKUP(G7545,'Lista de precios'!$B$7:$C$5000,2,0))","v":""}]
[null,null,"",null,null,null,null,{"$f":"IF(G7546=\"\",\"\",VLOOKUP(G7546,'Lista de precios'!$B$7:$C$5000,2,0))","v":""}]
[null,null,"",null,null,null,null,{"$f":"IF(G7547=\"\",\"\",VLOOKUP(G7547,'Lista de precios'!$B$7:$C$5000,2,0))","v":""}]
[null,null,"",null,null,null,null,{"$f":"IF(G7548=\"\",\"\",VLOOKUP(G7548,'Lista de precios'!$B$7:$C$5000,2,0))","v":""}]
[null,null,"",null,null,null,null,{"$f":"IF(G7549=\"\",\"\",VLOOKUP(G7549,'Lista de precios'!$B$7:$C$5000,2,0))","v":""}]
[null,null,"",null,null,null,null,{"$f":"IF(G7550=\"\",\"\",VLOOKUP(G7550,'Lista de precios'!$B$7:$C$5000,2,0))","v":""}]
[null,null,"",null,null,null,null,{"$f":"IF(G7551=\"\",\"\",VLOOKUP(G7551,'Lista de precios'!$B$7:$C$5000,2,0))","v":""}]
[null,null,"",null,null,null,null,{"$f":"IF(G7552=\"\",\"\",VLOOKUP(G7552,'Lista de precios'!$B$7:$C$5000,2,0))","v":""}]
[null,null,"",null,null,null,null,{"$f":"IF(G7553=\"\",\"\",VLOOKUP(G7553,'Lista de precios'!$B$7:$C$5000,2,0))","v":""}]
[null,null,"",null,null,null,null,{"$f":"IF(G7554=\"\",\"\",VLOOKUP(G7554,'Lista de precios'!$B$7:$C$5000,2,0))","v":""}]
[null,null,"",null,null,null,null,{"$f":"IF(G7555=\"\",\"\",VLOOKUP(G7555,'Lista de precios'!$B$7:$C$5000,2,0))","v":""}]
[null,null,"",null,null,null,null,{"$f":"IF(G7556=\"\",\"\",VLOOKUP(G7556,'Lista de precios'!$B$7:$C$5000,2,0))","v":""}]
[null,null,"",null,null,null,null,{"$f":"IF(G7557=\"\",\"\",VLOOKUP(G7557,'Lista de precios'!$B$7:$C$5000,2,0))","v":""}]
[null,null,"",null,null,null,null,{"$f":"IF(G7558=\"\",\"\",VLOOKUP(G7558,'Lista de precios'!$B$7:$C$5000,2,0))","v":""}]
[null,null,"",null,null,null,null,{"$f":"IF(G7559=\"\",\"\",VLOOKUP(G7559,'Lista de precios'!$B$7:$C$5000,2,0))","v":""}]
[null,null,"",null,null,null,null,{"$f":"IF(G7560=\"\",\"\",VLOOKUP(G7560,'Lista de precios'!$B$7:$C$5000,2,0))","v":""}]
[null,null,"",null,null,null,null,{"$f":"IF(G7561=\"\",\"\",VLOOKUP(G7561,'Lista de precios'!$B$7:$C$5000,2,0))","v":""}]
[null,null,"",null,null,null,null,{"$f":"IF(G7562=\"\",\"\",VLOOKUP(G7562,'Lista de precios'!$B$7:$C$5000,2,0))","v":""}]
[null,null,"",null,null,null,null,{"$f":"IF(G7563=\"\",\"\",VLOOKUP(G7563,'Lista de precios'!$B$7:$C$5000,2,0))","v":""}]
[null,null,{"$f":"IF(B7564=\"\",\"\",TEXT(B7564,\"Mmmm\"))","v":""},null,null,null,null,{"$f":"IF(G7564=\"\",\"\",VLOOKUP(G7564,'Lista de precios'!$B$7:$C$5000,2,0))","v":""}]
[null,null,"",null,null,null,null,{"$f":"IF(G7565=\"\",\"\",VLOOKUP(G7565,'Lista de precios'!$B$7:$C$5000,2,0))","v":""}]
[null,null,"",null,null,null,null,{"$f":"IF(G7566=\"\",\"\",VLOOKUP(G7566,'Lista de precios'!$B$7:$C$5000,2,0))","v":""}]
[null,null,"",null,null,null,null,{"$f":"IF(G7567=\"\",\"\",VLOOKUP(G7567,'Lista de precios'!$B$7:$C$5000,2,0))","v":""}]
[null,null,"",null,null,null,null,{"$f":"IF(G7568=\"\",\"\",VLOOKUP(G7568,'Lista de precios'!$B$7:$C$5000,2,0))","v":""}]
[null,null,"",null,null,null,null,{"$f":"IF(G7569=\"\",\"\",VLOOKUP(G7569,'Lista de precios'!$B$7:$C$5000,2,0))","v":""}]
[null,null,"",null,null,null,null,{"$f":"IF(G7570=\"\",\"\",VLOOKUP(G7570,'Lista de precios'!$B$7:$C$5000,2,0))","v":""}]
[null,null,"",null,null,null,null,{"$f":"IF(G7571=\"\",\"\",VLOOKUP(G7571,'Lista de precios'!$B$7:$C$5000,2,0))","v":""}]
[null,null,"",null,null,null,null,{"$f":"IF(G7572=\"\",\"\",VLOOKUP(G7572,'Lista de precios'!$B$7:$C$5000,2,0))","v":""}]
[null,null,"",null,null,null,null,{"$f":"IF(G7573=\"\",\"\",VLOOKUP(G7573,'Lista de precios'!$B$7:$C$5000,2,0))","v":""}]
[null,null,"",null,null,null,null,{"$f":"IF(G7574=\"\",\"\",VLOOKUP(G7574,'Lista de precios'!$B$7:$C$5000,2,0))","v":""}]
[null,null,"",null,null,null,null,{"$f":"IF(G7575=\"\",\"\",VLOOKUP(G7575,'Lista de precios'!$B$7:$C$5000,2,0))","v":""}]
[null,null,"",null,null,null,null,{"$f":"IF(G7576=\"\",\"\",VLOOKUP(G7576,'Lista de precios'!$B$7:$C$5000,2,0))","v":""}]
[null,null,"",null,null,null,null,{"$f":"IF(G7577=\"\",\"\",VLOOKUP(G7577,'Lista de precios'!$B$7:$C$5000,2,0))","v":""}]
[null,null,"",null,null,null,null,{"$f":"IF(G7578=\"\",\"\",VLOOKUP(G7578,'Lista de precios'!$B$7:$C$5000,2,0))","v":""}]
[null,null,"",null,null,null,null,{"$f":"IF(G7579=\"\",\"\",VLOOKUP(G7579,'Lista de precios'!$B$7:$C$5000,2,0))","v":""}]
[null,null,"",null,null,null,null,{"$f":"IF(G7580=\"\",\"\",VLOOKUP(G7580,'Lista de precios'!$B$7:$C$5000,2,0))","v":""}]
[null,null,"",null,null,null,null,{"$f":"IF(G7581=\"\",\"\",VLOOKUP(G7581,'Lista de precios'!$B$7:$C$5000,2,0))","v":""}]
[null,null,"",null,null,null,null,{"$f":"IF(G7582=\"\",\"\",VLOOKUP(G7582,'Lista de precios'!$B$7:$C$5000,2,0))","v":""}]
[null,null,"",null,null,null,null,{"$f":"IF(G7583=\"\",\"\",VLOOKUP(G7583,'Lista de precios'!$B$7:$C$5000,2,0))","v":""}]
[null,null,"",null,null,null,null,{"$f":"IF(G7584=\"\",\"\",VLOOKUP(G7584,'Lista de precios'!$B$7:$C$5000,2,0))","v":""}]
[null,null,"",null,null,null,null,{"$f":"IF(G7585=\"\",\"\",VLOOKUP(G7585,'Lista de precios'!$B$7:$C$5000,2,0))","v":""}]
[null,null,"",null,null,null,null,{"$f":"IF(G7586=\"\",\"\",VLOOKUP(G7586,'Lista de precios'!$B$7:$C$5000,2,0))","v":""}]
[null,null,"",null,null,null,null,{"$f":"IF(G7587=\"\",\"\",VLOOKUP(G7587,'Lista de precios'!$B$7:$C$5000,2,0))","v":""}]
[null,null,"",null,null,null,null,{"$f":"IF(G7588=\"\",\"\",VLOOKUP(G7588,'Lista de precios'!$B$7:$C$5000,2,0))","v":""}]
[null,null,"",null,null,null,null,{"$f":"IF(G7589=\"\",\"\",VLOOKUP(G7589,'Lista de precios'!$B$7:$C$5000,2,0))","v":""}]
[null,null,"",null,null,null,null,{"$f":"IF(G7590=\"\",\"\",VLOOKUP(G7590,'Lista de precios'!$B$7:$C$5000,2,0))","v":""}]
[null,null,"",null,null,null,null,{"$f":"IF(G7591=\"\",\"\",VLOOKUP(G7591,'Lista de precios'!$B$7:$C$5000,2,0))","v":""}]
[null,null,"",null,null,null,null,{"$f":"IF(G7592=\"\",\"\",VLOOKUP(G7592,'Lista de precios'!$B$7:$C$5000,2,0))","v":""}]
[null,null,"",null,null,null,null,{"$f":"IF(G7593=\"\",\"\",VLOOKUP(G7593,'Lista de precios'!$B$7:$C$5000,2,0))","v":""}]
[null,null,"",null,null,null,null,{"$f":"IF(G7594=\"\",\"\",VLOOKUP(G7594,'Lista de precios'!$B$7:$C$5000,2,0))","v":""}]
[null,null,"",null,null,null,null,{"$f":"IF(G7595=\"\",\"\",VLOOKUP(G7595,'Lista de precios'!$B$7:$C$5000,2,0))","v":""}]
[null,null,"",null,null,null,null,{"$f":"IF(G7596=\"\",\"\",VLOOKUP(G7596,'Lista de precios'!$B$7:$C$5000,2,0))","v":""}]
[null,null,"",null,null,null,null,{"$f":"IF(G7597=\"\",\"\",VLOOKUP(G7597,'Lista de precios'!$B$7:$C$5000,2,0))","v":""}]
[null,null,"",null,null,null,null,{"$f":"IF(G7598=\"\",\"\",VLOOKUP(G7598,'Lista de precios'!$B$7:$C$5000,2,0))","v":""}]
[null,null,"",null,null,null,null,{"$f":"IF(G7599=\"\",\"\",VLOOKUP(G7599,'Lista de precios'!$B$7:$C$5000,2,0))","v":""}]
[null,null,"",null,null,null,null,{"$f":"IF(G7600=\"\",\"\",VLOOKUP(G7600,'Lista de precios'!$B$7:$C$5000,2,0))","v":""}]
[null,null,"",null,null,null,null,{"$f":"IF(G7601=\"\",\"\",VLOOKUP(G7601,'Lista de precios'!$B$7:$C$5000,2,0))","v":""}]
[null,null,"",null,null,null,null,{"$f":"IF(G7602=\"\",\"\",VLOOKUP(G7602,'Lista de precios'!$B$7:$C$5000,2,0))","v":""}]
[null,null,"",null,null,null,null,{"$f":"IF(G7603=\"\",\"\",VLOOKUP(G7603,'Lista de precios'!$B$7:$C$5000,2,0))","v":""}]
[null,null,"",null,null,null,null,{"$f":"IF(G7604=\"\",\"\",VLOOKUP(G7604,'Lista de precios'!$B$7:$C$5000,2,0))","v":""}]
[null,null,"",null,null,null,null,{"$f":"IF(G7605=\"\",\"\",VLOOKUP(G7605,'Lista de precios'!$B$7:$C$5000,2,0))","v":""}]
[null,null,"",null,null,null,null,{"$f":"IF(G7606=\"\",\"\",VLOOKUP(G7606,'Lista de precios'!$B$7:$C$5000,2,0))","v":""}]
[null,null,"",null,null,null,null,{"$f":"IF(G7607=\"\",\"\",VLOOKUP(G7607,'Lista de precios'!$B$7:$C$5000,2,0))","v":""}]
[null,null,"",null,null,null,null,{"$f":"IF(G7608=\"\",\"\",VLOOKUP(G7608,'Lista de precios'!$B$7:$C$5000,2,0))","v":""}]
[null,null,"",null,null,null,null,{"$f":"IF(G7609=\"\",\"\",VLOOKUP(G7609,'Lista de precios'!$B$7:$C$5000,2,0))","v":""}]
[null,null,"",null,null,null,null,{"$f":"IF(G7610=\"\",\"\",VLOOKUP(G7610,'Lista de precios'!$B$7:$C$5000,2,0))","v":""}]
[null,null,"",null,null,null,null,{"$f":"IF(G7611=\"\",\"\",VLOOKUP(G7611,'Lista de precios'!$B$7:$C$5000,2,0))","v":""}]
[null,null,"",null,null,null,null,{"$f":"IF(G7612=\"\",\"\",VLOOKUP(G7612,'Lista de precios'!$B$7:$C$5000,2,0))","v":""}]
[null,null,"",null,null,null,null,{"$f":"IF(G7613=\"\",\"\",VLOOKUP(G7613,'Lista de precios'!$B$7:$C$5000,2,0))","v":""}]
[null,null,"",null,null,null,null,{"$f":"IF(G7614=\"\",\"\",VLOOKUP(G7614,'Lista de precios'!$B$7:$C$5000,2,0))","v":""}]
[null,null,"",null,null,null,null,{"$f":"IF(G7615=\"\",\"\",VLOOKUP(G7615,'Lista de precios'!$B$7:$C$5000,2,0))","v":""}]
[null,null,"",null,null,null,null,{"$f":"IF(G7616=\"\",\"\",VLOOKUP(G7616,'Lista de precios'!$B$7:$C$5000,2,0))","v":""}]
[null,null,"",null,null,null,null,{"$f":"IF(G7617=\"\",\"\",VLOOKUP(G7617,'Lista de precios'!$B$7:$C$5000,2,0))","v":""}]
[null,null,"",null,null,null,null,{"$f":"IF(G7618=\"\",\"\",VLOOKUP(G7618,'Lista de precios'!$B$7:$C$5000,2,0))","v":""}]
[null,null,"",null,null,null,null,{"$f":"IF(G7619=\"\",\"\",VLOOKUP(G7619,'Lista de precios'!$B$7:$C$5000,2,0))","v":""}]
[null,null,"",null,null,null,null,{"$f":"IF(G7620=\"\",\"\",VLOOKUP(G7620,'Lista de precios'!$B$7:$C$5000,2,0))","v":""}]
[null,null,"",null,null,null,null,{"$f":"IF(G7621=\"\",\"\",VLOOKUP(G7621,'Lista de precios'!$B$7:$C$5000,2,0))","v":""}]
[null,null,"",null,null,null,null,{"$f":"IF(G7622=\"\",\"\",VLOOKUP(G7622,'Lista de precios'!$B$7:$C$5000,2,0))","v":""}]
[null,null,"",null,null,null,null,{"$f":"IF(G7623=\"\",\"\",VLOOKUP(G7623,'Lista de precios'!$B$7:$C$5000,2,0))","v":""}]
[null,null,"",null,null,null,null,{"$f":"IF(G7624=\"\",\"\",VLOOKUP(G7624,'Lista de precios'!$B$7:$C$5000,2,0))","v":""}]
[null,null,"",null,null,null,null,{"$f":"IF(G7625=\"\",\"\",VLOOKUP(G7625,'Lista de precios'!$B$7:$C$5000,2,0))","v":""}]
[null,null,"",null,null,null,null,{"$f":"IF(G7626=\"\",\"\",VLOOKUP(G7626,'Lista de precios'!$B$7:$C$5000,2,0))","v":""}]
[null,null,"",null,null,null,null,{"$f":"IF(G7627=\"\",\"\",VLOOKUP(G7627,'Lista de precios'!$B$7:$C$5000,2,0))","v":""}]
[null,null,{"$f":"IF(B7628=\"\",\"\",TEXT(B7628,\"Mmmm\"))","v":""},null,null,null,null,{"$f":"IF(G7628=\"\",\"\",VLOOKUP(G7628,'Lista de precios'!$B$7:$C$5000,2,0))","v":""}]
[null,null,"",null,null,null,null,{"$f":"IF(G7629=\"\",\"\",VLOOKUP(G7629,'Lista de precios'!$B$7:$C$5000,2,0))","v":""}]
[null,null,"",null,null,null,null,{"$f":"IF(G7630=\"\",\"\",VLOOKUP(G7630,'Lista de precios'!$B$7:$C$5000,2,0))","v":""}]
[null,null,"",null,null,null,null,{"$f":"IF(G7631=\"\",\"\",VLOOKUP(G7631,'Lista de precios'!$B$7:$C$5000,2,0))","v":""}]
[null,null,"",null,null,null,null,{"$f":"IF(G7632=\"\",\"\",VLOOKUP(G7632,'Lista de precios'!$B$7:$C$5000,2,0))","v":""}]
[null,null,"",null,null,null,null,{"$f":"IF(G7633=\"\",\"\",VLOOKUP(G7633,'Lista de precios'!$B$7:$C$5000,2,0))","v":""}]
[null,null,"",null,null,null,null,{"$f":"IF(G7634=\"\",\"\",VLOOKUP(G7634,'Lista de precios'!$B$7:$C$5000,2,0))","v":""}]
[null,null,"",null,null,null,null,{"$f":"IF(G7635=\"\",\"\",VLOOKUP(G7635,'Lista de precios'!$B$7:$C$5000,2,0))","v":""}]
[null,null,"",null,null,null,null,{"$f":"IF(G7636=\"\",\"\",VLOOKUP(G7636,'Lista de precios'!$B$7:$C$5000,2,0))","v":""}]
[null,null,"",null,null,null,null,{"$f":"IF(G7637=\"\",\"\",VLOOKUP(G7637,'Lista de precios'!$B$7:$C$5000,2,0))","v":""}]
[null,null,"",null,null,null,null,{"$f":"IF(G7638=\"\",\"\",VLOOKUP(G7638,'Lista de precios'!$B$7:$C$5000,2,0))","v":""}]
[null,null,"",null,null,null,null,{"$f":"IF(G7639=\"\",\"\",VLOOKUP(G7639,'Lista de precios'!$B$7:$C$5000,2,0))","v":""}]
[null,null,"",null,null,null,null,{"$f":"IF(G7640=\"\",\"\",VLOOKUP(G7640,'Lista de precios'!$B$7:$C$5000,2,0))","v":""}]
[null,null,"",null,null,null,null,{"$f":"IF(G7641=\"\",\"\",VLOOKUP(G7641,'Lista de precios'!$B$7:$C$5000,2,0))","v":""}]
[null,null,"",null,null,null,null,{"$f":"IF(G7642=\"\",\"\",VLOOKUP(G7642,'Lista de precios'!$B$7:$C$5000,2,0))","v":""}]
[null,null,"",null,null,null,null,{"$f":"IF(G7643=\"\",\"\",VLOOKUP(G7643,'Lista de precios'!$B$7:$C$5000,2,0))","v":""}]
[null,null,"",null,null,null,null,{"$f":"IF(G7644=\"\",\"\",VLOOKUP(G7644,'Lista de precios'!$B$7:$C$5000,2,0))","v":""}]
[null,null,"",null,null,null,null,{"$f":"IF(G7645=\"\",\"\",VLOOKUP(G7645,'Lista de precios'!$B$7:$C$5000,2,0))","v":""}]
[null,null,"",null,null,null,null,{"$f":"IF(G7646=\"\",\"\",VLOOKUP(G7646,'Lista de precios'!$B$7:$C$5000,2,0))","v":""}]
[null,null,"",null,null,null,null,{"$f":"IF(G7647=\"\",\"\",VLOOKUP(G7647,'Lista de precios'!$B$7:$C$5000,2,0))","v":""}]
[null,null,"",null,null,null,null,{"$f":"IF(G7648=\"\",\"\",VLOOKUP(G7648,'Lista de precios'!$B$7:$C$5000,2,0))","v":""}]
[null,null,"",null,null,null,null,{"$f":"IF(G7649=\"\",\"\",VLOOKUP(G7649,'Lista de precios'!$B$7:$C$5000,2,0))","v":""}]
[null,null,"",null,null,null,null,{"$f":"IF(G7650=\"\",\"\",VLOOKUP(G7650,'Lista de precios'!$B$7:$C$5000,2,0))","v":""}]
[null,null,"",null,null,null,null,{"$f":"IF(G7651=\"\",\"\",VLOOKUP(G7651,'Lista de precios'!$B$7:$C$5000,2,0))","v":""}]
[null,null,"",null,null,null,null,{"$f":"IF(G7652=\"\",\"\",VLOOKUP(G7652,'Lista de precios'!$B$7:$C$5000,2,0))","v":""}]
[null,null,"",null,null,null,null,{"$f":"IF(G7653=\"\",\"\",VLOOKUP(G7653,'Lista de precios'!$B$7:$C$5000,2,0))","v":""}]
[null,null,"",null,null,null,null,{"$f":"IF(G7654=\"\",\"\",VLOOKUP(G7654,'Lista de precios'!$B$7:$C$5000,2,0))","v":""}]
[null,null,"",null,null,null,null,{"$f":"IF(G7655=\"\",\"\",VLOOKUP(G7655,'Lista de precios'!$B$7:$C$5000,2,0))","v":""}]
[null,null,"",null,null,null,null,{"$f":"IF(G7656=\"\",\"\",VLOOKUP(G7656,'Lista de precios'!$B$7:$C$5000,2,0))","v":""}]
[null,null,"",null,null,null,null,{"$f":"IF(G7657=\"\",\"\",VLOOKUP(G7657,'Lista de precios'!$B$7:$C$5000,2,0))","v":""}]
[null,null,"",null,null,null,null,{"$f":"IF(G7658=\"\",\"\",VLOOKUP(G7658,'Lista de precios'!$B$7:$C$5000,2,0))","v":""}]
[null,null,"",null,null,null,null,{"$f":"IF(G7659=\"\",\"\",VLOOKUP(G7659,'Lista de precios'!$B$7:$C$5000,2,0))","v":""}]
[null,null,"",null,null,null,null,{"$f":"IF(G7660=\"\",\"\",VLOOKUP(G7660,'Lista de precios'!$B$7:$C$5000,2,0))","v":""}]
[null,null,"",null,null,null,null,{"$f":"IF(G7661=\"\",\"\",VLOOKUP(G7661,'Lista de precios'!$B$7:$C$5000,2,0))","v":""}]
[null,null,"",null,null,null,null,{"$f":"IF(G7662=\"\",\"\",VLOOKUP(G7662,'Lista de precios'!$B$7:$C$5000,2,0))","v":""}]
[null,null,"",null,null,null,null,{"$f":"IF(G7663=\"\",\"\",VLOOKUP(G7663,'Lista de precios'!$B$7:$C$5000,2,0))","v":""}]
[null,null,"",null,null,null,null,{"$f":"IF(G7664=\"\",\"\",VLOOKUP(G7664,'Lista de precios'!$B$7:$C$5000,2,0))","v":""}]
[null,null,"",null,null,null,null,{"$f":"IF(G7665=\"\",\"\",VLOOKUP(G7665,'Lista de precios'!$B$7:$C$5000,2,0))","v":""}]
[null,null,"",null,null,null,null,{"$f":"IF(G7666=\"\",\"\",VLOOKUP(G7666,'Lista de precios'!$B$7:$C$5000,2,0))","v":""}]
[null,null,"",null,null,null,null,{"$f":"IF(G7667=\"\",\"\",VLOOKUP(G7667,'Lista de precios'!$B$7:$C$5000,2,0))","v":""}]
[null,null,"",null,null,null,null,{"$f":"IF(G7668=\"\",\"\",VLOOKUP(G7668,'Lista de precios'!$B$7:$C$5000,2,0))","v":""}]
[null,null,"",null,null,null,null,{"$f":"IF(G7669=\"\",\"\",VLOOKUP(G7669,'Lista de precios'!$B$7:$C$5000,2,0))","v":""}]
[null,null,"",null,null,null,null,{"$f":"IF(G7670=\"\",\"\",VLOOKUP(G7670,'Lista de precios'!$B$7:$C$5000,2,0))","v":""}]
[null,null,"",null,null,null,null,{"$f":"IF(G7671=\"\",\"\",VLOOKUP(G7671,'Lista de precios'!$B$7:$C$5000,2,0))","v":""}]
[null,null,"",null,null,null,null,{"$f":"IF(G7672=\"\",\"\",VLOOKUP(G7672,'Lista de precios'!$B$7:$C$5000,2,0))","v":""}]
[null,null,"",null,null,null,null,{"$f":"IF(G7673=\"\",\"\",VLOOKUP(G7673,'Lista de precios'!$B$7:$C$5000,2,0))","v":""}]
[null,null,"",null,null,null,null,{"$f":"IF(G7674=\"\",\"\",VLOOKUP(G7674,'Lista de precios'!$B$7:$C$5000,2,0))","v":""}]
[null,null,"",null,null,null,null,{"$f":"IF(G7675=\"\",\"\",VLOOKUP(G7675,'Lista de precios'!$B$7:$C$5000,2,0))","v":""}]
[null,null,"",null,null,null,null,{"$f":"IF(G7676=\"\",\"\",VLOOKUP(G7676,'Lista de precios'!$B$7:$C$5000,2,0))","v":""}]
[null,null,"",null,null,null,null,{"$f":"IF(G7677=\"\",\"\",VLOOKUP(G7677,'Lista de precios'!$B$7:$C$5000,2,0))","v":""}]
[null,null,"",null,null,null,null,{"$f":"IF(G7678=\"\",\"\",VLOOKUP(G7678,'Lista de precios'!$B$7:$C$5000,2,0))","v":""}]
[null,null,"",null,null,null,null,{"$f":"IF(G7679=\"\",\"\",VLOOKUP(G7679,'Lista de precios'!$B$7:$C$5000,2,0))","v":""}]
[null,null,"",null,null,null,null,{"$f":"IF(G7680=\"\",\"\",VLOOKUP(G7680,'Lista de precios'!$B$7:$C$5000,2,0))","v":""}]
[null,null,"",null,null,null,null,{"$f":"IF(G7681=\"\",\"\",VLOOKUP(G7681,'Lista de precios'!$B$7:$C$5000,2,0))","v":""}]
[null,null,"",null,null,null,null,{"$f":"IF(G7682=\"\",\"\",VLOOKUP(G7682,'Lista de precios'!$B$7:$C$5000,2,0))","v":""}]
[null,null,"",null,null,null,null,{"$f":"IF(G7683=\"\",\"\",VLOOKUP(G7683,'Lista de precios'!$B$7:$C$5000,2,0))","v":""}]
[null,null,"",null,null,null,null,{"$f":"IF(G7684=\"\",\"\",VLOOKUP(G7684,'Lista de precios'!$B$7:$C$5000,2,0))","v":""}]
[null,null,"",null,null,null,null,{"$f":"IF(G7685=\"\",\"\",VLOOKUP(G7685,'Lista de precios'!$B$7:$C$5000,2,0))","v":""}]
[null,null,"",null,null,null,null,{"$f":"IF(G7686=\"\",\"\",VLOOKUP(G7686,'Lista de precios'!$B$7:$C$5000,2,0))","v":""}]
[null,null,"",null,null,null,null,{"$f":"IF(G7687=\"\",\"\",VLOOKUP(G7687,'Lista de precios'!$B$7:$C$5000,2,0))","v":""}]
[null,null,"",null,null,null,null,{"$f":"IF(G7688=\"\",\"\",VLOOKUP(G7688,'Lista de precios'!$B$7:$C$5000,2,0))","v":""}]
[null,null,"",null,null,null,null,{"$f":"IF(G7689=\"\",\"\",VLOOKUP(G7689,'Lista de precios'!$B$7:$C$5000,2,0))","v":""}]
[null,null,"",null,null,null,null,{"$f":"IF(G7690=\"\",\"\",VLOOKUP(G7690,'Lista de precios'!$B$7:$C$5000,2,0))","v":""}]
[null,null,"",null,null,null,null,{"$f":"IF(G7691=\"\",\"\",VLOOKUP(G7691,'Lista de precios'!$B$7:$C$5000,2,0))","v":""}]
[null,null,{"$f":"IF(B7692=\"\",\"\",TEXT(B7692,\"Mmmm\"))","v":""},null,null,null,null,{"$f":"IF(G7692=\"\",\"\",VLOOKUP(G7692,'Lista de precios'!$B$7:$C$5000,2,0))","v":""}]
[null,null,"",null,null,null,null,{"$f":"IF(G7693=\"\",\"\",VLOOKUP(G7693,'Lista de precios'!$B$7:$C$5000,2,0))","v":""}]
[null,null,"",null,null,null,null,{"$f":"IF(G7694=\"\",\"\",VLOOKUP(G7694,'Lista de precios'!$B$7:$C$5000,2,0))","v":""}]
[null,null,"",null,null,null,null,{"$f":"IF(G7695=\"\",\"\",VLOOKUP(G7695,'Lista de precios'!$B$7:$C$5000,2,0))","v":""}]
[null,null,"",null,null,null,null,{"$f":"IF(G7696=\"\",\"\",VLOOKUP(G7696,'Lista de precios'!$B$7:$C$5000,2,0))","v":""}]
[null,null,"",null,null,null,null,{"$f":"IF(G7697=\"\",\"\",VLOOKUP(G7697,'Lista de precios'!$B$7:$C$5000,2,0))","v":""}]
[null,null,"",null,null,null,null,{"$f":"IF(G7698=\"\",\"\",VLOOKUP(G7698,'Lista de precios'!$B$7:$C$5000,2,0))","v":""}]
[null,null,"",null,null,null,null,{"$f":"IF(G7699=\"\",\"\",VLOOKUP(G7699,'Lista de precios'!$B$7:$C$5000,2,0))","v":""}]
[null,null,"",null,null,null,null,{"$f":"IF(G7700=\"\",\"\",VLOOKUP(G7700,'Lista de precios'!$B$7:$C$5000,2,0))","v":""}]
[null,null,"",null,null,null,null,{"$f":"IF(G7701=\"\",\"\",VLOOKUP(G7701,'Lista de precios'!$B$7:$C$5000,2,0))","v":""}]
[null,null,"",null,null,null,null,{"$f":"IF(G7702=\"\",\"\",VLOOKUP(G7702,'Lista de precios'!$B$7:$C$5000,2,0))","v":""}]
[null,null,"",null,null,null,null,{"$f":"IF(G7703=\"\",\"\",VLOOKUP(G7703,'Lista de precios'!$B$7:$C$5000,2,0))","v":""}]
[null,null,"",null,null,null,null,{"$f":"IF(G7704=\"\",\"\",VLOOKUP(G7704,'Lista de precios'!$B$7:$C$5000,2,0))","v":""}]
[null,null,"",null,null,null,null,{"$f":"IF(G7705=\"\",\"\",VLOOKUP(G7705,'Lista de precios'!$B$7:$C$5000,2,0))","v":""}]
[null,null,"",null,null,null,null,{"$f":"IF(G7706=\"\",\"\",VLOOKUP(G7706,'Lista de precios'!$B$7:$C$5000,2,0))","v":""}]
[null,null,"",null,null,null,null,{"$f":"IF(G7707=\"\",\"\",VLOOKUP(G7707,'Lista de precios'!$B$7:$C$5000,2,0))","v":""}]
[null,null,"",null,null,null,null,{"$f":"IF(G7708=\"\",\"\",VLOOKUP(G7708,'Lista de precios'!$B$7:$C$5000,2,0))","v":""}]
[null,null,"",null,null,null,null,{"$f":"IF(G7709=\"\",\"\",VLOOKUP(G7709,'Lista de precios'!$B$7:$C$5000,2,0))","v":""}]
[null,null,"",null,null,null,null,{"$f":"IF(G7710=\"\",\"\",VLOOKUP(G7710,'Lista de precios'!$B$7:$C$5000,2,0))","v":""}]
[null,null,"",null,null,null,null,{"$f":"IF(G7711=\"\",\"\",VLOOKUP(G7711,'Lista de precios'!$B$7:$C$5000,2,0))","v":""}]
[null,null,"",null,null,null,null,{"$f":"IF(G7712=\"\",\"\",VLOOKUP(G7712,'Lista de precios'!$B$7:$C$5000,2,0))","v":""}]
[null,null,"",null,null,null,null,{"$f":"IF(G7713=\"\",\"\",VLOOKUP(G7713,'Lista de precios'!$B$7:$C$5000,2,0))","v":""}]
[null,null,"",null,null,null,null,{"$f":"IF(G7714=\"\",\"\",VLOOKUP(G7714,'Lista de precios'!$B$7:$C$5000,2,0))","v":""}]
[null,null,"",null,null,null,null,{"$f":"IF(G7715=\"\",\"\",VLOOKUP(G7715,'Lista de precios'!$B$7:$C$5000,2,0))","v":""}]
[null,null,"",null,null,null,null,{"$f":"IF(G7716=\"\",\"\",VLOOKUP(G7716,'Lista de precios'!$B$7:$C$5000,2,0))","v":""}]
[null,null,"",null,null,null,null,{"$f":"IF(G7717=\"\",\"\",VLOOKUP(G7717,'Lista de precios'!$B$7:$C$5000,2,0))","v":""}]
[null,null,"",null,null,null,null,{"$f":"IF(G7718=\"\",\"\",VLOOKUP(G7718,'Lista de precios'!$B$7:$C$5000,2,0))","v":""}]
[null,null,"",null,null,null,null,{"$f":"IF(G7719=\"\",\"\",VLOOKUP(G7719,'Lista de precios'!$B$7:$C$5000,2,0))","v":""}]
[null,null,"",null,null,null,null,{"$f":"IF(G7720=\"\",\"\",VLOOKUP(G7720,'Lista de precios'!$B$7:$C$5000,2,0))","v":""}]
[null,null,"",null,null,null,null,{"$f":"IF(G7721=\"\",\"\",VLOOKUP(G7721,'Lista de precios'!$B$7:$C$5000,2,0))","v":""}]
[null,null,"",null,null,null,null,{"$f":"IF(G7722=\"\",\"\",VLOOKUP(G7722,'Lista de precios'!$B$7:$C$5000,2,0))","v":""}]
[null,null,"",null,null,null,null,{"$f":"IF(G7723=\"\",\"\",VLOOKUP(G7723,'Lista de precios'!$B$7:$C$5000,2,0))","v":""}]
[null,null,"",null,null,null,null,{"$f":"IF(G7724=\"\",\"\",VLOOKUP(G7724,'Lista de precios'!$B$7:$C$5000,2,0))","v":""}]
[null,null,"",null,null,null,null,{"$f":"IF(G7725=\"\",\"\",VLOOKUP(G7725,'Lista de precios'!$B$7:$C$5000,2,0))","v":""}]
[null,null,"",null,null,null,null,{"$f":"IF(G7726=\"\",\"\",VLOOKUP(G7726,'Lista de precios'!$B$7:$C$5000,2,0))","v":""}]
[null,null,"",null,null,null,null,{"$f":"IF(G7727=\"\",\"\",VLOOKUP(G7727,'Lista de precios'!$B$7:$C$5000,2,0))","v":""}]
[null,null,"",null,null,null,null,{"$f":"IF(G7728=\"\",\"\",VLOOKUP(G7728,'Lista de precios'!$B$7:$C$5000,2,0))","v":""}]
[null,null,"",null,null,null,null,{"$f":"IF(G7729=\"\",\"\",VLOOKUP(G7729,'Lista de precios'!$B$7:$C$5000,2,0))","v":""}]
[null,null,"",null,null,null,null,{"$f":"IF(G7730=\"\",\"\",VLOOKUP(G7730,'Lista de precios'!$B$7:$C$5000,2,0))","v":""}]
[null,null,"",null,null,null,null,{"$f":"IF(G7731=\"\",\"\",VLOOKUP(G7731,'Lista de precios'!$B$7:$C$5000,2,0))","v":""}]
[null,null,"",null,null,null,null,{"$f":"IF(G7732=\"\",\"\",VLOOKUP(G7732,'Lista de precios'!$B$7:$C$5000,2,0))","v":""}]
[null,null,"",null,null,null,null,{"$f":"IF(G7733=\"\",\"\",VLOOKUP(G7733,'Lista de precios'!$B$7:$C$5000,2,0))","v":""}]
[null,null,"",null,null,null,null,{"$f":"IF(G7734=\"\",\"\",VLOOKUP(G7734,'Lista de precios'!$B$7:$C$5000,2,0))","v":""}]
[null,null,"",null,null,null,null,{"$f":"IF(G7735=\"\",\"\",VLOOKUP(G7735,'Lista de precios'!$B$7:$C$5000,2,0))","v":""}]
[null,null,"",null,null,null,null,{"$f":"IF(G7736=\"\",\"\",VLOOKUP(G7736,'Lista de precios'!$B$7:$C$5000,2,0))","v":""}]
[null,null,"",null,null,null,null,{"$f":"IF(G7737=\"\",\"\",VLOOKUP(G7737,'Lista de precios'!$B$7:$C$5000,2,0))","v":""}]
[null,null,"",null,null,null,null,{"$f":"IF(G7738=\"\",\"\",VLOOKUP(G7738,'Lista de precios'!$B$7:$C$5000,2,0))","v":""}]
[null,null,"",null,null,null,null,{"$f":"IF(G7739=\"\",\"\",VLOOKUP(G7739,'Lista de precios'!$B$7:$C$5000,2,0))","v":""}]
[null,null,"",null,null,null,null,{"$f":"IF(G7740=\"\",\"\",VLOOKUP(G7740,'Lista de precios'!$B$7:$C$5000,2,0))","v":""}]
[null,null,"",null,null,null,null,{"$f":"IF(G7741=\"\",\"\",VLOOKUP(G7741,'Lista de precios'!$B$7:$C$5000,2,0))","v":""}]
[null,null,"",null,null,null,null,{"$f":"IF(G7742=\"\",\"\",VLOOKUP(G7742,'Lista de precios'!$B$7:$C$5000,2,0))","v":""}]
[null,null,"",null,null,null,null,{"$f":"IF(G7743=\"\",\"\",VLOOKUP(G7743,'Lista de precios'!$B$7:$C$5000,2,0))","v":""}]
[null,null,"",null,null,null,null,{"$f":"IF(G7744=\"\",\"\",VLOOKUP(G7744,'Lista de precios'!$B$7:$C$5000,2,0))","v":""}]
[null,null,"",null,null,null,null,{"$f":"IF(G7745=\"\",\"\",VLOOKUP(G7745,'Lista de precios'!$B$7:$C$5000,2,0))","v":""}]
[null,null,"",null,null,null,null,{"$f":"IF(G7746=\"\",\"\",VLOOKUP(G7746,'Lista de precios'!$B$7:$C$5000,2,0))","v":""}]
[null,null,"",null,null,null,null,{"$f":"IF(G7747=\"\",\"\",VLOOKUP(G7747,'Lista de precios'!$B$7:$C$5000,2,0))","v":""}]
[null,null,"",null,null,null,null,{"$f":"IF(G7748=\"\",\"\",VLOOKUP(G7748,'Lista de precios'!$B$7:$C$5000,2,0))","v":""}]
[null,null,"",null,null,null,null,{"$f":"IF(G7749=\"\",\"\",VLOOKUP(G7749,'Lista de precios'!$B$7:$C$5000,2,0))","v":""}]
[null,null,"",null,null,null,null,{"$f":"IF(G7750=\"\",\"\",VLOOKUP(G7750,'Lista de precios'!$B$7:$C$5000,2,0))","v":""}]
[null,null,"",null,null,null,null,{"$f":"IF(G7751=\"\",\"\",VLOOKUP(G7751,'Lista de precios'!$B$7:$C$5000,2,0))","v":""}]
[null,null,"",null,null,null,null,{"$f":"IF(G7752=\"\",\"\",VLOOKUP(G7752,'Lista de precios'!$B$7:$C$5000,2,0))","v":""}]
[null,null,"",null,null,null,null,{"$f":"IF(G7753=\"\",\"\",VLOOKUP(G7753,'Lista de precios'!$B$7:$C$5000,2,0))","v":""}]
[null,null,"",null,null,null,null,{"$f":"IF(G7754=\"\",\"\",VLOOKUP(G7754,'Lista de precios'!$B$7:$C$5000,2,0))","v":""}]
[null,null,"",null,null,null,null,{"$f":"IF(G7755=\"\",\"\",VLOOKUP(G7755,'Lista de precios'!$B$7:$C$5000,2,0))","v":""}]
[null,null,{"$f":"IF(B7756=\"\",\"\",TEXT(B7756,\"Mmmm\"))","v":""},null,null,null,null,{"$f":"IF(G7756=\"\",\"\",VLOOKUP(G7756,'Lista de precios'!$B$7:$C$5000,2,0))","v":""}]
[null,null,"",null,null,null,null,{"$f":"IF(G7757=\"\",\"\",VLOOKUP(G7757,'Lista de precios'!$B$7:$C$5000,2,0))","v":""}]
[null,null,"",null,null,null,null,{"$f":"IF(G7758=\"\",\"\",VLOOKUP(G7758,'Lista de precios'!$B$7:$C$5000,2,0))","v":""}]
[null,null,"",null,null,null,null,{"$f":"IF(G7759=\"\",\"\",VLOOKUP(G7759,'Lista de precios'!$B$7:$C$5000,2,0))","v":""}]
[null,null,"",null,null,null,null,{"$f":"IF(G7760=\"\",\"\",VLOOKUP(G7760,'Lista de precios'!$B$7:$C$5000,2,0))","v":""}]
[null,null,"",null,null,null,null,{"$f":"IF(G7761=\"\",\"\",VLOOKUP(G7761,'Lista de precios'!$B$7:$C$5000,2,0))","v":""}]
[null,null,"",null,null,null,null,{"$f":"IF(G7762=\"\",\"\",VLOOKUP(G7762,'Lista de precios'!$B$7:$C$5000,2,0))","v":""}]
[null,null,"",null,null,null,null,{"$f":"IF(G7763=\"\",\"\",VLOOKUP(G7763,'Lista de precios'!$B$7:$C$5000,2,0))","v":""}]
[null,null,"",null,null,null,null,{"$f":"IF(G7764=\"\",\"\",VLOOKUP(G7764,'Lista de precios'!$B$7:$C$5000,2,0))","v":""}]
[null,null,"",null,null,null,null,{"$f":"IF(G7765=\"\",\"\",VLOOKUP(G7765,'Lista de precios'!$B$7:$C$5000,2,0))","v":""}]
[null,null,"",null,null,null,null,{"$f":"IF(G7766=\"\",\"\",VLOOKUP(G7766,'Lista de precios'!$B$7:$C$5000,2,0))","v":""}]
[null,null,"",null,null,null,null,{"$f":"IF(G7767=\"\",\"\",VLOOKUP(G7767,'Lista de precios'!$B$7:$C$5000,2,0))","v":""}]
[null,null,"",null,null,null,null,{"$f":"IF(G7768=\"\",\"\",VLOOKUP(G7768,'Lista de precios'!$B$7:$C$5000,2,0))","v":""}]
[null,null,"",null,null,null,null,{"$f":"IF(G7769=\"\",\"\",VLOOKUP(G7769,'Lista de precios'!$B$7:$C$5000,2,0))","v":""}]
[null,null,"",null,null,null,null,{"$f":"IF(G7770=\"\",\"\",VLOOKUP(G7770,'Lista de precios'!$B$7:$C$5000,2,0))","v":""}]
[null,null,"",null,null,null,null,{"$f":"IF(G7771=\"\",\"\",VLOOKUP(G7771,'Lista de precios'!$B$7:$C$5000,2,0))","v":""}]
[null,null,"",null,null,null,null,{"$f":"IF(G7772=\"\",\"\",VLOOKUP(G7772,'Lista de precios'!$B$7:$C$5000,2,0))","v":""}]
[null,null,"",null,null,null,null,{"$f":"IF(G7773=\"\",\"\",VLOOKUP(G7773,'Lista de precios'!$B$7:$C$5000,2,0))","v":""}]
[null,null,"",null,null,null,null,{"$f":"IF(G7774=\"\",\"\",VLOOKUP(G7774,'Lista de precios'!$B$7:$C$5000,2,0))","v":""}]
[null,null,"",null,null,null,null,{"$f":"IF(G7775=\"\",\"\",VLOOKUP(G7775,'Lista de precios'!$B$7:$C$5000,2,0))","v":""}]
[null,null,"",null,null,null,null,{"$f":"IF(G7776=\"\",\"\",VLOOKUP(G7776,'Lista de precios'!$B$7:$C$5000,2,0))","v":""}]
[null,null,"",null,null,null,null,{"$f":"IF(G7777=\"\",\"\",VLOOKUP(G7777,'Lista de precios'!$B$7:$C$5000,2,0))","v":""}]
[null,null,"",null,null,null,null,{"$f":"IF(G7778=\"\",\"\",VLOOKUP(G7778,'Lista de precios'!$B$7:$C$5000,2,0))","v":""}]
[null,null,"",null,null,null,null,{"$f":"IF(G7779=\"\",\"\",VLOOKUP(G7779,'Lista de precios'!$B$7:$C$5000,2,0))","v":""}]
[null,null,"",null,null,null,null,{"$f":"IF(G7780=\"\",\"\",VLOOKUP(G7780,'Lista de precios'!$B$7:$C$5000,2,0))","v":""}]
[null,null,"",null,null,null,null,{"$f":"IF(G7781=\"\",\"\",VLOOKUP(G7781,'Lista de precios'!$B$7:$C$5000,2,0))","v":""}]
[null,null,"",null,null,null,null,{"$f":"IF(G7782=\"\",\"\",VLOOKUP(G7782,'Lista de precios'!$B$7:$C$5000,2,0))","v":""}]
[null,null,"",null,null,null,null,{"$f":"IF(G7783=\"\",\"\",VLOOKUP(G7783,'Lista de precios'!$B$7:$C$5000,2,0))","v":""}]
[null,null,"",null,null,null,null,{"$f":"IF(G7784=\"\",\"\",VLOOKUP(G7784,'Lista de precios'!$B$7:$C$5000,2,0))","v":""}]
[null,null,"",null,null,null,null,{"$f":"IF(G7785=\"\",\"\",VLOOKUP(G7785,'Lista de precios'!$B$7:$C$5000,2,0))","v":""}]
[null,null,"",null,null,null,null,{"$f":"IF(G7786=\"\",\"\",VLOOKUP(G7786,'Lista de precios'!$B$7:$C$5000,2,0))","v":""}]
[null,null,"",null,null,null,null,{"$f":"IF(G7787=\"\",\"\",VLOOKUP(G7787,'Lista de precios'!$B$7:$C$5000,2,0))","v":""}]
[null,null,"",null,null,null,null,{"$f":"IF(G7788=\"\",\"\",VLOOKUP(G7788,'Lista de precios'!$B$7:$C$5000,2,0))","v":""}]
[null,null,"",null,null,null,null,{"$f":"IF(G7789=\"\",\"\",VLOOKUP(G7789,'Lista de precios'!$B$7:$C$5000,2,0))","v":""}]
[null,null,"",null,null,null,null,{"$f":"IF(G7790=\"\",\"\",VLOOKUP(G7790,'Lista de precios'!$B$7:$C$5000,2,0))","v":""}]
[null,null,"",null,null,null,null,{"$f":"IF(G7791=\"\",\"\",VLOOKUP(G7791,'Lista de precios'!$B$7:$C$5000,2,0))","v":""}]
[null,null,"",null,null,null,null,{"$f":"IF(G7792=\"\",\"\",VLOOKUP(G7792,'Lista de precios'!$B$7:$C$5000,2,0))","v":""}]
[null,null,"",null,null,null,null,{"$f":"IF(G7793=\"\",\"\",VLOOKUP(G7793,'Lista de precios'!$B$7:$C$5000,2,0))","v":""}]
[null,null,"",null,null,null,null,{"$f":"IF(G7794=\"\",\"\",VLOOKUP(G7794,'Lista de precios'!$B$7:$C$5000,2,0))","v":""}]
[null,null,"",null,null,null,null,{"$f":"IF(G7795=\"\",\"\",VLOOKUP(G7795,'Lista de precios'!$B$7:$C$5000,2,0))","v":""}]
[null,null,"",null,null,null,null,{"$f":"IF(G7796=\"\",\"\",VLOOKUP(G7796,'Lista de precios'!$B$7:$C$5000,2,0))","v":""}]
[null,null,"",null,null,null,null,{"$f":"IF(G7797=\"\",\"\",VLOOKUP(G7797,'Lista de precios'!$B$7:$C$5000,2,0))","v":""}]
[null,null,"",null,null,null,null,{"$f":"IF(G7798=\"\",\"\",VLOOKUP(G7798,'Lista de precios'!$B$7:$C$5000,2,0))","v":""}]
[null,null,"",null,null,null,null,{"$f":"IF(G7799=\"\",\"\",VLOOKUP(G7799,'Lista de precios'!$B$7:$C$5000,2,0))","v":""}]
[null,null,"",null,null,null,null,{"$f":"IF(G7800=\"\",\"\",VLOOKUP(G7800,'Lista de precios'!$B$7:$C$5000,2,0))","v":""}]
[null,null,"",null,null,null,null,{"$f":"IF(G7801=\"\",\"\",VLOOKUP(G7801,'Lista de precios'!$B$7:$C$5000,2,0))","v":""}]
[null,null,"",null,null,null,null,{"$f":"IF(G7802=\"\",\"\",VLOOKUP(G7802,'Lista de precios'!$B$7:$C$5000,2,0))","v":""}]
[null,null,"",null,null,null,null,{"$f":"IF(G7803=\"\",\"\",VLOOKUP(G7803,'Lista de precios'!$B$7:$C$5000,2,0))","v":""}]
[null,null,"",null,null,null,null,{"$f":"IF(G7804=\"\",\"\",VLOOKUP(G7804,'Lista de precios'!$B$7:$C$5000,2,0))","v":""}]
[null,null,"",null,null,null,null,{"$f":"IF(G7805=\"\",\"\",VLOOKUP(G7805,'Lista de precios'!$B$7:$C$5000,2,0))","v":""}]
[null,null,"",null,null,null,null,{"$f":"IF(G7806=\"\",\"\",VLOOKUP(G7806,'Lista de precios'!$B$7:$C$5000,2,0))","v":""}]
[null,null,"",null,null,null,null,{"$f":"IF(G7807=\"\",\"\",VLOOKUP(G7807,'Lista de precios'!$B$7:$C$5000,2,0))","v":""}]
[null,null,"",null,null,null,null,{"$f":"IF(G7808=\"\",\"\",VLOOKUP(G7808,'Lista de precios'!$B$7:$C$5000,2,0))","v":""}]
[null,null,"",null,null,null,null,{"$f":"IF(G7809=\"\",\"\",VLOOKUP(G7809,'Lista de precios'!$B$7:$C$5000,2,0))","v":""}]
[null,null,"",null,null,null,null,{"$f":"IF(G7810=\"\",\"\",VLOOKUP(G7810,'Lista de precios'!$B$7:$C$5000,2,0))","v":""}]
[null,null,"",null,null,null,null,{"$f":"IF(G7811=\"\",\"\",VLOOKUP(G7811,'Lista de precios'!$B$7:$C$5000,2,0))","v":""}]
[null,null,"",null,null,null,null,{"$f":"IF(G7812=\"\",\"\",VLOOKUP(G7812,'Lista de precios'!$B$7:$C$5000,2,0))","v":""}]
[null,null,"",null,null,null,null,{"$f":"IF(G7813=\"\",\"\",VLOOKUP(G7813,'Lista de precios'!$B$7:$C$5000,2,0))","v":""}]
[null,null,"",null,null,null,null,{"$f":"IF(G7814=\"\",\"\",VLOOKUP(G7814,'Lista de precios'!$B$7:$C$5000,2,0))","v":""}]
[null,null,"",null,null,null,null,{"$f":"IF(G7815=\"\",\"\",VLOOKUP(G7815,'Lista de precios'!$B$7:$C$5000,2,0))","v":""}]
[null,null,"",null,null,null,null,{"$f":"IF(G7816=\"\",\"\",VLOOKUP(G7816,'Lista de precios'!$B$7:$C$5000,2,0))","v":""}]
[null,null,"",null,null,null,null,{"$f":"IF(G7817=\"\",\"\",VLOOKUP(G7817,'Lista de precios'!$B$7:$C$5000,2,0))","v":""}]
[null,null,"",null,null,null,null,{"$f":"IF(G7818=\"\",\"\",VLOOKUP(G7818,'Lista de precios'!$B$7:$C$5000,2,0))","v":""}]
[null,null,"",null,null,null,null,{"$f":"IF(G7819=\"\",\"\",VLOOKUP(G7819,'Lista de precios'!$B$7:$C$5000,2,0))","v":""}]
[null,null,{"$f":"IF(B7820=\"\",\"\",TEXT(B7820,\"Mmmm\"))","v":""},null,null,null,null,{"$f":"IF(G7820=\"\",\"\",VLOOKUP(G7820,'Lista de precios'!$B$7:$C$5000,2,0))","v":""}]
[null,null,"",null,null,null,null,{"$f":"IF(G7821=\"\",\"\",VLOOKUP(G7821,'Lista de precios'!$B$7:$C$5000,2,0))","v":""}]
[null,null,"",null,null,null,null,{"$f":"IF(G7822=\"\",\"\",VLOOKUP(G7822,'Lista de precios'!$B$7:$C$5000,2,0))","v":""}]
[null,null,"",null,null,null,null,{"$f":"IF(G7823=\"\",\"\",VLOOKUP(G7823,'Lista de precios'!$B$7:$C$5000,2,0))","v":""}]
[null,null,"",null,null,null,null,{"$f":"IF(G7824=\"\",\"\",VLOOKUP(G7824,'Lista de precios'!$B$7:$C$5000,2,0))","v":""}]
[null,null,"",null,null,null,null,{"$f":"IF(G7825=\"\",\"\",VLOOKUP(G7825,'Lista de precios'!$B$7:$C$5000,2,0))","v":""}]
[null,null,"",null,null,null,null,{"$f":"IF(G7826=\"\",\"\",VLOOKUP(G7826,'Lista de precios'!$B$7:$C$5000,2,0))","v":""}]
[null,null,"",null,null,null,null,{"$f":"IF(G7827=\"\",\"\",VLOOKUP(G7827,'Lista de precios'!$B$7:$C$5000,2,0))","v":""}]
[null,null,"",null,null,null,null,{"$f":"IF(G7828=\"\",\"\",VLOOKUP(G7828,'Lista de precios'!$B$7:$C$5000,2,0))","v":""}]
[null,null,"",null,null,null,null,{"$f":"IF(G7829=\"\",\"\",VLOOKUP(G7829,'Lista de precios'!$B$7:$C$5000,2,0))","v":""}]
[null,null,"",null,null,null,null,{"$f":"IF(G7830=\"\",\"\",VLOOKUP(G7830,'Lista de precios'!$B$7:$C$5000,2,0))","v":""}]
[null,null,"",null,null,null,null,{"$f":"IF(G7831=\"\",\"\",VLOOKUP(G7831,'Lista de precios'!$B$7:$C$5000,2,0))","v":""}]
[null,null,"",null,null,null,null,{"$f":"IF(G7832=\"\",\"\",VLOOKUP(G7832,'Lista de precios'!$B$7:$C$5000,2,0))","v":""}]
[null,null,"",null,null,null,null,{"$f":"IF(G7833=\"\",\"\",VLOOKUP(G7833,'Lista de precios'!$B$7:$C$5000,2,0))","v":""}]
[null,null,"",null,null,null,null,{"$f":"IF(G7834=\"\",\"\",VLOOKUP(G7834,'Lista de precios'!$B$7:$C$5000,2,0))","v":""}]
[null,null,"",null,null,null,null,{"$f":"IF(G7835=\"\",\"\",VLOOKUP(G7835,'Lista de precios'!$B$7:$C$5000,2,0))","v":""}]
[null,null,"",null,null,null,null,{"$f":"IF(G7836=\"\",\"\",VLOOKUP(G7836,'Lista de precios'!$B$7:$C$5000,2,0))","v":""}]
[null,null,"",null,null,null,null,{"$f":"IF(G7837=\"\",\"\",VLOOKUP(G7837,'Lista de precios'!$B$7:$C$5000,2,0))","v":""}]
[null,null,"",null,null,null,null,{"$f":"IF(G7838=\"\",\"\",VLOOKUP(G7838,'Lista de precios'!$B$7:$C$5000,2,0))","v":""}]
[null,null,"",null,null,null,null,{"$f":"IF(G7839=\"\",\"\",VLOOKUP(G7839,'Lista de precios'!$B$7:$C$5000,2,0))","v":""}]
[null,null,"",null,null,null,null,{"$f":"IF(G7840=\"\",\"\",VLOOKUP(G7840,'Lista de precios'!$B$7:$C$5000,2,0))","v":""}]
[null,null,"",null,null,null,null,{"$f":"IF(G7841=\"\",\"\",VLOOKUP(G7841,'Lista de precios'!$B$7:$C$5000,2,0))","v":""}]
[null,null,"",null,null,null,null,{"$f":"IF(G7842=\"\",\"\",VLOOKUP(G7842,'Lista de precios'!$B$7:$C$5000,2,0))","v":""}]
[null,null,"",null,null,null,null,{"$f":"IF(G7843=\"\",\"\",VLOOKUP(G7843,'Lista de precios'!$B$7:$C$5000,2,0))","v":""}]
[null,null,"",null,null,null,null,{"$f":"IF(G7844=\"\",\"\",VLOOKUP(G7844,'Lista de precios'!$B$7:$C$5000,2,0))","v":""}]
[null,null,"",null,null,null,null,{"$f":"IF(G7845=\"\",\"\",VLOOKUP(G7845,'Lista de precios'!$B$7:$C$5000,2,0))","v":""}]
[null,null,"",null,null,null,null,{"$f":"IF(G7846=\"\",\"\",VLOOKUP(G7846,'Lista de precios'!$B$7:$C$5000,2,0))","v":""}]
[null,null,"",null,null,null,null,{"$f":"IF(G7847=\"\",\"\",VLOOKUP(G7847,'Lista de precios'!$B$7:$C$5000,2,0))","v":""}]
[null,null,"",null,null,null,null,{"$f":"IF(G7848=\"\",\"\",VLOOKUP(G7848,'Lista de precios'!$B$7:$C$5000,2,0))","v":""}]
[null,null,"",null,null,null,null,{"$f":"IF(G7849=\"\",\"\",VLOOKUP(G7849,'Lista de precios'!$B$7:$C$5000,2,0))","v":""}]
[null,null,"",null,null,null,null,{"$f":"IF(G7850=\"\",\"\",VLOOKUP(G7850,'Lista de precios'!$B$7:$C$5000,2,0))","v":""}]
[null,null,"",null,null,null,null,{"$f":"IF(G7851=\"\",\"\",VLOOKUP(G7851,'Lista de precios'!$B$7:$C$5000,2,0))","v":""}]
[null,null,"",null,null,null,null,{"$f":"IF(G7852=\"\",\"\",VLOOKUP(G7852,'Lista de precios'!$B$7:$C$5000,2,0))","v":""}]
[null,null,"",null,null,null,null,{"$f":"IF(G7853=\"\",\"\",VLOOKUP(G7853,'Lista de precios'!$B$7:$C$5000,2,0))","v":""}]
[null,null,"",null,null,null,null,{"$f":"IF(G7854=\"\",\"\",VLOOKUP(G7854,'Lista de precios'!$B$7:$C$5000,2,0))","v":""}]
[null,null,"",null,null,null,null,{"$f":"IF(G7855=\"\",\"\",VLOOKUP(G7855,'Lista de precios'!$B$7:$C$5000,2,0))","v":""}]
[null,null,"",null,null,null,null,{"$f":"IF(G7856=\"\",\"\",VLOOKUP(G7856,'Lista de precios'!$B$7:$C$5000,2,0))","v":""}]
[null,null,"",null,null,null,null,{"$f":"IF(G7857=\"\",\"\",VLOOKUP(G7857,'Lista de precios'!$B$7:$C$5000,2,0))","v":""}]
[null,null,"",null,null,null,null,{"$f":"IF(G7858=\"\",\"\",VLOOKUP(G7858,'Lista de precios'!$B$7:$C$5000,2,0))","v":""}]
[null,null,"",null,null,null,null,{"$f":"IF(G7859=\"\",\"\",VLOOKUP(G7859,'Lista de precios'!$B$7:$C$5000,2,0))","v":""}]
[null,null,"",null,null,null,null,{"$f":"IF(G7860=\"\",\"\",VLOOKUP(G7860,'Lista de precios'!$B$7:$C$5000,2,0))","v":""}]
[null,null,"",null,null,null,null,{"$f":"IF(G7861=\"\",\"\",VLOOKUP(G7861,'Lista de precios'!$B$7:$C$5000,2,0))","v":""}]
[null,null,"",null,null,null,null,{"$f":"IF(G7862=\"\",\"\",VLOOKUP(G7862,'Lista de precios'!$B$7:$C$5000,2,0))","v":""}]
[null,null,"",null,null,null,null,{"$f":"IF(G7863=\"\",\"\",VLOOKUP(G7863,'Lista de precios'!$B$7:$C$5000,2,0))","v":""}]
[null,null,"",null,null,null,null,{"$f":"IF(G7864=\"\",\"\",VLOOKUP(G7864,'Lista de precios'!$B$7:$C$5000,2,0))","v":""}]
[null,null,"",null,null,null,null,{"$f":"IF(G7865=\"\",\"\",VLOOKUP(G7865,'Lista de precios'!$B$7:$C$5000,2,0))","v":""}]
[null,null,"",null,null,null,null,{"$f":"IF(G7866=\"\",\"\",VLOOKUP(G7866,'Lista de precios'!$B$7:$C$5000,2,0))","v":""}]
[null,null,"",null,null,null,null,{"$f":"IF(G7867=\"\",\"\",VLOOKUP(G7867,'Lista de precios'!$B$7:$C$5000,2,0))","v":""}]
[null,null,"",null,null,null,null,{"$f":"IF(G7868=\"\",\"\",VLOOKUP(G7868,'Lista de precios'!$B$7:$C$5000,2,0))","v":""}]
[null,null,"",null,null,null,null,{"$f":"IF(G7869=\"\",\"\",VLOOKUP(G7869,'Lista de precios'!$B$7:$C$5000,2,0))","v":""}]
[null,null,"",null,null,null,null,{"$f":"IF(G7870=\"\",\"\",VLOOKUP(G7870,'Lista de precios'!$B$7:$C$5000,2,0))","v":""}]
[null,null,"",null,null,null,null,{"$f":"IF(G7871=\"\",\"\",VLOOKUP(G7871,'Lista de precios'!$B$7:$C$5000,2,0))","v":""}]
[null,null,"",null,null,null,null,{"$f":"IF(G7872=\"\",\"\",VLOOKUP(G7872,'Lista de precios'!$B$7:$C$5000,2,0))","v":""}]
[null,null,"",null,null,null,null,{"$f":"IF(G7873=\"\",\"\",VLOOKUP(G7873,'Lista de precios'!$B$7:$C$5000,2,0))","v":""}]
[null,null,"",null,null,null,null,{"$f":"IF(G7874=\"\",\"\",VLOOKUP(G7874,'Lista de precios'!$B$7:$C$5000,2,0))","v":""}]
[null,null,"",null,null,null,null,{"$f":"IF(G7875=\"\",\"\",VLOOKUP(G7875,'Lista de precios'!$B$7:$C$5000,2,0))","v":""}]
[null,null,"",null,null,null,null,{"$f":"IF(G7876=\"\",\"\",VLOOKUP(G7876,'Lista de precios'!$B$7:$C$5000,2,0))","v":""}]
[null,null,"",null,null,null,null,{"$f":"IF(G7877=\"\",\"\",VLOOKUP(G7877,'Lista de precios'!$B$7:$C$5000,2,0))","v":""}]
[null,null,"",null,null,null,null,{"$f":"IF(G7878=\"\",\"\",VLOOKUP(G7878,'Lista de precios'!$B$7:$C$5000,2,0))","v":""}]
[null,null,"",null,null,null,null,{"$f":"IF(G7879=\"\",\"\",VLOOKUP(G7879,'Lista de precios'!$B$7:$C$5000,2,0))","v":""}]
[null,null,"",null,null,null,null,{"$f":"IF(G7880=\"\",\"\",VLOOKUP(G7880,'Lista de precios'!$B$7:$C$5000,2,0))","v":""}]
[null,null,"",null,null,null,null,{"$f":"IF(G7881=\"\",\"\",VLOOKUP(G7881,'Lista de precios'!$B$7:$C$5000,2,0))","v":""}]
[null,null,"",null,null,null,null,{"$f":"IF(G7882=\"\",\"\",VLOOKUP(G7882,'Lista de precios'!$B$7:$C$5000,2,0))","v":""}]
[null,null,"",null,null,null,null,{"$f":"IF(G7883=\"\",\"\",VLOOKUP(G7883,'Lista de precios'!$B$7:$C$5000,2,0))","v":""}]
[null,null,{"$f":"IF(B7884=\"\",\"\",TEXT(B7884,\"Mmmm\"))","v":""},null,null,null,null,{"$f":"IF(G7884=\"\",\"\",VLOOKUP(G7884,'Lista de precios'!$B$7:$C$5000,2,0))","v":""}]
[null,null,"",null,null,null,null,{"$f":"IF(G7885=\"\",\"\",VLOOKUP(G7885,'Lista de precios'!$B$7:$C$5000,2,0))","v":""}]
[null,null,"",null,null,null,null,{"$f":"IF(G7886=\"\",\"\",VLOOKUP(G7886,'Lista de precios'!$B$7:$C$5000,2,0))","v":""}]
[null,null,"",null,null,null,null,{"$f":"IF(G7887=\"\",\"\",VLOOKUP(G7887,'Lista de precios'!$B$7:$C$5000,2,0))","v":""}]
[null,null,"",null,null,null,null,{"$f":"IF(G7888=\"\",\"\",VLOOKUP(G7888,'Lista de precios'!$B$7:$C$5000,2,0))","v":""}]
[null,null,"",null,null,null,null,{"$f":"IF(G7889=\"\",\"\",VLOOKUP(G7889,'Lista de precios'!$B$7:$C$5000,2,0))","v":""}]
[null,null,"",null,null,null,null,{"$f":"IF(G7890=\"\",\"\",VLOOKUP(G7890,'Lista de precios'!$B$7:$C$5000,2,0))","v":""}]
[null,null,"",null,null,null,null,{"$f":"IF(G7891=\"\",\"\",VLOOKUP(G7891,'Lista de precios'!$B$7:$C$5000,2,0))","v":""}]
[null,null,"",null,null,null,null,{"$f":"IF(G7892=\"\",\"\",VLOOKUP(G7892,'Lista de precios'!$B$7:$C$5000,2,0))","v":""}]
[null,null,"",null,null,null,null,{"$f":"IF(G7893=\"\",\"\",VLOOKUP(G7893,'Lista de precios'!$B$7:$C$5000,2,0))","v":""}]
[null,null,"",null,null,null,null,{"$f":"IF(G7894=\"\",\"\",VLOOKUP(G7894,'Lista de precios'!$B$7:$C$5000,2,0))","v":""}]
[null,null,"",null,null,null,null,{"$f":"IF(G7895=\"\",\"\",VLOOKUP(G7895,'Lista de precios'!$B$7:$C$5000,2,0))","v":""}]
[null,null,"",null,null,null,null,{"$f":"IF(G7896=\"\",\"\",VLOOKUP(G7896,'Lista de precios'!$B$7:$C$5000,2,0))","v":""}]
[null,null,"",null,null,null,null,{"$f":"IF(G7897=\"\",\"\",VLOOKUP(G7897,'Lista de precios'!$B$7:$C$5000,2,0))","v":""}]
[null,null,"",null,null,null,null,{"$f":"IF(G7898=\"\",\"\",VLOOKUP(G7898,'Lista de precios'!$B$7:$C$5000,2,0))","v":""}]
[null,null,"",null,null,null,null,{"$f":"IF(G7899=\"\",\"\",VLOOKUP(G7899,'Lista de precios'!$B$7:$C$5000,2,0))","v":""}]
[null,null,"",null,null,null,null,{"$f":"IF(G7900=\"\",\"\",VLOOKUP(G7900,'Lista de precios'!$B$7:$C$5000,2,0))","v":""}]
[null,null,"",null,null,null,null,{"$f":"IF(G7901=\"\",\"\",VLOOKUP(G7901,'Lista de precios'!$B$7:$C$5000,2,0))","v":""}]
[null,null,"",null,null,null,null,{"$f":"IF(G7902=\"\",\"\",VLOOKUP(G7902,'Lista de precios'!$B$7:$C$5000,2,0))","v":""}]
[null,null,"",null,null,null,null,{"$f":"IF(G7903=\"\",\"\",VLOOKUP(G7903,'Lista de precios'!$B$7:$C$5000,2,0))","v":""}]
[null,null,"",null,null,null,null,{"$f":"IF(G7904=\"\",\"\",VLOOKUP(G7904,'Lista de precios'!$B$7:$C$5000,2,0))","v":""}]
[null,null,"",null,null,null,null,{"$f":"IF(G7905=\"\",\"\",VLOOKUP(G7905,'Lista de precios'!$B$7:$C$5000,2,0))","v":""}]
[null,null,"",null,null,null,null,{"$f":"IF(G7906=\"\",\"\",VLOOKUP(G7906,'Lista de precios'!$B$7:$C$5000,2,0))","v":""}]
[null,null,"",null,null,null,null,{"$f":"IF(G7907=\"\",\"\",VLOOKUP(G7907,'Lista de precios'!$B$7:$C$5000,2,0))","v":""}]
[null,null,"",null,null,null,null,{"$f":"IF(G7908=\"\",\"\",VLOOKUP(G7908,'Lista de precios'!$B$7:$C$5000,2,0))","v":""}]
[null,null,"",null,null,null,null,{"$f":"IF(G7909=\"\",\"\",VLOOKUP(G7909,'Lista de precios'!$B$7:$C$5000,2,0))","v":""}]
[null,null,"",null,null,null,null,{"$f":"IF(G7910=\"\",\"\",VLOOKUP(G7910,'Lista de precios'!$B$7:$C$5000,2,0))","v":""}]
[null,null,"",null,null,null,null,{"$f":"IF(G7911=\"\",\"\",VLOOKUP(G7911,'Lista de precios'!$B$7:$C$5000,2,0))","v":""}]
[null,null,"",null,null,null,null,{"$f":"IF(G7912=\"\",\"\",VLOOKUP(G7912,'Lista de precios'!$B$7:$C$5000,2,0))","v":""}]
[null,null,"",null,null,null,null,{"$f":"IF(G7913=\"\",\"\",VLOOKUP(G7913,'Lista de precios'!$B$7:$C$5000,2,0))","v":""}]
[null,null,"",null,null,null,null,{"$f":"IF(G7914=\"\",\"\",VLOOKUP(G7914,'Lista de precios'!$B$7:$C$5000,2,0))","v":""}]
[null,null,"",null,null,null,null,{"$f":"IF(G7915=\"\",\"\",VLOOKUP(G7915,'Lista de precios'!$B$7:$C$5000,2,0))","v":""}]
[null,null,"",null,null,null,null,{"$f":"IF(G7916=\"\",\"\",VLOOKUP(G7916,'Lista de precios'!$B$7:$C$5000,2,0))","v":""}]
[null,null,"",null,null,null,null,{"$f":"IF(G7917=\"\",\"\",VLOOKUP(G7917,'Lista de precios'!$B$7:$C$5000,2,0))","v":""}]
[null,null,"",null,null,null,null,{"$f":"IF(G7918=\"\",\"\",VLOOKUP(G7918,'Lista de precios'!$B$7:$C$5000,2,0))","v":""}]
[null,null,"",null,null,null,null,{"$f":"IF(G7919=\"\",\"\",VLOOKUP(G7919,'Lista de precios'!$B$7:$C$5000,2,0))","v":""}]
[null,null,"",null,null,null,null,{"$f":"IF(G7920=\"\",\"\",VLOOKUP(G7920,'Lista de precios'!$B$7:$C$5000,2,0))","v":""}]
[null,null,"",null,null,null,null,{"$f":"IF(G7921=\"\",\"\",VLOOKUP(G7921,'Lista de precios'!$B$7:$C$5000,2,0))","v":""}]
[null,null,"",null,null,null,null,{"$f":"IF(G7922=\"\",\"\",VLOOKUP(G7922,'Lista de precios'!$B$7:$C$5000,2,0))","v":""}]
[null,null,"",null,null,null,null,{"$f":"IF(G7923=\"\",\"\",VLOOKUP(G7923,'Lista de precios'!$B$7:$C$5000,2,0))","v":""}]
[null,null,"",null,null,null,null,{"$f":"IF(G7924=\"\",\"\",VLOOKUP(G7924,'Lista de precios'!$B$7:$C$5000,2,0))","v":""}]
[null,null,"",null,null,null,null,{"$f":"IF(G7925=\"\",\"\",VLOOKUP(G7925,'Lista de precios'!$B$7:$C$5000,2,0))","v":""}]
[null,null,"",null,null,null,null,{"$f":"IF(G7926=\"\",\"\",VLOOKUP(G7926,'Lista de precios'!$B$7:$C$5000,2,0))","v":""}]
[null,null,"",null,null,null,null,{"$f":"IF(G7927=\"\",\"\",VLOOKUP(G7927,'Lista de precios'!$B$7:$C$5000,2,0))","v":""}]
[null,null,"",null,null,null,null,{"$f":"IF(G7928=\"\",\"\",VLOOKUP(G7928,'Lista de precios'!$B$7:$C$5000,2,0))","v":""}]
[null,null,"",null,null,null,null,{"$f":"IF(G7929=\"\",\"\",VLOOKUP(G7929,'Lista de precios'!$B$7:$C$5000,2,0))","v":""}]
[null,null,"",null,null,null,null,{"$f":"IF(G7930=\"\",\"\",VLOOKUP(G7930,'Lista de precios'!$B$7:$C$5000,2,0))","v":""}]
[null,null,"",null,null,null,null,{"$f":"IF(G7931=\"\",\"\",VLOOKUP(G7931,'Lista de precios'!$B$7:$C$5000,2,0))","v":""}]
[null,null,"",null,null,null,null,{"$f":"IF(G7932=\"\",\"\",VLOOKUP(G7932,'Lista de precios'!$B$7:$C$5000,2,0))","v":""}]
[null,null,"",null,null,null,null,{"$f":"IF(G7933=\"\",\"\",VLOOKUP(G7933,'Lista de precios'!$B$7:$C$5000,2,0))","v":""}]
[null,null,"",null,null,null,null,{"$f":"IF(G7934=\"\",\"\",VLOOKUP(G7934,'Lista de precios'!$B$7:$C$5000,2,0))","v":""}]
[null,null,"",null,null,null,null,{"$f":"IF(G7935=\"\",\"\",VLOOKUP(G7935,'Lista de precios'!$B$7:$C$5000,2,0))","v":""}]
[null,null,"",null,null,null,null,{"$f":"IF(G7936=\"\",\"\",VLOOKUP(G7936,'Lista de precios'!$B$7:$C$5000,2,0))","v":""}]
[null,null,"",null,null,null,null,{"$f":"IF(G7937=\"\",\"\",VLOOKUP(G7937,'Lista de precios'!$B$7:$C$5000,2,0))","v":""}]
[null,null,"",null,null,null,null,{"$f":"IF(G7938=\"\",\"\",VLOOKUP(G7938,'Lista de precios'!$B$7:$C$5000,2,0))","v":""}]
[null,null,"",null,null,null,null,{"$f":"IF(G7939=\"\",\"\",VLOOKUP(G7939,'Lista de precios'!$B$7:$C$5000,2,0))","v":""}]
[null,null,"",null,null,null,null,{"$f":"IF(G7940=\"\",\"\",VLOOKUP(G7940,'Lista de precios'!$B$7:$C$5000,2,0))","v":""}]
[null,null,"",null,null,null,null,{"$f":"IF(G7941=\"\",\"\",VLOOKUP(G7941,'Lista de precios'!$B$7:$C$5000,2,0))","v":""}]
[null,null,"",null,null,null,null,{"$f":"IF(G7942=\"\",\"\",VLOOKUP(G7942,'Lista de precios'!$B$7:$C$5000,2,0))","v":""}]
[null,null,"",null,null,null,null,{"$f":"IF(G7943=\"\",\"\",VLOOKUP(G7943,'Lista de precios'!$B$7:$C$5000,2,0))","v":""}]
[null,null,"",null,null,null,null,{"$f":"IF(G7944=\"\",\"\",VLOOKUP(G7944,'Lista de precios'!$B$7:$C$5000,2,0))","v":""}]
[null,null,"",null,null,null,null,{"$f":"IF(G7945=\"\",\"\",VLOOKUP(G7945,'Lista de precios'!$B$7:$C$5000,2,0))","v":""}]
[null,null,"",null,null,null,null,{"$f":"IF(G7946=\"\",\"\",VLOOKUP(G7946,'Lista de precios'!$B$7:$C$5000,2,0))","v":""}]
[null,null,"",null,null,null,null,{"$f":"IF(G7947=\"\",\"\",VLOOKUP(G7947,'Lista de precios'!$B$7:$C$5000,2,0))","v":""}]
[null,null,{"$f":"IF(B7948=\"\",\"\",TEXT(B7948,\"Mmmm\"))","v":""},null,null,null,null,{"$f":"IF(G7948=\"\",\"\",VLOOKUP(G7948,'Lista de precios'!$B$7:$C$5000,2,0))","v":""}]
[null,null,"",null,null,null,null,{"$f":"IF(G7949=\"\",\"\",VLOOKUP(G7949,'Lista de precios'!$B$7:$C$5000,2,0))","v":""}]
[null,null,"",null,null,null,null,{"$f":"IF(G7950=\"\",\"\",VLOOKUP(G7950,'Lista de precios'!$B$7:$C$5000,2,0))","v":""}]
[null,null,"",null,null,null,null,{"$f":"IF(G7951=\"\",\"\",VLOOKUP(G7951,'Lista de precios'!$B$7:$C$5000,2,0))","v":""}]
[null,null,"",null,null,null,null,{"$f":"IF(G7952=\"\",\"\",VLOOKUP(G7952,'Lista de precios'!$B$7:$C$5000,2,0))","v":""}]
[null,null,"",null,null,null,null,{"$f":"IF(G7953=\"\",\"\",VLOOKUP(G7953,'Lista de precios'!$B$7:$C$5000,2,0))","v":""}]
[null,null,"",null,null,null,null,{"$f":"IF(G7954=\"\",\"\",VLOOKUP(G7954,'Lista de precios'!$B$7:$C$5000,2,0))","v":""}]
[null,null,"",null,null,null,null,{"$f":"IF(G7955=\"\",\"\",VLOOKUP(G7955,'Lista de precios'!$B$7:$C$5000,2,0))","v":""}]
[null,null,"",null,null,null,null,{"$f":"IF(G7956=\"\",\"\",VLOOKUP(G7956,'Lista de precios'!$B$7:$C$5000,2,0))","v":""}]
[null,null,"",null,null,null,null,{"$f":"IF(G7957=\"\",\"\",VLOOKUP(G7957,'Lista de precios'!$B$7:$C$5000,2,0))","v":""}]
[null,null,"",null,null,null,null,{"$f":"IF(G7958=\"\",\"\",VLOOKUP(G7958,'Lista de precios'!$B$7:$C$5000,2,0))","v":""}]
[null,null,"",null,null,null,null,{"$f":"IF(G7959=\"\",\"\",VLOOKUP(G7959,'Lista de precios'!$B$7:$C$5000,2,0))","v":""}]
[null,null,"",null,null,null,null,{"$f":"IF(G7960=\"\",\"\",VLOOKUP(G7960,'Lista de precios'!$B$7:$C$5000,2,0))","v":""}]
[null,null,"",null,null,null,null,{"$f":"IF(G7961=\"\",\"\",VLOOKUP(G7961,'Lista de precios'!$B$7:$C$5000,2,0))","v":""}]
[null,null,"",null,null,null,null,{"$f":"IF(G7962=\"\",\"\",VLOOKUP(G7962,'Lista de precios'!$B$7:$C$5000,2,0))","v":""}]
[null,null,"",null,null,null,null,{"$f":"IF(G7963=\"\",\"\",VLOOKUP(G7963,'Lista de precios'!$B$7:$C$5000,2,0))","v":""}]
[null,null,"",null,null,null,null,{"$f":"IF(G7964=\"\",\"\",VLOOKUP(G7964,'Lista de precios'!$B$7:$C$5000,2,0))","v":""}]
[null,null,"",null,null,null,null,{"$f":"IF(G7965=\"\",\"\",VLOOKUP(G7965,'Lista de precios'!$B$7:$C$5000,2,0))","v":""}]
[null,null,"",null,null,null,null,{"$f":"IF(G7966=\"\",\"\",VLOOKUP(G7966,'Lista de precios'!$B$7:$C$5000,2,0))","v":""}]
[null,null,"",null,null,null,null,{"$f":"IF(G7967=\"\",\"\",VLOOKUP(G7967,'Lista de precios'!$B$7:$C$5000,2,0))","v":""}]
[null,null,"",null,null,null,null,{"$f":"IF(G7968=\"\",\"\",VLOOKUP(G7968,'Lista de precios'!$B$7:$C$5000,2,0))","v":""}]
[null,null,"",null,null,null,null,{"$f":"IF(G7969=\"\",\"\",VLOOKUP(G7969,'Lista de precios'!$B$7:$C$5000,2,0))","v":""}]
[null,null,"",null,null,null,null,{"$f":"IF(G7970=\"\",\"\",VLOOKUP(G7970,'Lista de precios'!$B$7:$C$5000,2,0))","v":""}]
[null,null,"",null,null,null,null,{"$f":"IF(G7971=\"\",\"\",VLOOKUP(G7971,'Lista de precios'!$B$7:$C$5000,2,0))","v":""}]
[null,null,"",null,null,null,null,{"$f":"IF(G7972=\"\",\"\",VLOOKUP(G7972,'Lista de precios'!$B$7:$C$5000,2,0))","v":""}]
[null,null,"",null,null,null,null,{"$f":"IF(G7973=\"\",\"\",VLOOKUP(G7973,'Lista de precios'!$B$7:$C$5000,2,0))","v":""}]
[null,null,"",null,null,null,null,{"$f":"IF(G7974=\"\",\"\",VLOOKUP(G7974,'Lista de precios'!$B$7:$C$5000,2,0))","v":""}]
[null,null,"",null,null,null,null,{"$f":"IF(G7975=\"\",\"\",VLOOKUP(G7975,'Lista de precios'!$B$7:$C$5000,2,0))","v":""}]
[null,null,"",null,null,null,null,{"$f":"IF(G7976=\"\",\"\",VLOOKUP(G7976,'Lista de precios'!$B$7:$C$5000,2,0))","v":""}]
[null,null,"",null,null,null,null,{"$f":"IF(G7977=\"\",\"\",VLOOKUP(G7977,'Lista de precios'!$B$7:$C$5000,2,0))","v":""}]
[null,null,"",null,null,null,null,{"$f":"IF(G7978=\"\",\"\",VLOOKUP(G7978,'Lista de precios'!$B$7:$C$5000,2,0))","v":""}]
[null,null,"",null,null,null,null,{"$f":"IF(G7979=\"\",\"\",VLOOKUP(G7979,'Lista de precios'!$B$7:$C$5000,2,0))","v":""}]
[null,null,"",null,null,null,null,{"$f":"IF(G7980=\"\",\"\",VLOOKUP(G7980,'Lista de precios'!$B$7:$C$5000,2,0))","v":""}]
[null,null,"",null,null,null,null,{"$f":"IF(G7981=\"\",\"\",VLOOKUP(G7981,'Lista de precios'!$B$7:$C$5000,2,0))","v":""}]
[null,null,"",null,null,null,null,{"$f":"IF(G7982=\"\",\"\",VLOOKUP(G7982,'Lista de precios'!$B$7:$C$5000,2,0))","v":""}]
[null,null,"",null,null,null,null,{"$f":"IF(G7983=\"\",\"\",VLOOKUP(G7983,'Lista de precios'!$B$7:$C$5000,2,0))","v":""}]
[null,null,"",null,null,null,null,{"$f":"IF(G7984=\"\",\"\",VLOOKUP(G7984,'Lista de precios'!$B$7:$C$5000,2,0))","v":""}]
[null,null,"",null,null,null,null,{"$f":"IF(G7985=\"\",\"\",VLOOKUP(G7985,'Lista de precios'!$B$7:$C$5000,2,0))","v":""}]
[null,null,"",null,null,null,null,{"$f":"IF(G7986=\"\",\"\",VLOOKUP(G7986,'Lista de precios'!$B$7:$C$5000,2,0))","v":""}]
[null,null,"",null,null,null,null,{"$f":"IF(G7987=\"\",\"\",VLOOKUP(G7987,'Lista de precios'!$B$7:$C$5000,2,0))","v":""}]
[null,null,"",null,null,null,null,{"$f":"IF(G7988=\"\",\"\",VLOOKUP(G7988,'Lista de precios'!$B$7:$C$5000,2,0))","v":""}]
[null,null,"",null,null,null,null,{"$f":"IF(G7989=\"\",\"\",VLOOKUP(G7989,'Lista de precios'!$B$7:$C$5000,2,0))","v":""}]
[null,null,"",null,null,null,null,{"$f":"IF(G7990=\"\",\"\",VLOOKUP(G7990,'Lista de precios'!$B$7:$C$5000,2,0))","v":""}]
[null,null,"",null,null,null,null,{"$f":"IF(G7991=\"\",\"\",VLOOKUP(G7991,'Lista de precios'!$B$7:$C$5000,2,0))","v":""}]
[null,null,"",null,null,null,null,{"$f":"IF(G7992=\"\",\"\",VLOOKUP(G7992,'Lista de precios'!$B$7:$C$5000,2,0))","v":""}]
[null,null,"",null,null,null,null,{"$f":"IF(G7993=\"\",\"\",VLOOKUP(G7993,'Lista de precios'!$B$7:$C$5000,2,0))","v":""}]
[null,null,"",null,null,null,null,{"$f":"IF(G7994=\"\",\"\",VLOOKUP(G7994,'Lista de precios'!$B$7:$C$5000,2,0))","v":""}]
[null,null,"",null,null,null,null,{"$f":"IF(G7995=\"\",\"\",VLOOKUP(G7995,'Lista de precios'!$B$7:$C$5000,2,0))","v":""}]
[null,null,"",null,null,null,null,{"$f":"IF(G7996=\"\",\"\",VLOOKUP(G7996,'Lista de precios'!$B$7:$C$5000,2,0))","v":""}]
[null,null,"",null,null,null,null,{"$f":"IF(G7997=\"\",\"\",VLOOKUP(G7997,'Lista de precios'!$B$7:$C$5000,2,0))","v":""}]
[null,null,"",null,null,null,null,{"$f":"IF(G7998=\"\",\"\",VLOOKUP(G7998,'Lista de precios'!$B$7:$C$5000,2,0))","v":""}]
[null,null,"",null,null,null,null,{"$f":"IF(G7999=\"\",\"\",VLOOKUP(G7999,'Lista de precios'!$B$7:$C$5000,2,0))","v":""}]
[null,null,"",null,null,null,null,{"$f":"IF(G8000=\"\",\"\",VLOOKUP(G8000,'Lista de precios'!$B$7:$C$5000,2,0))","v":""}]
[null,null,"",null,null,null,null,{"$f":"IF(G8001=\"\",\"\",VLOOKUP(G8001,'Lista de precios'!$B$7:$C$5000,2,0))","v":""}]
[null,null,"",null,null,null,null,{"$f":"IF(G8002=\"\",\"\",VLOOKUP(G8002,'Lista de precios'!$B$7:$C$5000,2,0))","v":""}]
[null,null,"",null,null,null,null,{"$f":"IF(G8003=\"\",\"\",VLOOKUP(G8003,'Lista de precios'!$B$7:$C$5000,2,0))","v":""}]
[null,null,"",null,null,null,null,{"$f":"IF(G8004=\"\",\"\",VLOOKUP(G8004,'Lista de precios'!$B$7:$C$5000,2,0))","v":""}]
[null,null,"",null,null,null,null,{"$f":"IF(G8005=\"\",\"\",VLOOKUP(G8005,'Lista de precios'!$B$7:$C$5000,2,0))","v":""}]
[null,null,"",null,null,null,null,{"$f":"IF(G8006=\"\",\"\",VLOOKUP(G8006,'Lista de precios'!$B$7:$C$5000,2,0))","v":""}]
[null,null,"",null,null,null,null,{"$f":"IF(G8007=\"\",\"\",VLOOKUP(G8007,'Lista de precios'!$B$7:$C$5000,2,0))","v":""}]
[null,null,"",null,null,null,null,{"$f":"IF(G8008=\"\",\"\",VLOOKUP(G8008,'Lista de precios'!$B$7:$C$5000,2,0))","v":""}]
[null,null,"",null,null,null,null,{"$f":"IF(G8009=\"\",\"\",VLOOKUP(G8009,'Lista de precios'!$B$7:$C$5000,2,0))","v":""}]
[null,null,"",null,null,null,null,{"$f":"IF(G8010=\"\",\"\",VLOOKUP(G8010,'Lista de precios'!$B$7:$C$5000,2,0))","v":""}]
[null,null,"",null,null,null,null,{"$f":"IF(G8011=\"\",\"\",VLOOKUP(G8011,'Lista de precios'!$B$7:$C$5000,2,0))","v":""}]
[null,null,{"$f":"IF(B8012=\"\",\"\",TEXT(B8012,\"Mmmm\"))","v":""},null,null,null,null,{"$f":"IF(G8012=\"\",\"\",VLOOKUP(G8012,'Lista de precios'!$B$7:$C$5000,2,0))","v":""}]
[null,null,"",null,null,null,null,{"$f":"IF(G8013=\"\",\"\",VLOOKUP(G8013,'Lista de precios'!$B$7:$C$5000,2,0))","v":""}]
[null,null,"",null,null,null,null,{"$f":"IF(G8014=\"\",\"\",VLOOKUP(G8014,'Lista de precios'!$B$7:$C$5000,2,0))","v":""}]
[null,null,"",null,null,null,null,{"$f":"IF(G8015=\"\",\"\",VLOOKUP(G8015,'Lista de precios'!$B$7:$C$5000,2,0))","v":""}]
[null,null,"",null,null,null,null,{"$f":"IF(G8016=\"\",\"\",VLOOKUP(G8016,'Lista de precios'!$B$7:$C$5000,2,0))","v":""}]
[null,null,"",null,null,null,null,{"$f":"IF(G8017=\"\",\"\",VLOOKUP(G8017,'Lista de precios'!$B$7:$C$5000,2,0))","v":""}]
[null,null,"",null,null,null,null,{"$f":"IF(G8018=\"\",\"\",VLOOKUP(G8018,'Lista de precios'!$B$7:$C$5000,2,0))","v":""}]
[null,null,"",null,null,null,null,{"$f":"IF(G8019=\"\",\"\",VLOOKUP(G8019,'Lista de precios'!$B$7:$C$5000,2,0))","v":""}]
[null,null,"",null,null,null,null,{"$f":"IF(G8020=\"\",\"\",VLOOKUP(G8020,'Lista de precios'!$B$7:$C$5000,2,0))","v":""}]
[null,null,"",null,null,null,null,{"$f":"IF(G8021=\"\",\"\",VLOOKUP(G8021,'Lista de precios'!$B$7:$C$5000,2,0))","v":""}]
[null,null,"",null,null,null,null,{"$f":"IF(G8022=\"\",\"\",VLOOKUP(G8022,'Lista de precios'!$B$7:$C$5000,2,0))","v":""}]
[null,null,"",null,null,null,null,{"$f":"IF(G8023=\"\",\"\",VLOOKUP(G8023,'Lista de precios'!$B$7:$C$5000,2,0))","v":""}]
[null,null,"",null,null,null,null,{"$f":"IF(G8024=\"\",\"\",VLOOKUP(G8024,'Lista de precios'!$B$7:$C$5000,2,0))","v":""}]
[null,null,"",null,null,null,null,{"$f":"IF(G8025=\"\",\"\",VLOOKUP(G8025,'Lista de precios'!$B$7:$C$5000,2,0))","v":""}]
[null,null,"",null,null,null,null,{"$f":"IF(G8026=\"\",\"\",VLOOKUP(G8026,'Lista de precios'!$B$7:$C$5000,2,0))","v":""}]
[null,null,"",null,null,null,null,{"$f":"IF(G8027=\"\",\"\",VLOOKUP(G8027,'Lista de precios'!$B$7:$C$5000,2,0))","v":""}]
[null,null,"",null,null,null,null,{"$f":"IF(G8028=\"\",\"\",VLOOKUP(G8028,'Lista de precios'!$B$7:$C$5000,2,0))","v":""}]
[null,null,"",null,null,null,null,{"$f":"IF(G8029=\"\",\"\",VLOOKUP(G8029,'Lista de precios'!$B$7:$C$5000,2,0))","v":""}]
[null,null,"",null,null,null,null,{"$f":"IF(G8030=\"\",\"\",VLOOKUP(G8030,'Lista de precios'!$B$7:$C$5000,2,0))","v":""}]
[null,null,"",null,null,null,null,{"$f":"IF(G8031=\"\",\"\",VLOOKUP(G8031,'Lista de precios'!$B$7:$C$5000,2,0))","v":""}]
[null,null,"",null,null,null,null,{"$f":"IF(G8032=\"\",\"\",VLOOKUP(G8032,'Lista de precios'!$B$7:$C$5000,2,0))","v":""}]
[null,null,"",null,null,null,null,{"$f":"IF(G8033=\"\",\"\",VLOOKUP(G8033,'Lista de precios'!$B$7:$C$5000,2,0))","v":""}]
[null,null,"",null,null,null,null,{"$f":"IF(G8034=\"\",\"\",VLOOKUP(G8034,'Lista de precios'!$B$7:$C$5000,2,0))","v":""}]
[null,null,"",null,null,null,null,{"$f":"IF(G8035=\"\",\"\",VLOOKUP(G8035,'Lista de precios'!$B$7:$C$5000,2,0))","v":""}]
[null,null,"",null,null,null,null,{"$f":"IF(G8036=\"\",\"\",VLOOKUP(G8036,'Lista de precios'!$B$7:$C$5000,2,0))","v":""}]
[null,null,"",null,null,null,null,{"$f":"IF(G8037=\"\",\"\",VLOOKUP(G8037,'Lista de precios'!$B$7:$C$5000,2,0))","v":""}]
[null,null,"",null,null,null,null,{"$f":"IF(G8038=\"\",\"\",VLOOKUP(G8038,'Lista de precios'!$B$7:$C$5000,2,0))","v":""}]
[null,null,"",null,null,null,null,{"$f":"IF(G8039=\"\",\"\",VLOOKUP(G8039,'Lista de precios'!$B$7:$C$5000,2,0))","v":""}]
[null,null,"",null,null,null,null,{"$f":"IF(G8040=\"\",\"\",VLOOKUP(G8040,'Lista de precios'!$B$7:$C$5000,2,0))","v":""}]
[null,null,"",null,null,null,null,{"$f":"IF(G8041=\"\",\"\",VLOOKUP(G8041,'Lista de precios'!$B$7:$C$5000,2,0))","v":""}]
[null,null,"",null,null,null,null,{"$f":"IF(G8042=\"\",\"\",VLOOKUP(G8042,'Lista de precios'!$B$7:$C$5000,2,0))","v":""}]
[null,null,"",null,null,null,null,{"$f":"IF(G8043=\"\",\"\",VLOOKUP(G8043,'Lista de precios'!$B$7:$C$5000,2,0))","v":""}]
[null,null,"",null,null,null,null,{"$f":"IF(G8044=\"\",\"\",VLOOKUP(G8044,'Lista de precios'!$B$7:$C$5000,2,0))","v":""}]
[null,null,"",null,null,null,null,{"$f":"IF(G8045=\"\",\"\",VLOOKUP(G8045,'Lista de precios'!$B$7:$C$5000,2,0))","v":""}]
[null,null,"",null,null,null,null,{"$f":"IF(G8046=\"\",\"\",VLOOKUP(G8046,'Lista de precios'!$B$7:$C$5000,2,0))","v":""}]
[null,null,"",null,null,null,null,{"$f":"IF(G8047=\"\",\"\",VLOOKUP(G8047,'Lista de precios'!$B$7:$C$5000,2,0))","v":""}]
[null,null,"",null,null,null,null,{"$f":"IF(G8048=\"\",\"\",VLOOKUP(G8048,'Lista de precios'!$B$7:$C$5000,2,0))","v":""}]
[null,null,"",null,null,null,null,{"$f":"IF(G8049=\"\",\"\",VLOOKUP(G8049,'Lista de precios'!$B$7:$C$5000,2,0))","v":""}]
[null,null,"",null,null,null,null,{"$f":"IF(G8050=\"\",\"\",VLOOKUP(G8050,'Lista de precios'!$B$7:$C$5000,2,0))","v":""}]
[null,null,"",null,null,null,null,{"$f":"IF(G8051=\"\",\"\",VLOOKUP(G8051,'Lista de precios'!$B$7:$C$5000,2,0))","v":""}]
[null,null,"",null,null,null,null,{"$f":"IF(G8052=\"\",\"\",VLOOKUP(G8052,'Lista de precios'!$B$7:$C$5000,2,0))","v":""}]
[null,null,"",null,null,null,null,{"$f":"IF(G8053=\"\",\"\",VLOOKUP(G8053,'Lista de precios'!$B$7:$C$5000,2,0))","v":""}]
[null,null,"",null,null,null,null,{"$f":"IF(G8054=\"\",\"\",VLOOKUP(G8054,'Lista de precios'!$B$7:$C$5000,2,0))","v":""}]
[null,null,"",null,null,null,null,{"$f":"IF(G8055=\"\",\"\",VLOOKUP(G8055,'Lista de precios'!$B$7:$C$5000,2,0))","v":""}]
[null,null,"",null,null,null,null,{"$f":"IF(G8056=\"\",\"\",VLOOKUP(G8056,'Lista de precios'!$B$7:$C$5000,2,0))","v":""}]
[null,null,"",null,null,null,null,{"$f":"IF(G8057=\"\",\"\",VLOOKUP(G8057,'Lista de precios'!$B$7:$C$5000,2,0))","v":""}]
[null,null,"",null,null,null,null,{"$f":"IF(G8058=\"\",\"\",VLOOKUP(G8058,'Lista de precios'!$B$7:$C$5000,2,0))","v":""}]
[null,null,"",null,null,null,null,{"$f":"IF(G8059=\"\",\"\",VLOOKUP(G8059,'Lista de precios'!$B$7:$C$5000,2,0))","v":""}]
[null,null,"",null,null,null,null,{"$f":"IF(G8060=\"\",\"\",VLOOKUP(G8060,'Lista de precios'!$B$7:$C$5000,2,0))","v":""}]
[null,null,"",null,null,null,null,{"$f":"IF(G8061=\"\",\"\",VLOOKUP(G8061,'Lista de precios'!$B$7:$C$5000,2,0))","v":""}]
[null,null,"",null,null,null,null,{"$f":"IF(G8062=\"\",\"\",VLOOKUP(G8062,'Lista de precios'!$B$7:$C$5000,2,0))","v":""}]
[null,null,"",null,null,null,null,{"$f":"IF(G8063=\"\",\"\",VLOOKUP(G8063,'Lista de precios'!$B$7:$C$5000,2,0))","v":""}]
[null,null,"",null,null,null,null,{"$f":"IF(G8064=\"\",\"\",VLOOKUP(G8064,'Lista de precios'!$B$7:$C$5000,2,0))","v":""}]
[null,null,"",null,null,null,null,{"$f":"IF(G8065=\"\",\"\",VLOOKUP(G8065,'Lista de precios'!$B$7:$C$5000,2,0))","v":""}]
[null,null,"",null,null,null,null,{"$f":"IF(G8066=\"\",\"\",VLOOKUP(G8066,'Lista de precios'!$B$7:$C$5000,2,0))","v":""}]
[null,null,"",null,null,null,null,{"$f":"IF(G8067=\"\",\"\",VLOOKUP(G8067,'Lista de precios'!$B$7:$C$5000,2,0))","v":""}]
[null,null,"",null,null,null,null,{"$f":"IF(G8068=\"\",\"\",VLOOKUP(G8068,'Lista de precios'!$B$7:$C$5000,2,0))","v":""}]
[null,null,"",null,null,null,null,{"$f":"IF(G8069=\"\",\"\",VLOOKUP(G8069,'Lista de precios'!$B$7:$C$5000,2,0))","v":""}]
[null,null,"",null,null,null,null,{"$f":"IF(G8070=\"\",\"\",VLOOKUP(G8070,'Lista de precios'!$B$7:$C$5000,2,0))","v":""}]
[null,null,"",null,null,null,null,{"$f":"IF(G8071=\"\",\"\",VLOOKUP(G8071,'Lista de precios'!$B$7:$C$5000,2,0))","v":""}]
[null,null,"",null,null,null,null,{"$f":"IF(G8072=\"\",\"\",VLOOKUP(G8072,'Lista de precios'!$B$7:$C$5000,2,0))","v":""}]
[null,null,"",null,null,null,null,{"$f":"IF(G8073=\"\",\"\",VLOOKUP(G8073,'Lista de precios'!$B$7:$C$5000,2,0))","v":""}]
[null,null,"",null,null,null,null,{"$f":"IF(G8074=\"\",\"\",VLOOKUP(G8074,'Lista de precios'!$B$7:$C$5000,2,0))","v":""}]
[null,null,"",null,null,null,null,{"$f":"IF(G8075=\"\",\"\",VLOOKUP(G8075,'Lista de precios'!$B$7:$C$5000,2,0))","v":""}]
[null,null,{"$f":"IF(B8076=\"\",\"\",TEXT(B8076,\"Mmmm\"))","v":""},null,null,null,null,{"$f":"IF(G8076=\"\",\"\",VLOOKUP(G8076,'Lista de precios'!$B$7:$C$5000,2,0))","v":""}]
[null,null,"",null,null,null,null,{"$f":"IF(G8077=\"\",\"\",VLOOKUP(G8077,'Lista de precios'!$B$7:$C$5000,2,0))","v":""}]
[null,null,"",null,null,null,null,{"$f":"IF(G8078=\"\",\"\",VLOOKUP(G8078,'Lista de precios'!$B$7:$C$5000,2,0))","v":""}]
[null,null,"",null,null,null,null,{"$f":"IF(G8079=\"\",\"\",VLOOKUP(G8079,'Lista de precios'!$B$7:$C$5000,2,0))","v":""}]
[null,null,"",null,null,null,null,{"$f":"IF(G8080=\"\",\"\",VLOOKUP(G8080,'Lista de precios'!$B$7:$C$5000,2,0))","v":""}]
[null,null,"",null,null,null,null,{"$f":"IF(G8081=\"\",\"\",VLOOKUP(G8081,'Lista de precios'!$B$7:$C$5000,2,0))","v":""}]
[null,null,"",null,null,null,null,{"$f":"IF(G8082=\"\",\"\",VLOOKUP(G8082,'Lista de precios'!$B$7:$C$5000,2,0))","v":""}]
[null,null,"",null,null,null,null,{"$f":"IF(G8083=\"\",\"\",VLOOKUP(G8083,'Lista de precios'!$B$7:$C$5000,2,0))","v":""}]
[null,null,"",null,null,null,null,{"$f":"IF(G8084=\"\",\"\",VLOOKUP(G8084,'Lista de precios'!$B$7:$C$5000,2,0))","v":""}]
[null,null,"",null,null,null,null,{"$f":"IF(G8085=\"\",\"\",VLOOKUP(G8085,'Lista de precios'!$B$7:$C$5000,2,0))","v":""}]
[null,null,"",null,null,null,null,{"$f":"IF(G8086=\"\",\"\",VLOOKUP(G8086,'Lista de precios'!$B$7:$C$5000,2,0))","v":""}]
[null,null,"",null,null,null,null,{"$f":"IF(G8087=\"\",\"\",VLOOKUP(G8087,'Lista de precios'!$B$7:$C$5000,2,0))","v":""}]
[null,null,"",null,null,null,null,{"$f":"IF(G8088=\"\",\"\",VLOOKUP(G8088,'Lista de precios'!$B$7:$C$5000,2,0))","v":""}]
[null,null,"",null,null,null,null,{"$f":"IF(G8089=\"\",\"\",VLOOKUP(G8089,'Lista de precios'!$B$7:$C$5000,2,0))","v":""}]
[null,null,"",null,null,null,null,{"$f":"IF(G8090=\"\",\"\",VLOOKUP(G8090,'Lista de precios'!$B$7:$C$5000,2,0))","v":""}]
[null,null,"",null,null,null,null,{"$f":"IF(G8091=\"\",\"\",VLOOKUP(G8091,'Lista de precios'!$B$7:$C$5000,2,0))","v":""}]
[null,null,"",null,null,null,null,{"$f":"IF(G8092=\"\",\"\",VLOOKUP(G8092,'Lista de precios'!$B$7:$C$5000,2,0))","v":""}]
[null,null,"",null,null,null,null,{"$f":"IF(G8093=\"\",\"\",VLOOKUP(G8093,'Lista de precios'!$B$7:$C$5000,2,0))","v":""}]
[null,null,"",null,null,null,null,{"$f":"IF(G8094=\"\",\"\",VLOOKUP(G8094,'Lista de precios'!$B$7:$C$5000,2,0))","v":""}]
[null,null,"",null,null,null,null,{"$f":"IF(G8095=\"\",\"\",VLOOKUP(G8095,'Lista de precios'!$B$7:$C$5000,2,0))","v":""}]
[null,null,"",null,null,null,null,{"$f":"IF(G8096=\"\",\"\",VLOOKUP(G8096,'Lista de precios'!$B$7:$C$5000,2,0))","v":""}]
[null,null,"",null,null,null,null,{"$f":"IF(G8097=\"\",\"\",VLOOKUP(G8097,'Lista de precios'!$B$7:$C$5000,2,0))","v":""}]
[null,null,"",null,null,null,null,{"$f":"IF(G8098=\"\",\"\",VLOOKUP(G8098,'Lista de precios'!$B$7:$C$5000,2,0))","v":""}]
[null,null,"",null,null,null,null,{"$f":"IF(G8099=\"\",\"\",VLOOKUP(G8099,'Lista de precios'!$B$7:$C$5000,2,0))","v":""}]
[null,null,"",null,null,null,null,{"$f":"IF(G8100=\"\",\"\",VLOOKUP(G8100,'Lista de precios'!$B$7:$C$5000,2,0))","v":""}]
[null,null,"",null,null,null,null,{"$f":"IF(G8101=\"\",\"\",VLOOKUP(G8101,'Lista de precios'!$B$7:$C$5000,2,0))","v":""}]
[null,null,"",null,null,null,null,{"$f":"IF(G8102=\"\",\"\",VLOOKUP(G8102,'Lista de precios'!$B$7:$C$5000,2,0))","v":""}]
[null,null,"",null,null,null,null,{"$f":"IF(G8103=\"\",\"\",VLOOKUP(G8103,'Lista de precios'!$B$7:$C$5000,2,0))","v":""}]
[null,null,"",null,null,null,null,{"$f":"IF(G8104=\"\",\"\",VLOOKUP(G8104,'Lista de precios'!$B$7:$C$5000,2,0))","v":""}]
[null,null,"",null,null,null,null,{"$f":"IF(G8105=\"\",\"\",VLOOKUP(G8105,'Lista de precios'!$B$7:$C$5000,2,0))","v":""}]
[null,null,"",null,null,null,null,{"$f":"IF(G8106=\"\",\"\",VLOOKUP(G8106,'Lista de precios'!$B$7:$C$5000,2,0))","v":""}]
[null,null,"",null,null,null,null,{"$f":"IF(G8107=\"\",\"\",VLOOKUP(G8107,'Lista de precios'!$B$7:$C$5000,2,0))","v":""}]
[null,null,"",null,null,null,null,{"$f":"IF(G8108=\"\",\"\",VLOOKUP(G8108,'Lista de precios'!$B$7:$C$5000,2,0))","v":""}]
[null,null,"",null,null,null,null,{"$f":"IF(G8109=\"\",\"\",VLOOKUP(G8109,'Lista de precios'!$B$7:$C$5000,2,0))","v":""}]
[null,null,"",null,null,null,null,{"$f":"IF(G8110=\"\",\"\",VLOOKUP(G8110,'Lista de precios'!$B$7:$C$5000,2,0))","v":""}]
[null,null,"",null,null,null,null,{"$f":"IF(G8111=\"\",\"\",VLOOKUP(G8111,'Lista de precios'!$B$7:$C$5000,2,0))","v":""}]
[null,null,"",null,null,null,null,{"$f":"IF(G8112=\"\",\"\",VLOOKUP(G8112,'Lista de precios'!$B$7:$C$5000,2,0))","v":""}]
[null,null,"",null,null,null,null,{"$f":"IF(G8113=\"\",\"\",VLOOKUP(G8113,'Lista de precios'!$B$7:$C$5000,2,0))","v":""}]
[null,null,"",null,null,null,null,{"$f":"IF(G8114=\"\",\"\",VLOOKUP(G8114,'Lista de precios'!$B$7:$C$5000,2,0))","v":""}]
[null,null,"",null,null,null,null,{"$f":"IF(G8115=\"\",\"\",VLOOKUP(G8115,'Lista de precios'!$B$7:$C$5000,2,0))","v":""}]
[null,null,"",null,null,null,null,{"$f":"IF(G8116=\"\",\"\",VLOOKUP(G8116,'Lista de precios'!$B$7:$C$5000,2,0))","v":""}]
[null,null,"",null,null,null,null,{"$f":"IF(G8117=\"\",\"\",VLOOKUP(G8117,'Lista de precios'!$B$7:$C$5000,2,0))","v":""}]
[null,null,"",null,null,null,null,{"$f":"IF(G8118=\"\",\"\",VLOOKUP(G8118,'Lista de precios'!$B$7:$C$5000,2,0))","v":""}]
[null,null,"",null,null,null,null,{"$f":"IF(G8119=\"\",\"\",VLOOKUP(G8119,'Lista de precios'!$B$7:$C$5000,2,0))","v":""}]
[null,null,"",null,null,null,null,{"$f":"IF(G8120=\"\",\"\",VLOOKUP(G8120,'Lista de precios'!$B$7:$C$5000,2,0))","v":""}]
[null,null,"",null,null,null,null,{"$f":"IF(G8121=\"\",\"\",VLOOKUP(G8121,'Lista de precios'!$B$7:$C$5000,2,0))","v":""}]
[null,null,"",null,null,null,null,{"$f":"IF(G8122=\"\",\"\",VLOOKUP(G8122,'Lista de precios'!$B$7:$C$5000,2,0))","v":""}]
[null,null,"",null,null,null,null,{"$f":"IF(G8123=\"\",\"\",VLOOKUP(G8123,'Lista de precios'!$B$7:$C$5000,2,0))","v":""}]
[null,null,"",null,null,null,null,{"$f":"IF(G8124=\"\",\"\",VLOOKUP(G8124,'Lista de precios'!$B$7:$C$5000,2,0))","v":""}]
[null,null,"",null,null,null,null,{"$f":"IF(G8125=\"\",\"\",VLOOKUP(G8125,'Lista de precios'!$B$7:$C$5000,2,0))","v":""}]
[null,null,"",null,null,null,null,{"$f":"IF(G8126=\"\",\"\",VLOOKUP(G8126,'Lista de precios'!$B$7:$C$5000,2,0))","v":""}]
[null,null,"",null,null,null,null,{"$f":"IF(G8127=\"\",\"\",VLOOKUP(G8127,'Lista de precios'!$B$7:$C$5000,2,0))","v":""}]
[null,null,"",null,null,null,null,{"$f":"IF(G8128=\"\",\"\",VLOOKUP(G8128,'Lista de precios'!$B$7:$C$5000,2,0))","v":""}]
[null,null,"",null,null,null,null,{"$f":"IF(G8129=\"\",\"\",VLOOKUP(G8129,'Lista de precios'!$B$7:$C$5000,2,0))","v":""}]
[null,null,"",null,null,null,null,{"$f":"IF(G8130=\"\",\"\",VLOOKUP(G8130,'Lista de precios'!$B$7:$C$5000,2,0))","v":""}]
[null,null,"",null,null,null,null,{"$f":"IF(G8131=\"\",\"\",VLOOKUP(G8131,'Lista de precios'!$B$7:$C$5000,2,0))","v":""}]
[null,null,"",null,null,null,null,{"$f":"IF(G8132=\"\",\"\",VLOOKUP(G8132,'Lista de precios'!$B$7:$C$5000,2,0))","v":""}]
[null,null,"",null,null,null,null,{"$f":"IF(G8133=\"\",\"\",VLOOKUP(G8133,'Lista de precios'!$B$7:$C$5000,2,0))","v":""}]
[null,null,"",null,null,null,null,{"$f":"IF(G8134=\"\",\"\",VLOOKUP(G8134,'Lista de precios'!$B$7:$C$5000,2,0))","v":""}]
[null,null,"",null,null,null,null,{"$f":"IF(G8135=\"\",\"\",VLOOKUP(G8135,'Lista de precios'!$B$7:$C$5000,2,0))","v":""}]
[null,null,"",null,null,null,null,{"$f":"IF(G8136=\"\",\"\",VLOOKUP(G8136,'Lista de precios'!$B$7:$C$5000,2,0))","v":""}]
[null,null,"",null,null,null,null,{"$f":"IF(G8137=\"\",\"\",VLOOKUP(G8137,'Lista de precios'!$B$7:$C$5000,2,0))","v":""}]
[null,null,"",null,null,null,null,{"$f":"IF(G8138=\"\",\"\",VLOOKUP(G8138,'Lista de precios'!$B$7:$C$5000,2,0))","v":""}]
[null,null,"",null,null,null,null,{"$f":"IF(G8139=\"\",\"\",VLOOKUP(G8139,'Lista de precios'!$B$7:$C$5000,2,0))","v":""}]
[null,null,{"$f":"IF(B8140=\"\",\"\",TEXT(B8140,\"Mmmm\"))","v":""},null,null,null,null,{"$f":"IF(G8140=\"\",\"\",VLOOKUP(G8140,'Lista de precios'!$B$7:$C$5000,2,0))","v":""}]
[null,null,"",null,null,null,null,{"$f":"IF(G8141=\"\",\"\",VLOOKUP(G8141,'Lista de precios'!$B$7:$C$5000,2,0))","v":""}]
[null,null,"",null,null,null,null,{"$f":"IF(G8142=\"\",\"\",VLOOKUP(G8142,'Lista de precios'!$B$7:$C$5000,2,0))","v":""}]
[null,null,"",null,null,null,null,{"$f":"IF(G8143=\"\",\"\",VLOOKUP(G8143,'Lista de precios'!$B$7:$C$5000,2,0))","v":""}]
[null,null,"",null,null,null,null,{"$f":"IF(G8144=\"\",\"\",VLOOKUP(G8144,'Lista de precios'!$B$7:$C$5000,2,0))","v":""}]
[null,null,"",null,null,null,null,{"$f":"IF(G8145=\"\",\"\",VLOOKUP(G8145,'Lista de precios'!$B$7:$C$5000,2,0))","v":""}]
[null,null,"",null,null,null,null,{"$f":"IF(G8146=\"\",\"\",VLOOKUP(G8146,'Lista de precios'!$B$7:$C$5000,2,0))","v":""}]
[null,null,"",null,null,null,null,{"$f":"IF(G8147=\"\",\"\",VLOOKUP(G8147,'Lista de precios'!$B$7:$C$5000,2,0))","v":""}]
[null,null,"",null,null,null,null,{"$f":"IF(G8148=\"\",\"\",VLOOKUP(G8148,'Lista de precios'!$B$7:$C$5000,2,0))","v":""}]
[null,null,"",null,null,null,null,{"$f":"IF(G8149=\"\",\"\",VLOOKUP(G8149,'Lista de precios'!$B$7:$C$5000,2,0))","v":""}]
[null,null,"",null,null,null,null,{"$f":"IF(G8150=\"\",\"\",VLOOKUP(G8150,'Lista de precios'!$B$7:$C$5000,2,0))","v":""}]
[null,null,"",null,null,null,null,{"$f":"IF(G8151=\"\",\"\",VLOOKUP(G8151,'Lista de precios'!$B$7:$C$5000,2,0))","v":""}]
[null,null,"",null,null,null,null,{"$f":"IF(G8152=\"\",\"\",VLOOKUP(G8152,'Lista de precios'!$B$7:$C$5000,2,0))","v":""}]
[null,null,"",null,null,null,null,{"$f":"IF(G8153=\"\",\"\",VLOOKUP(G8153,'Lista de precios'!$B$7:$C$5000,2,0))","v":""}]
[null,null,"",null,null,null,null,{"$f":"IF(G8154=\"\",\"\",VLOOKUP(G8154,'Lista de precios'!$B$7:$C$5000,2,0))","v":""}]
[null,null,"",null,null,null,null,{"$f":"IF(G8155=\"\",\"\",VLOOKUP(G8155,'Lista de precios'!$B$7:$C$5000,2,0))","v":""}]
[null,null,"",null,null,null,null,{"$f":"IF(G8156=\"\",\"\",VLOOKUP(G8156,'Lista de precios'!$B$7:$C$5000,2,0))","v":""}]
[null,null,"",null,null,null,null,{"$f":"IF(G8157=\"\",\"\",VLOOKUP(G8157,'Lista de precios'!$B$7:$C$5000,2,0))","v":""}]
[null,null,"",null,null,null,null,{"$f":"IF(G8158=\"\",\"\",VLOOKUP(G8158,'Lista de precios'!$B$7:$C$5000,2,0))","v":""}]
[null,null,"",null,null,null,null,{"$f":"IF(G8159=\"\",\"\",VLOOKUP(G8159,'Lista de precios'!$B$7:$C$5000,2,0))","v":""}]
[null,null,"",null,null,null,null,{"$f":"IF(G8160=\"\",\"\",VLOOKUP(G8160,'Lista de precios'!$B$7:$C$5000,2,0))","v":""}]
[null,null,"",null,null,null,null,{"$f":"IF(G8161=\"\",\"\",VLOOKUP(G8161,'Lista de precios'!$B$7:$C$5000,2,0))","v":""}]
[null,null,"",null,null,null,null,{"$f":"IF(G8162=\"\",\"\",VLOOKUP(G8162,'Lista de precios'!$B$7:$C$5000,2,0))","v":""}]
[null,null,"",null,null,null,null,{"$f":"IF(G8163=\"\",\"\",VLOOKUP(G8163,'Lista de precios'!$B$7:$C$5000,2,0))","v":""}]
[null,null,"",null,null,null,null,{"$f":"IF(G8164=\"\",\"\",VLOOKUP(G8164,'Lista de precios'!$B$7:$C$5000,2,0))","v":""}]
[null,null,"",null,null,null,null,{"$f":"IF(G8165=\"\",\"\",VLOOKUP(G8165,'Lista de precios'!$B$7:$C$5000,2,0))","v":""}]
[null,null,"",null,null,null,null,{"$f":"IF(G8166=\"\",\"\",VLOOKUP(G8166,'Lista de precios'!$B$7:$C$5000,2,0))","v":""}]
[null,null,"",null,null,null,null,{"$f":"IF(G8167=\"\",\"\",VLOOKUP(G8167,'Lista de precios'!$B$7:$C$5000,2,0))","v":""}]
[null,null,"",null,null,null,null,{"$f":"IF(G8168=\"\",\"\",VLOOKUP(G8168,'Lista de precios'!$B$7:$C$5000,2,0))","v":""}]
[null,null,"",null,null,null,null,{"$f":"IF(G8169=\"\",\"\",VLOOKUP(G8169,'Lista de precios'!$B$7:$C$5000,2,0))","v":""}]
[null,null,"",null,null,null,null,{"$f":"IF(G8170=\"\",\"\",VLOOKUP(G8170,'Lista de precios'!$B$7:$C$5000,2,0))","v":""}]
[null,null,"",null,null,null,null,{"$f":"IF(G8171=\"\",\"\",VLOOKUP(G8171,'Lista de precios'!$B$7:$C$5000,2,0))","v":""}]
[null,null,"",null,null,null,null,{"$f":"IF(G8172=\"\",\"\",VLOOKUP(G8172,'Lista de precios'!$B$7:$C$5000,2,0))","v":""}]
[null,null,"",null,null,null,null,{"$f":"IF(G8173=\"\",\"\",VLOOKUP(G8173,'Lista de precios'!$B$7:$C$5000,2,0))","v":""}]
[null,null,"",null,null,null,null,{"$f":"IF(G8174=\"\",\"\",VLOOKUP(G8174,'Lista de precios'!$B$7:$C$5000,2,0))","v":""}]
[null,null,"",null,null,null,null,{"$f":"IF(G8175=\"\",\"\",VLOOKUP(G8175,'Lista de precios'!$B$7:$C$5000,2,0))","v":""}]
[null,null,"",null,null,null,null,{"$f":"IF(G8176=\"\",\"\",VLOOKUP(G8176,'Lista de precios'!$B$7:$C$5000,2,0))","v":""}]
[null,null,"",null,null,null,null,{"$f":"IF(G8177=\"\",\"\",VLOOKUP(G8177,'Lista de precios'!$B$7:$C$5000,2,0))","v":""}]
[null,null,"",null,null,null,null,{"$f":"IF(G8178=\"\",\"\",VLOOKUP(G8178,'Lista de precios'!$B$7:$C$5000,2,0))","v":""}]
[null,null,"",null,null,null,null,{"$f":"IF(G8179=\"\",\"\",VLOOKUP(G8179,'Lista de precios'!$B$7:$C$5000,2,0))","v":""}]
[null,null,"",null,null,null,null,{"$f":"IF(G8180=\"\",\"\",VLOOKUP(G8180,'Lista de precios'!$B$7:$C$5000,2,0))","v":""}]
[null,null,"",null,null,null,null,{"$f":"IF(G8181=\"\",\"\",VLOOKUP(G8181,'Lista de precios'!$B$7:$C$5000,2,0))","v":""}]
[null,null,"",null,null,null,null,{"$f":"IF(G8182=\"\",\"\",VLOOKUP(G8182,'Lista de precios'!$B$7:$C$5000,2,0))","v":""}]
[null,null,"",null,null,null,null,{"$f":"IF(G8183=\"\",\"\",VLOOKUP(G8183,'Lista de precios'!$B$7:$C$5000,2,0))","v":""}]
[null,null,"",null,null,null,null,{"$f":"IF(G8184=\"\",\"\",VLOOKUP(G8184,'Lista de precios'!$B$7:$C$5000,2,0))","v":""}]
[null,null,"",null,null,null,null,{"$f":"IF(G8185=\"\",\"\",VLOOKUP(G8185,'Lista de precios'!$B$7:$C$5000,2,0))","v":""}]
[null,null,"",null,null,null,null,{"$f":"IF(G8186=\"\",\"\",VLOOKUP(G8186,'Lista de precios'!$B$7:$C$5000,2,0))","v":""}]
[null,null,"",null,null,null,null,{"$f":"IF(G8187=\"\",\"\",VLOOKUP(G8187,'Lista de precios'!$B$7:$C$5000,2,0))","v":""}]
[null,null,"",null,null,null,null,{"$f":"IF(G8188=\"\",\"\",VLOOKUP(G8188,'Lista de precios'!$B$7:$C$5000,2,0))","v":""}]
[null,null,"",null,null,null,null,{"$f":"IF(G8189=\"\",\"\",VLOOKUP(G8189,'Lista de precios'!$B$7:$C$5000,2,0))","v":""}]
[null,null,"",null,null,null,null,{"$f":"IF(G8190=\"\",\"\",VLOOKUP(G8190,'Lista de precios'!$B$7:$C$5000,2,0))","v":""}]
[null,null,"",null,null,null,null,{"$f":"IF(G8191=\"\",\"\",VLOOKUP(G8191,'Lista de precios'!$B$7:$C$5000,2,0))","v":""}]
[null,null,"",null,null,null,null,{"$f":"IF(G8192=\"\",\"\",VLOOKUP(G8192,'Lista de precios'!$B$7:$C$5000,2,0))","v":""}]
[null,null,"",null,null,null,null,{"$f":"IF(G8193=\"\",\"\",VLOOKUP(G8193,'Lista de precios'!$B$7:$C$5000,2,0))","v":""}]
[null,null,"",null,null,null,null,{"$f":"IF(G8194=\"\",\"\",VLOOKUP(G8194,'Lista de precios'!$B$7:$C$5000,2,0))","v":""}]
[null,null,"",null,null,null,null,{"$f":"IF(G8195=\"\",\"\",VLOOKUP(G8195,'Lista de precios'!$B$7:$C$5000,2,0))","v":""}]
[null,null,"",null,null,null,null,{"$f":"IF(G8196=\"\",\"\",VLOOKUP(G8196,'Lista de precios'!$B$7:$C$5000,2,0))","v":""}]
[null,null,"",null,null,null,null,{"$f":"IF(G8197=\"\",\"\",VLOOKUP(G8197,'Lista de precios'!$B$7:$C$5000,2,0))","v":""}]
[null,null,"",null,null,null,null,{"$f":"IF(G8198=\"\",\"\",VLOOKUP(G8198,'Lista de precios'!$B$7:$C$5000,2,0))","v":""}]
[null,null,"",null,null,null,null,{"$f":"IF(G8199=\"\",\"\",VLOOKUP(G8199,'Lista de precios'!$B$7:$C$5000,2,0))","v":""}]
[null,null,"",null,null,null,null,{"$f":"IF(G8200=\"\",\"\",VLOOKUP(G8200,'Lista de precios'!$B$7:$C$5000,2,0))","v":""}]
[null,null,"",null,null,null,null,{"$f":"IF(G8201=\"\",\"\",VLOOKUP(G8201,'Lista de precios'!$B$7:$C$5000,2,0))","v":""}]
[null,null,"",null,null,null,null,{"$f":"IF(G8202=\"\",\"\",VLOOKUP(G8202,'Lista de precios'!$B$7:$C$5000,2,0))","v":""}]
[null,null,"",null,null,null,null,{"$f":"IF(G8203=\"\",\"\",VLOOKUP(G8203,'Lista de precios'!$B$7:$C$5000,2,0))","v":""}]
[null,null,{"$f":"IF(B8204=\"\",\"\",TEXT(B8204,\"Mmmm\"))","v":""},null,null,null,null,{"$f":"IF(G8204=\"\",\"\",VLOOKUP(G8204,'Lista de precios'!$B$7:$C$5000,2,0))","v":""}]
[null,null,"",null,null,null,null,{"$f":"IF(G8205=\"\",\"\",VLOOKUP(G8205,'Lista de precios'!$B$7:$C$5000,2,0))","v":""}]
[null,null,"",null,null,null,null,{"$f":"IF(G8206=\"\",\"\",VLOOKUP(G8206,'Lista de precios'!$B$7:$C$5000,2,0))","v":""}]
[null,null,"",null,null,null,null,{"$f":"IF(G8207=\"\",\"\",VLOOKUP(G8207,'Lista de precios'!$B$7:$C$5000,2,0))","v":""}]
[null,null,"",null,null,null,null,{"$f":"IF(G8208=\"\",\"\",VLOOKUP(G8208,'Lista de precios'!$B$7:$C$5000,2,0))","v":""}]
[null,null,"",null,null,null,null,{"$f":"IF(G8209=\"\",\"\",VLOOKUP(G8209,'Lista de precios'!$B$7:$C$5000,2,0))","v":""}]
[null,null,"",null,null,null,null,{"$f":"IF(G8210=\"\",\"\",VLOOKUP(G8210,'Lista de precios'!$B$7:$C$5000,2,0))","v":""}]
[null,null,"",null,null,null,null,{"$f":"IF(G8211=\"\",\"\",VLOOKUP(G8211,'Lista de precios'!$B$7:$C$5000,2,0))","v":""}]
[null,null,"",null,null,null,null,{"$f":"IF(G8212=\"\",\"\",VLOOKUP(G8212,'Lista de precios'!$B$7:$C$5000,2,0))","v":""}]
[null,null,"",null,null,null,null,{"$f":"IF(G8213=\"\",\"\",VLOOKUP(G8213,'Lista de precios'!$B$7:$C$5000,2,0))","v":""}]
[null,null,"",null,null,null,null,{"$f":"IF(G8214=\"\",\"\",VLOOKUP(G8214,'Lista de precios'!$B$7:$C$5000,2,0))","v":""}]
[null,null,"",null,null,null,null,{"$f":"IF(G8215=\"\",\"\",VLOOKUP(G8215,'Lista de precios'!$B$7:$C$5000,2,0))","v":""}]
[null,null,"",null,null,null,null,{"$f":"IF(G8216=\"\",\"\",VLOOKUP(G8216,'Lista de precios'!$B$7:$C$5000,2,0))","v":""}]
[null,null,"",null,null,null,null,{"$f":"IF(G8217=\"\",\"\",VLOOKUP(G8217,'Lista de precios'!$B$7:$C$5000,2,0))","v":""}]
[null,null,"",null,null,null,null,{"$f":"IF(G8218=\"\",\"\",VLOOKUP(G8218,'Lista de precios'!$B$7:$C$5000,2,0))","v":""}]
[null,null,"",null,null,null,null,{"$f":"IF(G8219=\"\",\"\",VLOOKUP(G8219,'Lista de precios'!$B$7:$C$5000,2,0))","v":""}]
[null,null,"",null,null,null,null,{"$f":"IF(G8220=\"\",\"\",VLOOKUP(G8220,'Lista de precios'!$B$7:$C$5000,2,0))","v":""}]
[null,null,"",null,null,null,null,{"$f":"IF(G8221=\"\",\"\",VLOOKUP(G8221,'Lista de precios'!$B$7:$C$5000,2,0))","v":""}]
[null,null,"",null,null,null,null,{"$f":"IF(G8222=\"\",\"\",VLOOKUP(G8222,'Lista de precios'!$B$7:$C$5000,2,0))","v":""}]
[null,null,"",null,null,null,null,{"$f":"IF(G8223=\"\",\"\",VLOOKUP(G8223,'Lista de precios'!$B$7:$C$5000,2,0))","v":""}]
[null,null,"",null,null,null,null,{"$f":"IF(G8224=\"\",\"\",VLOOKUP(G8224,'Lista de precios'!$B$7:$C$5000,2,0))","v":""}]
[null,null,"",null,null,null,null,{"$f":"IF(G8225=\"\",\"\",VLOOKUP(G8225,'Lista de precios'!$B$7:$C$5000,2,0))","v":""}]
[null,null,"",null,null,null,null,{"$f":"IF(G8226=\"\",\"\",VLOOKUP(G8226,'Lista de precios'!$B$7:$C$5000,2,0))","v":""}]
[null,null,"",null,null,null,null,{"$f":"IF(G8227=\"\",\"\",VLOOKUP(G8227,'Lista de precios'!$B$7:$C$5000,2,0))","v":""}]
[null,null,"",null,null,null,null,{"$f":"IF(G8228=\"\",\"\",VLOOKUP(G8228,'Lista de precios'!$B$7:$C$5000,2,0))","v":""}]
[null,null,"",null,null,null,null,{"$f":"IF(G8229=\"\",\"\",VLOOKUP(G8229,'Lista de precios'!$B$7:$C$5000,2,0))","v":""}]
[null,null,"",null,null,null,null,{"$f":"IF(G8230=\"\",\"\",VLOOKUP(G8230,'Lista de precios'!$B$7:$C$5000,2,0))","v":""}]
[null,null,"",null,null,null,null,{"$f":"IF(G8231=\"\",\"\",VLOOKUP(G8231,'Lista de precios'!$B$7:$C$5000,2,0))","v":""}]
[null,null,"",null,null,null,null,{"$f":"IF(G8232=\"\",\"\",VLOOKUP(G8232,'Lista de precios'!$B$7:$C$5000,2,0))","v":""}]
[null,null,"",null,null,null,null,{"$f":"IF(G8233=\"\",\"\",VLOOKUP(G8233,'Lista de precios'!$B$7:$C$5000,2,0))","v":""}]
[null,null,"",null,null,null,null,{"$f":"IF(G8234=\"\",\"\",VLOOKUP(G8234,'Lista de precios'!$B$7:$C$5000,2,0))","v":""}]
[null,null,"",null,null,null,null,{"$f":"IF(G8235=\"\",\"\",VLOOKUP(G8235,'Lista de precios'!$B$7:$C$5000,2,0))","v":""}]
[null,null,"",null,null,null,null,{"$f":"IF(G8236=\"\",\"\",VLOOKUP(G8236,'Lista de precios'!$B$7:$C$5000,2,0))","v":""}]
[null,null,"",null,null,null,null,{"$f":"IF(G8237=\"\",\"\",VLOOKUP(G8237,'Lista de precios'!$B$7:$C$5000,2,0))","v":""}]
[null,null,"",null,null,null,null,{"$f":"IF(G8238=\"\",\"\",VLOOKUP(G8238,'Lista de precios'!$B$7:$C$5000,2,0))","v":""}]
[null,null,"",null,null,null,null,{"$f":"IF(G8239=\"\",\"\",VLOOKUP(G8239,'Lista de precios'!$B$7:$C$5000,2,0))","v":""}]
[null,null,"",null,null,null,null,{"$f":"IF(G8240=\"\",\"\",VLOOKUP(G8240,'Lista de precios'!$B$7:$C$5000,2,0))","v":""}]
[null,null,"",null,null,null,null,{"$f":"IF(G8241=\"\",\"\",VLOOKUP(G8241,'Lista de precios'!$B$7:$C$5000,2,0))","v":""}]
[null,null,"",null,null,null,null,{"$f":"IF(G8242=\"\",\"\",VLOOKUP(G8242,'Lista de precios'!$B$7:$C$5000,2,0))","v":""}]
[null,null,"",null,null,null,null,{"$f":"IF(G8243=\"\",\"\",VLOOKUP(G8243,'Lista de precios'!$B$7:$C$5000,2,0))","v":""}]
[null,null,"",null,null,null,null,{"$f":"IF(G8244=\"\",\"\",VLOOKUP(G8244,'Lista de precios'!$B$7:$C$5000,2,0))","v":""}]
[null,null,"",null,null,null,null,{"$f":"IF(G8245=\"\",\"\",VLOOKUP(G8245,'Lista de precios'!$B$7:$C$5000,2,0))","v":""}]
[null,null,"",null,null,null,null,{"$f":"IF(G8246=\"\",\"\",VLOOKUP(G8246,'Lista de precios'!$B$7:$C$5000,2,0))","v":""}]
[null,null,"",null,null,null,null,{"$f":"IF(G8247=\"\",\"\",VLOOKUP(G8247,'Lista de precios'!$B$7:$C$5000,2,0))","v":""}]
[null,null,"",null,null,null,null,{"$f":"IF(G8248=\"\",\"\",VLOOKUP(G8248,'Lista de precios'!$B$7:$C$5000,2,0))","v":""}]
[null,null,"",null,null,null,null,{"$f":"IF(G8249=\"\",\"\",VLOOKUP(G8249,'Lista de precios'!$B$7:$C$5000,2,0))","v":""}]
[null,null,"",null,null,null,null,{"$f":"IF(G8250=\"\",\"\",VLOOKUP(G8250,'Lista de precios'!$B$7:$C$5000,2,0))","v":""}]
[null,null,"",null,null,null,null,{"$f":"IF(G8251=\"\",\"\",VLOOKUP(G8251,'Lista de precios'!$B$7:$C$5000,2,0))","v":""}]
[null,null,"",null,null,null,null,{"$f":"IF(G8252=\"\",\"\",VLOOKUP(G8252,'Lista de precios'!$B$7:$C$5000,2,0))","v":""}]
[null,null,"",null,null,null,null,{"$f":"IF(G8253=\"\",\"\",VLOOKUP(G8253,'Lista de precios'!$B$7:$C$5000,2,0))","v":""}]
[null,null,"",null,null,null,null,{"$f":"IF(G8254=\"\",\"\",VLOOKUP(G8254,'Lista de precios'!$B$7:$C$5000,2,0))","v":""}]
[null,null,"",null,null,null,null,{"$f":"IF(G8255=\"\",\"\",VLOOKUP(G8255,'Lista de precios'!$B$7:$C$5000,2,0))","v":""}]
[null,null,"",null,null,null,null,{"$f":"IF(G8256=\"\",\"\",VLOOKUP(G8256,'Lista de precios'!$B$7:$C$5000,2,0))","v":""}]
[null,null,"",null,null,null,null,{"$f":"IF(G8257=\"\",\"\",VLOOKUP(G8257,'Lista de precios'!$B$7:$C$5000,2,0))","v":""}]
[null,null,"",null,null,null,null,{"$f":"IF(G8258=\"\",\"\",VLOOKUP(G8258,'Lista de precios'!$B$7:$C$5000,2,0))","v":""}]
[null,null,"",null,null,null,null,{"$f":"IF(G8259=\"\",\"\",VLOOKUP(G8259,'Lista de precios'!$B$7:$C$5000,2,0))","v":""}]
[null,null,"",null,null,null,null,{"$f":"IF(G8260=\"\",\"\",VLOOKUP(G8260,'Lista de precios'!$B$7:$C$5000,2,0))","v":""}]
[null,null,"",null,null,null,null,{"$f":"IF(G8261=\"\",\"\",VLOOKUP(G8261,'Lista de precios'!$B$7:$C$5000,2,0))","v":""}]
[null,null,"",null,null,null,null,{"$f":"IF(G8262=\"\",\"\",VLOOKUP(G8262,'Lista de precios'!$B$7:$C$5000,2,0))","v":""}]
[null,null,"",null,null,null,null,{"$f":"IF(G8263=\"\",\"\",VLOOKUP(G8263,'Lista de precios'!$B$7:$C$5000,2,0))","v":""}]
[null,null,"",null,null,null,null,{"$f":"IF(G8264=\"\",\"\",VLOOKUP(G8264,'Lista de precios'!$B$7:$C$5000,2,0))","v":""}]
[null,null,"",null,null,null,null,{"$f":"IF(G8265=\"\",\"\",VLOOKUP(G8265,'Lista de precios'!$B$7:$C$5000,2,0))","v":""}]
[null,null,"",null,null,null,null,{"$f":"IF(G8266=\"\",\"\",VLOOKUP(G8266,'Lista de precios'!$B$7:$C$5000,2,0))","v":""}]
[null,null,"",null,null,null,null,{"$f":"IF(G8267=\"\",\"\",VLOOKUP(G8267,'Lista de precios'!$B$7:$C$5000,2,0))","v":""}]
[null,null,{"$f":"IF(B8268=\"\",\"\",TEXT(B8268,\"Mmmm\"))","v":""},null,null,null,null,{"$f":"IF(G8268=\"\",\"\",VLOOKUP(G8268,'Lista de precios'!$B$7:$C$5000,2,0))","v":""}]
[null,null,"",null,null,null,null,{"$f":"IF(G8269=\"\",\"\",VLOOKUP(G8269,'Lista de precios'!$B$7:$C$5000,2,0))","v":""}]
[null,null,"",null,null,null,null,{"$f":"IF(G8270=\"\",\"\",VLOOKUP(G8270,'Lista de precios'!$B$7:$C$5000,2,0))","v":""}]
[null,null,"",null,null,null,null,{"$f":"IF(G8271=\"\",\"\",VLOOKUP(G8271,'Lista de precios'!$B$7:$C$5000,2,0))","v":""}]
[null,null,"",null,null,null,null,{"$f":"IF(G8272=\"\",\"\",VLOOKUP(G8272,'Lista de precios'!$B$7:$C$5000,2,0))","v":""}]
[null,null,"",null,null,null,null,{"$f":"IF(G8273=\"\",\"\",VLOOKUP(G8273,'Lista de precios'!$B$7:$C$5000,2,0))","v":""}]
[null,null,"",null,null,null,null,{"$f":"IF(G8274=\"\",\"\",VLOOKUP(G8274,'Lista de precios'!$B$7:$C$5000,2,0))","v":""}]
[null,null,"",null,null,null,null,{"$f":"IF(G8275=\"\",\"\",VLOOKUP(G8275,'Lista de precios'!$B$7:$C$5000,2,0))","v":""}]
[null,null,"",null,null,null,null,{"$f":"IF(G8276=\"\",\"\",VLOOKUP(G8276,'Lista de precios'!$B$7:$C$5000,2,0))","v":""}]
[null,null,"",null,null,null,null,{"$f":"IF(G8277=\"\",\"\",VLOOKUP(G8277,'Lista de precios'!$B$7:$C$5000,2,0))","v":""}]
[null,null,"",null,null,null,null,{"$f":"IF(G8278=\"\",\"\",VLOOKUP(G8278,'Lista de precios'!$B$7:$C$5000,2,0))","v":""}]
[null,null,"",null,null,null,null,{"$f":"IF(G8279=\"\",\"\",VLOOKUP(G8279,'Lista de precios'!$B$7:$C$5000,2,0))","v":""}]
[null,null,"",null,null,null,null,{"$f":"IF(G8280=\"\",\"\",VLOOKUP(G8280,'Lista de precios'!$B$7:$C$5000,2,0))","v":""}]
[null,null,"",null,null,null,null,{"$f":"IF(G8281=\"\",\"\",VLOOKUP(G8281,'Lista de precios'!$B$7:$C$5000,2,0))","v":""}]
[null,null,"",null,null,null,null,{"$f":"IF(G8282=\"\",\"\",VLOOKUP(G8282,'Lista de precios'!$B$7:$C$5000,2,0))","v":""}]
[null,null,"",null,null,null,null,{"$f":"IF(G8283=\"\",\"\",VLOOKUP(G8283,'Lista de precios'!$B$7:$C$5000,2,0))","v":""}]
[null,null,"",null,null,null,null,{"$f":"IF(G8284=\"\",\"\",VLOOKUP(G8284,'Lista de precios'!$B$7:$C$5000,2,0))","v":""}]
[null,null,"",null,null,null,null,{"$f":"IF(G8285=\"\",\"\",VLOOKUP(G8285,'Lista de precios'!$B$7:$C$5000,2,0))","v":""}]
[null,null,"",null,null,null,null,{"$f":"IF(G8286=\"\",\"\",VLOOKUP(G8286,'Lista de precios'!$B$7:$C$5000,2,0))","v":""}]
[null,null,"",null,null,null,null,{"$f":"IF(G8287=\"\",\"\",VLOOKUP(G8287,'Lista de precios'!$B$7:$C$5000,2,0))","v":""}]
[null,null,"",null,null,null,null,{"$f":"IF(G8288=\"\",\"\",VLOOKUP(G8288,'Lista de precios'!$B$7:$C$5000,2,0))","v":""}]
[null,null,"",null,null,null,null,{"$f":"IF(G8289=\"\",\"\",VLOOKUP(G8289,'Lista de precios'!$B$7:$C$5000,2,0))","v":""}]
[null,null,"",null,null,null,null,{"$f":"IF(G8290=\"\",\"\",VLOOKUP(G8290,'Lista de precios'!$B$7:$C$5000,2,0))","v":""}]
[null,null,"",null,null,null,null,{"$f":"IF(G8291=\"\",\"\",VLOOKUP(G8291,'Lista de precios'!$B$7:$C$5000,2,0))","v":""}]
[null,null,"",null,null,null,null,{"$f":"IF(G8292=\"\",\"\",VLOOKUP(G8292,'Lista de precios'!$B$7:$C$5000,2,0))","v":""}]
[null,null,"",null,null,null,null,{"$f":"IF(G8293=\"\",\"\",VLOOKUP(G8293,'Lista de precios'!$B$7:$C$5000,2,0))","v":""}]
[null,null,"",null,null,null,null,{"$f":"IF(G8294=\"\",\"\",VLOOKUP(G8294,'Lista de precios'!$B$7:$C$5000,2,0))","v":""}]
[null,null,"",null,null,null,null,{"$f":"IF(G8295=\"\",\"\",VLOOKUP(G8295,'Lista de precios'!$B$7:$C$5000,2,0))","v":""}]
[null,null,"",null,null,null,null,{"$f":"IF(G8296=\"\",\"\",VLOOKUP(G8296,'Lista de precios'!$B$7:$C$5000,2,0))","v":""}]
[null,null,"",null,null,null,null,{"$f":"IF(G8297=\"\",\"\",VLOOKUP(G8297,'Lista de precios'!$B$7:$C$5000,2,0))","v":""}]
[null,null,"",null,null,null,null,{"$f":"IF(G8298=\"\",\"\",VLOOKUP(G8298,'Lista de precios'!$B$7:$C$5000,2,0))","v":""}]
[null,null,"",null,null,null,null,{"$f":"IF(G8299=\"\",\"\",VLOOKUP(G8299,'Lista de precios'!$B$7:$C$5000,2,0))","v":""}]
[null,null,"",null,null,null,null,{"$f":"IF(G8300=\"\",\"\",VLOOKUP(G8300,'Lista de precios'!$B$7:$C$5000,2,0))","v":""}]
[null,null,"",null,null,null,null,{"$f":"IF(G8301=\"\",\"\",VLOOKUP(G8301,'Lista de precios'!$B$7:$C$5000,2,0))","v":""}]
[null,null,"",null,null,null,null,{"$f":"IF(G8302=\"\",\"\",VLOOKUP(G8302,'Lista de precios'!$B$7:$C$5000,2,0))","v":""}]
[null,null,"",null,null,null,null,{"$f":"IF(G8303=\"\",\"\",VLOOKUP(G8303,'Lista de precios'!$B$7:$C$5000,2,0))","v":""}]
[null,null,"",null,null,null,null,{"$f":"IF(G8304=\"\",\"\",VLOOKUP(G8304,'Lista de precios'!$B$7:$C$5000,2,0))","v":""}]
[null,null,"",null,null,null,null,{"$f":"IF(G8305=\"\",\"\",VLOOKUP(G8305,'Lista de precios'!$B$7:$C$5000,2,0))","v":""}]
[null,null,"",null,null,null,null,{"$f":"IF(G8306=\"\",\"\",VLOOKUP(G8306,'Lista de precios'!$B$7:$C$5000,2,0))","v":""}]
[null,null,"",null,null,null,null,{"$f":"IF(G8307=\"\",\"\",VLOOKUP(G8307,'Lista de precios'!$B$7:$C$5000,2,0))","v":""}]
[null,null,"",null,null,null,null,{"$f":"IF(G8308=\"\",\"\",VLOOKUP(G8308,'Lista de precios'!$B$7:$C$5000,2,0))","v":""}]
[null,null,"",null,null,null,null,{"$f":"IF(G8309=\"\",\"\",VLOOKUP(G8309,'Lista de precios'!$B$7:$C$5000,2,0))","v":""}]
[null,null,"",null,null,null,null,{"$f":"IF(G8310=\"\",\"\",VLOOKUP(G8310,'Lista de precios'!$B$7:$C$5000,2,0))","v":""}]
[null,null,"",null,null,null,null,{"$f":"IF(G8311=\"\",\"\",VLOOKUP(G8311,'Lista de precios'!$B$7:$C$5000,2,0))","v":""}]
[null,null,"",null,null,null,null,{"$f":"IF(G8312=\"\",\"\",VLOOKUP(G8312,'Lista de precios'!$B$7:$C$5000,2,0))","v":""}]
[null,null,"",null,null,null,null,{"$f":"IF(G8313=\"\",\"\",VLOOKUP(G8313,'Lista de precios'!$B$7:$C$5000,2,0))","v":""}]
[null,null,"",null,null,null,null,{"$f":"IF(G8314=\"\",\"\",VLOOKUP(G8314,'Lista de precios'!$B$7:$C$5000,2,0))","v":""}]
[null,null,"",null,null,null,null,{"$f":"IF(G8315=\"\",\"\",VLOOKUP(G8315,'Lista de precios'!$B$7:$C$5000,2,0))","v":""}]
[null,null,"",null,null,null,null,{"$f":"IF(G8316=\"\",\"\",VLOOKUP(G8316,'Lista de precios'!$B$7:$C$5000,2,0))","v":""}]
[null,null,"",null,null,null,null,{"$f":"IF(G8317=\"\",\"\",VLOOKUP(G8317,'Lista de precios'!$B$7:$C$5000,2,0))","v":""}]
[null,null,"",null,null,null,null,{"$f":"IF(G8318=\"\",\"\",VLOOKUP(G8318,'Lista de precios'!$B$7:$C$5000,2,0))","v":""}]
[null,null,"",null,null,null,null,{"$f":"IF(G8319=\"\",\"\",VLOOKUP(G8319,'Lista de precios'!$B$7:$C$5000,2,0))","v":""}]
[null,null,"",null,null,null,null,{"$f":"IF(G8320=\"\",\"\",VLOOKUP(G8320,'Lista de precios'!$B$7:$C$5000,2,0))","v":""}]
[null,null,"",null,null,null,null,{"$f":"IF(G8321=\"\",\"\",VLOOKUP(G8321,'Lista de precios'!$B$7:$C$5000,2,0))","v":""}]
[null,null,"",null,null,null,null,{"$f":"IF(G8322=\"\",\"\",VLOOKUP(G8322,'Lista de precios'!$B$7:$C$5000,2,0))","v":""}]
[null,null,"",null,null,null,null,{"$f":"IF(G8323=\"\",\"\",VLOOKUP(G8323,'Lista de precios'!$B$7:$C$5000,2,0))","v":""}]
[null,null,"",null,null,null,null,{"$f":"IF(G8324=\"\",\"\",VLOOKUP(G8324,'Lista de precios'!$B$7:$C$5000,2,0))","v":""}]
[null,null,"",null,null,null,null,{"$f":"IF(G8325=\"\",\"\",VLOOKUP(G8325,'Lista de precios'!$B$7:$C$5000,2,0))","v":""}]
[null,null,"",null,null,null,null,{"$f":"IF(G8326=\"\",\"\",VLOOKUP(G8326,'Lista de precios'!$B$7:$C$5000,2,0))","v":""}]
[null,null,"",null,null,null,null,{"$f":"IF(G8327=\"\",\"\",VLOOKUP(G8327,'Lista de precios'!$B$7:$C$5000,2,0))","v":""}]
[null,null,"",null,null,null,null,{"$f":"IF(G8328=\"\",\"\",VLOOKUP(G8328,'Lista de precios'!$B$7:$C$5000,2,0))","v":""}]
[null,null,"",null,null,null,null,{"$f":"IF(G8329=\"\",\"\",VLOOKUP(G8329,'Lista de precios'!$B$7:$C$5000,2,0))","v":""}]
[null,null,"",null,null,null,null,{"$f":"IF(G8330=\"\",\"\",VLOOKUP(G8330,'Lista de precios'!$B$7:$C$5000,2,0))","v":""}]
[null,null,"",null,null,null,null,{"$f":"IF(G8331=\"\",\"\",VLOOKUP(G8331,'Lista de precios'!$B$7:$C$5000,2,0))","v":""}]
[null,null,{"$f":"IF(B8332=\"\",\"\",TEXT(B8332,\"Mmmm\"))","v":""},null,null,null,null,{"$f":"IF(G8332=\"\",\"\",VLOOKUP(G8332,'Lista de precios'!$B$7:$C$5000,2,0))","v":""}]
[null,null,"",null,null,null,null,{"$f":"IF(G8333=\"\",\"\",VLOOKUP(G8333,'Lista de precios'!$B$7:$C$5000,2,0))","v":""}]
[null,null,"",null,null,null,null,{"$f":"IF(G8334=\"\",\"\",VLOOKUP(G8334,'Lista de precios'!$B$7:$C$5000,2,0))","v":""}]
[null,null,"",null,null,null,null,{"$f":"IF(G8335=\"\",\"\",VLOOKUP(G8335,'Lista de precios'!$B$7:$C$5000,2,0))","v":""}]
[null,null,"",null,null,null,null,{"$f":"IF(G8336=\"\",\"\",VLOOKUP(G8336,'Lista de precios'!$B$7:$C$5000,2,0))","v":""}]
[null,null,"",null,null,null,null,{"$f":"IF(G8337=\"\",\"\",VLOOKUP(G8337,'Lista de precios'!$B$7:$C$5000,2,0))","v":""}]
[null,null,"",null,null,null,null,{"$f":"IF(G8338=\"\",\"\",VLOOKUP(G8338,'Lista de precios'!$B$7:$C$5000,2,0))","v":""}]
[null,null,"",null,null,null,null,{"$f":"IF(G8339=\"\",\"\",VLOOKUP(G8339,'Lista de precios'!$B$7:$C$5000,2,0))","v":""}]
[null,null,"",null,null,null,null,{"$f":"IF(G8340=\"\",\"\",VLOOKUP(G8340,'Lista de precios'!$B$7:$C$5000,2,0))","v":""}]
[null,null,"",null,null,null,null,{"$f":"IF(G8341=\"\",\"\",VLOOKUP(G8341,'Lista de precios'!$B$7:$C$5000,2,0))","v":""}]
[null,null,"",null,null,null,null,{"$f":"IF(G8342=\"\",\"\",VLOOKUP(G8342,'Lista de precios'!$B$7:$C$5000,2,0))","v":""}]
[null,null,"",null,null,null,null,{"$f":"IF(G8343=\"\",\"\",VLOOKUP(G8343,'Lista de precios'!$B$7:$C$5000,2,0))","v":""}]
[null,null,"",null,null,null,null,{"$f":"IF(G8344=\"\",\"\",VLOOKUP(G8344,'Lista de precios'!$B$7:$C$5000,2,0))","v":""}]
[null,null,"",null,null,null,null,{"$f":"IF(G8345=\"\",\"\",VLOOKUP(G8345,'Lista de precios'!$B$7:$C$5000,2,0))","v":""}]
[null,null,"",null,null,null,null,{"$f":"IF(G8346=\"\",\"\",VLOOKUP(G8346,'Lista de precios'!$B$7:$C$5000,2,0))","v":""}]
[null,null,"",null,null,null,null,{"$f":"IF(G8347=\"\",\"\",VLOOKUP(G8347,'Lista de precios'!$B$7:$C$5000,2,0))","v":""}]
[null,null,"",null,null,null,null,{"$f":"IF(G8348=\"\",\"\",VLOOKUP(G8348,'Lista de precios'!$B$7:$C$5000,2,0))","v":""}]
[null,null,"",null,null,null,null,{"$f":"IF(G8349=\"\",\"\",VLOOKUP(G8349,'Lista de precios'!$B$7:$C$5000,2,0))","v":""}]
[null,null,"",null,null,null,null,{"$f":"IF(G8350=\"\",\"\",VLOOKUP(G8350,'Lista de precios'!$B$7:$C$5000,2,0))","v":""}]
[null,null,"",null,null,null,null,{"$f":"IF(G8351=\"\",\"\",VLOOKUP(G8351,'Lista de precios'!$B$7:$C$5000,2,0))","v":""}]
[null,null,"",null,null,null,null,{"$f":"IF(G8352=\"\",\"\",VLOOKUP(G8352,'Lista de precios'!$B$7:$C$5000,2,0))","v":""}]
[null,null,"",null,null,null,null,{"$f":"IF(G8353=\"\",\"\",VLOOKUP(G8353,'Lista de precios'!$B$7:$C$5000,2,0))","v":""}]
[null,null,"",null,null,null,null,{"$f":"IF(G8354=\"\",\"\",VLOOKUP(G8354,'Lista de precios'!$B$7:$C$5000,2,0))","v":""}]
[null,null,"",null,null,null,null,{"$f":"IF(G8355=\"\",\"\",VLOOKUP(G8355,'Lista de precios'!$B$7:$C$5000,2,0))","v":""}]
[null,null,"",null,null,null,null,{"$f":"IF(G8356=\"\",\"\",VLOOKUP(G8356,'Lista de precios'!$B$7:$C$5000,2,0))","v":""}]
[null,null,"",null,null,null,null,{"$f":"IF(G8357=\"\",\"\",VLOOKUP(G8357,'Lista de precios'!$B$7:$C$5000,2,0))","v":""}]
[null,null,"",null,null,null,null,{"$f":"IF(G8358=\"\",\"\",VLOOKUP(G8358,'Lista de precios'!$B$7:$C$5000,2,0))","v":""}]
[null,null,"",null,null,null,null,{"$f":"IF(G8359=\"\",\"\",VLOOKUP(G8359,'Lista de precios'!$B$7:$C$5000,2,0))","v":""}]
[null,null,"",null,null,null,null,{"$f":"IF(G8360=\"\",\"\",VLOOKUP(G8360,'Lista de precios'!$B$7:$C$5000,2,0))","v":""}]
[null,null,"",null,null,null,null,{"$f":"IF(G8361=\"\",\"\",VLOOKUP(G8361,'Lista de precios'!$B$7:$C$5000,2,0))","v":""}]
[null,null,"",null,null,null,null,{"$f":"IF(G8362=\"\",\"\",VLOOKUP(G8362,'Lista de precios'!$B$7:$C$5000,2,0))","v":""}]
[null,null,"",null,null,null,null,{"$f":"IF(G8363=\"\",\"\",VLOOKUP(G8363,'Lista de precios'!$B$7:$C$5000,2,0))","v":""}]
[null,null,"",null,null,null,null,{"$f":"IF(G8364=\"\",\"\",VLOOKUP(G8364,'Lista de precios'!$B$7:$C$5000,2,0))","v":""}]
[null,null,"",null,null,null,null,{"$f":"IF(G8365=\"\",\"\",VLOOKUP(G8365,'Lista de precios'!$B$7:$C$5000,2,0))","v":""}]
[null,null,"",null,null,null,null,{"$f":"IF(G8366=\"\",\"\",VLOOKUP(G8366,'Lista de precios'!$B$7:$C$5000,2,0))","v":""}]
[null,null,"",null,null,null,null,{"$f":"IF(G8367=\"\",\"\",VLOOKUP(G8367,'Lista de precios'!$B$7:$C$5000,2,0))","v":""}]
[null,null,"",null,null,null,null,{"$f":"IF(G8368=\"\",\"\",VLOOKUP(G8368,'Lista de precios'!$B$7:$C$5000,2,0))","v":""}]
[null,null,"",null,null,null,null,{"$f":"IF(G8369=\"\",\"\",VLOOKUP(G8369,'Lista de precios'!$B$7:$C$5000,2,0))","v":""}]
[null,null,"",null,null,null,null,{"$f":"IF(G8370=\"\",\"\",VLOOKUP(G8370,'Lista de precios'!$B$7:$C$5000,2,0))","v":""}]
[null,null,"",null,null,null,null,{"$f":"IF(G8371=\"\",\"\",VLOOKUP(G8371,'Lista de precios'!$B$7:$C$5000,2,0))","v":""}]
[null,null,"",null,null,null,null,{"$f":"IF(G8372=\"\",\"\",VLOOKUP(G8372,'Lista de precios'!$B$7:$C$5000,2,0))","v":""}]
[null,null,"",null,null,null,null,{"$f":"IF(G8373=\"\",\"\",VLOOKUP(G8373,'Lista de precios'!$B$7:$C$5000,2,0))","v":""}]
[null,null,"",null,null,null,null,{"$f":"IF(G8374=\"\",\"\",VLOOKUP(G8374,'Lista de precios'!$B$7:$C$5000,2,0))","v":""}]
[null,null,"",null,null,null,null,{"$f":"IF(G8375=\"\",\"\",VLOOKUP(G8375,'Lista de precios'!$B$7:$C$5000,2,0))","v":""}]
[null,null,"",null,null,null,null,{"$f":"IF(G8376=\"\",\"\",VLOOKUP(G8376,'Lista de precios'!$B$7:$C$5000,2,0))","v":""}]
[null,null,"",null,null,null,null,{"$f":"IF(G8377=\"\",\"\",VLOOKUP(G8377,'Lista de precios'!$B$7:$C$5000,2,0))","v":""}]
[null,null,"",null,null,null,null,{"$f":"IF(G8378=\"\",\"\",VLOOKUP(G8378,'Lista de precios'!$B$7:$C$5000,2,0))","v":""}]
[null,null,"",null,null,null,null,{"$f":"IF(G8379=\"\",\"\",VLOOKUP(G8379,'Lista de precios'!$B$7:$C$5000,2,0))","v":""}]
[null,null,"",null,null,null,null,{"$f":"IF(G8380=\"\",\"\",VLOOKUP(G8380,'Lista de precios'!$B$7:$C$5000,2,0))","v":""}]
[null,null,"",null,null,null,null,{"$f":"IF(G8381=\"\",\"\",VLOOKUP(G8381,'Lista de precios'!$B$7:$C$5000,2,0))","v":""}]
[null,null,"",null,null,null,null,{"$f":"IF(G8382=\"\",\"\",VLOOKUP(G8382,'Lista de precios'!$B$7:$C$5000,2,0))","v":""}]
[null,null,"",null,null,null,null,{"$f":"IF(G8383=\"\",\"\",VLOOKUP(G8383,'Lista de precios'!$B$7:$C$5000,2,0))","v":""}]
[null,null,"",null,null,null,null,{"$f":"IF(G8384=\"\",\"\",VLOOKUP(G8384,'Lista de precios'!$B$7:$C$5000,2,0))","v":""}]
[null,null,"",null,null,null,null,{"$f":"IF(G8385=\"\",\"\",VLOOKUP(G8385,'Lista de precios'!$B$7:$C$5000,2,0))","v":""}]
[null,null,"",null,null,null,null,{"$f":"IF(G8386=\"\",\"\",VLOOKUP(G8386,'Lista de precios'!$B$7:$C$5000,2,0))","v":""}]
[null,null,"",null,null,null,null,{"$f":"IF(G8387=\"\",\"\",VLOOKUP(G8387,'Lista de precios'!$B$7:$C$5000,2,0))","v":""}]
[null,null,"",null,null,null,null,{"$f":"IF(G8388=\"\",\"\",VLOOKUP(G8388,'Lista de precios'!$B$7:$C$5000,2,0))","v":""}]
[null,null,"",null,null,null,null,{"$f":"IF(G8389=\"\",\"\",VLOOKUP(G8389,'Lista de precios'!$B$7:$C$5000,2,0))","v":""}]
[null,null,"",null,null,null,null,{"$f":"IF(G8390=\"\",\"\",VLOOKUP(G8390,'Lista de precios'!$B$7:$C$5000,2,0))","v":""}]
[null,null,"",null,null,null,null,{"$f":"IF(G8391=\"\",\"\",VLOOKUP(G8391,'Lista de precios'!$B$7:$C$5000,2,0))","v":""}]
[null,null,"",null,null,null,null,{"$f":"IF(G8392=\"\",\"\",VLOOKUP(G8392,'Lista de precios'!$B$7:$C$5000,2,0))","v":""}]
[null,null,"",null,null,null,null,{"$f":"IF(G8393=\"\",\"\",VLOOKUP(G8393,'Lista de precios'!$B$7:$C$5000,2,0))","v":""}]
[null,null,"",null,null,null,null,{"$f":"IF(G8394=\"\",\"\",VLOOKUP(G8394,'Lista de precios'!$B$7:$C$5000,2,0))","v":""}]
[null,null,"",null,null,null,null,{"$f":"IF(G8395=\"\",\"\",VLOOKUP(G8395,'Lista de precios'!$B$7:$C$5000,2,0))","v":""}]
[null,null,{"$f":"IF(B8396=\"\",\"\",TEXT(B8396,\"Mmmm\"))","v":""},null,null,null,null,{"$f":"IF(G8396=\"\",\"\",VLOOKUP(G8396,'Lista de precios'!$B$7:$C$5000,2,0))","v":""}]
[null,null,"",null,null,null,null,{"$f":"IF(G8397=\"\",\"\",VLOOKUP(G8397,'Lista de precios'!$B$7:$C$5000,2,0))","v":""}]
[null,null,"",null,null,null,null,{"$f":"IF(G8398=\"\",\"\",VLOOKUP(G8398,'Lista de precios'!$B$7:$C$5000,2,0))","v":""}]
[null,null,"",null,null,null,null,{"$f":"IF(G8399=\"\",\"\",VLOOKUP(G8399,'Lista de precios'!$B$7:$C$5000,2,0))","v":""}]
[null,null,"",null,null,null,null,{"$f":"IF(G8400=\"\",\"\",VLOOKUP(G8400,'Lista de precios'!$B$7:$C$5000,2,0))","v":""}]
[null,null,"",null,null,null,null,{"$f":"IF(G8401=\"\",\"\",VLOOKUP(G8401,'Lista de precios'!$B$7:$C$5000,2,0))","v":""}]
[null,null,"",null,null,null,null,{"$f":"IF(G8402=\"\",\"\",VLOOKUP(G8402,'Lista de precios'!$B$7:$C$5000,2,0))","v":""}]
[null,null,"",null,null,null,null,{"$f":"IF(G8403=\"\",\"\",VLOOKUP(G8403,'Lista de precios'!$B$7:$C$5000,2,0))","v":""}]
[null,null,"",null,null,null,null,{"$f":"IF(G8404=\"\",\"\",VLOOKUP(G8404,'Lista de precios'!$B$7:$C$5000,2,0))","v":""}]
[null,null,"",null,null,null,null,{"$f":"IF(G8405=\"\",\"\",VLOOKUP(G8405,'Lista de precios'!$B$7:$C$5000,2,0))","v":""}]
[null,null,"",null,null,null,null,{"$f":"IF(G8406=\"\",\"\",VLOOKUP(G8406,'Lista de precios'!$B$7:$C$5000,2,0))","v":""}]
[null,null,"",null,null,null,null,{"$f":"IF(G8407=\"\",\"\",VLOOKUP(G8407,'Lista de precios'!$B$7:$C$5000,2,0))","v":""}]
[null,null,"",null,null,null,null,{"$f":"IF(G8408=\"\",\"\",VLOOKUP(G8408,'Lista de precios'!$B$7:$C$5000,2,0))","v":""}]
[null,null,"",null,null,null,null,{"$f":"IF(G8409=\"\",\"\",VLOOKUP(G8409,'Lista de precios'!$B$7:$C$5000,2,0))","v":""}]
[null,null,"",null,null,null,null,{"$f":"IF(G8410=\"\",\"\",VLOOKUP(G8410,'Lista de precios'!$B$7:$C$5000,2,0))","v":""}]
[null,null,"",null,null,null,null,{"$f":"IF(G8411=\"\",\"\",VLOOKUP(G8411,'Lista de precios'!$B$7:$C$5000,2,0))","v":""}]
[null,null,"",null,null,null,null,{"$f":"IF(G8412=\"\",\"\",VLOOKUP(G8412,'Lista de precios'!$B$7:$C$5000,2,0))","v":""}]
[null,null,"",null,null,null,null,{"$f":"IF(G8413=\"\",\"\",VLOOKUP(G8413,'Lista de precios'!$B$7:$C$5000,2,0))","v":""}]
[null,null,"",null,null,null,null,{"$f":"IF(G8414=\"\",\"\",VLOOKUP(G8414,'Lista de precios'!$B$7:$C$5000,2,0))","v":""}]
[null,null,"",null,null,null,null,{"$f":"IF(G8415=\"\",\"\",VLOOKUP(G8415,'Lista de precios'!$B$7:$C$5000,2,0))","v":""}]
[null,null,"",null,null,null,null,{"$f":"IF(G8416=\"\",\"\",VLOOKUP(G8416,'Lista de precios'!$B$7:$C$5000,2,0))","v":""}]
[null,null,"",null,null,null,null,{"$f":"IF(G8417=\"\",\"\",VLOOKUP(G8417,'Lista de precios'!$B$7:$C$5000,2,0))","v":""}]
[null,null,"",null,null,null,null,{"$f":"IF(G8418=\"\",\"\",VLOOKUP(G8418,'Lista de precios'!$B$7:$C$5000,2,0))","v":""}]
[null,null,"",null,null,null,null,{"$f":"IF(G8419=\"\",\"\",VLOOKUP(G8419,'Lista de precios'!$B$7:$C$5000,2,0))","v":""}]
[null,null,"",null,null,null,null,{"$f":"IF(G8420=\"\",\"\",VLOOKUP(G8420,'Lista de precios'!$B$7:$C$5000,2,0))","v":""}]
[null,null,"",null,null,null,null,{"$f":"IF(G8421=\"\",\"\",VLOOKUP(G8421,'Lista de precios'!$B$7:$C$5000,2,0))","v":""}]
[null,null,"",null,null,null,null,{"$f":"IF(G8422=\"\",\"\",VLOOKUP(G8422,'Lista de precios'!$B$7:$C$5000,2,0))","v":""}]
[null,null,"",null,null,null,null,{"$f":"IF(G8423=\"\",\"\",VLOOKUP(G8423,'Lista de precios'!$B$7:$C$5000,2,0))","v":""}]
[null,null,"",null,null,null,null,{"$f":"IF(G8424=\"\",\"\",VLOOKUP(G8424,'Lista de precios'!$B$7:$C$5000,2,0))","v":""}]
[null,null,"",null,null,null,null,{"$f":"IF(G8425=\"\",\"\",VLOOKUP(G8425,'Lista de precios'!$B$7:$C$5000,2,0))","v":""}]
[null,null,"",null,null,null,null,{"$f":"IF(G8426=\"\",\"\",VLOOKUP(G8426,'Lista de precios'!$B$7:$C$5000,2,0))","v":""}]
[null,null,"",null,null,null,null,{"$f":"IF(G8427=\"\",\"\",VLOOKUP(G8427,'Lista de precios'!$B$7:$C$5000,2,0))","v":""}]
[null,null,"",null,null,null,null,{"$f":"IF(G8428=\"\",\"\",VLOOKUP(G8428,'Lista de precios'!$B$7:$C$5000,2,0))","v":""}]
[null,null,"",null,null,null,null,{"$f":"IF(G8429=\"\",\"\",VLOOKUP(G8429,'Lista de precios'!$B$7:$C$5000,2,0))","v":""}]
[null,null,"",null,null,null,null,{"$f":"IF(G8430=\"\",\"\",VLOOKUP(G8430,'Lista de precios'!$B$7:$C$5000,2,0))","v":""}]
[null,null,"",null,null,null,null,{"$f":"IF(G8431=\"\",\"\",VLOOKUP(G8431,'Lista de precios'!$B$7:$C$5000,2,0))","v":""}]
[null,null,"",null,null,null,null,{"$f":"IF(G8432=\"\",\"\",VLOOKUP(G8432,'Lista de precios'!$B$7:$C$5000,2,0))","v":""}]
[null,null,"",null,null,null,null,{"$f":"IF(G8433=\"\",\"\",VLOOKUP(G8433,'Lista de precios'!$B$7:$C$5000,2,0))","v":""}]
[null,null,"",null,null,null,null,{"$f":"IF(G8434=\"\",\"\",VLOOKUP(G8434,'Lista de precios'!$B$7:$C$5000,2,0))","v":""}]
[null,null,"",null,null,null,null,{"$f":"IF(G8435=\"\",\"\",VLOOKUP(G8435,'Lista de precios'!$B$7:$C$5000,2,0))","v":""}]
[null,null,"",null,null,null,null,{"$f":"IF(G8436=\"\",\"\",VLOOKUP(G8436,'Lista de precios'!$B$7:$C$5000,2,0))","v":""}]
[null,null,"",null,null,null,null,{"$f":"IF(G8437=\"\",\"\",VLOOKUP(G8437,'Lista de precios'!$B$7:$C$5000,2,0))","v":""}]
[null,null,"",null,null,null,null,{"$f":"IF(G8438=\"\",\"\",VLOOKUP(G8438,'Lista de precios'!$B$7:$C$5000,2,0))","v":""}]
[null,null,"",null,null,null,null,{"$f":"IF(G8439=\"\",\"\",VLOOKUP(G8439,'Lista de precios'!$B$7:$C$5000,2,0))","v":""}]
[null,null,"",null,null,null,null,{"$f":"IF(G8440=\"\",\"\",VLOOKUP(G8440,'Lista de precios'!$B$7:$C$5000,2,0))","v":""}]
[null,null,"",null,null,null,null,{"$f":"IF(G8441=\"\",\"\",VLOOKUP(G8441,'Lista de precios'!$B$7:$C$5000,2,0))","v":""}]
[null,null,"",null,null,null,null,{"$f":"IF(G8442=\"\",\"\",VLOOKUP(G8442,'Lista de precios'!$B$7:$C$5000,2,0))","v":""}]
[null,null,"",null,null,null,null,{"$f":"IF(G8443=\"\",\"\",VLOOKUP(G8443,'Lista de precios'!$B$7:$C$5000,2,0))","v":""}]
[null,null,"",null,null,null,null,{"$f":"IF(G8444=\"\",\"\",VLOOKUP(G8444,'Lista de precios'!$B$7:$C$5000,2,0))","v":""}]
[null,null,"",null,null,null,null,{"$f":"IF(G8445=\"\",\"\",VLOOKUP(G8445,'Lista de precios'!$B$7:$C$5000,2,0))","v":""}]
[null,null,"",null,null,null,null,{"$f":"IF(G8446=\"\",\"\",VLOOKUP(G8446,'Lista de precios'!$B$7:$C$5000,2,0))","v":""}]
[null,null,"",null,null,null,null,{"$f":"IF(G8447=\"\",\"\",VLOOKUP(G8447,'Lista de precios'!$B$7:$C$5000,2,0))","v":""}]
[null,null,"",null,null,null,null,{"$f":"IF(G8448=\"\",\"\",VLOOKUP(G8448,'Lista de precios'!$B$7:$C$5000,2,0))","v":""}]
[null,null,"",null,null,null,null,{"$f":"IF(G8449=\"\",\"\",VLOOKUP(G8449,'Lista de precios'!$B$7:$C$5000,2,0))","v":""}]
[null,null,"",null,null,null,null,{"$f":"IF(G8450=\"\",\"\",VLOOKUP(G8450,'Lista de precios'!$B$7:$C$5000,2,0))","v":""}]
[null,null,"",null,null,null,null,{"$f":"IF(G8451=\"\",\"\",VLOOKUP(G8451,'Lista de precios'!$B$7:$C$5000,2,0))","v":""}]
[null,null,"",null,null,null,null,{"$f":"IF(G8452=\"\",\"\",VLOOKUP(G8452,'Lista de precios'!$B$7:$C$5000,2,0))","v":""}]
[null,null,"",null,null,null,null,{"$f":"IF(G8453=\"\",\"\",VLOOKUP(G8453,'Lista de precios'!$B$7:$C$5000,2,0))","v":""}]
[null,null,"",null,null,null,null,{"$f":"IF(G8454=\"\",\"\",VLOOKUP(G8454,'Lista de precios'!$B$7:$C$5000,2,0))","v":""}]
[null,null,"",null,null,null,null,{"$f":"IF(G8455=\"\",\"\",VLOOKUP(G8455,'Lista de precios'!$B$7:$C$5000,2,0))","v":""}]
[null,null,"",null,null,null,null,{"$f":"IF(G8456=\"\",\"\",VLOOKUP(G8456,'Lista de precios'!$B$7:$C$5000,2,0))","v":""}]
[null,null,"",null,null,null,null,{"$f":"IF(G8457=\"\",\"\",VLOOKUP(G8457,'Lista de precios'!$B$7:$C$5000,2,0))","v":""}]
[null,null,"",null,null,null,null,{"$f":"IF(G8458=\"\",\"\",VLOOKUP(G8458,'Lista de precios'!$B$7:$C$5000,2,0))","v":""}]
[null,null,"",null,null,null,null,{"$f":"IF(G8459=\"\",\"\",VLOOKUP(G8459,'Lista de precios'!$B$7:$C$5000,2,0))","v":""}]
[null,null,{"$f":"IF(B8460=\"\",\"\",TEXT(B8460,\"Mmmm\"))","v":""},null,null,null,null,{"$f":"IF(G8460=\"\",\"\",VLOOKUP(G8460,'Lista de precios'!$B$7:$C$5000,2,0))","v":""}]
[null,null,"",null,null,null,null,{"$f":"IF(G8461=\"\",\"\",VLOOKUP(G8461,'Lista de precios'!$B$7:$C$5000,2,0))","v":""}]
[null,null,"",null,null,null,null,{"$f":"IF(G8462=\"\",\"\",VLOOKUP(G8462,'Lista de precios'!$B$7:$C$5000,2,0))","v":""}]
[null,null,"",null,null,null,null,{"$f":"IF(G8463=\"\",\"\",VLOOKUP(G8463,'Lista de precios'!$B$7:$C$5000,2,0))","v":""}]
[null,null,"",null,null,null,null,{"$f":"IF(G8464=\"\",\"\",VLOOKUP(G8464,'Lista de precios'!$B$7:$C$5000,2,0))","v":""}]
[null,null,"",null,null,null,null,{"$f":"IF(G8465=\"\",\"\",VLOOKUP(G8465,'Lista de precios'!$B$7:$C$5000,2,0))","v":""}]
[null,null,"",null,null,null,null,{"$f":"IF(G8466=\"\",\"\",VLOOKUP(G8466,'Lista de precios'!$B$7:$C$5000,2,0))","v":""}]
[null,null,"",null,null,null,null,{"$f":"IF(G8467=\"\",\"\",VLOOKUP(G8467,'Lista de precios'!$B$7:$C$5000,2,0))","v":""}]
[null,null,"",null,null,null,null,{"$f":"IF(G8468=\"\",\"\",VLOOKUP(G8468,'Lista de precios'!$B$7:$C$5000,2,0))","v":""}]
[null,null,"",null,null,null,null,{"$f":"IF(G8469=\"\",\"\",VLOOKUP(G8469,'Lista de precios'!$B$7:$C$5000,2,0))","v":""}]
[null,null,"",null,null,null,null,{"$f":"IF(G8470=\"\",\"\",VLOOKUP(G8470,'Lista de precios'!$B$7:$C$5000,2,0))","v":""}]
[null,null,"",null,null,null,null,{"$f":"IF(G8471=\"\",\"\",VLOOKUP(G8471,'Lista de precios'!$B$7:$C$5000,2,0))","v":""}]
[null,null,"",null,null,null,null,{"$f":"IF(G8472=\"\",\"\",VLOOKUP(G8472,'Lista de precios'!$B$7:$C$5000,2,0))","v":""}]
[null,null,"",null,null,null,null,{"$f":"IF(G8473=\"\",\"\",VLOOKUP(G8473,'Lista de precios'!$B$7:$C$5000,2,0))","v":""}]
[null,null,"",null,null,null,null,{"$f":"IF(G8474=\"\",\"\",VLOOKUP(G8474,'Lista de precios'!$B$7:$C$5000,2,0))","v":""}]
[null,null,"",null,null,null,null,{"$f":"IF(G8475=\"\",\"\",VLOOKUP(G8475,'Lista de precios'!$B$7:$C$5000,2,0))","v":""}]
[null,null,"",null,null,null,null,{"$f":"IF(G8476=\"\",\"\",VLOOKUP(G8476,'Lista de precios'!$B$7:$C$5000,2,0))","v":""}]
[null,null,"",null,null,null,null,{"$f":"IF(G8477=\"\",\"\",VLOOKUP(G8477,'Lista de precios'!$B$7:$C$5000,2,0))","v":""}]
[null,null,"",null,null,null,null,{"$f":"IF(G8478=\"\",\"\",VLOOKUP(G8478,'Lista de precios'!$B$7:$C$5000,2,0))","v":""}]
[null,null,"",null,null,null,null,{"$f":"IF(G8479=\"\",\"\",VLOOKUP(G8479,'Lista de precios'!$B$7:$C$5000,2,0))","v":""}]
[null,null,"",null,null,null,null,{"$f":"IF(G8480=\"\",\"\",VLOOKUP(G8480,'Lista de precios'!$B$7:$C$5000,2,0))","v":""}]
[null,null,"",null,null,null,null,{"$f":"IF(G8481=\"\",\"\",VLOOKUP(G8481,'Lista de precios'!$B$7:$C$5000,2,0))","v":""}]
[null,null,"",null,null,null,null,{"$f":"IF(G8482=\"\",\"\",VLOOKUP(G8482,'Lista de precios'!$B$7:$C$5000,2,0))","v":""}]
[null,null,"",null,null,null,null,{"$f":"IF(G8483=\"\",\"\",VLOOKUP(G8483,'Lista de precios'!$B$7:$C$5000,2,0))","v":""}]
[null,null,"",null,null,null,null,{"$f":"IF(G8484=\"\",\"\",VLOOKUP(G8484,'Lista de precios'!$B$7:$C$5000,2,0))","v":""}]
[null,null,"",null,null,null,null,{"$f":"IF(G8485=\"\",\"\",VLOOKUP(G8485,'Lista de precios'!$B$7:$C$5000,2,0))","v":""}]
[null,null,"",null,null,null,null,{"$f":"IF(G8486=\"\",\"\",VLOOKUP(G8486,'Lista de precios'!$B$7:$C$5000,2,0))","v":""}]
[null,null,"",null,null,null,null,{"$f":"IF(G8487=\"\",\"\",VLOOKUP(G8487,'Lista de precios'!$B$7:$C$5000,2,0))","v":""}]
[null,null,"",null,null,null,null,{"$f":"IF(G8488=\"\",\"\",VLOOKUP(G8488,'Lista de precios'!$B$7:$C$5000,2,0))","v":""}]
[null,null,"",null,null,null,null,{"$f":"IF(G8489=\"\",\"\",VLOOKUP(G8489,'Lista de precios'!$B$7:$C$5000,2,0))","v":""}]
[null,null,"",null,null,null,null,{"$f":"IF(G8490=\"\",\"\",VLOOKUP(G8490,'Lista de precios'!$B$7:$C$5000,2,0))","v":""}]
[null,null,"",null,null,null,null,{"$f":"IF(G8491=\"\",\"\",VLOOKUP(G8491,'Lista de precios'!$B$7:$C$5000,2,0))","v":""}]
[null,null,"",null,null,null,null,{"$f":"IF(G8492=\"\",\"\",VLOOKUP(G8492,'Lista de precios'!$B$7:$C$5000,2,0))","v":""}]
[null,null,"",null,null,null,null,{"$f":"IF(G8493=\"\",\"\",VLOOKUP(G8493,'Lista de precios'!$B$7:$C$5000,2,0))","v":""}]
[null,null,"",null,null,null,null,{"$f":"IF(G8494=\"\",\"\",VLOOKUP(G8494,'Lista de precios'!$B$7:$C$5000,2,0))","v":""}]
[null,null,"",null,null,null,null,{"$f":"IF(G8495=\"\",\"\",VLOOKUP(G8495,'Lista de precios'!$B$7:$C$5000,2,0))","v":""}]
[null,null,"",null,null,null,null,{"$f":"IF(G8496=\"\",\"\",VLOOKUP(G8496,'Lista de precios'!$B$7:$C$5000,2,0))","v":""}]
[null,null,"",null,null,null,null,{"$f":"IF(G8497=\"\",\"\",VLOOKUP(G8497,'Lista de precios'!$B$7:$C$5000,2,0))","v":""}]
[null,null,"",null,null,null,null,{"$f":"IF(G8498=\"\",\"\",VLOOKUP(G8498,'Lista de precios'!$B$7:$C$5000,2,0))","v":""}]
[null,null,"",null,null,null,null,{"$f":"IF(G8499=\"\",\"\",VLOOKUP(G8499,'Lista de precios'!$B$7:$C$5000,2,0))","v":""}]
[null,null,"",null,null,null,null,{"$f":"IF(G8500=\"\",\"\",VLOOKUP(G8500,'Lista de precios'!$B$7:$C$5000,2,0))","v":""}]
[null,null,"",null,null,null,null,{"$f":"IF(G8501=\"\",\"\",VLOOKUP(G8501,'Lista de precios'!$B$7:$C$5000,2,0))","v":""}]
[null,null,"",null,null,null,null,{"$f":"IF(G8502=\"\",\"\",VLOOKUP(G8502,'Lista de precios'!$B$7:$C$5000,2,0))","v":""}]
[null,null,"",null,null,null,null,{"$f":"IF(G8503=\"\",\"\",VLOOKUP(G8503,'Lista de precios'!$B$7:$C$5000,2,0))","v":""}]
[null,null,"",null,null,null,null,{"$f":"IF(G8504=\"\",\"\",VLOOKUP(G8504,'Lista de precios'!$B$7:$C$5000,2,0))","v":""}]
[null,null,"",null,null,null,null,{"$f":"IF(G8505=\"\",\"\",VLOOKUP(G8505,'Lista de precios'!$B$7:$C$5000,2,0))","v":""}]
[null,null,"",null,null,null,null,{"$f":"IF(G8506=\"\",\"\",VLOOKUP(G8506,'Lista de precios'!$B$7:$C$5000,2,0))","v":""}]
[null,null,"",null,null,null,null,{"$f":"IF(G8507=\"\",\"\",VLOOKUP(G8507,'Lista de precios'!$B$7:$C$5000,2,0))","v":""}]
[null,null,"",null,null,null,null,{"$f":"IF(G8508=\"\",\"\",VLOOKUP(G8508,'Lista de precios'!$B$7:$C$5000,2,0))","v":""}]
[null,null,"",null,null,null,null,{"$f":"IF(G8509=\"\",\"\",VLOOKUP(G8509,'Lista de precios'!$B$7:$C$5000,2,0))","v":""}]
[null,null,"",null,null,null,null,{"$f":"IF(G8510=\"\",\"\",VLOOKUP(G8510,'Lista de precios'!$B$7:$C$5000,2,0))","v":""}]
[null,null,"",null,null,null,null,{"$f":"IF(G8511=\"\",\"\",VLOOKUP(G8511,'Lista de precios'!$B$7:$C$5000,2,0))","v":""}]
[null,null,"",null,null,null,null,{"$f":"IF(G8512=\"\",\"\",VLOOKUP(G8512,'Lista de precios'!$B$7:$C$5000,2,0))","v":""}]
[null,null,"",null,null,null,null,{"$f":"IF(G8513=\"\",\"\",VLOOKUP(G8513,'Lista de precios'!$B$7:$C$5000,2,0))","v":""}]
[null,null,"",null,null,null,null,{"$f":"IF(G8514=\"\",\"\",VLOOKUP(G8514,'Lista de precios'!$B$7:$C$5000,2,0))","v":""}]
[null,null,"",null,null,null,null,{"$f":"IF(G8515=\"\",\"\",VLOOKUP(G8515,'Lista de precios'!$B$7:$C$5000,2,0))","v":""}]
[null,null,"",null,null,null,null,{"$f":"IF(G8516=\"\",\"\",VLOOKUP(G8516,'Lista de precios'!$B$7:$C$5000,2,0))","v":""}]
[null,null,"",null,null,null,null,{"$f":"IF(G8517=\"\",\"\",VLOOKUP(G8517,'Lista de precios'!$B$7:$C$5000,2,0))","v":""}]
[null,null,"",null,null,null,null,{"$f":"IF(G8518=\"\",\"\",VLOOKUP(G8518,'Lista de precios'!$B$7:$C$5000,2,0))","v":""}]
[null,null,"",null,null,null,null,{"$f":"IF(G8519=\"\",\"\",VLOOKUP(G8519,'Lista de precios'!$B$7:$C$5000,2,0))","v":""}]
[null,null,"",null,null,null,null,{"$f":"IF(G8520=\"\",\"\",VLOOKUP(G8520,'Lista de precios'!$B$7:$C$5000,2,0))","v":""}]
[null,null,"",null,null,null,null,{"$f":"IF(G8521=\"\",\"\",VLOOKUP(G8521,'Lista de precios'!$B$7:$C$5000,2,0))","v":""}]
[null,null,"",null,null,null,null,{"$f":"IF(G8522=\"\",\"\",VLOOKUP(G8522,'Lista de precios'!$B$7:$C$5000,2,0))","v":""}]
[null,null,"",null,null,null,null,{"$f":"IF(G8523=\"\",\"\",VLOOKUP(G8523,'Lista de precios'!$B$7:$C$5000,2,0))","v":""}]
[null,null,{"$f":"IF(B8524=\"\",\"\",TEXT(B8524,\"Mmmm\"))","v":""},null,null,null,null,{"$f":"IF(G8524=\"\",\"\",VLOOKUP(G8524,'Lista de precios'!$B$7:$C$5000,2,0))","v":""}]
[null,null,"",null,null,null,null,{"$f":"IF(G8525=\"\",\"\",VLOOKUP(G8525,'Lista de precios'!$B$7:$C$5000,2,0))","v":""}]
[null,null,"",null,null,null,null,{"$f":"IF(G8526=\"\",\"\",VLOOKUP(G8526,'Lista de precios'!$B$7:$C$5000,2,0))","v":""}]
[null,null,"",null,null,null,null,{"$f":"IF(G8527=\"\",\"\",VLOOKUP(G8527,'Lista de precios'!$B$7:$C$5000,2,0))","v":""}]
[null,null,"",null,null,null,null,{"$f":"IF(G8528=\"\",\"\",VLOOKUP(G8528,'Lista de precios'!$B$7:$C$5000,2,0))","v":""}]
[null,null,"",null,null,null,null,{"$f":"IF(G8529=\"\",\"\",VLOOKUP(G8529,'Lista de precios'!$B$7:$C$5000,2,0))","v":""}]
[null,null,"",null,null,null,null,{"$f":"IF(G8530=\"\",\"\",VLOOKUP(G8530,'Lista de precios'!$B$7:$C$5000,2,0))","v":""}]
[null,null,"",null,null,null,null,{"$f":"IF(G8531=\"\",\"\",VLOOKUP(G8531,'Lista de precios'!$B$7:$C$5000,2,0))","v":""}]
[null,null,"",null,null,null,null,{"$f":"IF(G8532=\"\",\"\",VLOOKUP(G8532,'Lista de precios'!$B$7:$C$5000,2,0))","v":""}]
[null,null,"",null,null,null,null,{"$f":"IF(G8533=\"\",\"\",VLOOKUP(G8533,'Lista de precios'!$B$7:$C$5000,2,0))","v":""}]
[null,null,"",null,null,null,null,{"$f":"IF(G8534=\"\",\"\",VLOOKUP(G8534,'Lista de precios'!$B$7:$C$5000,2,0))","v":""}]
[null,null,"",null,null,null,null,{"$f":"IF(G8535=\"\",\"\",VLOOKUP(G8535,'Lista de precios'!$B$7:$C$5000,2,0))","v":""}]
[null,null,"",null,null,null,null,{"$f":"IF(G8536=\"\",\"\",VLOOKUP(G8536,'Lista de precios'!$B$7:$C$5000,2,0))","v":""}]
[null,null,"",null,null,null,null,{"$f":"IF(G8537=\"\",\"\",VLOOKUP(G8537,'Lista de precios'!$B$7:$C$5000,2,0))","v":""}]
[null,null,"",null,null,null,null,{"$f":"IF(G8538=\"\",\"\",VLOOKUP(G8538,'Lista de precios'!$B$7:$C$5000,2,0))","v":""}]
[null,null,"",null,null,null,null,{"$f":"IF(G8539=\"\",\"\",VLOOKUP(G8539,'Lista de precios'!$B$7:$C$5000,2,0))","v":""}]
[null,null,"",null,null,null,null,{"$f":"IF(G8540=\"\",\"\",VLOOKUP(G8540,'Lista de precios'!$B$7:$C$5000,2,0))","v":""}]
[null,null,"",null,null,null,null,{"$f":"IF(G8541=\"\",\"\",VLOOKUP(G8541,'Lista de precios'!$B$7:$C$5000,2,0))","v":""}]
[null,null,"",null,null,null,null,{"$f":"IF(G8542=\"\",\"\",VLOOKUP(G8542,'Lista de precios'!$B$7:$C$5000,2,0))","v":""}]
[null,null,"",null,null,null,null,{"$f":"IF(G8543=\"\",\"\",VLOOKUP(G8543,'Lista de precios'!$B$7:$C$5000,2,0))","v":""}]
[null,null,"",null,null,null,null,{"$f":"IF(G8544=\"\",\"\",VLOOKUP(G8544,'Lista de precios'!$B$7:$C$5000,2,0))","v":""}]
[null,null,"",null,null,null,null,{"$f":"IF(G8545=\"\",\"\",VLOOKUP(G8545,'Lista de precios'!$B$7:$C$5000,2,0))","v":""}]
[null,null,"",null,null,null,null,{"$f":"IF(G8546=\"\",\"\",VLOOKUP(G8546,'Lista de precios'!$B$7:$C$5000,2,0))","v":""}]
[null,null,"",null,null,null,null,{"$f":"IF(G8547=\"\",\"\",VLOOKUP(G8547,'Lista de precios'!$B$7:$C$5000,2,0))","v":""}]
[null,null,"",null,null,null,null,{"$f":"IF(G8548=\"\",\"\",VLOOKUP(G8548,'Lista de precios'!$B$7:$C$5000,2,0))","v":""}]
[null,null,"",null,null,null,null,{"$f":"IF(G8549=\"\",\"\",VLOOKUP(G8549,'Lista de precios'!$B$7:$C$5000,2,0))","v":""}]
[null,null,"",null,null,null,null,{"$f":"IF(G8550=\"\",\"\",VLOOKUP(G8550,'Lista de precios'!$B$7:$C$5000,2,0))","v":""}]
[null,null,"",null,null,null,null,{"$f":"IF(G8551=\"\",\"\",VLOOKUP(G8551,'Lista de precios'!$B$7:$C$5000,2,0))","v":""}]
[null,null,"",null,null,null,null,{"$f":"IF(G8552=\"\",\"\",VLOOKUP(G8552,'Lista de precios'!$B$7:$C$5000,2,0))","v":""}]
[null,null,"",null,null,null,null,{"$f":"IF(G8553=\"\",\"\",VLOOKUP(G8553,'Lista de precios'!$B$7:$C$5000,2,0))","v":""}]
[null,null,"",null,null,null,null,{"$f":"IF(G8554=\"\",\"\",VLOOKUP(G8554,'Lista de precios'!$B$7:$C$5000,2,0))","v":""}]
[null,null,"",null,null,null,null,{"$f":"IF(G8555=\"\",\"\",VLOOKUP(G8555,'Lista de precios'!$B$7:$C$5000,2,0))","v":""}]
[null,null,"",null,null,null,null,{"$f":"IF(G8556=\"\",\"\",VLOOKUP(G8556,'Lista de precios'!$B$7:$C$5000,2,0))","v":""}]
[null,null,"",null,null,null,null,{"$f":"IF(G8557=\"\",\"\",VLOOKUP(G8557,'Lista de precios'!$B$7:$C$5000,2,0))","v":""}]
[null,null,"",null,null,null,null,{"$f":"IF(G8558=\"\",\"\",VLOOKUP(G8558,'Lista de precios'!$B$7:$C$5000,2,0))","v":""}]
[null,null,"",null,null,null,null,{"$f":"IF(G8559=\"\",\"\",VLOOKUP(G8559,'Lista de precios'!$B$7:$C$5000,2,0))","v":""}]
[null,null,"",null,null,null,null,{"$f":"IF(G8560=\"\",\"\",VLOOKUP(G8560,'Lista de precios'!$B$7:$C$5000,2,0))","v":""}]
[null,null,"",null,null,null,null,{"$f":"IF(G8561=\"\",\"\",VLOOKUP(G8561,'Lista de precios'!$B$7:$C$5000,2,0))","v":""}]
[null,null,"",null,null,null,null,{"$f":"IF(G8562=\"\",\"\",VLOOKUP(G8562,'Lista de precios'!$B$7:$C$5000,2,0))","v":""}]
[null,null,"",null,null,null,null,{"$f":"IF(G8563=\"\",\"\",VLOOKUP(G8563,'Lista de precios'!$B$7:$C$5000,2,0))","v":""}]
[null,null,"",null,null,null,null,{"$f":"IF(G8564=\"\",\"\",VLOOKUP(G8564,'Lista de precios'!$B$7:$C$5000,2,0))","v":""}]
[null,null,"",null,null,null,null,{"$f":"IF(G8565=\"\",\"\",VLOOKUP(G8565,'Lista de precios'!$B$7:$C$5000,2,0))","v":""}]
[null,null,"",null,null,null,null,{"$f":"IF(G8566=\"\",\"\",VLOOKUP(G8566,'Lista de precios'!$B$7:$C$5000,2,0))","v":""}]
[null,null,"",null,null,null,null,{"$f":"IF(G8567=\"\",\"\",VLOOKUP(G8567,'Lista de precios'!$B$7:$C$5000,2,0))","v":""}]
[null,null,"",null,null,null,null,{"$f":"IF(G8568=\"\",\"\",VLOOKUP(G8568,'Lista de precios'!$B$7:$C$5000,2,0))","v":""}]
[null,null,"",null,null,null,null,{"$f":"IF(G8569=\"\",\"\",VLOOKUP(G8569,'Lista de precios'!$B$7:$C$5000,2,0))","v":""}]
[null,null,"",null,null,null,null,{"$f":"IF(G8570=\"\",\"\",VLOOKUP(G8570,'Lista de precios'!$B$7:$C$5000,2,0))","v":""}]
[null,null,"",null,null,null,null,{"$f":"IF(G8571=\"\",\"\",VLOOKUP(G8571,'Lista de precios'!$B$7:$C$5000,2,0))","v":""}]
[null,null,"",null,null,null,null,{"$f":"IF(G8572=\"\",\"\",VLOOKUP(G8572,'Lista de precios'!$B$7:$C$5000,2,0))","v":""}]
[null,null,"",null,null,null,null,{"$f":"IF(G8573=\"\",\"\",VLOOKUP(G8573,'Lista de precios'!$B$7:$C$5000,2,0))","v":""}]
[null,null,"",null,null,null,null,{"$f":"IF(G8574=\"\",\"\",VLOOKUP(G8574,'Lista de precios'!$B$7:$C$5000,2,0))","v":""}]
[null,null,"",null,null,null,null,{"$f":"IF(G8575=\"\",\"\",VLOOKUP(G8575,'Lista de precios'!$B$7:$C$5000,2,0))","v":""}]
[null,null,"",null,null,null,null,{"$f":"IF(G8576=\"\",\"\",VLOOKUP(G8576,'Lista de precios'!$B$7:$C$5000,2,0))","v":""}]
[null,null,"",null,null,null,null,{"$f":"IF(G8577=\"\",\"\",VLOOKUP(G8577,'Lista de precios'!$B$7:$C$5000,2,0))","v":""}]
[null,null,"",null,null,null,null,{"$f":"IF(G8578=\"\",\"\",VLOOKUP(G8578,'Lista de precios'!$B$7:$C$5000,2,0))","v":""}]
[null,null,"",null,null,null,null,{"$f":"IF(G8579=\"\",\"\",VLOOKUP(G8579,'Lista de precios'!$B$7:$C$5000,2,0))","v":""}]
[null,null,"",null,null,null,null,{"$f":"IF(G8580=\"\",\"\",VLOOKUP(G8580,'Lista de precios'!$B$7:$C$5000,2,0))","v":""}]
[null,null,"",null,null,null,null,{"$f":"IF(G8581=\"\",\"\",VLOOKUP(G8581,'Lista de precios'!$B$7:$C$5000,2,0))","v":""}]
[null,null,"",null,null,null,null,{"$f":"IF(G8582=\"\",\"\",VLOOKUP(G8582,'Lista de precios'!$B$7:$C$5000,2,0))","v":""}]
[null,null,"",null,null,null,null,{"$f":"IF(G8583=\"\",\"\",VLOOKUP(G8583,'Lista de precios'!$B$7:$C$5000,2,0))","v":""}]
[null,null,"",null,null,null,null,{"$f":"IF(G8584=\"\",\"\",VLOOKUP(G8584,'Lista de precios'!$B$7:$C$5000,2,0))","v":""}]
[null,null,"",null,null,null,null,{"$f":"IF(G8585=\"\",\"\",VLOOKUP(G8585,'Lista de precios'!$B$7:$C$5000,2,0))","v":""}]
[null,null,"",null,null,null,null,{"$f":"IF(G8586=\"\",\"\",VLOOKUP(G8586,'Lista de precios'!$B$7:$C$5000,2,0))","v":""}]
[null,null,"",null,null,null,null,{"$f":"IF(G8587=\"\",\"\",VLOOKUP(G8587,'Lista de precios'!$B$7:$C$5000,2,0))","v":""}]
[null,null,{"$f":"IF(B8588=\"\",\"\",TEXT(B8588,\"Mmmm\"))","v":""},null,null,null,null,{"$f":"IF(G8588=\"\",\"\",VLOOKUP(G8588,'Lista de precios'!$B$7:$C$5000,2,0))","v":""}]
[null,null,"",null,null,null,null,{"$f":"IF(G8589=\"\",\"\",VLOOKUP(G8589,'Lista de precios'!$B$7:$C$5000,2,0))","v":""}]
[null,null,"",null,null,null,null,{"$f":"IF(G8590=\"\",\"\",VLOOKUP(G8590,'Lista de precios'!$B$7:$C$5000,2,0))","v":""}]
[null,null,"",null,null,null,null,{"$f":"IF(G8591=\"\",\"\",VLOOKUP(G8591,'Lista de precios'!$B$7:$C$5000,2,0))","v":""}]
[null,null,"",null,null,null,null,{"$f":"IF(G8592=\"\",\"\",VLOOKUP(G8592,'Lista de precios'!$B$7:$C$5000,2,0))","v":""}]
[null,null,"",null,null,null,null,{"$f":"IF(G8593=\"\",\"\",VLOOKUP(G8593,'Lista de precios'!$B$7:$C$5000,2,0))","v":""}]
[null,null,"",null,null,null,null,{"$f":"IF(G8594=\"\",\"\",VLOOKUP(G8594,'Lista de precios'!$B$7:$C$5000,2,0))","v":""}]
[null,null,"",null,null,null,null,{"$f":"IF(G8595=\"\",\"\",VLOOKUP(G8595,'Lista de precios'!$B$7:$C$5000,2,0))","v":""}]
[null,null,"",null,null,null,null,{"$f":"IF(G8596=\"\",\"\",VLOOKUP(G8596,'Lista de precios'!$B$7:$C$5000,2,0))","v":""}]
[null,null,"",null,null,null,null,{"$f":"IF(G8597=\"\",\"\",VLOOKUP(G8597,'Lista de precios'!$B$7:$C$5000,2,0))","v":""}]
[null,null,"",null,null,null,null,{"$f":"IF(G8598=\"\",\"\",VLOOKUP(G8598,'Lista de precios'!$B$7:$C$5000,2,0))","v":""}]
[null,null,"",null,null,null,null,{"$f":"IF(G8599=\"\",\"\",VLOOKUP(G8599,'Lista de precios'!$B$7:$C$5000,2,0))","v":""}]
[null,null,"",null,null,null,null,{"$f":"IF(G8600=\"\",\"\",VLOOKUP(G8600,'Lista de precios'!$B$7:$C$5000,2,0))","v":""}]
[null,null,"",null,null,null,null,{"$f":"IF(G8601=\"\",\"\",VLOOKUP(G8601,'Lista de precios'!$B$7:$C$5000,2,0))","v":""}]
[null,null,"",null,null,null,null,{"$f":"IF(G8602=\"\",\"\",VLOOKUP(G8602,'Lista de precios'!$B$7:$C$5000,2,0))","v":""}]
[null,null,"",null,null,null,null,{"$f":"IF(G8603=\"\",\"\",VLOOKUP(G8603,'Lista de precios'!$B$7:$C$5000,2,0))","v":""}]
[null,null,"",null,null,null,null,{"$f":"IF(G8604=\"\",\"\",VLOOKUP(G8604,'Lista de precios'!$B$7:$C$5000,2,0))","v":""}]
[null,null,"",null,null,null,null,{"$f":"IF(G8605=\"\",\"\",VLOOKUP(G8605,'Lista de precios'!$B$7:$C$5000,2,0))","v":""}]
[null,null,"",null,null,null,null,{"$f":"IF(G8606=\"\",\"\",VLOOKUP(G8606,'Lista de precios'!$B$7:$C$5000,2,0))","v":""}]
[null,null,"",null,null,null,null,{"$f":"IF(G8607=\"\",\"\",VLOOKUP(G8607,'Lista de precios'!$B$7:$C$5000,2,0))","v":""}]
[null,null,"",null,null,null,null,{"$f":"IF(G8608=\"\",\"\",VLOOKUP(G8608,'Lista de precios'!$B$7:$C$5000,2,0))","v":""}]
[null,null,"",null,null,null,null,{"$f":"IF(G8609=\"\",\"\",VLOOKUP(G8609,'Lista de precios'!$B$7:$C$5000,2,0))","v":""}]
[null,null,"",null,null,null,null,{"$f":"IF(G8610=\"\",\"\",VLOOKUP(G8610,'Lista de precios'!$B$7:$C$5000,2,0))","v":""}]
[null,null,"",null,null,null,null,{"$f":"IF(G8611=\"\",\"\",VLOOKUP(G8611,'Lista de precios'!$B$7:$C$5000,2,0))","v":""}]
[null,null,"",null,null,null,null,{"$f":"IF(G8612=\"\",\"\",VLOOKUP(G8612,'Lista de precios'!$B$7:$C$5000,2,0))","v":""}]
[null,null,"",null,null,null,null,{"$f":"IF(G8613=\"\",\"\",VLOOKUP(G8613,'Lista de precios'!$B$7:$C$5000,2,0))","v":""}]
[null,null,"",null,null,null,null,{"$f":"IF(G8614=\"\",\"\",VLOOKUP(G8614,'Lista de precios'!$B$7:$C$5000,2,0))","v":""}]
[null,null,"",null,null,null,null,{"$f":"IF(G8615=\"\",\"\",VLOOKUP(G8615,'Lista de precios'!$B$7:$C$5000,2,0))","v":""}]
[null,null,"",null,null,null,null,{"$f":"IF(G8616=\"\",\"\",VLOOKUP(G8616,'Lista de precios'!$B$7:$C$5000,2,0))","v":""}]
[null,null,"",null,null,null,null,{"$f":"IF(G8617=\"\",\"\",VLOOKUP(G8617,'Lista de precios'!$B$7:$C$5000,2,0))","v":""}]
[null,null,"",null,null,null,null,{"$f":"IF(G8618=\"\",\"\",VLOOKUP(G8618,'Lista de precios'!$B$7:$C$5000,2,0))","v":""}]
[null,null,"",null,null,null,null,{"$f":"IF(G8619=\"\",\"\",VLOOKUP(G8619,'Lista de precios'!$B$7:$C$5000,2,0))","v":""}]
[null,null,"",null,null,null,null,{"$f":"IF(G8620=\"\",\"\",VLOOKUP(G8620,'Lista de precios'!$B$7:$C$5000,2,0))","v":""}]
[null,null,"",null,null,null,null,{"$f":"IF(G8621=\"\",\"\",VLOOKUP(G8621,'Lista de precios'!$B$7:$C$5000,2,0))","v":""}]
[null,null,"",null,null,null,null,{"$f":"IF(G8622=\"\",\"\",VLOOKUP(G8622,'Lista de precios'!$B$7:$C$5000,2,0))","v":""}]
[null,null,"",null,null,null,null,{"$f":"IF(G8623=\"\",\"\",VLOOKUP(G8623,'Lista de precios'!$B$7:$C$5000,2,0))","v":""}]
[null,null,"",null,null,null,null,{"$f":"IF(G8624=\"\",\"\",VLOOKUP(G8624,'Lista de precios'!$B$7:$C$5000,2,0))","v":""}]
[null,null,"",null,null,null,null,{"$f":"IF(G8625=\"\",\"\",VLOOKUP(G8625,'Lista de precios'!$B$7:$C$5000,2,0))","v":""}]
[null,null,"",null,null,null,null,{"$f":"IF(G8626=\"\",\"\",VLOOKUP(G8626,'Lista de precios'!$B$7:$C$5000,2,0))","v":""}]
[null,null,"",null,null,null,null,{"$f":"IF(G8627=\"\",\"\",VLOOKUP(G8627,'Lista de precios'!$B$7:$C$5000,2,0))","v":""}]
[null,null,"",null,null,null,null,{"$f":"IF(G8628=\"\",\"\",VLOOKUP(G8628,'Lista de precios'!$B$7:$C$5000,2,0))","v":""}]
[null,null,"",null,null,null,null,{"$f":"IF(G8629=\"\",\"\",VLOOKUP(G8629,'Lista de precios'!$B$7:$C$5000,2,0))","v":""}]
[null,null,"",null,null,null,null,{"$f":"IF(G8630=\"\",\"\",VLOOKUP(G8630,'Lista de precios'!$B$7:$C$5000,2,0))","v":""}]
[null,null,"",null,null,null,null,{"$f":"IF(G8631=\"\",\"\",VLOOKUP(G8631,'Lista de precios'!$B$7:$C$5000,2,0))","v":""}]
[null,null,"",null,null,null,null,{"$f":"IF(G8632=\"\",\"\",VLOOKUP(G8632,'Lista de precios'!$B$7:$C$5000,2,0))","v":""}]
[null,null,"",null,null,null,null,{"$f":"IF(G8633=\"\",\"\",VLOOKUP(G8633,'Lista de precios'!$B$7:$C$5000,2,0))","v":""}]
[null,null,"",null,null,null,null,{"$f":"IF(G8634=\"\",\"\",VLOOKUP(G8634,'Lista de precios'!$B$7:$C$5000,2,0))","v":""}]
[null,null,"",null,null,null,null,{"$f":"IF(G8635=\"\",\"\",VLOOKUP(G8635,'Lista de precios'!$B$7:$C$5000,2,0))","v":""}]
[null,null,"",null,null,null,null,{"$f":"IF(G8636=\"\",\"\",VLOOKUP(G8636,'Lista de precios'!$B$7:$C$5000,2,0))","v":""}]
[null,null,"",null,null,null,null,{"$f":"IF(G8637=\"\",\"\",VLOOKUP(G8637,'Lista de precios'!$B$7:$C$5000,2,0))","v":""}]
[null,null,"",null,null,null,null,{"$f":"IF(G8638=\"\",\"\",VLOOKUP(G8638,'Lista de precios'!$B$7:$C$5000,2,0))","v":""}]
[null,null,"",null,null,null,null,{"$f":"IF(G8639=\"\",\"\",VLOOKUP(G8639,'Lista de precios'!$B$7:$C$5000,2,0))","v":""}]
[null,null,"",null,null,null,null,{"$f":"IF(G8640=\"\",\"\",VLOOKUP(G8640,'Lista de precios'!$B$7:$C$5000,2,0))","v":""}]
[null,null,"",null,null,null,null,{"$f":"IF(G8641=\"\",\"\",VLOOKUP(G8641,'Lista de precios'!$B$7:$C$5000,2,0))","v":""}]
[null,null,"",null,null,null,null,{"$f":"IF(G8642=\"\",\"\",VLOOKUP(G8642,'Lista de precios'!$B$7:$C$5000,2,0))","v":""}]
[null,null,"",null,null,null,null,{"$f":"IF(G8643=\"\",\"\",VLOOKUP(G8643,'Lista de precios'!$B$7:$C$5000,2,0))","v":""}]
[null,null,"",null,null,null,null,{"$f":"IF(G8644=\"\",\"\",VLOOKUP(G8644,'Lista de precios'!$B$7:$C$5000,2,0))","v":""}]
[null,null,"",null,null,null,null,{"$f":"IF(G8645=\"\",\"\",VLOOKUP(G8645,'Lista de precios'!$B$7:$C$5000,2,0))","v":""}]
[null,null,"",null,null,null,null,{"$f":"IF(G8646=\"\",\"\",VLOOKUP(G8646,'Lista de precios'!$B$7:$C$5000,2,0))","v":""}]
[null,null,"",null,null,null,null,{"$f":"IF(G8647=\"\",\"\",VLOOKUP(G8647,'Lista de precios'!$B$7:$C$5000,2,0))","v":""}]
[null,null,"",null,null,null,null,{"$f":"IF(G8648=\"\",\"\",VLOOKUP(G8648,'Lista de precios'!$B$7:$C$5000,2,0))","v":""}]
[null,null,"",null,null,null,null,{"$f":"IF(G8649=\"\",\"\",VLOOKUP(G8649,'Lista de precios'!$B$7:$C$5000,2,0))","v":""}]
[null,null,"",null,null,null,null,{"$f":"IF(G8650=\"\",\"\",VLOOKUP(G8650,'Lista de precios'!$B$7:$C$5000,2,0))","v":""}]
[null,null,"",null,null,null,null,{"$f":"IF(G8651=\"\",\"\",VLOOKUP(G8651,'Lista de precios'!$B$7:$C$5000,2,0))","v":""}]
[null,null,{"$f":"IF(B8652=\"\",\"\",TEXT(B8652,\"Mmmm\"))","v":""},null,null,null,null,{"$f":"IF(G8652=\"\",\"\",VLOOKUP(G8652,'Lista de precios'!$B$7:$C$5000,2,0))","v":""}]
[null,null,"",null,null,null,null,{"$f":"IF(G8653=\"\",\"\",VLOOKUP(G8653,'Lista de precios'!$B$7:$C$5000,2,0))","v":""}]
[null,null,"",null,null,null,null,{"$f":"IF(G8654=\"\",\"\",VLOOKUP(G8654,'Lista de precios'!$B$7:$C$5000,2,0))","v":""}]
[null,null,"",null,null,null,null,{"$f":"IF(G8655=\"\",\"\",VLOOKUP(G8655,'Lista de precios'!$B$7:$C$5000,2,0))","v":""}]
[null,null,"",null,null,null,null,{"$f":"IF(G8656=\"\",\"\",VLOOKUP(G8656,'Lista de precios'!$B$7:$C$5000,2,0))","v":""}]
[null,null,"",null,null,null,null,{"$f":"IF(G8657=\"\",\"\",VLOOKUP(G8657,'Lista de precios'!$B$7:$C$5000,2,0))","v":""}]
[null,null,"",null,null,null,null,{"$f":"IF(G8658=\"\",\"\",VLOOKUP(G8658,'Lista de precios'!$B$7:$C$5000,2,0))","v":""}]
[null,null,"",null,null,null,null,{"$f":"IF(G8659=\"\",\"\",VLOOKUP(G8659,'Lista de precios'!$B$7:$C$5000,2,0))","v":""}]
[null,null,"",null,null,null,null,{"$f":"IF(G8660=\"\",\"\",VLOOKUP(G8660,'Lista de precios'!$B$7:$C$5000,2,0))","v":""}]
[null,null,"",null,null,null,null,{"$f":"IF(G8661=\"\",\"\",VLOOKUP(G8661,'Lista de precios'!$B$7:$C$5000,2,0))","v":""}]
[null,null,"",null,null,null,null,{"$f":"IF(G8662=\"\",\"\",VLOOKUP(G8662,'Lista de precios'!$B$7:$C$5000,2,0))","v":""}]
[null,null,"",null,null,null,null,{"$f":"IF(G8663=\"\",\"\",VLOOKUP(G8663,'Lista de precios'!$B$7:$C$5000,2,0))","v":""}]
[null,null,"",null,null,null,null,{"$f":"IF(G8664=\"\",\"\",VLOOKUP(G8664,'Lista de precios'!$B$7:$C$5000,2,0))","v":""}]
[null,null,"",null,null,null,null,{"$f":"IF(G8665=\"\",\"\",VLOOKUP(G8665,'Lista de precios'!$B$7:$C$5000,2,0))","v":""}]
[null,null,"",null,null,null,null,{"$f":"IF(G8666=\"\",\"\",VLOOKUP(G8666,'Lista de precios'!$B$7:$C$5000,2,0))","v":""}]
[null,null,"",null,null,null,null,{"$f":"IF(G8667=\"\",\"\",VLOOKUP(G8667,'Lista de precios'!$B$7:$C$5000,2,0))","v":""}]
[null,null,"",null,null,null,null,{"$f":"IF(G8668=\"\",\"\",VLOOKUP(G8668,'Lista de precios'!$B$7:$C$5000,2,0))","v":""}]
[null,null,"",null,null,null,null,{"$f":"IF(G8669=\"\",\"\",VLOOKUP(G8669,'Lista de precios'!$B$7:$C$5000,2,0))","v":""}]
[null,null,"",null,null,null,null,{"$f":"IF(G8670=\"\",\"\",VLOOKUP(G8670,'Lista de precios'!$B$7:$C$5000,2,0))","v":""}]
[null,null,"",null,null,null,null,{"$f":"IF(G8671=\"\",\"\",VLOOKUP(G8671,'Lista de precios'!$B$7:$C$5000,2,0))","v":""}]
[null,null,"",null,null,null,null,{"$f":"IF(G8672=\"\",\"\",VLOOKUP(G8672,'Lista de precios'!$B$7:$C$5000,2,0))","v":""}]
[null,null,"",null,null,null,null,{"$f":"IF(G8673=\"\",\"\",VLOOKUP(G8673,'Lista de precios'!$B$7:$C$5000,2,0))","v":""}]
[null,null,"",null,null,null,null,{"$f":"IF(G8674=\"\",\"\",VLOOKUP(G8674,'Lista de precios'!$B$7:$C$5000,2,0))","v":""}]
[null,null,"",null,null,null,null,{"$f":"IF(G8675=\"\",\"\",VLOOKUP(G8675,'Lista de precios'!$B$7:$C$5000,2,0))","v":""}]
[null,null,"",null,null,null,null,{"$f":"IF(G8676=\"\",\"\",VLOOKUP(G8676,'Lista de precios'!$B$7:$C$5000,2,0))","v":""}]
[null,null,"",null,null,null,null,{"$f":"IF(G8677=\"\",\"\",VLOOKUP(G8677,'Lista de precios'!$B$7:$C$5000,2,0))","v":""}]
[null,null,"",null,null,null,null,{"$f":"IF(G8678=\"\",\"\",VLOOKUP(G8678,'Lista de precios'!$B$7:$C$5000,2,0))","v":""}]
[null,null,"",null,null,null,null,{"$f":"IF(G8679=\"\",\"\",VLOOKUP(G8679,'Lista de precios'!$B$7:$C$5000,2,0))","v":""}]
[null,null,"",null,null,null,null,{"$f":"IF(G8680=\"\",\"\",VLOOKUP(G8680,'Lista de precios'!$B$7:$C$5000,2,0))","v":""}]
[null,null,"",null,null,null,null,{"$f":"IF(G8681=\"\",\"\",VLOOKUP(G8681,'Lista de precios'!$B$7:$C$5000,2,0))","v":""}]
[null,null,"",null,null,null,null,{"$f":"IF(G8682=\"\",\"\",VLOOKUP(G8682,'Lista de precios'!$B$7:$C$5000,2,0))","v":""}]
[null,null,"",null,null,null,null,{"$f":"IF(G8683=\"\",\"\",VLOOKUP(G8683,'Lista de precios'!$B$7:$C$5000,2,0))","v":""}]
[null,null,"",null,null,null,null,{"$f":"IF(G8684=\"\",\"\",VLOOKUP(G8684,'Lista de precios'!$B$7:$C$5000,2,0))","v":""}]
[null,null,"",null,null,null,null,{"$f":"IF(G8685=\"\",\"\",VLOOKUP(G8685,'Lista de precios'!$B$7:$C$5000,2,0))","v":""}]
[null,null,"",null,null,null,null,{"$f":"IF(G8686=\"\",\"\",VLOOKUP(G8686,'Lista de precios'!$B$7:$C$5000,2,0))","v":""}]
[null,null,"",null,null,null,null,{"$f":"IF(G8687=\"\",\"\",VLOOKUP(G8687,'Lista de precios'!$B$7:$C$5000,2,0))","v":""}]
[null,null,"",null,null,null,null,{"$f":"IF(G8688=\"\",\"\",VLOOKUP(G8688,'Lista de precios'!$B$7:$C$5000,2,0))","v":""}]
[null,null,"",null,null,null,null,{"$f":"IF(G8689=\"\",\"\",VLOOKUP(G8689,'Lista de precios'!$B$7:$C$5000,2,0))","v":""}]
[null,null,"",null,null,null,null,{"$f":"IF(G8690=\"\",\"\",VLOOKUP(G8690,'Lista de precios'!$B$7:$C$5000,2,0))","v":""}]
[null,null,"",null,null,null,null,{"$f":"IF(G8691=\"\",\"\",VLOOKUP(G8691,'Lista de precios'!$B$7:$C$5000,2,0))","v":""}]
[null,null,"",null,null,null,null,{"$f":"IF(G8692=\"\",\"\",VLOOKUP(G8692,'Lista de precios'!$B$7:$C$5000,2,0))","v":""}]
[null,null,"",null,null,null,null,{"$f":"IF(G8693=\"\",\"\",VLOOKUP(G8693,'Lista de precios'!$B$7:$C$5000,2,0))","v":""}]
[null,null,"",null,null,null,null,{"$f":"IF(G8694=\"\",\"\",VLOOKUP(G8694,'Lista de precios'!$B$7:$C$5000,2,0))","v":""}]
[null,null,"",null,null,null,null,{"$f":"IF(G8695=\"\",\"\",VLOOKUP(G8695,'Lista de precios'!$B$7:$C$5000,2,0))","v":""}]
[null,null,"",null,null,null,null,{"$f":"IF(G8696=\"\",\"\",VLOOKUP(G8696,'Lista de precios'!$B$7:$C$5000,2,0))","v":""}]
[null,null,"",null,null,null,null,{"$f":"IF(G8697=\"\",\"\",VLOOKUP(G8697,'Lista de precios'!$B$7:$C$5000,2,0))","v":""}]
[null,null,"",null,null,null,null,{"$f":"IF(G8698=\"\",\"\",VLOOKUP(G8698,'Lista de precios'!$B$7:$C$5000,2,0))","v":""}]
[null,null,"",null,null,null,null,{"$f":"IF(G8699=\"\",\"\",VLOOKUP(G8699,'Lista de precios'!$B$7:$C$5000,2,0))","v":""}]
[null,null,"",null,null,null,null,{"$f":"IF(G8700=\"\",\"\",VLOOKUP(G8700,'Lista de precios'!$B$7:$C$5000,2,0))","v":""}]
[null,null,"",null,null,null,null,{"$f":"IF(G8701=\"\",\"\",VLOOKUP(G8701,'Lista de precios'!$B$7:$C$5000,2,0))","v":""}]
[null,null,"",null,null,null,null,{"$f":"IF(G8702=\"\",\"\",VLOOKUP(G8702,'Lista de precios'!$B$7:$C$5000,2,0))","v":""}]
[null,null,"",null,null,null,null,{"$f":"IF(G8703=\"\",\"\",VLOOKUP(G8703,'Lista de precios'!$B$7:$C$5000,2,0))","v":""}]
[null,null,"",null,null,null,null,{"$f":"IF(G8704=\"\",\"\",VLOOKUP(G8704,'Lista de precios'!$B$7:$C$5000,2,0))","v":""}]
[null,null,"",null,null,null,null,{"$f":"IF(G8705=\"\",\"\",VLOOKUP(G8705,'Lista de precios'!$B$7:$C$5000,2,0))","v":""}]
[null,null,"",null,null,null,null,{"$f":"IF(G8706=\"\",\"\",VLOOKUP(G8706,'Lista de precios'!$B$7:$C$5000,2,0))","v":""}]
[null,null,"",null,null,null,null,{"$f":"IF(G8707=\"\",\"\",VLOOKUP(G8707,'Lista de precios'!$B$7:$C$5000,2,0))","v":""}]
[null,null,"",null,null,null,null,{"$f":"IF(G8708=\"\",\"\",VLOOKUP(G8708,'Lista de precios'!$B$7:$C$5000,2,0))","v":""}]
[null,null,"",null,null,null,null,{"$f":"IF(G8709=\"\",\"\",VLOOKUP(G8709,'Lista de precios'!$B$7:$C$5000,2,0))","v":""}]
[null,null,"",null,null,null,null,{"$f":"IF(G8710=\"\",\"\",VLOOKUP(G8710,'Lista de precios'!$B$7:$C$5000,2,0))","v":""}]
[null,null,"",null,null,null,null,{"$f":"IF(G8711=\"\",\"\",VLOOKUP(G8711,'Lista de precios'!$B$7:$C$5000,2,0))","v":""}]
[null,null,"",null,null,null,null,{"$f":"IF(G8712=\"\",\"\",VLOOKUP(G8712,'Lista de precios'!$B$7:$C$5000,2,0))","v":""}]
[null,null,"",null,null,null,null,{"$f":"IF(G8713=\"\",\"\",VLOOKUP(G8713,'Lista de precios'!$B$7:$C$5000,2,0))","v":""}]
[null,null,"",null,null,null,null,{"$f":"IF(G8714=\"\",\"\",VLOOKUP(G8714,'Lista de precios'!$B$7:$C$5000,2,0))","v":""}]
[null,null,"",null,null,null,null,{"$f":"IF(G8715=\"\",\"\",VLOOKUP(G8715,'Lista de precios'!$B$7:$C$5000,2,0))","v":""}]
[null,null,{"$f":"IF(B8716=\"\",\"\",TEXT(B8716,\"Mmmm\"))","v":""},null,null,null,null,{"$f":"IF(G8716=\"\",\"\",VLOOKUP(G8716,'Lista de precios'!$B$7:$C$5000,2,0))","v":""}]
[null,null,"",null,null,null,null,{"$f":"IF(G8717=\"\",\"\",VLOOKUP(G8717,'Lista de precios'!$B$7:$C$5000,2,0))","v":""}]
[null,null,"",null,null,null,null,{"$f":"IF(G8718=\"\",\"\",VLOOKUP(G8718,'Lista de precios'!$B$7:$C$5000,2,0))","v":""}]
[null,null,"",null,null,null,null,{"$f":"IF(G8719=\"\",\"\",VLOOKUP(G8719,'Lista de precios'!$B$7:$C$5000,2,0))","v":""}]
[null,null,"",null,null,null,null,{"$f":"IF(G8720=\"\",\"\",VLOOKUP(G8720,'Lista de precios'!$B$7:$C$5000,2,0))","v":""}]
[null,null,"",null,null,null,null,{"$f":"IF(G8721=\"\",\"\",VLOOKUP(G8721,'Lista de precios'!$B$7:$C$5000,2,0))","v":""}]
[null,null,"",null,null,null,null,{"$f":"IF(G8722=\"\",\"\",VLOOKUP(G8722,'Lista de precios'!$B$7:$C$5000,2,0))","v":""}]
[null,null,"",null,null,null,null,{"$f":"IF(G8723=\"\",\"\",VLOOKUP(G8723,'Lista de precios'!$B$7:$C$5000,2,0))","v":""}]
[null,null,"",null,null,null,null,{"$f":"IF(G8724=\"\",\"\",VLOOKUP(G8724,'Lista de precios'!$B$7:$C$5000,2,0))","v":""}]
[null,null,"",null,null,null,null,{"$f":"IF(G8725=\"\",\"\",VLOOKUP(G8725,'Lista de precios'!$B$7:$C$5000,2,0))","v":""}]
[null,null,"",null,null,null,null,{"$f":"IF(G8726=\"\",\"\",VLOOKUP(G8726,'Lista de precios'!$B$7:$C$5000,2,0))","v":""}]
[null,null,"",null,null,null,null,{"$f":"IF(G8727=\"\",\"\",VLOOKUP(G8727,'Lista de precios'!$B$7:$C$5000,2,0))","v":""}]
[null,null,"",null,null,null,null,{"$f":"IF(G8728=\"\",\"\",VLOOKUP(G8728,'Lista de precios'!$B$7:$C$5000,2,0))","v":""}]
[null,null,"",null,null,null,null,{"$f":"IF(G8729=\"\",\"\",VLOOKUP(G8729,'Lista de precios'!$B$7:$C$5000,2,0))","v":""}]
[null,null,"",null,null,null,null,{"$f":"IF(G8730=\"\",\"\",VLOOKUP(G8730,'Lista de precios'!$B$7:$C$5000,2,0))","v":""}]
[null,null,"",null,null,null,null,{"$f":"IF(G8731=\"\",\"\",VLOOKUP(G8731,'Lista de precios'!$B$7:$C$5000,2,0))","v":""}]
[null,null,"",null,null,null,null,{"$f":"IF(G8732=\"\",\"\",VLOOKUP(G8732,'Lista de precios'!$B$7:$C$5000,2,0))","v":""}]
[null,null,"",null,null,null,null,{"$f":"IF(G8733=\"\",\"\",VLOOKUP(G8733,'Lista de precios'!$B$7:$C$5000,2,0))","v":""}]
[null,null,"",null,null,null,null,{"$f":"IF(G8734=\"\",\"\",VLOOKUP(G8734,'Lista de precios'!$B$7:$C$5000,2,0))","v":""}]
[null,null,"",null,null,null,null,{"$f":"IF(G8735=\"\",\"\",VLOOKUP(G8735,'Lista de precios'!$B$7:$C$5000,2,0))","v":""}]
[null,null,"",null,null,null,null,{"$f":"IF(G8736=\"\",\"\",VLOOKUP(G8736,'Lista de precios'!$B$7:$C$5000,2,0))","v":""}]
[null,null,"",null,null,null,null,{"$f":"IF(G8737=\"\",\"\",VLOOKUP(G8737,'Lista de precios'!$B$7:$C$5000,2,0))","v":""}]
[null,null,"",null,null,null,null,{"$f":"IF(G8738=\"\",\"\",VLOOKUP(G8738,'Lista de precios'!$B$7:$C$5000,2,0))","v":""}]
[null,null,"",null,null,null,null,{"$f":"IF(G8739=\"\",\"\",VLOOKUP(G8739,'Lista de precios'!$B$7:$C$5000,2,0))","v":""}]
[null,null,"",null,null,null,null,{"$f":"IF(G8740=\"\",\"\",VLOOKUP(G8740,'Lista de precios'!$B$7:$C$5000,2,0))","v":""}]
[null,null,"",null,null,null,null,{"$f":"IF(G8741=\"\",\"\",VLOOKUP(G8741,'Lista de precios'!$B$7:$C$5000,2,0))","v":""}]
[null,null,"",null,null,null,null,{"$f":"IF(G8742=\"\",\"\",VLOOKUP(G8742,'Lista de precios'!$B$7:$C$5000,2,0))","v":""}]
[null,null,"",null,null,null,null,{"$f":"IF(G8743=\"\",\"\",VLOOKUP(G8743,'Lista de precios'!$B$7:$C$5000,2,0))","v":""}]
[null,null,"",null,null,null,null,{"$f":"IF(G8744=\"\",\"\",VLOOKUP(G8744,'Lista de precios'!$B$7:$C$5000,2,0))","v":""}]
[null,null,"",null,null,null,null,{"$f":"IF(G8745=\"\",\"\",VLOOKUP(G8745,'Lista de precios'!$B$7:$C$5000,2,0))","v":""}]
[null,null,"",null,null,null,null,{"$f":"IF(G8746=\"\",\"\",VLOOKUP(G8746,'Lista de precios'!$B$7:$C$5000,2,0))","v":""}]
[null,null,"",null,null,null,null,{"$f":"IF(G8747=\"\",\"\",VLOOKUP(G8747,'Lista de precios'!$B$7:$C$5000,2,0))","v":""}]
[null,null,"",null,null,null,null,{"$f":"IF(G8748=\"\",\"\",VLOOKUP(G8748,'Lista de precios'!$B$7:$C$5000,2,0))","v":""}]
[null,null,"",null,null,null,null,{"$f":"IF(G8749=\"\",\"\",VLOOKUP(G8749,'Lista de precios'!$B$7:$C$5000,2,0))","v":""}]
[null,null,"",null,null,null,null,{"$f":"IF(G8750=\"\",\"\",VLOOKUP(G8750,'Lista de precios'!$B$7:$C$5000,2,0))","v":""}]
[null,null,"",null,null,null,null,{"$f":"IF(G8751=\"\",\"\",VLOOKUP(G8751,'Lista de precios'!$B$7:$C$5000,2,0))","v":""}]
[null,null,"",null,null,null,null,{"$f":"IF(G8752=\"\",\"\",VLOOKUP(G8752,'Lista de precios'!$B$7:$C$5000,2,0))","v":""}]
[null,null,"",null,null,null,null,{"$f":"IF(G8753=\"\",\"\",VLOOKUP(G8753,'Lista de precios'!$B$7:$C$5000,2,0))","v":""}]
[null,null,"",null,null,null,null,{"$f":"IF(G8754=\"\",\"\",VLOOKUP(G8754,'Lista de precios'!$B$7:$C$5000,2,0))","v":""}]
[null,null,"",null,null,null,null,{"$f":"IF(G8755=\"\",\"\",VLOOKUP(G8755,'Lista de precios'!$B$7:$C$5000,2,0))","v":""}]
[null,null,"",null,null,null,null,{"$f":"IF(G8756=\"\",\"\",VLOOKUP(G8756,'Lista de precios'!$B$7:$C$5000,2,0))","v":""}]
[null,null,"",null,null,null,null,{"$f":"IF(G8757=\"\",\"\",VLOOKUP(G8757,'Lista de precios'!$B$7:$C$5000,2,0))","v":""}]
[null,null,"",null,null,null,null,{"$f":"IF(G8758=\"\",\"\",VLOOKUP(G8758,'Lista de precios'!$B$7:$C$5000,2,0))","v":""}]
[null,null,"",null,null,null,null,{"$f":"IF(G8759=\"\",\"\",VLOOKUP(G8759,'Lista de precios'!$B$7:$C$5000,2,0))","v":""}]
[null,null,"",null,null,null,null,{"$f":"IF(G8760=\"\",\"\",VLOOKUP(G8760,'Lista de precios'!$B$7:$C$5000,2,0))","v":""}]
[null,null,"",null,null,null,null,{"$f":"IF(G8761=\"\",\"\",VLOOKUP(G8761,'Lista de precios'!$B$7:$C$5000,2,0))","v":""}]
[null,null,"",null,null,null,null,{"$f":"IF(G8762=\"\",\"\",VLOOKUP(G8762,'Lista de precios'!$B$7:$C$5000,2,0))","v":""}]
[null,null,"",null,null,null,null,{"$f":"IF(G8763=\"\",\"\",VLOOKUP(G8763,'Lista de precios'!$B$7:$C$5000,2,0))","v":""}]
[null,null,"",null,null,null,null,{"$f":"IF(G8764=\"\",\"\",VLOOKUP(G8764,'Lista de precios'!$B$7:$C$5000,2,0))","v":""}]
[null,null,"",null,null,null,null,{"$f":"IF(G8765=\"\",\"\",VLOOKUP(G8765,'Lista de precios'!$B$7:$C$5000,2,0))","v":""}]
[null,null,"",null,null,null,null,{"$f":"IF(G8766=\"\",\"\",VLOOKUP(G8766,'Lista de precios'!$B$7:$C$5000,2,0))","v":""}]
[null,null,"",null,null,null,null,{"$f":"IF(G8767=\"\",\"\",VLOOKUP(G8767,'Lista de precios'!$B$7:$C$5000,2,0))","v":""}]
[null,null,"",null,null,null,null,{"$f":"IF(G8768=\"\",\"\",VLOOKUP(G8768,'Lista de precios'!$B$7:$C$5000,2,0))","v":""}]
[null,null,"",null,null,null,null,{"$f":"IF(G8769=\"\",\"\",VLOOKUP(G8769,'Lista de precios'!$B$7:$C$5000,2,0))","v":""}]
[null,null,"",null,null,null,null,{"$f":"IF(G8770=\"\",\"\",VLOOKUP(G8770,'Lista de precios'!$B$7:$C$5000,2,0))","v":""}]
[null,null,"",null,null,null,null,{"$f":"IF(G8771=\"\",\"\",VLOOKUP(G8771,'Lista de precios'!$B$7:$C$5000,2,0))","v":""}]
[null,null,"",null,null,null,null,{"$f":"IF(G8772=\"\",\"\",VLOOKUP(G8772,'Lista de precios'!$B$7:$C$5000,2,0))","v":""}]
[null,null,"",null,null,null,null,{"$f":"IF(G8773=\"\",\"\",VLOOKUP(G8773,'Lista de precios'!$B$7:$C$5000,2,0))","v":""}]
[null,null,"",null,null,null,null,{"$f":"IF(G8774=\"\",\"\",VLOOKUP(G8774,'Lista de precios'!$B$7:$C$5000,2,0))","v":""}]
[null,null,"",null,null,null,null,{"$f":"IF(G8775=\"\",\"\",VLOOKUP(G8775,'Lista de precios'!$B$7:$C$5000,2,0))","v":""}]
[null,null,"",null,null,null,null,{"$f":"IF(G8776=\"\",\"\",VLOOKUP(G8776,'Lista de precios'!$B$7:$C$5000,2,0))","v":""}]
[null,null,"",null,null,null,null,{"$f":"IF(G8777=\"\",\"\",VLOOKUP(G8777,'Lista de precios'!$B$7:$C$5000,2,0))","v":""}]
[null,null,"",null,null,null,null,{"$f":"IF(G8778=\"\",\"\",VLOOKUP(G8778,'Lista de precios'!$B$7:$C$5000,2,0))","v":""}]
[null,null,"",null,null,null,null,{"$f":"IF(G8779=\"\",\"\",VLOOKUP(G8779,'Lista de precios'!$B$7:$C$5000,2,0))","v":""}]
[null,null,{"$f":"IF(B8780=\"\",\"\",TEXT(B8780,\"Mmmm\"))","v":""},null,null,null,null,{"$f":"IF(G8780=\"\",\"\",VLOOKUP(G8780,'Lista de precios'!$B$7:$C$5000,2,0))","v":""}]
[null,null,"",null,null,null,null,{"$f":"IF(G8781=\"\",\"\",VLOOKUP(G8781,'Lista de precios'!$B$7:$C$5000,2,0))","v":""}]
[null,null,"",null,null,null,null,{"$f":"IF(G8782=\"\",\"\",VLOOKUP(G8782,'Lista de precios'!$B$7:$C$5000,2,0))","v":""}]
[null,null,"",null,null,null,null,{"$f":"IF(G8783=\"\",\"\",VLOOKUP(G8783,'Lista de precios'!$B$7:$C$5000,2,0))","v":""}]
[null,null,"",null,null,null,null,{"$f":"IF(G8784=\"\",\"\",VLOOKUP(G8784,'Lista de precios'!$B$7:$C$5000,2,0))","v":""}]
[null,null,"",null,null,null,null,{"$f":"IF(G8785=\"\",\"\",VLOOKUP(G8785,'Lista de precios'!$B$7:$C$5000,2,0))","v":""}]
[null,null,"",null,null,null,null,{"$f":"IF(G8786=\"\",\"\",VLOOKUP(G8786,'Lista de precios'!$B$7:$C$5000,2,0))","v":""}]
[null,null,"",null,null,null,null,{"$f":"IF(G8787=\"\",\"\",VLOOKUP(G8787,'Lista de precios'!$B$7:$C$5000,2,0))","v":""}]
[null,null,"",null,null,null,null,{"$f":"IF(G8788=\"\",\"\",VLOOKUP(G8788,'Lista de precios'!$B$7:$C$5000,2,0))","v":""}]
[null,null,"",null,null,null,null,{"$f":"IF(G8789=\"\",\"\",VLOOKUP(G8789,'Lista de precios'!$B$7:$C$5000,2,0))","v":""}]
[null,null,"",null,null,null,null,{"$f":"IF(G8790=\"\",\"\",VLOOKUP(G8790,'Lista de precios'!$B$7:$C$5000,2,0))","v":""}]
[null,null,"",null,null,null,null,{"$f":"IF(G8791=\"\",\"\",VLOOKUP(G8791,'Lista de precios'!$B$7:$C$5000,2,0))","v":""}]
[null,null,"",null,null,null,null,{"$f":"IF(G8792=\"\",\"\",VLOOKUP(G8792,'Lista de precios'!$B$7:$C$5000,2,0))","v":""}]
[null,null,"",null,null,null,null,{"$f":"IF(G8793=\"\",\"\",VLOOKUP(G8793,'Lista de precios'!$B$7:$C$5000,2,0))","v":""}]
[null,null,"",null,null,null,null,{"$f":"IF(G8794=\"\",\"\",VLOOKUP(G8794,'Lista de precios'!$B$7:$C$5000,2,0))","v":""}]
[null,null,"",null,null,null,null,{"$f":"IF(G8795=\"\",\"\",VLOOKUP(G8795,'Lista de precios'!$B$7:$C$5000,2,0))","v":""}]
[null,null,"",null,null,null,null,{"$f":"IF(G8796=\"\",\"\",VLOOKUP(G8796,'Lista de precios'!$B$7:$C$5000,2,0))","v":""}]
[null,null,"",null,null,null,null,{"$f":"IF(G8797=\"\",\"\",VLOOKUP(G8797,'Lista de precios'!$B$7:$C$5000,2,0))","v":""}]
[null,null,"",null,null,null,null,{"$f":"IF(G8798=\"\",\"\",VLOOKUP(G8798,'Lista de precios'!$B$7:$C$5000,2,0))","v":""}]
[null,null,"",null,null,null,null,{"$f":"IF(G8799=\"\",\"\",VLOOKUP(G8799,'Lista de precios'!$B$7:$C$5000,2,0))","v":""}]
[null,null,"",null,null,null,null,{"$f":"IF(G8800=\"\",\"\",VLOOKUP(G8800,'Lista de precios'!$B$7:$C$5000,2,0))","v":""}]
[null,null,"",null,null,null,null,{"$f":"IF(G8801=\"\",\"\",VLOOKUP(G8801,'Lista de precios'!$B$7:$C$5000,2,0))","v":""}]
[null,null,"",null,null,null,null,{"$f":"IF(G8802=\"\",\"\",VLOOKUP(G8802,'Lista de precios'!$B$7:$C$5000,2,0))","v":""}]
[null,null,"",null,null,null,null,{"$f":"IF(G8803=\"\",\"\",VLOOKUP(G8803,'Lista de precios'!$B$7:$C$5000,2,0))","v":""}]
[null,null,"",null,null,null,null,{"$f":"IF(G8804=\"\",\"\",VLOOKUP(G8804,'Lista de precios'!$B$7:$C$5000,2,0))","v":""}]
[null,null,"",null,null,null,null,{"$f":"IF(G8805=\"\",\"\",VLOOKUP(G8805,'Lista de precios'!$B$7:$C$5000,2,0))","v":""}]
[null,null,"",null,null,null,null,{"$f":"IF(G8806=\"\",\"\",VLOOKUP(G8806,'Lista de precios'!$B$7:$C$5000,2,0))","v":""}]
[null,null,"",null,null,null,null,{"$f":"IF(G8807=\"\",\"\",VLOOKUP(G8807,'Lista de precios'!$B$7:$C$5000,2,0))","v":""}]
[null,null,"",null,null,null,null,{"$f":"IF(G8808=\"\",\"\",VLOOKUP(G8808,'Lista de precios'!$B$7:$C$5000,2,0))","v":""}]
[null,null,"",null,null,null,null,{"$f":"IF(G8809=\"\",\"\",VLOOKUP(G8809,'Lista de precios'!$B$7:$C$5000,2,0))","v":""}]
[null,null,"",null,null,null,null,{"$f":"IF(G8810=\"\",\"\",VLOOKUP(G8810,'Lista de precios'!$B$7:$C$5000,2,0))","v":""}]
[null,null,"",null,null,null,null,{"$f":"IF(G8811=\"\",\"\",VLOOKUP(G8811,'Lista de precios'!$B$7:$C$5000,2,0))","v":""}]
[null,null,"",null,null,null,null,{"$f":"IF(G8812=\"\",\"\",VLOOKUP(G8812,'Lista de precios'!$B$7:$C$5000,2,0))","v":""}]
[null,null,"",null,null,null,null,{"$f":"IF(G8813=\"\",\"\",VLOOKUP(G8813,'Lista de precios'!$B$7:$C$5000,2,0))","v":""}]
[null,null,"",null,null,null,null,{"$f":"IF(G8814=\"\",\"\",VLOOKUP(G8814,'Lista de precios'!$B$7:$C$5000,2,0))","v":""}]
[null,null,"",null,null,null,null,{"$f":"IF(G8815=\"\",\"\",VLOOKUP(G8815,'Lista de precios'!$B$7:$C$5000,2,0))","v":""}]
[null,null,"",null,null,null,null,{"$f":"IF(G8816=\"\",\"\",VLOOKUP(G8816,'Lista de precios'!$B$7:$C$5000,2,0))","v":""}]
[null,null,"",null,null,null,null,{"$f":"IF(G8817=\"\",\"\",VLOOKUP(G8817,'Lista de precios'!$B$7:$C$5000,2,0))","v":""}]
[null,null,"",null,null,null,null,{"$f":"IF(G8818=\"\",\"\",VLOOKUP(G8818,'Lista de precios'!$B$7:$C$5000,2,0))","v":""}]
[null,null,"",null,null,null,null,{"$f":"IF(G8819=\"\",\"\",VLOOKUP(G8819,'Lista de precios'!$B$7:$C$5000,2,0))","v":""}]
[null,null,"",null,null,null,null,{"$f":"IF(G8820=\"\",\"\",VLOOKUP(G8820,'Lista de precios'!$B$7:$C$5000,2,0))","v":""}]
[null,null,"",null,null,null,null,{"$f":"IF(G8821=\"\",\"\",VLOOKUP(G8821,'Lista de precios'!$B$7:$C$5000,2,0))","v":""}]
[null,null,"",null,null,null,null,{"$f":"IF(G8822=\"\",\"\",VLOOKUP(G8822,'Lista de precios'!$B$7:$C$5000,2,0))","v":""}]
[null,null,"",null,null,null,null,{"$f":"IF(G8823=\"\",\"\",VLOOKUP(G8823,'Lista de precios'!$B$7:$C$5000,2,0))","v":""}]
[null,null,"",null,null,null,null,{"$f":"IF(G8824=\"\",\"\",VLOOKUP(G8824,'Lista de precios'!$B$7:$C$5000,2,0))","v":""}]
[null,null,"",null,null,null,null,{"$f":"IF(G8825=\"\",\"\",VLOOKUP(G8825,'Lista de precios'!$B$7:$C$5000,2,0))","v":""}]
[null,null,"",null,null,null,null,{"$f":"IF(G8826=\"\",\"\",VLOOKUP(G8826,'Lista de precios'!$B$7:$C$5000,2,0))","v":""}]
[null,null,"",null,null,null,null,{"$f":"IF(G8827=\"\",\"\",VLOOKUP(G8827,'Lista de precios'!$B$7:$C$5000,2,0))","v":""}]
[null,null,"",null,null,null,null,{"$f":"IF(G8828=\"\",\"\",VLOOKUP(G8828,'Lista de precios'!$B$7:$C$5000,2,0))","v":""}]
[null,null,"",null,null,null,null,{"$f":"IF(G8829=\"\",\"\",VLOOKUP(G8829,'Lista de precios'!$B$7:$C$5000,2,0))","v":""}]
[null,null,"",null,null,null,null,{"$f":"IF(G8830=\"\",\"\",VLOOKUP(G8830,'Lista de precios'!$B$7:$C$5000,2,0))","v":""}]
[null,null,"",null,null,null,null,{"$f":"IF(G8831=\"\",\"\",VLOOKUP(G8831,'Lista de precios'!$B$7:$C$5000,2,0))","v":""}]
[null,null,"",null,null,null,null,{"$f":"IF(G8832=\"\",\"\",VLOOKUP(G8832,'Lista de precios'!$B$7:$C$5000,2,0))","v":""}]
[null,null,"",null,null,null,null,{"$f":"IF(G8833=\"\",\"\",VLOOKUP(G8833,'Lista de precios'!$B$7:$C$5000,2,0))","v":""}]
[null,null,"",null,null,null,null,{"$f":"IF(G8834=\"\",\"\",VLOOKUP(G8834,'Lista de precios'!$B$7:$C$5000,2,0))","v":""}]
[null,null,"",null,null,null,null,{"$f":"IF(G8835=\"\",\"\",VLOOKUP(G8835,'Lista de precios'!$B$7:$C$5000,2,0))","v":""}]
[null,null,"",null,null,null,null,{"$f":"IF(G8836=\"\",\"\",VLOOKUP(G8836,'Lista de precios'!$B$7:$C$5000,2,0))","v":""}]
[null,null,"",null,null,null,null,{"$f":"IF(G8837=\"\",\"\",VLOOKUP(G8837,'Lista de precios'!$B$7:$C$5000,2,0))","v":""}]
[null,null,"",null,null,null,null,{"$f":"IF(G8838=\"\",\"\",VLOOKUP(G8838,'Lista de precios'!$B$7:$C$5000,2,0))","v":""}]
[null,null,"",null,null,null,null,{"$f":"IF(G8839=\"\",\"\",VLOOKUP(G8839,'Lista de precios'!$B$7:$C$5000,2,0))","v":""}]
[null,null,"",null,null,null,null,{"$f":"IF(G8840=\"\",\"\",VLOOKUP(G8840,'Lista de precios'!$B$7:$C$5000,2,0))","v":""}]
[null,null,"",null,null,null,null,{"$f":"IF(G8841=\"\",\"\",VLOOKUP(G8841,'Lista de precios'!$B$7:$C$5000,2,0))","v":""}]
[null,null,"",null,null,null,null,{"$f":"IF(G8842=\"\",\"\",VLOOKUP(G8842,'Lista de precios'!$B$7:$C$5000,2,0))","v":""}]
[null,null,"",null,null,null,null,{"$f":"IF(G8843=\"\",\"\",VLOOKUP(G8843,'Lista de precios'!$B$7:$C$5000,2,0))","v":""}]
[null,null,{"$f":"IF(B8844=\"\",\"\",TEXT(B8844,\"Mmmm\"))","v":""},null,null,null,null,{"$f":"IF(G8844=\"\",\"\",VLOOKUP(G8844,'Lista de precios'!$B$7:$C$5000,2,0))","v":""}]
[null,null,"",null,null,null,null,{"$f":"IF(G8845=\"\",\"\",VLOOKUP(G8845,'Lista de precios'!$B$7:$C$5000,2,0))","v":""}]
[null,null,"",null,null,null,null,{"$f":"IF(G8846=\"\",\"\",VLOOKUP(G8846,'Lista de precios'!$B$7:$C$5000,2,0))","v":""}]
[null,null,"",null,null,null,null,{"$f":"IF(G8847=\"\",\"\",VLOOKUP(G8847,'Lista de precios'!$B$7:$C$5000,2,0))","v":""}]
[null,null,"",null,null,null,null,{"$f":"IF(G8848=\"\",\"\",VLOOKUP(G8848,'Lista de precios'!$B$7:$C$5000,2,0))","v":""}]
[null,null,"",null,null,null,null,{"$f":"IF(G8849=\"\",\"\",VLOOKUP(G8849,'Lista de precios'!$B$7:$C$5000,2,0))","v":""}]
[null,null,"",null,null,null,null,{"$f":"IF(G8850=\"\",\"\",VLOOKUP(G8850,'Lista de precios'!$B$7:$C$5000,2,0))","v":""}]
[null,null,"",null,null,null,null,{"$f":"IF(G8851=\"\",\"\",VLOOKUP(G8851,'Lista de precios'!$B$7:$C$5000,2,0))","v":""}]
[null,null,"",null,null,null,null,{"$f":"IF(G8852=\"\",\"\",VLOOKUP(G8852,'Lista de precios'!$B$7:$C$5000,2,0))","v":""}]
[null,null,"",null,null,null,null,{"$f":"IF(G8853=\"\",\"\",VLOOKUP(G8853,'Lista de precios'!$B$7:$C$5000,2,0))","v":""}]
[null,null,"",null,null,null,null,{"$f":"IF(G8854=\"\",\"\",VLOOKUP(G8854,'Lista de precios'!$B$7:$C$5000,2,0))","v":""}]
[null,null,"",null,null,null,null,{"$f":"IF(G8855=\"\",\"\",VLOOKUP(G8855,'Lista de precios'!$B$7:$C$5000,2,0))","v":""}]
[null,null,"",null,null,null,null,{"$f":"IF(G8856=\"\",\"\",VLOOKUP(G8856,'Lista de precios'!$B$7:$C$5000,2,0))","v":""}]
[null,null,"",null,null,null,null,{"$f":"IF(G8857=\"\",\"\",VLOOKUP(G8857,'Lista de precios'!$B$7:$C$5000,2,0))","v":""}]
[null,null,"",null,null,null,null,{"$f":"IF(G8858=\"\",\"\",VLOOKUP(G8858,'Lista de precios'!$B$7:$C$5000,2,0))","v":""}]
[null,null,"",null,null,null,null,{"$f":"IF(G8859=\"\",\"\",VLOOKUP(G8859,'Lista de precios'!$B$7:$C$5000,2,0))","v":""}]
[null,null,"",null,null,null,null,{"$f":"IF(G8860=\"\",\"\",VLOOKUP(G8860,'Lista de precios'!$B$7:$C$5000,2,0))","v":""}]
[null,null,"",null,null,null,null,{"$f":"IF(G8861=\"\",\"\",VLOOKUP(G8861,'Lista de precios'!$B$7:$C$5000,2,0))","v":""}]
[null,null,"",null,null,null,null,{"$f":"IF(G8862=\"\",\"\",VLOOKUP(G8862,'Lista de precios'!$B$7:$C$5000,2,0))","v":""}]
[null,null,"",null,null,null,null,{"$f":"IF(G8863=\"\",\"\",VLOOKUP(G8863,'Lista de precios'!$B$7:$C$5000,2,0))","v":""}]
[null,null,"",null,null,null,null,{"$f":"IF(G8864=\"\",\"\",VLOOKUP(G8864,'Lista de precios'!$B$7:$C$5000,2,0))","v":""}]
[null,null,"",null,null,null,null,{"$f":"IF(G8865=\"\",\"\",VLOOKUP(G8865,'Lista de precios'!$B$7:$C$5000,2,0))","v":""}]
[null,null,"",null,null,null,null,{"$f":"IF(G8866=\"\",\"\",VLOOKUP(G8866,'Lista de precios'!$B$7:$C$5000,2,0))","v":""}]
[null,null,"",null,null,null,null,{"$f":"IF(G8867=\"\",\"\",VLOOKUP(G8867,'Lista de precios'!$B$7:$C$5000,2,0))","v":""}]
[null,null,"",null,null,null,null,{"$f":"IF(G8868=\"\",\"\",VLOOKUP(G8868,'Lista de precios'!$B$7:$C$5000,2,0))","v":""}]
[null,null,"",null,null,null,null,{"$f":"IF(G8869=\"\",\"\",VLOOKUP(G8869,'Lista de precios'!$B$7:$C$5000,2,0))","v":""}]
[null,null,"",null,null,null,null,{"$f":"IF(G8870=\"\",\"\",VLOOKUP(G8870,'Lista de precios'!$B$7:$C$5000,2,0))","v":""}]
[null,null,"",null,null,null,null,{"$f":"IF(G8871=\"\",\"\",VLOOKUP(G8871,'Lista de precios'!$B$7:$C$5000,2,0))","v":""}]
[null,null,"",null,null,null,null,{"$f":"IF(G8872=\"\",\"\",VLOOKUP(G8872,'Lista de precios'!$B$7:$C$5000,2,0))","v":""}]
[null,null,"",null,null,null,null,{"$f":"IF(G8873=\"\",\"\",VLOOKUP(G8873,'Lista de precios'!$B$7:$C$5000,2,0))","v":""}]
[null,null,"",null,null,null,null,{"$f":"IF(G8874=\"\",\"\",VLOOKUP(G8874,'Lista de precios'!$B$7:$C$5000,2,0))","v":""}]
[null,null,"",null,null,null,null,{"$f":"IF(G8875=\"\",\"\",VLOOKUP(G8875,'Lista de precios'!$B$7:$C$5000,2,0))","v":""}]
[null,null,"",null,null,null,null,{"$f":"IF(G8876=\"\",\"\",VLOOKUP(G8876,'Lista de precios'!$B$7:$C$5000,2,0))","v":""}]
[null,null,"",null,null,null,null,{"$f":"IF(G8877=\"\",\"\",VLOOKUP(G8877,'Lista de precios'!$B$7:$C$5000,2,0))","v":""}]
[null,null,"",null,null,null,null,{"$f":"IF(G8878=\"\",\"\",VLOOKUP(G8878,'Lista de precios'!$B$7:$C$5000,2,0))","v":""}]
[null,null,"",null,null,null,null,{"$f":"IF(G8879=\"\",\"\",VLOOKUP(G8879,'Lista de precios'!$B$7:$C$5000,2,0))","v":""}]
[null,null,"",null,null,null,null,{"$f":"IF(G8880=\"\",\"\",VLOOKUP(G8880,'Lista de precios'!$B$7:$C$5000,2,0))","v":""}]
[null,null,"",null,null,null,null,{"$f":"IF(G8881=\"\",\"\",VLOOKUP(G8881,'Lista de precios'!$B$7:$C$5000,2,0))","v":""}]
[null,null,"",null,null,null,null,{"$f":"IF(G8882=\"\",\"\",VLOOKUP(G8882,'Lista de precios'!$B$7:$C$5000,2,0))","v":""}]
[null,null,"",null,null,null,null,{"$f":"IF(G8883=\"\",\"\",VLOOKUP(G8883,'Lista de precios'!$B$7:$C$5000,2,0))","v":""}]
[null,null,"",null,null,null,null,{"$f":"IF(G8884=\"\",\"\",VLOOKUP(G8884,'Lista de precios'!$B$7:$C$5000,2,0))","v":""}]
[null,null,"",null,null,null,null,{"$f":"IF(G8885=\"\",\"\",VLOOKUP(G8885,'Lista de precios'!$B$7:$C$5000,2,0))","v":""}]
[null,null,"",null,null,null,null,{"$f":"IF(G8886=\"\",\"\",VLOOKUP(G8886,'Lista de precios'!$B$7:$C$5000,2,0))","v":""}]
[null,null,"",null,null,null,null,{"$f":"IF(G8887=\"\",\"\",VLOOKUP(G8887,'Lista de precios'!$B$7:$C$5000,2,0))","v":""}]
[null,null,"",null,null,null,null,{"$f":"IF(G8888=\"\",\"\",VLOOKUP(G8888,'Lista de precios'!$B$7:$C$5000,2,0))","v":""}]
[null,null,"",null,null,null,null,{"$f":"IF(G8889=\"\",\"\",VLOOKUP(G8889,'Lista de precios'!$B$7:$C$5000,2,0))","v":""}]
[null,null,"",null,null,null,null,{"$f":"IF(G8890=\"\",\"\",VLOOKUP(G8890,'Lista de precios'!$B$7:$C$5000,2,0))","v":""}]
[null,null,"",null,null,null,null,{"$f":"IF(G8891=\"\",\"\",VLOOKUP(G8891,'Lista de precios'!$B$7:$C$5000,2,0))","v":""}]
[null,null,"",null,null,null,null,{"$f":"IF(G8892=\"\",\"\",VLOOKUP(G8892,'Lista de precios'!$B$7:$C$5000,2,0))","v":""}]
[null,null,"",null,null,null,null,{"$f":"IF(G8893=\"\",\"\",VLOOKUP(G8893,'Lista de precios'!$B$7:$C$5000,2,0))","v":""}]
[null,null,"",null,null,null,null,{"$f":"IF(G8894=\"\",\"\",VLOOKUP(G8894,'Lista de precios'!$B$7:$C$5000,2,0))","v":""}]
[null,null,"",null,null,null,null,{"$f":"IF(G8895=\"\",\"\",VLOOKUP(G8895,'Lista de precios'!$B$7:$C$5000,2,0))","v":""}]
[null,null,"",null,null,null,null,{"$f":"IF(G8896=\"\",\"\",VLOOKUP(G8896,'Lista de precios'!$B$7:$C$5000,2,0))","v":""}]
[null,null,"",null,null,null,null,{"$f":"IF(G8897=\"\",\"\",VLOOKUP(G8897,'Lista de precios'!$B$7:$C$5000,2,0))","v":""}]
[null,null,"",null,null,null,null,{"$f":"IF(G8898=\"\",\"\",VLOOKUP(G8898,'Lista de precios'!$B$7:$C$5000,2,0))","v":""}]
[null,null,"",null,null,null,null,{"$f":"IF(G8899=\"\",\"\",VLOOKUP(G8899,'Lista de precios'!$B$7:$C$5000,2,0))","v":""}]
[null,null,"",null,null,null,null,{"$f":"IF(G8900=\"\",\"\",VLOOKUP(G8900,'Lista de precios'!$B$7:$C$5000,2,0))","v":""}]
[null,null,"",null,null,null,null,{"$f":"IF(G8901=\"\",\"\",VLOOKUP(G8901,'Lista de precios'!$B$7:$C$5000,2,0))","v":""}]
[null,null,"",null,null,null,null,{"$f":"IF(G8902=\"\",\"\",VLOOKUP(G8902,'Lista de precios'!$B$7:$C$5000,2,0))","v":""}]
[null,null,"",null,null,null,null,{"$f":"IF(G8903=\"\",\"\",VLOOKUP(G8903,'Lista de precios'!$B$7:$C$5000,2,0))","v":""}]
[null,null,"",null,null,null,null,{"$f":"IF(G8904=\"\",\"\",VLOOKUP(G8904,'Lista de precios'!$B$7:$C$5000,2,0))","v":""}]
[null,null,"",null,null,null,null,{"$f":"IF(G8905=\"\",\"\",VLOOKUP(G8905,'Lista de precios'!$B$7:$C$5000,2,0))","v":""}]
[null,null,"",null,null,null,null,{"$f":"IF(G8906=\"\",\"\",VLOOKUP(G8906,'Lista de precios'!$B$7:$C$5000,2,0))","v":""}]
[null,null,"",null,null,null,null,{"$f":"IF(G8907=\"\",\"\",VLOOKUP(G8907,'Lista de precios'!$B$7:$C$5000,2,0))","v":""}]
[null,null,{"$f":"IF(B8908=\"\",\"\",TEXT(B8908,\"Mmmm\"))","v":""},null,null,null,null,{"$f":"IF(G8908=\"\",\"\",VLOOKUP(G8908,'Lista de precios'!$B$7:$C$5000,2,0))","v":""}]
[null,null,"",null,null,null,null,{"$f":"IF(G8909=\"\",\"\",VLOOKUP(G8909,'Lista de precios'!$B$7:$C$5000,2,0))","v":""}]
[null,null,"",null,null,null,null,{"$f":"IF(G8910=\"\",\"\",VLOOKUP(G8910,'Lista de precios'!$B$7:$C$5000,2,0))","v":""}]
[null,null,"",null,null,null,null,{"$f":"IF(G8911=\"\",\"\",VLOOKUP(G8911,'Lista de precios'!$B$7:$C$5000,2,0))","v":""}]
[null,null,"",null,null,null,null,{"$f":"IF(G8912=\"\",\"\",VLOOKUP(G8912,'Lista de precios'!$B$7:$C$5000,2,0))","v":""}]
[null,null,"",null,null,null,null,{"$f":"IF(G8913=\"\",\"\",VLOOKUP(G8913,'Lista de precios'!$B$7:$C$5000,2,0))","v":""}]
[null,null,"",null,null,null,null,{"$f":"IF(G8914=\"\",\"\",VLOOKUP(G8914,'Lista de precios'!$B$7:$C$5000,2,0))","v":""}]
[null,null,"",null,null,null,null,{"$f":"IF(G8915=\"\",\"\",VLOOKUP(G8915,'Lista de precios'!$B$7:$C$5000,2,0))","v":""}]
[null,null,"",null,null,null,null,{"$f":"IF(G8916=\"\",\"\",VLOOKUP(G8916,'Lista de precios'!$B$7:$C$5000,2,0))","v":""}]
[null,null,"",null,null,null,null,{"$f":"IF(G8917=\"\",\"\",VLOOKUP(G8917,'Lista de precios'!$B$7:$C$5000,2,0))","v":""}]
[null,null,"",null,null,null,null,{"$f":"IF(G8918=\"\",\"\",VLOOKUP(G8918,'Lista de precios'!$B$7:$C$5000,2,0))","v":""}]
[null,null,"",null,null,null,null,{"$f":"IF(G8919=\"\",\"\",VLOOKUP(G8919,'Lista de precios'!$B$7:$C$5000,2,0))","v":""}]
[null,null,"",null,null,null,null,{"$f":"IF(G8920=\"\",\"\",VLOOKUP(G8920,'Lista de precios'!$B$7:$C$5000,2,0))","v":""}]
[null,null,"",null,null,null,null,{"$f":"IF(G8921=\"\",\"\",VLOOKUP(G8921,'Lista de precios'!$B$7:$C$5000,2,0))","v":""}]
[null,null,"",null,null,null,null,{"$f":"IF(G8922=\"\",\"\",VLOOKUP(G8922,'Lista de precios'!$B$7:$C$5000,2,0))","v":""}]
[null,null,"",null,null,null,null,{"$f":"IF(G8923=\"\",\"\",VLOOKUP(G8923,'Lista de precios'!$B$7:$C$5000,2,0))","v":""}]
[null,null,"",null,null,null,null,{"$f":"IF(G8924=\"\",\"\",VLOOKUP(G8924,'Lista de precios'!$B$7:$C$5000,2,0))","v":""}]
[null,null,"",null,null,null,null,{"$f":"IF(G8925=\"\",\"\",VLOOKUP(G8925,'Lista de precios'!$B$7:$C$5000,2,0))","v":""}]
[null,null,"",null,null,null,null,{"$f":"IF(G8926=\"\",\"\",VLOOKUP(G8926,'Lista de precios'!$B$7:$C$5000,2,0))","v":""}]
[null,null,"",null,null,null,null,{"$f":"IF(G8927=\"\",\"\",VLOOKUP(G8927,'Lista de precios'!$B$7:$C$5000,2,0))","v":""}]
[null,null,"",null,null,null,null,{"$f":"IF(G8928=\"\",\"\",VLOOKUP(G8928,'Lista de precios'!$B$7:$C$5000,2,0))","v":""}]
[null,null,"",null,null,null,null,{"$f":"IF(G8929=\"\",\"\",VLOOKUP(G8929,'Lista de precios'!$B$7:$C$5000,2,0))","v":""}]
[null,null,"",null,null,null,null,{"$f":"IF(G8930=\"\",\"\",VLOOKUP(G8930,'Lista de precios'!$B$7:$C$5000,2,0))","v":""}]
[null,null,"",null,null,null,null,{"$f":"IF(G8931=\"\",\"\",VLOOKUP(G8931,'Lista de precios'!$B$7:$C$5000,2,0))","v":""}]
[null,null,"",null,null,null,null,{"$f":"IF(G8932=\"\",\"\",VLOOKUP(G8932,'Lista de precios'!$B$7:$C$5000,2,0))","v":""}]
[null,null,"",null,null,null,null,{"$f":"IF(G8933=\"\",\"\",VLOOKUP(G8933,'Lista de precios'!$B$7:$C$5000,2,0))","v":""}]
[null,null,"",null,null,null,null,{"$f":"IF(G8934=\"\",\"\",VLOOKUP(G8934,'Lista de precios'!$B$7:$C$5000,2,0))","v":""}]
[null,null,"",null,null,null,null,{"$f":"IF(G8935=\"\",\"\",VLOOKUP(G8935,'Lista de precios'!$B$7:$C$5000,2,0))","v":""}]
[null,null,"",null,null,null,null,{"$f":"IF(G8936=\"\",\"\",VLOOKUP(G8936,'Lista de precios'!$B$7:$C$5000,2,0))","v":""}]
[null,null,"",null,null,null,null,{"$f":"IF(G8937=\"\",\"\",VLOOKUP(G8937,'Lista de precios'!$B$7:$C$5000,2,0))","v":""}]
[null,null,"",null,null,null,null,{"$f":"IF(G8938=\"\",\"\",VLOOKUP(G8938,'Lista de precios'!$B$7:$C$5000,2,0))","v":""}]
[null,null,"",null,null,null,null,{"$f":"IF(G8939=\"\",\"\",VLOOKUP(G8939,'Lista de precios'!$B$7:$C$5000,2,0))","v":""}]
[null,null,"",null,null,null,null,{"$f":"IF(G8940=\"\",\"\",VLOOKUP(G8940,'Lista de precios'!$B$7:$C$5000,2,0))","v":""}]
[null,null,"",null,null,null,null,{"$f":"IF(G8941=\"\",\"\",VLOOKUP(G8941,'Lista de precios'!$B$7:$C$5000,2,0))","v":""}]
[null,null,"",null,null,null,null,{"$f":"IF(G8942=\"\",\"\",VLOOKUP(G8942,'Lista de precios'!$B$7:$C$5000,2,0))","v":""}]
[null,null,"",null,null,null,null,{"$f":"IF(G8943=\"\",\"\",VLOOKUP(G8943,'Lista de precios'!$B$7:$C$5000,2,0))","v":""}]
[null,null,"",null,null,null,null,{"$f":"IF(G8944=\"\",\"\",VLOOKUP(G8944,'Lista de precios'!$B$7:$C$5000,2,0))","v":""}]
[null,null,"",null,null,null,null,{"$f":"IF(G8945=\"\",\"\",VLOOKUP(G8945,'Lista de precios'!$B$7:$C$5000,2,0))","v":""}]
[null,null,"",null,null,null,null,{"$f":"IF(G8946=\"\",\"\",VLOOKUP(G8946,'Lista de precios'!$B$7:$C$5000,2,0))","v":""}]
[null,null,"",null,null,null,null,{"$f":"IF(G8947=\"\",\"\",VLOOKUP(G8947,'Lista de precios'!$B$7:$C$5000,2,0))","v":""}]
[null,null,"",null,null,null,null,{"$f":"IF(G8948=\"\",\"\",VLOOKUP(G8948,'Lista de precios'!$B$7:$C$5000,2,0))","v":""}]
[null,null,"",null,null,null,null,{"$f":"IF(G8949=\"\",\"\",VLOOKUP(G8949,'Lista de precios'!$B$7:$C$5000,2,0))","v":""}]
[null,null,"",null,null,null,null,{"$f":"IF(G8950=\"\",\"\",VLOOKUP(G8950,'Lista de precios'!$B$7:$C$5000,2,0))","v":""}]
[null,null,"",null,null,null,null,{"$f":"IF(G8951=\"\",\"\",VLOOKUP(G8951,'Lista de precios'!$B$7:$C$5000,2,0))","v":""}]
[null,null,"",null,null,null,null,{"$f":"IF(G8952=\"\",\"\",VLOOKUP(G8952,'Lista de precios'!$B$7:$C$5000,2,0))","v":""}]
[null,null,"",null,null,null,null,{"$f":"IF(G8953=\"\",\"\",VLOOKUP(G8953,'Lista de precios'!$B$7:$C$5000,2,0))","v":""}]
[null,null,"",null,null,null,null,{"$f":"IF(G8954=\"\",\"\",VLOOKUP(G8954,'Lista de precios'!$B$7:$C$5000,2,0))","v":""}]
[null,null,"",null,null,null,null,{"$f":"IF(G8955=\"\",\"\",VLOOKUP(G8955,'Lista de precios'!$B$7:$C$5000,2,0))","v":""}]
[null,null,"",null,null,null,null,{"$f":"IF(G8956=\"\",\"\",VLOOKUP(G8956,'Lista de precios'!$B$7:$C$5000,2,0))","v":""}]
[null,null,"",null,null,null,null,{"$f":"IF(G8957=\"\",\"\",VLOOKUP(G8957,'Lista de precios'!$B$7:$C$5000,2,0))","v":""}]
[null,null,"",null,null,null,null,{"$f":"IF(G8958=\"\",\"\",VLOOKUP(G8958,'Lista de precios'!$B$7:$C$5000,2,0))","v":""}]
[null,null,"",null,null,null,null,{"$f":"IF(G8959=\"\",\"\",VLOOKUP(G8959,'Lista de precios'!$B$7:$C$5000,2,0))","v":""}]
[null,null,"",null,null,null,null,{"$f":"IF(G8960=\"\",\"\",VLOOKUP(G8960,'Lista de precios'!$B$7:$C$5000,2,0))","v":""}]
[null,null,"",null,null,null,null,{"$f":"IF(G8961=\"\",\"\",VLOOKUP(G8961,'Lista de precios'!$B$7:$C$5000,2,0))","v":""}]
[null,null,"",null,null,null,null,{"$f":"IF(G8962=\"\",\"\",VLOOKUP(G8962,'Lista de precios'!$B$7:$C$5000,2,0))","v":""}]
[null,null,"",null,null,null,null,{"$f":"IF(G8963=\"\",\"\",VLOOKUP(G8963,'Lista de precios'!$B$7:$C$5000,2,0))","v":""}]
[null,null,"",null,null,null,null,{"$f":"IF(G8964=\"\",\"\",VLOOKUP(G8964,'Lista de precios'!$B$7:$C$5000,2,0))","v":""}]
[null,null,"",null,null,null,null,{"$f":"IF(G8965=\"\",\"\",VLOOKUP(G8965,'Lista de precios'!$B$7:$C$5000,2,0))","v":""}]
[null,null,"",null,null,null,null,{"$f":"IF(G8966=\"\",\"\",VLOOKUP(G8966,'Lista de precios'!$B$7:$C$5000,2,0))","v":""}]
[null,null,"",null,null,null,null,{"$f":"IF(G8967=\"\",\"\",VLOOKUP(G8967,'Lista de precios'!$B$7:$C$5000,2,0))","v":""}]
[null,null,"",null,null,null,null,{"$f":"IF(G8968=\"\",\"\",VLOOKUP(G8968,'Lista de precios'!$B$7:$C$5000,2,0))","v":""}]
[null,null,"",null,null,null,null,{"$f":"IF(G8969=\"\",\"\",VLOOKUP(G8969,'Lista de precios'!$B$7:$C$5000,2,0))","v":""}]
[null,null,"",null,null,null,null,{"$f":"IF(G8970=\"\",\"\",VLOOKUP(G8970,'Lista de precios'!$B$7:$C$5000,2,0))","v":""}]
[null,null,"",null,null,null,null,{"$f":"IF(G8971=\"\",\"\",VLOOKUP(G8971,'Lista de precios'!$B$7:$C$5000,2,0))","v":""}]
[null,null,{"$f":"IF(B8972=\"\",\"\",TEXT(B8972,\"Mmmm\"))","v":""},null,null,null,null,{"$f":"IF(G8972=\"\",\"\",VLOOKUP(G8972,'Lista de precios'!$B$7:$C$5000,2,0))","v":""}]
[null,null,"",null,null,null,null,{"$f":"IF(G8973=\"\",\"\",VLOOKUP(G8973,'Lista de precios'!$B$7:$C$5000,2,0))","v":""}]
[null,null,"",null,null,null,null,{"$f":"IF(G8974=\"\",\"\",VLOOKUP(G8974,'Lista de precios'!$B$7:$C$5000,2,0))","v":""}]
[null,null,"",null,null,null,null,{"$f":"IF(G8975=\"\",\"\",VLOOKUP(G8975,'Lista de precios'!$B$7:$C$5000,2,0))","v":""}]
[null,null,"",null,null,null,null,{"$f":"IF(G8976=\"\",\"\",VLOOKUP(G8976,'Lista de precios'!$B$7:$C$5000,2,0))","v":""}]
[null,null,"",null,null,null,null,{"$f":"IF(G8977=\"\",\"\",VLOOKUP(G8977,'Lista de precios'!$B$7:$C$5000,2,0))","v":""}]
[null,null,"",null,null,null,null,{"$f":"IF(G8978=\"\",\"\",VLOOKUP(G8978,'Lista de precios'!$B$7:$C$5000,2,0))","v":""}]
[null,null,"",null,null,null,null,{"$f":"IF(G8979=\"\",\"\",VLOOKUP(G8979,'Lista de precios'!$B$7:$C$5000,2,0))","v":""}]
[null,null,"",null,null,null,null,{"$f":"IF(G8980=\"\",\"\",VLOOKUP(G8980,'Lista de precios'!$B$7:$C$5000,2,0))","v":""}]
[null,null,"",null,null,null,null,{"$f":"IF(G8981=\"\",\"\",VLOOKUP(G8981,'Lista de precios'!$B$7:$C$5000,2,0))","v":""}]
[null,null,"",null,null,null,null,{"$f":"IF(G8982=\"\",\"\",VLOOKUP(G8982,'Lista de precios'!$B$7:$C$5000,2,0))","v":""}]
[null,null,"",null,null,null,null,{"$f":"IF(G8983=\"\",\"\",VLOOKUP(G8983,'Lista de precios'!$B$7:$C$5000,2,0))","v":""}]
[null,null,"",null,null,null,null,{"$f":"IF(G8984=\"\",\"\",VLOOKUP(G8984,'Lista de precios'!$B$7:$C$5000,2,0))","v":""}]
[null,null,"",null,null,null,null,{"$f":"IF(G8985=\"\",\"\",VLOOKUP(G8985,'Lista de precios'!$B$7:$C$5000,2,0))","v":""}]
[null,null,"",null,null,null,null,{"$f":"IF(G8986=\"\",\"\",VLOOKUP(G8986,'Lista de precios'!$B$7:$C$5000,2,0))","v":""}]
[null,null,"",null,null,null,null,{"$f":"IF(G8987=\"\",\"\",VLOOKUP(G8987,'Lista de precios'!$B$7:$C$5000,2,0))","v":""}]
[null,null,"",null,null,null,null,{"$f":"IF(G8988=\"\",\"\",VLOOKUP(G8988,'Lista de precios'!$B$7:$C$5000,2,0))","v":""}]
[null,null,"",null,null,null,null,{"$f":"IF(G8989=\"\",\"\",VLOOKUP(G8989,'Lista de precios'!$B$7:$C$5000,2,0))","v":""}]
[null,null,"",null,null,null,null,{"$f":"IF(G8990=\"\",\"\",VLOOKUP(G8990,'Lista de precios'!$B$7:$C$5000,2,0))","v":""}]
[null,null,"",null,null,null,null,{"$f":"IF(G8991=\"\",\"\",VLOOKUP(G8991,'Lista de precios'!$B$7:$C$5000,2,0))","v":""}]
[null,null,"",null,null,null,null,{"$f":"IF(G8992=\"\",\"\",VLOOKUP(G8992,'Lista de precios'!$B$7:$C$5000,2,0))","v":""}]
[null,null,"",null,null,null,null,{"$f":"IF(G8993=\"\",\"\",VLOOKUP(G8993,'Lista de precios'!$B$7:$C$5000,2,0))","v":""}]
[null,null,"",null,null,null,null,{"$f":"IF(G8994=\"\",\"\",VLOOKUP(G8994,'Lista de precios'!$B$7:$C$5000,2,0))","v":""}]
[null,null,"",null,null,null,null,{"$f":"IF(G8995=\"\",\"\",VLOOKUP(G8995,'Lista de precios'!$B$7:$C$5000,2,0))","v":""}]
[null,null,"",null,null,null,null,{"$f":"IF(G8996=\"\",\"\",VLOOKUP(G8996,'Lista de precios'!$B$7:$C$5000,2,0))","v":""}]
[null,null,"",null,null,null,null,{"$f":"IF(G8997=\"\",\"\",VLOOKUP(G8997,'Lista de precios'!$B$7:$C$5000,2,0))","v":""}]
[null,null,"",null,null,null,null,{"$f":"IF(G8998=\"\",\"\",VLOOKUP(G8998,'Lista de precios'!$B$7:$C$5000,2,0))","v":""}]
[null,null,"",null,null,null,null,{"$f":"IF(G8999=\"\",\"\",VLOOKUP(G8999,'Lista de precios'!$B$7:$C$5000,2,0))","v":""}]
[null,null,"",null,null,null,null,{"$f":"IF(G9000=\"\",\"\",VLOOKUP(G9000,'Lista de precios'!$B$7:$C$5000,2,0))","v":""}]
[null,null,"",null,null,null,null,{"$f":"IF(G9001=\"\",\"\",VLOOKUP(G9001,'Lista de precios'!$B$7:$C$5000,2,0))","v":""}]
[null,null,"",null,null,null,null,{"$f":"IF(G9002=\"\",\"\",VLOOKUP(G9002,'Lista de precios'!$B$7:$C$5000,2,0))","v":""}]
[null,null,"",null,null,null,null,{"$f":"IF(G9003=\"\",\"\",VLOOKUP(G9003,'Lista de precios'!$B$7:$C$5000,2,0))","v":""}]
[null,null,"",null,null,null,null,{"$f":"IF(G9004=\"\",\"\",VLOOKUP(G9004,'Lista de precios'!$B$7:$C$5000,2,0))","v":""}]
[null,null,"",null,null,null,null,{"$f":"IF(G9005=\"\",\"\",VLOOKUP(G9005,'Lista de precios'!$B$7:$C$5000,2,0))","v":""}]
[null,null,"",null,null,null,null,{"$f":"IF(G9006=\"\",\"\",VLOOKUP(G9006,'Lista de precios'!$B$7:$C$5000,2,0))","v":""}]
[null,null,"",null,null,null,null,{"$f":"IF(G9007=\"\",\"\",VLOOKUP(G9007,'Lista de precios'!$B$7:$C$5000,2,0))","v":""}]
[null,null,"",null,null,null,null,{"$f":"IF(G9008=\"\",\"\",VLOOKUP(G9008,'Lista de precios'!$B$7:$C$5000,2,0))","v":""}]
[null,null,"",null,null,null,null,{"$f":"IF(G9009=\"\",\"\",VLOOKUP(G9009,'Lista de precios'!$B$7:$C$5000,2,0))","v":""}]
[null,null,"",null,null,null,null,{"$f":"IF(G9010=\"\",\"\",VLOOKUP(G9010,'Lista de precios'!$B$7:$C$5000,2,0))","v":""}]
[null,null,"",null,null,null,null,{"$f":"IF(G9011=\"\",\"\",VLOOKUP(G9011,'Lista de precios'!$B$7:$C$5000,2,0))","v":""}]
[null,null,"",null,null,null,null,{"$f":"IF(G9012=\"\",\"\",VLOOKUP(G9012,'Lista de precios'!$B$7:$C$5000,2,0))","v":""}]
[null,null,"",null,null,null,null,{"$f":"IF(G9013=\"\",\"\",VLOOKUP(G9013,'Lista de precios'!$B$7:$C$5000,2,0))","v":""}]
[null,null,"",null,null,null,null,{"$f":"IF(G9014=\"\",\"\",VLOOKUP(G9014,'Lista de precios'!$B$7:$C$5000,2,0))","v":""}]
[null,null,"",null,null,null,null,{"$f":"IF(G9015=\"\",\"\",VLOOKUP(G9015,'Lista de precios'!$B$7:$C$5000,2,0))","v":""}]
[null,null,"",null,null,null,null,{"$f":"IF(G9016=\"\",\"\",VLOOKUP(G9016,'Lista de precios'!$B$7:$C$5000,2,0))","v":""}]
[null,null,"",null,null,null,null,{"$f":"IF(G9017=\"\",\"\",VLOOKUP(G9017,'Lista de precios'!$B$7:$C$5000,2,0))","v":""}]
[null,null,"",null,null,null,null,{"$f":"IF(G9018=\"\",\"\",VLOOKUP(G9018,'Lista de precios'!$B$7:$C$5000,2,0))","v":""}]
[null,null,"",null,null,null,null,{"$f":"IF(G9019=\"\",\"\",VLOOKUP(G9019,'Lista de precios'!$B$7:$C$5000,2,0))","v":""}]
[null,null,"",null,null,null,null,{"$f":"IF(G9020=\"\",\"\",VLOOKUP(G9020,'Lista de precios'!$B$7:$C$5000,2,0))","v":""}]
[null,null,"",null,null,null,null,{"$f":"IF(G9021=\"\",\"\",VLOOKUP(G9021,'Lista de precios'!$B$7:$C$5000,2,0))","v":""}]
[null,null,"",null,null,null,null,{"$f":"IF(G9022=\"\",\"\",VLOOKUP(G9022,'Lista de precios'!$B$7:$C$5000,2,0))","v":""}]
[null,null,"",null,null,null,null,{"$f":"IF(G9023=\"\",\"\",VLOOKUP(G9023,'Lista de precios'!$B$7:$C$5000,2,0))","v":""}]
[null,null,"",null,null,null,null,{"$f":"IF(G9024=\"\",\"\",VLOOKUP(G9024,'Lista de precios'!$B$7:$C$5000,2,0))","v":""}]
[null,null,"",null,null,null,null,{"$f":"IF(G9025=\"\",\"\",VLOOKUP(G9025,'Lista de precios'!$B$7:$C$5000,2,0))","v":""}]
[null,null,"",null,null,null,null,{"$f":"IF(G9026=\"\",\"\",VLOOKUP(G9026,'Lista de precios'!$B$7:$C$5000,2,0))","v":""}]
[null,null,"",null,null,null,null,{"$f":"IF(G9027=\"\",\"\",VLOOKUP(G9027,'Lista de precios'!$B$7:$C$5000,2,0))","v":""}]
[null,null,"",null,null,null,null,{"$f":"IF(G9028=\"\",\"\",VLOOKUP(G9028,'Lista de precios'!$B$7:$C$5000,2,0))","v":""}]
[null,null,"",null,null,null,null,{"$f":"IF(G9029=\"\",\"\",VLOOKUP(G9029,'Lista de precios'!$B$7:$C$5000,2,0))","v":""}]
[null,null,"",null,null,null,null,{"$f":"IF(G9030=\"\",\"\",VLOOKUP(G9030,'Lista de precios'!$B$7:$C$5000,2,0))","v":""}]
[null,null,"",null,null,null,null,{"$f":"IF(G9031=\"\",\"\",VLOOKUP(G9031,'Lista de precios'!$B$7:$C$5000,2,0))","v":""}]
[null,null,"",null,null,null,null,{"$f":"IF(G9032=\"\",\"\",VLOOKUP(G9032,'Lista de precios'!$B$7:$C$5000,2,0))","v":""}]
[null,null,"",null,null,null,null,{"$f":"IF(G9033=\"\",\"\",VLOOKUP(G9033,'Lista de precios'!$B$7:$C$5000,2,0))","v":""}]
[null,null,"",null,null,null,null,{"$f":"IF(G9034=\"\",\"\",VLOOKUP(G9034,'Lista de precios'!$B$7:$C$5000,2,0))","v":""}]
[null,null,"",null,null,null,null,{"$f":"IF(G9035=\"\",\"\",VLOOKUP(G9035,'Lista de precios'!$B$7:$C$5000,2,0))","v":""}]
[null,null,{"$f":"IF(B9036=\"\",\"\",TEXT(B9036,\"Mmmm\"))","v":""},null,null,null,null,{"$f":"IF(G9036=\"\",\"\",VLOOKUP(G9036,'Lista de precios'!$B$7:$C$5000,2,0))","v":""}]
[null,null,"",null,null,null,null,{"$f":"IF(G9037=\"\",\"\",VLOOKUP(G9037,'Lista de precios'!$B$7:$C$5000,2,0))","v":""}]
[null,null,"",null,null,null,null,{"$f":"IF(G9038=\"\",\"\",VLOOKUP(G9038,'Lista de precios'!$B$7:$C$5000,2,0))","v":""}]
[null,null,"",null,null,null,null,{"$f":"IF(G9039=\"\",\"\",VLOOKUP(G9039,'Lista de precios'!$B$7:$C$5000,2,0))","v":""}]
[null,null,"",null,null,null,null,{"$f":"IF(G9040=\"\",\"\",VLOOKUP(G9040,'Lista de precios'!$B$7:$C$5000,2,0))","v":""}]
[null,null,"",null,null,null,null,{"$f":"IF(G9041=\"\",\"\",VLOOKUP(G9041,'Lista de precios'!$B$7:$C$5000,2,0))","v":""}]
[null,null,"",null,null,null,null,{"$f":"IF(G9042=\"\",\"\",VLOOKUP(G9042,'Lista de precios'!$B$7:$C$5000,2,0))","v":""}]
[null,null,"",null,null,null,null,{"$f":"IF(G9043=\"\",\"\",VLOOKUP(G9043,'Lista de precios'!$B$7:$C$5000,2,0))","v":""}]
[null,null,"",null,null,null,null,{"$f":"IF(G9044=\"\",\"\",VLOOKUP(G9044,'Lista de precios'!$B$7:$C$5000,2,0))","v":""}]
[null,null,"",null,null,null,null,{"$f":"IF(G9045=\"\",\"\",VLOOKUP(G9045,'Lista de precios'!$B$7:$C$5000,2,0))","v":""}]
[null,null,"",null,null,null,null,{"$f":"IF(G9046=\"\",\"\",VLOOKUP(G9046,'Lista de precios'!$B$7:$C$5000,2,0))","v":""}]
[null,null,"",null,null,null,null,{"$f":"IF(G9047=\"\",\"\",VLOOKUP(G9047,'Lista de precios'!$B$7:$C$5000,2,0))","v":""}]
[null,null,"",null,null,null,null,{"$f":"IF(G9048=\"\",\"\",VLOOKUP(G9048,'Lista de precios'!$B$7:$C$5000,2,0))","v":""}]
[null,null,"",null,null,null,null,{"$f":"IF(G9049=\"\",\"\",VLOOKUP(G9049,'Lista de precios'!$B$7:$C$5000,2,0))","v":""}]
[null,null,"",null,null,null,null,{"$f":"IF(G9050=\"\",\"\",VLOOKUP(G9050,'Lista de precios'!$B$7:$C$5000,2,0))","v":""}]
[null,null,"",null,null,null,null,{"$f":"IF(G9051=\"\",\"\",VLOOKUP(G9051,'Lista de precios'!$B$7:$C$5000,2,0))","v":""}]
[null,null,"",null,null,null,null,{"$f":"IF(G9052=\"\",\"\",VLOOKUP(G9052,'Lista de precios'!$B$7:$C$5000,2,0))","v":""}]
[null,null,"",null,null,null,null,{"$f":"IF(G9053=\"\",\"\",VLOOKUP(G9053,'Lista de precios'!$B$7:$C$5000,2,0))","v":""}]
[null,null,"",null,null,null,null,{"$f":"IF(G9054=\"\",\"\",VLOOKUP(G9054,'Lista de precios'!$B$7:$C$5000,2,0))","v":""}]
[null,null,"",null,null,null,null,{"$f":"IF(G9055=\"\",\"\",VLOOKUP(G9055,'Lista de precios'!$B$7:$C$5000,2,0))","v":""}]
[null,null,"",null,null,null,null,{"$f":"IF(G9056=\"\",\"\",VLOOKUP(G9056,'Lista de precios'!$B$7:$C$5000,2,0))","v":""}]
[null,null,"",null,null,null,null,{"$f":"IF(G9057=\"\",\"\",VLOOKUP(G9057,'Lista de precios'!$B$7:$C$5000,2,0))","v":""}]
[null,null,"",null,null,null,null,{"$f":"IF(G9058=\"\",\"\",VLOOKUP(G9058,'Lista de precios'!$B$7:$C$5000,2,0))","v":""}]
[null,null,"",null,null,null,null,{"$f":"IF(G9059=\"\",\"\",VLOOKUP(G9059,'Lista de precios'!$B$7:$C$5000,2,0))","v":""}]
[null,null,"",null,null,null,null,{"$f":"IF(G9060=\"\",\"\",VLOOKUP(G9060,'Lista de precios'!$B$7:$C$5000,2,0))","v":""}]
[null,null,"",null,null,null,null,{"$f":"IF(G9061=\"\",\"\",VLOOKUP(G9061,'Lista de precios'!$B$7:$C$5000,2,0))","v":""}]
[null,null,"",null,null,null,null,{"$f":"IF(G9062=\"\",\"\",VLOOKUP(G9062,'Lista de precios'!$B$7:$C$5000,2,0))","v":""}]
[null,null,"",null,null,null,null,{"$f":"IF(G9063=\"\",\"\",VLOOKUP(G9063,'Lista de precios'!$B$7:$C$5000,2,0))","v":""}]
[null,null,"",null,null,null,null,{"$f":"IF(G9064=\"\",\"\",VLOOKUP(G9064,'Lista de precios'!$B$7:$C$5000,2,0))","v":""}]
[null,null,"",null,null,null,null,{"$f":"IF(G9065=\"\",\"\",VLOOKUP(G9065,'Lista de precios'!$B$7:$C$5000,2,0))","v":""}]
[null,null,"",null,null,null,null,{"$f":"IF(G9066=\"\",\"\",VLOOKUP(G9066,'Lista de precios'!$B$7:$C$5000,2,0))","v":""}]
[null,null,"",null,null,null,null,{"$f":"IF(G9067=\"\",\"\",VLOOKUP(G9067,'Lista de precios'!$B$7:$C$5000,2,0))","v":""}]
[null,null,"",null,null,null,null,{"$f":"IF(G9068=\"\",\"\",VLOOKUP(G9068,'Lista de precios'!$B$7:$C$5000,2,0))","v":""}]
[null,null,"",null,null,null,null,{"$f":"IF(G9069=\"\",\"\",VLOOKUP(G9069,'Lista de precios'!$B$7:$C$5000,2,0))","v":""}]
[null,null,"",null,null,null,null,{"$f":"IF(G9070=\"\",\"\",VLOOKUP(G9070,'Lista de precios'!$B$7:$C$5000,2,0))","v":""}]
[null,null,"",null,null,null,null,{"$f":"IF(G9071=\"\",\"\",VLOOKUP(G9071,'Lista de precios'!$B$7:$C$5000,2,0))","v":""}]
[null,null,"",null,null,null,null,{"$f":"IF(G9072=\"\",\"\",VLOOKUP(G9072,'Lista de precios'!$B$7:$C$5000,2,0))","v":""}]
[null,null,"",null,null,null,null,{"$f":"IF(G9073=\"\",\"\",VLOOKUP(G9073,'Lista de precios'!$B$7:$C$5000,2,0))","v":""}]
[null,null,"",null,null,null,null,{"$f":"IF(G9074=\"\",\"\",VLOOKUP(G9074,'Lista de precios'!$B$7:$C$5000,2,0))","v":""}]
[null,null,"",null,null,null,null,{"$f":"IF(G9075=\"\",\"\",VLOOKUP(G9075,'Lista de precios'!$B$7:$C$5000,2,0))","v":""}]
[null,null,"",null,null,null,null,{"$f":"IF(G9076=\"\",\"\",VLOOKUP(G9076,'Lista de precios'!$B$7:$C$5000,2,0))","v":""}]
[null,null,"",null,null,null,null,{"$f":"IF(G9077=\"\",\"\",VLOOKUP(G9077,'Lista de precios'!$B$7:$C$5000,2,0))","v":""}]
[null,null,"",null,null,null,null,{"$f":"IF(G9078=\"\",\"\",VLOOKUP(G9078,'Lista de precios'!$B$7:$C$5000,2,0))","v":""}]
[null,null,"",null,null,null,null,{"$f":"IF(G9079=\"\",\"\",VLOOKUP(G9079,'Lista de precios'!$B$7:$C$5000,2,0))","v":""}]
[null,null,"",null,null,null,null,{"$f":"IF(G9080=\"\",\"\",VLOOKUP(G9080,'Lista de precios'!$B$7:$C$5000,2,0))","v":""}]
[null,null,"",null,null,null,null,{"$f":"IF(G9081=\"\",\"\",VLOOKUP(G9081,'Lista de precios'!$B$7:$C$5000,2,0))","v":""}]
[null,null,"",null,null,null,null,{"$f":"IF(G9082=\"\",\"\",VLOOKUP(G9082,'Lista de precios'!$B$7:$C$5000,2,0))","v":""}]
[null,null,"",null,null,null,null,{"$f":"IF(G9083=\"\",\"\",VLOOKUP(G9083,'Lista de precios'!$B$7:$C$5000,2,0))","v":""}]
[null,null,"",null,null,null,null,{"$f":"IF(G9084=\"\",\"\",VLOOKUP(G9084,'Lista de precios'!$B$7:$C$5000,2,0))","v":""}]
[null,null,"",null,null,null,null,{"$f":"IF(G9085=\"\",\"\",VLOOKUP(G9085,'Lista de precios'!$B$7:$C$5000,2,0))","v":""}]
[null,null,"",null,null,null,null,{"$f":"IF(G9086=\"\",\"\",VLOOKUP(G9086,'Lista de precios'!$B$7:$C$5000,2,0))","v":""}]
[null,null,"",null,null,null,null,{"$f":"IF(G9087=\"\",\"\",VLOOKUP(G9087,'Lista de precios'!$B$7:$C$5000,2,0))","v":""}]
[null,null,"",null,null,null,null,{"$f":"IF(G9088=\"\",\"\",VLOOKUP(G9088,'Lista de precios'!$B$7:$C$5000,2,0))","v":""}]
[null,null,"",null,null,null,null,{"$f":"IF(G9089=\"\",\"\",VLOOKUP(G9089,'Lista de precios'!$B$7:$C$5000,2,0))","v":""}]
[null,null,"",null,null,null,null,{"$f":"IF(G9090=\"\",\"\",VLOOKUP(G9090,'Lista de precios'!$B$7:$C$5000,2,0))","v":""}]
[null,null,"",null,null,null,null,{"$f":"IF(G9091=\"\",\"\",VLOOKUP(G9091,'Lista de precios'!$B$7:$C$5000,2,0))","v":""}]
[null,null,"",null,null,null,null,{"$f":"IF(G9092=\"\",\"\",VLOOKUP(G9092,'Lista de precios'!$B$7:$C$5000,2,0))","v":""}]
[null,null,"",null,null,null,null,{"$f":"IF(G9093=\"\",\"\",VLOOKUP(G9093,'Lista de precios'!$B$7:$C$5000,2,0))","v":""}]
[null,null,"",null,null,null,null,{"$f":"IF(G9094=\"\",\"\",VLOOKUP(G9094,'Lista de precios'!$B$7:$C$5000,2,0))","v":""}]
[null,null,"",null,null,null,null,{"$f":"IF(G9095=\"\",\"\",VLOOKUP(G9095,'Lista de precios'!$B$7:$C$5000,2,0))","v":""}]
[null,null,"",null,null,null,null,{"$f":"IF(G9096=\"\",\"\",VLOOKUP(G9096,'Lista de precios'!$B$7:$C$5000,2,0))","v":""}]
[null,null,"",null,null,null,null,{"$f":"IF(G9097=\"\",\"\",VLOOKUP(G9097,'Lista de precios'!$B$7:$C$5000,2,0))","v":""}]
[null,null,"",null,null,null,null,{"$f":"IF(G9098=\"\",\"\",VLOOKUP(G9098,'Lista de precios'!$B$7:$C$5000,2,0))","v":""}]
[null,null,"",null,null,null,null,{"$f":"IF(G9099=\"\",\"\",VLOOKUP(G9099,'Lista de precios'!$B$7:$C$5000,2,0))","v":""}]
[null,null,{"$f":"IF(B9100=\"\",\"\",TEXT(B9100,\"Mmmm\"))","v":""},null,null,null,null,{"$f":"IF(G9100=\"\",\"\",VLOOKUP(G9100,'Lista de precios'!$B$7:$C$5000,2,0))","v":""}]
[null,null,"",null,null,null,null,{"$f":"IF(G9101=\"\",\"\",VLOOKUP(G9101,'Lista de precios'!$B$7:$C$5000,2,0))","v":""}]
[null,null,"",null,null,null,null,{"$f":"IF(G9102=\"\",\"\",VLOOKUP(G9102,'Lista de precios'!$B$7:$C$5000,2,0))","v":""}]
[null,null,"",null,null,null,null,{"$f":"IF(G9103=\"\",\"\",VLOOKUP(G9103,'Lista de precios'!$B$7:$C$5000,2,0))","v":""}]
[null,null,"",null,null,null,null,{"$f":"IF(G9104=\"\",\"\",VLOOKUP(G9104,'Lista de precios'!$B$7:$C$5000,2,0))","v":""}]
[null,null,"",null,null,null,null,{"$f":"IF(G9105=\"\",\"\",VLOOKUP(G9105,'Lista de precios'!$B$7:$C$5000,2,0))","v":""}]
[null,null,"",null,null,null,null,{"$f":"IF(G9106=\"\",\"\",VLOOKUP(G9106,'Lista de precios'!$B$7:$C$5000,2,0))","v":""}]
[null,null,"",null,null,null,null,{"$f":"IF(G9107=\"\",\"\",VLOOKUP(G9107,'Lista de precios'!$B$7:$C$5000,2,0))","v":""}]
[null,null,"",null,null,null,null,{"$f":"IF(G9108=\"\",\"\",VLOOKUP(G9108,'Lista de precios'!$B$7:$C$5000,2,0))","v":""}]
[null,null,"",null,null,null,null,{"$f":"IF(G9109=\"\",\"\",VLOOKUP(G9109,'Lista de precios'!$B$7:$C$5000,2,0))","v":""}]
[null,null,"",null,null,null,null,{"$f":"IF(G9110=\"\",\"\",VLOOKUP(G9110,'Lista de precios'!$B$7:$C$5000,2,0))","v":""}]
[null,null,"",null,null,null,null,{"$f":"IF(G9111=\"\",\"\",VLOOKUP(G9111,'Lista de precios'!$B$7:$C$5000,2,0))","v":""}]
[null,null,"",null,null,null,null,{"$f":"IF(G9112=\"\",\"\",VLOOKUP(G9112,'Lista de precios'!$B$7:$C$5000,2,0))","v":""}]
[null,null,"",null,null,null,null,{"$f":"IF(G9113=\"\",\"\",VLOOKUP(G9113,'Lista de precios'!$B$7:$C$5000,2,0))","v":""}]
[null,null,"",null,null,null,null,{"$f":"IF(G9114=\"\",\"\",VLOOKUP(G9114,'Lista de precios'!$B$7:$C$5000,2,0))","v":""}]
[null,null,"",null,null,null,null,{"$f":"IF(G9115=\"\",\"\",VLOOKUP(G9115,'Lista de precios'!$B$7:$C$5000,2,0))","v":""}]
[null,null,"",null,null,null,null,{"$f":"IF(G9116=\"\",\"\",VLOOKUP(G9116,'Lista de precios'!$B$7:$C$5000,2,0))","v":""}]
[null,null,"",null,null,null,null,{"$f":"IF(G9117=\"\",\"\",VLOOKUP(G9117,'Lista de precios'!$B$7:$C$5000,2,0))","v":""}]
[null,null,"",null,null,null,null,{"$f":"IF(G9118=\"\",\"\",VLOOKUP(G9118,'Lista de precios'!$B$7:$C$5000,2,0))","v":""}]
[null,null,"",null,null,null,null,{"$f":"IF(G9119=\"\",\"\",VLOOKUP(G9119,'Lista de precios'!$B$7:$C$5000,2,0))","v":""}]
[null,null,"",null,null,null,null,{"$f":"IF(G9120=\"\",\"\",VLOOKUP(G9120,'Lista de precios'!$B$7:$C$5000,2,0))","v":""}]
[null,null,"",null,null,null,null,{"$f":"IF(G9121=\"\",\"\",VLOOKUP(G9121,'Lista de precios'!$B$7:$C$5000,2,0))","v":""}]
[null,null,"",null,null,null,null,{"$f":"IF(G9122=\"\",\"\",VLOOKUP(G9122,'Lista de precios'!$B$7:$C$5000,2,0))","v":""}]
[null,null,"",null,null,null,null,{"$f":"IF(G9123=\"\",\"\",VLOOKUP(G9123,'Lista de precios'!$B$7:$C$5000,2,0))","v":""}]
[null,null,"",null,null,null,null,{"$f":"IF(G9124=\"\",\"\",VLOOKUP(G9124,'Lista de precios'!$B$7:$C$5000,2,0))","v":""}]
[null,null,"",null,null,null,null,{"$f":"IF(G9125=\"\",\"\",VLOOKUP(G9125,'Lista de precios'!$B$7:$C$5000,2,0))","v":""}]
[null,null,"",null,null,null,null,{"$f":"IF(G9126=\"\",\"\",VLOOKUP(G9126,'Lista de precios'!$B$7:$C$5000,2,0))","v":""}]
[null,null,"",null,null,null,null,{"$f":"IF(G9127=\"\",\"\",VLOOKUP(G9127,'Lista de precios'!$B$7:$C$5000,2,0))","v":""}]
[null,null,"",null,null,null,null,{"$f":"IF(G9128=\"\",\"\",VLOOKUP(G9128,'Lista de precios'!$B$7:$C$5000,2,0))","v":""}]
[null,null,"",null,null,null,null,{"$f":"IF(G9129=\"\",\"\",VLOOKUP(G9129,'Lista de precios'!$B$7:$C$5000,2,0))","v":""}]
[null,null,"",null,null,null,null,{"$f":"IF(G9130=\"\",\"\",VLOOKUP(G9130,'Lista de precios'!$B$7:$C$5000,2,0))","v":""}]
[null,null,"",null,null,null,null,{"$f":"IF(G9131=\"\",\"\",VLOOKUP(G9131,'Lista de precios'!$B$7:$C$5000,2,0))","v":""}]
[null,null,"",null,null,null,null,{"$f":"IF(G9132=\"\",\"\",VLOOKUP(G9132,'Lista de precios'!$B$7:$C$5000,2,0))","v":""}]
[null,null,"",null,null,null,null,{"$f":"IF(G9133=\"\",\"\",VLOOKUP(G9133,'Lista de precios'!$B$7:$C$5000,2,0))","v":""}]
[null,null,"",null,null,null,null,{"$f":"IF(G9134=\"\",\"\",VLOOKUP(G9134,'Lista de precios'!$B$7:$C$5000,2,0))","v":""}]
[null,null,"",null,null,null,null,{"$f":"IF(G9135=\"\",\"\",VLOOKUP(G9135,'Lista de precios'!$B$7:$C$5000,2,0))","v":""}]
[null,null,"",null,null,null,null,{"$f":"IF(G9136=\"\",\"\",VLOOKUP(G9136,'Lista de precios'!$B$7:$C$5000,2,0))","v":""}]
[null,null,"",null,null,null,null,{"$f":"IF(G9137=\"\",\"\",VLOOKUP(G9137,'Lista de precios'!$B$7:$C$5000,2,0))","v":""}]
[null,null,"",null,null,null,null,{"$f":"IF(G9138=\"\",\"\",VLOOKUP(G9138,'Lista de precios'!$B$7:$C$5000,2,0))","v":""}]
[null,null,"",null,null,null,null,{"$f":"IF(G9139=\"\",\"\",VLOOKUP(G9139,'Lista de precios'!$B$7:$C$5000,2,0))","v":""}]
[null,null,"",null,null,null,null,{"$f":"IF(G9140=\"\",\"\",VLOOKUP(G9140,'Lista de precios'!$B$7:$C$5000,2,0))","v":""}]
[null,null,"",null,null,null,null,{"$f":"IF(G9141=\"\",\"\",VLOOKUP(G9141,'Lista de precios'!$B$7:$C$5000,2,0))","v":""}]
[null,null,"",null,null,null,null,{"$f":"IF(G9142=\"\",\"\",VLOOKUP(G9142,'Lista de precios'!$B$7:$C$5000,2,0))","v":""}]
[null,null,"",null,null,null,null,{"$f":"IF(G9143=\"\",\"\",VLOOKUP(G9143,'Lista de precios'!$B$7:$C$5000,2,0))","v":""}]
[null,null,"",null,null,null,null,{"$f":"IF(G9144=\"\",\"\",VLOOKUP(G9144,'Lista de precios'!$B$7:$C$5000,2,0))","v":""}]
[null,null,"",null,null,null,null,{"$f":"IF(G9145=\"\",\"\",VLOOKUP(G9145,'Lista de precios'!$B$7:$C$5000,2,0))","v":""}]
[null,null,"",null,null,null,null,{"$f":"IF(G9146=\"\",\"\",VLOOKUP(G9146,'Lista de precios'!$B$7:$C$5000,2,0))","v":""}]
[null,null,"",null,null,null,null,{"$f":"IF(G9147=\"\",\"\",VLOOKUP(G9147,'Lista de precios'!$B$7:$C$5000,2,0))","v":""}]
[null,null,"",null,null,null,null,{"$f":"IF(G9148=\"\",\"\",VLOOKUP(G9148,'Lista de precios'!$B$7:$C$5000,2,0))","v":""}]
[null,null,"",null,null,null,null,{"$f":"IF(G9149=\"\",\"\",VLOOKUP(G9149,'Lista de precios'!$B$7:$C$5000,2,0))","v":""}]
[null,null,"",null,null,null,null,{"$f":"IF(G9150=\"\",\"\",VLOOKUP(G9150,'Lista de precios'!$B$7:$C$5000,2,0))","v":""}]
[null,null,"",null,null,null,null,{"$f":"IF(G9151=\"\",\"\",VLOOKUP(G9151,'Lista de precios'!$B$7:$C$5000,2,0))","v":""}]
[null,null,"",null,null,null,null,{"$f":"IF(G9152=\"\",\"\",VLOOKUP(G9152,'Lista de precios'!$B$7:$C$5000,2,0))","v":""}]
[null,null,"",null,null,null,null,{"$f":"IF(G9153=\"\",\"\",VLOOKUP(G9153,'Lista de precios'!$B$7:$C$5000,2,0))","v":""}]
[null,null,"",null,null,null,null,{"$f":"IF(G9154=\"\",\"\",VLOOKUP(G9154,'Lista de precios'!$B$7:$C$5000,2,0))","v":""}]
[null,null,"",null,null,null,null,{"$f":"IF(G9155=\"\",\"\",VLOOKUP(G9155,'Lista de precios'!$B$7:$C$5000,2,0))","v":""}]
[null,null,"",null,null,null,null,{"$f":"IF(G9156=\"\",\"\",VLOOKUP(G9156,'Lista de precios'!$B$7:$C$5000,2,0))","v":""}]
[null,null,"",null,null,null,null,{"$f":"IF(G9157=\"\",\"\",VLOOKUP(G9157,'Lista de precios'!$B$7:$C$5000,2,0))","v":""}]
[null,null,"",null,null,null,null,{"$f":"IF(G9158=\"\",\"\",VLOOKUP(G9158,'Lista de precios'!$B$7:$C$5000,2,0))","v":""}]
[null,null,"",null,null,null,null,{"$f":"IF(G9159=\"\",\"\",VLOOKUP(G9159,'Lista de precios'!$B$7:$C$5000,2,0))","v":""}]
[null,null,"",null,null,null,null,{"$f":"IF(G9160=\"\",\"\",VLOOKUP(G9160,'Lista de precios'!$B$7:$C$5000,2,0))","v":""}]
[null,null,"",null,null,null,null,{"$f":"IF(G9161=\"\",\"\",VLOOKUP(G9161,'Lista de precios'!$B$7:$C$5000,2,0))","v":""}]
[null,null,"",null,null,null,null,{"$f":"IF(G9162=\"\",\"\",VLOOKUP(G9162,'Lista de precios'!$B$7:$C$5000,2,0))","v":""}]
[null,null,"",null,null,null,null,{"$f":"IF(G9163=\"\",\"\",VLOOKUP(G9163,'Lista de precios'!$B$7:$C$5000,2,0))","v":""}]
[null,null,{"$f":"IF(B9164=\"\",\"\",TEXT(B9164,\"Mmmm\"))","v":""},null,null,null,null,{"$f":"IF(G9164=\"\",\"\",VLOOKUP(G9164,'Lista de precios'!$B$7:$C$5000,2,0))","v":""}]
[null,null,"",null,null,null,null,{"$f":"IF(G9165=\"\",\"\",VLOOKUP(G9165,'Lista de precios'!$B$7:$C$5000,2,0))","v":""}]
[null,null,"",null,null,null,null,{"$f":"IF(G9166=\"\",\"\",VLOOKUP(G9166,'Lista de precios'!$B$7:$C$5000,2,0))","v":""}]
[null,null,"",null,null,null,null,{"$f":"IF(G9167=\"\",\"\",VLOOKUP(G9167,'Lista de precios'!$B$7:$C$5000,2,0))","v":""}]
[null,null,"",null,null,null,null,{"$f":"IF(G9168=\"\",\"\",VLOOKUP(G9168,'Lista de precios'!$B$7:$C$5000,2,0))","v":""}]
[null,null,"",null,null,null,null,{"$f":"IF(G9169=\"\",\"\",VLOOKUP(G9169,'Lista de precios'!$B$7:$C$5000,2,0))","v":""}]
[null,null,"",null,null,null,null,{"$f":"IF(G9170=\"\",\"\",VLOOKUP(G9170,'Lista de precios'!$B$7:$C$5000,2,0))","v":""}]
[null,null,"",null,null,null,null,{"$f":"IF(G9171=\"\",\"\",VLOOKUP(G9171,'Lista de precios'!$B$7:$C$5000,2,0))","v":""}]
[null,null,"",null,null,null,null,{"$f":"IF(G9172=\"\",\"\",VLOOKUP(G9172,'Lista de precios'!$B$7:$C$5000,2,0))","v":""}]
[null,null,"",null,null,null,null,{"$f":"IF(G9173=\"\",\"\",VLOOKUP(G9173,'Lista de precios'!$B$7:$C$5000,2,0))","v":""}]
[null,null,"",null,null,null,null,{"$f":"IF(G9174=\"\",\"\",VLOOKUP(G9174,'Lista de precios'!$B$7:$C$5000,2,0))","v":""}]
[null,null,"",null,null,null,null,{"$f":"IF(G9175=\"\",\"\",VLOOKUP(G9175,'Lista de precios'!$B$7:$C$5000,2,0))","v":""}]
[null,null,"",null,null,null,null,{"$f":"IF(G9176=\"\",\"\",VLOOKUP(G9176,'Lista de precios'!$B$7:$C$5000,2,0))","v":""}]
[null,null,"",null,null,null,null,{"$f":"IF(G9177=\"\",\"\",VLOOKUP(G9177,'Lista de precios'!$B$7:$C$5000,2,0))","v":""}]
[null,null,"",null,null,null,null,{"$f":"IF(G9178=\"\",\"\",VLOOKUP(G9178,'Lista de precios'!$B$7:$C$5000,2,0))","v":""}]
[null,null,"",null,null,null,null,{"$f":"IF(G9179=\"\",\"\",VLOOKUP(G9179,'Lista de precios'!$B$7:$C$5000,2,0))","v":""}]
[null,null,"",null,null,null,null,{"$f":"IF(G9180=\"\",\"\",VLOOKUP(G9180,'Lista de precios'!$B$7:$C$5000,2,0))","v":""}]
[null,null,"",null,null,null,null,{"$f":"IF(G9181=\"\",\"\",VLOOKUP(G9181,'Lista de precios'!$B$7:$C$5000,2,0))","v":""}]
[null,null,"",null,null,null,null,{"$f":"IF(G9182=\"\",\"\",VLOOKUP(G9182,'Lista de precios'!$B$7:$C$5000,2,0))","v":""}]
[null,null,"",null,null,null,null,{"$f":"IF(G9183=\"\",\"\",VLOOKUP(G9183,'Lista de precios'!$B$7:$C$5000,2,0))","v":""}]
[null,null,"",null,null,null,null,{"$f":"IF(G9184=\"\",\"\",VLOOKUP(G9184,'Lista de precios'!$B$7:$C$5000,2,0))","v":""}]
[null,null,"",null,null,null,null,{"$f":"IF(G9185=\"\",\"\",VLOOKUP(G9185,'Lista de precios'!$B$7:$C$5000,2,0))","v":""}]
[null,null,"",null,null,null,null,{"$f":"IF(G9186=\"\",\"\",VLOOKUP(G9186,'Lista de precios'!$B$7:$C$5000,2,0))","v":""}]
[null,null,"",null,null,null,null,{"$f":"IF(G9187=\"\",\"\",VLOOKUP(G9187,'Lista de precios'!$B$7:$C$5000,2,0))","v":""}]
[null,null,"",null,null,null,null,{"$f":"IF(G9188=\"\",\"\",VLOOKUP(G9188,'Lista de precios'!$B$7:$C$5000,2,0))","v":""}]
[null,null,"",null,null,null,null,{"$f":"IF(G9189=\"\",\"\",VLOOKUP(G9189,'Lista de precios'!$B$7:$C$5000,2,0))","v":""}]
[null,null,"",null,null,null,null,{"$f":"IF(G9190=\"\",\"\",VLOOKUP(G9190,'Lista de precios'!$B$7:$C$5000,2,0))","v":""}]
[null,null,"",null,null,null,null,{"$f":"IF(G9191=\"\",\"\",VLOOKUP(G9191,'Lista de precios'!$B$7:$C$5000,2,0))","v":""}]
[null,null,"",null,null,null,null,{"$f":"IF(G9192=\"\",\"\",VLOOKUP(G9192,'Lista de precios'!$B$7:$C$5000,2,0))","v":""}]
[null,null,"",null,null,null,null,{"$f":"IF(G9193=\"\",\"\",VLOOKUP(G9193,'Lista de precios'!$B$7:$C$5000,2,0))","v":""}]
[null,null,"",null,null,null,null,{"$f":"IF(G9194=\"\",\"\",VLOOKUP(G9194,'Lista de precios'!$B$7:$C$5000,2,0))","v":""}]
[null,null,"",null,null,null,null,{"$f":"IF(G9195=\"\",\"\",VLOOKUP(G9195,'Lista de precios'!$B$7:$C$5000,2,0))","v":""}]
[null,null,"",null,null,null,null,{"$f":"IF(G9196=\"\",\"\",VLOOKUP(G9196,'Lista de precios'!$B$7:$C$5000,2,0))","v":""}]
[null,null,"",null,null,null,null,{"$f":"IF(G9197=\"\",\"\",VLOOKUP(G9197,'Lista de precios'!$B$7:$C$5000,2,0))","v":""}]
[null,null,"",null,null,null,null,{"$f":"IF(G9198=\"\",\"\",VLOOKUP(G9198,'Lista de precios'!$B$7:$C$5000,2,0))","v":""}]
[null,null,"",null,null,null,null,{"$f":"IF(G9199=\"\",\"\",VLOOKUP(G9199,'Lista de precios'!$B$7:$C$5000,2,0))","v":""}]
[null,null,"",null,null,null,null,{"$f":"IF(G9200=\"\",\"\",VLOOKUP(G9200,'Lista de precios'!$B$7:$C$5000,2,0))","v":""}]
[null,null,"",null,null,null,null,{"$f":"IF(G9201=\"\",\"\",VLOOKUP(G9201,'Lista de precios'!$B$7:$C$5000,2,0))","v":""}]
[null,null,"",null,null,null,null,{"$f":"IF(G9202=\"\",\"\",VLOOKUP(G9202,'Lista de precios'!$B$7:$C$5000,2,0))","v":""}]
[null,null,"",null,null,null,null,{"$f":"IF(G9203=\"\",\"\",VLOOKUP(G9203,'Lista de precios'!$B$7:$C$5000,2,0))","v":""}]
[null,null,"",null,null,null,null,{"$f":"IF(G9204=\"\",\"\",VLOOKUP(G9204,'Lista de precios'!$B$7:$C$5000,2,0))","v":""}]
[null,null,"",null,null,null,null,{"$f":"IF(G9205=\"\",\"\",VLOOKUP(G9205,'Lista de precios'!$B$7:$C$5000,2,0))","v":""}]
[null,null,"",null,null,null,null,{"$f":"IF(G9206=\"\",\"\",VLOOKUP(G9206,'Lista de precios'!$B$7:$C$5000,2,0))","v":""}]
[null,null,"",null,null,null,null,{"$f":"IF(G9207=\"\",\"\",VLOOKUP(G9207,'Lista de precios'!$B$7:$C$5000,2,0))","v":""}]
[null,null,"",null,null,null,null,{"$f":"IF(G9208=\"\",\"\",VLOOKUP(G9208,'Lista de precios'!$B$7:$C$5000,2,0))","v":""}]
[null,null,"",null,null,null,null,{"$f":"IF(G9209=\"\",\"\",VLOOKUP(G9209,'Lista de precios'!$B$7:$C$5000,2,0))","v":""}]
[null,null,"",null,null,null,null,{"$f":"IF(G9210=\"\",\"\",VLOOKUP(G9210,'Lista de precios'!$B$7:$C$5000,2,0))","v":""}]
[null,null,"",null,null,null,null,{"$f":"IF(G9211=\"\",\"\",VLOOKUP(G9211,'Lista de precios'!$B$7:$C$5000,2,0))","v":""}]
[null,null,"",null,null,null,null,{"$f":"IF(G9212=\"\",\"\",VLOOKUP(G9212,'Lista de precios'!$B$7:$C$5000,2,0))","v":""}]
[null,null,"",null,null,null,null,{"$f":"IF(G9213=\"\",\"\",VLOOKUP(G9213,'Lista de precios'!$B$7:$C$5000,2,0))","v":""}]
[null,null,"",null,null,null,null,{"$f":"IF(G9214=\"\",\"\",VLOOKUP(G9214,'Lista de precios'!$B$7:$C$5000,2,0))","v":""}]
[null,null,"",null,null,null,null,{"$f":"IF(G9215=\"\",\"\",VLOOKUP(G9215,'Lista de precios'!$B$7:$C$5000,2,0))","v":""}]
[null,null,"",null,null,null,null,{"$f":"IF(G9216=\"\",\"\",VLOOKUP(G9216,'Lista de precios'!$B$7:$C$5000,2,0))","v":""}]
[null,null,"",null,null,null,null,{"$f":"IF(G9217=\"\",\"\",VLOOKUP(G9217,'Lista de precios'!$B$7:$C$5000,2,0))","v":""}]
[null,null,"",null,null,null,null,{"$f":"IF(G9218=\"\",\"\",VLOOKUP(G9218,'Lista de precios'!$B$7:$C$5000,2,0))","v":""}]
[null,null,"",null,null,null,null,{"$f":"IF(G9219=\"\",\"\",VLOOKUP(G9219,'Lista de precios'!$B$7:$C$5000,2,0))","v":""}]
[null,null,"",null,null,null,null,{"$f":"IF(G9220=\"\",\"\",VLOOKUP(G9220,'Lista de precios'!$B$7:$C$5000,2,0))","v":""}]
[null,null,"",null,null,null,null,{"$f":"IF(G9221=\"\",\"\",VLOOKUP(G9221,'Lista de precios'!$B$7:$C$5000,2,0))","v":""}]
[null,null,"",null,null,null,null,{"$f":"IF(G9222=\"\",\"\",VLOOKUP(G9222,'Lista de precios'!$B$7:$C$5000,2,0))","v":""}]
[null,null,"",null,null,null,null,{"$f":"IF(G9223=\"\",\"\",VLOOKUP(G9223,'Lista de precios'!$B$7:$C$5000,2,0))","v":""}]
[null,null,"",null,null,null,null,{"$f":"IF(G9224=\"\",\"\",VLOOKUP(G9224,'Lista de precios'!$B$7:$C$5000,2,0))","v":""}]
[null,null,"",null,null,null,null,{"$f":"IF(G9225=\"\",\"\",VLOOKUP(G9225,'Lista de precios'!$B$7:$C$5000,2,0))","v":""}]
[null,null,"",null,null,null,null,{"$f":"IF(G9226=\"\",\"\",VLOOKUP(G9226,'Lista de precios'!$B$7:$C$5000,2,0))","v":""}]
[null,null,"",null,null,null,null,{"$f":"IF(G9227=\"\",\"\",VLOOKUP(G9227,'Lista de precios'!$B$7:$C$5000,2,0))","v":""}]
[null,null,{"$f":"IF(B9228=\"\",\"\",TEXT(B9228,\"Mmmm\"))","v":""},null,null,null,null,{"$f":"IF(G9228=\"\",\"\",VLOOKUP(G9228,'Lista de precios'!$B$7:$C$5000,2,0))","v":""}]
[null,null,"",null,null,null,null,{"$f":"IF(G9229=\"\",\"\",VLOOKUP(G9229,'Lista de precios'!$B$7:$C$5000,2,0))","v":""}]
[null,null,"",null,null,null,null,{"$f":"IF(G9230=\"\",\"\",VLOOKUP(G9230,'Lista de precios'!$B$7:$C$5000,2,0))","v":""}]
[null,null,"",null,null,null,null,{"$f":"IF(G9231=\"\",\"\",VLOOKUP(G9231,'Lista de precios'!$B$7:$C$5000,2,0))","v":""}]
[null,null,"",null,null,null,null,{"$f":"IF(G9232=\"\",\"\",VLOOKUP(G9232,'Lista de precios'!$B$7:$C$5000,2,0))","v":""}]
[null,null,"",null,null,null,null,{"$f":"IF(G9233=\"\",\"\",VLOOKUP(G9233,'Lista de precios'!$B$7:$C$5000,2,0))","v":""}]
[null,null,"",null,null,null,null,{"$f":"IF(G9234=\"\",\"\",VLOOKUP(G9234,'Lista de precios'!$B$7:$C$5000,2,0))","v":""}]
[null,null,"",null,null,null,null,{"$f":"IF(G9235=\"\",\"\",VLOOKUP(G9235,'Lista de precios'!$B$7:$C$5000,2,0))","v":""}]
[null,null,"",null,null,null,null,{"$f":"IF(G9236=\"\",\"\",VLOOKUP(G9236,'Lista de precios'!$B$7:$C$5000,2,0))","v":""}]
[null,null,"",null,null,null,null,{"$f":"IF(G9237=\"\",\"\",VLOOKUP(G9237,'Lista de precios'!$B$7:$C$5000,2,0))","v":""}]
[null,null,"",null,null,null,null,{"$f":"IF(G9238=\"\",\"\",VLOOKUP(G9238,'Lista de precios'!$B$7:$C$5000,2,0))","v":""}]
[null,null,"",null,null,null,null,{"$f":"IF(G9239=\"\",\"\",VLOOKUP(G9239,'Lista de precios'!$B$7:$C$5000,2,0))","v":""}]
[null,null,"",null,null,null,null,{"$f":"IF(G9240=\"\",\"\",VLOOKUP(G9240,'Lista de precios'!$B$7:$C$5000,2,0))","v":""}]
[null,null,"",null,null,null,null,{"$f":"IF(G9241=\"\",\"\",VLOOKUP(G9241,'Lista de precios'!$B$7:$C$5000,2,0))","v":""}]
[null,null,"",null,null,null,null,{"$f":"IF(G9242=\"\",\"\",VLOOKUP(G9242,'Lista de precios'!$B$7:$C$5000,2,0))","v":""}]
[null,null,"",null,null,null,null,{"$f":"IF(G9243=\"\",\"\",VLOOKUP(G9243,'Lista de precios'!$B$7:$C$5000,2,0))","v":""}]
[null,null,"",null,null,null,null,{"$f":"IF(G9244=\"\",\"\",VLOOKUP(G9244,'Lista de precios'!$B$7:$C$5000,2,0))","v":""}]
[null,null,"",null,null,null,null,{"$f":"IF(G9245=\"\",\"\",VLOOKUP(G9245,'Lista de precios'!$B$7:$C$5000,2,0))","v":""}]
[null,null,"",null,null,null,null,{"$f":"IF(G9246=\"\",\"\",VLOOKUP(G9246,'Lista de precios'!$B$7:$C$5000,2,0))","v":""}]
[null,null,"",null,null,null,null,{"$f":"IF(G9247=\"\",\"\",VLOOKUP(G9247,'Lista de precios'!$B$7:$C$5000,2,0))","v":""}]
[null,null,"",null,null,null,null,{"$f":"IF(G9248=\"\",\"\",VLOOKUP(G9248,'Lista de precios'!$B$7:$C$5000,2,0))","v":""}]
[null,null,"",null,null,null,null,{"$f":"IF(G9249=\"\",\"\",VLOOKUP(G9249,'Lista de precios'!$B$7:$C$5000,2,0))","v":""}]
[null,null,"",null,null,null,null,{"$f":"IF(G9250=\"\",\"\",VLOOKUP(G9250,'Lista de precios'!$B$7:$C$5000,2,0))","v":""}]
[null,null,"",null,null,null,null,{"$f":"IF(G9251=\"\",\"\",VLOOKUP(G9251,'Lista de precios'!$B$7:$C$5000,2,0))","v":""}]
[null,null,"",null,null,null,null,{"$f":"IF(G9252=\"\",\"\",VLOOKUP(G9252,'Lista de precios'!$B$7:$C$5000,2,0))","v":""}]
[null,null,"",null,null,null,null,{"$f":"IF(G9253=\"\",\"\",VLOOKUP(G9253,'Lista de precios'!$B$7:$C$5000,2,0))","v":""}]
[null,null,"",null,null,null,null,{"$f":"IF(G9254=\"\",\"\",VLOOKUP(G9254,'Lista de precios'!$B$7:$C$5000,2,0))","v":""}]
[null,null,"",null,null,null,null,{"$f":"IF(G9255=\"\",\"\",VLOOKUP(G9255,'Lista de precios'!$B$7:$C$5000,2,0))","v":""}]
[null,null,"",null,null,null,null,{"$f":"IF(G9256=\"\",\"\",VLOOKUP(G9256,'Lista de precios'!$B$7:$C$5000,2,0))","v":""}]
[null,null,"",null,null,null,null,{"$f":"IF(G9257=\"\",\"\",VLOOKUP(G9257,'Lista de precios'!$B$7:$C$5000,2,0))","v":""}]
[null,null,"",null,null,null,null,{"$f":"IF(G9258=\"\",\"\",VLOOKUP(G9258,'Lista de precios'!$B$7:$C$5000,2,0))","v":""}]
[null,null,"",null,null,null,null,{"$f":"IF(G9259=\"\",\"\",VLOOKUP(G9259,'Lista de precios'!$B$7:$C$5000,2,0))","v":""}]
[null,null,"",null,null,null,null,{"$f":"IF(G9260=\"\",\"\",VLOOKUP(G9260,'Lista de precios'!$B$7:$C$5000,2,0))","v":""}]
[null,null,"",null,null,null,null,{"$f":"IF(G9261=\"\",\"\",VLOOKUP(G9261,'Lista de precios'!$B$7:$C$5000,2,0))","v":""}]
[null,null,"",null,null,null,null,{"$f":"IF(G9262=\"\",\"\",VLOOKUP(G9262,'Lista de precios'!$B$7:$C$5000,2,0))","v":""}]
[null,null,"",null,null,null,null,{"$f":"IF(G9263=\"\",\"\",VLOOKUP(G9263,'Lista de precios'!$B$7:$C$5000,2,0))","v":""}]
[null,null,"",null,null,null,null,{"$f":"IF(G9264=\"\",\"\",VLOOKUP(G9264,'Lista de precios'!$B$7:$C$5000,2,0))","v":""}]
[null,null,"",null,null,null,null,{"$f":"IF(G9265=\"\",\"\",VLOOKUP(G9265,'Lista de precios'!$B$7:$C$5000,2,0))","v":""}]
[null,null,"",null,null,null,null,{"$f":"IF(G9266=\"\",\"\",VLOOKUP(G9266,'Lista de precios'!$B$7:$C$5000,2,0))","v":""}]
[null,null,"",null,null,null,null,{"$f":"IF(G9267=\"\",\"\",VLOOKUP(G9267,'Lista de precios'!$B$7:$C$5000,2,0))","v":""}]
[null,null,"",null,null,null,null,{"$f":"IF(G9268=\"\",\"\",VLOOKUP(G9268,'Lista de precios'!$B$7:$C$5000,2,0))","v":""}]
[null,null,"",null,null,null,null,{"$f":"IF(G9269=\"\",\"\",VLOOKUP(G9269,'Lista de precios'!$B$7:$C$5000,2,0))","v":""}]
[null,null,"",null,null,null,null,{"$f":"IF(G9270=\"\",\"\",VLOOKUP(G9270,'Lista de precios'!$B$7:$C$5000,2,0))","v":""}]
[null,null,"",null,null,null,null,{"$f":"IF(G9271=\"\",\"\",VLOOKUP(G9271,'Lista de precios'!$B$7:$C$5000,2,0))","v":""}]
[null,null,"",null,null,null,null,{"$f":"IF(G9272=\"\",\"\",VLOOKUP(G9272,'Lista de precios'!$B$7:$C$5000,2,0))","v":""}]
[null,null,"",null,null,null,null,{"$f":"IF(G9273=\"\",\"\",VLOOKUP(G9273,'Lista de precios'!$B$7:$C$5000,2,0))","v":""}]
[null,null,"",null,null,null,null,{"$f":"IF(G9274=\"\",\"\",VLOOKUP(G9274,'Lista de precios'!$B$7:$C$5000,2,0))","v":""}]
[null,null,"",null,null,null,null,{"$f":"IF(G9275=\"\",\"\",VLOOKUP(G9275,'Lista de precios'!$B$7:$C$5000,2,0))","v":""}]
[null,null,"",null,null,null,null,{"$f":"IF(G9276=\"\",\"\",VLOOKUP(G9276,'Lista de precios'!$B$7:$C$5000,2,0))","v":""}]
[null,null,"",null,null,null,null,{"$f":"IF(G9277=\"\",\"\",VLOOKUP(G9277,'Lista de precios'!$B$7:$C$5000,2,0))","v":""}]
[null,null,"",null,null,null,null,{"$f":"IF(G9278=\"\",\"\",VLOOKUP(G9278,'Lista de precios'!$B$7:$C$5000,2,0))","v":""}]
[null,null,"",null,null,null,null,{"$f":"IF(G9279=\"\",\"\",VLOOKUP(G9279,'Lista de precios'!$B$7:$C$5000,2,0))","v":""}]
[null,null,"",null,null,null,null,{"$f":"IF(G9280=\"\",\"\",VLOOKUP(G9280,'Lista de precios'!$B$7:$C$5000,2,0))","v":""}]
[null,null,"",null,null,null,null,{"$f":"IF(G9281=\"\",\"\",VLOOKUP(G9281,'Lista de precios'!$B$7:$C$5000,2,0))","v":""}]
[null,null,"",null,null,null,null,{"$f":"IF(G9282=\"\",\"\",VLOOKUP(G9282,'Lista de precios'!$B$7:$C$5000,2,0))","v":""}]
[null,null,"",null,null,null,null,{"$f":"IF(G9283=\"\",\"\",VLOOKUP(G9283,'Lista de precios'!$B$7:$C$5000,2,0))","v":""}]
[null,null,"",null,null,null,null,{"$f":"IF(G9284=\"\",\"\",VLOOKUP(G9284,'Lista de precios'!$B$7:$C$5000,2,0))","v":""}]
[null,null,"",null,null,null,null,{"$f":"IF(G9285=\"\",\"\",VLOOKUP(G9285,'Lista de precios'!$B$7:$C$5000,2,0))","v":""}]
[null,null,"",null,null,null,null,{"$f":"IF(G9286=\"\",\"\",VLOOKUP(G9286,'Lista de precios'!$B$7:$C$5000,2,0))","v":""}]
[null,null,"",null,null,null,null,{"$f":"IF(G9287=\"\",\"\",VLOOKUP(G9287,'Lista de precios'!$B$7:$C$5000,2,0))","v":""}]
[null,null,"",null,null,null,null,{"$f":"IF(G9288=\"\",\"\",VLOOKUP(G9288,'Lista de precios'!$B$7:$C$5000,2,0))","v":""}]
[null,null,"",null,null,null,null,{"$f":"IF(G9289=\"\",\"\",VLOOKUP(G9289,'Lista de precios'!$B$7:$C$5000,2,0))","v":""}]
[null,null,"",null,null,null,null,{"$f":"IF(G9290=\"\",\"\",VLOOKUP(G9290,'Lista de precios'!$B$7:$C$5000,2,0))","v":""}]
[null,null,"",null,null,null,null,{"$f":"IF(G9291=\"\",\"\",VLOOKUP(G9291,'Lista de precios'!$B$7:$C$5000,2,0))","v":""}]
[null,null,{"$f":"IF(B9292=\"\",\"\",TEXT(B9292,\"Mmmm\"))","v":""},null,null,null,null,{"$f":"IF(G9292=\"\",\"\",VLOOKUP(G9292,'Lista de precios'!$B$7:$C$5000,2,0))","v":""}]
[null,null,"",null,null,null,null,{"$f":"IF(G9293=\"\",\"\",VLOOKUP(G9293,'Lista de precios'!$B$7:$C$5000,2,0))","v":""}]
[null,null,"",null,null,null,null,{"$f":"IF(G9294=\"\",\"\",VLOOKUP(G9294,'Lista de precios'!$B$7:$C$5000,2,0))","v":""}]
[null,null,"",null,null,null,null,{"$f":"IF(G9295=\"\",\"\",VLOOKUP(G9295,'Lista de precios'!$B$7:$C$5000,2,0))","v":""}]
[null,null,"",null,null,null,null,{"$f":"IF(G9296=\"\",\"\",VLOOKUP(G9296,'Lista de precios'!$B$7:$C$5000,2,0))","v":""}]
[null,null,"",null,null,null,null,{"$f":"IF(G9297=\"\",\"\",VLOOKUP(G9297,'Lista de precios'!$B$7:$C$5000,2,0))","v":""}]
[null,null,"",null,null,null,null,{"$f":"IF(G9298=\"\",\"\",VLOOKUP(G9298,'Lista de precios'!$B$7:$C$5000,2,0))","v":""}]
[null,null,"",null,null,null,null,{"$f":"IF(G9299=\"\",\"\",VLOOKUP(G9299,'Lista de precios'!$B$7:$C$5000,2,0))","v":""}]
[null,null,"",null,null,null,null,{"$f":"IF(G9300=\"\",\"\",VLOOKUP(G9300,'Lista de precios'!$B$7:$C$5000,2,0))","v":""}]
[null,null,"",null,null,null,null,{"$f":"IF(G9301=\"\",\"\",VLOOKUP(G9301,'Lista de precios'!$B$7:$C$5000,2,0))","v":""}]
[null,null,"",null,null,null,null,{"$f":"IF(G9302=\"\",\"\",VLOOKUP(G9302,'Lista de precios'!$B$7:$C$5000,2,0))","v":""}]
[null,null,"",null,null,null,null,{"$f":"IF(G9303=\"\",\"\",VLOOKUP(G9303,'Lista de precios'!$B$7:$C$5000,2,0))","v":""}]
[null,null,"",null,null,null,null,{"$f":"IF(G9304=\"\",\"\",VLOOKUP(G9304,'Lista de precios'!$B$7:$C$5000,2,0))","v":""}]
[null,null,"",null,null,null,null,{"$f":"IF(G9305=\"\",\"\",VLOOKUP(G9305,'Lista de precios'!$B$7:$C$5000,2,0))","v":""}]
[null,null,"",null,null,null,null,{"$f":"IF(G9306=\"\",\"\",VLOOKUP(G9306,'Lista de precios'!$B$7:$C$5000,2,0))","v":""}]
[null,null,"",null,null,null,null,{"$f":"IF(G9307=\"\",\"\",VLOOKUP(G9307,'Lista de precios'!$B$7:$C$5000,2,0))","v":""}]
[null,null,"",null,null,null,null,{"$f":"IF(G9308=\"\",\"\",VLOOKUP(G9308,'Lista de precios'!$B$7:$C$5000,2,0))","v":""}]
[null,null,"",null,null,null,null,{"$f":"IF(G9309=\"\",\"\",VLOOKUP(G9309,'Lista de precios'!$B$7:$C$5000,2,0))","v":""}]
[null,null,"",null,null,null,null,{"$f":"IF(G9310=\"\",\"\",VLOOKUP(G9310,'Lista de precios'!$B$7:$C$5000,2,0))","v":""}]
[null,null,"",null,null,null,null,{"$f":"IF(G9311=\"\",\"\",VLOOKUP(G9311,'Lista de precios'!$B$7:$C$5000,2,0))","v":""}]
[null,null,"",null,null,null,null,{"$f":"IF(G9312=\"\",\"\",VLOOKUP(G9312,'Lista de precios'!$B$7:$C$5000,2,0))","v":""}]
[null,null,"",null,null,null,null,{"$f":"IF(G9313=\"\",\"\",VLOOKUP(G9313,'Lista de precios'!$B$7:$C$5000,2,0))","v":""}]
[null,null,"",null,null,null,null,{"$f":"IF(G9314=\"\",\"\",VLOOKUP(G9314,'Lista de precios'!$B$7:$C$5000,2,0))","v":""}]
[null,null,"",null,null,null,null,{"$f":"IF(G9315=\"\",\"\",VLOOKUP(G9315,'Lista de precios'!$B$7:$C$5000,2,0))","v":""}]
[null,null,"",null,null,null,null,{"$f":"IF(G9316=\"\",\"\",VLOOKUP(G9316,'Lista de precios'!$B$7:$C$5000,2,0))","v":""}]
[null,null,"",null,null,null,null,{"$f":"IF(G9317=\"\",\"\",VLOOKUP(G9317,'Lista de precios'!$B$7:$C$5000,2,0))","v":""}]
[null,null,"",null,null,null,null,{"$f":"IF(G9318=\"\",\"\",VLOOKUP(G9318,'Lista de precios'!$B$7:$C$5000,2,0))","v":""}]
[null,null,"",null,null,null,null,{"$f":"IF(G9319=\"\",\"\",VLOOKUP(G9319,'Lista de precios'!$B$7:$C$5000,2,0))","v":""}]
[null,null,"",null,null,null,null,{"$f":"IF(G9320=\"\",\"\",VLOOKUP(G9320,'Lista de precios'!$B$7:$C$5000,2,0))","v":""}]
[null,null,"",null,null,null,null,{"$f":"IF(G9321=\"\",\"\",VLOOKUP(G9321,'Lista de precios'!$B$7:$C$5000,2,0))","v":""}]
[null,null,"",null,null,null,null,{"$f":"IF(G9322=\"\",\"\",VLOOKUP(G9322,'Lista de precios'!$B$7:$C$5000,2,0))","v":""}]
[null,null,"",null,null,null,null,{"$f":"IF(G9323=\"\",\"\",VLOOKUP(G9323,'Lista de precios'!$B$7:$C$5000,2,0))","v":""}]
[null,null,"",null,null,null,null,{"$f":"IF(G9324=\"\",\"\",VLOOKUP(G9324,'Lista de precios'!$B$7:$C$5000,2,0))","v":""}]
[null,null,"",null,null,null,null,{"$f":"IF(G9325=\"\",\"\",VLOOKUP(G9325,'Lista de precios'!$B$7:$C$5000,2,0))","v":""}]
[null,null,"",null,null,null,null,{"$f":"IF(G9326=\"\",\"\",VLOOKUP(G9326,'Lista de precios'!$B$7:$C$5000,2,0))","v":""}]
[null,null,"",null,null,null,null,{"$f":"IF(G9327=\"\",\"\",VLOOKUP(G9327,'Lista de precios'!$B$7:$C$5000,2,0))","v":""}]
[null,null,"",null,null,null,null,{"$f":"IF(G9328=\"\",\"\",VLOOKUP(G9328,'Lista de precios'!$B$7:$C$5000,2,0))","v":""}]
[null,null,"",null,null,null,null,{"$f":"IF(G9329=\"\",\"\",VLOOKUP(G9329,'Lista de precios'!$B$7:$C$5000,2,0))","v":""}]
[null,null,"",null,null,null,null,{"$f":"IF(G9330=\"\",\"\",VLOOKUP(G9330,'Lista de precios'!$B$7:$C$5000,2,0))","v":""}]
[null,null,"",null,null,null,null,{"$f":"IF(G9331=\"\",\"\",VLOOKUP(G9331,'Lista de precios'!$B$7:$C$5000,2,0))","v":""}]
[null,null,"",null,null,null,null,{"$f":"IF(G9332=\"\",\"\",VLOOKUP(G9332,'Lista de precios'!$B$7:$C$5000,2,0))","v":""}]
[null,null,"",null,null,null,null,{"$f":"IF(G9333=\"\",\"\",VLOOKUP(G9333,'Lista de precios'!$B$7:$C$5000,2,0))","v":""}]
[null,null,"",null,null,null,null,{"$f":"IF(G9334=\"\",\"\",VLOOKUP(G9334,'Lista de precios'!$B$7:$C$5000,2,0))","v":""}]
[null,null,"",null,null,null,null,{"$f":"IF(G9335=\"\",\"\",VLOOKUP(G9335,'Lista de precios'!$B$7:$C$5000,2,0))","v":""}]
[null,null,"",null,null,null,null,{"$f":"IF(G9336=\"\",\"\",VLOOKUP(G9336,'Lista de precios'!$B$7:$C$5000,2,0))","v":""}]
[null,null,"",null,null,null,null,{"$f":"IF(G9337=\"\",\"\",VLOOKUP(G9337,'Lista de precios'!$B$7:$C$5000,2,0))","v":""}]
[null,null,"",null,null,null,null,{"$f":"IF(G9338=\"\",\"\",VLOOKUP(G9338,'Lista de precios'!$B$7:$C$5000,2,0))","v":""}]
[null,null,"",null,null,null,null,{"$f":"IF(G9339=\"\",\"\",VLOOKUP(G9339,'Lista de precios'!$B$7:$C$5000,2,0))","v":""}]
[null,null,"",null,null,null,null,{"$f":"IF(G9340=\"\",\"\",VLOOKUP(G9340,'Lista de precios'!$B$7:$C$5000,2,0))","v":""}]
[null,null,"",null,null,null,null,{"$f":"IF(G9341=\"\",\"\",VLOOKUP(G9341,'Lista de precios'!$B$7:$C$5000,2,0))","v":""}]
[null,null,"",null,null,null,null,{"$f":"IF(G9342=\"\",\"\",VLOOKUP(G9342,'Lista de precios'!$B$7:$C$5000,2,0))","v":""}]
[null,null,"",null,null,null,null,{"$f":"IF(G9343=\"\",\"\",VLOOKUP(G9343,'Lista de precios'!$B$7:$C$5000,2,0))","v":""}]
[null,null,"",null,null,null,null,{"$f":"IF(G9344=\"\",\"\",VLOOKUP(G9344,'Lista de precios'!$B$7:$C$5000,2,0))","v":""}]
[null,null,"",null,null,null,null,{"$f":"IF(G9345=\"\",\"\",VLOOKUP(G9345,'Lista de precios'!$B$7:$C$5000,2,0))","v":""}]
[null,null,"",null,null,null,null,{"$f":"IF(G9346=\"\",\"\",VLOOKUP(G9346,'Lista de precios'!$B$7:$C$5000,2,0))","v":""}]
[null,null,"",null,null,null,null,{"$f":"IF(G9347=\"\",\"\",VLOOKUP(G9347,'Lista de precios'!$B$7:$C$5000,2,0))","v":""}]
[null,null,"",null,null,null,null,{"$f":"IF(G9348=\"\",\"\",VLOOKUP(G9348,'Lista de precios'!$B$7:$C$5000,2,0))","v":""}]
[null,null,"",null,null,null,null,{"$f":"IF(G9349=\"\",\"\",VLOOKUP(G9349,'Lista de precios'!$B$7:$C$5000,2,0))","v":""}]
[null,null,"",null,null,null,null,{"$f":"IF(G9350=\"\",\"\",VLOOKUP(G9350,'Lista de precios'!$B$7:$C$5000,2,0))","v":""}]
[null,null,"",null,null,null,null,{"$f":"IF(G9351=\"\",\"\",VLOOKUP(G9351,'Lista de precios'!$B$7:$C$5000,2,0))","v":""}]
[null,null,"",null,null,null,null,{"$f":"IF(G9352=\"\",\"\",VLOOKUP(G9352,'Lista de precios'!$B$7:$C$5000,2,0))","v":""}]
[null,null,"",null,null,null,null,{"$f":"IF(G9353=\"\",\"\",VLOOKUP(G9353,'Lista de precios'!$B$7:$C$5000,2,0))","v":""}]
[null,null,"",null,null,null,null,{"$f":"IF(G9354=\"\",\"\",VLOOKUP(G9354,'Lista de precios'!$B$7:$C$5000,2,0))","v":""}]
[null,null,"",null,null,null,null,{"$f":"IF(G9355=\"\",\"\",VLOOKUP(G9355,'Lista de precios'!$B$7:$C$5000,2,0))","v":""}]
[null,null,{"$f":"IF(B9356=\"\",\"\",TEXT(B9356,\"Mmmm\"))","v":""},null,null,null,null,{"$f":"IF(G9356=\"\",\"\",VLOOKUP(G9356,'Lista de precios'!$B$7:$C$5000,2,0))","v":""}]
[null,null,"",null,null,null,null,{"$f":"IF(G9357=\"\",\"\",VLOOKUP(G9357,'Lista de precios'!$B$7:$C$5000,2,0))","v":""}]
[null,null,"",null,null,null,null,{"$f":"IF(G9358=\"\",\"\",VLOOKUP(G9358,'Lista de precios'!$B$7:$C$5000,2,0))","v":""}]
[null,null,"",null,null,null,null,{"$f":"IF(G9359=\"\",\"\",VLOOKUP(G9359,'Lista de precios'!$B$7:$C$5000,2,0))","v":""}]
[null,null,"",null,null,null,null,{"$f":"IF(G9360=\"\",\"\",VLOOKUP(G9360,'Lista de precios'!$B$7:$C$5000,2,0))","v":""}]
[null,null,"",null,null,null,null,{"$f":"IF(G9361=\"\",\"\",VLOOKUP(G9361,'Lista de precios'!$B$7:$C$5000,2,0))","v":""}]
[null,null,"",null,null,null,null,{"$f":"IF(G9362=\"\",\"\",VLOOKUP(G9362,'Lista de precios'!$B$7:$C$5000,2,0))","v":""}]
[null,null,"",null,null,null,null,{"$f":"IF(G9363=\"\",\"\",VLOOKUP(G9363,'Lista de precios'!$B$7:$C$5000,2,0))","v":""}]
[null,null,"",null,null,null,null,{"$f":"IF(G9364=\"\",\"\",VLOOKUP(G9364,'Lista de precios'!$B$7:$C$5000,2,0))","v":""}]
[null,null,"",null,null,null,null,{"$f":"IF(G9365=\"\",\"\",VLOOKUP(G9365,'Lista de precios'!$B$7:$C$5000,2,0))","v":""}]
[null,null,"",null,null,null,null,{"$f":"IF(G9366=\"\",\"\",VLOOKUP(G9366,'Lista de precios'!$B$7:$C$5000,2,0))","v":""}]
[null,null,"",null,null,null,null,{"$f":"IF(G9367=\"\",\"\",VLOOKUP(G9367,'Lista de precios'!$B$7:$C$5000,2,0))","v":""}]
[null,null,"",null,null,null,null,{"$f":"IF(G9368=\"\",\"\",VLOOKUP(G9368,'Lista de precios'!$B$7:$C$5000,2,0))","v":""}]
[null,null,"",null,null,null,null,{"$f":"IF(G9369=\"\",\"\",VLOOKUP(G9369,'Lista de precios'!$B$7:$C$5000,2,0))","v":""}]
[null,null,"",null,null,null,null,{"$f":"IF(G9370=\"\",\"\",VLOOKUP(G9370,'Lista de precios'!$B$7:$C$5000,2,0))","v":""}]
[null,null,"",null,null,null,null,{"$f":"IF(G9371=\"\",\"\",VLOOKUP(G9371,'Lista de precios'!$B$7:$C$5000,2,0))","v":""}]
[null,null,"",null,null,null,null,{"$f":"IF(G9372=\"\",\"\",VLOOKUP(G9372,'Lista de precios'!$B$7:$C$5000,2,0))","v":""}]
[null,null,"",null,null,null,null,{"$f":"IF(G9373=\"\",\"\",VLOOKUP(G9373,'Lista de precios'!$B$7:$C$5000,2,0))","v":""}]
[null,null,"",null,null,null,null,{"$f":"IF(G9374=\"\",\"\",VLOOKUP(G9374,'Lista de precios'!$B$7:$C$5000,2,0))","v":""}]
[null,null,"",null,null,null,null,{"$f":"IF(G9375=\"\",\"\",VLOOKUP(G9375,'Lista de precios'!$B$7:$C$5000,2,0))","v":""}]
[null,null,"",null,null,null,null,{"$f":"IF(G9376=\"\",\"\",VLOOKUP(G9376,'Lista de precios'!$B$7:$C$5000,2,0))","v":""}]
[null,null,"",null,null,null,null,{"$f":"IF(G9377=\"\",\"\",VLOOKUP(G9377,'Lista de precios'!$B$7:$C$5000,2,0))","v":""}]
[null,null,"",null,null,null,null,{"$f":"IF(G9378=\"\",\"\",VLOOKUP(G9378,'Lista de precios'!$B$7:$C$5000,2,0))","v":""}]
[null,null,"",null,null,null,null,{"$f":"IF(G9379=\"\",\"\",VLOOKUP(G9379,'Lista de precios'!$B$7:$C$5000,2,0))","v":""}]
[null,null,"",null,null,null,null,{"$f":"IF(G9380=\"\",\"\",VLOOKUP(G9380,'Lista de precios'!$B$7:$C$5000,2,0))","v":""}]
[null,null,"",null,null,null,null,{"$f":"IF(G9381=\"\",\"\",VLOOKUP(G9381,'Lista de precios'!$B$7:$C$5000,2,0))","v":""}]
[null,null,"",null,null,null,null,{"$f":"IF(G9382=\"\",\"\",VLOOKUP(G9382,'Lista de precios'!$B$7:$C$5000,2,0))","v":""}]
[null,null,"",null,null,null,null,{"$f":"IF(G9383=\"\",\"\",VLOOKUP(G9383,'Lista de precios'!$B$7:$C$5000,2,0))","v":""}]
[null,null,"",null,null,null,null,{"$f":"IF(G9384=\"\",\"\",VLOOKUP(G9384,'Lista de precios'!$B$7:$C$5000,2,0))","v":""}]
[null,null,"",null,null,null,null,{"$f":"IF(G9385=\"\",\"\",VLOOKUP(G9385,'Lista de precios'!$B$7:$C$5000,2,0))","v":""}]
[null,null,"",null,null,null,null,{"$f":"IF(G9386=\"\",\"\",VLOOKUP(G9386,'Lista de precios'!$B$7:$C$5000,2,0))","v":""}]
[null,null,"",null,null,null,null,{"$f":"IF(G9387=\"\",\"\",VLOOKUP(G9387,'Lista de precios'!$B$7:$C$5000,2,0))","v":""}]
[null,null,"",null,null,null,null,{"$f":"IF(G9388=\"\",\"\",VLOOKUP(G9388,'Lista de precios'!$B$7:$C$5000,2,0))","v":""}]
[null,null,"",null,null,null,null,{"$f":"IF(G9389=\"\",\"\",VLOOKUP(G9389,'Lista de precios'!$B$7:$C$5000,2,0))","v":""}]
[null,null,"",null,null,null,null,{"$f":"IF(G9390=\"\",\"\",VLOOKUP(G9390,'Lista de precios'!$B$7:$C$5000,2,0))","v":""}]
[null,null,"",null,null,null,null,{"$f":"IF(G9391=\"\",\"\",VLOOKUP(G9391,'Lista de precios'!$B$7:$C$5000,2,0))","v":""}]
[null,null,"",null,null,null,null,{"$f":"IF(G9392=\"\",\"\",VLOOKUP(G9392,'Lista de precios'!$B$7:$C$5000,2,0))","v":""}]
[null,null,"",null,null,null,null,{"$f":"IF(G9393=\"\",\"\",VLOOKUP(G9393,'Lista de precios'!$B$7:$C$5000,2,0))","v":""}]
[null,null,"",null,null,null,null,{"$f":"IF(G9394=\"\",\"\",VLOOKUP(G9394,'Lista de precios'!$B$7:$C$5000,2,0))","v":""}]
[null,null,"",null,null,null,null,{"$f":"IF(G9395=\"\",\"\",VLOOKUP(G9395,'Lista de precios'!$B$7:$C$5000,2,0))","v":""}]
[null,null,"",null,null,null,null,{"$f":"IF(G9396=\"\",\"\",VLOOKUP(G9396,'Lista de precios'!$B$7:$C$5000,2,0))","v":""}]
[null,null,"",null,null,null,null,{"$f":"IF(G9397=\"\",\"\",VLOOKUP(G9397,'Lista de precios'!$B$7:$C$5000,2,0))","v":""}]
[null,null,"",null,null,null,null,{"$f":"IF(G9398=\"\",\"\",VLOOKUP(G9398,'Lista de precios'!$B$7:$C$5000,2,0))","v":""}]
[null,null,"",null,null,null,null,{"$f":"IF(G9399=\"\",\"\",VLOOKUP(G9399,'Lista de precios'!$B$7:$C$5000,2,0))","v":""}]
[null,null,"",null,null,null,null,{"$f":"IF(G9400=\"\",\"\",VLOOKUP(G9400,'Lista de precios'!$B$7:$C$5000,2,0))","v":""}]
[null,null,"",null,null,null,null,{"$f":"IF(G9401=\"\",\"\",VLOOKUP(G9401,'Lista de precios'!$B$7:$C$5000,2,0))","v":""}]
[null,null,"",null,null,null,null,{"$f":"IF(G9402=\"\",\"\",VLOOKUP(G9402,'Lista de precios'!$B$7:$C$5000,2,0))","v":""}]
[null,null,"",null,null,null,null,{"$f":"IF(G9403=\"\",\"\",VLOOKUP(G9403,'Lista de precios'!$B$7:$C$5000,2,0))","v":""}]
[null,null,"",null,null,null,null,{"$f":"IF(G9404=\"\",\"\",VLOOKUP(G9404,'Lista de precios'!$B$7:$C$5000,2,0))","v":""}]
[null,null,"",null,null,null,null,{"$f":"IF(G9405=\"\",\"\",VLOOKUP(G9405,'Lista de precios'!$B$7:$C$5000,2,0))","v":""}]
[null,null,"",null,null,null,null,{"$f":"IF(G9406=\"\",\"\",VLOOKUP(G9406,'Lista de precios'!$B$7:$C$5000,2,0))","v":""}]
[null,null,"",null,null,null,null,{"$f":"IF(G9407=\"\",\"\",VLOOKUP(G9407,'Lista de precios'!$B$7:$C$5000,2,0))","v":""}]
[null,null,"",null,null,null,null,{"$f":"IF(G9408=\"\",\"\",VLOOKUP(G9408,'Lista de precios'!$B$7:$C$5000,2,0))","v":""}]
[null,null,"",null,null,null,null,{"$f":"IF(G9409=\"\",\"\",VLOOKUP(G9409,'Lista de precios'!$B$7:$C$5000,2,0))","v":""}]
[null,null,"",null,null,null,null,{"$f":"IF(G9410=\"\",\"\",VLOOKUP(G9410,'Lista de precios'!$B$7:$C$5000,2,0))","v":""}]
[null,null,"",null,null,null,null,{"$f":"IF(G9411=\"\",\"\",VLOOKUP(G9411,'Lista de precios'!$B$7:$C$5000,2,0))","v":""}]
[null,null,"",null,null,null,null,{"$f":"IF(G9412=\"\",\"\",VLOOKUP(G9412,'Lista de precios'!$B$7:$C$5000,2,0))","v":""}]
[null,null,"",null,null,null,null,{"$f":"IF(G9413=\"\",\"\",VLOOKUP(G9413,'Lista de precios'!$B$7:$C$5000,2,0))","v":""}]
[null,null,"",null,null,null,null,{"$f":"IF(G9414=\"\",\"\",VLOOKUP(G9414,'Lista de precios'!$B$7:$C$5000,2,0))","v":""}]
[null,null,"",null,null,null,null,{"$f":"IF(G9415=\"\",\"\",VLOOKUP(G9415,'Lista de precios'!$B$7:$C$5000,2,0))","v":""}]
[null,null,"",null,null,null,null,{"$f":"IF(G9416=\"\",\"\",VLOOKUP(G9416,'Lista de precios'!$B$7:$C$5000,2,0))","v":""}]
[null,null,"",null,null,null,null,{"$f":"IF(G9417=\"\",\"\",VLOOKUP(G9417,'Lista de precios'!$B$7:$C$5000,2,0))","v":""}]
[null,null,"",null,null,null,null,{"$f":"IF(G9418=\"\",\"\",VLOOKUP(G9418,'Lista de precios'!$B$7:$C$5000,2,0))","v":""}]
[null,null,"",null,null,null,null,{"$f":"IF(G9419=\"\",\"\",VLOOKUP(G9419,'Lista de precios'!$B$7:$C$5000,2,0))","v":""}]
[null,null,{"$f":"IF(B9420=\"\",\"\",TEXT(B9420,\"Mmmm\"))","v":""},null,null,null,null,{"$f":"IF(G9420=\"\",\"\",VLOOKUP(G9420,'Lista de precios'!$B$7:$C$5000,2,0))","v":""}]
[null,null,"",null,null,null,null,{"$f":"IF(G9421=\"\",\"\",VLOOKUP(G9421,'Lista de precios'!$B$7:$C$5000,2,0))","v":""}]
[null,null,"",null,null,null,null,{"$f":"IF(G9422=\"\",\"\",VLOOKUP(G9422,'Lista de precios'!$B$7:$C$5000,2,0))","v":""}]
[null,null,"",null,null,null,null,{"$f":"IF(G9423=\"\",\"\",VLOOKUP(G9423,'Lista de precios'!$B$7:$C$5000,2,0))","v":""}]
[null,null,"",null,null,null,null,{"$f":"IF(G9424=\"\",\"\",VLOOKUP(G9424,'Lista de precios'!$B$7:$C$5000,2,0))","v":""}]
[null,null,"",null,null,null,null,{"$f":"IF(G9425=\"\",\"\",VLOOKUP(G9425,'Lista de precios'!$B$7:$C$5000,2,0))","v":""}]
[null,null,"",null,null,null,null,{"$f":"IF(G9426=\"\",\"\",VLOOKUP(G9426,'Lista de precios'!$B$7:$C$5000,2,0))","v":""}]
[null,null,"",null,null,null,null,{"$f":"IF(G9427=\"\",\"\",VLOOKUP(G9427,'Lista de precios'!$B$7:$C$5000,2,0))","v":""}]
[null,null,"",null,null,null,null,{"$f":"IF(G9428=\"\",\"\",VLOOKUP(G9428,'Lista de precios'!$B$7:$C$5000,2,0))","v":""}]
[null,null,"",null,null,null,null,{"$f":"IF(G9429=\"\",\"\",VLOOKUP(G9429,'Lista de precios'!$B$7:$C$5000,2,0))","v":""}]
[null,null,"",null,null,null,null,{"$f":"IF(G9430=\"\",\"\",VLOOKUP(G9430,'Lista de precios'!$B$7:$C$5000,2,0))","v":""}]
[null,null,"",null,null,null,null,{"$f":"IF(G9431=\"\",\"\",VLOOKUP(G9431,'Lista de precios'!$B$7:$C$5000,2,0))","v":""}]
[null,null,"",null,null,null,null,{"$f":"IF(G9432=\"\",\"\",VLOOKUP(G9432,'Lista de precios'!$B$7:$C$5000,2,0))","v":""}]
[null,null,"",null,null,null,null,{"$f":"IF(G9433=\"\",\"\",VLOOKUP(G9433,'Lista de precios'!$B$7:$C$5000,2,0))","v":""}]
[null,null,"",null,null,null,null,{"$f":"IF(G9434=\"\",\"\",VLOOKUP(G9434,'Lista de precios'!$B$7:$C$5000,2,0))","v":""}]
[null,null,"",null,null,null,null,{"$f":"IF(G9435=\"\",\"\",VLOOKUP(G9435,'Lista de precios'!$B$7:$C$5000,2,0))","v":""}]
[null,null,"",null,null,null,null,{"$f":"IF(G9436=\"\",\"\",VLOOKUP(G9436,'Lista de precios'!$B$7:$C$5000,2,0))","v":""}]
[null,null,"",null,null,null,null,{"$f":"IF(G9437=\"\",\"\",VLOOKUP(G9437,'Lista de precios'!$B$7:$C$5000,2,0))","v":""}]
[null,null,"",null,null,null,null,{"$f":"IF(G9438=\"\",\"\",VLOOKUP(G9438,'Lista de precios'!$B$7:$C$5000,2,0))","v":""}]
[null,null,"",null,null,null,null,{"$f":"IF(G9439=\"\",\"\",VLOOKUP(G9439,'Lista de precios'!$B$7:$C$5000,2,0))","v":""}]
[null,null,"",null,null,null,null,{"$f":"IF(G9440=\"\",\"\",VLOOKUP(G9440,'Lista de precios'!$B$7:$C$5000,2,0))","v":""}]
[null,null,"",null,null,null,null,{"$f":"IF(G9441=\"\",\"\",VLOOKUP(G9441,'Lista de precios'!$B$7:$C$5000,2,0))","v":""}]
[null,null,"",null,null,null,null,{"$f":"IF(G9442=\"\",\"\",VLOOKUP(G9442,'Lista de precios'!$B$7:$C$5000,2,0))","v":""}]
[null,null,"",null,null,null,null,{"$f":"IF(G9443=\"\",\"\",VLOOKUP(G9443,'Lista de precios'!$B$7:$C$5000,2,0))","v":""}]
[null,null,"",null,null,null,null,{"$f":"IF(G9444=\"\",\"\",VLOOKUP(G9444,'Lista de precios'!$B$7:$C$5000,2,0))","v":""}]
[null,null,"",null,null,null,null,{"$f":"IF(G9445=\"\",\"\",VLOOKUP(G9445,'Lista de precios'!$B$7:$C$5000,2,0))","v":""}]
[null,null,"",null,null,null,null,{"$f":"IF(G9446=\"\",\"\",VLOOKUP(G9446,'Lista de precios'!$B$7:$C$5000,2,0))","v":""}]
[null,null,"",null,null,null,null,{"$f":"IF(G9447=\"\",\"\",VLOOKUP(G9447,'Lista de precios'!$B$7:$C$5000,2,0))","v":""}]
[null,null,"",null,null,null,null,{"$f":"IF(G9448=\"\",\"\",VLOOKUP(G9448,'Lista de precios'!$B$7:$C$5000,2,0))","v":""}]
[null,null,"",null,null,null,null,{"$f":"IF(G9449=\"\",\"\",VLOOKUP(G9449,'Lista de precios'!$B$7:$C$5000,2,0))","v":""}]
[null,null,"",null,null,null,null,{"$f":"IF(G9450=\"\",\"\",VLOOKUP(G9450,'Lista de precios'!$B$7:$C$5000,2,0))","v":""}]
[null,null,"",null,null,null,null,{"$f":"IF(G9451=\"\",\"\",VLOOKUP(G9451,'Lista de precios'!$B$7:$C$5000,2,0))","v":""}]
[null,null,"",null,null,null,null,{"$f":"IF(G9452=\"\",\"\",VLOOKUP(G9452,'Lista de precios'!$B$7:$C$5000,2,0))","v":""}]
[null,null,"",null,null,null,null,{"$f":"IF(G9453=\"\",\"\",VLOOKUP(G9453,'Lista de precios'!$B$7:$C$5000,2,0))","v":""}]
[null,null,"",null,null,null,null,{"$f":"IF(G9454=\"\",\"\",VLOOKUP(G9454,'Lista de precios'!$B$7:$C$5000,2,0))","v":""}]
[null,null,"",null,null,null,null,{"$f":"IF(G9455=\"\",\"\",VLOOKUP(G9455,'Lista de precios'!$B$7:$C$5000,2,0))","v":""}]
[null,null,"",null,null,null,null,{"$f":"IF(G9456=\"\",\"\",VLOOKUP(G9456,'Lista de precios'!$B$7:$C$5000,2,0))","v":""}]
[null,null,"",null,null,null,null,{"$f":"IF(G9457=\"\",\"\",VLOOKUP(G9457,'Lista de precios'!$B$7:$C$5000,2,0))","v":""}]
[null,null,"",null,null,null,null,{"$f":"IF(G9458=\"\",\"\",VLOOKUP(G9458,'Lista de precios'!$B$7:$C$5000,2,0))","v":""}]
[null,null,"",null,null,null,null,{"$f":"IF(G9459=\"\",\"\",VLOOKUP(G9459,'Lista de precios'!$B$7:$C$5000,2,0))","v":""}]
[null,null,"",null,null,null,null,{"$f":"IF(G9460=\"\",\"\",VLOOKUP(G9460,'Lista de precios'!$B$7:$C$5000,2,0))","v":""}]
[null,null,"",null,null,null,null,{"$f":"IF(G9461=\"\",\"\",VLOOKUP(G9461,'Lista de precios'!$B$7:$C$5000,2,0))","v":""}]
[null,null,"",null,null,null,null,{"$f":"IF(G9462=\"\",\"\",VLOOKUP(G9462,'Lista de precios'!$B$7:$C$5000,2,0))","v":""}]
[null,null,"",null,null,null,null,{"$f":"IF(G9463=\"\",\"\",VLOOKUP(G9463,'Lista de precios'!$B$7:$C$5000,2,0))","v":""}]
[null,null,"",null,null,null,null,{"$f":"IF(G9464=\"\",\"\",VLOOKUP(G9464,'Lista de precios'!$B$7:$C$5000,2,0))","v":""}]
[null,null,"",null,null,null,null,{"$f":"IF(G9465=\"\",\"\",VLOOKUP(G9465,'Lista de precios'!$B$7:$C$5000,2,0))","v":""}]
[null,null,"",null,null,null,null,{"$f":"IF(G9466=\"\",\"\",VLOOKUP(G9466,'Lista de precios'!$B$7:$C$5000,2,0))","v":""}]
[null,null,"",null,null,null,null,{"$f":"IF(G9467=\"\",\"\",VLOOKUP(G9467,'Lista de precios'!$B$7:$C$5000,2,0))","v":""}]
[null,null,"",null,null,null,null,{"$f":"IF(G9468=\"\",\"\",VLOOKUP(G9468,'Lista de precios'!$B$7:$C$5000,2,0))","v":""}]
[null,null,"",null,null,null,null,{"$f":"IF(G9469=\"\",\"\",VLOOKUP(G9469,'Lista de precios'!$B$7:$C$5000,2,0))","v":""}]
[null,null,"",null,null,null,null,{"$f":"IF(G9470=\"\",\"\",VLOOKUP(G9470,'Lista de precios'!$B$7:$C$5000,2,0))","v":""}]
[null,null,"",null,null,null,null,{"$f":"IF(G9471=\"\",\"\",VLOOKUP(G9471,'Lista de precios'!$B$7:$C$5000,2,0))","v":""}]
[null,null,"",null,null,null,null,{"$f":"IF(G9472=\"\",\"\",VLOOKUP(G9472,'Lista de precios'!$B$7:$C$5000,2,0))","v":""}]
[null,null,"",null,null,null,null,{"$f":"IF(G9473=\"\",\"\",VLOOKUP(G9473,'Lista de precios'!$B$7:$C$5000,2,0))","v":""}]
[null,null,"",null,null,null,null,{"$f":"IF(G9474=\"\",\"\",VLOOKUP(G9474,'Lista de precios'!$B$7:$C$5000,2,0))","v":""}]
[null,null,"",null,null,null,null,{"$f":"IF(G9475=\"\",\"\",VLOOKUP(G9475,'Lista de precios'!$B$7:$C$5000,2,0))","v":""}]
[null,null,"",null,null,null,null,{"$f":"IF(G9476=\"\",\"\",VLOOKUP(G9476,'Lista de precios'!$B$7:$C$5000,2,0))","v":""}]
[null,null,"",null,null,null,null,{"$f":"IF(G9477=\"\",\"\",VLOOKUP(G9477,'Lista de precios'!$B$7:$C$5000,2,0))","v":""}]
[null,null,"",null,null,null,null,{"$f":"IF(G9478=\"\",\"\",VLOOKUP(G9478,'Lista de precios'!$B$7:$C$5000,2,0))","v":""}]
[null,null,"",null,null,null,null,{"$f":"IF(G9479=\"\",\"\",VLOOKUP(G9479,'Lista de precios'!$B$7:$C$5000,2,0))","v":""}]
[null,null,"",null,null,null,null,{"$f":"IF(G9480=\"\",\"\",VLOOKUP(G9480,'Lista de precios'!$B$7:$C$5000,2,0))","v":""}]
[null,null,"",null,null,null,null,{"$f":"IF(G9481=\"\",\"\",VLOOKUP(G9481,'Lista de precios'!$B$7:$C$5000,2,0))","v":""}]
[null,null,"",null,null,null,null,{"$f":"IF(G9482=\"\",\"\",VLOOKUP(G9482,'Lista de precios'!$B$7:$C$5000,2,0))","v":""}]
[null,null,"",null,null,null,null,{"$f":"IF(G9483=\"\",\"\",VLOOKUP(G9483,'Lista de precios'!$B$7:$C$5000,2,0))","v":""}]
[null,null,{"$f":"IF(B9484=\"\",\"\",TEXT(B9484,\"Mmmm\"))","v":""},null,null,null,null,{"$f":"IF(G9484=\"\",\"\",VLOOKUP(G9484,'Lista de precios'!$B$7:$C$5000,2,0))","v":""}]
[null,null,"",null,null,null,null,{"$f":"IF(G9485=\"\",\"\",VLOOKUP(G9485,'Lista de precios'!$B$7:$C$5000,2,0))","v":""}]
[null,null,"",null,null,null,null,{"$f":"IF(G9486=\"\",\"\",VLOOKUP(G9486,'Lista de precios'!$B$7:$C$5000,2,0))","v":""}]
[null,null,"",null,null,null,null,{"$f":"IF(G9487=\"\",\"\",VLOOKUP(G9487,'Lista de precios'!$B$7:$C$5000,2,0))","v":""}]
[null,null,"",null,null,null,null,{"$f":"IF(G9488=\"\",\"\",VLOOKUP(G9488,'Lista de precios'!$B$7:$C$5000,2,0))","v":""}]
[null,null,"",null,null,null,null,{"$f":"IF(G9489=\"\",\"\",VLOOKUP(G9489,'Lista de precios'!$B$7:$C$5000,2,0))","v":""}]
[null,null,"",null,null,null,null,{"$f":"IF(G9490=\"\",\"\",VLOOKUP(G9490,'Lista de precios'!$B$7:$C$5000,2,0))","v":""}]
[null,null,"",null,null,null,null,{"$f":"IF(G9491=\"\",\"\",VLOOKUP(G9491,'Lista de precios'!$B$7:$C$5000,2,0))","v":""}]
[null,null,"",null,null,null,null,{"$f":"IF(G9492=\"\",\"\",VLOOKUP(G9492,'Lista de precios'!$B$7:$C$5000,2,0))","v":""}]
[null,null,"",null,null,null,null,{"$f":"IF(G9493=\"\",\"\",VLOOKUP(G9493,'Lista de precios'!$B$7:$C$5000,2,0))","v":""}]
[null,null,"",null,null,null,null,{"$f":"IF(G9494=\"\",\"\",VLOOKUP(G9494,'Lista de precios'!$B$7:$C$5000,2,0))","v":""}]
[null,null,"",null,null,null,null,{"$f":"IF(G9495=\"\",\"\",VLOOKUP(G9495,'Lista de precios'!$B$7:$C$5000,2,0))","v":""}]
[null,null,"",null,null,null,null,{"$f":"IF(G9496=\"\",\"\",VLOOKUP(G9496,'Lista de precios'!$B$7:$C$5000,2,0))","v":""}]
[null,null,"",null,null,null,null,{"$f":"IF(G9497=\"\",\"\",VLOOKUP(G9497,'Lista de precios'!$B$7:$C$5000,2,0))","v":""}]
[null,null,"",null,null,null,null,{"$f":"IF(G9498=\"\",\"\",VLOOKUP(G9498,'Lista de precios'!$B$7:$C$5000,2,0))","v":""}]
[null,null,"",null,null,null,null,{"$f":"IF(G9499=\"\",\"\",VLOOKUP(G9499,'Lista de precios'!$B$7:$C$5000,2,0))","v":""}]
[null,null,"",null,null,null,null,{"$f":"IF(G9500=\"\",\"\",VLOOKUP(G9500,'Lista de precios'!$B$7:$C$5000,2,0))","v":""}]
[null,null,"",null,null,null,null,{"$f":"IF(G9501=\"\",\"\",VLOOKUP(G9501,'Lista de precios'!$B$7:$C$5000,2,0))","v":""}]
[null,null,"",null,null,null,null,{"$f":"IF(G9502=\"\",\"\",VLOOKUP(G9502,'Lista de precios'!$B$7:$C$5000,2,0))","v":""}]
[null,null,"",null,null,null,null,{"$f":"IF(G9503=\"\",\"\",VLOOKUP(G9503,'Lista de precios'!$B$7:$C$5000,2,0))","v":""}]
[null,null,"",null,null,null,null,{"$f":"IF(G9504=\"\",\"\",VLOOKUP(G9504,'Lista de precios'!$B$7:$C$5000,2,0))","v":""}]
[null,null,"",null,null,null,null,{"$f":"IF(G9505=\"\",\"\",VLOOKUP(G9505,'Lista de precios'!$B$7:$C$5000,2,0))","v":""}]
[null,null,"",null,null,null,null,{"$f":"IF(G9506=\"\",\"\",VLOOKUP(G9506,'Lista de precios'!$B$7:$C$5000,2,0))","v":""}]
[null,null,"",null,null,null,null,{"$f":"IF(G9507=\"\",\"\",VLOOKUP(G9507,'Lista de precios'!$B$7:$C$5000,2,0))","v":""}]
[null,null,"",null,null,null,null,{"$f":"IF(G9508=\"\",\"\",VLOOKUP(G9508,'Lista de precios'!$B$7:$C$5000,2,0))","v":""}]
[null,null,"",null,null,null,null,{"$f":"IF(G9509=\"\",\"\",VLOOKUP(G9509,'Lista de precios'!$B$7:$C$5000,2,0))","v":""}]
[null,null,"",null,null,null,null,{"$f":"IF(G9510=\"\",\"\",VLOOKUP(G9510,'Lista de precios'!$B$7:$C$5000,2,0))","v":""}]
[null,null,"",null,null,null,null,{"$f":"IF(G9511=\"\",\"\",VLOOKUP(G9511,'Lista de precios'!$B$7:$C$5000,2,0))","v":""}]
[null,null,"",null,null,null,null,{"$f":"IF(G9512=\"\",\"\",VLOOKUP(G9512,'Lista de precios'!$B$7:$C$5000,2,0))","v":""}]
[null,null,"",null,null,null,null,{"$f":"IF(G9513=\"\",\"\",VLOOKUP(G9513,'Lista de precios'!$B$7:$C$5000,2,0))","v":""}]
[null,null,"",null,null,null,null,{"$f":"IF(G9514=\"\",\"\",VLOOKUP(G9514,'Lista de precios'!$B$7:$C$5000,2,0))","v":""}]
[null,null,"",null,null,null,null,{"$f":"IF(G9515=\"\",\"\",VLOOKUP(G9515,'Lista de precios'!$B$7:$C$5000,2,0))","v":""}]
[null,null,"",null,null,null,null,{"$f":"IF(G9516=\"\",\"\",VLOOKUP(G9516,'Lista de precios'!$B$7:$C$5000,2,0))","v":""}]
[null,null,"",null,null,null,null,{"$f":"IF(G9517=\"\",\"\",VLOOKUP(G9517,'Lista de precios'!$B$7:$C$5000,2,0))","v":""}]
[null,null,"",null,null,null,null,{"$f":"IF(G9518=\"\",\"\",VLOOKUP(G9518,'Lista de precios'!$B$7:$C$5000,2,0))","v":""}]
[null,null,"",null,null,null,null,{"$f":"IF(G9519=\"\",\"\",VLOOKUP(G9519,'Lista de precios'!$B$7:$C$5000,2,0))","v":""}]
[null,null,"",null,null,null,null,{"$f":"IF(G9520=\"\",\"\",VLOOKUP(G9520,'Lista de precios'!$B$7:$C$5000,2,0))","v":""}]
[null,null,"",null,null,null,null,{"$f":"IF(G9521=\"\",\"\",VLOOKUP(G9521,'Lista de precios'!$B$7:$C$5000,2,0))","v":""}]
[null,null,"",null,null,null,null,{"$f":"IF(G9522=\"\",\"\",VLOOKUP(G9522,'Lista de precios'!$B$7:$C$5000,2,0))","v":""}]
[null,null,"",null,null,null,null,{"$f":"IF(G9523=\"\",\"\",VLOOKUP(G9523,'Lista de precios'!$B$7:$C$5000,2,0))","v":""}]
[null,null,"",null,null,null,null,{"$f":"IF(G9524=\"\",\"\",VLOOKUP(G9524,'Lista de precios'!$B$7:$C$5000,2,0))","v":""}]
[null,null,"",null,null,null,null,{"$f":"IF(G9525=\"\",\"\",VLOOKUP(G9525,'Lista de precios'!$B$7:$C$5000,2,0))","v":""}]
[null,null,"",null,null,null,null,{"$f":"IF(G9526=\"\",\"\",VLOOKUP(G9526,'Lista de precios'!$B$7:$C$5000,2,0))","v":""}]
[null,null,"",null,null,null,null,{"$f":"IF(G9527=\"\",\"\",VLOOKUP(G9527,'Lista de precios'!$B$7:$C$5000,2,0))","v":""}]
[null,null,"",null,null,null,null,{"$f":"IF(G9528=\"\",\"\",VLOOKUP(G9528,'Lista de precios'!$B$7:$C$5000,2,0))","v":""}]
[null,null,"",null,null,null,null,{"$f":"IF(G9529=\"\",\"\",VLOOKUP(G9529,'Lista de precios'!$B$7:$C$5000,2,0))","v":""}]
[null,null,"",null,null,null,null,{"$f":"IF(G9530=\"\",\"\",VLOOKUP(G9530,'Lista de precios'!$B$7:$C$5000,2,0))","v":""}]
[null,null,"",null,null,null,null,{"$f":"IF(G9531=\"\",\"\",VLOOKUP(G9531,'Lista de precios'!$B$7:$C$5000,2,0))","v":""}]
[null,null,"",null,null,null,null,{"$f":"IF(G9532=\"\",\"\",VLOOKUP(G9532,'Lista de precios'!$B$7:$C$5000,2,0))","v":""}]
[null,null,"",null,null,null,null,{"$f":"IF(G9533=\"\",\"\",VLOOKUP(G9533,'Lista de precios'!$B$7:$C$5000,2,0))","v":""}]
[null,null,"",null,null,null,null,{"$f":"IF(G9534=\"\",\"\",VLOOKUP(G9534,'Lista de precios'!$B$7:$C$5000,2,0))","v":""}]
[null,null,"",null,null,null,null,{"$f":"IF(G9535=\"\",\"\",VLOOKUP(G9535,'Lista de precios'!$B$7:$C$5000,2,0))","v":""}]
[null,null,"",null,null,null,null,{"$f":"IF(G9536=\"\",\"\",VLOOKUP(G9536,'Lista de precios'!$B$7:$C$5000,2,0))","v":""}]
[null,null,"",null,null,null,null,{"$f":"IF(G9537=\"\",\"\",VLOOKUP(G9537,'Lista de precios'!$B$7:$C$5000,2,0))","v":""}]
[null,null,"",null,null,null,null,{"$f":"IF(G9538=\"\",\"\",VLOOKUP(G9538,'Lista de precios'!$B$7:$C$5000,2,0))","v":""}]
[null,null,"",null,null,null,null,{"$f":"IF(G9539=\"\",\"\",VLOOKUP(G9539,'Lista de precios'!$B$7:$C$5000,2,0))","v":""}]
[null,null,"",null,null,null,null,{"$f":"IF(G9540=\"\",\"\",VLOOKUP(G9540,'Lista de precios'!$B$7:$C$5000,2,0))","v":""}]
[null,null,"",null,null,null,null,{"$f":"IF(G9541=\"\",\"\",VLOOKUP(G9541,'Lista de precios'!$B$7:$C$5000,2,0))","v":""}]
[null,null,"",null,null,null,null,{"$f":"IF(G9542=\"\",\"\",VLOOKUP(G9542,'Lista de precios'!$B$7:$C$5000,2,0))","v":""}]
[null,null,"",null,null,null,null,{"$f":"IF(G9543=\"\",\"\",VLOOKUP(G9543,'Lista de precios'!$B$7:$C$5000,2,0))","v":""}]
[null,null,"",null,null,null,null,{"$f":"IF(G9544=\"\",\"\",VLOOKUP(G9544,'Lista de precios'!$B$7:$C$5000,2,0))","v":""}]
[null,null,"",null,null,null,null,{"$f":"IF(G9545=\"\",\"\",VLOOKUP(G9545,'Lista de precios'!$B$7:$C$5000,2,0))","v":""}]
[null,null,"",null,null,null,null,{"$f":"IF(G9546=\"\",\"\",VLOOKUP(G9546,'Lista de precios'!$B$7:$C$5000,2,0))","v":""}]
[null,null,"",null,null,null,null,{"$f":"IF(G9547=\"\",\"\",VLOOKUP(G9547,'Lista de precios'!$B$7:$C$5000,2,0))","v":""}]
[null,null,{"$f":"IF(B9548=\"\",\"\",TEXT(B9548,\"Mmmm\"))","v":""},null,null,null,null,{"$f":"IF(G9548=\"\",\"\",VLOOKUP(G9548,'Lista de precios'!$B$7:$C$5000,2,0))","v":""}]
[null,null,"",null,null,null,null,{"$f":"IF(G9549=\"\",\"\",VLOOKUP(G9549,'Lista de precios'!$B$7:$C$5000,2,0))","v":""}]
[null,null,"",null,null,null,null,{"$f":"IF(G9550=\"\",\"\",VLOOKUP(G9550,'Lista de precios'!$B$7:$C$5000,2,0))","v":""}]
[null,null,"",null,null,null,null,{"$f":"IF(G9551=\"\",\"\",VLOOKUP(G9551,'Lista de precios'!$B$7:$C$5000,2,0))","v":""}]
[null,null,"",null,null,null,null,{"$f":"IF(G9552=\"\",\"\",VLOOKUP(G9552,'Lista de precios'!$B$7:$C$5000,2,0))","v":""}]
[null,null,"",null,null,null,null,{"$f":"IF(G9553=\"\",\"\",VLOOKUP(G9553,'Lista de precios'!$B$7:$C$5000,2,0))","v":""}]
[null,null,"",null,null,null,null,{"$f":"IF(G9554=\"\",\"\",VLOOKUP(G9554,'Lista de precios'!$B$7:$C$5000,2,0))","v":""}]
[null,null,"",null,null,null,null,{"$f":"IF(G9555=\"\",\"\",VLOOKUP(G9555,'Lista de precios'!$B$7:$C$5000,2,0))","v":""}]
[null,null,"",null,null,null,null,{"$f":"IF(G9556=\"\",\"\",VLOOKUP(G9556,'Lista de precios'!$B$7:$C$5000,2,0))","v":""}]
[null,null,"",null,null,null,null,{"$f":"IF(G9557=\"\",\"\",VLOOKUP(G9557,'Lista de precios'!$B$7:$C$5000,2,0))","v":""}]
[null,null,"",null,null,null,null,{"$f":"IF(G9558=\"\",\"\",VLOOKUP(G9558,'Lista de precios'!$B$7:$C$5000,2,0))","v":""}]
[null,null,"",null,null,null,null,{"$f":"IF(G9559=\"\",\"\",VLOOKUP(G9559,'Lista de precios'!$B$7:$C$5000,2,0))","v":""}]
[null,null,"",null,null,null,null,{"$f":"IF(G9560=\"\",\"\",VLOOKUP(G9560,'Lista de precios'!$B$7:$C$5000,2,0))","v":""}]
[null,null,"",null,null,null,null,{"$f":"IF(G9561=\"\",\"\",VLOOKUP(G9561,'Lista de precios'!$B$7:$C$5000,2,0))","v":""}]
[null,null,"",null,null,null,null,{"$f":"IF(G9562=\"\",\"\",VLOOKUP(G9562,'Lista de precios'!$B$7:$C$5000,2,0))","v":""}]
[null,null,"",null,null,null,null,{"$f":"IF(G9563=\"\",\"\",VLOOKUP(G9563,'Lista de precios'!$B$7:$C$5000,2,0))","v":""}]
[null,null,"",null,null,null,null,{"$f":"IF(G9564=\"\",\"\",VLOOKUP(G9564,'Lista de precios'!$B$7:$C$5000,2,0))","v":""}]
[null,null,"",null,null,null,null,{"$f":"IF(G9565=\"\",\"\",VLOOKUP(G9565,'Lista de precios'!$B$7:$C$5000,2,0))","v":""}]
[null,null,"",null,null,null,null,{"$f":"IF(G9566=\"\",\"\",VLOOKUP(G9566,'Lista de precios'!$B$7:$C$5000,2,0))","v":""}]
[null,null,"",null,null,null,null,{"$f":"IF(G9567=\"\",\"\",VLOOKUP(G9567,'Lista de precios'!$B$7:$C$5000,2,0))","v":""}]
[null,null,"",null,null,null,null,{"$f":"IF(G9568=\"\",\"\",VLOOKUP(G9568,'Lista de precios'!$B$7:$C$5000,2,0))","v":""}]
[null,null,"",null,null,null,null,{"$f":"IF(G9569=\"\",\"\",VLOOKUP(G9569,'Lista de precios'!$B$7:$C$5000,2,0))","v":""}]
[null,null,"",null,null,null,null,{"$f":"IF(G9570=\"\",\"\",VLOOKUP(G9570,'Lista de precios'!$B$7:$C$5000,2,0))","v":""}]
[null,null,"",null,null,null,null,{"$f":"IF(G9571=\"\",\"\",VLOOKUP(G9571,'Lista de precios'!$B$7:$C$5000,2,0))","v":""}]
[null,null,"",null,null,null,null,{"$f":"IF(G9572=\"\",\"\",VLOOKUP(G9572,'Lista de precios'!$B$7:$C$5000,2,0))","v":""}]
[null,null,"",null,null,null,null,{"$f":"IF(G9573=\"\",\"\",VLOOKUP(G9573,'Lista de precios'!$B$7:$C$5000,2,0))","v":""}]
[null,null,"",null,null,null,null,{"$f":"IF(G9574=\"\",\"\",VLOOKUP(G9574,'Lista de precios'!$B$7:$C$5000,2,0))","v":""}]
[null,null,"",null,null,null,null,{"$f":"IF(G9575=\"\",\"\",VLOOKUP(G9575,'Lista de precios'!$B$7:$C$5000,2,0))","v":""}]
[null,null,"",null,null,null,null,{"$f":"IF(G9576=\"\",\"\",VLOOKUP(G9576,'Lista de precios'!$B$7:$C$5000,2,0))","v":""}]
[null,null,"",null,null,null,null,{"$f":"IF(G9577=\"\",\"\",VLOOKUP(G9577,'Lista de precios'!$B$7:$C$5000,2,0))","v":""}]
[null,null,"",null,null,null,null,{"$f":"IF(G9578=\"\",\"\",VLOOKUP(G9578,'Lista de precios'!$B$7:$C$5000,2,0))","v":""}]
[null,null,"",null,null,null,null,{"$f":"IF(G9579=\"\",\"\",VLOOKUP(G9579,'Lista de precios'!$B$7:$C$5000,2,0))","v":""}]
[null,null,"",null,null,null,null,{"$f":"IF(G9580=\"\",\"\",VLOOKUP(G9580,'Lista de precios'!$B$7:$C$5000,2,0))","v":""}]
[null,null,"",null,null,null,null,{"$f":"IF(G9581=\"\",\"\",VLOOKUP(G9581,'Lista de precios'!$B$7:$C$5000,2,0))","v":""}]
[null,null,"",null,null,null,null,{"$f":"IF(G9582=\"\",\"\",VLOOKUP(G9582,'Lista de precios'!$B$7:$C$5000,2,0))","v":""}]
[null,null,"",null,null,null,null,{"$f":"IF(G9583=\"\",\"\",VLOOKUP(G9583,'Lista de precios'!$B$7:$C$5000,2,0))","v":""}]
[null,null,"",null,null,null,null,{"$f":"IF(G9584=\"\",\"\",VLOOKUP(G9584,'Lista de precios'!$B$7:$C$5000,2,0))","v":""}]
[null,null,"",null,null,null,null,{"$f":"IF(G9585=\"\",\"\",VLOOKUP(G9585,'Lista de precios'!$B$7:$C$5000,2,0))","v":""}]
[null,null,"",null,null,null,null,{"$f":"IF(G9586=\"\",\"\",VLOOKUP(G9586,'Lista de precios'!$B$7:$C$5000,2,0))","v":""}]
[null,null,"",null,null,null,null,{"$f":"IF(G9587=\"\",\"\",VLOOKUP(G9587,'Lista de precios'!$B$7:$C$5000,2,0))","v":""}]
[null,null,"",null,null,null,null,{"$f":"IF(G9588=\"\",\"\",VLOOKUP(G9588,'Lista de precios'!$B$7:$C$5000,2,0))","v":""}]
[null,null,"",null,null,null,null,{"$f":"IF(G9589=\"\",\"\",VLOOKUP(G9589,'Lista de precios'!$B$7:$C$5000,2,0))","v":""}]
[null,null,"",null,null,null,null,{"$f":"IF(G9590=\"\",\"\",VLOOKUP(G9590,'Lista de precios'!$B$7:$C$5000,2,0))","v":""}]
[null,null,"",null,null,null,null,{"$f":"IF(G9591=\"\",\"\",VLOOKUP(G9591,'Lista de precios'!$B$7:$C$5000,2,0))","v":""}]
[null,null,"",null,null,null,null,{"$f":"IF(G9592=\"\",\"\",VLOOKUP(G9592,'Lista de precios'!$B$7:$C$5000,2,0))","v":""}]
[null,null,"",null,null,null,null,{"$f":"IF(G9593=\"\",\"\",VLOOKUP(G9593,'Lista de precios'!$B$7:$C$5000,2,0))","v":""}]
[null,null,"",null,null,null,null,{"$f":"IF(G9594=\"\",\"\",VLOOKUP(G9594,'Lista de precios'!$B$7:$C$5000,2,0))","v":""}]
[null,null,"",null,null,null,null,{"$f":"IF(G9595=\"\",\"\",VLOOKUP(G9595,'Lista de precios'!$B$7:$C$5000,2,0))","v":""}]
[null,null,"",null,null,null,null,{"$f":"IF(G9596=\"\",\"\",VLOOKUP(G9596,'Lista de precios'!$B$7:$C$5000,2,0))","v":""}]
[null,null,"",null,null,null,null,{"$f":"IF(G9597=\"\",\"\",VLOOKUP(G9597,'Lista de precios'!$B$7:$C$5000,2,0))","v":""}]
[null,null,"",null,null,null,null,{"$f":"IF(G9598=\"\",\"\",VLOOKUP(G9598,'Lista de precios'!$B$7:$C$5000,2,0))","v":""}]
[null,null,"",null,null,null,null,{"$f":"IF(G9599=\"\",\"\",VLOOKUP(G9599,'Lista de precios'!$B$7:$C$5000,2,0))","v":""}]
[null,null,"",null,null,null,null,{"$f":"IF(G9600=\"\",\"\",VLOOKUP(G9600,'Lista de precios'!$B$7:$C$5000,2,0))","v":""}]
[null,null,"",null,null,null,null,{"$f":"IF(G9601=\"\",\"\",VLOOKUP(G9601,'Lista de precios'!$B$7:$C$5000,2,0))","v":""}]
[null,null,"",null,null,null,null,{"$f":"IF(G9602=\"\",\"\",VLOOKUP(G9602,'Lista de precios'!$B$7:$C$5000,2,0))","v":""}]
[null,null,"",null,null,null,null,{"$f":"IF(G9603=\"\",\"\",VLOOKUP(G9603,'Lista de precios'!$B$7:$C$5000,2,0))","v":""}]
[null,null,"",null,null,null,null,{"$f":"IF(G9604=\"\",\"\",VLOOKUP(G9604,'Lista de precios'!$B$7:$C$5000,2,0))","v":""}]
[null,null,"",null,null,null,null,{"$f":"IF(G9605=\"\",\"\",VLOOKUP(G9605,'Lista de precios'!$B$7:$C$5000,2,0))","v":""}]
[null,null,"",null,null,null,null,{"$f":"IF(G9606=\"\",\"\",VLOOKUP(G9606,'Lista de precios'!$B$7:$C$5000,2,0))","v":""}]
[null,null,"",null,null,null,null,{"$f":"IF(G9607=\"\",\"\",VLOOKUP(G9607,'Lista de precios'!$B$7:$C$5000,2,0))","v":""}]
[null,null,"",null,null,null,null,{"$f":"IF(G9608=\"\",\"\",VLOOKUP(G9608,'Lista de precios'!$B$7:$C$5000,2,0))","v":""}]
[null,null,"",null,null,null,null,{"$f":"IF(G9609=\"\",\"\",VLOOKUP(G9609,'Lista de precios'!$B$7:$C$5000,2,0))","v":""}]
[null,null,"",null,null,null,null,{"$f":"IF(G9610=\"\",\"\",VLOOKUP(G9610,'Lista de precios'!$B$7:$C$5000,2,0))","v":""}]
[null,null,"",null,null,null,null,{"$f":"IF(G9611=\"\",\"\",VLOOKUP(G9611,'Lista de precios'!$B$7:$C$5000,2,0))","v":""}]
[null,null,{"$f":"IF(B9612=\"\",\"\",TEXT(B9612,\"Mmmm\"))","v":""},null,null,null,null,{"$f":"IF(G9612=\"\",\"\",VLOOKUP(G9612,'Lista de precios'!$B$7:$C$5000,2,0))","v":""}]
[null,null,"",null,null,null,null,{"$f":"IF(G9613=\"\",\"\",VLOOKUP(G9613,'Lista de precios'!$B$7:$C$5000,2,0))","v":""}]
[null,null,"",null,null,null,null,{"$f":"IF(G9614=\"\",\"\",VLOOKUP(G9614,'Lista de precios'!$B$7:$C$5000,2,0))","v":""}]
[null,null,"",null,null,null,null,{"$f":"IF(G9615=\"\",\"\",VLOOKUP(G9615,'Lista de precios'!$B$7:$C$5000,2,0))","v":""}]
[null,null,"",null,null,null,null,{"$f":"IF(G9616=\"\",\"\",VLOOKUP(G9616,'Lista de precios'!$B$7:$C$5000,2,0))","v":""}]
[null,null,"",null,null,null,null,{"$f":"IF(G9617=\"\",\"\",VLOOKUP(G9617,'Lista de precios'!$B$7:$C$5000,2,0))","v":""}]
[null,null,"",null,null,null,null,{"$f":"IF(G9618=\"\",\"\",VLOOKUP(G9618,'Lista de precios'!$B$7:$C$5000,2,0))","v":""}]
[null,null,"",null,null,null,null,{"$f":"IF(G9619=\"\",\"\",VLOOKUP(G9619,'Lista de precios'!$B$7:$C$5000,2,0))","v":""}]
[null,null,"",null,null,null,null,{"$f":"IF(G9620=\"\",\"\",VLOOKUP(G9620,'Lista de precios'!$B$7:$C$5000,2,0))","v":""}]
[null,null,"",null,null,null,null,{"$f":"IF(G9621=\"\",\"\",VLOOKUP(G9621,'Lista de precios'!$B$7:$C$5000,2,0))","v":""}]
[null,null,"",null,null,null,null,{"$f":"IF(G9622=\"\",\"\",VLOOKUP(G9622,'Lista de precios'!$B$7:$C$5000,2,0))","v":""}]
[null,null,"",null,null,null,null,{"$f":"IF(G9623=\"\",\"\",VLOOKUP(G9623,'Lista de precios'!$B$7:$C$5000,2,0))","v":""}]
[null,null,"",null,null,null,null,{"$f":"IF(G9624=\"\",\"\",VLOOKUP(G9624,'Lista de precios'!$B$7:$C$5000,2,0))","v":""}]
[null,null,"",null,null,null,null,{"$f":"IF(G9625=\"\",\"\",VLOOKUP(G9625,'Lista de precios'!$B$7:$C$5000,2,0))","v":""}]
[null,null,"",null,null,null,null,{"$f":"IF(G9626=\"\",\"\",VLOOKUP(G9626,'Lista de precios'!$B$7:$C$5000,2,0))","v":""}]
[null,null,"",null,null,null,null,{"$f":"IF(G9627=\"\",\"\",VLOOKUP(G9627,'Lista de precios'!$B$7:$C$5000,2,0))","v":""}]
[null,null,"",null,null,null,null,{"$f":"IF(G9628=\"\",\"\",VLOOKUP(G9628,'Lista de precios'!$B$7:$C$5000,2,0))","v":""}]
[null,null,"",null,null,null,null,{"$f":"IF(G9629=\"\",\"\",VLOOKUP(G9629,'Lista de precios'!$B$7:$C$5000,2,0))","v":""}]
[null,null,"",null,null,null,null,{"$f":"IF(G9630=\"\",\"\",VLOOKUP(G9630,'Lista de precios'!$B$7:$C$5000,2,0))","v":""}]
[null,null,"",null,null,null,null,{"$f":"IF(G9631=\"\",\"\",VLOOKUP(G9631,'Lista de precios'!$B$7:$C$5000,2,0))","v":""}]
[null,null,"",null,null,null,null,{"$f":"IF(G9632=\"\",\"\",VLOOKUP(G9632,'Lista de precios'!$B$7:$C$5000,2,0))","v":""}]
[null,null,"",null,null,null,null,{"$f":"IF(G9633=\"\",\"\",VLOOKUP(G9633,'Lista de precios'!$B$7:$C$5000,2,0))","v":""}]
[null,null,"",null,null,null,null,{"$f":"IF(G9634=\"\",\"\",VLOOKUP(G9634,'Lista de precios'!$B$7:$C$5000,2,0))","v":""}]
[null,null,"",null,null,null,null,{"$f":"IF(G9635=\"\",\"\",VLOOKUP(G9635,'Lista de precios'!$B$7:$C$5000,2,0))","v":""}]
[null,null,"",null,null,null,null,{"$f":"IF(G9636=\"\",\"\",VLOOKUP(G9636,'Lista de precios'!$B$7:$C$5000,2,0))","v":""}]
[null,null,"",null,null,null,null,{"$f":"IF(G9637=\"\",\"\",VLOOKUP(G9637,'Lista de precios'!$B$7:$C$5000,2,0))","v":""}]
[null,null,"",null,null,null,null,{"$f":"IF(G9638=\"\",\"\",VLOOKUP(G9638,'Lista de precios'!$B$7:$C$5000,2,0))","v":""}]
[null,null,"",null,null,null,null,{"$f":"IF(G9639=\"\",\"\",VLOOKUP(G9639,'Lista de precios'!$B$7:$C$5000,2,0))","v":""}]
[null,null,"",null,null,null,null,{"$f":"IF(G9640=\"\",\"\",VLOOKUP(G9640,'Lista de precios'!$B$7:$C$5000,2,0))","v":""}]
[null,null,"",null,null,null,null,{"$f":"IF(G9641=\"\",\"\",VLOOKUP(G9641,'Lista de precios'!$B$7:$C$5000,2,0))","v":""}]
[null,null,"",null,null,null,null,{"$f":"IF(G9642=\"\",\"\",VLOOKUP(G9642,'Lista de precios'!$B$7:$C$5000,2,0))","v":""}]
[null,null,"",null,null,null,null,{"$f":"IF(G9643=\"\",\"\",VLOOKUP(G9643,'Lista de precios'!$B$7:$C$5000,2,0))","v":""}]
[null,null,"",null,null,null,null,{"$f":"IF(G9644=\"\",\"\",VLOOKUP(G9644,'Lista de precios'!$B$7:$C$5000,2,0))","v":""}]
[null,null,"",null,null,null,null,{"$f":"IF(G9645=\"\",\"\",VLOOKUP(G9645,'Lista de precios'!$B$7:$C$5000,2,0))","v":""}]
[null,null,"",null,null,null,null,{"$f":"IF(G9646=\"\",\"\",VLOOKUP(G9646,'Lista de precios'!$B$7:$C$5000,2,0))","v":""}]
[null,null,"",null,null,null,null,{"$f":"IF(G9647=\"\",\"\",VLOOKUP(G9647,'Lista de precios'!$B$7:$C$5000,2,0))","v":""}]
[null,null,"",null,null,null,null,{"$f":"IF(G9648=\"\",\"\",VLOOKUP(G9648,'Lista de precios'!$B$7:$C$5000,2,0))","v":""}]
[null,null,"",null,null,null,null,{"$f":"IF(G9649=\"\",\"\",VLOOKUP(G9649,'Lista de precios'!$B$7:$C$5000,2,0))","v":""}]
[null,null,"",null,null,null,null,{"$f":"IF(G9650=\"\",\"\",VLOOKUP(G9650,'Lista de precios'!$B$7:$C$5000,2,0))","v":""}]
[null,null,"",null,null,null,null,{"$f":"IF(G9651=\"\",\"\",VLOOKUP(G9651,'Lista de precios'!$B$7:$C$5000,2,0))","v":""}]
[null,null,"",null,null,null,null,{"$f":"IF(G9652=\"\",\"\",VLOOKUP(G9652,'Lista de precios'!$B$7:$C$5000,2,0))","v":""}]
[null,null,"",null,null,null,null,{"$f":"IF(G9653=\"\",\"\",VLOOKUP(G9653,'Lista de precios'!$B$7:$C$5000,2,0))","v":""}]
[null,null,"",null,null,null,null,{"$f":"IF(G9654=\"\",\"\",VLOOKUP(G9654,'Lista de precios'!$B$7:$C$5000,2,0))","v":""}]
[null,null,"",null,null,null,null,{"$f":"IF(G9655=\"\",\"\",VLOOKUP(G9655,'Lista de precios'!$B$7:$C$5000,2,0))","v":""}]
[null,null,"",null,null,null,null,{"$f":"IF(G9656=\"\",\"\",VLOOKUP(G9656,'Lista de precios'!$B$7:$C$5000,2,0))","v":""}]
[null,null,"",null,null,null,null,{"$f":"IF(G9657=\"\",\"\",VLOOKUP(G9657,'Lista de precios'!$B$7:$C$5000,2,0))","v":""}]
[null,null,"",null,null,null,null,{"$f":"IF(G9658=\"\",\"\",VLOOKUP(G9658,'Lista de precios'!$B$7:$C$5000,2,0))","v":""}]
[null,null,"",null,null,null,null,{"$f":"IF(G9659=\"\",\"\",VLOOKUP(G9659,'Lista de precios'!$B$7:$C$5000,2,0))","v":""}]
[null,null,"",null,null,null,null,{"$f":"IF(G9660=\"\",\"\",VLOOKUP(G9660,'Lista de precios'!$B$7:$C$5000,2,0))","v":""}]
[null,null,"",null,null,null,null,{"$f":"IF(G9661=\"\",\"\",VLOOKUP(G9661,'Lista de precios'!$B$7:$C$5000,2,0))","v":""}]
[null,null,"",null,null,null,null,{"$f":"IF(G9662=\"\",\"\",VLOOKUP(G9662,'Lista de precios'!$B$7:$C$5000,2,0))","v":""}]
[null,null,"",null,null,null,null,{"$f":"IF(G9663=\"\",\"\",VLOOKUP(G9663,'Lista de precios'!$B$7:$C$5000,2,0))","v":""}]
[null,null,"",null,null,null,null,{"$f":"IF(G9664=\"\",\"\",VLOOKUP(G9664,'Lista de precios'!$B$7:$C$5000,2,0))","v":""}]
[null,null,"",null,null,null,null,{"$f":"IF(G9665=\"\",\"\",VLOOKUP(G9665,'Lista de precios'!$B$7:$C$5000,2,0))","v":""}]
[null,null,"",null,null,null,null,{"$f":"IF(G9666=\"\",\"\",VLOOKUP(G9666,'Lista de precios'!$B$7:$C$5000,2,0))","v":""}]
[null,null,"",null,null,null,null,{"$f":"IF(G9667=\"\",\"\",VLOOKUP(G9667,'Lista de precios'!$B$7:$C$5000,2,0))","v":""}]
[null,null,"",null,null,null,null,{"$f":"IF(G9668=\"\",\"\",VLOOKUP(G9668,'Lista de precios'!$B$7:$C$5000,2,0))","v":""}]
[null,null,"",null,null,null,null,{"$f":"IF(G9669=\"\",\"\",VLOOKUP(G9669,'Lista de precios'!$B$7:$C$5000,2,0))","v":""}]
[null,null,"",null,null,null,null,{"$f":"IF(G9670=\"\",\"\",VLOOKUP(G9670,'Lista de precios'!$B$7:$C$5000,2,0))","v":""}]
[null,null,"",null,null,null,null,{"$f":"IF(G9671=\"\",\"\",VLOOKUP(G9671,'Lista de precios'!$B$7:$C$5000,2,0))","v":""}]
[null,null,"",null,null,null,null,{"$f":"IF(G9672=\"\",\"\",VLOOKUP(G9672,'Lista de precios'!$B$7:$C$5000,2,0))","v":""}]
[null,null,"",null,null,null,null,{"$f":"IF(G9673=\"\",\"\",VLOOKUP(G9673,'Lista de precios'!$B$7:$C$5000,2,0))","v":""}]
[null,null,"",null,null,null,null,{"$f":"IF(G9674=\"\",\"\",VLOOKUP(G9674,'Lista de precios'!$B$7:$C$5000,2,0))","v":""}]
[null,null,"",null,null,null,null,{"$f":"IF(G9675=\"\",\"\",VLOOKUP(G9675,'Lista de precios'!$B$7:$C$5000,2,0))","v":""}]
[null,null,{"$f":"IF(B9676=\"\",\"\",TEXT(B9676,\"Mmmm\"))","v":""},null,null,null,null,{"$f":"IF(G9676=\"\",\"\",VLOOKUP(G9676,'Lista de precios'!$B$7:$C$5000,2,0))","v":""}]
[null,null,"",null,null,null,null,{"$f":"IF(G9677=\"\",\"\",VLOOKUP(G9677,'Lista de precios'!$B$7:$C$5000,2,0))","v":""}]
[null,null,"",null,null,null,null,{"$f":"IF(G9678=\"\",\"\",VLOOKUP(G9678,'Lista de precios'!$B$7:$C$5000,2,0))","v":""}]
[null,null,"",null,null,null,null,{"$f":"IF(G9679=\"\",\"\",VLOOKUP(G9679,'Lista de precios'!$B$7:$C$5000,2,0))","v":""}]
[null,null,"",null,null,null,null,{"$f":"IF(G9680=\"\",\"\",VLOOKUP(G9680,'Lista de precios'!$B$7:$C$5000,2,0))","v":""}]
[null,null,"",null,null,null,null,{"$f":"IF(G9681=\"\",\"\",VLOOKUP(G9681,'Lista de precios'!$B$7:$C$5000,2,0))","v":""}]
[null,null,"",null,null,null,null,{"$f":"IF(G9682=\"\",\"\",VLOOKUP(G9682,'Lista de precios'!$B$7:$C$5000,2,0))","v":""}]
[null,null,"",null,null,null,null,{"$f":"IF(G9683=\"\",\"\",VLOOKUP(G9683,'Lista de precios'!$B$7:$C$5000,2,0))","v":""}]
[null,null,"",null,null,null,null,{"$f":"IF(G9684=\"\",\"\",VLOOKUP(G9684,'Lista de precios'!$B$7:$C$5000,2,0))","v":""}]
[null,null,"",null,null,null,null,{"$f":"IF(G9685=\"\",\"\",VLOOKUP(G9685,'Lista de precios'!$B$7:$C$5000,2,0))","v":""}]
[null,null,"",null,null,null,null,{"$f":"IF(G9686=\"\",\"\",VLOOKUP(G9686,'Lista de precios'!$B$7:$C$5000,2,0))","v":""}]
[null,null,"",null,null,null,null,{"$f":"IF(G9687=\"\",\"\",VLOOKUP(G9687,'Lista de precios'!$B$7:$C$5000,2,0))","v":""}]
[null,null,"",null,null,null,null,{"$f":"IF(G9688=\"\",\"\",VLOOKUP(G9688,'Lista de precios'!$B$7:$C$5000,2,0))","v":""}]
[null,null,"",null,null,null,null,{"$f":"IF(G9689=\"\",\"\",VLOOKUP(G9689,'Lista de precios'!$B$7:$C$5000,2,0))","v":""}]
[null,null,"",null,null,null,null,{"$f":"IF(G9690=\"\",\"\",VLOOKUP(G9690,'Lista de precios'!$B$7:$C$5000,2,0))","v":""}]
[null,null,"",null,null,null,null,{"$f":"IF(G9691=\"\",\"\",VLOOKUP(G9691,'Lista de precios'!$B$7:$C$5000,2,0))","v":""}]
[null,null,"",null,null,null,null,{"$f":"IF(G9692=\"\",\"\",VLOOKUP(G9692,'Lista de precios'!$B$7:$C$5000,2,0))","v":""}]
[null,null,"",null,null,null,null,{"$f":"IF(G9693=\"\",\"\",VLOOKUP(G9693,'Lista de precios'!$B$7:$C$5000,2,0))","v":""}]
[null,null,"",null,null,null,null,{"$f":"IF(G9694=\"\",\"\",VLOOKUP(G9694,'Lista de precios'!$B$7:$C$5000,2,0))","v":""}]
[null,null,"",null,null,null,null,{"$f":"IF(G9695=\"\",\"\",VLOOKUP(G9695,'Lista de precios'!$B$7:$C$5000,2,0))","v":""}]
[null,null,"",null,null,null,null,{"$f":"IF(G9696=\"\",\"\",VLOOKUP(G9696,'Lista de precios'!$B$7:$C$5000,2,0))","v":""}]
[null,null,"",null,null,null,null,{"$f":"IF(G9697=\"\",\"\",VLOOKUP(G9697,'Lista de precios'!$B$7:$C$5000,2,0))","v":""}]
[null,null,"",null,null,null,null,{"$f":"IF(G9698=\"\",\"\",VLOOKUP(G9698,'Lista de precios'!$B$7:$C$5000,2,0))","v":""}]
[null,null,"",null,null,null,null,{"$f":"IF(G9699=\"\",\"\",VLOOKUP(G9699,'Lista de precios'!$B$7:$C$5000,2,0))","v":""}]
[null,null,"",null,null,null,null,{"$f":"IF(G9700=\"\",\"\",VLOOKUP(G9700,'Lista de precios'!$B$7:$C$5000,2,0))","v":""}]
[null,null,"",null,null,null,null,{"$f":"IF(G9701=\"\",\"\",VLOOKUP(G9701,'Lista de precios'!$B$7:$C$5000,2,0))","v":""}]
[null,null,"",null,null,null,null,{"$f":"IF(G9702=\"\",\"\",VLOOKUP(G9702,'Lista de precios'!$B$7:$C$5000,2,0))","v":""}]
[null,null,"",null,null,null,null,{"$f":"IF(G9703=\"\",\"\",VLOOKUP(G9703,'Lista de precios'!$B$7:$C$5000,2,0))","v":""}]
[null,null,"",null,null,null,null,{"$f":"IF(G9704=\"\",\"\",VLOOKUP(G9704,'Lista de precios'!$B$7:$C$5000,2,0))","v":""}]
[null,null,"",null,null,null,null,{"$f":"IF(G9705=\"\",\"\",VLOOKUP(G9705,'Lista de precios'!$B$7:$C$5000,2,0))","v":""}]
[null,null,"",null,null,null,null,{"$f":"IF(G9706=\"\",\"\",VLOOKUP(G9706,'Lista de precios'!$B$7:$C$5000,2,0))","v":""}]
[null,null,"",null,null,null,null,{"$f":"IF(G9707=\"\",\"\",VLOOKUP(G9707,'Lista de precios'!$B$7:$C$5000,2,0))","v":""}]
[null,null,"",null,null,null,null,{"$f":"IF(G9708=\"\",\"\",VLOOKUP(G9708,'Lista de precios'!$B$7:$C$5000,2,0))","v":""}]
[null,null,"",null,null,null,null,{"$f":"IF(G9709=\"\",\"\",VLOOKUP(G9709,'Lista de precios'!$B$7:$C$5000,2,0))","v":""}]
[null,null,"",null,null,null,null,{"$f":"IF(G9710=\"\",\"\",VLOOKUP(G9710,'Lista de precios'!$B$7:$C$5000,2,0))","v":""}]
[null,null,"",null,null,null,null,{"$f":"IF(G9711=\"\",\"\",VLOOKUP(G9711,'Lista de precios'!$B$7:$C$5000,2,0))","v":""}]
[null,null,"",null,null,null,null,{"$f":"IF(G9712=\"\",\"\",VLOOKUP(G9712,'Lista de precios'!$B$7:$C$5000,2,0))","v":""}]
[null,null,"",null,null,null,null,{"$f":"IF(G9713=\"\",\"\",VLOOKUP(G9713,'Lista de precios'!$B$7:$C$5000,2,0))","v":""}]
[null,null,"",null,null,null,null,{"$f":"IF(G9714=\"\",\"\",VLOOKUP(G9714,'Lista de precios'!$B$7:$C$5000,2,0))","v":""}]
[null,null,"",null,null,null,null,{"$f":"IF(G9715=\"\",\"\",VLOOKUP(G9715,'Lista de precios'!$B$7:$C$5000,2,0))","v":""}]
[null,null,"",null,null,null,null,{"$f":"IF(G9716=\"\",\"\",VLOOKUP(G9716,'Lista de precios'!$B$7:$C$5000,2,0))","v":""}]
[null,null,"",null,null,null,null,{"$f":"IF(G9717=\"\",\"\",VLOOKUP(G9717,'Lista de precios'!$B$7:$C$5000,2,0))","v":""}]
[null,null,"",null,null,null,null,{"$f":"IF(G9718=\"\",\"\",VLOOKUP(G9718,'Lista de precios'!$B$7:$C$5000,2,0))","v":""}]
[null,null,"",null,null,null,null,{"$f":"IF(G9719=\"\",\"\",VLOOKUP(G9719,'Lista de precios'!$B$7:$C$5000,2,0))","v":""}]
[null,null,"",null,null,null,null,{"$f":"IF(G9720=\"\",\"\",VLOOKUP(G9720,'Lista de precios'!$B$7:$C$5000,2,0))","v":""}]
[null,null,"",null,null,null,null,{"$f":"IF(G9721=\"\",\"\",VLOOKUP(G9721,'Lista de precios'!$B$7:$C$5000,2,0))","v":""}]
[null,null,"",null,null,null,null,{"$f":"IF(G9722=\"\",\"\",VLOOKUP(G9722,'Lista de precios'!$B$7:$C$5000,2,0))","v":""}]
[null,null,"",null,null,null,null,{"$f":"IF(G9723=\"\",\"\",VLOOKUP(G9723,'Lista de precios'!$B$7:$C$5000,2,0))","v":""}]
[null,null,"",null,null,null,null,{"$f":"IF(G9724=\"\",\"\",VLOOKUP(G9724,'Lista de precios'!$B$7:$C$5000,2,0))","v":""}]
[null,null,"",null,null,null,null,{"$f":"IF(G9725=\"\",\"\",VLOOKUP(G9725,'Lista de precios'!$B$7:$C$5000,2,0))","v":""}]
[null,null,"",null,null,null,null,{"$f":"IF(G9726=\"\",\"\",VLOOKUP(G9726,'Lista de precios'!$B$7:$C$5000,2,0))","v":""}]
[null,null,"",null,null,null,null,{"$f":"IF(G9727=\"\",\"\",VLOOKUP(G9727,'Lista de precios'!$B$7:$C$5000,2,0))","v":""}]
[null,null,"",null,null,null,null,{"$f":"IF(G9728=\"\",\"\",VLOOKUP(G9728,'Lista de precios'!$B$7:$C$5000,2,0))","v":""}]
[null,null,"",null,null,null,null,{"$f":"IF(G9729=\"\",\"\",VLOOKUP(G9729,'Lista de precios'!$B$7:$C$5000,2,0))","v":""}]
[null,null,"",null,null,null,null,{"$f":"IF(G9730=\"\",\"\",VLOOKUP(G9730,'Lista de precios'!$B$7:$C$5000,2,0))","v":""}]
[null,null,"",null,null,null,null,{"$f":"IF(G9731=\"\",\"\",VLOOKUP(G9731,'Lista de precios'!$B$7:$C$5000,2,0))","v":""}]
[null,null,"",null,null,null,null,{"$f":"IF(G9732=\"\",\"\",VLOOKUP(G9732,'Lista de precios'!$B$7:$C$5000,2,0))","v":""}]
[null,null,"",null,null,null,null,{"$f":"IF(G9733=\"\",\"\",VLOOKUP(G9733,'Lista de precios'!$B$7:$C$5000,2,0))","v":""}]
[null,null,"",null,null,null,null,{"$f":"IF(G9734=\"\",\"\",VLOOKUP(G9734,'Lista de precios'!$B$7:$C$5000,2,0))","v":""}]
[null,null,"",null,null,null,null,{"$f":"IF(G9735=\"\",\"\",VLOOKUP(G9735,'Lista de precios'!$B$7:$C$5000,2,0))","v":""}]
[null,null,"",null,null,null,null,{"$f":"IF(G9736=\"\",\"\",VLOOKUP(G9736,'Lista de precios'!$B$7:$C$5000,2,0))","v":""}]
[null,null,"",null,null,null,null,{"$f":"IF(G9737=\"\",\"\",VLOOKUP(G9737,'Lista de precios'!$B$7:$C$5000,2,0))","v":""}]
[null,null,"",null,null,null,null,{"$f":"IF(G9738=\"\",\"\",VLOOKUP(G9738,'Lista de precios'!$B$7:$C$5000,2,0))","v":""}]
[null,null,"",null,null,null,null,{"$f":"IF(G9739=\"\",\"\",VLOOKUP(G9739,'Lista de precios'!$B$7:$C$5000,2,0))","v":""}]
[null,null,{"$f":"IF(B9740=\"\",\"\",TEXT(B9740,\"Mmmm\"))","v":""},null,null,null,null,{"$f":"IF(G9740=\"\",\"\",VLOOKUP(G9740,'Lista de precios'!$B$7:$C$5000,2,0))","v":""}]
[null,null,"",null,null,null,null,{"$f":"IF(G9741=\"\",\"\",VLOOKUP(G9741,'Lista de precios'!$B$7:$C$5000,2,0))","v":""}]
[null,null,"",null,null,null,null,{"$f":"IF(G9742=\"\",\"\",VLOOKUP(G9742,'Lista de precios'!$B$7:$C$5000,2,0))","v":""}]
[null,null,"",null,null,null,null,{"$f":"IF(G9743=\"\",\"\",VLOOKUP(G9743,'Lista de precios'!$B$7:$C$5000,2,0))","v":""}]
[null,null,"",null,null,null,null,{"$f":"IF(G9744=\"\",\"\",VLOOKUP(G9744,'Lista de precios'!$B$7:$C$5000,2,0))","v":""}]
[null,null,"",null,null,null,null,{"$f":"IF(G9745=\"\",\"\",VLOOKUP(G9745,'Lista de precios'!$B$7:$C$5000,2,0))","v":""}]
[null,null,"",null,null,null,null,{"$f":"IF(G9746=\"\",\"\",VLOOKUP(G9746,'Lista de precios'!$B$7:$C$5000,2,0))","v":""}]
[null,null,"",null,null,null,null,{"$f":"IF(G9747=\"\",\"\",VLOOKUP(G9747,'Lista de precios'!$B$7:$C$5000,2,0))","v":""}]
[null,null,"",null,null,null,null,{"$f":"IF(G9748=\"\",\"\",VLOOKUP(G9748,'Lista de precios'!$B$7:$C$5000,2,0))","v":""}]
[null,null,"",null,null,null,null,{"$f":"IF(G9749=\"\",\"\",VLOOKUP(G9749,'Lista de precios'!$B$7:$C$5000,2,0))","v":""}]
[null,null,"",null,null,null,null,{"$f":"IF(G9750=\"\",\"\",VLOOKUP(G9750,'Lista de precios'!$B$7:$C$5000,2,0))","v":""}]
[null,null,"",null,null,null,null,{"$f":"IF(G9751=\"\",\"\",VLOOKUP(G9751,'Lista de precios'!$B$7:$C$5000,2,0))","v":""}]
[null,null,"",null,null,null,null,{"$f":"IF(G9752=\"\",\"\",VLOOKUP(G9752,'Lista de precios'!$B$7:$C$5000,2,0))","v":""}]
[null,null,"",null,null,null,null,{"$f":"IF(G9753=\"\",\"\",VLOOKUP(G9753,'Lista de precios'!$B$7:$C$5000,2,0))","v":""}]
[null,null,"",null,null,null,null,{"$f":"IF(G9754=\"\",\"\",VLOOKUP(G9754,'Lista de precios'!$B$7:$C$5000,2,0))","v":""}]
[null,null,"",null,null,null,null,{"$f":"IF(G9755=\"\",\"\",VLOOKUP(G9755,'Lista de precios'!$B$7:$C$5000,2,0))","v":""}]
[null,null,"",null,null,null,null,{"$f":"IF(G9756=\"\",\"\",VLOOKUP(G9756,'Lista de precios'!$B$7:$C$5000,2,0))","v":""}]
[null,null,"",null,null,null,null,{"$f":"IF(G9757=\"\",\"\",VLOOKUP(G9757,'Lista de precios'!$B$7:$C$5000,2,0))","v":""}]
[null,null,"",null,null,null,null,{"$f":"IF(G9758=\"\",\"\",VLOOKUP(G9758,'Lista de precios'!$B$7:$C$5000,2,0))","v":""}]
[null,null,"",null,null,null,null,{"$f":"IF(G9759=\"\",\"\",VLOOKUP(G9759,'Lista de precios'!$B$7:$C$5000,2,0))","v":""}]
[null,null,"",null,null,null,null,{"$f":"IF(G9760=\"\",\"\",VLOOKUP(G9760,'Lista de precios'!$B$7:$C$5000,2,0))","v":""}]
[null,null,"",null,null,null,null,{"$f":"IF(G9761=\"\",\"\",VLOOKUP(G9761,'Lista de precios'!$B$7:$C$5000,2,0))","v":""}]
[null,null,"",null,null,null,null,{"$f":"IF(G9762=\"\",\"\",VLOOKUP(G9762,'Lista de precios'!$B$7:$C$5000,2,0))","v":""}]
[null,null,"",null,null,null,null,{"$f":"IF(G9763=\"\",\"\",VLOOKUP(G9763,'Lista de precios'!$B$7:$C$5000,2,0))","v":""}]
[null,null,"",null,null,null,null,{"$f":"IF(G9764=\"\",\"\",VLOOKUP(G9764,'Lista de precios'!$B$7:$C$5000,2,0))","v":""}]
[null,null,"",null,null,null,null,{"$f":"IF(G9765=\"\",\"\",VLOOKUP(G9765,'Lista de precios'!$B$7:$C$5000,2,0))","v":""}]
[null,null,"",null,null,null,null,{"$f":"IF(G9766=\"\",\"\",VLOOKUP(G9766,'Lista de precios'!$B$7:$C$5000,2,0))","v":""}]
[null,null,"",null,null,null,null,{"$f":"IF(G9767=\"\",\"\",VLOOKUP(G9767,'Lista de precios'!$B$7:$C$5000,2,0))","v":""}]
[null,null,"",null,null,null,null,{"$f":"IF(G9768=\"\",\"\",VLOOKUP(G9768,'Lista de precios'!$B$7:$C$5000,2,0))","v":""}]
[null,null,"",null,null,null,null,{"$f":"IF(G9769=\"\",\"\",VLOOKUP(G9769,'Lista de precios'!$B$7:$C$5000,2,0))","v":""}]
[null,null,"",null,null,null,null,{"$f":"IF(G9770=\"\",\"\",VLOOKUP(G9770,'Lista de precios'!$B$7:$C$5000,2,0))","v":""}]
[null,null,"",null,null,null,null,{"$f":"IF(G9771=\"\",\"\",VLOOKUP(G9771,'Lista de precios'!$B$7:$C$5000,2,0))","v":""}]
[null,null,"",null,null,null,null,{"$f":"IF(G9772=\"\",\"\",VLOOKUP(G9772,'Lista de precios'!$B$7:$C$5000,2,0))","v":""}]
[null,null,"",null,null,null,null,{"$f":"IF(G9773=\"\",\"\",VLOOKUP(G9773,'Lista de precios'!$B$7:$C$5000,2,0))","v":""}]
[null,null,"",null,null,null,null,{"$f":"IF(G9774=\"\",\"\",VLOOKUP(G9774,'Lista de precios'!$B$7:$C$5000,2,0))","v":""}]
[null,null,"",null,null,null,null,{"$f":"IF(G9775=\"\",\"\",VLOOKUP(G9775,'Lista de precios'!$B$7:$C$5000,2,0))","v":""}]
[null,null,"",null,null,null,null,{"$f":"IF(G9776=\"\",\"\",VLOOKUP(G9776,'Lista de precios'!$B$7:$C$5000,2,0))","v":""}]
[null,null,"",null,null,null,null,{"$f":"IF(G9777=\"\",\"\",VLOOKUP(G9777,'Lista de precios'!$B$7:$C$5000,2,0))","v":""}]
[null,null,"",null,null,null,null,{"$f":"IF(G9778=\"\",\"\",VLOOKUP(G9778,'Lista de precios'!$B$7:$C$5000,2,0))","v":""}]
[null,null,"",null,null,null,null,{"$f":"IF(G9779=\"\",\"\",VLOOKUP(G9779,'Lista de precios'!$B$7:$C$5000,2,0))","v":""}]
[null,null,"",null,null,null,null,{"$f":"IF(G9780=\"\",\"\",VLOOKUP(G9780,'Lista de precios'!$B$7:$C$5000,2,0))","v":""}]
[null,null,"",null,null,null,null,{"$f":"IF(G9781=\"\",\"\",VLOOKUP(G9781,'Lista de precios'!$B$7:$C$5000,2,0))","v":""}]
[null,null,"",null,null,null,null,{"$f":"IF(G9782=\"\",\"\",VLOOKUP(G9782,'Lista de precios'!$B$7:$C$5000,2,0))","v":""}]
[null,null,"",null,null,null,null,{"$f":"IF(G9783=\"\",\"\",VLOOKUP(G9783,'Lista de precios'!$B$7:$C$5000,2,0))","v":""}]
[null,null,"",null,null,null,null,{"$f":"IF(G9784=\"\",\"\",VLOOKUP(G9784,'Lista de precios'!$B$7:$C$5000,2,0))","v":""}]
[null,null,"",null,null,null,null,{"$f":"IF(G9785=\"\",\"\",VLOOKUP(G9785,'Lista de precios'!$B$7:$C$5000,2,0))","v":""}]
[null,null,"",null,null,null,null,{"$f":"IF(G9786=\"\",\"\",VLOOKUP(G9786,'Lista de precios'!$B$7:$C$5000,2,0))","v":""}]
[null,null,"",null,null,null,null,{"$f":"IF(G9787=\"\",\"\",VLOOKUP(G9787,'Lista de precios'!$B$7:$C$5000,2,0))","v":""}]
[null,null,"",null,null,null,null,{"$f":"IF(G9788=\"\",\"\",VLOOKUP(G9788,'Lista de precios'!$B$7:$C$5000,2,0))","v":""}]
[null,null,"",null,null,null,null,{"$f":"IF(G9789=\"\",\"\",VLOOKUP(G9789,'Lista de precios'!$B$7:$C$5000,2,0))","v":""}]
[null,null,"",null,null,null,null,{"$f":"IF(G9790=\"\",\"\",VLOOKUP(G9790,'Lista de precios'!$B$7:$C$5000,2,0))","v":""}]
[null,null,"",null,null,null,null,{"$f":"IF(G9791=\"\",\"\",VLOOKUP(G9791,'Lista de precios'!$B$7:$C$5000,2,0))","v":""}]
[null,null,"",null,null,null,null,{"$f":"IF(G9792=\"\",\"\",VLOOKUP(G9792,'Lista de precios'!$B$7:$C$5000,2,0))","v":""}]
[null,null,"",null,null,null,null,{"$f":"IF(G9793=\"\",\"\",VLOOKUP(G9793,'Lista de precios'!$B$7:$C$5000,2,0))","v":""}]
[null,null,"",null,null,null,null,{"$f":"IF(G9794=\"\",\"\",VLOOKUP(G9794,'Lista de precios'!$B$7:$C$5000,2,0))","v":""}]
[null,null,"",null,null,null,null,{"$f":"IF(G9795=\"\",\"\",VLOOKUP(G9795,'Lista de precios'!$B$7:$C$5000,2,0))","v":""}]
[null,null,"",null,null,null,null,{"$f":"IF(G9796=\"\",\"\",VLOOKUP(G9796,'Lista de precios'!$B$7:$C$5000,2,0))","v":""}]
[null,null,"",null,null,null,null,{"$f":"IF(G9797=\"\",\"\",VLOOKUP(G9797,'Lista de precios'!$B$7:$C$5000,2,0))","v":""}]
[null,null,"",null,null,null,null,{"$f":"IF(G9798=\"\",\"\",VLOOKUP(G9798,'Lista de precios'!$B$7:$C$5000,2,0))","v":""}]
[null,null,"",null,null,null,null,{"$f":"IF(G9799=\"\",\"\",VLOOKUP(G9799,'Lista de precios'!$B$7:$C$5000,2,0))","v":""}]
[null,null,"",null,null,null,null,{"$f":"IF(G9800=\"\",\"\",VLOOKUP(G9800,'Lista de precios'!$B$7:$C$5000,2,0))","v":""}]
[null,null,"",null,null,null,null,{"$f":"IF(G9801=\"\",\"\",VLOOKUP(G9801,'Lista de precios'!$B$7:$C$5000,2,0))","v":""}]
[null,null,"",null,null,null,null,{"$f":"IF(G9802=\"\",\"\",VLOOKUP(G9802,'Lista de precios'!$B$7:$C$5000,2,0))","v":""}]
[null,null,"",null,null,null,null,{"$f":"IF(G9803=\"\",\"\",VLOOKUP(G9803,'Lista de precios'!$B$7:$C$5000,2,0))","v":""}]
[null,null,{"$f":"IF(B9804=\"\",\"\",TEXT(B9804,\"Mmmm\"))","v":""},null,null,null,null,{"$f":"IF(G9804=\"\",\"\",VLOOKUP(G9804,'Lista de precios'!$B$7:$C$5000,2,0))","v":""}]
[null,null,"",null,null,null,null,{"$f":"IF(G9805=\"\",\"\",VLOOKUP(G9805,'Lista de precios'!$B$7:$C$5000,2,0))","v":""}]
[null,null,"",null,null,null,null,{"$f":"IF(G9806=\"\",\"\",VLOOKUP(G9806,'Lista de precios'!$B$7:$C$5000,2,0))","v":""}]
[null,null,"",null,null,null,null,{"$f":"IF(G9807=\"\",\"\",VLOOKUP(G9807,'Lista de precios'!$B$7:$C$5000,2,0))","v":""}]
[null,null,"",null,null,null,null,{"$f":"IF(G9808=\"\",\"\",VLOOKUP(G9808,'Lista de precios'!$B$7:$C$5000,2,0))","v":""}]
[null,null,"",null,null,null,null,{"$f":"IF(G9809=\"\",\"\",VLOOKUP(G9809,'Lista de precios'!$B$7:$C$5000,2,0))","v":""}]
[null,null,"",null,null,null,null,{"$f":"IF(G9810=\"\",\"\",VLOOKUP(G9810,'Lista de precios'!$B$7:$C$5000,2,0))","v":""}]
[null,null,"",null,null,null,null,{"$f":"IF(G9811=\"\",\"\",VLOOKUP(G9811,'Lista de precios'!$B$7:$C$5000,2,0))","v":""}]
[null,null,"",null,null,null,null,{"$f":"IF(G9812=\"\",\"\",VLOOKUP(G9812,'Lista de precios'!$B$7:$C$5000,2,0))","v":""}]
[null,null,"",null,null,null,null,{"$f":"IF(G9813=\"\",\"\",VLOOKUP(G9813,'Lista de precios'!$B$7:$C$5000,2,0))","v":""}]
[null,null,"",null,null,null,null,{"$f":"IF(G9814=\"\",\"\",VLOOKUP(G9814,'Lista de precios'!$B$7:$C$5000,2,0))","v":""}]
[null,null,"",null,null,null,null,{"$f":"IF(G9815=\"\",\"\",VLOOKUP(G9815,'Lista de precios'!$B$7:$C$5000,2,0))","v":""}]
[null,null,"",null,null,null,null,{"$f":"IF(G9816=\"\",\"\",VLOOKUP(G9816,'Lista de precios'!$B$7:$C$5000,2,0))","v":""}]
[null,null,"",null,null,null,null,{"$f":"IF(G9817=\"\",\"\",VLOOKUP(G9817,'Lista de precios'!$B$7:$C$5000,2,0))","v":""}]
[null,null,"",null,null,null,null,{"$f":"IF(G9818=\"\",\"\",VLOOKUP(G9818,'Lista de precios'!$B$7:$C$5000,2,0))","v":""}]
[null,null,"",null,null,null,null,{"$f":"IF(G9819=\"\",\"\",VLOOKUP(G9819,'Lista de precios'!$B$7:$C$5000,2,0))","v":""}]
[null,null,"",null,null,null,null,{"$f":"IF(G9820=\"\",\"\",VLOOKUP(G9820,'Lista de precios'!$B$7:$C$5000,2,0))","v":""}]
[null,null,"",null,null,null,null,{"$f":"IF(G9821=\"\",\"\",VLOOKUP(G9821,'Lista de precios'!$B$7:$C$5000,2,0))","v":""}]
[null,null,"",null,null,null,null,{"$f":"IF(G9822=\"\",\"\",VLOOKUP(G9822,'Lista de precios'!$B$7:$C$5000,2,0))","v":""}]
[null,null,"",null,null,null,null,{"$f":"IF(G9823=\"\",\"\",VLOOKUP(G9823,'Lista de precios'!$B$7:$C$5000,2,0))","v":""}]
[null,null,"",null,null,null,null,{"$f":"IF(G9824=\"\",\"\",VLOOKUP(G9824,'Lista de precios'!$B$7:$C$5000,2,0))","v":""}]
[null,null,"",null,null,null,null,{"$f":"IF(G9825=\"\",\"\",VLOOKUP(G9825,'Lista de precios'!$B$7:$C$5000,2,0))","v":""}]
[null,null,"",null,null,null,null,{"$f":"IF(G9826=\"\",\"\",VLOOKUP(G9826,'Lista de precios'!$B$7:$C$5000,2,0))","v":""}]
[null,null,"",null,null,null,null,{"$f":"IF(G9827=\"\",\"\",VLOOKUP(G9827,'Lista de precios'!$B$7:$C$5000,2,0))","v":""}]
[null,null,"",null,null,null,null,{"$f":"IF(G9828=\"\",\"\",VLOOKUP(G9828,'Lista de precios'!$B$7:$C$5000,2,0))","v":""}]
[null,null,"",null,null,null,null,{"$f":"IF(G9829=\"\",\"\",VLOOKUP(G9829,'Lista de precios'!$B$7:$C$5000,2,0))","v":""}]
[null,null,"",null,null,null,null,{"$f":"IF(G9830=\"\",\"\",VLOOKUP(G9830,'Lista de precios'!$B$7:$C$5000,2,0))","v":""}]
[null,null,"",null,null,null,null,{"$f":"IF(G9831=\"\",\"\",VLOOKUP(G9831,'Lista de precios'!$B$7:$C$5000,2,0))","v":""}]
[null,null,"",null,null,null,null,{"$f":"IF(G9832=\"\",\"\",VLOOKUP(G9832,'Lista de precios'!$B$7:$C$5000,2,0))","v":""}]
[null,null,"",null,null,null,null,{"$f":"IF(G9833=\"\",\"\",VLOOKUP(G9833,'Lista de precios'!$B$7:$C$5000,2,0))","v":""}]
[null,null,"",null,null,null,null,{"$f":"IF(G9834=\"\",\"\",VLOOKUP(G9834,'Lista de precios'!$B$7:$C$5000,2,0))","v":""}]
[null,null,"",null,null,null,null,{"$f":"IF(G9835=\"\",\"\",VLOOKUP(G9835,'Lista de precios'!$B$7:$C$5000,2,0))","v":""}]
[null,null,"",null,null,null,null,{"$f":"IF(G9836=\"\",\"\",VLOOKUP(G9836,'Lista de precios'!$B$7:$C$5000,2,0))","v":""}]
[null,null,"",null,null,null,null,{"$f":"IF(G9837=\"\",\"\",VLOOKUP(G9837,'Lista de precios'!$B$7:$C$5000,2,0))","v":""}]
[null,null,"",null,null,null,null,{"$f":"IF(G9838=\"\",\"\",VLOOKUP(G9838,'Lista de precios'!$B$7:$C$5000,2,0))","v":""}]
[null,null,"",null,null,null,null,{"$f":"IF(G9839=\"\",\"\",VLOOKUP(G9839,'Lista de precios'!$B$7:$C$5000,2,0))","v":""}]
[null,null,"",null,null,null,null,{"$f":"IF(G9840=\"\",\"\",VLOOKUP(G9840,'Lista de precios'!$B$7:$C$5000,2,0))","v":""}]
[null,null,"",null,null,null,null,{"$f":"IF(G9841=\"\",\"\",VLOOKUP(G9841,'Lista de precios'!$B$7:$C$5000,2,0))","v":""}]
[null,null,"",null,null,null,null,{"$f":"IF(G9842=\"\",\"\",VLOOKUP(G9842,'Lista de precios'!$B$7:$C$5000,2,0))","v":""}]
[null,null,"",null,null,null,null,{"$f":"IF(G9843=\"\",\"\",VLOOKUP(G9843,'Lista de precios'!$B$7:$C$5000,2,0))","v":""}]
[null,null,"",null,null,null,null,{"$f":"IF(G9844=\"\",\"\",VLOOKUP(G9844,'Lista de precios'!$B$7:$C$5000,2,0))","v":""}]
[null,null,"",null,null,null,null,{"$f":"IF(G9845=\"\",\"\",VLOOKUP(G9845,'Lista de precios'!$B$7:$C$5000,2,0))","v":""}]
[null,null,"",null,null,null,null,{"$f":"IF(G9846=\"\",\"\",VLOOKUP(G9846,'Lista de precios'!$B$7:$C$5000,2,0))","v":""}]
[null,null,"",null,null,null,null,{"$f":"IF(G9847=\"\",\"\",VLOOKUP(G9847,'Lista de precios'!$B$7:$C$5000,2,0))","v":""}]
[null,null,"",null,null,null,null,{"$f":"IF(G9848=\"\",\"\",VLOOKUP(G9848,'Lista de precios'!$B$7:$C$5000,2,0))","v":""}]
[null,null,"",null,null,null,null,{"$f":"IF(G9849=\"\",\"\",VLOOKUP(G9849,'Lista de precios'!$B$7:$C$5000,2,0))","v":""}]
[null,null,"",null,null,null,null,{"$f":"IF(G9850=\"\",\"\",VLOOKUP(G9850,'Lista de precios'!$B$7:$C$5000,2,0))","v":""}]
[null,null,"",null,null,null,null,{"$f":"IF(G9851=\"\",\"\",VLOOKUP(G9851,'Lista de precios'!$B$7:$C$5000,2,0))","v":""}]
[null,null,"",null,null,null,null,{"$f":"IF(G9852=\"\",\"\",VLOOKUP(G9852,'Lista de precios'!$B$7:$C$5000,2,0))","v":""}]
[null,null,"",null,null,null,null,{"$f":"IF(G9853=\"\",\"\",VLOOKUP(G9853,'Lista de precios'!$B$7:$C$5000,2,0))","v":""}]
[null,null,"",null,null,null,null,{"$f":"IF(G9854=\"\",\"\",VLOOKUP(G9854,'Lista de precios'!$B$7:$C$5000,2,0))","v":""}]
[null,null,"",null,null,null,null,{"$f":"IF(G9855=\"\",\"\",VLOOKUP(G9855,'Lista de precios'!$B$7:$C$5000,2,0))","v":""}]
[null,null,"",null,null,null,null,{"$f":"IF(G9856=\"\",\"\",VLOOKUP(G9856,'Lista de precios'!$B$7:$C$5000,2,0))","v":""}]
[null,null,"",null,null,null,null,{"$f":"IF(G9857=\"\",\"\",VLOOKUP(G9857,'Lista de precios'!$B$7:$C$5000,2,0))","v":""}]
[null,null,"",null,null,null,null,{"$f":"IF(G9858=\"\",\"\",VLOOKUP(G9858,'Lista de precios'!$B$7:$C$5000,2,0))","v":""}]
[null,null,"",null,null,null,null,{"$f":"IF(G9859=\"\",\"\",VLOOKUP(G9859,'Lista de precios'!$B$7:$C$5000,2,0))","v":""}]
[null,null,"",null,null,null,null,{"$f":"IF(G9860=\"\",\"\",VLOOKUP(G9860,'Lista de precios'!$B$7:$C$5000,2,0))","v":""}]
[null,null,"",null,null,null,null,{"$f":"IF(G9861=\"\",\"\",VLOOKUP(G9861,'Lista de precios'!$B$7:$C$5000,2,0))","v":""}]
[null,null,"",null,null,null,null,{"$f":"IF(G9862=\"\",\"\",VLOOKUP(G9862,'Lista de precios'!$B$7:$C$5000,2,0))","v":""}]
[null,null,"",null,null,null,null,{"$f":"IF(G9863=\"\",\"\",VLOOKUP(G9863,'Lista de precios'!$B$7:$C$5000,2,0))","v":""}]
[null,null,"",null,null,null,null,{"$f":"IF(G9864=\"\",\"\",VLOOKUP(G9864,'Lista de precios'!$B$7:$C$5000,2,0))","v":""}]
[null,null,"",null,null,null,null,{"$f":"IF(G9865=\"\",\"\",VLOOKUP(G9865,'Lista de precios'!$B$7:$C$5000,2,0))","v":""}]
[null,null,"",null,null,null,null,{"$f":"IF(G9866=\"\",\"\",VLOOKUP(G9866,'Lista de precios'!$B$7:$C$5000,2,0))","v":""}]
[null,null,"",null,null,null,null,{"$f":"IF(G9867=\"\",\"\",VLOOKUP(G9867,'Lista de precios'!$B$7:$C$5000,2,0))","v":""}]
[null,null,{"$f":"IF(B9868=\"\",\"\",TEXT(B9868,\"Mmmm\"))","v":""},null,null,null,null,{"$f":"IF(G9868=\"\",\"\",VLOOKUP(G9868,'Lista de precios'!$B$7:$C$5000,2,0))","v":""}]
[null,null,"",null,null,null,null,{"$f":"IF(G9869=\"\",\"\",VLOOKUP(G9869,'Lista de precios'!$B$7:$C$5000,2,0))","v":""}]
[null,null,"",null,null,null,null,{"$f":"IF(G9870=\"\",\"\",VLOOKUP(G9870,'Lista de precios'!$B$7:$C$5000,2,0))","v":""}]
[null,null,"",null,null,null,null,{"$f":"IF(G9871=\"\",\"\",VLOOKUP(G9871,'Lista de precios'!$B$7:$C$5000,2,0))","v":""}]
[null,null,"",null,null,null,null,{"$f":"IF(G9872=\"\",\"\",VLOOKUP(G9872,'Lista de precios'!$B$7:$C$5000,2,0))","v":""}]
[null,null,"",null,null,null,null,{"$f":"IF(G9873=\"\",\"\",VLOOKUP(G9873,'Lista de precios'!$B$7:$C$5000,2,0))","v":""}]
[null,null,"",null,null,null,null,{"$f":"IF(G9874=\"\",\"\",VLOOKUP(G9874,'Lista de precios'!$B$7:$C$5000,2,0))","v":""}]
[null,null,"",null,null,null,null,{"$f":"IF(G9875=\"\",\"\",VLOOKUP(G9875,'Lista de precios'!$B$7:$C$5000,2,0))","v":""}]
[null,null,"",null,null,null,null,{"$f":"IF(G9876=\"\",\"\",VLOOKUP(G9876,'Lista de precios'!$B$7:$C$5000,2,0))","v":""}]
[null,null,"",null,null,null,null,{"$f":"IF(G9877=\"\",\"\",VLOOKUP(G9877,'Lista de precios'!$B$7:$C$5000,2,0))","v":""}]
[null,null,"",null,null,null,null,{"$f":"IF(G9878=\"\",\"\",VLOOKUP(G9878,'Lista de precios'!$B$7:$C$5000,2,0))","v":""}]
[null,null,"",null,null,null,null,{"$f":"IF(G9879=\"\",\"\",VLOOKUP(G9879,'Lista de precios'!$B$7:$C$5000,2,0))","v":""}]
[null,null,"",null,null,null,null,{"$f":"IF(G9880=\"\",\"\",VLOOKUP(G9880,'Lista de precios'!$B$7:$C$5000,2,0))","v":""}]
[null,null,"",null,null,null,null,{"$f":"IF(G9881=\"\",\"\",VLOOKUP(G9881,'Lista de precios'!$B$7:$C$5000,2,0))","v":""}]
[null,null,"",null,null,null,null,{"$f":"IF(G9882=\"\",\"\",VLOOKUP(G9882,'Lista de precios'!$B$7:$C$5000,2,0))","v":""}]
[null,null,"",null,null,null,null,{"$f":"IF(G9883=\"\",\"\",VLOOKUP(G9883,'Lista de precios'!$B$7:$C$5000,2,0))","v":""}]
[null,null,"",null,null,null,null,{"$f":"IF(G9884=\"\",\"\",VLOOKUP(G9884,'Lista de precios'!$B$7:$C$5000,2,0))","v":""}]
[null,null,"",null,null,null,null,{"$f":"IF(G9885=\"\",\"\",VLOOKUP(G9885,'Lista de precios'!$B$7:$C$5000,2,0))","v":""}]
[null,null,"",null,null,null,null,{"$f":"IF(G9886=\"\",\"\",VLOOKUP(G9886,'Lista de precios'!$B$7:$C$5000,2,0))","v":""}]
[null,null,"",null,null,null,null,{"$f":"IF(G9887=\"\",\"\",VLOOKUP(G9887,'Lista de precios'!$B$7:$C$5000,2,0))","v":""}]
[null,null,"",null,null,null,null,{"$f":"IF(G9888=\"\",\"\",VLOOKUP(G9888,'Lista de precios'!$B$7:$C$5000,2,0))","v":""}]
[null,null,"",null,null,null,null,{"$f":"IF(G9889=\"\",\"\",VLOOKUP(G9889,'Lista de precios'!$B$7:$C$5000,2,0))","v":""}]
[null,null,"",null,null,null,null,{"$f":"IF(G9890=\"\",\"\",VLOOKUP(G9890,'Lista de precios'!$B$7:$C$5000,2,0))","v":""}]
[null,null,"",null,null,null,null,{"$f":"IF(G9891=\"\",\"\",VLOOKUP(G9891,'Lista de precios'!$B$7:$C$5000,2,0))","v":""}]
[null,null,"",null,null,null,null,{"$f":"IF(G9892=\"\",\"\",VLOOKUP(G9892,'Lista de precios'!$B$7:$C$5000,2,0))","v":""}]
[null,null,"",null,null,null,null,{"$f":"IF(G9893=\"\",\"\",VLOOKUP(G9893,'Lista de precios'!$B$7:$C$5000,2,0))","v":""}]
[null,null,"",null,null,null,null,{"$f":"IF(G9894=\"\",\"\",VLOOKUP(G9894,'Lista de precios'!$B$7:$C$5000,2,0))","v":""}]
[null,null,"",null,null,null,null,{"$f":"IF(G9895=\"\",\"\",VLOOKUP(G9895,'Lista de precios'!$B$7:$C$5000,2,0))","v":""}]
[null,null,"",null,null,null,null,{"$f":"IF(G9896=\"\",\"\",VLOOKUP(G9896,'Lista de precios'!$B$7:$C$5000,2,0))","v":""}]
[null,null,"",null,null,null,null,{"$f":"IF(G9897=\"\",\"\",VLOOKUP(G9897,'Lista de precios'!$B$7:$C$5000,2,0))","v":""}]
[null,null,"",null,null,null,null,{"$f":"IF(G9898=\"\",\"\",VLOOKUP(G9898,'Lista de precios'!$B$7:$C$5000,2,0))","v":""}]
[null,null,"",null,null,null,null,{"$f":"IF(G9899=\"\",\"\",VLOOKUP(G9899,'Lista de precios'!$B$7:$C$5000,2,0))","v":""}]
[null,null,"",null,null,null,null,{"$f":"IF(G9900=\"\",\"\",VLOOKUP(G9900,'Lista de precios'!$B$7:$C$5000,2,0))","v":""}]
[null,null,"",null,null,null,null,{"$f":"IF(G9901=\"\",\"\",VLOOKUP(G9901,'Lista de precios'!$B$7:$C$5000,2,0))","v":""}]
[null,null,"",null,null,null,null,{"$f":"IF(G9902=\"\",\"\",VLOOKUP(G9902,'Lista de precios'!$B$7:$C$5000,2,0))","v":""}]
[null,null,"",null,null,null,null,{"$f":"IF(G9903=\"\",\"\",VLOOKUP(G9903,'Lista de precios'!$B$7:$C$5000,2,0))","v":""}]
[null,null,"",null,null,null,null,{"$f":"IF(G9904=\"\",\"\",VLOOKUP(G9904,'Lista de precios'!$B$7:$C$5000,2,0))","v":""}]
[null,null,"",null,null,null,null,{"$f":"IF(G9905=\"\",\"\",VLOOKUP(G9905,'Lista de precios'!$B$7:$C$5000,2,0))","v":""}]
[null,null,"",null,null,null,null,{"$f":"IF(G9906=\"\",\"\",VLOOKUP(G9906,'Lista de precios'!$B$7:$C$5000,2,0))","v":""}]
[null,null,"",null,null,null,null,{"$f":"IF(G9907=\"\",\"\",VLOOKUP(G9907,'Lista de precios'!$B$7:$C$5000,2,0))","v":""}]
[null,null,"",null,null,null,null,{"$f":"IF(G9908=\"\",\"\",VLOOKUP(G9908,'Lista de precios'!$B$7:$C$5000,2,0))","v":""}]
[null,null,"",null,null,null,null,{"$f":"IF(G9909=\"\",\"\",VLOOKUP(G9909,'Lista de precios'!$B$7:$C$5000,2,0))","v":""}]
[null,null,"",null,null,null,null,{"$f":"IF(G9910=\"\",\"\",VLOOKUP(G9910,'Lista de precios'!$B$7:$C$5000,2,0))","v":""}]
[null,null,"",null,null,null,null,{"$f":"IF(G9911=\"\",\"\",VLOOKUP(G9911,'Lista de precios'!$B$7:$C$5000,2,0))","v":""}]
[null,null,"",null,null,null,null,{"$f":"IF(G9912=\"\",\"\",VLOOKUP(G9912,'Lista de precios'!$B$7:$C$5000,2,0))","v":""}]
[null,null,"",null,null,null,null,{"$f":"IF(G9913=\"\",\"\",VLOOKUP(G9913,'Lista de precios'!$B$7:$C$5000,2,0))","v":""}]
[null,null,"",null,null,null,null,{"$f":"IF(G9914=\"\",\"\",VLOOKUP(G9914,'Lista de precios'!$B$7:$C$5000,2,0))","v":""}]
[null,null,"",null,null,null,null,{"$f":"IF(G9915=\"\",\"\",VLOOKUP(G9915,'Lista de precios'!$B$7:$C$5000,2,0))","v":""}]
[null,null,"",null,null,null,null,{"$f":"IF(G9916=\"\",\"\",VLOOKUP(G9916,'Lista de precios'!$B$7:$C$5000,2,0))","v":""}]
[null,null,"",null,null,null,null,{"$f":"IF(G9917=\"\",\"\",VLOOKUP(G9917,'Lista de precios'!$B$7:$C$5000,2,0))","v":""}]
[null,null,"",null,null,null,null,{"$f":"IF(G9918=\"\",\"\",VLOOKUP(G9918,'Lista de precios'!$B$7:$C$5000,2,0))","v":""}]
[null,null,"",null,null,null,null,{"$f":"IF(G9919=\"\",\"\",VLOOKUP(G9919,'Lista de precios'!$B$7:$C$5000,2,0))","v":""}]
[null,null,"",null,null,null,null,{"$f":"IF(G9920=\"\",\"\",VLOOKUP(G9920,'Lista de precios'!$B$7:$C$5000,2,0))","v":""}]
[null,null,"",null,null,null,null,{"$f":"IF(G9921=\"\",\"\",VLOOKUP(G9921,'Lista de precios'!$B$7:$C$5000,2,0))","v":""}]
[null,null,"",null,null,null,null,{"$f":"IF(G9922=\"\",\"\",VLOOKUP(G9922,'Lista de precios'!$B$7:$C$5000,2,0))","v":""}]
[null,null,"",null,null,null,null,{"$f":"IF(G9923=\"\",\"\",VLOOKUP(G9923,'Lista de precios'!$B$7:$C$5000,2,0))","v":""}]
[null,null,"",null,null,null,null,{"$f":"IF(G9924=\"\",\"\",VLOOKUP(G9924,'Lista de precios'!$B$7:$C$5000,2,0))","v":""}]
[null,null,"",null,null,null,null,{"$f":"IF(G9925=\"\",\"\",VLOOKUP(G9925,'Lista de precios'!$B$7:$C$5000,2,0))","v":""}]
[null,null,"",null,null,null,null,{"$f":"IF(G9926=\"\",\"\",VLOOKUP(G9926,'Lista de precios'!$B$7:$C$5000,2,0))","v":""}]
[null,null,"",null,null,null,null,{"$f":"IF(G9927=\"\",\"\",VLOOKUP(G9927,'Lista de precios'!$B$7:$C$5000,2,0))","v":""}]
[null,null,"",null,null,null,null,{"$f":"IF(G9928=\"\",\"\",VLOOKUP(G9928,'Lista de precios'!$B$7:$C$5000,2,0))","v":""}]
[null,null,"",null,null,null,null,{"$f":"IF(G9929=\"\",\"\",VLOOKUP(G9929,'Lista de precios'!$B$7:$C$5000,2,0))","v":""}]
[null,null,"",null,null,null,null,{"$f":"IF(G9930=\"\",\"\",VLOOKUP(G9930,'Lista de precios'!$B$7:$C$5000,2,0))","v":""}]
[null,null,"",null,null,null,null,{"$f":"IF(G9931=\"\",\"\",VLOOKUP(G9931,'Lista de precios'!$B$7:$C$5000,2,0))","v":""}]
[null,null,{"$f":"IF(B9932=\"\",\"\",TEXT(B9932,\"Mmmm\"))","v":""},null,null,null,null,{"$f":"IF(G9932=\"\",\"\",VLOOKUP(G9932,'Lista de precios'!$B$7:$C$5000,2,0))","v":""}]
[null,null,"",null,null,null,null,{"$f":"IF(G9933=\"\",\"\",VLOOKUP(G9933,'Lista de precios'!$B$7:$C$5000,2,0))","v":""}]
[null,null,"",null,null,null,null,{"$f":"IF(G9934=\"\",\"\",VLOOKUP(G9934,'Lista de precios'!$B$7:$C$5000,2,0))","v":""}]
[null,null,"",null,null,null,null,{"$f":"IF(G9935=\"\",\"\",VLOOKUP(G9935,'Lista de precios'!$B$7:$C$5000,2,0))","v":""}]
[null,null,"",null,null,null,null,{"$f":"IF(G9936=\"\",\"\",VLOOKUP(G9936,'Lista de precios'!$B$7:$C$5000,2,0))","v":""}]
[null,null,"",null,null,null,null,{"$f":"IF(G9937=\"\",\"\",VLOOKUP(G9937,'Lista de precios'!$B$7:$C$5000,2,0))","v":""}]
[null,null,"",null,null,null,null,{"$f":"IF(G9938=\"\",\"\",VLOOKUP(G9938,'Lista de precios'!$B$7:$C$5000,2,0))","v":""}]
[null,null,"",null,null,null,null,{"$f":"IF(G9939=\"\",\"\",VLOOKUP(G9939,'Lista de precios'!$B$7:$C$5000,2,0))","v":""}]
[null,null,"",null,null,null,null,{"$f":"IF(G9940=\"\",\"\",VLOOKUP(G9940,'Lista de precios'!$B$7:$C$5000,2,0))","v":""}]
[null,null,"",null,null,null,null,{"$f":"IF(G9941=\"\",\"\",VLOOKUP(G9941,'Lista de precios'!$B$7:$C$5000,2,0))","v":""}]
[null,null,"",null,null,null,null,{"$f":"IF(G9942=\"\",\"\",VLOOKUP(G9942,'Lista de precios'!$B$7:$C$5000,2,0))","v":""}]
[null,null,"",null,null,null,null,{"$f":"IF(G9943=\"\",\"\",VLOOKUP(G9943,'Lista de precios'!$B$7:$C$5000,2,0))","v":""}]
[null,null,"",null,null,null,null,{"$f":"IF(G9944=\"\",\"\",VLOOKUP(G9944,'Lista de precios'!$B$7:$C$5000,2,0))","v":""}]
[null,null,"",null,null,null,null,{"$f":"IF(G9945=\"\",\"\",VLOOKUP(G9945,'Lista de precios'!$B$7:$C$5000,2,0))","v":""}]
[null,null,"",null,null,null,null,{"$f":"IF(G9946=\"\",\"\",VLOOKUP(G9946,'Lista de precios'!$B$7:$C$5000,2,0))","v":""}]
[null,null,"",null,null,null,null,{"$f":"IF(G9947=\"\",\"\",VLOOKUP(G9947,'Lista de precios'!$B$7:$C$5000,2,0))","v":""}]
[null,null,"",null,null,null,null,{"$f":"IF(G9948=\"\",\"\",VLOOKUP(G9948,'Lista de precios'!$B$7:$C$5000,2,0))","v":""}]
[null,null,"",null,null,null,null,{"$f":"IF(G9949=\"\",\"\",VLOOKUP(G9949,'Lista de precios'!$B$7:$C$5000,2,0))","v":""}]
[null,null,"",null,null,null,null,{"$f":"IF(G9950=\"\",\"\",VLOOKUP(G9950,'Lista de precios'!$B$7:$C$5000,2,0))","v":""}]
[null,null,"",null,null,null,null,{"$f":"IF(G9951=\"\",\"\",VLOOKUP(G9951,'Lista de precios'!$B$7:$C$5000,2,0))","v":""}]
[null,null,"",null,null,null,null,{"$f":"IF(G9952=\"\",\"\",VLOOKUP(G9952,'Lista de precios'!$B$7:$C$5000,2,0))","v":""}]
[null,null,"",null,null,null,null,{"$f":"IF(G9953=\"\",\"\",VLOOKUP(G9953,'Lista de precios'!$B$7:$C$5000,2,0))","v":""}]
[null,null,"",null,null,null,null,{"$f":"IF(G9954=\"\",\"\",VLOOKUP(G9954,'Lista de precios'!$B$7:$C$5000,2,0))","v":""}]
[null,null,"",null,null,null,null,{"$f":"IF(G9955=\"\",\"\",VLOOKUP(G9955,'Lista de precios'!$B$7:$C$5000,2,0))","v":""}]
[null,null,"",null,null,null,null,{"$f":"IF(G9956=\"\",\"\",VLOOKUP(G9956,'Lista de precios'!$B$7:$C$5000,2,0))","v":""}]
[null,null,"",null,null,null,null,{"$f":"IF(G9957=\"\",\"\",VLOOKUP(G9957,'Lista de precios'!$B$7:$C$5000,2,0))","v":""}]
[null,null,"",null,null,null,null,{"$f":"IF(G9958=\"\",\"\",VLOOKUP(G9958,'Lista de precios'!$B$7:$C$5000,2,0))","v":""}]
[null,null,"",null,null,null,null,{"$f":"IF(G9959=\"\",\"\",VLOOKUP(G9959,'Lista de precios'!$B$7:$C$5000,2,0))","v":""}]
[null,null,"",null,null,null,null,{"$f":"IF(G9960=\"\",\"\",VLOOKUP(G9960,'Lista de precios'!$B$7:$C$5000,2,0))","v":""}]
[null,null,"",null,null,null,null,{"$f":"IF(G9961=\"\",\"\",VLOOKUP(G9961,'Lista de precios'!$B$7:$C$5000,2,0))","v":""}]
[null,null,"",null,null,null,null,{"$f":"IF(G9962=\"\",\"\",VLOOKUP(G9962,'Lista de precios'!$B$7:$C$5000,2,0))","v":""}]
[null,null,"",null,null,null,null,{"$f":"IF(G9963=\"\",\"\",VLOOKUP(G9963,'Lista de precios'!$B$7:$C$5000,2,0))","v":""}]
[null,null,"",null,null,null,null,{"$f":"IF(G9964=\"\",\"\",VLOOKUP(G9964,'Lista de precios'!$B$7:$C$5000,2,0))","v":""}]
[null,null,"",null,null,null,null,{"$f":"IF(G9965=\"\",\"\",VLOOKUP(G9965,'Lista de precios'!$B$7:$C$5000,2,0))","v":""}]
[null,null,"",null,null,null,null,{"$f":"IF(G9966=\"\",\"\",VLOOKUP(G9966,'Lista de precios'!$B$7:$C$5000,2,0))","v":""}]
[null,null,"",null,null,null,null,{"$f":"IF(G9967=\"\",\"\",VLOOKUP(G9967,'Lista de precios'!$B$7:$C$5000,2,0))","v":""}]
[null,null,"",null,null,null,null,{"$f":"IF(G9968=\"\",\"\",VLOOKUP(G9968,'Lista de precios'!$B$7:$C$5000,2,0))","v":""}]
[null,null,"",null,null,null,null,{"$f":"IF(G9969=\"\",\"\",VLOOKUP(G9969,'Lista de precios'!$B$7:$C$5000,2,0))","v":""}]
[null,null,"",null,null,null,null,{"$f":"IF(G9970=\"\",\"\",VLOOKUP(G9970,'Lista de precios'!$B$7:$C$5000,2,0))","v":""}]
[null,null,"",null,null,null,null,{"$f":"IF(G9971=\"\",\"\",VLOOKUP(G9971,'Lista de precios'!$B$7:$C$5000,2,0))","v":""}]
[null,null,"",null,null,null,null,{"$f":"IF(G9972=\"\",\"\",VLOOKUP(G9972,'Lista de precios'!$B$7:$C$5000,2,0))","v":""}]
[null,null,"",null,null,null,null,{"$f":"IF(G9973=\"\",\"\",VLOOKUP(G9973,'Lista de precios'!$B$7:$C$5000,2,0))","v":""}]
[null,null,"",null,null,null,null,{"$f":"IF(G9974=\"\",\"\",VLOOKUP(G9974,'Lista de precios'!$B$7:$C$5000,2,0))","v":""}]
[null,null,"",null,null,null,null,{"$f":"IF(G9975=\"\",\"\",VLOOKUP(G9975,'Lista de precios'!$B$7:$C$5000,2,0))","v":""}]
[null,null,"",null,null,null,null,{"$f":"IF(G9976=\"\",\"\",VLOOKUP(G9976,'Lista de precios'!$B$7:$C$5000,2,0))","v":""}]
[null,null,"",null,null,null,null,{"$f":"IF(G9977=\"\",\"\",VLOOKUP(G9977,'Lista de precios'!$B$7:$C$5000,2,0))","v":""}]
[null,null,"",null,null,null,null,{"$f":"IF(G9978=\"\",\"\",VLOOKUP(G9978,'Lista de precios'!$B$7:$C$5000,2,0))","v":""}]
[null,null,"",null,null,null,null,{"$f":"IF(G9979=\"\",\"\",VLOOKUP(G9979,'Lista de precios'!$B$7:$C$5000,2,0))","v":""}]
[null,null,"",null,null,null,null,{"$f":"IF(G9980=\"\",\"\",VLOOKUP(G9980,'Lista de precios'!$B$7:$C$5000,2,0))","v":""}]
[null,null,"",null,null,null,null,{"$f":"IF(G9981=\"\",\"\",VLOOKUP(G9981,'Lista de precios'!$B$7:$C$5000,2,0))","v":""}]
[null,null,"",null,null,null,null,{"$f":"IF(G9982=\"\",\"\",VLOOKUP(G9982,'Lista de precios'!$B$7:$C$5000,2,0))","v":""}]
[null,null,"",null,null,null,null,{"$f":"IF(G9983=\"\",\"\",VLOOKUP(G9983,'Lista de precios'!$B$7:$C$5000,2,0))","v":""}]
[null,null,"",null,null,null,null,{"$f":"IF(G9984=\"\",\"\",VLOOKUP(G9984,'Lista de precios'!$B$7:$C$5000,2,0))","v":""}]
[null,null,"",null,null,null,null,{"$f":"IF(G9985=\"\",\"\",VLOOKUP(G9985,'Lista de precios'!$B$7:$C$5000,2,0))","v":""}]
[null,null,"",null,null,null,null,{"$f":"IF(G9986=\"\",\"\",VLOOKUP(G9986,'Lista de precios'!$B$7:$C$5000,2,0))","v":""}]
[null,null,"",null,null,null,null,{"$f":"IF(G9987=\"\",\"\",VLOOKUP(G9987,'Lista de precios'!$B$7:$C$5000,2,0))","v":""}]
[null,null,"",null,null,null,null,{"$f":"IF(G9988=\"\",\"\",VLOOKUP(G9988,'Lista de precios'!$B$7:$C$5000,2,0))","v":""}]
[null,null,"",null,null,null,null,{"$f":"IF(G9989=\"\",\"\",VLOOKUP(G9989,'Lista de precios'!$B$7:$C$5000,2,0))","v":""}]
[null,null,"",null,null,null,null,{"$f":"IF(G9990=\"\",\"\",VLOOKUP(G9990,'Lista de precios'!$B$7:$C$5000,2,0))","v":""}]
[null,null,"",null,null,null,null,{"$f":"IF(G9991=\"\",\"\",VLOOKUP(G9991,'Lista de precios'!$B$7:$C$5000,2,0))","v":""}]
[null,null,"",null,null,null,null,{"$f":"IF(G9992=\"\",\"\",VLOOKUP(G9992,'Lista de precios'!$B$7:$C$5000,2,0))","v":""}]
[null,null,"",null,null,null,null,{"$f":"IF(G9993=\"\",\"\",VLOOKUP(G9993,'Lista de precios'!$B$7:$C$5000,2,0))","v":""}]
[null,null,"",null,null,null,null,{"$f":"IF(G9994=\"\",\"\",VLOOKUP(G9994,'Lista de precios'!$B$7:$C$5000,2,0))","v":""}]
[null,null,"",null,null,null,null,{"$f":"IF(G9995=\"\",\"\",VLOOKUP(G9995,'Lista de precios'!$B$7:$C$5000,2,0))","v":""}]
[null,null,{"$f":"IF(B9996=\"\",\"\",TEXT(B9996,\"Mmmm\"))","v":""},null,null,null,null,{"$f":"IF(G9996=\"\",\"\",VLOOKUP(G9996,'Lista de precios'!$B$7:$C$5000,2,0))","v":""}]
[null,null,"",null,null,null,null,{"$f":"IF(G9997=\"\",\"\",VLOOKUP(G9997,'Lista de precios'!$B$7:$C$5000,2,0))","v":""}]
[null,null,"",null,null,null,null,{"$f":"IF(G9998=\"\",\"\",VLOOKUP(G9998,'Lista de precios'!$B$7:$C$5000,2,0))","v":""}]
[null,null,"",null,null,null,null,{"$f":"IF(G9999=\"\",\"\",VLOOKUP(G9999,'Lista de precios'!$B$7:$C$5000,2,0))","v":""}]
[null,null,"",null,null,null,null,{"$f":"IF(G10000=\"\",\"\",VLOOKUP(G10000,'Lista de precios'!$B$7:$C$5000,2,0))","v":""}]
[null,null,"",null,null,null,null,{"$f":"IF(G10001=\"\",\"\",VLOOKUP(G10001,'Lista de precios'!$B$7:$C$5000,2,0))","v":""}]
[null,null,"",null,null,null,null,{"$f":"IF(G10002=\"\",\"\",VLOOKUP(G10002,'Lista de precios'!$B$7:$C$5000,2,0))","v":""}]
[null,null,"",null,null,null,null,{"$f":"IF(G10003=\"\",\"\",VLOOKUP(G10003,'Lista de precios'!$B$7:$C$5000,2,0))","v":""}]
[null,null,"",null,null,null,null,{"$f":"IF(G10004=\"\",\"\",VLOOKUP(G10004,'Lista de precios'!$B$7:$C$5000,2,0))","v":""}]
[null,null,"",null,null,null,null,{"$f":"IF(G10005=\"\",\"\",VLOOKUP(G10005,'Lista de precios'!$B$7:$C$5000,2,0))","v":""}]
[null,null,"",null,null,null,null,{"$f":"IF(G10006=\"\",\"\",VLOOKUP(G10006,'Lista de precios'!$B$7:$C$5000,2,0))","v":""}]
[null,null,"",null,null,null,null,{"$f":"IF(G10007=\"\",\"\",VLOOKUP(G10007,'Lista de precios'!$B$7:$C$5000,2,0))","v":""}]
[null,null,"",null,null,null,null,{"$f":"IF(G10008=\"\",\"\",VLOOKUP(G10008,'Lista de precios'!$B$7:$C$5000,2,0))","v":""}]
[null,null,"",null,null,null,null,{"$f":"IF(G10009=\"\",\"\",VLOOKUP(G10009,'Lista de precios'!$B$7:$C$5000,2,0))","v":""}]
[null,null,"",null,null,null,null,{"$f":"IF(G10010=\"\",\"\",VLOOKUP(G10010,'Lista de precios'!$B$7:$C$5000,2,0))","v":""}]
[null,null,"",null,null,null,null,{"$f":"IF(G10011=\"\",\"\",VLOOKUP(G10011,'Lista de precios'!$B$7:$C$5000,2,0))","v":""}]
[null,null,"",null,null,null,null,{"$f":"IF(G10012=\"\",\"\",VLOOKUP(G10012,'Lista de precios'!$B$7:$C$5000,2,0))","v":""}]
[null,null,"",null,null,null,null,{"$f":"IF(G10013=\"\",\"\",VLOOKUP(G10013,'Lista de precios'!$B$7:$C$5000,2,0))","v":""}]
[null,null,"",null,null,null,null,{"$f":"IF(G10014=\"\",\"\",VLOOKUP(G10014,'Lista de precios'!$B$7:$C$5000,2,0))","v":""}]
[null,null,"",null,null,null,null,{"$f":"IF(G10015=\"\",\"\",VLOOKUP(G10015,'Lista de precios'!$B$7:$C$5000,2,0))","v":""}]
[null,null,"",null,null,null,null,{"$f":"IF(G10016=\"\",\"\",VLOOKUP(G10016,'Lista de precios'!$B$7:$C$5000,2,0))","v":""}]
[null,null,"",null,null,null,null,{"$f":"IF(G10017=\"\",\"\",VLOOKUP(G10017,'Lista de precios'!$B$7:$C$5000,2,0))","v":""}]
[null,null,"",null,null,null,null,{"$f":"IF(G10018=\"\",\"\",VLOOKUP(G10018,'Lista de precios'!$B$7:$C$5000,2,0))","v":""}]
[null,null,"",null,null,null,null,{"$f":"IF(G10019=\"\",\"\",VLOOKUP(G10019,'Lista de precios'!$B$7:$C$5000,2,0))","v":""}]
[null,null,"",null,null,null,null,{"$f":"IF(G10020=\"\",\"\",VLOOKUP(G10020,'Lista de precios'!$B$7:$C$5000,2,0))","v":""}]
[null,null,"",null,null,null,null,{"$f":"IF(G10021=\"\",\"\",VLOOKUP(G10021,'Lista de precios'!$B$7:$C$5000,2,0))","v":""}]
[null,null,"",null,null,null,null,{"$f":"IF(G10022=\"\",\"\",VLOOKUP(G10022,'Lista de precios'!$B$7:$C$5000,2,0))","v":""}]
[null,null,"",null,null,null,null,{"$f":"IF(G10023=\"\",\"\",VLOOKUP(G10023,'Lista de precios'!$B$7:$C$5000,2,0))","v":""}]
[null,null,"",null,null,null,null,{"$f":"IF(G10024=\"\",\"\",VLOOKUP(G10024,'Lista de precios'!$B$7:$C$5000,2,0))","v":""}]
[null,null,"",null,null,null,null,{"$f":"IF(G10025=\"\",\"\",VLOOKUP(G10025,'Lista de precios'!$B$7:$C$5000,2,0))","v":""}]
[null,null,"",null,null,null,null,{"$f":"IF(G10026=\"\",\"\",VLOOKUP(G10026,'Lista de precios'!$B$7:$C$5000,2,0))","v":""}]
[null,null,"",null,null,null,null,{"$f":"IF(G10027=\"\",\"\",VLOOKUP(G10027,'Lista de precios'!$B$7:$C$5000,2,0))","v":""}]
[null,null,"",null,null,null,null,{"$f":"IF(G10028=\"\",\"\",VLOOKUP(G10028,'Lista de precios'!$B$7:$C$5000,2,0))","v":""}]
[null,null,"",null,null,null,null,{"$f":"IF(G10029=\"\",\"\",VLOOKUP(G10029,'Lista de precios'!$B$7:$C$5000,2,0))","v":""}]
[null,null,"",null,null,null,null,{"$f":"IF(G10030=\"\",\"\",VLOOKUP(G10030,'Lista de precios'!$B$7:$C$5000,2,0))","v":""}]
[null,null,"",null,null,null,null,{"$f":"IF(G10031=\"\",\"\",VLOOKUP(G10031,'Lista de precios'!$B$7:$C$5000,2,0))","v":""}]
[null,null,"",null,null,null,null,{"$f":"IF(G10032=\"\",\"\",VLOOKUP(G10032,'Lista de precios'!$B$7:$C$5000,2,0))","v":""}]
[null,null,"",null,null,null,null,{"$f":"IF(G10033=\"\",\"\",VLOOKUP(G10033,'Lista de precios'!$B$7:$C$5000,2,0))","v":""}]
[null,null,"",null,null,null,null,{"$f":"IF(G10034=\"\",\"\",VLOOKUP(G10034,'Lista de precios'!$B$7:$C$5000,2,0))","v":""}]
[null,null,"",null,null,null,null,{"$f":"IF(G10035=\"\",\"\",VLOOKUP(G10035,'Lista de precios'!$B$7:$C$5000,2,0))","v":""}]
[null,null,"",null,null,null,null,{"$f":"IF(G10036=\"\",\"\",VLOOKUP(G10036,'Lista de precios'!$B$7:$C$5000,2,0))","v":""}]
[null,null,"",null,null,null,null,{"$f":"IF(G10037=\"\",\"\",VLOOKUP(G10037,'Lista de precios'!$B$7:$C$5000,2,0))","v":""}]
[null,null,"",null,null,null,null,{"$f":"IF(G10038=\"\",\"\",VLOOKUP(G10038,'Lista de precios'!$B$7:$C$5000,2,0))","v":""}]
[null,null,"",null,null,null,null,{"$f":"IF(G10039=\"\",\"\",VLOOKUP(G10039,'Lista de precios'!$B$7:$C$5000,2,0))","v":""}]
[null,null,"",null,null,null,null,{"$f":"IF(G10040=\"\",\"\",VLOOKUP(G10040,'Lista de precios'!$B$7:$C$5000,2,0))","v":""}]
[null,null,"",null,null,null,null,{"$f":"IF(G10041=\"\",\"\",VLOOKUP(G10041,'Lista de precios'!$B$7:$C$5000,2,0))","v":""}]
[null,null,"",null,null,null,null,{"$f":"IF(G10042=\"\",\"\",VLOOKUP(G10042,'Lista de precios'!$B$7:$C$5000,2,0))","v":""}]
[null,null,"",null,null,null,null,{"$f":"IF(G10043=\"\",\"\",VLOOKUP(G10043,'Lista de precios'!$B$7:$C$5000,2,0))","v":""}]
[null,null,"",null,null,null,null,{"$f":"IF(G10044=\"\",\"\",VLOOKUP(G10044,'Lista de precios'!$B$7:$C$5000,2,0))","v":""}]
[null,null,"",null,null,null,null,{"$f":"IF(G10045=\"\",\"\",VLOOKUP(G10045,'Lista de precios'!$B$7:$C$5000,2,0))","v":""}]
[null,null,"",null,null,null,null,{"$f":"IF(G10046=\"\",\"\",VLOOKUP(G10046,'Lista de precios'!$B$7:$C$5000,2,0))","v":""}]
[null,null,"",null,null,null,null,{"$f":"IF(G10047=\"\",\"\",VLOOKUP(G10047,'Lista de precios'!$B$7:$C$5000,2,0))","v":""}]
[null,null,"",null,null,null,null,{"$f":"IF(G10048=\"\",\"\",VLOOKUP(G10048,'Lista de precios'!$B$7:$C$5000,2,0))","v":""}]
[null,null,"",null,null,null,null,{"$f":"IF(G10049=\"\",\"\",VLOOKUP(G10049,'Lista de precios'!$B$7:$C$5000,2,0))","v":""}]
[null,null,"",null,null,null,null,{"$f":"IF(G10050=\"\",\"\",VLOOKUP(G10050,'Lista de precios'!$B$7:$C$5000,2,0))","v":""}]
[null,null,"",null,null,null,null,{"$f":"IF(G10051=\"\",\"\",VLOOKUP(G10051,'Lista de precios'!$B$7:$C$5000,2,0))","v":""}]
[null,null,"",null,null,null,null,{"$f":"IF(G10052=\"\",\"\",VLOOKUP(G10052,'Lista de precios'!$B$7:$C$5000,2,0))","v":""}]
[null,null,"",null,null,null,null,{"$f":"IF(G10053=\"\",\"\",VLOOKUP(G10053,'Lista de precios'!$B$7:$C$5000,2,0))","v":""}]
[null,null,"",null,null,null,null,{"$f":"IF(G10054=\"\",\"\",VLOOKUP(G10054,'Lista de precios'!$B$7:$C$5000,2,0))","v":""}]
[null,null,"",null,null,null,null,{"$f":"IF(G10055=\"\",\"\",VLOOKUP(G10055,'Lista de precios'!$B$7:$C$5000,2,0))","v":""}]
[null,null,"",null,null,null,null,{"$f":"IF(G10056=\"\",\"\",VLOOKUP(G10056,'Lista de precios'!$B$7:$C$5000,2,0))","v":""}]
[null,null,"",null,null,null,null,{"$f":"IF(G10057=\"\",\"\",VLOOKUP(G10057,'Lista de precios'!$B$7:$C$5000,2,0))","v":""}]
[null,null,"",null,null,null,null,{"$f":"IF(G10058=\"\",\"\",VLOOKUP(G10058,'Lista de precios'!$B$7:$C$5000,2,0))","v":""}]
[null,null,"",null,null,null,null,{"$f":"IF(G10059=\"\",\"\",VLOOKUP(G10059,'Lista de precios'!$B$7:$C$5000,2,0))","v":""}]
[null,null,{"$f":"IF(B10060=\"\",\"\",TEXT(B10060,\"Mmmm\"))","v":""},null,null,null,null,{"$f":"IF(G10060=\"\",\"\",VLOOKUP(G10060,'Lista de precios'!$B$7:$C$5000,2,0))","v":""}]
[null,null,"",null,null,null,null,{"$f":"IF(G10061=\"\",\"\",VLOOKUP(G10061,'Lista de precios'!$B$7:$C$5000,2,0))","v":""}]
[null,null,"",null,null,null,null,{"$f":"IF(G10062=\"\",\"\",VLOOKUP(G10062,'Lista de precios'!$B$7:$C$5000,2,0))","v":""}]
[null,null,"",null,null,null,null,{"$f":"IF(G10063=\"\",\"\",VLOOKUP(G10063,'Lista de precios'!$B$7:$C$5000,2,0))","v":""}]
[null,null,"",null,null,null,null,{"$f":"IF(G10064=\"\",\"\",VLOOKUP(G10064,'Lista de precios'!$B$7:$C$5000,2,0))","v":""}]
[null,null,"",null,null,null,null,{"$f":"IF(G10065=\"\",\"\",VLOOKUP(G10065,'Lista de precios'!$B$7:$C$5000,2,0))","v":""}]
[null,null,"",null,null,null,null,{"$f":"IF(G10066=\"\",\"\",VLOOKUP(G10066,'Lista de precios'!$B$7:$C$5000,2,0))","v":""}]
[null,null,"",null,null,null,null,{"$f":"IF(G10067=\"\",\"\",VLOOKUP(G10067,'Lista de precios'!$B$7:$C$5000,2,0))","v":""}]
[null,null,"",null,null,null,null,{"$f":"IF(G10068=\"\",\"\",VLOOKUP(G10068,'Lista de precios'!$B$7:$C$5000,2,0))","v":""}]
[null,null,"",null,null,null,null,{"$f":"IF(G10069=\"\",\"\",VLOOKUP(G10069,'Lista de precios'!$B$7:$C$5000,2,0))","v":""}]
[null,null,"",null,null,null,null,{"$f":"IF(G10070=\"\",\"\",VLOOKUP(G10070,'Lista de precios'!$B$7:$C$5000,2,0))","v":""}]
[null,null,"",null,null,null,null,{"$f":"IF(G10071=\"\",\"\",VLOOKUP(G10071,'Lista de precios'!$B$7:$C$5000,2,0))","v":""}]
[null,null,"",null,null,null,null,{"$f":"IF(G10072=\"\",\"\",VLOOKUP(G10072,'Lista de precios'!$B$7:$C$5000,2,0))","v":""}]
[null,null,"",null,null,null,null,{"$f":"IF(G10073=\"\",\"\",VLOOKUP(G10073,'Lista de precios'!$B$7:$C$5000,2,0))","v":""}]
[null,null,"",null,null,null,null,{"$f":"IF(G10074=\"\",\"\",VLOOKUP(G10074,'Lista de precios'!$B$7:$C$5000,2,0))","v":""}]
[null,null,"",null,null,null,null,{"$f":"IF(G10075=\"\",\"\",VLOOKUP(G10075,'Lista de precios'!$B$7:$C$5000,2,0))","v":""}]
[null,null,"",null,null,null,null,{"$f":"IF(G10076=\"\",\"\",VLOOKUP(G10076,'Lista de precios'!$B$7:$C$5000,2,0))","v":""}]
[null,null,"",null,null,null,null,{"$f":"IF(G10077=\"\",\"\",VLOOKUP(G10077,'Lista de precios'!$B$7:$C$5000,2,0))","v":""}]
[null,null,"",null,null,null,null,{"$f":"IF(G10078=\"\",\"\",VLOOKUP(G10078,'Lista de precios'!$B$7:$C$5000,2,0))","v":""}]
[null,null,"",null,null,null,null,{"$f":"IF(G10079=\"\",\"\",VLOOKUP(G10079,'Lista de precios'!$B$7:$C$5000,2,0))","v":""}]
[null,null,"",null,null,null,null,{"$f":"IF(G10080=\"\",\"\",VLOOKUP(G10080,'Lista de precios'!$B$7:$C$5000,2,0))","v":""}]
[null,null,"",null,null,null,null,{"$f":"IF(G10081=\"\",\"\",VLOOKUP(G10081,'Lista de precios'!$B$7:$C$5000,2,0))","v":""}]
[null,null,"",null,null,null,null,{"$f":"IF(G10082=\"\",\"\",VLOOKUP(G10082,'Lista de precios'!$B$7:$C$5000,2,0))","v":""}]
[null,null,"",null,null,null,null,{"$f":"IF(G10083=\"\",\"\",VLOOKUP(G10083,'Lista de precios'!$B$7:$C$5000,2,0))","v":""}]
[null,null,"",null,null,null,null,{"$f":"IF(G10084=\"\",\"\",VLOOKUP(G10084,'Lista de precios'!$B$7:$C$5000,2,0))","v":""}]
[null,null,"",null,null,null,null,{"$f":"IF(G10085=\"\",\"\",VLOOKUP(G10085,'Lista de precios'!$B$7:$C$5000,2,0))","v":""}]
[null,null,"",null,null,null,null,{"$f":"IF(G10086=\"\",\"\",VLOOKUP(G10086,'Lista de precios'!$B$7:$C$5000,2,0))","v":""}]
[null,null,"",null,null,null,null,{"$f":"IF(G10087=\"\",\"\",VLOOKUP(G10087,'Lista de precios'!$B$7:$C$5000,2,0))","v":""}]
[null,null,"",null,null,null,null,{"$f":"IF(G10088=\"\",\"\",VLOOKUP(G10088,'Lista de precios'!$B$7:$C$5000,2,0))","v":""}]
[null,null,"",null,null,null,null,{"$f":"IF(G10089=\"\",\"\",VLOOKUP(G10089,'Lista de precios'!$B$7:$C$5000,2,0))","v":""}]
[null,null,"",null,null,null,null,{"$f":"IF(G10090=\"\",\"\",VLOOKUP(G10090,'Lista de precios'!$B$7:$C$5000,2,0))","v":""}]
[null,null,"",null,null,null,null,{"$f":"IF(G10091=\"\",\"\",VLOOKUP(G10091,'Lista de precios'!$B$7:$C$5000,2,0))","v":""}]
[null,null,"",null,null,null,null,{"$f":"IF(G10092=\"\",\"\",VLOOKUP(G10092,'Lista de precios'!$B$7:$C$5000,2,0))","v":""}]
[null,null,"",null,null,null,null,{"$f":"IF(G10093=\"\",\"\",VLOOKUP(G10093,'Lista de precios'!$B$7:$C$5000,2,0))","v":""}]
[null,null,"",null,null,null,null,{"$f":"IF(G10094=\"\",\"\",VLOOKUP(G10094,'Lista de precios'!$B$7:$C$5000,2,0))","v":""}]
[null,null,"",null,null,null,null,{"$f":"IF(G10095=\"\",\"\",VLOOKUP(G10095,'Lista de precios'!$B$7:$C$5000,2,0))","v":""}]
[null,null,"",null,null,null,null,{"$f":"IF(G10096=\"\",\"\",VLOOKUP(G10096,'Lista de precios'!$B$7:$C$5000,2,0))","v":""}]
[null,null,"",null,null,null,null,{"$f":"IF(G10097=\"\",\"\",VLOOKUP(G10097,'Lista de precios'!$B$7:$C$5000,2,0))","v":""}]
[null,null,"",null,null,null,null,{"$f":"IF(G10098=\"\",\"\",VLOOKUP(G10098,'Lista de precios'!$B$7:$C$5000,2,0))","v":""}]
[null,null,"",null,null,null,null,{"$f":"IF(G10099=\"\",\"\",VLOOKUP(G10099,'Lista de precios'!$B$7:$C$5000,2,0))","v":""}]
[null,null,"",null,null,null,null,{"$f":"IF(G10100=\"\",\"\",VLOOKUP(G10100,'Lista de precios'!$B$7:$C$5000,2,0))","v":""}]
[null,null,"",null,null,null,null,{"$f":"IF(G10101=\"\",\"\",VLOOKUP(G10101,'Lista de precios'!$B$7:$C$5000,2,0))","v":""}]
[null,null,"",null,null,null,null,{"$f":"IF(G10102=\"\",\"\",VLOOKUP(G10102,'Lista de precios'!$B$7:$C$5000,2,0))","v":""}]
[null,null,"",null,null,null,null,{"$f":"IF(G10103=\"\",\"\",VLOOKUP(G10103,'Lista de precios'!$B$7:$C$5000,2,0))","v":""}]
[null,null,"",null,null,null,null,{"$f":"IF(G10104=\"\",\"\",VLOOKUP(G10104,'Lista de precios'!$B$7:$C$5000,2,0))","v":""}]
[null,null,"",null,null,null,null,{"$f":"IF(G10105=\"\",\"\",VLOOKUP(G10105,'Lista de precios'!$B$7:$C$5000,2,0))","v":""}]
[null,null,"",null,null,null,null,{"$f":"IF(G10106=\"\",\"\",VLOOKUP(G10106,'Lista de precios'!$B$7:$C$5000,2,0))","v":""}]
[null,null,"",null,null,null,null,{"$f":"IF(G10107=\"\",\"\",VLOOKUP(G10107,'Lista de precios'!$B$7:$C$5000,2,0))","v":""}]
[null,null,"",null,null,null,null,{"$f":"IF(G10108=\"\",\"\",VLOOKUP(G10108,'Lista de precios'!$B$7:$C$5000,2,0))","v":""}]
[null,null,"",null,null,null,null,{"$f":"IF(G10109=\"\",\"\",VLOOKUP(G10109,'Lista de precios'!$B$7:$C$5000,2,0))","v":""}]
[null,null,"",null,null,null,null,{"$f":"IF(G10110=\"\",\"\",VLOOKUP(G10110,'Lista de precios'!$B$7:$C$5000,2,0))","v":""}]
[null,null,"",null,null,null,null,{"$f":"IF(G10111=\"\",\"\",VLOOKUP(G10111,'Lista de precios'!$B$7:$C$5000,2,0))","v":""}]
[null,null,"",null,null,null,null,{"$f":"IF(G10112=\"\",\"\",VLOOKUP(G10112,'Lista de precios'!$B$7:$C$5000,2,0))","v":""}]
[null,null,"",null,null,null,null,{"$f":"IF(G10113=\"\",\"\",VLOOKUP(G10113,'Lista de precios'!$B$7:$C$5000,2,0))","v":""}]
[null,null,"",null,null,null,null,{"$f":"IF(G10114=\"\",\"\",VLOOKUP(G10114,'Lista de precios'!$B$7:$C$5000,2,0))","v":""}]
[null,null,"",null,null,null,null,{"$f":"IF(G10115=\"\",\"\",VLOOKUP(G10115,'Lista de precios'!$B$7:$C$5000,2,0))","v":""}]
[null,null,"",null,null,null,null,{"$f":"IF(G10116=\"\",\"\",VLOOKUP(G10116,'Lista de precios'!$B$7:$C$5000,2,0))","v":""}]
[null,null,"",null,null,null,null,{"$f":"IF(G10117=\"\",\"\",VLOOKUP(G10117,'Lista de precios'!$B$7:$C$5000,2,0))","v":""}]
[null,null,"",null,null,null,null,{"$f":"IF(G10118=\"\",\"\",VLOOKUP(G10118,'Lista de precios'!$B$7:$C$5000,2,0))","v":""}]
[null,null,"",null,null,null,null,{"$f":"IF(G10119=\"\",\"\",VLOOKUP(G10119,'Lista de precios'!$B$7:$C$5000,2,0))","v":""}]
[null,null,"",null,null,null,null,{"$f":"IF(G10120=\"\",\"\",VLOOKUP(G10120,'Lista de precios'!$B$7:$C$5000,2,0))","v":""}]
[null,null,"",null,null,null,null,{"$f":"IF(G10121=\"\",\"\",VLOOKUP(G10121,'Lista de precios'!$B$7:$C$5000,2,0))","v":""}]
[null,null,"",null,null,null,null,{"$f":"IF(G10122=\"\",\"\",VLOOKUP(G10122,'Lista de precios'!$B$7:$C$5000,2,0))","v":""}]
[null,null,"",null,null,null,null,{"$f":"IF(G10123=\"\",\"\",VLOOKUP(G10123,'Lista de precios'!$B$7:$C$5000,2,0))","v":""}]
[null,null,{"$f":"IF(B10124=\"\",\"\",TEXT(B10124,\"Mmmm\"))","v":""},null,null,null,null,{"$f":"IF(G10124=\"\",\"\",VLOOKUP(G10124,'Lista de precios'!$B$7:$C$5000,2,0))","v":""}]
[null,null,"",null,null,null,null,{"$f":"IF(G10125=\"\",\"\",VLOOKUP(G10125,'Lista de precios'!$B$7:$C$5000,2,0))","v":""}]
[null,null,"",null,null,null,null,{"$f":"IF(G10126=\"\",\"\",VLOOKUP(G10126,'Lista de precios'!$B$7:$C$5000,2,0))","v":""}]
[null,null,"",null,null,null,null,{"$f":"IF(G10127=\"\",\"\",VLOOKUP(G10127,'Lista de precios'!$B$7:$C$5000,2,0))","v":""}]
[null,null,"",null,null,null,null,{"$f":"IF(G10128=\"\",\"\",VLOOKUP(G10128,'Lista de precios'!$B$7:$C$5000,2,0))","v":""}]
[null,null,"",null,null,null,null,{"$f":"IF(G10129=\"\",\"\",VLOOKUP(G10129,'Lista de precios'!$B$7:$C$5000,2,0))","v":""}]
[null,null,"",null,null,null,null,{"$f":"IF(G10130=\"\",\"\",VLOOKUP(G10130,'Lista de precios'!$B$7:$C$5000,2,0))","v":""}]
[null,null,"",null,null,null,null,{"$f":"IF(G10131=\"\",\"\",VLOOKUP(G10131,'Lista de precios'!$B$7:$C$5000,2,0))","v":""}]
[null,null,"",null,null,null,null,{"$f":"IF(G10132=\"\",\"\",VLOOKUP(G10132,'Lista de precios'!$B$7:$C$5000,2,0))","v":""}]
[null,null,"",null,null,null,null,{"$f":"IF(G10133=\"\",\"\",VLOOKUP(G10133,'Lista de precios'!$B$7:$C$5000,2,0))","v":""}]
[null,null,"",null,null,null,null,{"$f":"IF(G10134=\"\",\"\",VLOOKUP(G10134,'Lista de precios'!$B$7:$C$5000,2,0))","v":""}]
[null,null,"",null,null,null,null,{"$f":"IF(G10135=\"\",\"\",VLOOKUP(G10135,'Lista de precios'!$B$7:$C$5000,2,0))","v":""}]
[null,null,"",null,null,null,null,{"$f":"IF(G10136=\"\",\"\",VLOOKUP(G10136,'Lista de precios'!$B$7:$C$5000,2,0))","v":""}]
[null,null,"",null,null,null,null,{"$f":"IF(G10137=\"\",\"\",VLOOKUP(G10137,'Lista de precios'!$B$7:$C$5000,2,0))","v":""}]
[null,null,"",null,null,null,null,{"$f":"IF(G10138=\"\",\"\",VLOOKUP(G10138,'Lista de precios'!$B$7:$C$5000,2,0))","v":""}]
[null,null,"",null,null,null,null,{"$f":"IF(G10139=\"\",\"\",VLOOKUP(G10139,'Lista de precios'!$B$7:$C$5000,2,0))","v":""}]
[null,null,"",null,null,null,null,{"$f":"IF(G10140=\"\",\"\",VLOOKUP(G10140,'Lista de precios'!$B$7:$C$5000,2,0))","v":""}]
[null,null,"",null,null,null,null,{"$f":"IF(G10141=\"\",\"\",VLOOKUP(G10141,'Lista de precios'!$B$7:$C$5000,2,0))","v":""}]
[null,null,"",null,null,null,null,{"$f":"IF(G10142=\"\",\"\",VLOOKUP(G10142,'Lista de precios'!$B$7:$C$5000,2,0))","v":""}]
[null,null,"",null,null,null,null,{"$f":"IF(G10143=\"\",\"\",VLOOKUP(G10143,'Lista de precios'!$B$7:$C$5000,2,0))","v":""}]
[null,null,"",null,null,null,null,{"$f":"IF(G10144=\"\",\"\",VLOOKUP(G10144,'Lista de precios'!$B$7:$C$5000,2,0))","v":""}]
[null,null,"",null,null,null,null,{"$f":"IF(G10145=\"\",\"\",VLOOKUP(G10145,'Lista de precios'!$B$7:$C$5000,2,0))","v":""}]
[null,null,"",null,null,null,null,{"$f":"IF(G10146=\"\",\"\",VLOOKUP(G10146,'Lista de precios'!$B$7:$C$5000,2,0))","v":""}]
[null,null,"",null,null,null,null,{"$f":"IF(G10147=\"\",\"\",VLOOKUP(G10147,'Lista de precios'!$B$7:$C$5000,2,0))","v":""}]
[null,null,"",null,null,null,null,{"$f":"IF(G10148=\"\",\"\",VLOOKUP(G10148,'Lista de precios'!$B$7:$C$5000,2,0))","v":""}]
[null,null,"",null,null,null,null,{"$f":"IF(G10149=\"\",\"\",VLOOKUP(G10149,'Lista de precios'!$B$7:$C$5000,2,0))","v":""}]
[null,null,"",null,null,null,null,{"$f":"IF(G10150=\"\",\"\",VLOOKUP(G10150,'Lista de precios'!$B$7:$C$5000,2,0))","v":""}]
[null,null,"",null,null,null,null,{"$f":"IF(G10151=\"\",\"\",VLOOKUP(G10151,'Lista de precios'!$B$7:$C$5000,2,0))","v":""}]
[null,null,"",null,null,null,null,{"$f":"IF(G10152=\"\",\"\",VLOOKUP(G10152,'Lista de precios'!$B$7:$C$5000,2,0))","v":""}]
[null,null,"",null,null,null,null,{"$f":"IF(G10153=\"\",\"\",VLOOKUP(G10153,'Lista de precios'!$B$7:$C$5000,2,0))","v":""}]
[null,null,"",null,null,null,null,{"$f":"IF(G10154=\"\",\"\",VLOOKUP(G10154,'Lista de precios'!$B$7:$C$5000,2,0))","v":""}]
[null,null,"",null,null,null,null,{"$f":"IF(G10155=\"\",\"\",VLOOKUP(G10155,'Lista de precios'!$B$7:$C$5000,2,0))","v":""}]
[null,null,"",null,null,null,null,{"$f":"IF(G10156=\"\",\"\",VLOOKUP(G10156,'Lista de precios'!$B$7:$C$5000,2,0))","v":""}]
[null,null,"",null,null,null,null,{"$f":"IF(G10157=\"\",\"\",VLOOKUP(G10157,'Lista de precios'!$B$7:$C$5000,2,0))","v":""}]
[null,null,"",null,null,null,null,{"$f":"IF(G10158=\"\",\"\",VLOOKUP(G10158,'Lista de precios'!$B$7:$C$5000,2,0))","v":""}]
[null,null,"",null,null,null,null,{"$f":"IF(G10159=\"\",\"\",VLOOKUP(G10159,'Lista de precios'!$B$7:$C$5000,2,0))","v":""}]
[null,null,"",null,null,null,null,{"$f":"IF(G10160=\"\",\"\",VLOOKUP(G10160,'Lista de precios'!$B$7:$C$5000,2,0))","v":""}]
[null,null,"",null,null,null,null,{"$f":"IF(G10161=\"\",\"\",VLOOKUP(G10161,'Lista de precios'!$B$7:$C$5000,2,0))","v":""}]
[null,null,"",null,null,null,null,{"$f":"IF(G10162=\"\",\"\",VLOOKUP(G10162,'Lista de precios'!$B$7:$C$5000,2,0))","v":""}]
[null,null,"",null,null,null,null,{"$f":"IF(G10163=\"\",\"\",VLOOKUP(G10163,'Lista de precios'!$B$7:$C$5000,2,0))","v":""}]
[null,null,"",null,null,null,null,{"$f":"IF(G10164=\"\",\"\",VLOOKUP(G10164,'Lista de precios'!$B$7:$C$5000,2,0))","v":""}]
[null,null,"",null,null,null,null,{"$f":"IF(G10165=\"\",\"\",VLOOKUP(G10165,'Lista de precios'!$B$7:$C$5000,2,0))","v":""}]
[null,null,"",null,null,null,null,{"$f":"IF(G10166=\"\",\"\",VLOOKUP(G10166,'Lista de precios'!$B$7:$C$5000,2,0))","v":""}]
[null,null,"",null,null,null,null,{"$f":"IF(G10167=\"\",\"\",VLOOKUP(G10167,'Lista de precios'!$B$7:$C$5000,2,0))","v":""}]
[null,null,"",null,null,null,null,{"$f":"IF(G10168=\"\",\"\",VLOOKUP(G10168,'Lista de precios'!$B$7:$C$5000,2,0))","v":""}]
[null,null,"",null,null,null,null,{"$f":"IF(G10169=\"\",\"\",VLOOKUP(G10169,'Lista de precios'!$B$7:$C$5000,2,0))","v":""}]
[null,null,"",null,null,null,null,{"$f":"IF(G10170=\"\",\"\",VLOOKUP(G10170,'Lista de precios'!$B$7:$C$5000,2,0))","v":""}]
[null,null,"",null,null,null,null,{"$f":"IF(G10171=\"\",\"\",VLOOKUP(G10171,'Lista de precios'!$B$7:$C$5000,2,0))","v":""}]
[null,null,"",null,null,null,null,{"$f":"IF(G10172=\"\",\"\",VLOOKUP(G10172,'Lista de precios'!$B$7:$C$5000,2,0))","v":""}]
[null,null,"",null,null,null,null,{"$f":"IF(G10173=\"\",\"\",VLOOKUP(G10173,'Lista de precios'!$B$7:$C$5000,2,0))","v":""}]
[null,null,"",null,null,null,null,{"$f":"IF(G10174=\"\",\"\",VLOOKUP(G10174,'Lista de precios'!$B$7:$C$5000,2,0))","v":""}]
[null,null,"",null,null,null,null,{"$f":"IF(G10175=\"\",\"\",VLOOKUP(G10175,'Lista de precios'!$B$7:$C$5000,2,0))","v":""}]
[null,null,"",null,null,null,null,{"$f":"IF(G10176=\"\",\"\",VLOOKUP(G10176,'Lista de precios'!$B$7:$C$5000,2,0))","v":""}]
[null,null,"",null,null,null,null,{"$f":"IF(G10177=\"\",\"\",VLOOKUP(G10177,'Lista de precios'!$B$7:$C$5000,2,0))","v":""}]
[null,null,"",null,null,null,null,{"$f":"IF(G10178=\"\",\"\",VLOOKUP(G10178,'Lista de precios'!$B$7:$C$5000,2,0))","v":""}]
[null,null,"",null,null,null,null,{"$f":"IF(G10179=\"\",\"\",VLOOKUP(G10179,'Lista de precios'!$B$7:$C$5000,2,0))","v":""}]
[null,null,"",null,null,null,null,{"$f":"IF(G10180=\"\",\"\",VLOOKUP(G10180,'Lista de precios'!$B$7:$C$5000,2,0))","v":""}]
[null,null,"",null,null,null,null,{"$f":"IF(G10181=\"\",\"\",VLOOKUP(G10181,'Lista de precios'!$B$7:$C$5000,2,0))","v":""}]
[null,null,"",null,null,null,null,{"$f":"IF(G10182=\"\",\"\",VLOOKUP(G10182,'Lista de precios'!$B$7:$C$5000,2,0))","v":""}]
[null,null,"",null,null,null,null,{"$f":"IF(G10183=\"\",\"\",VLOOKUP(G10183,'Lista de precios'!$B$7:$C$5000,2,0))","v":""}]
[null,null,"",null,null,null,null,{"$f":"IF(G10184=\"\",\"\",VLOOKUP(G10184,'Lista de precios'!$B$7:$C$5000,2,0))","v":""}]
[null,null,"",null,null,null,null,{"$f":"IF(G10185=\"\",\"\",VLOOKUP(G10185,'Lista de precios'!$B$7:$C$5000,2,0))","v":""}]
[null,null,"",null,null,null,null,{"$f":"IF(G10186=\"\",\"\",VLOOKUP(G10186,'Lista de precios'!$B$7:$C$5000,2,0))","v":""}]
[null,null,"",null,null,null,null,{"$f":"IF(G10187=\"\",\"\",VLOOKUP(G10187,'Lista de precios'!$B$7:$C$5000,2,0))","v":""}]
[null,null,{"$f":"IF(B10188=\"\",\"\",TEXT(B10188,\"Mmmm\"))","v":""},null,null,null,null,{"$f":"IF(G10188=\"\",\"\",VLOOKUP(G10188,'Lista de precios'!$B$7:$C$5000,2,0))","v":""}]
[null,null,"",null,null,null,null,{"$f":"IF(G10189=\"\",\"\",VLOOKUP(G10189,'Lista de precios'!$B$7:$C$5000,2,0))","v":""}]
[null,null,"",null,null,null,null,{"$f":"IF(G10190=\"\",\"\",VLOOKUP(G10190,'Lista de precios'!$B$7:$C$5000,2,0))","v":""}]
[null,null,"",null,null,null,null,{"$f":"IF(G10191=\"\",\"\",VLOOKUP(G10191,'Lista de precios'!$B$7:$C$5000,2,0))","v":""}]
[null,null,"",null,null,null,null,{"$f":"IF(G10192=\"\",\"\",VLOOKUP(G10192,'Lista de precios'!$B$7:$C$5000,2,0))","v":""}]
[null,null,"",null,null,null,null,{"$f":"IF(G10193=\"\",\"\",VLOOKUP(G10193,'Lista de precios'!$B$7:$C$5000,2,0))","v":""}]
[null,null,"",null,null,null,null,{"$f":"IF(G10194=\"\",\"\",VLOOKUP(G10194,'Lista de precios'!$B$7:$C$5000,2,0))","v":""}]
[null,null,"",null,null,null,null,{"$f":"IF(G10195=\"\",\"\",VLOOKUP(G10195,'Lista de precios'!$B$7:$C$5000,2,0))","v":""}]
[null,null,"",null,null,null,null,{"$f":"IF(G10196=\"\",\"\",VLOOKUP(G10196,'Lista de precios'!$B$7:$C$5000,2,0))","v":""}]
[null,null,"",null,null,null,null,{"$f":"IF(G10197=\"\",\"\",VLOOKUP(G10197,'Lista de precios'!$B$7:$C$5000,2,0))","v":""}]
[null,null,"",null,null,null,null,{"$f":"IF(G10198=\"\",\"\",VLOOKUP(G10198,'Lista de precios'!$B$7:$C$5000,2,0))","v":""}]
[null,null,"",null,null,null,null,{"$f":"IF(G10199=\"\",\"\",VLOOKUP(G10199,'Lista de precios'!$B$7:$C$5000,2,0))","v":""}]
[null,null,"",null,null,null,null,{"$f":"IF(G10200=\"\",\"\",VLOOKUP(G10200,'Lista de precios'!$B$7:$C$5000,2,0))","v":""}]
[null,null,"",null,null,null,null,{"$f":"IF(G10201=\"\",\"\",VLOOKUP(G10201,'Lista de precios'!$B$7:$C$5000,2,0))","v":""}]
[null,null,"",null,null,null,null,{"$f":"IF(G10202=\"\",\"\",VLOOKUP(G10202,'Lista de precios'!$B$7:$C$5000,2,0))","v":""}]
[null,null,"",null,null,null,null,{"$f":"IF(G10203=\"\",\"\",VLOOKUP(G10203,'Lista de precios'!$B$7:$C$5000,2,0))","v":""}]
[null,null,"",null,null,null,null,{"$f":"IF(G10204=\"\",\"\",VLOOKUP(G10204,'Lista de precios'!$B$7:$C$5000,2,0))","v":""}]
[null,null,"",null,null,null,null,{"$f":"IF(G10205=\"\",\"\",VLOOKUP(G10205,'Lista de precios'!$B$7:$C$5000,2,0))","v":""}]
[null,null,"",null,null,null,null,{"$f":"IF(G10206=\"\",\"\",VLOOKUP(G10206,'Lista de precios'!$B$7:$C$5000,2,0))","v":""}]
[null,null,"",null,null,null,null,{"$f":"IF(G10207=\"\",\"\",VLOOKUP(G10207,'Lista de precios'!$B$7:$C$5000,2,0))","v":""}]
[null,null,"",null,null,null,null,{"$f":"IF(G10208=\"\",\"\",VLOOKUP(G10208,'Lista de precios'!$B$7:$C$5000,2,0))","v":""}]
[null,null,"",null,null,null,null,{"$f":"IF(G10209=\"\",\"\",VLOOKUP(G10209,'Lista de precios'!$B$7:$C$5000,2,0))","v":""}]
[null,null,"",null,null,null,null,{"$f":"IF(G10210=\"\",\"\",VLOOKUP(G10210,'Lista de precios'!$B$7:$C$5000,2,0))","v":""}]
[null,null,"",null,null,null,null,{"$f":"IF(G10211=\"\",\"\",VLOOKUP(G10211,'Lista de precios'!$B$7:$C$5000,2,0))","v":""}]
[null,null,"",null,null,null,null,{"$f":"IF(G10212=\"\",\"\",VLOOKUP(G10212,'Lista de precios'!$B$7:$C$5000,2,0))","v":""}]
[null,null,"",null,null,null,null,{"$f":"IF(G10213=\"\",\"\",VLOOKUP(G10213,'Lista de precios'!$B$7:$C$5000,2,0))","v":""}]
[null,null,"",null,null,null,null,{"$f":"IF(G10214=\"\",\"\",VLOOKUP(G10214,'Lista de precios'!$B$7:$C$5000,2,0))","v":""}]
[null,null,"",null,null,null,null,{"$f":"IF(G10215=\"\",\"\",VLOOKUP(G10215,'Lista de precios'!$B$7:$C$5000,2,0))","v":""}]
[null,null,"",null,null,null,null,{"$f":"IF(G10216=\"\",\"\",VLOOKUP(G10216,'Lista de precios'!$B$7:$C$5000,2,0))","v":""}]
[null,null,"",null,null,null,null,{"$f":"IF(G10217=\"\",\"\",VLOOKUP(G10217,'Lista de precios'!$B$7:$C$5000,2,0))","v":""}]
[null,null,"",null,null,null,null,{"$f":"IF(G10218=\"\",\"\",VLOOKUP(G10218,'Lista de precios'!$B$7:$C$5000,2,0))","v":""}]
[null,null,"",null,null,null,null,{"$f":"IF(G10219=\"\",\"\",VLOOKUP(G10219,'Lista de precios'!$B$7:$C$5000,2,0))","v":""}]
[null,null,"",null,null,null,null,{"$f":"IF(G10220=\"\",\"\",VLOOKUP(G10220,'Lista de precios'!$B$7:$C$5000,2,0))","v":""}]
[null,null,"",null,null,null,null,{"$f":"IF(G10221=\"\",\"\",VLOOKUP(G10221,'Lista de precios'!$B$7:$C$5000,2,0))","v":""}]
[null,null,"",null,null,null,null,{"$f":"IF(G10222=\"\",\"\",VLOOKUP(G10222,'Lista de precios'!$B$7:$C$5000,2,0))","v":""}]
[null,null,"",null,null,null,null,{"$f":"IF(G10223=\"\",\"\",VLOOKUP(G10223,'Lista de precios'!$B$7:$C$5000,2,0))","v":""}]
[null,null,"",null,null,null,null,{"$f":"IF(G10224=\"\",\"\",VLOOKUP(G10224,'Lista de precios'!$B$7:$C$5000,2,0))","v":""}]
[null,null,"",null,null,null,null,{"$f":"IF(G10225=\"\",\"\",VLOOKUP(G10225,'Lista de precios'!$B$7:$C$5000,2,0))","v":""}]
[null,null,"",null,null,null,null,{"$f":"IF(G10226=\"\",\"\",VLOOKUP(G10226,'Lista de precios'!$B$7:$C$5000,2,0))","v":""}]
[null,null,"",null,null,null,null,{"$f":"IF(G10227=\"\",\"\",VLOOKUP(G10227,'Lista de precios'!$B$7:$C$5000,2,0))","v":""}]
[null,null,"",null,null,null,null,{"$f":"IF(G10228=\"\",\"\",VLOOKUP(G10228,'Lista de precios'!$B$7:$C$5000,2,0))","v":""}]
[null,null,"",null,null,null,null,{"$f":"IF(G10229=\"\",\"\",VLOOKUP(G10229,'Lista de precios'!$B$7:$C$5000,2,0))","v":""}]
[null,null,"",null,null,null,null,{"$f":"IF(G10230=\"\",\"\",VLOOKUP(G10230,'Lista de precios'!$B$7:$C$5000,2,0))","v":""}]
[null,null,"",null,null,null,null,{"$f":"IF(G10231=\"\",\"\",VLOOKUP(G10231,'Lista de precios'!$B$7:$C$5000,2,0))","v":""}]
[null,null,"",null,null,null,null,{"$f":"IF(G10232=\"\",\"\",VLOOKUP(G10232,'Lista de precios'!$B$7:$C$5000,2,0))","v":""}]
[null,null,"",null,null,null,null,{"$f":"IF(G10233=\"\",\"\",VLOOKUP(G10233,'Lista de precios'!$B$7:$C$5000,2,0))","v":""}]
[null,null,"",null,null,null,null,{"$f":"IF(G10234=\"\",\"\",VLOOKUP(G10234,'Lista de precios'!$B$7:$C$5000,2,0))","v":""}]
[null,null,"",null,null,null,null,{"$f":"IF(G10235=\"\",\"\",VLOOKUP(G10235,'Lista de precios'!$B$7:$C$5000,2,0))","v":""}]
[null,null,"",null,null,null,null,{"$f":"IF(G10236=\"\",\"\",VLOOKUP(G10236,'Lista de precios'!$B$7:$C$5000,2,0))","v":""}]
[null,null,"",null,null,null,null,{"$f":"IF(G10237=\"\",\"\",VLOOKUP(G10237,'Lista de precios'!$B$7:$C$5000,2,0))","v":""}]
[null,null,"",null,null,null,null,{"$f":"IF(G10238=\"\",\"\",VLOOKUP(G10238,'Lista de precios'!$B$7:$C$5000,2,0))","v":""}]
[null,null,"",null,null,null,null,{"$f":"IF(G10239=\"\",\"\",VLOOKUP(G10239,'Lista de precios'!$B$7:$C$5000,2,0))","v":""}]
[null,null,"",null,null,null,null,{"$f":"IF(G10240=\"\",\"\",VLOOKUP(G10240,'Lista de precios'!$B$7:$C$5000,2,0))","v":""}]
[null,null,"",null,null,null,null,{"$f":"IF(G10241=\"\",\"\",VLOOKUP(G10241,'Lista de precios'!$B$7:$C$5000,2,0))","v":""}]
[null,null,"",null,null,null,null,{"$f":"IF(G10242=\"\",\"\",VLOOKUP(G10242,'Lista de precios'!$B$7:$C$5000,2,0))","v":""}]
[null,null,"",null,null,null,null,{"$f":"IF(G10243=\"\",\"\",VLOOKUP(G10243,'Lista de precios'!$B$7:$C$5000,2,0))","v":""}]
[null,null,"",null,null,null,null,{"$f":"IF(G10244=\"\",\"\",VLOOKUP(G10244,'Lista de precios'!$B$7:$C$5000,2,0))","v":""}]
[null,null,"",null,null,null,null,{"$f":"IF(G10245=\"\",\"\",VLOOKUP(G10245,'Lista de precios'!$B$7:$C$5000,2,0))","v":""}]
[null,null,"",null,null,null,null,{"$f":"IF(G10246=\"\",\"\",VLOOKUP(G10246,'Lista de precios'!$B$7:$C$5000,2,0))","v":""}]
[null,null,"",null,null,null,null,{"$f":"IF(G10247=\"\",\"\",VLOOKUP(G10247,'Lista de precios'!$B$7:$C$5000,2,0))","v":""}]
[null,null,"",null,null,null,null,{"$f":"IF(G10248=\"\",\"\",VLOOKUP(G10248,'Lista de precios'!$B$7:$C$5000,2,0))","v":""}]
[null,null,"",null,null,null,null,{"$f":"IF(G10249=\"\",\"\",VLOOKUP(G10249,'Lista de precios'!$B$7:$C$5000,2,0))","v":""}]
[null,null,"",null,null,null,null,{"$f":"IF(G10250=\"\",\"\",VLOOKUP(G10250,'Lista de precios'!$B$7:$C$5000,2,0))","v":""}]
[null,null,"",null,null,null,null,{"$f":"IF(G10251=\"\",\"\",VLOOKUP(G10251,'Lista de precios'!$B$7:$C$5000,2,0))","v":""}]
[null,null,{"$f":"IF(B10252=\"\",\"\",TEXT(B10252,\"Mmmm\"))","v":""},null,null,null,null,{"$f":"IF(G10252=\"\",\"\",VLOOKUP(G10252,'Lista de precios'!$B$7:$C$5000,2,0))","v":""}]
[null,null,"",null,null,null,null,{"$f":"IF(G10253=\"\",\"\",VLOOKUP(G10253,'Lista de precios'!$B$7:$C$5000,2,0))","v":""}]
[null,null,"",null,null,null,null,{"$f":"IF(G10254=\"\",\"\",VLOOKUP(G10254,'Lista de precios'!$B$7:$C$5000,2,0))","v":""}]
[null,null,"",null,null,null,null,{"$f":"IF(G10255=\"\",\"\",VLOOKUP(G10255,'Lista de precios'!$B$7:$C$5000,2,0))","v":""}]
[null,null,"",null,null,null,null,{"$f":"IF(G10256=\"\",\"\",VLOOKUP(G10256,'Lista de precios'!$B$7:$C$5000,2,0))","v":""}]
[null,null,"",null,null,null,null,{"$f":"IF(G10257=\"\",\"\",VLOOKUP(G10257,'Lista de precios'!$B$7:$C$5000,2,0))","v":""}]
[null,null,"",null,null,null,null,{"$f":"IF(G10258=\"\",\"\",VLOOKUP(G10258,'Lista de precios'!$B$7:$C$5000,2,0))","v":""}]
[null,null,"",null,null,null,null,{"$f":"IF(G10259=\"\",\"\",VLOOKUP(G10259,'Lista de precios'!$B$7:$C$5000,2,0))","v":""}]
[null,null,"",null,null,null,null,{"$f":"IF(G10260=\"\",\"\",VLOOKUP(G10260,'Lista de precios'!$B$7:$C$5000,2,0))","v":""}]
[null,null,"",null,null,null,null,{"$f":"IF(G10261=\"\",\"\",VLOOKUP(G10261,'Lista de precios'!$B$7:$C$5000,2,0))","v":""}]
[null,null,"",null,null,null,null,{"$f":"IF(G10262=\"\",\"\",VLOOKUP(G10262,'Lista de precios'!$B$7:$C$5000,2,0))","v":""}]
[null,null,"",null,null,null,null,{"$f":"IF(G10263=\"\",\"\",VLOOKUP(G10263,'Lista de precios'!$B$7:$C$5000,2,0))","v":""}]
[null,null,"",null,null,null,null,{"$f":"IF(G10264=\"\",\"\",VLOOKUP(G10264,'Lista de precios'!$B$7:$C$5000,2,0))","v":""}]
[null,null,"",null,null,null,null,{"$f":"IF(G10265=\"\",\"\",VLOOKUP(G10265,'Lista de precios'!$B$7:$C$5000,2,0))","v":""}]
[null,null,"",null,null,null,null,{"$f":"IF(G10266=\"\",\"\",VLOOKUP(G10266,'Lista de precios'!$B$7:$C$5000,2,0))","v":""}]
[null,null,"",null,null,null,null,{"$f":"IF(G10267=\"\",\"\",VLOOKUP(G10267,'Lista de precios'!$B$7:$C$5000,2,0))","v":""}]
[null,null,"",null,null,null,null,{"$f":"IF(G10268=\"\",\"\",VLOOKUP(G10268,'Lista de precios'!$B$7:$C$5000,2,0))","v":""}]
[null,null,"",null,null,null,null,{"$f":"IF(G10269=\"\",\"\",VLOOKUP(G10269,'Lista de precios'!$B$7:$C$5000,2,0))","v":""}]
[null,null,"",null,null,null,null,{"$f":"IF(G10270=\"\",\"\",VLOOKUP(G10270,'Lista de precios'!$B$7:$C$5000,2,0))","v":""}]
[null,null,"",null,null,null,null,{"$f":"IF(G10271=\"\",\"\",VLOOKUP(G10271,'Lista de precios'!$B$7:$C$5000,2,0))","v":""}]
[null,null,"",null,null,null,null,{"$f":"IF(G10272=\"\",\"\",VLOOKUP(G10272,'Lista de precios'!$B$7:$C$5000,2,0))","v":""}]
[null,null,"",null,null,null,null,{"$f":"IF(G10273=\"\",\"\",VLOOKUP(G10273,'Lista de precios'!$B$7:$C$5000,2,0))","v":""}]
[null,null,"",null,null,null,null,{"$f":"IF(G10274=\"\",\"\",VLOOKUP(G10274,'Lista de precios'!$B$7:$C$5000,2,0))","v":""}]
[null,null,"",null,null,null,null,{"$f":"IF(G10275=\"\",\"\",VLOOKUP(G10275,'Lista de precios'!$B$7:$C$5000,2,0))","v":""}]
[null,null,"",null,null,null,null,{"$f":"IF(G10276=\"\",\"\",VLOOKUP(G10276,'Lista de precios'!$B$7:$C$5000,2,0))","v":""}]
[null,null,"",null,null,null,null,{"$f":"IF(G10277=\"\",\"\",VLOOKUP(G10277,'Lista de precios'!$B$7:$C$5000,2,0))","v":""}]
[null,null,"",null,null,null,null,{"$f":"IF(G10278=\"\",\"\",VLOOKUP(G10278,'Lista de precios'!$B$7:$C$5000,2,0))","v":""}]
[null,null,"",null,null,null,null,{"$f":"IF(G10279=\"\",\"\",VLOOKUP(G10279,'Lista de precios'!$B$7:$C$5000,2,0))","v":""}]
[null,null,"",null,null,null,null,{"$f":"IF(G10280=\"\",\"\",VLOOKUP(G10280,'Lista de precios'!$B$7:$C$5000,2,0))","v":""}]
[null,null,"",null,null,null,null,{"$f":"IF(G10281=\"\",\"\",VLOOKUP(G10281,'Lista de precios'!$B$7:$C$5000,2,0))","v":""}]
[null,null,"",null,null,null,null,{"$f":"IF(G10282=\"\",\"\",VLOOKUP(G10282,'Lista de precios'!$B$7:$C$5000,2,0))","v":""}]
[null,null,"",null,null,null,null,{"$f":"IF(G10283=\"\",\"\",VLOOKUP(G10283,'Lista de precios'!$B$7:$C$5000,2,0))","v":""}]
[null,null,"",null,null,null,null,{"$f":"IF(G10284=\"\",\"\",VLOOKUP(G10284,'Lista de precios'!$B$7:$C$5000,2,0))","v":""}]
[null,null,"",null,null,null,null,{"$f":"IF(G10285=\"\",\"\",VLOOKUP(G10285,'Lista de precios'!$B$7:$C$5000,2,0))","v":""}]
[null,null,"",null,null,null,null,{"$f":"IF(G10286=\"\",\"\",VLOOKUP(G10286,'Lista de precios'!$B$7:$C$5000,2,0))","v":""}]
[null,null,"",null,null,null,null,{"$f":"IF(G10287=\"\",\"\",VLOOKUP(G10287,'Lista de precios'!$B$7:$C$5000,2,0))","v":""}]
[null,null,"",null,null,null,null,{"$f":"IF(G10288=\"\",\"\",VLOOKUP(G10288,'Lista de precios'!$B$7:$C$5000,2,0))","v":""}]
[null,null,"",null,null,null,null,{"$f":"IF(G10289=\"\",\"\",VLOOKUP(G10289,'Lista de precios'!$B$7:$C$5000,2,0))","v":""}]
[null,null,"",null,null,null,null,{"$f":"IF(G10290=\"\",\"\",VLOOKUP(G10290,'Lista de precios'!$B$7:$C$5000,2,0))","v":""}]
[null,null,"",null,null,null,null,{"$f":"IF(G10291=\"\",\"\",VLOOKUP(G10291,'Lista de precios'!$B$7:$C$5000,2,0))","v":""}]
[null,null,"",null,null,null,null,{"$f":"IF(G10292=\"\",\"\",VLOOKUP(G10292,'Lista de precios'!$B$7:$C$5000,2,0))","v":""}]
[null,null,"",null,null,null,null,{"$f":"IF(G10293=\"\",\"\",VLOOKUP(G10293,'Lista de precios'!$B$7:$C$5000,2,0))","v":""}]
[null,null,"",null,null,null,null,{"$f":"IF(G10294=\"\",\"\",VLOOKUP(G10294,'Lista de precios'!$B$7:$C$5000,2,0))","v":""}]
[null,null,"",null,null,null,null,{"$f":"IF(G10295=\"\",\"\",VLOOKUP(G10295,'Lista de precios'!$B$7:$C$5000,2,0))","v":""}]
[null,null,"",null,null,null,null,{"$f":"IF(G10296=\"\",\"\",VLOOKUP(G10296,'Lista de precios'!$B$7:$C$5000,2,0))","v":""}]
[null,null,"",null,null,null,null,{"$f":"IF(G10297=\"\",\"\",VLOOKUP(G10297,'Lista de precios'!$B$7:$C$5000,2,0))","v":""}]
[null,null,"",null,null,null,null,{"$f":"IF(G10298=\"\",\"\",VLOOKUP(G10298,'Lista de precios'!$B$7:$C$5000,2,0))","v":""}]
[null,null,"",null,null,null,null,{"$f":"IF(G10299=\"\",\"\",VLOOKUP(G10299,'Lista de precios'!$B$7:$C$5000,2,0))","v":""}]
[null,null,"",null,null,null,null,{"$f":"IF(G10300=\"\",\"\",VLOOKUP(G10300,'Lista de precios'!$B$7:$C$5000,2,0))","v":""}]
[null,null,"",null,null,null,null,{"$f":"IF(G10301=\"\",\"\",VLOOKUP(G10301,'Lista de precios'!$B$7:$C$5000,2,0))","v":""}]
[null,null,"",null,null,null,null,{"$f":"IF(G10302=\"\",\"\",VLOOKUP(G10302,'Lista de precios'!$B$7:$C$5000,2,0))","v":""}]
[null,null,"",null,null,null,null,{"$f":"IF(G10303=\"\",\"\",VLOOKUP(G10303,'Lista de precios'!$B$7:$C$5000,2,0))","v":""}]
[null,null,"",null,null,null,null,{"$f":"IF(G10304=\"\",\"\",VLOOKUP(G10304,'Lista de precios'!$B$7:$C$5000,2,0))","v":""}]
[null,null,"",null,null,null,null,{"$f":"IF(G10305=\"\",\"\",VLOOKUP(G10305,'Lista de precios'!$B$7:$C$5000,2,0))","v":""}]
[null,null,"",null,null,null,null,{"$f":"IF(G10306=\"\",\"\",VLOOKUP(G10306,'Lista de precios'!$B$7:$C$5000,2,0))","v":""}]
[null,null,"",null,null,null,null,{"$f":"IF(G10307=\"\",\"\",VLOOKUP(G10307,'Lista de precios'!$B$7:$C$5000,2,0))","v":""}]
[null,null,"",null,null,null,null,{"$f":"IF(G10308=\"\",\"\",VLOOKUP(G10308,'Lista de precios'!$B$7:$C$5000,2,0))","v":""}]
[null,null,"",null,null,null,null,{"$f":"IF(G10309=\"\",\"\",VLOOKUP(G10309,'Lista de precios'!$B$7:$C$5000,2,0))","v":""}]
[null,null,"",null,null,null,null,{"$f":"IF(G10310=\"\",\"\",VLOOKUP(G10310,'Lista de precios'!$B$7:$C$5000,2,0))","v":""}]
[null,null,"",null,null,null,null,{"$f":"IF(G10311=\"\",\"\",VLOOKUP(G10311,'Lista de precios'!$B$7:$C$5000,2,0))","v":""}]
[null,null,"",null,null,null,null,{"$f":"IF(G10312=\"\",\"\",VLOOKUP(G10312,'Lista de precios'!$B$7:$C$5000,2,0))","v":""}]
[null,null,"",null,null,null,null,{"$f":"IF(G10313=\"\",\"\",VLOOKUP(G10313,'Lista de precios'!$B$7:$C$5000,2,0))","v":""}]
[null,null,"",null,null,null,null,{"$f":"IF(G10314=\"\",\"\",VLOOKUP(G10314,'Lista de precios'!$B$7:$C$5000,2,0))","v":""}]
[null,null,"",null,null,null,null,{"$f":"IF(G10315=\"\",\"\",VLOOKUP(G10315,'Lista de precios'!$B$7:$C$5000,2,0))","v":""}]
[null,null,{"$f":"IF(B10316=\"\",\"\",TEXT(B10316,\"Mmmm\"))","v":""},null,null,null,null,{"$f":"IF(G10316=\"\",\"\",VLOOKUP(G10316,'Lista de precios'!$B$7:$C$5000,2,0))","v":""}]
[null,null,"",null,null,null,null,{"$f":"IF(G10317=\"\",\"\",VLOOKUP(G10317,'Lista de precios'!$B$7:$C$5000,2,0))","v":""}]
[null,null,"",null,null,null,null,{"$f":"IF(G10318=\"\",\"\",VLOOKUP(G10318,'Lista de precios'!$B$7:$C$5000,2,0))","v":""}]
[null,null,"",null,null,null,null,{"$f":"IF(G10319=\"\",\"\",VLOOKUP(G10319,'Lista de precios'!$B$7:$C$5000,2,0))","v":""}]
[null,null,"",null,null,null,null,{"$f":"IF(G10320=\"\",\"\",VLOOKUP(G10320,'Lista de precios'!$B$7:$C$5000,2,0))","v":""}]
[null,null,"",null,null,null,null,{"$f":"IF(G10321=\"\",\"\",VLOOKUP(G10321,'Lista de precios'!$B$7:$C$5000,2,0))","v":""}]
[null,null,"",null,null,null,null,{"$f":"IF(G10322=\"\",\"\",VLOOKUP(G10322,'Lista de precios'!$B$7:$C$5000,2,0))","v":""}]
[null,null,"",null,null,null,null,{"$f":"IF(G10323=\"\",\"\",VLOOKUP(G10323,'Lista de precios'!$B$7:$C$5000,2,0))","v":""}]
[null,null,"",null,null,null,null,{"$f":"IF(G10324=\"\",\"\",VLOOKUP(G10324,'Lista de precios'!$B$7:$C$5000,2,0))","v":""}]
[null,null,"",null,null,null,null,{"$f":"IF(G10325=\"\",\"\",VLOOKUP(G10325,'Lista de precios'!$B$7:$C$5000,2,0))","v":""}]
[null,null,"",null,null,null,null,{"$f":"IF(G10326=\"\",\"\",VLOOKUP(G10326,'Lista de precios'!$B$7:$C$5000,2,0))","v":""}]
[null,null,"",null,null,null,null,{"$f":"IF(G10327=\"\",\"\",VLOOKUP(G10327,'Lista de precios'!$B$7:$C$5000,2,0))","v":""}]
[null,null,"",null,null,null,null,{"$f":"IF(G10328=\"\",\"\",VLOOKUP(G10328,'Lista de precios'!$B$7:$C$5000,2,0))","v":""}]
[null,null,"",null,null,null,null,{"$f":"IF(G10329=\"\",\"\",VLOOKUP(G10329,'Lista de precios'!$B$7:$C$5000,2,0))","v":""}]
[null,null,"",null,null,null,null,{"$f":"IF(G10330=\"\",\"\",VLOOKUP(G10330,'Lista de precios'!$B$7:$C$5000,2,0))","v":""}]
[null,null,"",null,null,null,null,{"$f":"IF(G10331=\"\",\"\",VLOOKUP(G10331,'Lista de precios'!$B$7:$C$5000,2,0))","v":""}]
[null,null,"",null,null,null,null,{"$f":"IF(G10332=\"\",\"\",VLOOKUP(G10332,'Lista de precios'!$B$7:$C$5000,2,0))","v":""}]
[null,null,"",null,null,null,null,{"$f":"IF(G10333=\"\",\"\",VLOOKUP(G10333,'Lista de precios'!$B$7:$C$5000,2,0))","v":""}]
[null,null,"",null,null,null,null,{"$f":"IF(G10334=\"\",\"\",VLOOKUP(G10334,'Lista de precios'!$B$7:$C$5000,2,0))","v":""}]
[null,null,"",null,null,null,null,{"$f":"IF(G10335=\"\",\"\",VLOOKUP(G10335,'Lista de precios'!$B$7:$C$5000,2,0))","v":""}]
[null,null,"",null,null,null,null,{"$f":"IF(G10336=\"\",\"\",VLOOKUP(G10336,'Lista de precios'!$B$7:$C$5000,2,0))","v":""}]
[null,null,"",null,null,null,null,{"$f":"IF(G10337=\"\",\"\",VLOOKUP(G10337,'Lista de precios'!$B$7:$C$5000,2,0))","v":""}]
[null,null,"",null,null,null,null,{"$f":"IF(G10338=\"\",\"\",VLOOKUP(G10338,'Lista de precios'!$B$7:$C$5000,2,0))","v":""}]
[null,null,"",null,null,null,null,{"$f":"IF(G10339=\"\",\"\",VLOOKUP(G10339,'Lista de precios'!$B$7:$C$5000,2,0))","v":""}]
[null,null,"",null,null,null,null,{"$f":"IF(G10340=\"\",\"\",VLOOKUP(G10340,'Lista de precios'!$B$7:$C$5000,2,0))","v":""}]
[null,null,"",null,null,null,null,{"$f":"IF(G10341=\"\",\"\",VLOOKUP(G10341,'Lista de precios'!$B$7:$C$5000,2,0))","v":""}]
[null,null,"",null,null,null,null,{"$f":"IF(G10342=\"\",\"\",VLOOKUP(G10342,'Lista de precios'!$B$7:$C$5000,2,0))","v":""}]
[null,null,"",null,null,null,null,{"$f":"IF(G10343=\"\",\"\",VLOOKUP(G10343,'Lista de precios'!$B$7:$C$5000,2,0))","v":""}]
[null,null,"",null,null,null,null,{"$f":"IF(G10344=\"\",\"\",VLOOKUP(G10344,'Lista de precios'!$B$7:$C$5000,2,0))","v":""}]
[null,null,"",null,null,null,null,{"$f":"IF(G10345=\"\",\"\",VLOOKUP(G10345,'Lista de precios'!$B$7:$C$5000,2,0))","v":""}]
[null,null,"",null,null,null,null,{"$f":"IF(G10346=\"\",\"\",VLOOKUP(G10346,'Lista de precios'!$B$7:$C$5000,2,0))","v":""}]
[null,null,"",null,null,null,null,{"$f":"IF(G10347=\"\",\"\",VLOOKUP(G10347,'Lista de precios'!$B$7:$C$5000,2,0))","v":""}]
[null,null,"",null,null,null,null,{"$f":"IF(G10348=\"\",\"\",VLOOKUP(G10348,'Lista de precios'!$B$7:$C$5000,2,0))","v":""}]
[null,null,"",null,null,null,null,{"$f":"IF(G10349=\"\",\"\",VLOOKUP(G10349,'Lista de precios'!$B$7:$C$5000,2,0))","v":""}]
[null,null,"",null,null,null,null,{"$f":"IF(G10350=\"\",\"\",VLOOKUP(G10350,'Lista de precios'!$B$7:$C$5000,2,0))","v":""}]
[null,null,"",null,null,null,null,{"$f":"IF(G10351=\"\",\"\",VLOOKUP(G10351,'Lista de precios'!$B$7:$C$5000,2,0))","v":""}]
[null,null,"",null,null,null,null,{"$f":"IF(G10352=\"\",\"\",VLOOKUP(G10352,'Lista de precios'!$B$7:$C$5000,2,0))","v":""}]
[null,null,"",null,null,null,null,{"$f":"IF(G10353=\"\",\"\",VLOOKUP(G10353,'Lista de precios'!$B$7:$C$5000,2,0))","v":""}]
[null,null,"",null,null,null,null,{"$f":"IF(G10354=\"\",\"\",VLOOKUP(G10354,'Lista de precios'!$B$7:$C$5000,2,0))","v":""}]
[null,null,"",null,null,null,null,{"$f":"IF(G10355=\"\",\"\",VLOOKUP(G10355,'Lista de precios'!$B$7:$C$5000,2,0))","v":""}]
[null,null,"",null,null,null,null,{"$f":"IF(G10356=\"\",\"\",VLOOKUP(G10356,'Lista de precios'!$B$7:$C$5000,2,0))","v":""}]
[null,null,"",null,null,null,null,{"$f":"IF(G10357=\"\",\"\",VLOOKUP(G10357,'Lista de precios'!$B$7:$C$5000,2,0))","v":""}]
[null,null,"",null,null,null,null,{"$f":"IF(G10358=\"\",\"\",VLOOKUP(G10358,'Lista de precios'!$B$7:$C$5000,2,0))","v":""}]
[null,null,"",null,null,null,null,{"$f":"IF(G10359=\"\",\"\",VLOOKUP(G10359,'Lista de precios'!$B$7:$C$5000,2,0))","v":""}]
[null,null,"",null,null,null,null,{"$f":"IF(G10360=\"\",\"\",VLOOKUP(G10360,'Lista de precios'!$B$7:$C$5000,2,0))","v":""}]
[null,null,"",null,null,null,null,{"$f":"IF(G10361=\"\",\"\",VLOOKUP(G10361,'Lista de precios'!$B$7:$C$5000,2,0))","v":""}]
[null,null,"",null,null,null,null,{"$f":"IF(G10362=\"\",\"\",VLOOKUP(G10362,'Lista de precios'!$B$7:$C$5000,2,0))","v":""}]
[null,null,"",null,null,null,null,{"$f":"IF(G10363=\"\",\"\",VLOOKUP(G10363,'Lista de precios'!$B$7:$C$5000,2,0))","v":""}]
[null,null,"",null,null,null,null,{"$f":"IF(G10364=\"\",\"\",VLOOKUP(G10364,'Lista de precios'!$B$7:$C$5000,2,0))","v":""}]
[null,null,"",null,null,null,null,{"$f":"IF(G10365=\"\",\"\",VLOOKUP(G10365,'Lista de precios'!$B$7:$C$5000,2,0))","v":""}]
[null,null,"",null,null,null,null,{"$f":"IF(G10366=\"\",\"\",VLOOKUP(G10366,'Lista de precios'!$B$7:$C$5000,2,0))","v":""}]
[null,null,"",null,null,null,null,{"$f":"IF(G10367=\"\",\"\",VLOOKUP(G10367,'Lista de precios'!$B$7:$C$5000,2,0))","v":""}]
[null,null,"",null,null,null,null,{"$f":"IF(G10368=\"\",\"\",VLOOKUP(G10368,'Lista de precios'!$B$7:$C$5000,2,0))","v":""}]
[null,null,"",null,null,null,null,{"$f":"IF(G10369=\"\",\"\",VLOOKUP(G10369,'Lista de precios'!$B$7:$C$5000,2,0))","v":""}]
[null,null,"",null,null,null,null,{"$f":"IF(G10370=\"\",\"\",VLOOKUP(G10370,'Lista de precios'!$B$7:$C$5000,2,0))","v":""}]
[null,null,"",null,null,null,null,{"$f":"IF(G10371=\"\",\"\",VLOOKUP(G10371,'Lista de precios'!$B$7:$C$5000,2,0))","v":""}]
[null,null,"",null,null,null,null,{"$f":"IF(G10372=\"\",\"\",VLOOKUP(G10372,'Lista de precios'!$B$7:$C$5000,2,0))","v":""}]
[null,null,"",null,null,null,null,{"$f":"IF(G10373=\"\",\"\",VLOOKUP(G10373,'Lista de precios'!$B$7:$C$5000,2,0))","v":""}]
[null,null,"",null,null,null,null,{"$f":"IF(G10374=\"\",\"\",VLOOKUP(G10374,'Lista de precios'!$B$7:$C$5000,2,0))","v":""}]
[null,null,"",null,null,null,null,{"$f":"IF(G10375=\"\",\"\",VLOOKUP(G10375,'Lista de precios'!$B$7:$C$5000,2,0))","v":""}]
[null,null,"",null,null,null,null,{"$f":"IF(G10376=\"\",\"\",VLOOKUP(G10376,'Lista de precios'!$B$7:$C$5000,2,0))","v":""}]
[null,null,"",null,null,null,null,{"$f":"IF(G10377=\"\",\"\",VLOOKUP(G10377,'Lista de precios'!$B$7:$C$5000,2,0))","v":""}]
[null,null,"",null,null,null,null,{"$f":"IF(G10378=\"\",\"\",VLOOKUP(G10378,'Lista de precios'!$B$7:$C$5000,2,0))","v":""}]
[null,null,"",null,null,null,null,{"$f":"IF(G10379=\"\",\"\",VLOOKUP(G10379,'Lista de precios'!$B$7:$C$5000,2,0))","v":""}]
[null,null,{"$f":"IF(B10380=\"\",\"\",TEXT(B10380,\"Mmmm\"))","v":""},null,null,null,null,{"$f":"IF(G10380=\"\",\"\",VLOOKUP(G10380,'Lista de precios'!$B$7:$C$5000,2,0))","v":""}]
[null,null,"",null,null,null,null,{"$f":"IF(G10381=\"\",\"\",VLOOKUP(G10381,'Lista de precios'!$B$7:$C$5000,2,0))","v":""}]
[null,null,"",null,null,null,null,{"$f":"IF(G10382=\"\",\"\",VLOOKUP(G10382,'Lista de precios'!$B$7:$C$5000,2,0))","v":""}]
[null,null,"",null,null,null,null,{"$f":"IF(G10383=\"\",\"\",VLOOKUP(G10383,'Lista de precios'!$B$7:$C$5000,2,0))","v":""}]
[null,null,"",null,null,null,null,{"$f":"IF(G10384=\"\",\"\",VLOOKUP(G10384,'Lista de precios'!$B$7:$C$5000,2,0))","v":""}]
[null,null,"",null,null,null,null,{"$f":"IF(G10385=\"\",\"\",VLOOKUP(G10385,'Lista de precios'!$B$7:$C$5000,2,0))","v":""}]
[null,null,"",null,null,null,null,{"$f":"IF(G10386=\"\",\"\",VLOOKUP(G10386,'Lista de precios'!$B$7:$C$5000,2,0))","v":""}]
[null,null,"",null,null,null,null,{"$f":"IF(G10387=\"\",\"\",VLOOKUP(G10387,'Lista de precios'!$B$7:$C$5000,2,0))","v":""}]
[null,null,"",null,null,null,null,{"$f":"IF(G10388=\"\",\"\",VLOOKUP(G10388,'Lista de precios'!$B$7:$C$5000,2,0))","v":""}]
[null,null,"",null,null,null,null,{"$f":"IF(G10389=\"\",\"\",VLOOKUP(G10389,'Lista de precios'!$B$7:$C$5000,2,0))","v":""}]
[null,null,"",null,null,null,null,{"$f":"IF(G10390=\"\",\"\",VLOOKUP(G10390,'Lista de precios'!$B$7:$C$5000,2,0))","v":""}]
[null,null,"",null,null,null,null,{"$f":"IF(G10391=\"\",\"\",VLOOKUP(G10391,'Lista de precios'!$B$7:$C$5000,2,0))","v":""}]
[null,null,"",null,null,null,null,{"$f":"IF(G10392=\"\",\"\",VLOOKUP(G10392,'Lista de precios'!$B$7:$C$5000,2,0))","v":""}]
[null,null,"",null,null,null,null,{"$f":"IF(G10393=\"\",\"\",VLOOKUP(G10393,'Lista de precios'!$B$7:$C$5000,2,0))","v":""}]
[null,null,"",null,null,null,null,{"$f":"IF(G10394=\"\",\"\",VLOOKUP(G10394,'Lista de precios'!$B$7:$C$5000,2,0))","v":""}]
[null,null,"",null,null,null,null,{"$f":"IF(G10395=\"\",\"\",VLOOKUP(G10395,'Lista de precios'!$B$7:$C$5000,2,0))","v":""}]
[null,null,"",null,null,null,null,{"$f":"IF(G10396=\"\",\"\",VLOOKUP(G10396,'Lista de precios'!$B$7:$C$5000,2,0))","v":""}]
[null,null,"",null,null,null,null,{"$f":"IF(G10397=\"\",\"\",VLOOKUP(G10397,'Lista de precios'!$B$7:$C$5000,2,0))","v":""}]
[null,null,"",null,null,null,null,{"$f":"IF(G10398=\"\",\"\",VLOOKUP(G10398,'Lista de precios'!$B$7:$C$5000,2,0))","v":""}]
[null,null,"",null,null,null,null,{"$f":"IF(G10399=\"\",\"\",VLOOKUP(G10399,'Lista de precios'!$B$7:$C$5000,2,0))","v":""}]
[null,null,"",null,null,null,null,{"$f":"IF(G10400=\"\",\"\",VLOOKUP(G10400,'Lista de precios'!$B$7:$C$5000,2,0))","v":""}]
[null,null,"",null,null,null,null,{"$f":"IF(G10401=\"\",\"\",VLOOKUP(G10401,'Lista de precios'!$B$7:$C$5000,2,0))","v":""}]
[null,null,"",null,null,null,null,{"$f":"IF(G10402=\"\",\"\",VLOOKUP(G10402,'Lista de precios'!$B$7:$C$5000,2,0))","v":""}]
[null,null,"",null,null,null,null,{"$f":"IF(G10403=\"\",\"\",VLOOKUP(G10403,'Lista de precios'!$B$7:$C$5000,2,0))","v":""}]
[null,null,"",null,null,null,null,{"$f":"IF(G10404=\"\",\"\",VLOOKUP(G10404,'Lista de precios'!$B$7:$C$5000,2,0))","v":""}]
[null,null,"",null,null,null,null,{"$f":"IF(G10405=\"\",\"\",VLOOKUP(G10405,'Lista de precios'!$B$7:$C$5000,2,0))","v":""}]
[null,null,"",null,null,null,null,{"$f":"IF(G10406=\"\",\"\",VLOOKUP(G10406,'Lista de precios'!$B$7:$C$5000,2,0))","v":""}]
[null,null,"",null,null,null,null,{"$f":"IF(G10407=\"\",\"\",VLOOKUP(G10407,'Lista de precios'!$B$7:$C$5000,2,0))","v":""}]
[null,null,"",null,null,null,null,{"$f":"IF(G10408=\"\",\"\",VLOOKUP(G10408,'Lista de precios'!$B$7:$C$5000,2,0))","v":""}]
[null,null,"",null,null,null,null,{"$f":"IF(G10409=\"\",\"\",VLOOKUP(G10409,'Lista de precios'!$B$7:$C$5000,2,0))","v":""}]
[null,null,"",null,null,null,null,{"$f":"IF(G10410=\"\",\"\",VLOOKUP(G10410,'Lista de precios'!$B$7:$C$5000,2,0))","v":""}]
[null,null,"",null,null,null,null,{"$f":"IF(G10411=\"\",\"\",VLOOKUP(G10411,'Lista de precios'!$B$7:$C$5000,2,0))","v":""}]
[null,null,"",null,null,null,null,{"$f":"IF(G10412=\"\",\"\",VLOOKUP(G10412,'Lista de precios'!$B$7:$C$5000,2,0))","v":""}]
[null,null,"",null,null,null,null,{"$f":"IF(G10413=\"\",\"\",VLOOKUP(G10413,'Lista de precios'!$B$7:$C$5000,2,0))","v":""}]
[null,null,"",null,null,null,null,{"$f":"IF(G10414=\"\",\"\",VLOOKUP(G10414,'Lista de precios'!$B$7:$C$5000,2,0))","v":""}]
[null,null,"",null,null,null,null,{"$f":"IF(G10415=\"\",\"\",VLOOKUP(G10415,'Lista de precios'!$B$7:$C$5000,2,0))","v":""}]
[null,null,"",null,null,null,null,{"$f":"IF(G10416=\"\",\"\",VLOOKUP(G10416,'Lista de precios'!$B$7:$C$5000,2,0))","v":""}]
[null,null,"",null,null,null,null,{"$f":"IF(G10417=\"\",\"\",VLOOKUP(G10417,'Lista de precios'!$B$7:$C$5000,2,0))","v":""}]
[null,null,"",null,null,null,null,{"$f":"IF(G10418=\"\",\"\",VLOOKUP(G10418,'Lista de precios'!$B$7:$C$5000,2,0))","v":""}]
[null,null,"",null,null,null,null,{"$f":"IF(G10419=\"\",\"\",VLOOKUP(G10419,'Lista de precios'!$B$7:$C$5000,2,0))","v":""}]
[null,null,"",null,null,null,null,{"$f":"IF(G10420=\"\",\"\",VLOOKUP(G10420,'Lista de precios'!$B$7:$C$5000,2,0))","v":""}]
[null,null,"",null,null,null,null,{"$f":"IF(G10421=\"\",\"\",VLOOKUP(G10421,'Lista de precios'!$B$7:$C$5000,2,0))","v":""}]
[null,null,"",null,null,null,null,{"$f":"IF(G10422=\"\",\"\",VLOOKUP(G10422,'Lista de precios'!$B$7:$C$5000,2,0))","v":""}]
[null,null,"",null,null,null,null,{"$f":"IF(G10423=\"\",\"\",VLOOKUP(G10423,'Lista de precios'!$B$7:$C$5000,2,0))","v":""}]
[null,null,"",null,null,null,null,{"$f":"IF(G10424=\"\",\"\",VLOOKUP(G10424,'Lista de precios'!$B$7:$C$5000,2,0))","v":""}]
[null,null,"",null,null,null,null,{"$f":"IF(G10425=\"\",\"\",VLOOKUP(G10425,'Lista de precios'!$B$7:$C$5000,2,0))","v":""}]
[null,null,"",null,null,null,null,{"$f":"IF(G10426=\"\",\"\",VLOOKUP(G10426,'Lista de precios'!$B$7:$C$5000,2,0))","v":""}]
[null,null,"",null,null,null,null,{"$f":"IF(G10427=\"\",\"\",VLOOKUP(G10427,'Lista de precios'!$B$7:$C$5000,2,0))","v":""}]
[null,null,"",null,null,null,null,{"$f":"IF(G10428=\"\",\"\",VLOOKUP(G10428,'Lista de precios'!$B$7:$C$5000,2,0))","v":""}]
[null,null,"",null,null,null,null,{"$f":"IF(G10429=\"\",\"\",VLOOKUP(G10429,'Lista de precios'!$B$7:$C$5000,2,0))","v":""}]
[null,null,"",null,null,null,null,{"$f":"IF(G10430=\"\",\"\",VLOOKUP(G10430,'Lista de precios'!$B$7:$C$5000,2,0))","v":""}]
[null,null,"",null,null,null,null,{"$f":"IF(G10431=\"\",\"\",VLOOKUP(G10431,'Lista de precios'!$B$7:$C$5000,2,0))","v":""}]
[null,null,"",null,null,null,null,{"$f":"IF(G10432=\"\",\"\",VLOOKUP(G10432,'Lista de precios'!$B$7:$C$5000,2,0))","v":""}]
[null,null,"",null,null,null,null,{"$f":"IF(G10433=\"\",\"\",VLOOKUP(G10433,'Lista de precios'!$B$7:$C$5000,2,0))","v":""}]
[null,null,"",null,null,null,null,{"$f":"IF(G10434=\"\",\"\",VLOOKUP(G10434,'Lista de precios'!$B$7:$C$5000,2,0))","v":""}]
[null,null,"",null,null,null,null,{"$f":"IF(G10435=\"\",\"\",VLOOKUP(G10435,'Lista de precios'!$B$7:$C$5000,2,0))","v":""}]
[null,null,"",null,null,null,null,{"$f":"IF(G10436=\"\",\"\",VLOOKUP(G10436,'Lista de precios'!$B$7:$C$5000,2,0))","v":""}]
[null,null,"",null,null,null,null,{"$f":"IF(G10437=\"\",\"\",VLOOKUP(G10437,'Lista de precios'!$B$7:$C$5000,2,0))","v":""}]
[null,null,"",null,null,null,null,{"$f":"IF(G10438=\"\",\"\",VLOOKUP(G10438,'Lista de precios'!$B$7:$C$5000,2,0))","v":""}]
[null,null,"",null,null,null,null,{"$f":"IF(G10439=\"\",\"\",VLOOKUP(G10439,'Lista de precios'!$B$7:$C$5000,2,0))","v":""}]
[null,null,"",null,null,null,null,{"$f":"IF(G10440=\"\",\"\",VLOOKUP(G10440,'Lista de precios'!$B$7:$C$5000,2,0))","v":""}]
[null,null,"",null,null,null,null,{"$f":"IF(G10441=\"\",\"\",VLOOKUP(G10441,'Lista de precios'!$B$7:$C$5000,2,0))","v":""}]
[null,null,"",null,null,null,null,{"$f":"IF(G10442=\"\",\"\",VLOOKUP(G10442,'Lista de precios'!$B$7:$C$5000,2,0))","v":""}]
[null,null,"",null,null,null,null,{"$f":"IF(G10443=\"\",\"\",VLOOKUP(G10443,'Lista de precios'!$B$7:$C$5000,2,0))","v":""}]
[null,null,{"$f":"IF(B10444=\"\",\"\",TEXT(B10444,\"Mmmm\"))","v":""},null,null,null,null,{"$f":"IF(G10444=\"\",\"\",VLOOKUP(G10444,'Lista de precios'!$B$7:$C$5000,2,0))","v":""}]
[null,null,"",null,null,null,null,{"$f":"IF(G10445=\"\",\"\",VLOOKUP(G10445,'Lista de precios'!$B$7:$C$5000,2,0))","v":""}]
[null,null,"",null,null,null,null,{"$f":"IF(G10446=\"\",\"\",VLOOKUP(G10446,'Lista de precios'!$B$7:$C$5000,2,0))","v":""}]

{"sheet":"Cuenta Corriente","index":4,"n_rows":10,"n_cols":6,"rows_kept":10,"cut":false,"hidden":false,"merged":[[4,3,5,3],[7,1,7,5],[4,4,5,4],[4,2,5,2]]}
[]
[null,null,"Cliente ","Deportes el balon"]
[]
[null,null,"Vendido","Importe cobrado","Saldo Pendiente"]
[null,null,{"$f":"+SUMIF($D$11:$D$99989,$D$2,E$11:E$99989)","v":0},{"$f":"+SUMIF($D$11:$D$99989,$D$2,F$11:F$99989)","v":0},{"$f":"C5-D5","v":0}]
[]
[]
[null,"VENTAS Y COBROS"]
[]
[null,"PRESUPUESTO","FECHA","CLIENTE","IMPORTE PRESUPUESTADO","IMPORTE COBRADO"]

{"sheet":"Stock ","index":5,"n_rows":5,"n_cols":4,"rows_kept":5,"cut":false,"hidden":false,"merged":[]}
[]
[]
[null,"CODIGO","PRODUCTO","Saldo de Stock"]
[null,"(en blanco)"]
[null,"Total general"]

{"sheet":"Lista de precios","index":6,"n_rows":18,"n_cols":5,"rows_kept":18,"cut":false,"hidden":false,"merged":[[4,7,4,8],[2,1,2,4]]}
[]
[]
[null,"Listado de productos y precios"]
[]
[null,"CÓDIGO","PRODUCTO","PRECIO UNITARIO","MÍNIMO DE STOCK TOLERABLE"]
[]
[null,"osa15","Tela estampada rosa",200,2]
[null,"lla6","Tela estampada amarilla",360,3]
[null,"gra18","Tela estampada negra",120,1]
[null,"ral16","Tela Cachemira natural",211,1]
[null,"bra17","Tela Crepé zebra",382,5]
[null,"nca18","Dry Feet blanca",131,5]
[null,"zul20","Dry Feet azul",512,6]
[null,"eta1","Dry Feet violeta",11,7]
[null,"mel8","Gabardina camel",120,10]
[null,"gra8","Gabardina Negra",125,12]
[null,"zul3","Gabardina azul",126,13]
[null,"ris10","Gabardina gris",130,11]

{"sheet":"Clientes","index":7,"n_rows":8,"n_cols":8,"rows_kept":8,"cut":false,"hidden":false,"merged":[[2,1,2,7]]}
[]
[]
[null,"Datos de Clientes"]
[]
[null,"NOMBRE","LOCALIDAD","PROVINCIA","TELEFONO","EMAIL","DOMICILIO","CUIT"]
[]
[null,"Deportes el balon","CABA","CABA",4811111,"jm@ejemplo.com","Belgrano 120","30-xxx-xxx-2"]
[null,"La multimarca S.A","Chacabuco","Buenos Aires","6810 121","latienda@hotmail.com","Washington 891","30-XXX-101-1"]

{"sheet":"Stock","index":8,"n_rows":13,"n_cols":3,"rows_kept":13,"cut":false,"hidden":true,"merged":[]}
[]
[]
[]
[null,"Etiquetas de fila","Stock"]
[null,"USB",5]
[null,"2012-10-13",2]
[null,"2012-10-14",1]
[null,"2012-10-15",1]
[null,"2012-10-16",1]
[null,"Auriculares",2]
[null,"2012-10-15",1]
[null,"2012-10-16",1]
[null,"Total general",7]