{"text_format":"1","workbook":"xlsx","n_sheets":4,"sheets":["Cantidad de Acciones","Cotizaciones","Riesgo Mínimo","Rendimiento Máximo"],"not_rendered":{"charts":0,"images":2,"macros":1,"external_links":0,"defined_names":79,"comments":0,"pivot_tables":0},"unopened":[],"bounds":{"document_bytes":16777216,"sheet_cells":100000,"rows_first":2000,"rows_last":500,"rows_between":2000,"halvings":0,"cell_chars":16384,"cell_head_chars":4096},"cells_cut":0,"cells_raw":0,"read":"whole","date_system":"1900"}

{"sheet":"Cantidad de Acciones","index":0,"n_rows":15,"n_cols":13,"rows_kept":15,"cut":false,"hidden":false,"merged":[[4,1,5,1]]}
[]
[]
[]
[null,null,null,null,null,null,null,null,null,null,null,null,1]
[null,"Seleccione la Cantidad de Acciones de su Cartera",null,"Liste las Acciones",null,null,null,null,null,null,null,null,2]
[null,null,null,"Tenaris",null,null,null,null,null,null,null,null,3]
[null,null,null,"Galicia",null,null,null,null,null,null,null,null,4]
[null,"5",null,"YPF",null,null,null,null,null,null,null,null,5]
[null,null,null,"Edenor",null,null,null,null,null,null,null,null,6]
[null,null,null,"PESA",null,null,null,null,null,null,null,null,7]
[null,null,null,6,null,null,null,null,null,null,null,null,8]
[null,null,null,7,null,null,null,null,null,null,null,null,9]
[null,null,null,8,null,null,null,null,null,null,null,null,10]
[null,null,null,9]
[null,null,null,10]

{"sheet":"Cotizaciones","index":1,"n_rows":304,"n_cols":53,"rows_kept":304,"cut":false,"hidden":false,"merged":[[5,9,5,12],[6,9,7,9],[6,10,7,10],[6,12,7,12],[6,4,7,4],[6,5,7,5],[6,7,7,7],[5,4,5,7],[5,14,5,17],[6,14,7,14],[6,15,7,15],[6,17,7,17],[5,19,5,22],[6,19,7,19],[6,20,7,20],[6,22,7,22],[5,24,5,27],[6,24,7,24],[6,25,7,25],[6,27,7,27],[5,29,5,32],[6,29,7,29],[6,30,7,30],[6,32,7,32],[5,34,5,37],[6,34,7,34],[6,35,7,35],[6,37,7,37],[5,39,5,42],[6,39,7,39],[6,40,7,40],[6,42,7,42],[5,44,5,47],[6,44,7,44],[6,45,7,45],[6,47,7,47],[5,49,5,52],[6,49,7,49],[6,50,7,50],[6,52,7,52]]}
[]
[]
[]
[]
[]
[null,null,null,null,{"$f":"'Cantidad de Acciones'!D6","v":"Tenaris"},null,null,null,null,{"$f":"'Cantidad de Acciones'!D7","v":"Galicia"},null,null,null,null,{"$f":"'Cantidad de Acciones'!D8","v":"YPF"},null,null,null,null,{"$f":"'Cantidad de Acciones'!D9","v":"Edenor"},null,null,null,null,{"$f":"'Cantidad de Acciones'!D10","v":"PESA"},null,null,null,null,{"$f":"'Cantidad de Acciones'!D11","v":6},null,null,null,null,{"$f":"'Cantidad de Acciones'!D12","v":7},null,null,null,null,{"$f":"'Cantidad de Acciones'!D13","v":8},null,null,null,null,{"$f":"'Cantidad de Acciones'!D14","v":9},null,null,null,null,{"$f":"'Cantidad de Acciones'!D15","v":10}]
[null,null,null,null,"Cotización","Rendimiento","Rendimiento","Riesgo",null,"Cotización","Rendimiento","Rendimiento","Riesgo",null,"Cotización","Rendimiento","Rendimiento","Riesgo",null,"Cotización","Rendimiento","Rendimiento","Riesgo",null,"Cotización","Rendimiento","Rendimiento","Riesgo",null,"Cotización","Rendimiento","Rendimiento","Riesgo",null,"Cotización","Rendimiento","Rendimiento","Riesgo",null,"Cotización","Rendimiento","Rendimiento","Riesgo",null,"Cotización","Rendimiento","Rendimiento","Riesgo",null,"Cotización","Rendimiento","Rendimiento","Riesgo"]
[null,null,"Fecha",null,null,null,"Promedio",null,null,null,null,"Promedio",null,null,null,null,"Promedio",null,null,null,null,"Promedio",null,null,null,null,"Promedio",null,null,null,null,"Promedio",null,null,null,null,"Promedio",null,null,null,null,"Promedio",null,null,null,null,"Promedio",null,null,null,null,"Promedio"]
[null,null,"2015-11-13",null,101,null,null,null,null,50]
[null,null,"2015-11-14",null,102,{"$f":"IF(E10=\"\",\"\",+(E10-E9)/E9)","v":9.9009900990099011E-3},{"$f":"+F10","v":9.9009900990099011E-3},null,null,51,{"$f":"IF(J10=\"\",\"\",+(J10-J9)/J9)","v":0.02},{"$f":"+K10","v":0.02},null,null,null,{"$f":"IF(O10=\"\",\"\",+(O10-O9)/O9)","v":""},{"$f":"+P10","v":""},null,null,null,{"$f":"IF(T10=\"\",\"\",+(T10-T9)/T9)","v":""},{"$f":"+U10","v":""},null,null,null,{"$f":"IF(Y10=\"\",\"\",+(Y10-Y9)/Y9)","v":""},{"$f":"+Z10","v":""},null,null,null,{"$f":"IF(AD10=\"\",\"\",+(AD10-AD9)/AD9)","v":""},{"$f":"+AE10","v":""},null,null,null,{"$f":"IF(AI10=\"\",\"\",+(AI10-AI9)/AI9)","v":""},{"$f":"+AJ10","v":""},null,null,null,{"$f":"IF(AN10=\"\",\"\",+(AN10-AN9)/AN9)","v":""},{"$f":"+AO10","v":""},null,null,null,{"$f":"IF(AS10=\"\",\"\",+(AS10-AS9)/AS9)","v":""},{"$f":"+AT10","v":""},null,null,null,{"$f":"IF(AX10=\"\",\"\",+(AX10-AX9)/AX9)","v":""},{"$f":"+AY10","v":""}]
[null,null,"2015-11-15",null,103,{"$f":"IF(E11=\"\",\"\",+(E11-E10)/E10)","v":9.8039215686274508E-3},{"$f":"IF(F11=\"\",0,AVERAGE($F$10:F11))","v":9.8524558338186768E-3},{"$f":"IF(F10=\"\",0,VAR($F$10:F11))","v":4.7111497953043353E-9},null,53,{"$f":"IF(J11=\"\",\"\",+(J11-J10)/J10)","v":3.9215686274509803E-2},{"$f":"IF(K11=\"\",0,AVERAGE($K$10:K11))","v":2.9607843137254904E-2},{"$f":"IF(K10=\"\",0,VAR($K$10:K11))","v":1.8462129950019206E-4},null,null,{"$f":"IF(O11=\"\",\"\",+(O11-O10)/O10)","v":""},{"$f":"IF(P11=\"\",0,AVERAGE(P$10:P11))","v":0},{"$f":"IF(P10=\"\",0,VAR(P$10:P11))","v":0},null,null,{"$f":"IF(T11=\"\",\"\",+(T11-T10)/T10)","v":""},{"$f":"IF(U11=\"\",0,AVERAGE(U$10:U11))","v":0},{"$f":"IF(U10=\"\",0,VAR(U$10:U11))","v":0},null,null,{"$f":"IF(Y11=\"\",\"\",+(Y11-Y10)/Y10)","v":""},{"$f":"IF(Z11=\"\",0,AVERAGE(Z$10:Z11))","v":0},{"$f":"IF(Z10=\"\",0,VAR(Z$10:Z11))","v":0},null,null,{"$f":"IF(AD11=\"\",\"\",+(AD11-AD10)/AD10)","v":""},{"$f":"IF(AE11=\"\",0,AVERAGE(AE$10:AE11))","v":0},{"$f":"IF(AE10=\"\",0,VAR(AE$10:AE11))","v":0},null,null,{"$f":"IF(AI11=\"\",\"\",+(AI11-AI10)/AI10)","v":""},{"$f":"IF(AJ11=\"\",0,AVERAGE(AJ$10:AJ11))","v":0},{"$f":"IF(AJ10=\"\",0,VAR(AJ$10:AJ11))","v":0},null,null,{"$f":"IF(AN11=\"\",\"\",+(AN11-AN10)/AN10)","v":""},{"$f":"IF(AO11=\"\",0,AVERAGE(AO$10:AO11))","v":0},{"$f":"IF(AO10=\"\",0,VAR(AO$10:AO11))","v":0},null,null,{"$f":"IF(AS11=\"\",\"\",+(AS11-AS10)/AS10)","v":""},{"$f":"IF(AT11=\"\",0,AVERAGE(AT$10:AT11))","v":0},{"$f":"IF(AT10=\"\",0,VAR(AT$10:AT11))","v":0},null,null,{"$f":"IF(AX11=\"\",\"\",+(AX11-AX10)/AX10)","v":""},{"$f":"IF(AY11=\"\",0,AVERAGE(AY$10:AY11))","v":0},{"$f":"IF(AY10=\"\",0,VAR(AY$10:AY11))","v":0}]
[null,null,"2015-11-16",null,104,9.7087378640776691E-3,{"$f":"IF(F12=\"\",0,AVERAGE($F$10:F12))","v":9.8045498439050076E-3},{"$f":"IF(F11=\"\",0,VAR($F$10:F12))","v":9.2405265064778278E-9},null,48,{"$f":"IF(J12=\"\",\"\",+(J12-J11)/J11)","v":-9.4339622641509441E-2},{"$f":"IF(K12=\"\",0,AVERAGE($K$10:K12))","v":-1.1707978788999878E-2},{"$f":"IF(K11=\"\",0,VAR($K$10:K12))","v":5.2133020740760816E-3},null,null,{"$f":"IF(O12=\"\",\"\",+(O12-O11)/O11)","v":""},{"$f":"IF(P12=\"\",0,AVERAGE(P$10:P12))","v":0},{"$f":"IF(P11=\"\",0,VAR(P$10:P12))","v":0},null,null,{"$f":"IF(T12=\"\",\"\",+(T12-T11)/T11)","v":""},{"$f":"IF(U12=\"\",0,AVERAGE(U$10:U12))","v":0},{"$f":"IF(U11=\"\",0,VAR(U$10:U12))","v":0},null,null,{"$f":"IF(Y12=\"\",\"\",+(Y12-Y11)/Y11)","v":""},{"$f":"IF(Z12=\"\",0,AVERAGE(Z$10:Z12))","v":0},{"$f":"IF(Z11=\"\",0,VAR(Z$10:Z12))","v":0},null,null,"",{"$f":"IF(AE12=\"\",0,AVERAGE(AE$10:AE12))","v":0},{"$f":"IF(AE11=\"\",0,VAR(AE$10:AE12))","v":0},null,null,"",{"$f":"IF(AJ12=\"\",0,AVERAGE(AJ$10:AJ12))","v":0},{"$f":"IF(AJ11=\"\",0,VAR(AJ$10:AJ12))","v":0},null,null,"",{"$f":"IF(AO12=\"\",0,AVERAGE(AO$10:AO12))","v":0},{"$f":"IF(AO11=\"\",0,VAR(AO$10:AO12))","v":0},null,null,"",{"$f":"IF(AT12=\"\",0,AVERAGE(AT$10:AT12))","v":0},{"$f":"IF(AT11=\"\",0,VAR(AT$10:AT12))","v":0},null,null,"",{"$f":"IF(AY12=\"\",0,AVERAGE(AY$10:AY12))","v":0},{"$f":"IF(AY11=\"\",0,VAR(AY$10:AY12))","v":0}]
[null,null,"2015-11-17",null,105,{"$f":"IF(E13=\"\",\"\",+(E13-E12)/E12)","v":9.6153846153846159E-3},{"$f":"IF(F13=\"\",0,AVERAGE($F$10:F13))","v":9.7572585367749105E-3},{"$f":"IF(F12=\"\",0,VAR($F$10:F13))","v":1.5106221924611498E-8},null,80,0.66666666666666663,{"$f":"IF(K13=\"\",0,AVERAGE($K$10:K13))","v":0.15788568257491675},{"$f":"IF(K12=\"\",0,VAR($K$10:K13))","v":0.11852357461532603},null,null,"",{"$f":"IF(P13=\"\",0,AVERAGE(P$10:P13))","v":0},{"$f":"IF(P12=\"\",0,VAR(P$10:P13))","v":0},null,null,"",{"$f":"IF(U13=\"\",0,AVERAGE(U$10:U13))","v":0},{"$f":"IF(U12=\"\",0,VAR(U$10:U13))","v":0},null,null,"",{"$f":"IF(Z13=\"\",0,AVERAGE(Z$10:Z13))","v":0},{"$f":"IF(Z12=\"\",0,VAR(Z$10:Z13))","v":0},null,null,"",{"$f":"IF(AE13=\"\",0,AVERAGE(AE$10:AE13))","v":0},{"$f":"IF(AE12=\"\",0,VAR(AE$10:AE13))","v":0},null,null,{"$f":"IF(AI13=\"\",\"\",+(AI13-AI12)/AI12)","v":""},{"$f":"IF(AJ13=\"\",0,AVERAGE(AJ$10:AJ13))","v":0},{"$f":"IF(AJ12=\"\",0,VAR(AJ$10:AJ13))","v":0},null,null,{"$f":"IF(AN13=\"\",\"\",+(AN13-AN12)/AN12)","v":""},{"$f":"IF(AO13=\"\",0,AVERAGE(AO$10:AO13))","v":0},{"$f":"IF(AO12=\"\",0,VAR(AO$10:AO13))","v":0},null,null,{"$f":"IF(AS13=\"\",\"\",+(AS13-AS12)/AS12)","v":""},{"$f":"IF(AT13=\"\",0,AVERAGE(AT$10:AT13))","v":0},{"$f":"IF(AT12=\"\",0,VAR(AT$10:AT13))","v":0},null,null,{"$f":"IF(AX13=\"\",\"\",+(AX13-AX12)/AX12)","v":""},{"$f":"IF(AY13=\"\",0,AVERAGE(AY$10:AY13))","v":0},{"$f":"IF(AY12=\"\",0,VAR(AY$10:AY13))","v":0}]
[null,null,null,null,null,"",{"$f":"IF(F14=\"\",0,AVERAGE($F$10:F14))","v":0},{"$f":"IF(F13=\"\",0,VAR($F$10:F14))","v":1.5106221924611498E-8},null,null,"",{"$f":"IF(K14=\"\",0,AVERAGE($K$10:K14))","v":0},{"$f":"IF(K13=\"\",0,VAR($K$10:K14))","v":0.11852357461532603},null,null,"",{"$f":"IF(P14=\"\",0,AVERAGE(P$10:P14))","v":0},{"$f":"IF(P13=\"\",0,VAR(P$10:P14))","v":0},null,null,{"$f":"IF(T14=\"\",\"\",+(T14-T13)/T13)","v":""},{"$f":"IF(U14=\"\",0,AVERAGE(U$10:U14))","v":0},{"$f":"IF(U13=\"\",0,VAR(U$10:U14))","v":0},null,null,"",{"$f":"IF(Z14=\"\",0,AVERAGE(Z$10:Z14))","v":0},{"$f":"IF(Z13=\"\",0,VAR(Z$10:Z14))","v":0},null,null,{"$f":"IF(AD14=\"\",\"\",+(AD14-AD13)/AD13)","v":""},{"$f":"IF(AE14=\"\",0,AVERAGE(AE$10:AE14))","v":0},{"$f":"IF(AE13=\"\",0,VAR(AE$10:AE14))","v":0},null,null,"",{"$f":"IF(AJ14=\"\",0,AVERAGE(AJ$10:AJ14))","v":0},{"$f":"IF(AJ13=\"\",0,VAR(AJ$10:AJ14))","v":0},null,null,"",{"$f":"IF(AO14=\"\",0,AVERAGE(AO$10:AO14))","v":0},{"$f":"IF(AO13=\"\",0,VAR(AO$10:AO14))","v":0},null,null,"",{"$f":"IF(AT14=\"\",0,AVERAGE(AT$10:AT14))","v":0},{"$f":"IF(AT13=\"\",0,VAR(AT$10:AT14))","v":0},null,null,"",{"$f":"IF(AY14=\"\",0,AVERAGE(AY$10:AY14))","v":0},{"$f":"IF(AY13=\"\",0,VAR(AY$10:AY14))","v":0}]
[null,null,null,null,null,null,{"$f":"IF(F15=\"\",0,AVERAGE($F$10:F15))","v":0},{"$f":"IF(F14=\"\",0,VAR($F$10:F15))","v":0},null,null,"",{"$f":"IF(K15=\"\",0,AVERAGE($K$10:K15))","v":0},{"$f":"IF(K14=\"\",0,VAR($K$10:K15))","v":0},null,null,"",{"$f":"IF(P15=\"\",0,AVERAGE(P$10:P15))","v":0},{"$f":"IF(P14=\"\",0,VAR(P$10:P15))","v":0},null,null,"",{"$f":"IF(U15=\"\",0,AVERAGE(U$10:U15))","v":0},{"$f":"IF(U14=\"\",0,VAR(U$10:U15))","v":0},null,null,"",{"$f":"IF(Z15=\"\",0,AVERAGE(Z$10:Z15))","v":0},{"$f":"IF(Z14=\"\",0,VAR(Z$10:Z15))","v":0},null,null,"",{"$f":"IF(AE15=\"\",0,AVERAGE(AE$10:AE15))","v":0},{"$f":"IF(AE14=\"\",0,VAR(AE$10:AE15))","v":0},null,null,"",{"$f":"IF(AJ15=\"\",0,AVERAGE(AJ$10:AJ15))","v":0},{"$f":"IF(AJ14=\"\",0,VAR(AJ$10:AJ15))","v":0},null,null,"",{"$f":"IF(AO15=\"\",0,AVERAGE(AO$10:AO15))","v":0},{"$f":"IF(AO14=\"\",0,VAR(AO$10:AO15))","v":0},null,null,"",{"$f":"IF(AT15=\"\",0,AVERAGE(AT$10:AT15))","v":0},{"$f":"IF(AT14=\"\",0,VAR(AT$10:AT15))","v":0},null,null,"",{"$f":"IF(AY15=\"\",0,AVERAGE(AY$10:AY15))","v":0},{"$f":"IF(AY14=\"\",0,VAR(AY$10:AY15))","v":0}]
[null,null,null,null,null,{"$f":"IF(E16=\"\",\"\",+(E16-E15)/E15)","v":""},{"$f":"IF(F16=\"\",0,AVERAGE($F$10:F16))","v":0},{"$f":"IF(F15=\"\",0,VAR($F$10:F16))","v":0},null,null,"",{"$f":"IF(K16=\"\",0,AVERAGE($K$10:K16))","v":0},{"$f":"IF(K15=\"\",0,VAR($K$10:K16))","v":0},null,null,"",{"$f":"IF(P16=\"\",0,AVERAGE(P$10:P16))","v":0},{"$f":"IF(P15=\"\",0,VAR(P$10:P16))","v":0},null,null,"",{"$f":"IF(U16=\"\",0,AVERAGE(U$10:U16))","v":0},{"$f":"IF(U15=\"\",0,VAR(U$10:U16))","v":0},null,null,"",{"$f":"IF(Z16=\"\",0,AVERAGE(Z$10:Z16))","v":0},{"$f":"IF(Z15=\"\",0,VAR(Z$10:Z16))","v":0},null,null,"",{"$f":"IF(AE16=\"\",0,AVERAGE(AE$10:AE16))","v":0},{"$f":"IF(AE15=\"\",0,VAR(AE$10:AE16))","v":0},null,null,"",{"$f":"IF(AJ16=\"\",0,AVERAGE(AJ$10:AJ16))","v":0},{"$f":"IF(AJ15=\"\",0,VAR(AJ$10:AJ16))","v":0},null,null,"",{"$f":"IF(AO16=\"\",0,AVERAGE(AO$10:AO16))","v":0},{"$f":"IF(AO15=\"\",0,VAR(AO$10:AO16))","v":0},null,null,"",{"$f":"IF(AT16=\"\",0,AVERAGE(AT$10:AT16))","v":0},{"$f":"IF(AT15=\"\",0,VAR(AT$10:AT16))","v":0},null,null,"",{"$f":"IF(AY16=\"\",0,AVERAGE(AY$10:AY16))","v":0},{"$f":"IF(AY15=\"\",0,VAR(AY$10:AY16))","v":0}]
[null,null,null,null,null,"",{"$f":"IF(F17=\"\",0,AVERAGE($F$10:F17))","v":0},{"$f":"IF(F16=\"\",0,VAR($F$10:F17))","v":0},null,null,"",{"$f":"IF(K17=\"\",0,AVERAGE($K$10:K17))","v":0},{"$f":"IF(K16=\"\",0,VAR($K$10:K17))","v":0},null,null,"",{"$f":"IF(P17=\"\",0,AVERAGE(P$10:P17))","v":0},{"$f":"IF(P16=\"\",0,VAR(P$10:P17))","v":0},null,null,"",{"$f":"IF(U17=\"\",0,AVERAGE(U$10:U17))","v":0},{"$f":"IF(U16=\"\",0,VAR(U$10:U17))","v":0},null,null,"",{"$f":"IF(Z17=\"\",0,AVERAGE(Z$10:Z17))","v":0},{"$f":"IF(Z16=\"\",0,VAR(Z$10:Z17))","v":0},null,null,"",{"$f":"IF(AE17=\"\",0,AVERAGE(AE$10:AE17))","v":0},{"$f":"IF(AE16=\"\",0,VAR(AE$10:AE17))","v":0},null,null,"",{"$f":"IF(AJ17=\"\",0,AVERAGE(AJ$10:AJ17))","v":0},{"$f":"IF(AJ16=\"\",0,VAR(AJ$10:AJ17))","v":0},null,null,"",{"$f":"IF(AO17=\"\",0,AVERAGE(AO$10:AO17))","v":0},{"$f":"IF(AO16=\"\",0,VAR(AO$10:AO17))","v":0},null,null,"",{"$f":"IF(AT17=\"\",0,AVERAGE(AT$10:AT17))","v":0},{"$f":"IF(AT16=\"\",0,VAR(AT$10:AT17))","v":0},null,null,"",{"$f":"IF(AY17=\"\",0,AVERAGE(AY$10:AY17))","v":0},{"$f":"IF(AY16=\"\",0,VAR(AY$10:AY17))","v":0}]
[null,null,null,null,null,null,{"$f":"IF(F18=\"\",0,AVERAGE($F$10:F18))","v":0},{"$f":"IF(F17=\"\",0,VAR($F$10:F18))","v":0},null,null,"",{"$f":"IF(K18=\"\",0,AVERAGE($K$10:K18))","v":0},{"$f":"IF(K17=\"\",0,VAR($K$10:K18))","v":0},null,null,"",{"$f":"IF(P18=\"\",0,AVERAGE(P$10:P18))","v":0},{"$f":"IF(P17=\"\",0,VAR(P$10:P18))","v":0},null,null,"",{"$f":"IF(U18=\"\",0,AVERAGE(U$10:U18))","v":0},{"$f":"IF(U17=\"\",0,VAR(U$10:U18))","v":0},null,null,"",{"$f":"IF(Z18=\"\",0,AVERAGE(Z$10:Z18))","v":0},{"$f":"IF(Z17=\"\",0,VAR(Z$10:Z18))","v":0},null,null,"",{"$f":"IF(AE18=\"\",0,AVERAGE(AE$10:AE18))","v":0},{"$f":"IF(AE17=\"\",0,VAR(AE$10:AE18))","v":0},null,null,"",{"$f":"IF(AJ18=\"\",0,AVERAGE(AJ$10:AJ18))","v":0},{"$f":"IF(AJ17=\"\",0,VAR(AJ$10:AJ18))","v":0},null,null,"",{"$f":"IF(AO18=\"\",0,AVERAGE(AO$10:AO18))","v":0},{"$f":"IF(AO17=\"\",0,VAR(AO$10:AO18))","v":0},null,null,"",{"$f":"IF(AT18=\"\",0,AVERAGE(AT$10:AT18))","v":0},{"$f":"IF(AT17=\"\",0,VAR(AT$10:AT18))","v":0},null,null,"",{"$f":"IF(AY18=\"\",0,AVERAGE(AY$10:AY18))","v":0},{"$f":"IF(AY17=\"\",0,VAR(AY$10:AY18))","v":0}]
[null,null,null,null,null,{"$f":"IF(E19=\"\",\"\",+(E19-E18)/E18)","v":""},{"$f":"IF(F19=\"\",0,AVERAGE($F$10:F19))","v":0},{"$f":"IF(F18=\"\",0,VAR($F$10:F19))","v":0},null,null,"",{"$f":"IF(K19=\"\",0,AVERAGE($K$10:K19))","v":0},{"$f":"IF(K18=\"\",0,VAR($K$10:K19))","v":0},null,null,"",{"$f":"IF(P19=\"\",0,AVERAGE(P$10:P19))","v":0},{"$f":"IF(P18=\"\",0,VAR(P$10:P19))","v":0},null,null,"",{"$f":"IF(U19=\"\",0,AVERAGE(U$10:U19))","v":0},{"$f":"IF(U18=\"\",0,VAR(U$10:U19))","v":0},null,null,"",{"$f":"IF(Z19=\"\",0,AVERAGE(Z$10:Z19))","v":0},{"$f":"IF(Z18=\"\",0,VAR(Z$10:Z19))","v":0},null,null,"",{"$f":"IF(AE19=\"\",0,AVERAGE(AE$10:AE19))","v":0},{"$f":"IF(AE18=\"\",0,VAR(AE$10:AE19))","v":0},null,null,"",{"$f":"IF(AJ19=\"\",0,AVERAGE(AJ$10:AJ19))","v":0},{"$f":"IF(AJ18=\"\",0,VAR(AJ$10:AJ19))","v":0},null,null,"",{"$f":"IF(AO19=\"\",0,AVERAGE(AO$10:AO19))","v":0},{"$f":"IF(AO18=\"\",0,VAR(AO$10:AO19))","v":0},null,null,"",{"$f":"IF(AT19=\"\",0,AVERAGE(AT$10:AT19))","v":0},{"$f":"IF(AT18=\"\",0,VAR(AT$10:AT19))","v":0},null,null,"",{"$f":"IF(AY19=\"\",0,AVERAGE(AY$10:AY19))","v":0},{"$f":"IF(AY18=\"\",0,VAR(AY$10:AY19))","v":0}]
[null,null,null,null,null,"",{"$f":"IF(F20=\"\",0,AVERAGE($F$10:F20))","v":0},{"$f":"IF(F19=\"\",0,VAR($F$10:F20))","v":0},null,null,"",{"$f":"IF(K20=\"\",0,AVERAGE($K$10:K20))","v":0},{"$f":"IF(K19=\"\",0,VAR($K$10:K20))","v":0},null,null,"",{"$f":"IF(P20=\"\",0,AVERAGE(P$10:P20))","v":0},{"$f":"IF(P19=\"\",0,VAR(P$10:P20))","v":0},null,null,"",{"$f":"IF(U20=\"\",0,AVERAGE(U$10:U20))","v":0},{"$f":"IF(U19=\"\",0,VAR(U$10:U20))","v":0},null,null,"",{"$f":"IF(Z20=\"\",0,AVERAGE(Z$10:Z20))","v":0},{"$f":"IF(Z19=\"\",0,VAR(Z$10:Z20))","v":0},null,null,"",{"$f":"IF(AE20=\"\",0,AVERAGE(AE$10:AE20))","v":0},{"$f":"IF(AE19=\"\",0,VAR(AE$10:AE20))","v":0},null,null,"",{"$f":"IF(AJ20=\"\",0,AVERAGE(AJ$10:AJ20))","v":0},{"$f":"IF(AJ19=\"\",0,VAR(AJ$10:AJ20))","v":0},null,null,"",{"$f":"IF(AO20=\"\",0,AVERAGE(AO$10:AO20))","v":0},{"$f":"IF(AO19=\"\",0,VAR(AO$10:AO20))","v":0},null,null,"",{"$f":"IF(AT20=\"\",0,AVERAGE(AT$10:AT20))","v":0},{"$f":"IF(AT19=\"\",0,VAR(AT$10:AT20))","v":0},null,null,"",{"$f":"IF(AY20=\"\",0,AVERAGE(AY$10:AY20))","v":0},{"$f":"IF(AY19=\"\",0,VAR(AY$10:AY20))","v":0}]
[null,null,null,null,null,null,{"$f":"IF(F21=\"\",0,AVERAGE($F$10:F21))","v":0},{"$f":"IF(F20=\"\",0,VAR($F$10:F21))","v":0},null,null,"",{"$f":"IF(K21=\"\",0,AVERAGE($K$10:K21))","v":0},{"$f":"IF(K20=\"\",0,VAR($K$10:K21))","v":0},null,null,"",{"$f":"IF(P21=\"\",0,AVERAGE(P$10:P21))","v":0},{"$f":"IF(P20=\"\",0,VAR(P$10:P21))","v":0},null,null,"",{"$f":"IF(U21=\"\",0,AVERAGE(U$10:U21))","v":0},{"$f":"IF(U20=\"\",0,VAR(U$10:U21))","v":0},null,null,"",{"$f":"IF(Z21=\"\",0,AVERAGE(Z$10:Z21))","v":0},{"$f":"IF(Z20=\"\",0,VAR(Z$10:Z21))","v":0},null,null,"",{"$f":"IF(AE21=\"\",0,AVERAGE(AE$10:AE21))","v":0},{"$f":"IF(AE20=\"\",0,VAR(AE$10:AE21))","v":0},null,null,"",{"$f":"IF(AJ21=\"\",0,AVERAGE(AJ$10:AJ21))","v":0},{"$f":"IF(AJ20=\"\",0,VAR(AJ$10:AJ21))","v":0},null,null,"",{"$f":"IF(AO21=\"\",0,AVERAGE(AO$10:AO21))","v":0},{"$f":"IF(AO20=\"\",0,VAR(AO$10:AO21))","v":0},null,null,"",{"$f":"IF(AT21=\"\",0,AVERAGE(AT$10:AT21))","v":0},{"$f":"IF(AT20=\"\",0,VAR(AT$10:AT21))","v":0},null,null,"",{"$f":"IF(AY21=\"\",0,AVERAGE(AY$10:AY21))","v":0},{"$f":"IF(AY20=\"\",0,VAR(AY$10:AY21))","v":0}]
[null,null,null,null,null,{"$f":"IF(E22=\"\",\"\",+(E22-E21)/E21)","v":""},{"$f":"IF(F22=\"\",0,AVERAGE($F$10:F22))","v":0},{"$f":"IF(F21=\"\",0,VAR($F$10:F22))","v":0},null,null,"",{"$f":"IF(K22=\"\",0,AVERAGE($K$10:K22))","v":0},{"$f":"IF(K21=\"\",0,VAR($K$10:K22))","v":0},null,null,"",{"$f":"IF(P22=\"\",0,AVERAGE(P$10:P22))","v":0},{"$f":"IF(P21=\"\",0,VAR(P$10:P22))","v":0},null,null,"",{"$f":"IF(U22=\"\",0,AVERAGE(U$10:U22))","v":0},{"$f":"IF(U21=\"\",0,VAR(U$10:U22))","v":0},null,null,"",{"$f":"IF(Z22=\"\",0,AVERAGE(Z$10:Z22))","v":0},{"$f":"IF(Z21=\"\",0,VAR(Z$10:Z22))","v":0},null,null,"",{"$f":"IF(AE22=\"\",0,AVERAGE(AE$10:AE22))","v":0},{"$f":"IF(AE21=\"\",0,VAR(AE$10:AE22))","v":0},null,null,"",{"$f":"IF(AJ22=\"\",0,AVERAGE(AJ$10:AJ22))","v":0},{"$f":"IF(AJ21=\"\",0,VAR(AJ$10:AJ22))","v":0},null,null,"",{"$f":"IF(AO22=\"\",0,AVERAGE(AO$10:AO22))","v":0},{"$f":"IF(AO21=\"\",0,VAR(AO$10:AO22))","v":0},null,null,"",{"$f":"IF(AT22=\"\",0,AVERAGE(AT$10:AT22))","v":0},{"$f":"IF(AT21=\"\",0,VAR(AT$10:AT22))","v":0},null,null,"",{"$f":"IF(AY22=\"\",0,AVERAGE(AY$10:AY22))","v":0},{"$f":"IF(AY21=\"\",0,VAR(AY$10:AY22))","v":0}]
[null,null,null,null,null,"",{"$f":"IF(F23=\"\",0,AVERAGE($F$10:F23))","v":0},{"$f":"IF(F22=\"\",0,VAR($F$10:F23))","v":0},null,null,"",{"$f":"IF(K23=\"\",0,AVERAGE($K$10:K23))","v":0},{"$f":"IF(K22=\"\",0,VAR($K$10:K23))","v":0},null,null,"",{"$f":"IF(P23=\"\",0,AVERAGE(P$10:P23))","v":0},{"$f":"IF(P22=\"\",0,VAR(P$10:P23))","v":0},null,null,"",{"$f":"IF(U23=\"\",0,AVERAGE(U$10:U23))","v":0},{"$f":"IF(U22=\"\",0,VAR(U$10:U23))","v":0},null,null,"",{"$f":"IF(Z23=\"\",0,AVERAGE(Z$10:Z23))","v":0},{"$f":"IF(Z22=\"\",0,VAR(Z$10:Z23))","v":0},null,null,"",{"$f":"IF(AE23=\"\",0,AVERAGE(AE$10:AE23))","v":0},{"$f":"IF(AE22=\"\",0,VAR(AE$10:AE23))","v":0},null,null,"",{"$f":"IF(AJ23=\"\",0,AVERAGE(AJ$10:AJ23))","v":0},{"$f":"IF(AJ22=\"\",0,VAR(AJ$10:AJ23))","v":0},null,null,"",{"$f":"IF(AO23=\"\",0,AVERAGE(AO$10:AO23))","v":0},{"$f":"IF(AO22=\"\",0,VAR(AO$10:AO23))","v":0},null,null,"",{"$f":"IF(AT23=\"\",0,AVERAGE(AT$10:AT23))","v":0},{"$f":"IF(AT22=\"\",0,VAR(AT$10:AT23))","v":0},null,null,"",{"$f":"IF(AY23=\"\",0,AVERAGE(AY$10:AY23))","v":0},{"$f":"IF(AY22=\"\",0,VAR(AY$10:AY23))","v":0}]
[null,null,null,null,null,null,{"$f":"IF(F24=\"\",0,AVERAGE($F$10:F24))","v":0},{"$f":"IF(F23=\"\",0,VAR($F$10:F24))","v":0},null,null,"",{"$f":"IF(K24=\"\",0,AVERAGE($K$10:K24))","v":0},{"$f":"IF(K23=\"\",0,VAR($K$10:K24))","v":0},null,null,"",{"$f":"IF(P24=\"\",0,AVERAGE(P$10:P24))","v":0},{"$f":"IF(P23=\"\",0,VAR(P$10:P24))","v":0},null,null,"",{"$f":"IF(U24=\"\",0,AVERAGE(U$10:U24))","v":0},{"$f":"IF(U23=\"\",0,VAR(U$10:U24))","v":0},null,null,"",{"$f":"IF(Z24=\"\",0,AVERAGE(Z$10:Z24))","v":0},{"$f":"IF(Z23=\"\",0,VAR(Z$10:Z24))","v":0},null,null,"",{"$f":"IF(AE24=\"\",0,AVERAGE(AE$10:AE24))","v":0},{"$f":"IF(AE23=\"\",0,VAR(AE$10:AE24))","v":0},null,null,"",{"$f":"IF(AJ24=\"\",0,AVERAGE(AJ$10:AJ24))","v":0},{"$f":"IF(AJ23=\"\",0,VAR(AJ$10:AJ24))","v":0},null,null,"",{"$f":"IF(AO24=\"\",0,AVERAGE(AO$10:AO24))","v":0},{"$f":"IF(AO23=\"\",0,VAR(AO$10:AO24))","v":0},null,null,"",{"$f":"IF(AT24=\"\",0,AVERAGE(AT$10:AT24))","v":0},{"$f":"IF(AT23=\"\",0,VAR(AT$10:AT24))","v":0},null,null,"",{"$f":"IF(AY24=\"\",0,AVERAGE(AY$10:AY24))","v":0},{"$f":"IF(AY23=\"\",0,VAR(AY$10:AY24))","v":0}]
[null,null,null,null,null,{"$f":"IF(E25=\"\",\"\",+(E25-E24)/E24)","v":""},{"$f":"IF(F25=\"\",0,AVERAGE($F$10:F25))","v":0},{"$f":"IF(F24=\"\",0,VAR($F$10:F25))","v":0},null,null,"",{"$f":"IF(K25=\"\",0,AVERAGE($K$10:K25))","v":0},{"$f":"IF(K24=\"\",0,VAR($K$10:K25))","v":0},null,null,"",{"$f":"IF(P25=\"\",0,AVERAGE(P$10:P25))","v":0},{"$f":"IF(P24=\"\",0,VAR(P$10:P25))","v":0},null,null,"",{"$f":"IF(U25=\"\",0,AVERAGE(U$10:U25))","v":0},{"$f":"IF(U24=\"\",0,VAR(U$10:U25))","v":0},null,null,"",{"$f":"IF(Z25=\"\",0,AVERAGE(Z$10:Z25))","v":0},{"$f":"IF(Z24=\"\",0,VAR(Z$10:Z25))","v":0},null,null,"",{"$f":"IF(AE25=\"\",0,AVERAGE(AE$10:AE25))","v":0},{"$f":"IF(AE24=\"\",0,VAR(AE$10:AE25))","v":0},null,null,"",{"$f":"IF(AJ25=\"\",0,AVERAGE(AJ$10:AJ25))","v":0},{"$f":"IF(AJ24=\"\",0,VAR(AJ$10:AJ25))","v":0},null,null,"",{"$f":"IF(AO25=\"\",0,AVERAGE(AO$10:AO25))","v":0},{"$f":"IF(AO24=\"\",0,VAR(AO$10:AO25))","v":0},null,null,"",{"$f":"IF(AT25=\"\",0,AVERAGE(AT$10:AT25))","v":0},{"$f":"IF(AT24=\"\",0,VAR(AT$10:AT25))","v":0},null,null,"",{"$f":"IF(AY25=\"\",0,AVERAGE(AY$10:AY25))","v":0},{"$f":"IF(AY24=\"\",0,VAR(AY$10:AY25))","v":0}]
[null,null,null,null,null,"",{"$f":"IF(F26=\"\",0,AVERAGE($F$10:F26))","v":0},{"$f":"IF(F25=\"\",0,VAR($F$10:F26))","v":0},null,null,"",{"$f":"IF(K26=\"\",0,AVERAGE($K$10:K26))","v":0},{"$f":"IF(K25=\"\",0,VAR($K$10:K26))","v":0},null,null,"",{"$f":"IF(P26=\"\",0,AVERAGE(P$10:P26))","v":0},{"$f":"IF(P25=\"\",0,VAR(P$10:P26))","v":0},null,null,"",{"$f":"IF(U26=\"\",0,AVERAGE(U$10:U26))","v":0},{"$f":"IF(U25=\"\",0,VAR(U$10:U26))","v":0},null,null,"",{"$f":"IF(Z26=\"\",0,AVERAGE(Z$10:Z26))","v":0},{"$f":"IF(Z25=\"\",0,VAR(Z$10:Z26))","v":0},null,null,"",{"$f":"IF(AE26=\"\",0,AVERAGE(AE$10:AE26))","v":0},{"$f":"IF(AE25=\"\",0,VAR(AE$10:AE26))","v":0},null,null,"",{"$f":"IF(AJ26=\"\",0,AVERAGE(AJ$10:AJ26))","v":0},{"$f":"IF(AJ25=\"\",0,VAR(AJ$10:AJ26))","v":0},null,null,"",{"$f":"IF(AO26=\"\",0,AVERAGE(AO$10:AO26))","v":0},{"$f":"IF(AO25=\"\",0,VAR(AO$10:AO26))","v":0},null,null,"",{"$f":"IF(AT26=\"\",0,AVERAGE(AT$10:AT26))","v":0},{"$f":"IF(AT25=\"\",0,VAR(AT$10:AT26))","v":0},null,null,"",{"$f":"IF(AY26=\"\",0,AVERAGE(AY$10:AY26))","v":0},{"$f":"IF(AY25=\"\",0,VAR(AY$10:AY26))","v":0}]
[null,null,null,null,null,null,{"$f":"IF(F27=\"\",0,AVERAGE($F$10:F27))","v":0},{"$f":"IF(F26=\"\",0,VAR($F$10:F27))","v":0},null,null,"",{"$f":"IF(K27=\"\",0,AVERAGE($K$10:K27))","v":0},{"$f":"IF(K26=\"\",0,VAR($K$10:K27))","v":0},null,null,"",{"$f":"IF(P27=\"\",0,AVERAGE(P$10:P27))","v":0},{"$f":"IF(P26=\"\",0,VAR(P$10:P27))","v":0},null,null,"",{"$f":"IF(U27=\"\",0,AVERAGE(U$10:U27))","v":0},{"$f":"IF(U26=\"\",0,VAR(U$10:U27))","v":0},null,null,"",{"$f":"IF(Z27=\"\",0,AVERAGE(Z$10:Z27))","v":0},{"$f":"IF(Z26=\"\",0,VAR(Z$10:Z27))","v":0},null,null,"",{"$f":"IF(AE27=\"\",0,AVERAGE(AE$10:AE27))","v":0},{"$f":"IF(AE26=\"\",0,VAR(AE$10:AE27))","v":0},null,null,"",{"$f":"IF(AJ27=\"\",0,AVERAGE(AJ$10:AJ27))","v":0},{"$f":"IF(AJ26=\"\",0,VAR(AJ$10:AJ27))","v":0},null,null,"",{"$f":"IF(AO27=\"\",0,AVERAGE(AO$10:AO27))","v":0},{"$f":"IF(AO26=\"\",0,VAR(AO$10:AO27))","v":0},null,null,"",{"$f":"IF(AT27=\"\",0,AVERAGE(AT$10:AT27))","v":0},{"$f":"IF(AT26=\"\",0,VAR(AT$10:AT27))","v":0},null,null,"",{"$f":"IF(AY27=\"\",0,AVERAGE(AY$10:AY27))","v":0},{"$f":"IF(AY26=\"\",0,VAR(AY$10:AY27))","v":0}]
[null,null,null,null,null,{"$f":"IF(E28=\"\",\"\",+(E28-E27)/E27)","v":""},{"$f":"IF(F28=\"\",0,AVERAGE($F$10:F28))","v":0},{"$f":"IF(F27=\"\",0,VAR($F$10:F28))","v":0},null,null,"",{"$f":"IF(K28=\"\",0,AVERAGE($K$10:K28))","v":0},{"$f":"IF(K27=\"\",0,VAR($K$10:K28))","v":0},null,null,"",{"$f":"IF(P28=\"\",0,AVERAGE(P$10:P28))","v":0},{"$f":"IF(P27=\"\",0,VAR(P$10:P28))","v":0},null,null,"",{"$f":"IF(U28=\"\",0,AVERAGE(U$10:U28))","v":0},{"$f":"IF(U27=\"\",0,VAR(U$10:U28))","v":0},null,null,"",{"$f":"IF(Z28=\"\",0,AVERAGE(Z$10:Z28))","v":0},{"$f":"IF(Z27=\"\",0,VAR(Z$10:Z28))","v":0},null,null,"",{"$f":"IF(AE28=\"\",0,AVERAGE(AE$10:AE28))","v":0},{"$f":"IF(AE27=\"\",0,VAR(AE$10:AE28))","v":0},null,null,"",{"$f":"IF(AJ28=\"\",0,AVERAGE(AJ$10:AJ28))","v":0},{"$f":"IF(AJ27=\"\",0,VAR(AJ$10:AJ28))","v":0},null,null,"",{"$f":"IF(AO28=\"\",0,AVERAGE(AO$10:AO28))","v":0},{"$f":"IF(AO27=\"\",0,VAR(AO$10:AO28))","v":0},null,null,"",{"$f":"IF(AT28=\"\",0,AVERAGE(AT$10:AT28))","v":0},{"$f":"IF(AT27=\"\",0,VAR(AT$10:AT28))","v":0},null,null,"",{"$f":"IF(AY28=\"\",0,AVERAGE(AY$10:AY28))","v":0},{"$f":"IF(AY27=\"\",0,VAR(AY$10:AY28))","v":0}]
[null,null,null,null,null,"",{"$f":"IF(F29=\"\",0,AVERAGE($F$10:F29))","v":0},{"$f":"IF(F28=\"\",0,VAR($F$10:F29))","v":0},null,null,"",{"$f":"IF(K29=\"\",0,AVERAGE($K$10:K29))","v":0},{"$f":"IF(K28=\"\",0,VAR($K$10:K29))","v":0},null,null,"",{"$f":"IF(P29=\"\",0,AVERAGE(P$10:P29))","v":0},{"$f":"IF(P28=\"\",0,VAR(P$10:P29))","v":0},null,null,"",{"$f":"IF(U29=\"\",0,AVERAGE(U$10:U29))","v":0},{"$f":"IF(U28=\"\",0,VAR(U$10:U29))","v":0},null,null,"",{"$f":"IF(Z29=\"\",0,AVERAGE(Z$10:Z29))","v":0},{"$f":"IF(Z28=\"\",0,VAR(Z$10:Z29))","v":0},null,null,"",{"$f":"IF(AE29=\"\",0,AVERAGE(AE$10:AE29))","v":0},{"$f":"IF(AE28=\"\",0,VAR(AE$10:AE29))","v":0},null,null,"",{"$f":"IF(AJ29=\"\",0,AVERAGE(AJ$10:AJ29))","v":0},{"$f":"IF(AJ28=\"\",0,VAR(AJ$10:AJ29))","v":0},null,null,"",{"$f":"IF(AO29=\"\",0,AVERAGE(AO$10:AO29))","v":0},{"$f":"IF(AO28=\"\",0,VAR(AO$10:AO29))","v":0},null,null,"",{"$f":"IF(AT29=\"\",0,AVERAGE(AT$10:AT29))","v":0},{"$f":"IF(AT28=\"\",0,VAR(AT$10:AT29))","v":0},null,null,"",{"$f":"IF(AY29=\"\",0,AVERAGE(AY$10:AY29))","v":0},{"$f":"IF(AY28=\"\",0,VAR(AY$10:AY29))","v":0}]
[null,null,null,null,null,null,{"$f":"IF(F30=\"\",0,AVERAGE($F$10:F30))","v":0},{"$f":"IF(F29=\"\",0,VAR($F$10:F30))","v":0},null,null,"",{"$f":"IF(K30=\"\",0,AVERAGE($K$10:K30))","v":0},{"$f":"IF(K29=\"\",0,VAR($K$10:K30))","v":0},null,null,"",{"$f":"IF(P30=\"\",0,AVERAGE(P$10:P30))","v":0},{"$f":"IF(P29=\"\",0,VAR(P$10:P30))","v":0},null,null,"",{"$f":"IF(U30=\"\",0,AVERAGE(U$10:U30))","v":0},{"$f":"IF(U29=\"\",0,VAR(U$10:U30))","v":0},null,null,"",{"$f":"IF(Z30=\"\",0,AVERAGE(Z$10:Z30))","v":0},{"$f":"IF(Z29=\"\",0,VAR(Z$10:Z30))","v":0},null,null,"",{"$f":"IF(AE30=\"\",0,AVERAGE(AE$10:AE30))","v":0},{"$f":"IF(AE29=\"\",0,VAR(AE$10:AE30))","v":0},null,null,"",{"$f":"IF(AJ30=\"\",0,AVERAGE(AJ$10:AJ30))","v":0},{"$f":"IF(AJ29=\"\",0,VAR(AJ$10:AJ30))","v":0},null,null,"",{"$f":"IF(AO30=\"\",0,AVERAGE(AO$10:AO30))","v":0},{"$f":"IF(AO29=\"\",0,VAR(AO$10:AO30))","v":0},null,null,"",{"$f":"IF(AT30=\"\",0,AVERAGE(AT$10:AT30))","v":0},{"$f":"IF(AT29=\"\",0,VAR(AT$10:AT30))","v":0},null,null,"",{"$f":"IF(AY30=\"\",0,AVERAGE(AY$10:AY30))","v":0},{"$f":"IF(AY29=\"\",0,VAR(AY$10:AY30))","v":0}]
[null,null,null,null,null,{"$f":"IF(E31=\"\",\"\",+(E31-E30)/E30)","v":""},{"$f":"IF(F31=\"\",0,AVERAGE($F$10:F31))","v":0},{"$f":"IF(F30=\"\",0,VAR($F$10:F31))","v":0},null,null,"",{"$f":"IF(K31=\"\",0,AVERAGE($K$10:K31))","v":0},{"$f":"IF(K30=\"\",0,VAR($K$10:K31))","v":0},null,null,"",{"$f":"IF(P31=\"\",0,AVERAGE(P$10:P31))","v":0},{"$f":"IF(P30=\"\",0,VAR(P$10:P31))","v":0},null,null,"",{"$f":"IF(U31=\"\",0,AVERAGE(U$10:U31))","v":0},{"$f":"IF(U30=\"\",0,VAR(U$10:U31))","v":0},null,null,"",{"$f":"IF(Z31=\"\",0,AVERAGE(Z$10:Z31))","v":0},{"$f":"IF(Z30=\"\",0,VAR(Z$10:Z31))","v":0},null,null,"",{"$f":"IF(AE31=\"\",0,AVERAGE(AE$10:AE31))","v":0},{"$f":"IF(AE30=\"\",0,VAR(AE$10:AE31))","v":0},null,null,"",{"$f":"IF(AJ31=\"\",0,AVERAGE(AJ$10:AJ31))","v":0},{"$f":"IF(AJ30=\"\",0,VAR(AJ$10:AJ31))","v":0},null,null,"",{"$f":"IF(AO31=\"\",0,AVERAGE(AO$10:AO31))","v":0},{"$f":"IF(AO30=\"\",0,VAR(AO$10:AO31))","v":0},null,null,"",{"$f":"IF(AT31=\"\",0,AVERAGE(AT$10:AT31))","v":0},{"$f":"IF(AT30=\"\",0,VAR(AT$10:AT31))","v":0},null,null,"",{"$f":"IF(AY31=\"\",0,AVERAGE(AY$10:AY31))","v":0},{"$f":"IF(AY30=\"\",0,VAR(AY$10:AY31))","v":0}]
[null,null,null,null,null,"",{"$f":"IF(F32=\"\",0,AVERAGE($F$10:F32))","v":0},{"$f":"IF(F31=\"\",0,VAR($F$10:F32))","v":0},null,null,"",{"$f":"IF(K32=\"\",0,AVERAGE($K$10:K32))","v":0},{"$f":"IF(K31=\"\",0,VAR($K$10:K32))","v":0},null,null,"",{"$f":"IF(P32=\"\",0,AVERAGE(P$10:P32))","v":0},{"$f":"IF(P31=\"\",0,VAR(P$10:P32))","v":0},null,null,"",{"$f":"IF(U32=\"\",0,AVERAGE(U$10:U32))","v":0},{"$f":"IF(U31=\"\",0,VAR(U$10:U32))","v":0},null,null,"",{"$f":"IF(Z32=\"\",0,AVERAGE(Z$10:Z32))","v":0},{"$f":"IF(Z31=\"\",0,VAR(Z$10:Z32))","v":0},null,null,"",{"$f":"IF(AE32=\"\",0,AVERAGE(AE$10:AE32))","v":0},{"$f":"IF(AE31=\"\",0,VAR(AE$10:AE32))","v":0},null,null,"",{"$f":"IF(AJ32=\"\",0,AVERAGE(AJ$10:AJ32))","v":0},{"$f":"IF(AJ31=\"\",0,VAR(AJ$10:AJ32))","v":0},null,null,"",{"$f":"IF(AO32=\"\",0,AVERAGE(AO$10:AO32))","v":0},{"$f":"IF(AO31=\"\",0,VAR(AO$10:AO32))","v":0},null,null,"",{"$f":"IF(AT32=\"\",0,AVERAGE(AT$10:AT32))","v":0},{"$f":"IF(AT31=\"\",0,VAR(AT$10:AT32))","v":0},null,null,"",{"$f":"IF(AY32=\"\",0,AVERAGE(AY$10:AY32))","v":0},{"$f":"IF(AY31=\"\",0,VAR(AY$10:AY32))","v":0}]
[null,null,null,null,null,null,{"$f":"IF(F33=\"\",0,AVERAGE($F$10:F33))","v":0},{"$f":"IF(F32=\"\",0,VAR($F$10:F33))","v":0},null,null,"",{"$f":"IF(K33=\"\",0,AVERAGE($K$10:K33))","v":0},{"$f":"IF(K32=\"\",0,VAR($K$10:K33))","v":0},null,null,"",{"$f":"IF(P33=\"\",0,AVERAGE(P$10:P33))","v":0},{"$f":"IF(P32=\"\",0,VAR(P$10:P33))","v":0},null,null,"",{"$f":"IF(U33=\"\",0,AVERAGE(U$10:U33))","v":0},{"$f":"IF(U32=\"\",0,VAR(U$10:U33))","v":0},null,null,"",{"$f":"IF(Z33=\"\",0,AVERAGE(Z$10:Z33))","v":0},{"$f":"IF(Z32=\"\",0,VAR(Z$10:Z33))","v":0},null,null,"",{"$f":"IF(AE33=\"\",0,AVERAGE(AE$10:AE33))","v":0},{"$f":"IF(AE32=\"\",0,VAR(AE$10:AE33))","v":0},null,null,"",{"$f":"IF(AJ33=\"\",0,AVERAGE(AJ$10:AJ33))","v":0},{"$f":"IF(AJ32=\"\",0,VAR(AJ$10:AJ33))","v":0},null,null,"",{"$f":"IF(AO33=\"\",0,AVERAGE(AO$10:AO33))","v":0},{"$f":"IF(AO32=\"\",0,VAR(AO$10:AO33))","v":0},null,null,"",{"$f":"IF(AT33=\"\",0,AVERAGE(AT$10:AT33))","v":0},{"$f":"IF(AT32=\"\",0,VAR(AT$10:AT33))","v":0},null,null,"",{"$f":"IF(AY33=\"\",0,AVERAGE(AY$10:AY33))","v":0},{"$f":"IF(AY32=\"\",0,VAR(AY$10:AY33))","v":0}]
[null,null,null,null,null,{"$f":"IF(E34=\"\",\"\",+(E34-E33)/E33)","v":""},{"$f":"IF(F34=\"\",0,AVERAGE($F$10:F34))","v":0},{"$f":"IF(F33=\"\",0,VAR($F$10:F34))","v":0},null,null,"",{"$f":"IF(K34=\"\",0,AVERAGE($K$10:K34))","v":0},{"$f":"IF(K33=\"\",0,VAR($K$10:K34))","v":0},null,null,"",{"$f":"IF(P34=\"\",0,AVERAGE(P$10:P34))","v":0},{"$f":"IF(P33=\"\",0,VAR(P$10:P34))","v":0},null,null,"",{"$f":"IF(U34=\"\",0,AVERAGE(U$10:U34))","v":0},{"$f":"IF(U33=\"\",0,VAR(U$10:U34))","v":0},null,null,"",{"$f":"IF(Z34=\"\",0,AVERAGE(Z$10:Z34))","v":0},{"$f":"IF(Z33=\"\",0,VAR(Z$10:Z34))","v":0},null,null,"",{"$f":"IF(AE34=\"\",0,AVERAGE(AE$10:AE34))","v":0},{"$f":"IF(AE33=\"\",0,VAR(AE$10:AE34))","v":0},null,null,"",{"$f":"IF(AJ34=\"\",0,AVERAGE(AJ$10:AJ34))","v":0},{"$f":"IF(AJ33=\"\",0,VAR(AJ$10:AJ34))","v":0},null,null,"",{"$f":"IF(AO34=\"\",0,AVERAGE(AO$10:AO34))","v":0},{"$f":"IF(AO33=\"\",0,VAR(AO$10:AO34))","v":0},null,null,"",{"$f":"IF(AT34=\"\",0,AVERAGE(AT$10:AT34))","v":0},{"$f":"IF(AT33=\"\",0,VAR(AT$10:AT34))","v":0},null,null,"",{"$f":"IF(AY34=\"\",0,AVERAGE(AY$10:AY34))","v":0},{"$f":"IF(AY33=\"\",0,VAR(AY$10:AY34))","v":0}]
[null,null,null,null,null,"",{"$f":"IF(F35=\"\",0,AVERAGE($F$10:F35))","v":0},{"$f":"IF(F34=\"\",0,VAR($F$10:F35))","v":0},null,null,"",{"$f":"IF(K35=\"\",0,AVERAGE($K$10:K35))","v":0},{"$f":"IF(K34=\"\",0,VAR($K$10:K35))","v":0},null,null,"",{"$f":"IF(P35=\"\",0,AVERAGE(P$10:P35))","v":0},{"$f":"IF(P34=\"\",0,VAR(P$10:P35))","v":0},null,null,"",{"$f":"IF(U35=\"\",0,AVERAGE(U$10:U35))","v":0},{"$f":"IF(U34=\"\",0,VAR(U$10:U35))","v":0},null,null,"",{"$f":"IF(Z35=\"\",0,AVERAGE(Z$10:Z35))","v":0},{"$f":"IF(Z34=\"\",0,VAR(Z$10:Z35))","v":0},null,null,"",{"$f":"IF(AE35=\"\",0,AVERAGE(AE$10:AE35))","v":0},{"$f":"IF(AE34=\"\",0,VAR(AE$10:AE35))","v":0},null,null,"",{"$f":"IF(AJ35=\"\",0,AVERAGE(AJ$10:AJ35))","v":0},{"$f":"IF(AJ34=\"\",0,VAR(AJ$10:AJ35))","v":0},null,null,"",{"$f":"IF(AO35=\"\",0,AVERAGE(AO$10:AO35))","v":0},{"$f":"IF(AO34=\"\",0,VAR(AO$10:AO35))","v":0},null,null,"",{"$f":"IF(AT35=\"\",0,AVERAGE(AT$10:AT35))","v":0},{"$f":"IF(AT34=\"\",0,VAR(AT$10:AT35))","v":0},null,null,"",{"$f":"IF(AY35=\"\",0,AVERAGE(AY$10:AY35))","v":0},{"$f":"IF(AY34=\"\",0,VAR(AY$10:AY35))","v":0}]
[null,null,null,null,null,null,{"$f":"IF(F36=\"\",0,AVERAGE($F$10:F36))","v":0},{"$f":"IF(F35=\"\",0,VAR($F$10:F36))","v":0},null,null,"",{"$f":"IF(K36=\"\",0,AVERAGE($K$10:K36))","v":0},{"$f":"IF(K35=\"\",0,VAR($K$10:K36))","v":0},null,null,"",{"$f":"IF(P36=\"\",0,AVERAGE(P$10:P36))","v":0},{"$f":"IF(P35=\"\",0,VAR(P$10:P36))","v":0},null,null,"",{"$f":"IF(U36=\"\",0,AVERAGE(U$10:U36))","v":0},{"$f":"IF(U35=\"\",0,VAR(U$10:U36))","v":0},null,null,"",{"$f":"IF(Z36=\"\",0,AVERAGE(Z$10:Z36))","v":0},{"$f":"IF(Z35=\"\",0,VAR(Z$10:Z36))","v":0},null,null,"",{"$f":"IF(AE36=\"\",0,AVERAGE(AE$10:AE36))","v":0},{"$f":"IF(AE35=\"\",0,VAR(AE$10:AE36))","v":0},null,null,"",{"$f":"IF(AJ36=\"\",0,AVERAGE(AJ$10:AJ36))","v":0},{"$f":"IF(AJ35=\"\",0,VAR(AJ$10:AJ36))","v":0},null,null,"",{"$f":"IF(AO36=\"\",0,AVERAGE(AO$10:AO36))","v":0},{"$f":"IF(AO35=\"\",0,VAR(AO$10:AO36))","v":0},null,null,"",{"$f":"IF(AT36=\"\",0,AVERAGE(AT$10:AT36))","v":0},{"$f":"IF(AT35=\"\",0,VAR(AT$10:AT36))","v":0},null,null,"",{"$f":"IF(AY36=\"\",0,AVERAGE(AY$10:AY36))","v":0},{"$f":"IF(AY35=\"\",0,VAR(AY$10:AY36))","v":0}]
[null,null,null,null,null,{"$f":"IF(E37=\"\",\"\",+(E37-E36)/E36)","v":""},{"$f":"IF(F37=\"\",0,AVERAGE($F$10:F37))","v":0},{"$f":"IF(F36=\"\",0,VAR($F$10:F37))","v":0},null,null,"",{"$f":"IF(K37=\"\",0,AVERAGE($K$10:K37))","v":0},{"$f":"IF(K36=\"\",0,VAR($K$10:K37))","v":0},null,null,"",{"$f":"IF(P37=\"\",0,AVERAGE(P$10:P37))","v":0},{"$f":"IF(P36=\"\",0,VAR(P$10:P37))","v":0},null,null,"",{"$f":"IF(U37=\"\",0,AVERAGE(U$10:U37))","v":0},{"$f":"IF(U36=\"\",0,VAR(U$10:U37))","v":0},null,null,"",{"$f":"IF(Z37=\"\",0,AVERAGE(Z$10:Z37))","v":0},{"$f":"IF(Z36=\"\",0,VAR(Z$10:Z37))","v":0},null,null,"",{"$f":"IF(AE37=\"\",0,AVERAGE(AE$10:AE37))","v":0},{"$f":"IF(AE36=\"\",0,VAR(AE$10:AE37))","v":0},null,null,"",{"$f":"IF(AJ37=\"\",0,AVERAGE(AJ$10:AJ37))","v":0},{"$f":"IF(AJ36=\"\",0,VAR(AJ$10:AJ37))","v":0},null,null,"",{"$f":"IF(AO37=\"\",0,AVERAGE(AO$10:AO37))","v":0},{"$f":"IF(AO36=\"\",0,VAR(AO$10:AO37))","v":0},null,null,"",{"$f":"IF(AT37=\"\",0,AVERAGE(AT$10:AT37))","v":0},{"$f":"IF(AT36=\"\",0,VAR(AT$10:AT37))","v":0},null,null,"",{"$f":"IF(AY37=\"\",0,AVERAGE(AY$10:AY37))","v":0},{"$f":"IF(AY36=\"\",0,VAR(AY$10:AY37))","v":0}]
[null,null,null,null,null,"",{"$f":"IF(F38=\"\",0,AVERAGE($F$10:F38))","v":0},{"$f":"IF(F37=\"\",0,VAR($F$10:F38))","v":0},null,null,"",{"$f":"IF(K38=\"\",0,AVERAGE($K$10:K38))","v":0},{"$f":"IF(K37=\"\",0,VAR($K$10:K38))","v":0},null,null,"",{"$f":"IF(P38=\"\",0,AVERAGE(P$10:P38))","v":0},{"$f":"IF(P37=\"\",0,VAR(P$10:P38))","v":0},null,null,"",{"$f":"IF(U38=\"\",0,AVERAGE(U$10:U38))","v":0},{"$f":"IF(U37=\"\",0,VAR(U$10:U38))","v":0},null,null,"",{"$f":"IF(Z38=\"\",0,AVERAGE(Z$10:Z38))","v":0},{"$f":"IF(Z37=\"\",0,VAR(Z$10:Z38))","v":0},null,null,"",{"$f":"IF(AE38=\"\",0,AVERAGE(AE$10:AE38))","v":0},{"$f":"IF(AE37=\"\",0,VAR(AE$10:AE38))","v":0},null,null,"",{"$f":"IF(AJ38=\"\",0,AVERAGE(AJ$10:AJ38))","v":0},{"$f":"IF(AJ37=\"\",0,VAR(AJ$10:AJ38))","v":0},null,null,"",{"$f":"IF(AO38=\"\",0,AVERAGE(AO$10:AO38))","v":0},{"$f":"IF(AO37=\"\",0,VAR(AO$10:AO38))","v":0},null,null,"",{"$f":"IF(AT38=\"\",0,AVERAGE(AT$10:AT38))","v":0},{"$f":"IF(AT37=\"\",0,VAR(AT$10:AT38))","v":0},null,null,"",{"$f":"IF(AY38=\"\",0,AVERAGE(AY$10:AY38))","v":0},{"$f":"IF(AY37=\"\",0,VAR(AY$10:AY38))","v":0}]
[null,null,null,null,null,null,{"$f":"IF(F39=\"\",0,AVERAGE($F$10:F39))","v":0},{"$f":"IF(F38=\"\",0,VAR($F$10:F39))","v":0},null,null,"",{"$f":"IF(K39=\"\",0,AVERAGE($K$10:K39))","v":0},{"$f":"IF(K38=\"\",0,VAR($K$10:K39))","v":0},null,null,"",{"$f":"IF(P39=\"\",0,AVERAGE(P$10:P39))","v":0},{"$f":"IF(P38=\"\",0,VAR(P$10:P39))","v":0},null,null,"",{"$f":"IF(U39=\"\",0,AVERAGE(U$10:U39))","v":0},{"$f":"IF(U38=\"\",0,VAR(U$10:U39))","v":0},null,null,"",{"$f":"IF(Z39=\"\",0,AVERAGE(Z$10:Z39))","v":0},{"$f":"IF(Z38=\"\",0,VAR(Z$10:Z39))","v":0},null,null,"",{"$f":"IF(AE39=\"\",0,AVERAGE(AE$10:AE39))","v":0},{"$f":"IF(AE38=\"\",0,VAR(AE$10:AE39))","v":0},null,null,"",{"$f":"IF(AJ39=\"\",0,AVERAGE(AJ$10:AJ39))","v":0},{"$f":"IF(AJ38=\"\",0,VAR(AJ$10:AJ39))","v":0},null,null,"",{"$f":"IF(AO39=\"\",0,AVERAGE(AO$10:AO39))","v":0},{"$f":"IF(AO38=\"\",0,VAR(AO$10:AO39))","v":0},null,null,"",{"$f":"IF(AT39=\"\",0,AVERAGE(AT$10:AT39))","v":0},{"$f":"IF(AT38=\"\",0,VAR(AT$10:AT39))","v":0},null,null,"",{"$f":"IF(AY39=\"\",0,AVERAGE(AY$10:AY39))","v":0},{"$f":"IF(AY38=\"\",0,VAR(AY$10:AY39))","v":0}]
[null,null,null,null,null,{"$f":"IF(E40=\"\",\"\",+(E40-E39)/E39)","v":""},{"$f":"IF(F40=\"\",0,AVERAGE($F$10:F40))","v":0},{"$f":"IF(F39=\"\",0,VAR($F$10:F40))","v":0},null,null,"",{"$f":"IF(K40=\"\",0,AVERAGE($K$10:K40))","v":0},{"$f":"IF(K39=\"\",0,VAR($K$10:K40))","v":0},null,null,"",{"$f":"IF(P40=\"\",0,AVERAGE(P$10:P40))","v":0},{"$f":"IF(P39=\"\",0,VAR(P$10:P40))","v":0},null,null,"",{"$f":"IF(U40=\"\",0,AVERAGE(U$10:U40))","v":0},{"$f":"IF(U39=\"\",0,VAR(U$10:U40))","v":0},null,null,"",{"$f":"IF(Z40=\"\",0,AVERAGE(Z$10:Z40))","v":0},{"$f":"IF(Z39=\"\",0,VAR(Z$10:Z40))","v":0},null,null,"",{"$f":"IF(AE40=\"\",0,AVERAGE(AE$10:AE40))","v":0},{"$f":"IF(AE39=\"\",0,VAR(AE$10:AE40))","v":0},null,null,"",{"$f":"IF(AJ40=\"\",0,AVERAGE(AJ$10:AJ40))","v":0},{"$f":"IF(AJ39=\"\",0,VAR(AJ$10:AJ40))","v":0},null,null,"",{"$f":"IF(AO40=\"\",0,AVERAGE(AO$10:AO40))","v":0},{"$f":"IF(AO39=\"\",0,VAR(AO$10:AO40))","v":0},null,null,"",{"$f":"IF(AT40=\"\",0,AVERAGE(AT$10:AT40))","v":0},{"$f":"IF(AT39=\"\",0,VAR(AT$10:AT40))","v":0},null,null,"",{"$f":"IF(AY40=\"\",0,AVERAGE(AY$10:AY40))","v":0},{"$f":"IF(AY39=\"\",0,VAR(AY$10:AY40))","v":0}]
[null,null,null,null,null,"",{"$f":"IF(F41=\"\",0,AVERAGE($F$10:F41))","v":0},{"$f":"IF(F40=\"\",0,VAR($F$10:F41))","v":0},null,null,"",{"$f":"IF(K41=\"\",0,AVERAGE($K$10:K41))","v":0},{"$f":"IF(K40=\"\",0,VAR($K$10:K41))","v":0},null,null,"",{"$f":"IF(P41=\"\",0,AVERAGE(P$10:P41))","v":0},{"$f":"IF(P40=\"\",0,VAR(P$10:P41))","v":0},null,null,"",{"$f":"IF(U41=\"\",0,AVERAGE(U$10:U41))","v":0},{"$f":"IF(U40=\"\",0,VAR(U$10:U41))","v":0},null,null,"",{"$f":"IF(Z41=\"\",0,AVERAGE(Z$10:Z41))","v":0},{"$f":"IF(Z40=\"\",0,VAR(Z$10:Z41))","v":0},null,null,"",{"$f":"IF(AE41=\"\",0,AVERAGE(AE$10:AE41))","v":0},{"$f":"IF(AE40=\"\",0,VAR(AE$10:AE41))","v":0},null,null,"",{"$f":"IF(AJ41=\"\",0,AVERAGE(AJ$10:AJ41))","v":0},{"$f":"IF(AJ40=\"\",0,VAR(AJ$10:AJ41))","v":0},null,null,"",{"$f":"IF(AO41=\"\",0,AVERAGE(AO$10:AO41))","v":0},{"$f":"IF(AO40=\"\",0,VAR(AO$10:AO41))","v":0},null,null,"",{"$f":"IF(AT41=\"\",0,AVERAGE(AT$10:AT41))","v":0},{"$f":"IF(AT40=\"\",0,VAR(AT$10:AT41))","v":0},null,null,"",{"$f":"IF(AY41=\"\",0,AVERAGE(AY$10:AY41))","v":0},{"$f":"IF(AY40=\"\",0,VAR(AY$10:AY41))","v":0}]
[null,null,null,null,null,null,{"$f":"IF(F42=\"\",0,AVERAGE($F$10:F42))","v":0},{"$f":"IF(F41=\"\",0,VAR($F$10:F42))","v":0},null,null,"",{"$f":"IF(K42=\"\",0,AVERAGE($K$10:K42))","v":0},{"$f":"IF(K41=\"\",0,VAR($K$10:K42))","v":0},null,null,"",{"$f":"IF(P42=\"\",0,AVERAGE(P$10:P42))","v":0},{"$f":"IF(P41=\"\",0,VAR(P$10:P42))","v":0},null,null,"",{"$f":"IF(U42=\"\",0,AVERAGE(U$10:U42))","v":0},{"$f":"IF(U41=\"\",0,VAR(U$10:U42))","v":0},null,null,"",{"$f":"IF(Z42=\"\",0,AVERAGE(Z$10:Z42))","v":0},{"$f":"IF(Z41=\"\",0,VAR(Z$10:Z42))","v":0},null,null,"",{"$f":"IF(AE42=\"\",0,AVERAGE(AE$10:AE42))","v":0},{"$f":"IF(AE41=\"\",0,VAR(AE$10:AE42))","v":0},null,null,"",{"$f":"IF(AJ42=\"\",0,AVERAGE(AJ$10:AJ42))","v":0},{"$f":"IF(AJ41=\"\",0,VAR(AJ$10:AJ42))","v":0},null,null,"",{"$f":"IF(AO42=\"\",0,AVERAGE(AO$10:AO42))","v":0},{"$f":"IF(AO41=\"\",0,VAR(AO$10:AO42))","v":0},null,null,"",{"$f":"IF(AT42=\"\",0,AVERAGE(AT$10:AT42))","v":0},{"$f":"IF(AT41=\"\",0,VAR(AT$10:AT42))","v":0},null,null,"",{"$f":"IF(AY42=\"\",0,AVERAGE(AY$10:AY42))","v":0},{"$f":"IF(AY41=\"\",0,VAR(AY$10:AY42))","v":0}]
[null,null,null,null,null,{"$f":"IF(E43=\"\",\"\",+(E43-E42)/E42)","v":""},{"$f":"IF(F43=\"\",0,AVERAGE($F$10:F43))","v":0},{"$f":"IF(F42=\"\",0,VAR($F$10:F43))","v":0},null,null,"",{"$f":"IF(K43=\"\",0,AVERAGE($K$10:K43))","v":0},{"$f":"IF(K42=\"\",0,VAR($K$10:K43))","v":0},null,null,"",{"$f":"IF(P43=\"\",0,AVERAGE(P$10:P43))","v":0},{"$f":"IF(P42=\"\",0,VAR(P$10:P43))","v":0},null,null,"",{"$f":"IF(U43=\"\",0,AVERAGE(U$10:U43))","v":0},{"$f":"IF(U42=\"\",0,VAR(U$10:U43))","v":0},null,null,"",{"$f":"IF(Z43=\"\",0,AVERAGE(Z$10:Z43))","v":0},{"$f":"IF(Z42=\"\",0,VAR(Z$10:Z43))","v":0},null,null,"",{"$f":"IF(AE43=\"\",0,AVERAGE(AE$10:AE43))","v":0},{"$f":"IF(AE42=\"\",0,VAR(AE$10:AE43))","v":0},null,null,"",{"$f":"IF(AJ43=\"\",0,AVERAGE(AJ$10:AJ43))","v":0},{"$f":"IF(AJ42=\"\",0,VAR(AJ$10:AJ43))","v":0},null,null,"",{"$f":"IF(AO43=\"\",0,AVERAGE(AO$10:AO43))","v":0},{"$f":"IF(AO42=\"\",0,VAR(AO$10:AO43))","v":0},null,null,"",{"$f":"IF(AT43=\"\",0,AVERAGE(AT$10:AT43))","v":0},{"$f":"IF(AT42=\"\",0,VAR(AT$10:AT43))","v":0},null,null,"",{"$f":"IF(AY43=\"\",0,AVERAGE(AY$10:AY43))","v":0},{"$f":"IF(AY42=\"\",0,VAR(AY$10:AY43))","v":0}]
[null,null,null,null,null,"",{"$f":"IF(F44=\"\",0,AVERAGE($F$10:F44))","v":0},{"$f":"IF(F43=\"\",0,VAR($F$10:F44))","v":0},null,null,"",{"$f":"IF(K44=\"\",0,AVERAGE($K$10:K44))","v":0},{"$f":"IF(K43=\"\",0,VAR($K$10:K44))","v":0},null,null,"",{"$f":"IF(P44=\"\",0,AVERAGE(P$10:P44))","v":0},{"$f":"IF(P43=\"\",0,VAR(P$10:P44))","v":0},null,null,"",{"$f":"IF(U44=\"\",0,AVERAGE(U$10:U44))","v":0},{"$f":"IF(U43=\"\",0,VAR(U$10:U44))","v":0},null,null,"",{"$f":"IF(Z44=\"\",0,AVERAGE(Z$10:Z44))","v":0},{"$f":"IF(Z43=\"\",0,VAR(Z$10:Z44))","v":0},null,null,"",{"$f":"IF(AE44=\"\",0,AVERAGE(AE$10:AE44))","v":0},{"$f":"IF(AE43=\"\",0,VAR(AE$10:AE44))","v":0},null,null,"",{"$f":"IF(AJ44=\"\",0,AVERAGE(AJ$10:AJ44))","v":0},{"$f":"IF(AJ43=\"\",0,VAR(AJ$10:AJ44))","v":0},null,null,"",{"$f":"IF(AO44=\"\",0,AVERAGE(AO$10:AO44))","v":0},{"$f":"IF(AO43=\"\",0,VAR(AO$10:AO44))","v":0},null,null,"",{"$f":"IF(AT44=\"\",0,AVERAGE(AT$10:AT44))","v":0},{"$f":"IF(AT43=\"\",0,VAR(AT$10:AT44))","v":0},null,null,"",{"$f":"IF(AY44=\"\",0,AVERAGE(AY$10:AY44))","v":0},{"$f":"IF(AY43=\"\",0,VAR(AY$10:AY44))","v":0}]
[null,null,null,null,null,null,{"$f":"IF(F45=\"\",0,AVERAGE($F$10:F45))","v":0},{"$f":"IF(F44=\"\",0,VAR($F$10:F45))","v":0},null,null,"",{"$f":"IF(K45=\"\",0,AVERAGE($K$10:K45))","v":0},{"$f":"IF(K44=\"\",0,VAR($K$10:K45))","v":0},null,null,"",{"$f":"IF(P45=\"\",0,AVERAGE(P$10:P45))","v":0},{"$f":"IF(P44=\"\",0,VAR(P$10:P45))","v":0},null,null,"",{"$f":"IF(U45=\"\",0,AVERAGE(U$10:U45))","v":0},{"$f":"IF(U44=\"\",0,VAR(U$10:U45))","v":0},null,null,"",{"$f":"IF(Z45=\"\",0,AVERAGE(Z$10:Z45))","v":0},{"$f":"IF(Z44=\"\",0,VAR(Z$10:Z45))","v":0},null,null,"",{"$f":"IF(AE45=\"\",0,AVERAGE(AE$10:AE45))","v":0},{"$f":"IF(AE44=\"\",0,VAR(AE$10:AE45))","v":0},null,null,"",{"$f":"IF(AJ45=\"\",0,AVERAGE(AJ$10:AJ45))","v":0},{"$f":"IF(AJ44=\"\",0,VAR(AJ$10:AJ45))","v":0},null,null,"",{"$f":"IF(AO45=\"\",0,AVERAGE(AO$10:AO45))","v":0},{"$f":"IF(AO44=\"\",0,VAR(AO$10:AO45))","v":0},null,null,"",{"$f":"IF(AT45=\"\",0,AVERAGE(AT$10:AT45))","v":0},{"$f":"IF(AT44=\"\",0,VAR(AT$10:AT45))","v":0},null,null,"",{"$f":"IF(AY45=\"\",0,AVERAGE(AY$10:AY45))","v":0},{"$f":"IF(AY44=\"\",0,VAR(AY$10:AY45))","v":0}]
[null,null,null,null,null,{"$f":"IF(E46=\"\",\"\",+(E46-E45)/E45)","v":""},{"$f":"IF(F46=\"\",0,AVERAGE($F$10:F46))","v":0},{"$f":"IF(F45=\"\",0,VAR($F$10:F46))","v":0},null,null,"",{"$f":"IF(K46=\"\",0,AVERAGE($K$10:K46))","v":0},{"$f":"IF(K45=\"\",0,VAR($K$10:K46))","v":0},null,null,"",{"$f":"IF(P46=\"\",0,AVERAGE(P$10:P46))","v":0},{"$f":"IF(P45=\"\",0,VAR(P$10:P46))","v":0},null,null,"",{"$f":"IF(U46=\"\",0,AVERAGE(U$10:U46))","v":0},{"$f":"IF(U45=\"\",0,VAR(U$10:U46))","v":0},null,null,"",{"$f":"IF(Z46=\"\",0,AVERAGE(Z$10:Z46))","v":0},{"$f":"IF(Z45=\"\",0,VAR(Z$10:Z46))","v":0},null,null,"",{"$f":"IF(AE46=\"\",0,AVERAGE(AE$10:AE46))","v":0},{"$f":"IF(AE45=\"\",0,VAR(AE$10:AE46))","v":0},null,null,"",{"$f":"IF(AJ46=\"\",0,AVERAGE(AJ$10:AJ46))","v":0},{"$f":"IF(AJ45=\"\",0,VAR(AJ$10:AJ46))","v":0},null,null,"",{"$f":"IF(AO46=\"\",0,AVERAGE(AO$10:AO46))","v":0},{"$f":"IF(AO45=\"\",0,VAR(AO$10:AO46))","v":0},null,null,"",{"$f":"IF(AT46=\"\",0,AVERAGE(AT$10:AT46))","v":0},{"$f":"IF(AT45=\"\",0,VAR(AT$10:AT46))","v":0},null,null,"",{"$f":"IF(AY46=\"\",0,AVERAGE(AY$10:AY46))","v":0},{"$f":"IF(AY45=\"\",0,VAR(AY$10:AY46))","v":0}]
[null,null,null,null,null,"",{"$f":"IF(F47=\"\",0,AVERAGE($F$10:F47))","v":0},{"$f":"IF(F46=\"\",0,VAR($F$10:F47))","v":0},null,null,"",{"$f":"IF(K47=\"\",0,AVERAGE($K$10:K47))","v":0},{"$f":"IF(K46=\"\",0,VAR($K$10:K47))","v":0},null,null,"",{"$f":"IF(P47=\"\",0,AVERAGE(P$10:P47))","v":0},{"$f":"IF(P46=\"\",0,VAR(P$10:P47))","v":0},null,null,"",{"$f":"IF(U47=\"\",0,AVERAGE(U$10:U47))","v":0},{"$f":"IF(U46=\"\",0,VAR(U$10:U47))","v":0},null,null,"",{"$f":"IF(Z47=\"\",0,AVERAGE(Z$10:Z47))","v":0},{"$f":"IF(Z46=\"\",0,VAR(Z$10:Z47))","v":0},null,null,"",{"$f":"IF(AE47=\"\",0,AVERAGE(AE$10:AE47))","v":0},{"$f":"IF(AE46=\"\",0,VAR(AE$10:AE47))","v":0},null,null,"",{"$f":"IF(AJ47=\"\",0,AVERAGE(AJ$10:AJ47))","v":0},{"$f":"IF(AJ46=\"\",0,VAR(AJ$10:AJ47))","v":0},null,null,"",{"$f":"IF(AO47=\"\",0,AVERAGE(AO$10:AO47))","v":0},{"$f":"IF(AO46=\"\",0,VAR(AO$10:AO47))","v":0},null,null,"",{"$f":"IF(AT47=\"\",0,AVERAGE(AT$10:AT47))","v":0},{"$f":"IF(AT46=\"\",0,VAR(AT$10:AT47))","v":0},null,null,"",{"$f":"IF(AY47=\"\",0,AVERAGE(AY$10:AY47))","v":0},{"$f":"IF(AY46=\"\",0,VAR(AY$10:AY47))","v":0}]
[null,null,null,null,null,null,{"$f":"IF(F48=\"\",0,AVERAGE($F$10:F48))","v":0},{"$f":"IF(F47=\"\",0,VAR($F$10:F48))","v":0},null,null,"",{"$f":"IF(K48=\"\",0,AVERAGE($K$10:K48))","v":0},{"$f":"IF(K47=\"\",0,VAR($K$10:K48))","v":0},null,null,"",{"$f":"IF(P48=\"\",0,AVERAGE(P$10:P48))","v":0},{"$f":"IF(P47=\"\",0,VAR(P$10:P48))","v":0},null,null,"",{"$f":"IF(U48=\"\",0,AVERAGE(U$10:U48))","v":0},{"$f":"IF(U47=\"\",0,VAR(U$10:U48))","v":0},null,null,"",{"$f":"IF(Z48=\"\",0,AVERAGE(Z$10:Z48))","v":0},{"$f":"IF(Z47=\"\",0,VAR(Z$10:Z48))","v":0},null,null,"",{"$f":"IF(AE48=\"\",0,AVERAGE(AE$10:AE48))","v":0},{"$f":"IF(AE47=\"\",0,VAR(AE$10:AE48))","v":0},null,null,"",{"$f":"IF(AJ48=\"\",0,AVERAGE(AJ$10:AJ48))","v":0},{"$f":"IF(AJ47=\"\",0,VAR(AJ$10:AJ48))","v":0},null,null,"",{"$f":"IF(AO48=\"\",0,AVERAGE(AO$10:AO48))","v":0},{"$f":"IF(AO47=\"\",0,VAR(AO$10:AO48))","v":0},null,null,"",{"$f":"IF(AT48=\"\",0,AVERAGE(AT$10:AT48))","v":0},{"$f":"IF(AT47=\"\",0,VAR(AT$10:AT48))","v":0},null,null,"",{"$f":"IF(AY48=\"\",0,AVERAGE(AY$10:AY48))","v":0},{"$f":"IF(AY47=\"\",0,VAR(AY$10:AY48))","v":0}]
[null,null,null,null,null,{"$f":"IF(E49=\"\",\"\",+(E49-E48)/E48)","v":""},{"$f":"IF(F49=\"\",0,AVERAGE($F$10:F49))","v":0},{"$f":"IF(F48=\"\",0,VAR($F$10:F49))","v":0},null,null,"",{"$f":"IF(K49=\"\",0,AVERAGE($K$10:K49))","v":0},{"$f":"IF(K48=\"\",0,VAR($K$10:K49))","v":0},null,null,"",{"$f":"IF(P49=\"\",0,AVERAGE(P$10:P49))","v":0},{"$f":"IF(P48=\"\",0,VAR(P$10:P49))","v":0},null,null,"",{"$f":"IF(U49=\"\",0,AVERAGE(U$10:U49))","v":0},{"$f":"IF(U48=\"\",0,VAR(U$10:U49))","v":0},null,null,"",{"$f":"IF(Z49=\"\",0,AVERAGE(Z$10:Z49))","v":0},{"$f":"IF(Z48=\"\",0,VAR(Z$10:Z49))","v":0},null,null,"",{"$f":"IF(AE49=\"\",0,AVERAGE(AE$10:AE49))","v":0},{"$f":"IF(AE48=\"\",0,VAR(AE$10:AE49))","v":0},null,null,"",{"$f":"IF(AJ49=\"\",0,AVERAGE(AJ$10:AJ49))","v":0},{"$f":"IF(AJ48=\"\",0,VAR(AJ$10:AJ49))","v":0},null,null,"",{"$f":"IF(AO49=\"\",0,AVERAGE(AO$10:AO49))","v":0},{"$f":"IF(AO48=\"\",0,VAR(AO$10:AO49))","v":0},null,null,"",{"$f":"IF(AT49=\"\",0,AVERAGE(AT$10:AT49))","v":0},{"$f":"IF(AT48=\"\",0,VAR(AT$10:AT49))","v":0},null,null,"",{"$f":"IF(AY49=\"\",0,AVERAGE(AY$10:AY49))","v":0},{"$f":"IF(AY48=\"\",0,VAR(AY$10:AY49))","v":0}]
[null,null,null,null,null,"",{"$f":"IF(F50=\"\",0,AVERAGE($F$10:F50))","v":0},{"$f":"IF(F49=\"\",0,VAR($F$10:F50))","v":0},null,null,"",{"$f":"IF(K50=\"\",0,AVERAGE($K$10:K50))","v":0},{"$f":"IF(K49=\"\",0,VAR($K$10:K50))","v":0},null,null,"",{"$f":"IF(P50=\"\",0,AVERAGE(P$10:P50))","v":0},{"$f":"IF(P49=\"\",0,VAR(P$10:P50))","v":0},null,null,"",{"$f":"IF(U50=\"\",0,AVERAGE(U$10:U50))","v":0},{"$f":"IF(U49=\"\",0,VAR(U$10:U50))","v":0},null,null,"",{"$f":"IF(Z50=\"\",0,AVERAGE(Z$10:Z50))","v":0},{"$f":"IF(Z49=\"\",0,VAR(Z$10:Z50))","v":0},null,null,"",{"$f":"IF(AE50=\"\",0,AVERAGE(AE$10:AE50))","v":0},{"$f":"IF(AE49=\"\",0,VAR(AE$10:AE50))","v":0},null,null,"",{"$f":"IF(AJ50=\"\",0,AVERAGE(AJ$10:AJ50))","v":0},{"$f":"IF(AJ49=\"\",0,VAR(AJ$10:AJ50))","v":0},null,null,"",{"$f":"IF(AO50=\"\",0,AVERAGE(AO$10:AO50))","v":0},{"$f":"IF(AO49=\"\",0,VAR(AO$10:AO50))","v":0},null,null,"",{"$f":"IF(AT50=\"\",0,AVERAGE(AT$10:AT50))","v":0},{"$f":"IF(AT49=\"\",0,VAR(AT$10:AT50))","v":0},null,null,"",{"$f":"IF(AY50=\"\",0,AVERAGE(AY$10:AY50))","v":0},{"$f":"IF(AY49=\"\",0,VAR(AY$10:AY50))","v":0}]
[null,null,null,null,null,null,{"$f":"IF(F51=\"\",0,AVERAGE($F$10:F51))","v":0},{"$f":"IF(F50=\"\",0,VAR($F$10:F51))","v":0},null,null,"",{"$f":"IF(K51=\"\",0,AVERAGE($K$10:K51))","v":0},{"$f":"IF(K50=\"\",0,VAR($K$10:K51))","v":0},null,null,"",{"$f":"IF(P51=\"\",0,AVERAGE(P$10:P51))","v":0},{"$f":"IF(P50=\"\",0,VAR(P$10:P51))","v":0},null,null,"",{"$f":"IF(U51=\"\",0,AVERAGE(U$10:U51))","v":0},{"$f":"IF(U50=\"\",0,VAR(U$10:U51))","v":0},null,null,"",{"$f":"IF(Z51=\"\",0,AVERAGE(Z$10:Z51))","v":0},{"$f":"IF(Z50=\"\",0,VAR(Z$10:Z51))","v":0},null,null,"",{"$f":"IF(AE51=\"\",0,AVERAGE(AE$10:AE51))","v":0},{"$f":"IF(AE50=\"\",0,VAR(AE$10:AE51))","v":0},null,null,"",{"$f":"IF(AJ51=\"\",0,AVERAGE(AJ$10:AJ51))","v":0},{"$f":"IF(AJ50=\"\",0,VAR(AJ$10:AJ51))","v":0},null,null,"",{"$f":"IF(AO51=\"\",0,AVERAGE(AO$10:AO51))","v":0},{"$f":"IF(AO50=\"\",0,VAR(AO$10:AO51))","v":0},null,null,"",{"$f":"IF(AT51=\"\",0,AVERAGE(AT$10:AT51))","v":0},{"$f":"IF(AT50=\"\",0,VAR(AT$10:AT51))","v":0},null,null,"",{"$f":"IF(AY51=\"\",0,AVERAGE(AY$10:AY51))","v":0},{"$f":"IF(AY50=\"\",0,VAR(AY$10:AY51))","v":0}]
[null,null,null,null,null,{"$f":"IF(E52=\"\",\"\",+(E52-E51)/E51)","v":""},{"$f":"IF(F52=\"\",0,AVERAGE($F$10:F52))","v":0},{"$f":"IF(F51=\"\",0,VAR($F$10:F52))","v":0},null,null,"",{"$f":"IF(K52=\"\",0,AVERAGE($K$10:K52))","v":0},{"$f":"IF(K51=\"\",0,VAR($K$10:K52))","v":0},null,null,"",{"$f":"IF(P52=\"\",0,AVERAGE(P$10:P52))","v":0},{"$f":"IF(P51=\"\",0,VAR(P$10:P52))","v":0},null,null,"",{"$f":"IF(U52=\"\",0,AVERAGE(U$10:U52))","v":0},{"$f":"IF(U51=\"\",0,VAR(U$10:U52))","v":0},null,null,"",{"$f":"IF(Z52=\"\",0,AVERAGE(Z$10:Z52))","v":0},{"$f":"IF(Z51=\"\",0,VAR(Z$10:Z52))","v":0},null,null,"",{"$f":"IF(AE52=\"\",0,AVERAGE(AE$10:AE52))","v":0},{"$f":"IF(AE51=\"\",0,VAR(AE$10:AE52))","v":0},null,null,"",{"$f":"IF(AJ52=\"\",0,AVERAGE(AJ$10:AJ52))","v":0},{"$f":"IF(AJ51=\"\",0,VAR(AJ$10:AJ52))","v":0},null,null,"",{"$f":"IF(AO52=\"\",0,AVERAGE(AO$10:AO52))","v":0},{"$f":"IF(AO51=\"\",0,VAR(AO$10:AO52))","v":0},null,null,"",{"$f":"IF(AT52=\"\",0,AVERAGE(AT$10:AT52))","v":0},{"$f":"IF(AT51=\"\",0,VAR(AT$10:AT52))","v":0},null,null,"",{"$f":"IF(AY52=\"\",0,AVERAGE(AY$10:AY52))","v":0},{"$f":"IF(AY51=\"\",0,VAR(AY$10:AY52))","v":0}]
[null,null,null,null,null,"",{"$f":"IF(F53=\"\",0,AVERAGE($F$10:F53))","v":0},{"$f":"IF(F52=\"\",0,VAR($F$10:F53))","v":0},null,null,"",{"$f":"IF(K53=\"\",0,AVERAGE($K$10:K53))","v":0},{"$f":"IF(K52=\"\",0,VAR($K$10:K53))","v":0},null,null,"",{"$f":"IF(P53=\"\",0,AVERAGE(P$10:P53))","v":0},{"$f":"IF(P52=\"\",0,VAR(P$10:P53))","v":0},null,null,"",{"$f":"IF(U53=\"\",0,AVERAGE(U$10:U53))","v":0},{"$f":"IF(U52=\"\",0,VAR(U$10:U53))","v":0},null,null,"",{"$f":"IF(Z53=\"\",0,AVERAGE(Z$10:Z53))","v":0},{"$f":"IF(Z52=\"\",0,VAR(Z$10:Z53))","v":0},null,null,"",{"$f":"IF(AE53=\"\",0,AVERAGE(AE$10:AE53))","v":0},{"$f":"IF(AE52=\"\",0,VAR(AE$10:AE53))","v":0},null,null,"",{"$f":"IF(AJ53=\"\",0,AVERAGE(AJ$10:AJ53))","v":0},{"$f":"IF(AJ52=\"\",0,VAR(AJ$10:AJ53))","v":0},null,null,"",{"$f":"IF(AO53=\"\",0,AVERAGE(AO$10:AO53))","v":0},{"$f":"IF(AO52=\"\",0,VAR(AO$10:AO53))","v":0},null,null,"",{"$f":"IF(AT53=\"\",0,AVERAGE(AT$10:AT53))","v":0},{"$f":"IF(AT52=\"\",0,VAR(AT$10:AT53))","v":0},null,null,"",{"$f":"IF(AY53=\"\",0,AVERAGE(AY$10:AY53))","v":0},{"$f":"IF(AY52=\"\",0,VAR(AY$10:AY53))","v":0}]
[null,null,null,null,null,null,{"$f":"IF(F54=\"\",0,AVERAGE($F$10:F54))","v":0},{"$f":"IF(F53=\"\",0,VAR($F$10:F54))","v":0},null,null,"",{"$f":"IF(K54=\"\",0,AVERAGE($K$10:K54))","v":0},{"$f":"IF(K53=\"\",0,VAR($K$10:K54))","v":0},null,null,"",{"$f":"IF(P54=\"\",0,AVERAGE(P$10:P54))","v":0},{"$f":"IF(P53=\"\",0,VAR(P$10:P54))","v":0},null,null,"",{"$f":"IF(U54=\"\",0,AVERAGE(U$10:U54))","v":0},{"$f":"IF(U53=\"\",0,VAR(U$10:U54))","v":0},null,null,"",{"$f":"IF(Z54=\"\",0,AVERAGE(Z$10:Z54))","v":0},{"$f":"IF(Z53=\"\",0,VAR(Z$10:Z54))","v":0},null,null,"",{"$f":"IF(AE54=\"\",0,AVERAGE(AE$10:AE54))","v":0},{"$f":"IF(AE53=\"\",0,VAR(AE$10:AE54))","v":0},null,null,"",{"$f":"IF(AJ54=\"\",0,AVERAGE(AJ$10:AJ54))","v":0},{"$f":"IF(AJ53=\"\",0,VAR(AJ$10:AJ54))","v":0},null,null,"",{"$f":"IF(AO54=\"\",0,AVERAGE(AO$10:AO54))","v":0},{"$f":"IF(AO53=\"\",0,VAR(AO$10:AO54))","v":0},null,null,"",{"$f":"IF(AT54=\"\",0,AVERAGE(AT$10:AT54))","v":0},{"$f":"IF(AT53=\"\",0,VAR(AT$10:AT54))","v":0},null,null,"",{"$f":"IF(AY54=\"\",0,AVERAGE(AY$10:AY54))","v":0},{"$f":"IF(AY53=\"\",0,VAR(AY$10:AY54))","v":0}]
[null,null,null,null,null,{"$f":"IF(E55=\"\",\"\",+(E55-E54)/E54)","v":""},{"$f":"IF(F55=\"\",0,AVERAGE($F$10:F55))","v":0},{"$f":"IF(F54=\"\",0,VAR($F$10:F55))","v":0},null,null,"",{"$f":"IF(K55=\"\",0,AVERAGE($K$10:K55))","v":0},{"$f":"IF(K54=\"\",0,VAR($K$10:K55))","v":0},null,null,"",{"$f":"IF(P55=\"\",0,AVERAGE(P$10:P55))","v":0},{"$f":"IF(P54=\"\",0,VAR(P$10:P55))","v":0},null,null,"",{"$f":"IF(U55=\"\",0,AVERAGE(U$10:U55))","v":0},{"$f":"IF(U54=\"\",0,VAR(U$10:U55))","v":0},null,null,"",{"$f":"IF(Z55=\"\",0,AVERAGE(Z$10:Z55))","v":0},{"$f":"IF(Z54=\"\",0,VAR(Z$10:Z55))","v":0},null,null,"",{"$f":"IF(AE55=\"\",0,AVERAGE(AE$10:AE55))","v":0},{"$f":"IF(AE54=\"\",0,VAR(AE$10:AE55))","v":0},null,null,"",{"$f":"IF(AJ55=\"\",0,AVERAGE(AJ$10:AJ55))","v":0},{"$f":"IF(AJ54=\"\",0,VAR(AJ$10:AJ55))","v":0},null,null,"",{"$f":"IF(AO55=\"\",0,AVERAGE(AO$10:AO55))","v":0},{"$f":"IF(AO54=\"\",0,VAR(AO$10:AO55))","v":0},null,null,"",{"$f":"IF(AT55=\"\",0,AVERAGE(AT$10:AT55))","v":0},{"$f":"IF(AT54=\"\",0,VAR(AT$10:AT55))","v":0},null,null,"",{"$f":"IF(AY55=\"\",0,AVERAGE(AY$10:AY55))","v":0},{"$f":"IF(AY54=\"\",0,VAR(AY$10:AY55))","v":0}]
[null,null,null,null,null,"",{"$f":"IF(F56=\"\",0,AVERAGE($F$10:F56))","v":0},{"$f":"IF(F55=\"\",0,VAR($F$10:F56))","v":0},null,null,"",{"$f":"IF(K56=\"\",0,AVERAGE($K$10:K56))","v":0},{"$f":"IF(K55=\"\",0,VAR($K$10:K56))","v":0},null,null,"",{"$f":"IF(P56=\"\",0,AVERAGE(P$10:P56))","v":0},{"$f":"IF(P55=\"\",0,VAR(P$10:P56))","v":0},null,null,"",{"$f":"IF(U56=\"\",0,AVERAGE(U$10:U56))","v":0},{"$f":"IF(U55=\"\",0,VAR(U$10:U56))","v":0},null,null,"",{"$f":"IF(Z56=\"\",0,AVERAGE(Z$10:Z56))","v":0},{"$f":"IF(Z55=\"\",0,VAR(Z$10:Z56))","v":0},null,null,"",{"$f":"IF(AE56=\"\",0,AVERAGE(AE$10:AE56))","v":0},{"$f":"IF(AE55=\"\",0,VAR(AE$10:AE56))","v":0},null,null,"",{"$f":"IF(AJ56=\"\",0,AVERAGE(AJ$10:AJ56))","v":0},{"$f":"IF(AJ55=\"\",0,VAR(AJ$10:AJ56))","v":0},null,null,"",{"$f":"IF(AO56=\"\",0,AVERAGE(AO$10:AO56))","v":0},{"$f":"IF(AO55=\"\",0,VAR(AO$10:AO56))","v":0},null,null,"",{"$f":"IF(AT56=\"\",0,AVERAGE(AT$10:AT56))","v":0},{"$f":"IF(AT55=\"\",0,VAR(AT$10:AT56))","v":0},null,null,"",{"$f":"IF(AY56=\"\",0,AVERAGE(AY$10:AY56))","v":0},{"$f":"IF(AY55=\"\",0,VAR(AY$10:AY56))","v":0}]
[null,null,null,null,null,null,{"$f":"IF(F57=\"\",0,AVERAGE($F$10:F57))","v":0},{"$f":"IF(F56=\"\",0,VAR($F$10:F57))","v":0},null,null,"",{"$f":"IF(K57=\"\",0,AVERAGE($K$10:K57))","v":0},{"$f":"IF(K56=\"\",0,VAR($K$10:K57))","v":0},null,null,"",{"$f":"IF(P57=\"\",0,AVERAGE(P$10:P57))","v":0},{"$f":"IF(P56=\"\",0,VAR(P$10:P57))","v":0},null,null,"",{"$f":"IF(U57=\"\",0,AVERAGE(U$10:U57))","v":0},{"$f":"IF(U56=\"\",0,VAR(U$10:U57))","v":0},null,null,"",{"$f":"IF(Z57=\"\",0,AVERAGE(Z$10:Z57))","v":0},{"$f":"IF(Z56=\"\",0,VAR(Z$10:Z57))","v":0},null,null,"",{"$f":"IF(AE57=\"\",0,AVERAGE(AE$10:AE57))","v":0},{"$f":"IF(AE56=\"\",0,VAR(AE$10:AE57))","v":0},null,null,"",{"$f":"IF(AJ57=\"\",0,AVERAGE(AJ$10:AJ57))","v":0},{"$f":"IF(AJ56=\"\",0,VAR(AJ$10:AJ57))","v":0},null,null,"",{"$f":"IF(AO57=\"\",0,AVERAGE(AO$10:AO57))","v":0},{"$f":"IF(AO56=\"\",0,VAR(AO$10:AO57))","v":0},null,null,"",{"$f":"IF(AT57=\"\",0,AVERAGE(AT$10:AT57))","v":0},{"$f":"IF(AT56=\"\",0,VAR(AT$10:AT57))","v":0},null,null,"",{"$f":"IF(AY57=\"\",0,AVERAGE(AY$10:AY57))","v":0},{"$f":"IF(AY56=\"\",0,VAR(AY$10:AY57))","v":0}]
[null,null,null,null,null,{"$f":"IF(E58=\"\",\"\",+(E58-E57)/E57)","v":""},{"$f":"IF(F58=\"\",0,AVERAGE($F$10:F58))","v":0},{"$f":"IF(F57=\"\",0,VAR($F$10:F58))","v":0},null,null,"",{"$f":"IF(K58=\"\",0,AVERAGE($K$10:K58))","v":0},{"$f":"IF(K57=\"\",0,VAR($K$10:K58))","v":0},null,null,"",{"$f":"IF(P58=\"\",0,AVERAGE(P$10:P58))","v":0},{"$f":"IF(P57=\"\",0,VAR(P$10:P58))","v":0},null,null,"",{"$f":"IF(U58=\"\",0,AVERAGE(U$10:U58))","v":0},{"$f":"IF(U57=\"\",0,VAR(U$10:U58))","v":0},null,null,"",{"$f":"IF(Z58=\"\",0,AVERAGE(Z$10:Z58))","v":0},{"$f":"IF(Z57=\"\",0,VAR(Z$10:Z58))","v":0},null,null,"",{"$f":"IF(AE58=\"\",0,AVERAGE(AE$10:AE58))","v":0},{"$f":"IF(AE57=\"\",0,VAR(AE$10:AE58))","v":0},null,null,"",{"$f":"IF(AJ58=\"\",0,AVERAGE(AJ$10:AJ58))","v":0},{"$f":"IF(AJ57=\"\",0,VAR(AJ$10:AJ58))","v":0},null,null,"",{"$f":"IF(AO58=\"\",0,AVERAGE(AO$10:AO58))","v":0},{"$f":"IF(AO57=\"\",0,VAR(AO$10:AO58))","v":0},null,null,"",{"$f":"IF(AT58=\"\",0,AVERAGE(AT$10:AT58))","v":0},{"$f":"IF(AT57=\"\",0,VAR(AT$10:AT58))","v":0},null,null,"",{"$f":"IF(AY58=\"\",0,AVERAGE(AY$10:AY58))","v":0},{"$f":"IF(AY57=\"\",0,VAR(AY$10:AY58))","v":0}]
[null,null,null,null,null,"",{"$f":"IF(F59=\"\",0,AVERAGE($F$10:F59))","v":0},{"$f":"IF(F58=\"\",0,VAR($F$10:F59))","v":0},null,null,"",{"$f":"IF(K59=\"\",0,AVERAGE($K$10:K59))","v":0},{"$f":"IF(K58=\"\",0,VAR($K$10:K59))","v":0},null,null,"",{"$f":"IF(P59=\"\",0,AVERAGE(P$10:P59))","v":0},{"$f":"IF(P58=\"\",0,VAR(P$10:P59))","v":0},null,null,"",{"$f":"IF(U59=\"\",0,AVERAGE(U$10:U59))","v":0},{"$f":"IF(U58=\"\",0,VAR(U$10:U59))","v":0},null,null,"",{"$f":"IF(Z59=\"\",0,AVERAGE(Z$10:Z59))","v":0},{"$f":"IF(Z58=\"\",0,VAR(Z$10:Z59))","v":0},null,null,"",{"$f":"IF(AE59=\"\",0,AVERAGE(AE$10:AE59))","v":0},{"$f":"IF(AE58=\"\",0,VAR(AE$10:AE59))","v":0},null,null,"",{"$f":"IF(AJ59=\"\",0,AVERAGE(AJ$10:AJ59))","v":0},{"$f":"IF(AJ58=\"\",0,VAR(AJ$10:AJ59))","v":0},null,null,"",{"$f":"IF(AO59=\"\",0,AVERAGE(AO$10:AO59))","v":0},{"$f":"IF(AO58=\"\",0,VAR(AO$10:AO59))","v":0},null,null,"",{"$f":"IF(AT59=\"\",0,AVERAGE(AT$10:AT59))","v":0},{"$f":"IF(AT58=\"\",0,VAR(AT$10:AT59))","v":0},null,null,"",{"$f":"IF(AY59=\"\",0,AVERAGE(AY$10:AY59))","v":0},{"$f":"IF(AY58=\"\",0,VAR(AY$10:AY59))","v":0}]
[null,null,null,null,null,null,{"$f":"IF(F60=\"\",0,AVERAGE($F$10:F60))","v":0},{"$f":"IF(F59=\"\",0,VAR($F$10:F60))","v":0},null,null,"",{"$f":"IF(K60=\"\",0,AVERAGE($K$10:K60))","v":0},{"$f":"IF(K59=\"\",0,VAR($K$10:K60))","v":0},null,null,"",{"$f":"IF(P60=\"\",0,AVERAGE(P$10:P60))","v":0},{"$f":"IF(P59=\"\",0,VAR(P$10:P60))","v":0},null,null,"",{"$f":"IF(U60=\"\",0,AVERAGE(U$10:U60))","v":0},{"$f":"IF(U59=\"\",0,VAR(U$10:U60))","v":0},null,null,"",{"$f":"IF(Z60=\"\",0,AVERAGE(Z$10:Z60))","v":0},{"$f":"IF(Z59=\"\",0,VAR(Z$10:Z60))","v":0},null,null,"",{"$f":"IF(AE60=\"\",0,AVERAGE(AE$10:AE60))","v":0},{"$f":"IF(AE59=\"\",0,VAR(AE$10:AE60))","v":0},null,null,"",{"$f":"IF(AJ60=\"\",0,AVERAGE(AJ$10:AJ60))","v":0},{"$f":"IF(AJ59=\"\",0,VAR(AJ$10:AJ60))","v":0},null,null,"",{"$f":"IF(AO60=\"\",0,AVERAGE(AO$10:AO60))","v":0},{"$f":"IF(AO59=\"\",0,VAR(AO$10:AO60))","v":0},null,null,"",{"$f":"IF(AT60=\"\",0,AVERAGE(AT$10:AT60))","v":0},{"$f":"IF(AT59=\"\",0,VAR(AT$10:AT60))","v":0},null,null,"",{"$f":"IF(AY60=\"\",0,AVERAGE(AY$10:AY60))","v":0},{"$f":"IF(AY59=\"\",0,VAR(AY$10:AY60))","v":0}]
[null,null,null,null,null,{"$f":"IF(E61=\"\",\"\",+(E61-E60)/E60)","v":""},{"$f":"IF(F61=\"\",0,AVERAGE($F$10:F61))","v":0},{"$f":"IF(F60=\"\",0,VAR($F$10:F61))","v":0},null,null,"",{"$f":"IF(K61=\"\",0,AVERAGE($K$10:K61))","v":0},{"$f":"IF(K60=\"\",0,VAR($K$10:K61))","v":0},null,null,"",{"$f":"IF(P61=\"\",0,AVERAGE(P$10:P61))","v":0},{"$f":"IF(P60=\"\",0,VAR(P$10:P61))","v":0},null,null,"",{"$f":"IF(U61=\"\",0,AVERAGE(U$10:U61))","v":0},{"$f":"IF(U60=\"\",0,VAR(U$10:U61))","v":0},null,null,"",{"$f":"IF(Z61=\"\",0,AVERAGE(Z$10:Z61))","v":0},{"$f":"IF(Z60=\"\",0,VAR(Z$10:Z61))","v":0},null,null,"",{"$f":"IF(AE61=\"\",0,AVERAGE(AE$10:AE61))","v":0},{"$f":"IF(AE60=\"\",0,VAR(AE$10:AE61))","v":0},null,null,"",{"$f":"IF(AJ61=\"\",0,AVERAGE(AJ$10:AJ61))","v":0},{"$f":"IF(AJ60=\"\",0,VAR(AJ$10:AJ61))","v":0},null,null,"",{"$f":"IF(AO61=\"\",0,AVERAGE(AO$10:AO61))","v":0},{"$f":"IF(AO60=\"\",0,VAR(AO$10:AO61))","v":0},null,null,"",{"$f":"IF(AT61=\"\",0,AVERAGE(AT$10:AT61))","v":0},{"$f":"IF(AT60=\"\",0,VAR(AT$10:AT61))","v":0},null,null,"",{"$f":"IF(AY61=\"\",0,AVERAGE(AY$10:AY61))","v":0},{"$f":"IF(AY60=\"\",0,VAR(AY$10:AY61))","v":0}]
[null,null,null,null,null,"",{"$f":"IF(F62=\"\",0,AVERAGE($F$10:F62))","v":0},{"$f":"IF(F61=\"\",0,VAR($F$10:F62))","v":0},null,null,"",{"$f":"IF(K62=\"\",0,AVERAGE($K$10:K62))","v":0},{"$f":"IF(K61=\"\",0,VAR($K$10:K62))","v":0},null,null,"",{"$f":"IF(P62=\"\",0,AVERAGE(P$10:P62))","v":0},{"$f":"IF(P61=\"\",0,VAR(P$10:P62))","v":0},null,null,"",{"$f":"IF(U62=\"\",0,AVERAGE(U$10:U62))","v":0},{"$f":"IF(U61=\"\",0,VAR(U$10:U62))","v":0},null,null,"",{"$f":"IF(Z62=\"\",0,AVERAGE(Z$10:Z62))","v":0},{"$f":"IF(Z61=\"\",0,VAR(Z$10:Z62))","v":0},null,null,"",{"$f":"IF(AE62=\"\",0,AVERAGE(AE$10:AE62))","v":0},{"$f":"IF(AE61=\"\",0,VAR(AE$10:AE62))","v":0},null,null,"",{"$f":"IF(AJ62=\"\",0,AVERAGE(AJ$10:AJ62))","v":0},{"$f":"IF(AJ61=\"\",0,VAR(AJ$10:AJ62))","v":0},null,null,"",{"$f":"IF(AO62=\"\",0,AVERAGE(AO$10:AO62))","v":0},{"$f":"IF(AO61=\"\",0,VAR(AO$10:AO62))","v":0},null,null,"",{"$f":"IF(AT62=\"\",0,AVERAGE(AT$10:AT62))","v":0},{"$f":"IF(AT61=\"\",0,VAR(AT$10:AT62))","v":0},null,null,"",{"$f":"IF(AY62=\"\",0,AVERAGE(AY$10:AY62))","v":0},{"$f":"IF(AY61=\"\",0,VAR(AY$10:AY62))","v":0}]
[null,null,null,null,null,null,{"$f":"IF(F63=\"\",0,AVERAGE($F$10:F63))","v":0},{"$f":"IF(F62=\"\",0,VAR($F$10:F63))","v":0},null,null,"",{"$f":"IF(K63=\"\",0,AVERAGE($K$10:K63))","v":0},{"$f":"IF(K62=\"\",0,VAR($K$10:K63))","v":0},null,null,"",{"$f":"IF(P63=\"\",0,AVERAGE(P$10:P63))","v":0},{"$f":"IF(P62=\"\",0,VAR(P$10:P63))","v":0},null,null,"",{"$f":"IF(U63=\"\",0,AVERAGE(U$10:U63))","v":0},{"$f":"IF(U62=\"\",0,VAR(U$10:U63))","v":0},null,null,"",{"$f":"IF(Z63=\"\",0,AVERAGE(Z$10:Z63))","v":0},{"$f":"IF(Z62=\"\",0,VAR(Z$10:Z63))","v":0},null,null,"",{"$f":"IF(AE63=\"\",0,AVERAGE(AE$10:AE63))","v":0},{"$f":"IF(AE62=\"\",0,VAR(AE$10:AE63))","v":0},null,null,"",{"$f":"IF(AJ63=\"\",0,AVERAGE(AJ$10:AJ63))","v":0},{"$f":"IF(AJ62=\"\",0,VAR(AJ$10:AJ63))","v":0},null,null,"",{"$f":"IF(AO63=\"\",0,AVERAGE(AO$10:AO63))","v":0},{"$f":"IF(AO62=\"\",0,VAR(AO$10:AO63))","v":0},null,null,"",{"$f":"IF(AT63=\"\",0,AVERAGE(AT$10:AT63))","v":0},{"$f":"IF(AT62=\"\",0,VAR(AT$10:AT63))","v":0},null,null,"",{"$f":"IF(AY63=\"\",0,AVERAGE(AY$10:AY63))","v":0},{"$f":"IF(AY62=\"\",0,VAR(AY$10:AY63))","v":0}]
[null,null,null,null,null,{"$f":"IF(E64=\"\",\"\",+(E64-E63)/E63)","v":""},{"$f":"IF(F64=\"\",0,AVERAGE($F$10:F64))","v":0},{"$f":"IF(F63=\"\",0,VAR($F$10:F64))","v":0},null,null,"",{"$f":"IF(K64=\"\",0,AVERAGE($K$10:K64))","v":0},{"$f":"IF(K63=\"\",0,VAR($K$10:K64))","v":0},null,null,"",{"$f":"IF(P64=\"\",0,AVERAGE(P$10:P64))","v":0},{"$f":"IF(P63=\"\",0,VAR(P$10:P64))","v":0},null,null,"",{"$f":"IF(U64=\"\",0,AVERAGE(U$10:U64))","v":0},{"$f":"IF(U63=\"\",0,VAR(U$10:U64))","v":0},null,null,"",{"$f":"IF(Z64=\"\",0,AVERAGE(Z$10:Z64))","v":0},{"$f":"IF(Z63=\"\",0,VAR(Z$10:Z64))","v":0},null,null,"",{"$f":"IF(AE64=\"\",0,AVERAGE(AE$10:AE64))","v":0},{"$f":"IF(AE63=\"\",0,VAR(AE$10:AE64))","v":0},null,null,"",{"$f":"IF(AJ64=\"\",0,AVERAGE(AJ$10:AJ64))","v":0},{"$f":"IF(AJ63=\"\",0,VAR(AJ$10:AJ64))","v":0},null,null,"",{"$f":"IF(AO64=\"\",0,AVERAGE(AO$10:AO64))","v":0},{"$f":"IF(AO63=\"\",0,VAR(AO$10:AO64))","v":0},null,null,"",{"$f":"IF(AT64=\"\",0,AVERAGE(AT$10:AT64))","v":0},{"$f":"IF(AT63=\"\",0,VAR(AT$10:AT64))","v":0},null,null,"",{"$f":"IF(AY64=\"\",0,AVERAGE(AY$10:AY64))","v":0},{"$f":"IF(AY63=\"\",0,VAR(AY$10:AY64))","v":0}]
[null,null,null,null,null,"",{"$f":"IF(F65=\"\",0,AVERAGE($F$10:F65))","v":0},{"$f":"IF(F64=\"\",0,VAR($F$10:F65))","v":0},null,null,"",{"$f":"IF(K65=\"\",0,AVERAGE($K$10:K65))","v":0},{"$f":"IF(K64=\"\",0,VAR($K$10:K65))","v":0},null,null,"",{"$f":"IF(P65=\"\",0,AVERAGE(P$10:P65))","v":0},{"$f":"IF(P64=\"\",0,VAR(P$10:P65))","v":0},null,null,"",{"$f":"IF(U65=\"\",0,AVERAGE(U$10:U65))","v":0},{"$f":"IF(U64=\"\",0,VAR(U$10:U65))","v":0},null,null,"",{"$f":"IF(Z65=\"\",0,AVERAGE(Z$10:Z65))","v":0},{"$f":"IF(Z64=\"\",0,VAR(Z$10:Z65))","v":0},null,null,"",{"$f":"IF(AE65=\"\",0,AVERAGE(AE$10:AE65))","v":0},{"$f":"IF(AE64=\"\",0,VAR(AE$10:AE65))","v":0},null,null,"",{"$f":"IF(AJ65=\"\",0,AVERAGE(AJ$10:AJ65))","v":0},{"$f":"IF(AJ64=\"\",0,VAR(AJ$10:AJ65))","v":0},null,null,"",{"$f":"IF(AO65=\"\",0,AVERAGE(AO$10:AO65))","v":0},{"$f":"IF(AO64=\"\",0,VAR(AO$10:AO65))","v":0},null,null,"",{"$f":"IF(AT65=\"\",0,AVERAGE(AT$10:AT65))","v":0},{"$f":"IF(AT64=\"\",0,VAR(AT$10:AT65))","v":0},null,null,"",{"$f":"IF(AY65=\"\",0,AVERAGE(AY$10:AY65))","v":0},{"$f":"IF(AY64=\"\",0,VAR(AY$10:AY65))","v":0}]
[null,null,null,null,null,null,{"$f":"IF(F66=\"\",0,AVERAGE($F$10:F66))","v":0},{"$f":"IF(F65=\"\",0,VAR($F$10:F66))","v":0},null,null,"",{"$f":"IF(K66=\"\",0,AVERAGE($K$10:K66))","v":0},{"$f":"IF(K65=\"\",0,VAR($K$10:K66))","v":0},null,null,"",{"$f":"IF(P66=\"\",0,AVERAGE(P$10:P66))","v":0},{"$f":"IF(P65=\"\",0,VAR(P$10:P66))","v":0},null,null,"",{"$f":"IF(U66=\"\",0,AVERAGE(U$10:U66))","v":0},{"$f":"IF(U65=\"\",0,VAR(U$10:U66))","v":0},null,null,"",{"$f":"IF(Z66=\"\",0,AVERAGE(Z$10:Z66))","v":0},{"$f":"IF(Z65=\"\",0,VAR(Z$10:Z66))","v":0},null,null,"",{"$f":"IF(AE66=\"\",0,AVERAGE(AE$10:AE66))","v":0},{"$f":"IF(AE65=\"\",0,VAR(AE$10:AE66))","v":0},null,null,"",{"$f":"IF(AJ66=\"\",0,AVERAGE(AJ$10:AJ66))","v":0},{"$f":"IF(AJ65=\"\",0,VAR(AJ$10:AJ66))","v":0},null,null,"",{"$f":"IF(AO66=\"\",0,AVERAGE(AO$10:AO66))","v":0},{"$f":"IF(AO65=\"\",0,VAR(AO$10:AO66))","v":0},null,null,"",{"$f":"IF(AT66=\"\",0,AVERAGE(AT$10:AT66))","v":0},{"$f":"IF(AT65=\"\",0,VAR(AT$10:AT66))","v":0},null,null,"",{"$f":"IF(AY66=\"\",0,AVERAGE(AY$10:AY66))","v":0},{"$f":"IF(AY65=\"\",0,VAR(AY$10:AY66))","v":0}]
[null,null,null,null,null,{"$f":"IF(E67=\"\",\"\",+(E67-E66)/E66)","v":""},{"$f":"IF(F67=\"\",0,AVERAGE($F$10:F67))","v":0},{"$f":"IF(F66=\"\",0,VAR($F$10:F67))","v":0},null,null,"",{"$f":"IF(K67=\"\",0,AVERAGE($K$10:K67))","v":0},{"$f":"IF(K66=\"\",0,VAR($K$10:K67))","v":0},null,null,"",{"$f":"IF(P67=\"\",0,AVERAGE(P$10:P67))","v":0},{"$f":"IF(P66=\"\",0,VAR(P$10:P67))","v":0},null,null,"",{"$f":"IF(U67=\"\",0,AVERAGE(U$10:U67))","v":0},{"$f":"IF(U66=\"\",0,VAR(U$10:U67))","v":0},null,null,"",{"$f":"IF(Z67=\"\",0,AVERAGE(Z$10:Z67))","v":0},{"$f":"IF(Z66=\"\",0,VAR(Z$10:Z67))","v":0},null,null,"",{"$f":"IF(AE67=\"\",0,AVERAGE(AE$10:AE67))","v":0},{"$f":"IF(AE66=\"\",0,VAR(AE$10:AE67))","v":0},null,null,"",{"$f":"IF(AJ67=\"\",0,AVERAGE(AJ$10:AJ67))","v":0},{"$f":"IF(AJ66=\"\",0,VAR(AJ$10:AJ67))","v":0},null,null,"",{"$f":"IF(AO67=\"\",0,AVERAGE(AO$10:AO67))","v":0},{"$f":"IF(AO66=\"\",0,VAR(AO$10:AO67))","v":0},null,null,"",{"$f":"IF(AT67=\"\",0,AVERAGE(AT$10:AT67))","v":0},{"$f":"IF(AT66=\"\",0,VAR(AT$10:AT67))","v":0},null,null,"",{"$f":"IF(AY67=\"\",0,AVERAGE(AY$10:AY67))","v":0},{"$f":"IF(AY66=\"\",0,VAR(AY$10:AY67))","v":0}]
[null,null,null,null,null,"",{"$f":"IF(F68=\"\",0,AVERAGE($F$10:F68))","v":0},{"$f":"IF(F67=\"\",0,VAR($F$10:F68))","v":0},null,null,"",{"$f":"IF(K68=\"\",0,AVERAGE($K$10:K68))","v":0},{"$f":"IF(K67=\"\",0,VAR($K$10:K68))","v":0},null,null,"",{"$f":"IF(P68=\"\",0,AVERAGE(P$10:P68))","v":0},{"$f":"IF(P67=\"\",0,VAR(P$10:P68))","v":0},null,null,"",{"$f":"IF(U68=\"\",0,AVERAGE(U$10:U68))","v":0},{"$f":"IF(U67=\"\",0,VAR(U$10:U68))","v":0},null,null,"",{"$f":"IF(Z68=\"\",0,AVERAGE(Z$10:Z68))","v":0},{"$f":"IF(Z67=\"\",0,VAR(Z$10:Z68))","v":0},null,null,"",{"$f":"IF(AE68=\"\",0,AVERAGE(AE$10:AE68))","v":0},{"$f":"IF(AE67=\"\",0,VAR(AE$10:AE68))","v":0},null,null,"",{"$f":"IF(AJ68=\"\",0,AVERAGE(AJ$10:AJ68))","v":0},{"$f":"IF(AJ67=\"\",0,VAR(AJ$10:AJ68))","v":0},null,null,"",{"$f":"IF(AO68=\"\",0,AVERAGE(AO$10:AO68))","v":0},{"$f":"IF(AO67=\"\",0,VAR(AO$10:AO68))","v":0},null,null,"",{"$f":"IF(AT68=\"\",0,AVERAGE(AT$10:AT68))","v":0},{"$f":"IF(AT67=\"\",0,VAR(AT$10:AT68))","v":0},null,null,"",{"$f":"IF(AY68=\"\",0,AVERAGE(AY$10:AY68))","v":0},{"$f":"IF(AY67=\"\",0,VAR(AY$10:AY68))","v":0}]
[null,null,null,null,null,null,{"$f":"IF(F69=\"\",0,AVERAGE($F$10:F69))","v":0},{"$f":"IF(F68=\"\",0,VAR($F$10:F69))","v":0},null,null,"",{"$f":"IF(K69=\"\",0,AVERAGE($K$10:K69))","v":0},{"$f":"IF(K68=\"\",0,VAR($K$10:K69))","v":0},null,null,"",{"$f":"IF(P69=\"\",0,AVERAGE(P$10:P69))","v":0},{"$f":"IF(P68=\"\",0,VAR(P$10:P69))","v":0},null,null,"",{"$f":"IF(U69=\"\",0,AVERAGE(U$10:U69))","v":0},{"$f":"IF(U68=\"\",0,VAR(U$10:U69))","v":0},null,null,"",{"$f":"IF(Z69=\"\",0,AVERAGE(Z$10:Z69))","v":0},{"$f":"IF(Z68=\"\",0,VAR(Z$10:Z69))","v":0},null,null,"",{"$f":"IF(AE69=\"\",0,AVERAGE(AE$10:AE69))","v":0},{"$f":"IF(AE68=\"\",0,VAR(AE$10:AE69))","v":0},null,null,"",{"$f":"IF(AJ69=\"\",0,AVERAGE(AJ$10:AJ69))","v":0},{"$f":"IF(AJ68=\"\",0,VAR(AJ$10:AJ69))","v":0},null,null,"",{"$f":"IF(AO69=\"\",0,AVERAGE(AO$10:AO69))","v":0},{"$f":"IF(AO68=\"\",0,VAR(AO$10:AO69))","v":0},null,null,"",{"$f":"IF(AT69=\"\",0,AVERAGE(AT$10:AT69))","v":0},{"$f":"IF(AT68=\"\",0,VAR(AT$10:AT69))","v":0},null,null,"",{"$f":"IF(AY69=\"\",0,AVERAGE(AY$10:AY69))","v":0},{"$f":"IF(AY68=\"\",0,VAR(AY$10:AY69))","v":0}]
[null,null,null,null,null,{"$f":"IF(E70=\"\",\"\",+(E70-E69)/E69)","v":""},{"$f":"IF(F70=\"\",0,AVERAGE($F$10:F70))","v":0},{"$f":"IF(F69=\"\",0,VAR($F$10:F70))","v":0},null,null,"",{"$f":"IF(K70=\"\",0,AVERAGE($K$10:K70))","v":0},{"$f":"IF(K69=\"\",0,VAR($K$10:K70))","v":0},null,null,"",{"$f":"IF(P70=\"\",0,AVERAGE(P$10:P70))","v":0},{"$f":"IF(P69=\"\",0,VAR(P$10:P70))","v":0},null,null,"",{"$f":"IF(U70=\"\",0,AVERAGE(U$10:U70))","v":0},{"$f":"IF(U69=\"\",0,VAR(U$10:U70))","v":0},null,null,"",{"$f":"IF(Z70=\"\",0,AVERAGE(Z$10:Z70))","v":0},{"$f":"IF(Z69=\"\",0,VAR(Z$10:Z70))","v":0},null,null,"",{"$f":"IF(AE70=\"\",0,AVERAGE(AE$10:AE70))","v":0},{"$f":"IF(AE69=\"\",0,VAR(AE$10:AE70))","v":0},null,null,"",{"$f":"IF(AJ70=\"\",0,AVERAGE(AJ$10:AJ70))","v":0},{"$f":"IF(AJ69=\"\",0,VAR(AJ$10:AJ70))","v":0},null,null,"",{"$f":"IF(AO70=\"\",0,AVERAGE(AO$10:AO70))","v":0},{"$f":"IF(AO69=\"\",0,VAR(AO$10:AO70))","v":0},null,null,"",{"$f":"IF(AT70=\"\",0,AVERAGE(AT$10:AT70))","v":0},{"$f":"IF(AT69=\"\",0,VAR(AT$10:AT70))","v":0},null,null,"",{"$f":"IF(AY70=\"\",0,AVERAGE(AY$10:AY70))","v":0},{"$f":"IF(AY69=\"\",0,VAR(AY$10:AY70))","v":0}]
[null,null,null,null,null,"",{"$f":"IF(F71=\"\",0,AVERAGE($F$10:F71))","v":0},{"$f":"IF(F70=\"\",0,VAR($F$10:F71))","v":0},null,null,"",{"$f":"IF(K71=\"\",0,AVERAGE($K$10:K71))","v":0},{"$f":"IF(K70=\"\",0,VAR($K$10:K71))","v":0},null,null,"",{"$f":"IF(P71=\"\",0,AVERAGE(P$10:P71))","v":0},{"$f":"IF(P70=\"\",0,VAR(P$10:P71))","v":0},null,null,"",{"$f":"IF(U71=\"\",0,AVERAGE(U$10:U71))","v":0},{"$f":"IF(U70=\"\",0,VAR(U$10:U71))","v":0},null,null,"",{"$f":"IF(Z71=\"\",0,AVERAGE(Z$10:Z71))","v":0},{"$f":"IF(Z70=\"\",0,VAR(Z$10:Z71))","v":0},null,null,"",{"$f":"IF(AE71=\"\",0,AVERAGE(AE$10:AE71))","v":0},{"$f":"IF(AE70=\"\",0,VAR(AE$10:AE71))","v":0},null,null,"",{"$f":"IF(AJ71=\"\",0,AVERAGE(AJ$10:AJ71))","v":0},{"$f":"IF(AJ70=\"\",0,VAR(AJ$10:AJ71))","v":0},null,null,"",{"$f":"IF(AO71=\"\",0,AVERAGE(AO$10:AO71))","v":0},{"$f":"IF(AO70=\"\",0,VAR(AO$10:AO71))","v":0},null,null,"",{"$f":"IF(AT71=\"\",0,AVERAGE(AT$10:AT71))","v":0},{"$f":"IF(AT70=\"\",0,VAR(AT$10:AT71))","v":0},null,null,"",{"$f":"IF(AY71=\"\",0,AVERAGE(AY$10:AY71))","v":0},{"$f":"IF(AY70=\"\",0,VAR(AY$10:AY71))","v":0}]
[null,null,null,null,null,null,{"$f":"IF(F72=\"\",0,AVERAGE($F$10:F72))","v":0},{"$f":"IF(F71=\"\",0,VAR($F$10:F72))","v":0},null,null,"",{"$f":"IF(K72=\"\",0,AVERAGE($K$10:K72))","v":0},{"$f":"IF(K71=\"\",0,VAR($K$10:K72))","v":0},null,null,"",{"$f":"IF(P72=\"\",0,AVERAGE(P$10:P72))","v":0},{"$f":"IF(P71=\"\",0,VAR(P$10:P72))","v":0},null,null,"",{"$f":"IF(U72=\"\",0,AVERAGE(U$10:U72))","v":0},{"$f":"IF(U71=\"\",0,VAR(U$10:U72))","v":0},null,null,"",{"$f":"IF(Z72=\"\",0,AVERAGE(Z$10:Z72))","v":0},{"$f":"IF(Z71=\"\",0,VAR(Z$10:Z72))","v":0},null,null,"",{"$f":"IF(AE72=\"\",0,AVERAGE(AE$10:AE72))","v":0},{"$f":"IF(AE71=\"\",0,VAR(AE$10:AE72))","v":0},null,null,"",{"$f":"IF(AJ72=\"\",0,AVERAGE(AJ$10:AJ72))","v":0},{"$f":"IF(AJ71=\"\",0,VAR(AJ$10:AJ72))","v":0},null,null,"",{"$f":"IF(AO72=\"\",0,AVERAGE(AO$10:AO72))","v":0},{"$f":"IF(AO71=\"\",0,VAR(AO$10:AO72))","v":0},null,null,"",{"$f":"IF(AT72=\"\",0,AVERAGE(AT$10:AT72))","v":0},{"$f":"IF(AT71=\"\",0,VAR(AT$10:AT72))","v":0},null,null,"",{"$f":"IF(AY72=\"\",0,AVERAGE(AY$10:AY72))","v":0},{"$f":"IF(AY71=\"\",0,VAR(AY$10:AY72))","v":0}]
[null,null,null,null,null,{"$f":"IF(E73=\"\",\"\",+(E73-E72)/E72)","v":""},{"$f":"IF(F73=\"\",0,AVERAGE($F$10:F73))","v":0},{"$f":"IF(F72=\"\",0,VAR($F$10:F73))","v":0},null,null,"",{"$f":"IF(K73=\"\",0,AVERAGE($K$10:K73))","v":0},{"$f":"IF(K72=\"\",0,VAR($K$10:K73))","v":0},null,null,"",{"$f":"IF(P73=\"\",0,AVERAGE(P$10:P73))","v":0},{"$f":"IF(P72=\"\",0,VAR(P$10:P73))","v":0},null,null,"",{"$f":"IF(U73=\"\",0,AVERAGE(U$10:U73))","v":0},{"$f":"IF(U72=\"\",0,VAR(U$10:U73))","v":0},null,null,"",{"$f":"IF(Z73=\"\",0,AVERAGE(Z$10:Z73))","v":0},{"$f":"IF(Z72=\"\",0,VAR(Z$10:Z73))","v":0},null,null,"",{"$f":"IF(AE73=\"\",0,AVERAGE(AE$10:AE73))","v":0},{"$f":"IF(AE72=\"\",0,VAR(AE$10:AE73))","v":0},null,null,"",{"$f":"IF(AJ73=\"\",0,AVERAGE(AJ$10:AJ73))","v":0},{"$f":"IF(AJ72=\"\",0,VAR(AJ$10:AJ73))","v":0},null,null,"",{"$f":"IF(AO73=\"\",0,AVERAGE(AO$10:AO73))","v":0},{"$f":"IF(AO72=\"\",0,VAR(AO$10:AO73))","v":0},null,null,"",{"$f":"IF(AT73=\"\",0,AVERAGE(AT$10:AT73))","v":0},{"$f":"IF(AT72=\"\",0,VAR(AT$10:AT73))","v":0},null,null,"",{"$f":"IF(AY73=\"\",0,AVERAGE(AY$10:AY73))","v":0},{"$f":"IF(AY72=\"\",0,VAR(AY$10:AY73))","v":0}]
[null,null,null,null,null,"",{"$f":"IF(F74=\"\",0,AVERAGE($F$10:F74))","v":0},{"$f":"IF(F73=\"\",0,VAR($F$10:F74))","v":0},null,null,"",{"$f":"IF(K74=\"\",0,AVERAGE($K$10:K74))","v":0},{"$f":"IF(K73=\"\",0,VAR($K$10:K74))","v":0},null,null,"",{"$f":"IF(P74=\"\",0,AVERAGE(P$10:P74))","v":0},{"$f":"IF(P73=\"\",0,VAR(P$10:P74))","v":0},null,null,"",{"$f":"IF(U74=\"\",0,AVERAGE(U$10:U74))","v":0},{"$f":"IF(U73=\"\",0,VAR(U$10:U74))","v":0},null,null,"",{"$f":"IF(Z74=\"\",0,AVERAGE(Z$10:Z74))","v":0},{"$f":"IF(Z73=\"\",0,VAR(Z$10:Z74))","v":0},null,null,"",{"$f":"IF(AE74=\"\",0,AVERAGE(AE$10:AE74))","v":0},{"$f":"IF(AE73=\"\",0,VAR(AE$10:AE74))","v":0},null,null,"",{"$f":"IF(AJ74=\"\",0,AVERAGE(AJ$10:AJ74))","v":0},{"$f":"IF(AJ73=\"\",0,VAR(AJ$10:AJ74))","v":0},null,null,"",{"$f":"IF(AO74=\"\",0,AVERAGE(AO$10:AO74))","v":0},{"$f":"IF(AO73=\"\",0,VAR(AO$10:AO74))","v":0},null,null,"",{"$f":"IF(AT74=\"\",0,AVERAGE(AT$10:AT74))","v":0},{"$f":"IF(AT73=\"\",0,VAR(AT$10:AT74))","v":0},null,null,"",{"$f":"IF(AY74=\"\",0,AVERAGE(AY$10:AY74))","v":0},{"$f":"IF(AY73=\"\",0,VAR(AY$10:AY74))","v":0}]
[null,null,null,null,null,null,{"$f":"IF(F75=\"\",0,AVERAGE($F$10:F75))","v":0},{"$f":"IF(F74=\"\",0,VAR($F$10:F75))","v":0},null,null,"",{"$f":"IF(K75=\"\",0,AVERAGE($K$10:K75))","v":0},{"$f":"IF(K74=\"\",0,VAR($K$10:K75))","v":0},null,null,"",{"$f":"IF(P75=\"\",0,AVERAGE(P$10:P75))","v":0},{"$f":"IF(P74=\"\",0,VAR(P$10:P75))","v":0},null,null,"",{"$f":"IF(U75=\"\",0,AVERAGE(U$10:U75))","v":0},{"$f":"IF(U74=\"\",0,VAR(U$10:U75))","v":0},null,null,"",{"$f":"IF(Z75=\"\",0,AVERAGE(Z$10:Z75))","v":0},{"$f":"IF(Z74=\"\",0,VAR(Z$10:Z75))","v":0},null,null,"",{"$f":"IF(AE75=\"\",0,AVERAGE(AE$10:AE75))","v":0},{"$f":"IF(AE74=\"\",0,VAR(AE$10:AE75))","v":0},null,null,"",{"$f":"IF(AJ75=\"\",0,AVERAGE(AJ$10:AJ75))","v":0},{"$f":"IF(AJ74=\"\",0,VAR(AJ$10:AJ75))","v":0},null,null,"",{"$f":"IF(AO75=\"\",0,AVERAGE(AO$10:AO75))","v":0},{"$f":"IF(AO74=\"\",0,VAR(AO$10:AO75))","v":0},null,null,"",{"$f":"IF(AT75=\"\",0,AVERAGE(AT$10:AT75))","v":0},{"$f":"IF(AT74=\"\",0,VAR(AT$10:AT75))","v":0},null,null,"",{"$f":"IF(AY75=\"\",0,AVERAGE(AY$10:AY75))","v":0},{"$f":"IF(AY74=\"\",0,VAR(AY$10:AY75))","v":0}]
[null,null,null,null,null,{"$f":"IF(E76=\"\",\"\",+(E76-E75)/E75)","v":""},{"$f":"IF(F76=\"\",0,AVERAGE($F$10:F76))","v":0},{"$f":"IF(F75=\"\",0,VAR($F$10:F76))","v":0},null,null,{"$f":"IF(J76=\"\",\"\",+(J76-J75)/J75)","v":""},{"$f":"IF(K76=\"\",0,AVERAGE($K$10:K76))","v":0},{"$f":"IF(K75=\"\",0,VAR($K$10:K76))","v":0},null,null,{"$f":"IF(O76=\"\",\"\",+(O76-O75)/O75)","v":""},{"$f":"IF(P76=\"\",0,AVERAGE(P$10:P76))","v":0},{"$f":"IF(P75=\"\",0,VAR(P$10:P76))","v":0},null,null,"",{"$f":"IF(U76=\"\",0,AVERAGE(U$10:U76))","v":0},{"$f":"IF(U75=\"\",0,VAR(U$10:U76))","v":0},null,null,{"$f":"IF(Y76=\"\",\"\",+(Y76-Y75)/Y75)","v":""},{"$f":"IF(Z76=\"\",0,AVERAGE(Z$10:Z76))","v":0},{"$f":"IF(Z75=\"\",0,VAR(Z$10:Z76))","v":0},null,null,"",{"$f":"IF(AE76=\"\",0,AVERAGE(AE$10:AE76))","v":0},{"$f":"IF(AE75=\"\",0,VAR(AE$10:AE76))","v":0},null,null,"",{"$f":"IF(AJ76=\"\",0,AVERAGE(AJ$10:AJ76))","v":0},{"$f":"IF(AJ75=\"\",0,VAR(AJ$10:AJ76))","v":0},null,null,"",{"$f":"IF(AO76=\"\",0,AVERAGE(AO$10:AO76))","v":0},{"$f":"IF(AO75=\"\",0,VAR(AO$10:AO76))","v":0},null,null,"",{"$f":"IF(AT76=\"\",0,AVERAGE(AT$10:AT76))","v":0},{"$f":"IF(AT75=\"\",0,VAR(AT$10:AT76))","v":0},null,null,"",{"$f":"IF(AY76=\"\",0,AVERAGE(AY$10:AY76))","v":0},{"$f":"IF(AY75=\"\",0,VAR(AY$10:AY76))","v":0}]
[null,null,null,null,null,"",{"$f":"IF(F77=\"\",0,AVERAGE($F$10:F77))","v":0},{"$f":"IF(F76=\"\",0,VAR($F$10:F77))","v":0},null,null,"",{"$f":"IF(K77=\"\",0,AVERAGE($K$10:K77))","v":0},{"$f":"IF(K76=\"\",0,VAR($K$10:K77))","v":0},null,null,"",{"$f":"IF(P77=\"\",0,AVERAGE(P$10:P77))","v":0},{"$f":"IF(P76=\"\",0,VAR(P$10:P77))","v":0},null,null,"",{"$f":"IF(U77=\"\",0,AVERAGE(U$10:U77))","v":0},{"$f":"IF(U76=\"\",0,VAR(U$10:U77))","v":0},null,null,"",{"$f":"IF(Z77=\"\",0,AVERAGE(Z$10:Z77))","v":0},{"$f":"IF(Z76=\"\",0,VAR(Z$10:Z77))","v":0},null,null,"",{"$f":"IF(AE77=\"\",0,AVERAGE(AE$10:AE77))","v":0},{"$f":"IF(AE76=\"\",0,VAR(AE$10:AE77))","v":0},null,null,{"$f":"IF(AI77=\"\",\"\",+(AI77-AI76)/AI76)","v":""},{"$f":"IF(AJ77=\"\",0,AVERAGE(AJ$10:AJ77))","v":0},{"$f":"IF(AJ76=\"\",0,VAR(AJ$10:AJ77))","v":0},null,null,{"$f":"IF(AN77=\"\",\"\",+(AN77-AN76)/AN76)","v":""},{"$f":"IF(AO77=\"\",0,AVERAGE(AO$10:AO77))","v":0},{"$f":"IF(AO76=\"\",0,VAR(AO$10:AO77))","v":0},null,null,{"$f":"IF(AS77=\"\",\"\",+(AS77-AS76)/AS76)","v":""},{"$f":"IF(AT77=\"\",0,AVERAGE(AT$10:AT77))","v":0},{"$f":"IF(AT76=\"\",0,VAR(AT$10:AT77))","v":0},null,null,{"$f":"IF(AX77=\"\",\"\",+(AX77-AX76)/AX76)","v":""},{"$f":"IF(AY77=\"\",0,AVERAGE(AY$10:AY77))","v":0},{"$f":"IF(AY76=\"\",0,VAR(AY$10:AY77))","v":0}]
[null,null,null,null,null,null,{"$f":"IF(F78=\"\",0,AVERAGE($F$10:F78))","v":0},{"$f":"IF(F77=\"\",0,VAR($F$10:F78))","v":0},null,null,"",{"$f":"IF(K78=\"\",0,AVERAGE($K$10:K78))","v":0},{"$f":"IF(K77=\"\",0,VAR($K$10:K78))","v":0},null,null,"",{"$f":"IF(P78=\"\",0,AVERAGE(P$10:P78))","v":0},{"$f":"IF(P77=\"\",0,VAR(P$10:P78))","v":0},null,null,{"$f":"IF(T78=\"\",\"\",+(T78-T77)/T77)","v":""},{"$f":"IF(U78=\"\",0,AVERAGE(U$10:U78))","v":0},{"$f":"IF(U77=\"\",0,VAR(U$10:U78))","v":0},null,null,"",{"$f":"IF(Z78=\"\",0,AVERAGE(Z$10:Z78))","v":0},{"$f":"IF(Z77=\"\",0,VAR(Z$10:Z78))","v":0},null,null,{"$f":"IF(AD78=\"\",\"\",+(AD78-AD77)/AD77)","v":""},{"$f":"IF(AE78=\"\",0,AVERAGE(AE$10:AE78))","v":0},{"$f":"IF(AE77=\"\",0,VAR(AE$10:AE78))","v":0},null,null,"",{"$f":"IF(AJ78=\"\",0,AVERAGE(AJ$10:AJ78))","v":0},{"$f":"IF(AJ77=\"\",0,VAR(AJ$10:AJ78))","v":0},null,null,"",{"$f":"IF(AO78=\"\",0,AVERAGE(AO$10:AO78))","v":0},{"$f":"IF(AO77=\"\",0,VAR(AO$10:AO78))","v":0},null,null,"",{"$f":"IF(AT78=\"\",0,AVERAGE(AT$10:AT78))","v":0},{"$f":"IF(AT77=\"\",0,VAR(AT$10:AT78))","v":0},null,null,"",{"$f":"IF(AY78=\"\",0,AVERAGE(AY$10:AY78))","v":0},{"$f":"IF(AY77=\"\",0,VAR(AY$10:AY78))","v":0}]
[null,null,null,null,null,{"$f":"IF(E79=\"\",\"\",+(E79-E78)/E78)","v":""},{"$f":"IF(F79=\"\",0,AVERAGE($F$10:F79))","v":0},{"$f":"IF(F78=\"\",0,VAR($F$10:F79))","v":0},null,null,"",{"$f":"IF(K79=\"\",0,AVERAGE($K$10:K79))","v":0},{"$f":"IF(K78=\"\",0,VAR($K$10:K79))","v":0},null,null,"",{"$f":"IF(P79=\"\",0,AVERAGE(P$10:P79))","v":0},{"$f":"IF(P78=\"\",0,VAR(P$10:P79))","v":0},null,null,"",{"$f":"IF(U79=\"\",0,AVERAGE(U$10:U79))","v":0},{"$f":"IF(U78=\"\",0,VAR(U$10:U79))","v":0},null,null,"",{"$f":"IF(Z79=\"\",0,AVERAGE(Z$10:Z79))","v":0},{"$f":"IF(Z78=\"\",0,VAR(Z$10:Z79))","v":0},null,null,"",{"$f":"IF(AE79=\"\",0,AVERAGE(AE$10:AE79))","v":0},{"$f":"IF(AE78=\"\",0,VAR(AE$10:AE79))","v":0},null,null,"",{"$f":"IF(AJ79=\"\",0,AVERAGE(AJ$10:AJ79))","v":0},{"$f":"IF(AJ78=\"\",0,VAR(AJ$10:AJ79))","v":0},null,null,"",{"$f":"IF(AO79=\"\",0,AVERAGE(AO$10:AO79))","v":0},{"$f":"IF(AO78=\"\",0,VAR(AO$10:AO79))","v":0},null,null,"",{"$f":"IF(AT79=\"\",0,AVERAGE(AT$10:AT79))","v":0},{"$f":"IF(AT78=\"\",0,VAR(AT$10:AT79))","v":0},null,null,"",{"$f":"IF(AY79=\"\",0,AVERAGE(AY$10:AY79))","v":0},{"$f":"IF(AY78=\"\",0,VAR(AY$10:AY79))","v":0}]
[null,null,null,null,null,"",{"$f":"IF(F80=\"\",0,AVERAGE($F$10:F80))","v":0},{"$f":"IF(F79=\"\",0,VAR($F$10:F80))","v":0},null,null,"",{"$f":"IF(K80=\"\",0,AVERAGE($K$10:K80))","v":0},{"$f":"IF(K79=\"\",0,VAR($K$10:K80))","v":0},null,null,"",{"$f":"IF(P80=\"\",0,AVERAGE(P$10:P80))","v":0},{"$f":"IF(P79=\"\",0,VAR(P$10:P80))","v":0},null,null,"",{"$f":"IF(U80=\"\",0,AVERAGE(U$10:U80))","v":0},{"$f":"IF(U79=\"\",0,VAR(U$10:U80))","v":0},null,null,"",{"$f":"IF(Z80=\"\",0,AVERAGE(Z$10:Z80))","v":0},{"$f":"IF(Z79=\"\",0,VAR(Z$10:Z80))","v":0},null,null,"",{"$f":"IF(AE80=\"\",0,AVERAGE(AE$10:AE80))","v":0},{"$f":"IF(AE79=\"\",0,VAR(AE$10:AE80))","v":0},null,null,"",{"$f":"IF(AJ80=\"\",0,AVERAGE(AJ$10:AJ80))","v":0},{"$f":"IF(AJ79=\"\",0,VAR(AJ$10:AJ80))","v":0},null,null,"",{"$f":"IF(AO80=\"\",0,AVERAGE(AO$10:AO80))","v":0},{"$f":"IF(AO79=\"\",0,VAR(AO$10:AO80))","v":0},null,null,"",{"$f":"IF(AT80=\"\",0,AVERAGE(AT$10:AT80))","v":0},{"$f":"IF(AT79=\"\",0,VAR(AT$10:AT80))","v":0},null,null,"",{"$f":"IF(AY80=\"\",0,AVERAGE(AY$10:AY80))","v":0},{"$f":"IF(AY79=\"\",0,VAR(AY$10:AY80))","v":0}]
[null,null,null,null,null,null,{"$f":"IF(F81=\"\",0,AVERAGE($F$10:F81))","v":0},{"$f":"IF(F80=\"\",0,VAR($F$10:F81))","v":0},null,null,"",{"$f":"IF(K81=\"\",0,AVERAGE($K$10:K81))","v":0},{"$f":"IF(K80=\"\",0,VAR($K$10:K81))","v":0},null,null,"",{"$f":"IF(P81=\"\",0,AVERAGE(P$10:P81))","v":0},{"$f":"IF(P80=\"\",0,VAR(P$10:P81))","v":0},null,null,"",{"$f":"IF(U81=\"\",0,AVERAGE(U$10:U81))","v":0},{"$f":"IF(U80=\"\",0,VAR(U$10:U81))","v":0},null,null,"",{"$f":"IF(Z81=\"\",0,AVERAGE(Z$10:Z81))","v":0},{"$f":"IF(Z80=\"\",0,VAR(Z$10:Z81))","v":0},null,null,"",{"$f":"IF(AE81=\"\",0,AVERAGE(AE$10:AE81))","v":0},{"$f":"IF(AE80=\"\",0,VAR(AE$10:AE81))","v":0},null,null,"",{"$f":"IF(AJ81=\"\",0,AVERAGE(AJ$10:AJ81))","v":0},{"$f":"IF(AJ80=\"\",0,VAR(AJ$10:AJ81))","v":0},null,null,"",{"$f":"IF(AO81=\"\",0,AVERAGE(AO$10:AO81))","v":0},{"$f":"IF(AO80=\"\",0,VAR(AO$10:AO81))","v":0},null,null,"",{"$f":"IF(AT81=\"\",0,AVERAGE(AT$10:AT81))","v":0},{"$f":"IF(AT80=\"\",0,VAR(AT$10:AT81))","v":0},null,null,"",{"$f":"IF(AY81=\"\",0,AVERAGE(AY$10:AY81))","v":0},{"$f":"IF(AY80=\"\",0,VAR(AY$10:AY81))","v":0}]
[null,null,null,null,null,{"$f":"IF(E82=\"\",\"\",+(E82-E81)/E81)","v":""},{"$f":"IF(F82=\"\",0,AVERAGE($F$10:F82))","v":0},{"$f":"IF(F81=\"\",0,VAR($F$10:F82))","v":0},null,null,"",{"$f":"IF(K82=\"\",0,AVERAGE($K$10:K82))","v":0},{"$f":"IF(K81=\"\",0,VAR($K$10:K82))","v":0},null,null,"",{"$f":"IF(P82=\"\",0,AVERAGE(P$10:P82))","v":0},{"$f":"IF(P81=\"\",0,VAR(P$10:P82))","v":0},null,null,"",{"$f":"IF(U82=\"\",0,AVERAGE(U$10:U82))","v":0},{"$f":"IF(U81=\"\",0,VAR(U$10:U82))","v":0},null,null,"",{"$f":"IF(Z82=\"\",0,AVERAGE(Z$10:Z82))","v":0},{"$f":"IF(Z81=\"\",0,VAR(Z$10:Z82))","v":0},null,null,"",{"$f":"IF(AE82=\"\",0,AVERAGE(AE$10:AE82))","v":0},{"$f":"IF(AE81=\"\",0,VAR(AE$10:AE82))","v":0},null,null,"",{"$f":"IF(AJ82=\"\",0,AVERAGE(AJ$10:AJ82))","v":0},{"$f":"IF(AJ81=\"\",0,VAR(AJ$10:AJ82))","v":0},null,null,"",{"$f":"IF(AO82=\"\",0,AVERAGE(AO$10:AO82))","v":0},{"$f":"IF(AO81=\"\",0,VAR(AO$10:AO82))","v":0},null,null,"",{"$f":"IF(AT82=\"\",0,AVERAGE(AT$10:AT82))","v":0},{"$f":"IF(AT81=\"\",0,VAR(AT$10:AT82))","v":0},null,null,"",{"$f":"IF(AY82=\"\",0,AVERAGE(AY$10:AY82))","v":0},{"$f":"IF(AY81=\"\",0,VAR(AY$10:AY82))","v":0}]
[null,null,null,null,null,"",{"$f":"IF(F83=\"\",0,AVERAGE($F$10:F83))","v":0},{"$f":"IF(F82=\"\",0,VAR($F$10:F83))","v":0},null,null,"",{"$f":"IF(K83=\"\",0,AVERAGE($K$10:K83))","v":0},{"$f":"IF(K82=\"\",0,VAR($K$10:K83))","v":0},null,null,"",{"$f":"IF(P83=\"\",0,AVERAGE(P$10:P83))","v":0},{"$f":"IF(P82=\"\",0,VAR(P$10:P83))","v":0},null,null,"",{"$f":"IF(U83=\"\",0,AVERAGE(U$10:U83))","v":0},{"$f":"IF(U82=\"\",0,VAR(U$10:U83))","v":0},null,null,"",{"$f":"IF(Z83=\"\",0,AVERAGE(Z$10:Z83))","v":0},{"$f":"IF(Z82=\"\",0,VAR(Z$10:Z83))","v":0},null,null,"",{"$f":"IF(AE83=\"\",0,AVERAGE(AE$10:AE83))","v":0},{"$f":"IF(AE82=\"\",0,VAR(AE$10:AE83))","v":0},null,null,"",{"$f":"IF(AJ83=\"\",0,AVERAGE(AJ$10:AJ83))","v":0},{"$f":"IF(AJ82=\"\",0,VAR(AJ$10:AJ83))","v":0},null,null,"",{"$f":"IF(AO83=\"\",0,AVERAGE(AO$10:AO83))","v":0},{"$f":"IF(AO82=\"\",0,VAR(AO$10:AO83))","v":0},null,null,"",{"$f":"IF(AT83=\"\",0,AVERAGE(AT$10:AT83))","v":0},{"$f":"IF(AT82=\"\",0,VAR(AT$10:AT83))","v":0},null,null,"",{"$f":"IF(AY83=\"\",0,AVERAGE(AY$10:AY83))","v":0},{"$f":"IF(AY82=\"\",0,VAR(AY$10:AY83))","v":0}]
[null,null,null,null,null,null,{"$f":"IF(F84=\"\",0,AVERAGE($F$10:F84))","v":0},{"$f":"IF(F83=\"\",0,VAR($F$10:F84))","v":0},null,null,"",{"$f":"IF(K84=\"\",0,AVERAGE($K$10:K84))","v":0},{"$f":"IF(K83=\"\",0,VAR($K$10:K84))","v":0},null,null,"",{"$f":"IF(P84=\"\",0,AVERAGE(P$10:P84))","v":0},{"$f":"IF(P83=\"\",0,VAR(P$10:P84))","v":0},null,null,"",{"$f":"IF(U84=\"\",0,AVERAGE(U$10:U84))","v":0},{"$f":"IF(U83=\"\",0,VAR(U$10:U84))","v":0},null,null,"",{"$f":"IF(Z84=\"\",0,AVERAGE(Z$10:Z84))","v":0},{"$f":"IF(Z83=\"\",0,VAR(Z$10:Z84))","v":0},null,null,"",{"$f":"IF(AE84=\"\",0,AVERAGE(AE$10:AE84))","v":0},{"$f":"IF(AE83=\"\",0,VAR(AE$10:AE84))","v":0},null,null,"",{"$f":"IF(AJ84=\"\",0,AVERAGE(AJ$10:AJ84))","v":0},{"$f":"IF(AJ83=\"\",0,VAR(AJ$10:AJ84))","v":0},null,null,"",{"$f":"IF(AO84=\"\",0,AVERAGE(AO$10:AO84))","v":0},{"$f":"IF(AO83=\"\",0,VAR(AO$10:AO84))","v":0},null,null,"",{"$f":"IF(AT84=\"\",0,AVERAGE(AT$10:AT84))","v":0},{"$f":"IF(AT83=\"\",0,VAR(AT$10:AT84))","v":0},null,null,"",{"$f":"IF(AY84=\"\",0,AVERAGE(AY$10:AY84))","v":0},{"$f":"IF(AY83=\"\",0,VAR(AY$10:AY84))","v":0}]
[null,null,null,null,null,{"$f":"IF(E85=\"\",\"\",+(E85-E84)/E84)","v":""},{"$f":"IF(F85=\"\",0,AVERAGE($F$10:F85))","v":0},{"$f":"IF(F84=\"\",0,VAR($F$10:F85))","v":0},null,null,"",{"$f":"IF(K85=\"\",0,AVERAGE($K$10:K85))","v":0},{"$f":"IF(K84=\"\",0,VAR($K$10:K85))","v":0},null,null,"",{"$f":"IF(P85=\"\",0,AVERAGE(P$10:P85))","v":0},{"$f":"IF(P84=\"\",0,VAR(P$10:P85))","v":0},null,null,"",{"$f":"IF(U85=\"\",0,AVERAGE(U$10:U85))","v":0},{"$f":"IF(U84=\"\",0,VAR(U$10:U85))","v":0},null,null,"",{"$f":"IF(Z85=\"\",0,AVERAGE(Z$10:Z85))","v":0},{"$f":"IF(Z84=\"\",0,VAR(Z$10:Z85))","v":0},null,null,"",{"$f":"IF(AE85=\"\",0,AVERAGE(AE$10:AE85))","v":0},{"$f":"IF(AE84=\"\",0,VAR(AE$10:AE85))","v":0},null,null,"",{"$f":"IF(AJ85=\"\",0,AVERAGE(AJ$10:AJ85))","v":0},{"$f":"IF(AJ84=\"\",0,VAR(AJ$10:AJ85))","v":0},null,null,"",{"$f":"IF(AO85=\"\",0,AVERAGE(AO$10:AO85))","v":0},{"$f":"IF(AO84=\"\",0,VAR(AO$10:AO85))","v":0},null,null,"",{"$f":"IF(AT85=\"\",0,AVERAGE(AT$10:AT85))","v":0},{"$f":"IF(AT84=\"\",0,VAR(AT$10:AT85))","v":0},null,null,"",{"$f":"IF(AY85=\"\",0,AVERAGE(AY$10:AY85))","v":0},{"$f":"IF(AY84=\"\",0,VAR(AY$10:AY85))","v":0}]
[null,null,null,null,null,"",{"$f":"IF(F86=\"\",0,AVERAGE($F$10:F86))","v":0},{"$f":"IF(F85=\"\",0,VAR($F$10:F86))","v":0},null,null,"",{"$f":"IF(K86=\"\",0,AVERAGE($K$10:K86))","v":0},{"$f":"IF(K85=\"\",0,VAR($K$10:K86))","v":0},null,null,"",{"$f":"IF(P86=\"\",0,AVERAGE(P$10:P86))","v":0},{"$f":"IF(P85=\"\",0,VAR(P$10:P86))","v":0},null,null,"",{"$f":"IF(U86=\"\",0,AVERAGE(U$10:U86))","v":0},{"$f":"IF(U85=\"\",0,VAR(U$10:U86))","v":0},null,null,"",{"$f":"IF(Z86=\"\",0,AVERAGE(Z$10:Z86))","v":0},{"$f":"IF(Z85=\"\",0,VAR(Z$10:Z86))","v":0},null,null,"",{"$f":"IF(AE86=\"\",0,AVERAGE(AE$10:AE86))","v":0},{"$f":"IF(AE85=\"\",0,VAR(AE$10:AE86))","v":0},null,null,"",{"$f":"IF(AJ86=\"\",0,AVERAGE(AJ$10:AJ86))","v":0},{"$f":"IF(AJ85=\"\",0,VAR(AJ$10:AJ86))","v":0},null,null,"",{"$f":"IF(AO86=\"\",0,AVERAGE(AO$10:AO86))","v":0},{"$f":"IF(AO85=\"\",0,VAR(AO$10:AO86))","v":0},null,null,"",{"$f":"IF(AT86=\"\",0,AVERAGE(AT$10:AT86))","v":0},{"$f":"IF(AT85=\"\",0,VAR(AT$10:AT86))","v":0},null,null,"",{"$f":"IF(AY86=\"\",0,AVERAGE(AY$10:AY86))","v":0},{"$f":"IF(AY85=\"\",0,VAR(AY$10:AY86))","v":0}]
[null,null,null,null,null,null,{"$f":"IF(F87=\"\",0,AVERAGE($F$10:F87))","v":0},{"$f":"IF(F86=\"\",0,VAR($F$10:F87))","v":0},null,null,"",{"$f":"IF(K87=\"\",0,AVERAGE($K$10:K87))","v":0},{"$f":"IF(K86=\"\",0,VAR($K$10:K87))","v":0},null,null,"",{"$f":"IF(P87=\"\",0,AVERAGE(P$10:P87))","v":0},{"$f":"IF(P86=\"\",0,VAR(P$10:P87))","v":0},null,null,"",{"$f":"IF(U87=\"\",0,AVERAGE(U$10:U87))","v":0},{"$f":"IF(U86=\"\",0,VAR(U$10:U87))","v":0},null,null,"",{"$f":"IF(Z87=\"\",0,AVERAGE(Z$10:Z87))","v":0},{"$f":"IF(Z86=\"\",0,VAR(Z$10:Z87))","v":0},null,null,"",{"$f":"IF(AE87=\"\",0,AVERAGE(AE$10:AE87))","v":0},{"$f":"IF(AE86=\"\",0,VAR(AE$10:AE87))","v":0},null,null,"",{"$f":"IF(AJ87=\"\",0,AVERAGE(AJ$10:AJ87))","v":0},{"$f":"IF(AJ86=\"\",0,VAR(AJ$10:AJ87))","v":0},null,null,"",{"$f":"IF(AO87=\"\",0,AVERAGE(AO$10:AO87))","v":0},{"$f":"IF(AO86=\"\",0,VAR(AO$10:AO87))","v":0},null,null,"",{"$f":"IF(AT87=\"\",0,AVERAGE(AT$10:AT87))","v":0},{"$f":"IF(AT86=\"\",0,VAR(AT$10:AT87))","v":0},null,null,"",{"$f":"IF(AY87=\"\",0,AVERAGE(AY$10:AY87))","v":0},{"$f":"IF(AY86=\"\",0,VAR(AY$10:AY87))","v":0}]
[null,null,null,null,null,{"$f":"IF(E88=\"\",\"\",+(E88-E87)/E87)","v":""},{"$f":"IF(F88=\"\",0,AVERAGE($F$10:F88))","v":0},{"$f":"IF(F87=\"\",0,VAR($F$10:F88))","v":0},null,null,"",{"$f":"IF(K88=\"\",0,AVERAGE($K$10:K88))","v":0},{"$f":"IF(K87=\"\",0,VAR($K$10:K88))","v":0},null,null,"",{"$f":"IF(P88=\"\",0,AVERAGE(P$10:P88))","v":0},{"$f":"IF(P87=\"\",0,VAR(P$10:P88))","v":0},null,null,"",{"$f":"IF(U88=\"\",0,AVERAGE(U$10:U88))","v":0},{"$f":"IF(U87=\"\",0,VAR(U$10:U88))","v":0},null,null,"",{"$f":"IF(Z88=\"\",0,AVERAGE(Z$10:Z88))","v":0},{"$f":"IF(Z87=\"\",0,VAR(Z$10:Z88))","v":0},null,null,"",{"$f":"IF(AE88=\"\",0,AVERAGE(AE$10:AE88))","v":0},{"$f":"IF(AE87=\"\",0,VAR(AE$10:AE88))","v":0},null,null,"",{"$f":"IF(AJ88=\"\",0,AVERAGE(AJ$10:AJ88))","v":0},{"$f":"IF(AJ87=\"\",0,VAR(AJ$10:AJ88))","v":0},null,null,"",{"$f":"IF(AO88=\"\",0,AVERAGE(AO$10:AO88))","v":0},{"$f":"IF(AO87=\"\",0,VAR(AO$10:AO88))","v":0},null,null,"",{"$f":"IF(AT88=\"\",0,AVERAGE(AT$10:AT88))","v":0},{"$f":"IF(AT87=\"\",0,VAR(AT$10:AT88))","v":0},null,null,"",{"$f":"IF(AY88=\"\",0,AVERAGE(AY$10:AY88))","v":0},{"$f":"IF(AY87=\"\",0,VAR(AY$10:AY88))","v":0}]
[null,null,null,null,null,"",{"$f":"IF(F89=\"\",0,AVERAGE($F$10:F89))","v":0},{"$f":"IF(F88=\"\",0,VAR($F$10:F89))","v":0},null,null,"",{"$f":"IF(K89=\"\",0,AVERAGE($K$10:K89))","v":0},{"$f":"IF(K88=\"\",0,VAR($K$10:K89))","v":0},null,null,"",{"$f":"IF(P89=\"\",0,AVERAGE(P$10:P89))","v":0},{"$f":"IF(P88=\"\",0,VAR(P$10:P89))","v":0},null,null,"",{"$f":"IF(U89=\"\",0,AVERAGE(U$10:U89))","v":0},{"$f":"IF(U88=\"\",0,VAR(U$10:U89))","v":0},null,null,"",{"$f":"IF(Z89=\"\",0,AVERAGE(Z$10:Z89))","v":0},{"$f":"IF(Z88=\"\",0,VAR(Z$10:Z89))","v":0},null,null,"",{"$f":"IF(AE89=\"\",0,AVERAGE(AE$10:AE89))","v":0},{"$f":"IF(AE88=\"\",0,VAR(AE$10:AE89))","v":0},null,null,"",{"$f":"IF(AJ89=\"\",0,AVERAGE(AJ$10:AJ89))","v":0},{"$f":"IF(AJ88=\"\",0,VAR(AJ$10:AJ89))","v":0},null,null,"",{"$f":"IF(AO89=\"\",0,AVERAGE(AO$10:AO89))","v":0},{"$f":"IF(AO88=\"\",0,VAR(AO$10:AO89))","v":0},null,null,"",{"$f":"IF(AT89=\"\",0,AVERAGE(AT$10:AT89))","v":0},{"$f":"IF(AT88=\"\",0,VAR(AT$10:AT89))","v":0},null,null,"",{"$f":"IF(AY89=\"\",0,AVERAGE(AY$10:AY89))","v":0},{"$f":"IF(AY88=\"\",0,VAR(AY$10:AY89))","v":0}]
[null,null,null,null,null,null,{"$f":"IF(F90=\"\",0,AVERAGE($F$10:F90))","v":0},{"$f":"IF(F89=\"\",0,VAR($F$10:F90))","v":0},null,null,"",{"$f":"IF(K90=\"\",0,AVERAGE($K$10:K90))","v":0},{"$f":"IF(K89=\"\",0,VAR($K$10:K90))","v":0},null,null,"",{"$f":"IF(P90=\"\",0,AVERAGE(P$10:P90))","v":0},{"$f":"IF(P89=\"\",0,VAR(P$10:P90))","v":0},null,null,"",{"$f":"IF(U90=\"\",0,AVERAGE(U$10:U90))","v":0},{"$f":"IF(U89=\"\",0,VAR(U$10:U90))","v":0},null,null,"",{"$f":"IF(Z90=\"\",0,AVERAGE(Z$10:Z90))","v":0},{"$f":"IF(Z89=\"\",0,VAR(Z$10:Z90))","v":0},null,null,"",{"$f":"IF(AE90=\"\",0,AVERAGE(AE$10:AE90))","v":0},{"$f":"IF(AE89=\"\",0,VAR(AE$10:AE90))","v":0},null,null,"",{"$f":"IF(AJ90=\"\",0,AVERAGE(AJ$10:AJ90))","v":0},{"$f":"IF(AJ89=\"\",0,VAR(AJ$10:AJ90))","v":0},null,null,"",{"$f":"IF(AO90=\"\",0,AVERAGE(AO$10:AO90))","v":0},{"$f":"IF(AO89=\"\",0,VAR(AO$10:AO90))","v":0},null,null,"",{"$f":"IF(AT90=\"\",0,AVERAGE(AT$10:AT90))","v":0},{"$f":"IF(AT89=\"\",0,VAR(AT$10:AT90))","v":0},null,null,"",{"$f":"IF(AY90=\"\",0,AVERAGE(AY$10:AY90))","v":0},{"$f":"IF(AY89=\"\",0,VAR(AY$10:AY90))","v":0}]
[null,null,null,null,null,{"$f":"IF(E91=\"\",\"\",+(E91-E90)/E90)","v":""},{"$f":"IF(F91=\"\",0,AVERAGE($F$10:F91))","v":0},{"$f":"IF(F90=\"\",0,VAR($F$10:F91))","v":0},null,null,"",{"$f":"IF(K91=\"\",0,AVERAGE($K$10:K91))","v":0},{"$f":"IF(K90=\"\",0,VAR($K$10:K91))","v":0},null,null,"",{"$f":"IF(P91=\"\",0,AVERAGE(P$10:P91))","v":0},{"$f":"IF(P90=\"\",0,VAR(P$10:P91))","v":0},null,null,"",{"$f":"IF(U91=\"\",0,AVERAGE(U$10:U91))","v":0},{"$f":"IF(U90=\"\",0,VAR(U$10:U91))","v":0},null,null,"",{"$f":"IF(Z91=\"\",0,AVERAGE(Z$10:Z91))","v":0},{"$f":"IF(Z90=\"\",0,VAR(Z$10:Z91))","v":0},null,null,"",{"$f":"IF(AE91=\"\",0,AVERAGE(AE$10:AE91))","v":0},{"$f":"IF(AE90=\"\",0,VAR(AE$10:AE91))","v":0},null,null,"",{"$f":"IF(AJ91=\"\",0,AVERAGE(AJ$10:AJ91))","v":0},{"$f":"IF(AJ90=\"\",0,VAR(AJ$10:AJ91))","v":0},null,null,"",{"$f":"IF(AO91=\"\",0,AVERAGE(AO$10:AO91))","v":0},{"$f":"IF(AO90=\"\",0,VAR(AO$10:AO91))","v":0},null,null,"",{"$f":"IF(AT91=\"\",0,AVERAGE(AT$10:AT91))","v":0},{"$f":"IF(AT90=\"\",0,VAR(AT$10:AT91))","v":0},null,null,"",{"$f":"IF(AY91=\"\",0,AVERAGE(AY$10:AY91))","v":0},{"$f":"IF(AY90=\"\",0,VAR(AY$10:AY91))","v":0}]
[null,null,null,null,null,"",{"$f":"IF(F92=\"\",0,AVERAGE($F$10:F92))","v":0},{"$f":"IF(F91=\"\",0,VAR($F$10:F92))","v":0},null,null,"",{"$f":"IF(K92=\"\",0,AVERAGE($K$10:K92))","v":0},{"$f":"IF(K91=\"\",0,VAR($K$10:K92))","v":0},null,null,"",{"$f":"IF(P92=\"\",0,AVERAGE(P$10:P92))","v":0},{"$f":"IF(P91=\"\",0,VAR(P$10:P92))","v":0},null,null,"",{"$f":"IF(U92=\"\",0,AVERAGE(U$10:U92))","v":0},{"$f":"IF(U91=\"\",0,VAR(U$10:U92))","v":0},null,null,"",{"$f":"IF(Z92=\"\",0,AVERAGE(Z$10:Z92))","v":0},{"$f":"IF(Z91=\"\",0,VAR(Z$10:Z92))","v":0},null,null,"",{"$f":"IF(AE92=\"\",0,AVERAGE(AE$10:AE92))","v":0},{"$f":"IF(AE91=\"\",0,VAR(AE$10:AE92))","v":0},null,null,"",{"$f":"IF(AJ92=\"\",0,AVERAGE(AJ$10:AJ92))","v":0},{"$f":"IF(AJ91=\"\",0,VAR(AJ$10:AJ92))","v":0},null,null,"",{"$f":"IF(AO92=\"\",0,AVERAGE(AO$10:AO92))","v":0},{"$f":"IF(AO91=\"\",0,VAR(AO$10:AO92))","v":0},null,null,"",{"$f":"IF(AT92=\"\",0,AVERAGE(AT$10:AT92))","v":0},{"$f":"IF(AT91=\"\",0,VAR(AT$10:AT92))","v":0},null,null,"",{"$f":"IF(AY92=\"\",0,AVERAGE(AY$10:AY92))","v":0},{"$f":"IF(AY91=\"\",0,VAR(AY$10:AY92))","v":0}]
[null,null,null,null,null,null,{"$f":"IF(F93=\"\",0,AVERAGE($F$10:F93))","v":0},{"$f":"IF(F92=\"\",0,VAR($F$10:F93))","v":0},null,null,"",{"$f":"IF(K93=\"\",0,AVERAGE($K$10:K93))","v":0},{"$f":"IF(K92=\"\",0,VAR($K$10:K93))","v":0},null,null,"",{"$f":"IF(P93=\"\",0,AVERAGE(P$10:P93))","v":0},{"$f":"IF(P92=\"\",0,VAR(P$10:P93))","v":0},null,null,"",{"$f":"IF(U93=\"\",0,AVERAGE(U$10:U93))","v":0},{"$f":"IF(U92=\"\",0,VAR(U$10:U93))","v":0},null,null,"",{"$f":"IF(Z93=\"\",0,AVERAGE(Z$10:Z93))","v":0},{"$f":"IF(Z92=\"\",0,VAR(Z$10:Z93))","v":0},null,null,"",{"$f":"IF(AE93=\"\",0,AVERAGE(AE$10:AE93))","v":0},{"$f":"IF(AE92=\"\",0,VAR(AE$10:AE93))","v":0},null,null,"",{"$f":"IF(AJ93=\"\",0,AVERAGE(AJ$10:AJ93))","v":0},{"$f":"IF(AJ92=\"\",0,VAR(AJ$10:AJ93))","v":0},null,null,"",{"$f":"IF(AO93=\"\",0,AVERAGE(AO$10:AO93))","v":0},{"$f":"IF(AO92=\"\",0,VAR(AO$10:AO93))","v":0},null,null,"",{"$f":"IF(AT93=\"\",0,AVERAGE(AT$10:AT93))","v":0},{"$f":"IF(AT92=\"\",0,VAR(AT$10:AT93))","v":0},null,null,"",{"$f":"IF(AY93=\"\",0,AVERAGE(AY$10:AY93))","v":0},{"$f":"IF(AY92=\"\",0,VAR(AY$10:AY93))","v":0}]
[null,null,null,null,null,{"$f":"IF(E94=\"\",\"\",+(E94-E93)/E93)","v":""},{"$f":"IF(F94=\"\",0,AVERAGE($F$10:F94))","v":0},{"$f":"IF(F93=\"\",0,VAR($F$10:F94))","v":0},null,null,"",{"$f":"IF(K94=\"\",0,AVERAGE($K$10:K94))","v":0},{"$f":"IF(K93=\"\",0,VAR($K$10:K94))","v":0},null,null,"",{"$f":"IF(P94=\"\",0,AVERAGE(P$10:P94))","v":0},{"$f":"IF(P93=\"\",0,VAR(P$10:P94))","v":0},null,null,"",{"$f":"IF(U94=\"\",0,AVERAGE(U$10:U94))","v":0},{"$f":"IF(U93=\"\",0,VAR(U$10:U94))","v":0},null,null,"",{"$f":"IF(Z94=\"\",0,AVERAGE(Z$10:Z94))","v":0},{"$f":"IF(Z93=\"\",0,VAR(Z$10:Z94))","v":0},null,null,"",{"$f":"IF(AE94=\"\",0,AVERAGE(AE$10:AE94))","v":0},{"$f":"IF(AE93=\"\",0,VAR(AE$10:AE94))","v":0},null,null,"",{"$f":"IF(AJ94=\"\",0,AVERAGE(AJ$10:AJ94))","v":0},{"$f":"IF(AJ93=\"\",0,VAR(AJ$10:AJ94))","v":0},null,null,"",{"$f":"IF(AO94=\"\",0,AVERAGE(AO$10:AO94))","v":0},{"$f":"IF(AO93=\"\",0,VAR(AO$10:AO94))","v":0},null,null,"",{"$f":"IF(AT94=\"\",0,AVERAGE(AT$10:AT94))","v":0},{"$f":"IF(AT93=\"\",0,VAR(AT$10:AT94))","v":0},null,null,"",{"$f":"IF(AY94=\"\",0,AVERAGE(AY$10:AY94))","v":0},{"$f":"IF(AY93=\"\",0,VAR(AY$10:AY94))","v":0}]
[null,null,null,null,null,"",{"$f":"IF(F95=\"\",0,AVERAGE($F$10:F95))","v":0},{"$f":"IF(F94=\"\",0,VAR($F$10:F95))","v":0},null,null,"",{"$f":"IF(K95=\"\",0,AVERAGE($K$10:K95))","v":0},{"$f":"IF(K94=\"\",0,VAR($K$10:K95))","v":0},null,null,"",{"$f":"IF(P95=\"\",0,AVERAGE(P$10:P95))","v":0},{"$f":"IF(P94=\"\",0,VAR(P$10:P95))","v":0},null,null,"",{"$f":"IF(U95=\"\",0,AVERAGE(U$10:U95))","v":0},{"$f":"IF(U94=\"\",0,VAR(U$10:U95))","v":0},null,null,"",{"$f":"IF(Z95=\"\",0,AVERAGE(Z$10:Z95))","v":0},{"$f":"IF(Z94=\"\",0,VAR(Z$10:Z95))","v":0},null,null,"",{"$f":"IF(AE95=\"\",0,AVERAGE(AE$10:AE95))","v":0},{"$f":"IF(AE94=\"\",0,VAR(AE$10:AE95))","v":0},null,null,"",{"$f":"IF(AJ95=\"\",0,AVERAGE(AJ$10:AJ95))","v":0},{"$f":"IF(AJ94=\"\",0,VAR(AJ$10:AJ95))","v":0},null,null,"",{"$f":"IF(AO95=\"\",0,AVERAGE(AO$10:AO95))","v":0},{"$f":"IF(AO94=\"\",0,VAR(AO$10:AO95))","v":0},null,null,"",{"$f":"IF(AT95=\"\",0,AVERAGE(AT$10:AT95))","v":0},{"$f":"IF(AT94=\"\",0,VAR(AT$10:AT95))","v":0},null,null,"",{"$f":"IF(AY95=\"\",0,AVERAGE(AY$10:AY95))","v":0},{"$f":"IF(AY94=\"\",0,VAR(AY$10:AY95))","v":0}]
[null,null,null,null,null,null,{"$f":"IF(F96=\"\",0,AVERAGE($F$10:F96))","v":0},{"$f":"IF(F95=\"\",0,VAR($F$10:F96))","v":0},null,null,"",{"$f":"IF(K96=\"\",0,AVERAGE($K$10:K96))","v":0},{"$f":"IF(K95=\"\",0,VAR($K$10:K96))","v":0},null,null,"",{"$f":"IF(P96=\"\",0,AVERAGE(P$10:P96))","v":0},{"$f":"IF(P95=\"\",0,VAR(P$10:P96))","v":0},null,null,"",{"$f":"IF(U96=\"\",0,AVERAGE(U$10:U96))","v":0},{"$f":"IF(U95=\"\",0,VAR(U$10:U96))","v":0},null,null,"",{"$f":"IF(Z96=\"\",0,AVERAGE(Z$10:Z96))","v":0},{"$f":"IF(Z95=\"\",0,VAR(Z$10:Z96))","v":0},null,null,"",{"$f":"IF(AE96=\"\",0,AVERAGE(AE$10:AE96))","v":0},{"$f":"IF(AE95=\"\",0,VAR(AE$10:AE96))","v":0},null,null,"",{"$f":"IF(AJ96=\"\",0,AVERAGE(AJ$10:AJ96))","v":0},{"$f":"IF(AJ95=\"\",0,VAR(AJ$10:AJ96))","v":0},null,null,"",{"$f":"IF(AO96=\"\",0,AVERAGE(AO$10:AO96))","v":0},{"$f":"IF(AO95=\"\",0,VAR(AO$10:AO96))","v":0},null,null,"",{"$f":"IF(AT96=\"\",0,AVERAGE(AT$10:AT96))","v":0},{"$f":"IF(AT95=\"\",0,VAR(AT$10:AT96))","v":0},null,null,"",{"$f":"IF(AY96=\"\",0,AVERAGE(AY$10:AY96))","v":0},{"$f":"IF(AY95=\"\",0,VAR(AY$10:AY96))","v":0}]
[null,null,null,null,null,{"$f":"IF(E97=\"\",\"\",+(E97-E96)/E96)","v":""},{"$f":"IF(F97=\"\",0,AVERAGE($F$10:F97))","v":0},{"$f":"IF(F96=\"\",0,VAR($F$10:F97))","v":0},null,null,"",{"$f":"IF(K97=\"\",0,AVERAGE($K$10:K97))","v":0},{"$f":"IF(K96=\"\",0,VAR($K$10:K97))","v":0},null,null,"",{"$f":"IF(P97=\"\",0,AVERAGE(P$10:P97))","v":0},{"$f":"IF(P96=\"\",0,VAR(P$10:P97))","v":0},null,null,"",{"$f":"IF(U97=\"\",0,AVERAGE(U$10:U97))","v":0},{"$f":"IF(U96=\"\",0,VAR(U$10:U97))","v":0},null,null,"",{"$f":"IF(Z97=\"\",0,AVERAGE(Z$10:Z97))","v":0},{"$f":"IF(Z96=\"\",0,VAR(Z$10:Z97))","v":0},null,null,"",{"$f":"IF(AE97=\"\",0,AVERAGE(AE$10:AE97))","v":0},{"$f":"IF(AE96=\"\",0,VAR(AE$10:AE97))","v":0},null,null,"",{"$f":"IF(AJ97=\"\",0,AVERAGE(AJ$10:AJ97))","v":0},{"$f":"IF(AJ96=\"\",0,VAR(AJ$10:AJ97))","v":0},null,null,"",{"$f":"IF(AO97=\"\",0,AVERAGE(AO$10:AO97))","v":0},{"$f":"IF(AO96=\"\",0,VAR(AO$10:AO97))","v":0},null,null,"",{"$f":"IF(AT97=\"\",0,AVERAGE(AT$10:AT97))","v":0},{"$f":"IF(AT96=\"\",0,VAR(AT$10:AT97))","v":0},null,null,"",{"$f":"IF(AY97=\"\",0,AVERAGE(AY$10:AY97))","v":0},{"$f":"IF(AY96=\"\",0,VAR(AY$10:AY97))","v":0}]
[null,null,null,null,null,"",{"$f":"IF(F98=\"\",0,AVERAGE($F$10:F98))","v":0},{"$f":"IF(F97=\"\",0,VAR($F$10:F98))","v":0},null,null,"",{"$f":"IF(K98=\"\",0,AVERAGE($K$10:K98))","v":0},{"$f":"IF(K97=\"\",0,VAR($K$10:K98))","v":0},null,null,"",{"$f":"IF(P98=\"\",0,AVERAGE(P$10:P98))","v":0},{"$f":"IF(P97=\"\",0,VAR(P$10:P98))","v":0},null,null,"",{"$f":"IF(U98=\"\",0,AVERAGE(U$10:U98))","v":0},{"$f":"IF(U97=\"\",0,VAR(U$10:U98))","v":0},null,null,"",{"$f":"IF(Z98=\"\",0,AVERAGE(Z$10:Z98))","v":0},{"$f":"IF(Z97=\"\",0,VAR(Z$10:Z98))","v":0},null,null,"",{"$f":"IF(AE98=\"\",0,AVERAGE(AE$10:AE98))","v":0},{"$f":"IF(AE97=\"\",0,VAR(AE$10:AE98))","v":0},null,null,"",{"$f":"IF(AJ98=\"\",0,AVERAGE(AJ$10:AJ98))","v":0},{"$f":"IF(AJ97=\"\",0,VAR(AJ$10:AJ98))","v":0},null,null,"",{"$f":"IF(AO98=\"\",0,AVERAGE(AO$10:AO98))","v":0},{"$f":"IF(AO97=\"\",0,VAR(AO$10:AO98))","v":0},null,null,"",{"$f":"IF(AT98=\"\",0,AVERAGE(AT$10:AT98))","v":0},{"$f":"IF(AT97=\"\",0,VAR(AT$10:AT98))","v":0},null,null,"",{"$f":"IF(AY98=\"\",0,AVERAGE(AY$10:AY98))","v":0},{"$f":"IF(AY97=\"\",0,VAR(AY$10:AY98))","v":0}]
[null,null,null,null,null,null,{"$f":"IF(F99=\"\",0,AVERAGE($F$10:F99))","v":0},{"$f":"IF(F98=\"\",0,VAR($F$10:F99))","v":0},null,null,"",{"$f":"IF(K99=\"\",0,AVERAGE($K$10:K99))","v":0},{"$f":"IF(K98=\"\",0,VAR($K$10:K99))","v":0},null,null,"",{"$f":"IF(P99=\"\",0,AVERAGE(P$10:P99))","v":0},{"$f":"IF(P98=\"\",0,VAR(P$10:P99))","v":0},null,null,"",{"$f":"IF(U99=\"\",0,AVERAGE(U$10:U99))","v":0},{"$f":"IF(U98=\"\",0,VAR(U$10:U99))","v":0},null,null,"",{"$f":"IF(Z99=\"\",0,AVERAGE(Z$10:Z99))","v":0},{"$f":"IF(Z98=\"\",0,VAR(Z$10:Z99))","v":0},null,null,"",{"$f":"IF(AE99=\"\",0,AVERAGE(AE$10:AE99))","v":0},{"$f":"IF(AE98=\"\",0,VAR(AE$10:AE99))","v":0},null,null,"",{"$f":"IF(AJ99=\"\",0,AVERAGE(AJ$10:AJ99))","v":0},{"$f":"IF(AJ98=\"\",0,VAR(AJ$10:AJ99))","v":0},null,null,"",{"$f":"IF(AO99=\"\",0,AVERAGE(AO$10:AO99))","v":0},{"$f":"IF(AO98=\"\",0,VAR(AO$10:AO99))","v":0},null,null,"",{"$f":"IF(AT99=\"\",0,AVERAGE(AT$10:AT99))","v":0},{"$f":"IF(AT98=\"\",0,VAR(AT$10:AT99))","v":0},null,null,"",{"$f":"IF(AY99=\"\",0,AVERAGE(AY$10:AY99))","v":0},{"$f":"IF(AY98=\"\",0,VAR(AY$10:AY99))","v":0}]
[null,null,null,null,null,{"$f":"IF(E100=\"\",\"\",+(E100-E99)/E99)","v":""},{"$f":"IF(F100=\"\",0,AVERAGE($F$10:F100))","v":0},{"$f":"IF(F99=\"\",0,VAR($F$10:F100))","v":0},null,null,"",{"$f":"IF(K100=\"\",0,AVERAGE($K$10:K100))","v":0},{"$f":"IF(K99=\"\",0,VAR($K$10:K100))","v":0},null,null,"",{"$f":"IF(P100=\"\",0,AVERAGE(P$10:P100))","v":0},{"$f":"IF(P99=\"\",0,VAR(P$10:P100))","v":0},null,null,"",{"$f":"IF(U100=\"\",0,AVERAGE(U$10:U100))","v":0},{"$f":"IF(U99=\"\",0,VAR(U$10:U100))","v":0},null,null,"",{"$f":"IF(Z100=\"\",0,AVERAGE(Z$10:Z100))","v":0},{"$f":"IF(Z99=\"\",0,VAR(Z$10:Z100))","v":0},null,null,"",{"$f":"IF(AE100=\"\",0,AVERAGE(AE$10:AE100))","v":0},{"$f":"IF(AE99=\"\",0,VAR(AE$10:AE100))","v":0},null,null,"",{"$f":"IF(AJ100=\"\",0,AVERAGE(AJ$10:AJ100))","v":0},{"$f":"IF(AJ99=\"\",0,VAR(AJ$10:AJ100))","v":0},null,null,"",{"$f":"IF(AO100=\"\",0,AVERAGE(AO$10:AO100))","v":0},{"$f":"IF(AO99=\"\",0,VAR(AO$10:AO100))","v":0},null,null,"",{"$f":"IF(AT100=\"\",0,AVERAGE(AT$10:AT100))","v":0},{"$f":"IF(AT99=\"\",0,VAR(AT$10:AT100))","v":0},null,null,"",{"$f":"IF(AY100=\"\",0,AVERAGE(AY$10:AY100))","v":0},{"$f":"IF(AY99=\"\",0,VAR(AY$10:AY100))","v":0}]
[null,null,null,null,null,"",{"$f":"IF(F101=\"\",0,AVERAGE($F$10:F101))","v":0},{"$f":"IF(F100=\"\",0,VAR($F$10:F101))","v":0},null,null,"",{"$f":"IF(K101=\"\",0,AVERAGE($K$10:K101))","v":0},{"$f":"IF(K100=\"\",0,VAR($K$10:K101))","v":0},null,null,"",{"$f":"IF(P101=\"\",0,AVERAGE(P$10:P101))","v":0},{"$f":"IF(P100=\"\",0,VAR(P$10:P101))","v":0},null,null,"",{"$f":"IF(U101=\"\",0,AVERAGE(U$10:U101))","v":0},{"$f":"IF(U100=\"\",0,VAR(U$10:U101))","v":0},null,null,"",{"$f":"IF(Z101=\"\",0,AVERAGE(Z$10:Z101))","v":0},{"$f":"IF(Z100=\"\",0,VAR(Z$10:Z101))","v":0},null,null,"",{"$f":"IF(AE101=\"\",0,AVERAGE(AE$10:AE101))","v":0},{"$f":"IF(AE100=\"\",0,VAR(AE$10:AE101))","v":0},null,null,"",{"$f":"IF(AJ101=\"\",0,AVERAGE(AJ$10:AJ101))","v":0},{"$f":"IF(AJ100=\"\",0,VAR(AJ$10:AJ101))","v":0},null,null,"",{"$f":"IF(AO101=\"\",0,AVERAGE(AO$10:AO101))","v":0},{"$f":"IF(AO100=\"\",0,VAR(AO$10:AO101))","v":0},null,null,"",{"$f":"IF(AT101=\"\",0,AVERAGE(AT$10:AT101))","v":0},{"$f":"IF(AT100=\"\",0,VAR(AT$10:AT101))","v":0},null,null,"",{"$f":"IF(AY101=\"\",0,AVERAGE(AY$10:AY101))","v":0},{"$f":"IF(AY100=\"\",0,VAR(AY$10:AY101))","v":0}]
[null,null,null,null,null,null,{"$f":"IF(F102=\"\",0,AVERAGE($F$10:F102))","v":0},{"$f":"IF(F101=\"\",0,VAR($F$10:F102))","v":0},null,null,"",{"$f":"IF(K102=\"\",0,AVERAGE($K$10:K102))","v":0},{"$f":"IF(K101=\"\",0,VAR($K$10:K102))","v":0},null,null,"",{"$f":"IF(P102=\"\",0,AVERAGE(P$10:P102))","v":0},{"$f":"IF(P101=\"\",0,VAR(P$10:P102))","v":0},null,null,"",{"$f":"IF(U102=\"\",0,AVERAGE(U$10:U102))","v":0},{"$f":"IF(U101=\"\",0,VAR(U$10:U102))","v":0},null,null,"",{"$f":"IF(Z102=\"\",0,AVERAGE(Z$10:Z102))","v":0},{"$f":"IF(Z101=\"\",0,VAR(Z$10:Z102))","v":0},null,null,"",{"$f":"IF(AE102=\"\",0,AVERAGE(AE$10:AE102))","v":0},{"$f":"IF(AE101=\"\",0,VAR(AE$10:AE102))","v":0},null,null,"",{"$f":"IF(AJ102=\"\",0,AVERAGE(AJ$10:AJ102))","v":0},{"$f":"IF(AJ101=\"\",0,VAR(AJ$10:AJ102))","v":0},null,null,"",{"$f":"IF(AO102=\"\",0,AVERAGE(AO$10:AO102))","v":0},{"$f":"IF(AO101=\"\",0,VAR(AO$10:AO102))","v":0},null,null,"",{"$f":"IF(AT102=\"\",0,AVERAGE(AT$10:AT102))","v":0},{"$f":"IF(AT101=\"\",0,VAR(AT$10:AT102))","v":0},null,null,"",{"$f":"IF(AY102=\"\",0,AVERAGE(AY$10:AY102))","v":0},{"$f":"IF(AY101=\"\",0,VAR(AY$10:AY102))","v":0}]
[null,null,null,null,null,{"$f":"IF(E103=\"\",\"\",+(E103-E102)/E102)","v":""},{"$f":"IF(F103=\"\",0,AVERAGE($F$10:F103))","v":0},{"$f":"IF(F102=\"\",0,VAR($F$10:F103))","v":0},null,null,"",{"$f":"IF(K103=\"\",0,AVERAGE($K$10:K103))","v":0},{"$f":"IF(K102=\"\",0,VAR($K$10:K103))","v":0},null,null,"",{"$f":"IF(P103=\"\",0,AVERAGE(P$10:P103))","v":0},{"$f":"IF(P102=\"\",0,VAR(P$10:P103))","v":0},null,null,"",{"$f":"IF(U103=\"\",0,AVERAGE(U$10:U103))","v":0},{"$f":"IF(U102=\"\",0,VAR(U$10:U103))","v":0},null,null,"",{"$f":"IF(Z103=\"\",0,AVERAGE(Z$10:Z103))","v":0},{"$f":"IF(Z102=\"\",0,VAR(Z$10:Z103))","v":0},null,null,"",{"$f":"IF(AE103=\"\",0,AVERAGE(AE$10:AE103))","v":0},{"$f":"IF(AE102=\"\",0,VAR(AE$10:AE103))","v":0},null,null,"",{"$f":"IF(AJ103=\"\",0,AVERAGE(AJ$10:AJ103))","v":0},{"$f":"IF(AJ102=\"\",0,VAR(AJ$10:AJ103))","v":0},null,null,"",{"$f":"IF(AO103=\"\",0,AVERAGE(AO$10:AO103))","v":0},{"$f":"IF(AO102=\"\",0,VAR(AO$10:AO103))","v":0},null,null,"",{"$f":"IF(AT103=\"\",0,AVERAGE(AT$10:AT103))","v":0},{"$f":"IF(AT102=\"\",0,VAR(AT$10:AT103))","v":0},null,null,"",{"$f":"IF(AY103=\"\",0,AVERAGE(AY$10:AY103))","v":0},{"$f":"IF(AY102=\"\",0,VAR(AY$10:AY103))","v":0}]
[null,null,null,null,null,"",{"$f":"IF(F104=\"\",0,AVERAGE($F$10:F104))","v":0},{"$f":"IF(F103=\"\",0,VAR($F$10:F104))","v":0},null,null,"",{"$f":"IF(K104=\"\",0,AVERAGE($K$10:K104))","v":0},{"$f":"IF(K103=\"\",0,VAR($K$10:K104))","v":0},null,null,"",{"$f":"IF(P104=\"\",0,AVERAGE(P$10:P104))","v":0},{"$f":"IF(P103=\"\",0,VAR(P$10:P104))","v":0},null,null,"",{"$f":"IF(U104=\"\",0,AVERAGE(U$10:U104))","v":0},{"$f":"IF(U103=\"\",0,VAR(U$10:U104))","v":0},null,null,"",{"$f":"IF(Z104=\"\",0,AVERAGE(Z$10:Z104))","v":0},{"$f":"IF(Z103=\"\",0,VAR(Z$10:Z104))","v":0},null,null,"",{"$f":"IF(AE104=\"\",0,AVERAGE(AE$10:AE104))","v":0},{"$f":"IF(AE103=\"\",0,VAR(AE$10:AE104))","v":0},null,null,"",{"$f":"IF(AJ104=\"\",0,AVERAGE(AJ$10:AJ104))","v":0},{"$f":"IF(AJ103=\"\",0,VAR(AJ$10:AJ104))","v":0},null,null,"",{"$f":"IF(AO104=\"\",0,AVERAGE(AO$10:AO104))","v":0},{"$f":"IF(AO103=\"\",0,VAR(AO$10:AO104))","v":0},null,null,"",{"$f":"IF(AT104=\"\",0,AVERAGE(AT$10:AT104))","v":0},{"$f":"IF(AT103=\"\",0,VAR(AT$10:AT104))","v":0},null,null,"",{"$f":"IF(AY104=\"\",0,AVERAGE(AY$10:AY104))","v":0},{"$f":"IF(AY103=\"\",0,VAR(AY$10:AY104))","v":0}]
[null,null,null,null,null,null,{"$f":"IF(F105=\"\",0,AVERAGE($F$10:F105))","v":0},{"$f":"IF(F104=\"\",0,VAR($F$10:F105))","v":0},null,null,"",{"$f":"IF(K105=\"\",0,AVERAGE($K$10:K105))","v":0},{"$f":"IF(K104=\"\",0,VAR($K$10:K105))","v":0},null,null,"",{"$f":"IF(P105=\"\",0,AVERAGE(P$10:P105))","v":0},{"$f":"IF(P104=\"\",0,VAR(P$10:P105))","v":0},null,null,"",{"$f":"IF(U105=\"\",0,AVERAGE(U$10:U105))","v":0},{"$f":"IF(U104=\"\",0,VAR(U$10:U105))","v":0},null,null,"",{"$f":"IF(Z105=\"\",0,AVERAGE(Z$10:Z105))","v":0},{"$f":"IF(Z104=\"\",0,VAR(Z$10:Z105))","v":0},null,null,"",{"$f":"IF(AE105=\"\",0,AVERAGE(AE$10:AE105))","v":0},{"$f":"IF(AE104=\"\",0,VAR(AE$10:AE105))","v":0},null,null,"",{"$f":"IF(AJ105=\"\",0,AVERAGE(AJ$10:AJ105))","v":0},{"$f":"IF(AJ104=\"\",0,VAR(AJ$10:AJ105))","v":0},null,null,"",{"$f":"IF(AO105=\"\",0,AVERAGE(AO$10:AO105))","v":0},{"$f":"IF(AO104=\"\",0,VAR(AO$10:AO105))","v":0},null,null,"",{"$f":"IF(AT105=\"\",0,AVERAGE(AT$10:AT105))","v":0},{"$f":"IF(AT104=\"\",0,VAR(AT$10:AT105))","v":0},null,null,"",{"$f":"IF(AY105=\"\",0,AVERAGE(AY$10:AY105))","v":0},{"$f":"IF(AY104=\"\",0,VAR(AY$10:AY105))","v":0}]
[null,null,null,null,null,{"$f":"IF(E106=\"\",\"\",+(E106-E105)/E105)","v":""},{"$f":"IF(F106=\"\",0,AVERAGE($F$10:F106))","v":0},{"$f":"IF(F105=\"\",0,VAR($F$10:F106))","v":0},null,null,"",{"$f":"IF(K106=\"\",0,AVERAGE($K$10:K106))","v":0},{"$f":"IF(K105=\"\",0,VAR($K$10:K106))","v":0},null,null,"",{"$f":"IF(P106=\"\",0,AVERAGE(P$10:P106))","v":0},{"$f":"IF(P105=\"\",0,VAR(P$10:P106))","v":0},null,null,"",{"$f":"IF(U106=\"\",0,AVERAGE(U$10:U106))","v":0},{"$f":"IF(U105=\"\",0,VAR(U$10:U106))","v":0},null,null,"",{"$f":"IF(Z106=\"\",0,AVERAGE(Z$10:Z106))","v":0},{"$f":"IF(Z105=\"\",0,VAR(Z$10:Z106))","v":0},null,null,"",{"$f":"IF(AE106=\"\",0,AVERAGE(AE$10:AE106))","v":0},{"$f":"IF(AE105=\"\",0,VAR(AE$10:AE106))","v":0},null,null,"",{"$f":"IF(AJ106=\"\",0,AVERAGE(AJ$10:AJ106))","v":0},{"$f":"IF(AJ105=\"\",0,VAR(AJ$10:AJ106))","v":0},null,null,"",{"$f":"IF(AO106=\"\",0,AVERAGE(AO$10:AO106))","v":0},{"$f":"IF(AO105=\"\",0,VAR(AO$10:AO106))","v":0},null,null,"",{"$f":"IF(AT106=\"\",0,AVERAGE(AT$10:AT106))","v":0},{"$f":"IF(AT105=\"\",0,VAR(AT$10:AT106))","v":0},null,null,"",{"$f":"IF(AY106=\"\",0,AVERAGE(AY$10:AY106))","v":0},{"$f":"IF(AY105=\"\",0,VAR(AY$10:AY106))","v":0}]
[null,null,null,null,null,"",{"$f":"IF(F107=\"\",0,AVERAGE($F$10:F107))","v":0},{"$f":"IF(F106=\"\",0,VAR($F$10:F107))","v":0},null,null,"",{"$f":"IF(K107=\"\",0,AVERAGE($K$10:K107))","v":0},{"$f":"IF(K106=\"\",0,VAR($K$10:K107))","v":0},null,null,"",{"$f":"IF(P107=\"\",0,AVERAGE(P$10:P107))","v":0},{"$f":"IF(P106=\"\",0,VAR(P$10:P107))","v":0},null,null,"",{"$f":"IF(U107=\"\",0,AVERAGE(U$10:U107))","v":0},{"$f":"IF(U106=\"\",0,VAR(U$10:U107))","v":0},null,null,"",{"$f":"IF(Z107=\"\",0,AVERAGE(Z$10:Z107))","v":0},{"$f":"IF(Z106=\"\",0,VAR(Z$10:Z107))","v":0},null,null,"",{"$f":"IF(AE107=\"\",0,AVERAGE(AE$10:AE107))","v":0},{"$f":"IF(AE106=\"\",0,VAR(AE$10:AE107))","v":0},null,null,"",{"$f":"IF(AJ107=\"\",0,AVERAGE(AJ$10:AJ107))","v":0},{"$f":"IF(AJ106=\"\",0,VAR(AJ$10:AJ107))","v":0},null,null,"",{"$f":"IF(AO107=\"\",0,AVERAGE(AO$10:AO107))","v":0},{"$f":"IF(AO106=\"\",0,VAR(AO$10:AO107))","v":0},null,null,"",{"$f":"IF(AT107=\"\",0,AVERAGE(AT$10:AT107))","v":0},{"$f":"IF(AT106=\"\",0,VAR(AT$10:AT107))","v":0},null,null,"",{"$f":"IF(AY107=\"\",0,AVERAGE(AY$10:AY107))","v":0},{"$f":"IF(AY106=\"\",0,VAR(AY$10:AY107))","v":0}]
[null,null,null,null,null,null,{"$f":"IF(F108=\"\",0,AVERAGE($F$10:F108))","v":0},{"$f":"IF(F107=\"\",0,VAR($F$10:F108))","v":0},null,null,"",{"$f":"IF(K108=\"\",0,AVERAGE($K$10:K108))","v":0},{"$f":"IF(K107=\"\",0,VAR($K$10:K108))","v":0},null,null,"",{"$f":"IF(P108=\"\",0,AVERAGE(P$10:P108))","v":0},{"$f":"IF(P107=\"\",0,VAR(P$10:P108))","v":0},null,null,"",{"$f":"IF(U108=\"\",0,AVERAGE(U$10:U108))","v":0},{"$f":"IF(U107=\"\",0,VAR(U$10:U108))","v":0},null,null,"",{"$f":"IF(Z108=\"\",0,AVERAGE(Z$10:Z108))","v":0},{"$f":"IF(Z107=\"\",0,VAR(Z$10:Z108))","v":0},null,null,"",{"$f":"IF(AE108=\"\",0,AVERAGE(AE$10:AE108))","v":0},{"$f":"IF(AE107=\"\",0,VAR(AE$10:AE108))","v":0},null,null,"",{"$f":"IF(AJ108=\"\",0,AVERAGE(AJ$10:AJ108))","v":0},{"$f":"IF(AJ107=\"\",0,VAR(AJ$10:AJ108))","v":0},null,null,"",{"$f":"IF(AO108=\"\",0,AVERAGE(AO$10:AO108))","v":0},{"$f":"IF(AO107=\"\",0,VAR(AO$10:AO108))","v":0},null,null,"",{"$f":"IF(AT108=\"\",0,AVERAGE(AT$10:AT108))","v":0},{"$f":"IF(AT107=\"\",0,VAR(AT$10:AT108))","v":0},null,null,"",{"$f":"IF(AY108=\"\",0,AVERAGE(AY$10:AY108))","v":0},{"$f":"IF(AY107=\"\",0,VAR(AY$10:AY108))","v":0}]
[null,null,null,null,null,{"$f":"IF(E109=\"\",\"\",+(E109-E108)/E108)","v":""},{"$f":"IF(F109=\"\",0,AVERAGE($F$10:F109))","v":0},{"$f":"IF(F108=\"\",0,VAR($F$10:F109))","v":0},null,null,"",{"$f":"IF(K109=\"\",0,AVERAGE($K$10:K109))","v":0},{"$f":"IF(K108=\"\",0,VAR($K$10:K109))","v":0},null,null,"",{"$f":"IF(P109=\"\",0,AVERAGE(P$10:P109))","v":0},{"$f":"IF(P108=\"\",0,VAR(P$10:P109))","v":0},null,null,"",{"$f":"IF(U109=\"\",0,AVERAGE(U$10:U109))","v":0},{"$f":"IF(U108=\"\",0,VAR(U$10:U109))","v":0},null,null,"",{"$f":"IF(Z109=\"\",0,AVERAGE(Z$10:Z109))","v":0},{"$f":"IF(Z108=\"\",0,VAR(Z$10:Z109))","v":0},null,null,"",{"$f":"IF(AE109=\"\",0,AVERAGE(AE$10:AE109))","v":0},{"$f":"IF(AE108=\"\",0,VAR(AE$10:AE109))","v":0},null,null,"",{"$f":"IF(AJ109=\"\",0,AVERAGE(AJ$10:AJ109))","v":0},{"$f":"IF(AJ108=\"\",0,VAR(AJ$10:AJ109))","v":0},null,null,"",{"$f":"IF(AO109=\"\",0,AVERAGE(AO$10:AO109))","v":0},{"$f":"IF(AO108=\"\",0,VAR(AO$10:AO109))","v":0},null,null,"",{"$f":"IF(AT109=\"\",0,AVERAGE(AT$10:AT109))","v":0},{"$f":"IF(AT108=\"\",0,VAR(AT$10:AT109))","v":0},null,null,"",{"$f":"IF(AY109=\"\",0,AVERAGE(AY$10:AY109))","v":0},{"$f":"IF(AY108=\"\",0,VAR(AY$10:AY109))","v":0}]
[null,null,null,null,null,"",{"$f":"IF(F110=\"\",0,AVERAGE($F$10:F110))","v":0},{"$f":"IF(F109=\"\",0,VAR($F$10:F110))","v":0},null,null,"",{"$f":"IF(K110=\"\",0,AVERAGE($K$10:K110))","v":0},{"$f":"IF(K109=\"\",0,VAR($K$10:K110))","v":0},null,null,"",{"$f":"IF(P110=\"\",0,AVERAGE(P$10:P110))","v":0},{"$f":"IF(P109=\"\",0,VAR(P$10:P110))","v":0},null,null,"",{"$f":"IF(U110=\"\",0,AVERAGE(U$10:U110))","v":0},{"$f":"IF(U109=\"\",0,VAR(U$10:U110))","v":0},null,null,"",{"$f":"IF(Z110=\"\",0,AVERAGE(Z$10:Z110))","v":0},{"$f":"IF(Z109=\"\",0,VAR(Z$10:Z110))","v":0},null,null,"",{"$f":"IF(AE110=\"\",0,AVERAGE(AE$10:AE110))","v":0},{"$f":"IF(AE109=\"\",0,VAR(AE$10:AE110))","v":0},null,null,"",{"$f":"IF(AJ110=\"\",0,AVERAGE(AJ$10:AJ110))","v":0},{"$f":"IF(AJ109=\"\",0,VAR(AJ$10:AJ110))","v":0},null,null,"",{"$f":"IF(AO110=\"\",0,AVERAGE(AO$10:AO110))","v":0},{"$f":"IF(AO109=\"\",0,VAR(AO$10:AO110))","v":0},null,null,"",{"$f":"IF(AT110=\"\",0,AVERAGE(AT$10:AT110))","v":0},{"$f":"IF(AT109=\"\",0,VAR(AT$10:AT110))","v":0},null,null,"",{"$f":"IF(AY110=\"\",0,AVERAGE(AY$10:AY110))","v":0},{"$f":"IF(AY109=\"\",0,VAR(AY$10:AY110))","v":0}]
[null,null,null,null,null,null,{"$f":"IF(F111=\"\",0,AVERAGE($F$10:F111))","v":0},{"$f":"IF(F110=\"\",0,VAR($F$10:F111))","v":0},null,null,"",{"$f":"IF(K111=\"\",0,AVERAGE($K$10:K111))","v":0},{"$f":"IF(K110=\"\",0,VAR($K$10:K111))","v":0},null,null,"",{"$f":"IF(P111=\"\",0,AVERAGE(P$10:P111))","v":0},{"$f":"IF(P110=\"\",0,VAR(P$10:P111))","v":0},null,null,"",{"$f":"IF(U111=\"\",0,AVERAGE(U$10:U111))","v":0},{"$f":"IF(U110=\"\",0,VAR(U$10:U111))","v":0},null,null,"",{"$f":"IF(Z111=\"\",0,AVERAGE(Z$10:Z111))","v":0},{"$f":"IF(Z110=\"\",0,VAR(Z$10:Z111))","v":0},null,null,"",{"$f":"IF(AE111=\"\",0,AVERAGE(AE$10:AE111))","v":0},{"$f":"IF(AE110=\"\",0,VAR(AE$10:AE111))","v":0},null,null,"",{"$f":"IF(AJ111=\"\",0,AVERAGE(AJ$10:AJ111))","v":0},{"$f":"IF(AJ110=\"\",0,VAR(AJ$10:AJ111))","v":0},null,null,"",{"$f":"IF(AO111=\"\",0,AVERAGE(AO$10:AO111))","v":0},{"$f":"IF(AO110=\"\",0,VAR(AO$10:AO111))","v":0},null,null,"",{"$f":"IF(AT111=\"\",0,AVERAGE(AT$10:AT111))","v":0},{"$f":"IF(AT110=\"\",0,VAR(AT$10:AT111))","v":0},null,null,"",{"$f":"IF(AY111=\"\",0,AVERAGE(AY$10:AY111))","v":0},{"$f":"IF(AY110=\"\",0,VAR(AY$10:AY111))","v":0}]
[null,null,null,null,null,{"$f":"IF(E112=\"\",\"\",+(E112-E111)/E111)","v":""},{"$f":"IF(F112=\"\",0,AVERAGE($F$10:F112))","v":0},{"$f":"IF(F111=\"\",0,VAR($F$10:F112))","v":0},null,null,"",{"$f":"IF(K112=\"\",0,AVERAGE($K$10:K112))","v":0},{"$f":"IF(K111=\"\",0,VAR($K$10:K112))","v":0},null,null,"",{"$f":"IF(P112=\"\",0,AVERAGE(P$10:P112))","v":0},{"$f":"IF(P111=\"\",0,VAR(P$10:P112))","v":0},null,null,"",{"$f":"IF(U112=\"\",0,AVERAGE(U$10:U112))","v":0},{"$f":"IF(U111=\"\",0,VAR(U$10:U112))","v":0},null,null,"",{"$f":"IF(Z112=\"\",0,AVERAGE(Z$10:Z112))","v":0},{"$f":"IF(Z111=\"\",0,VAR(Z$10:Z112))","v":0},null,null,"",{"$f":"IF(AE112=\"\",0,AVERAGE(AE$10:AE112))","v":0},{"$f":"IF(AE111=\"\",0,VAR(AE$10:AE112))","v":0},null,null,"",{"$f":"IF(AJ112=\"\",0,AVERAGE(AJ$10:AJ112))","v":0},{"$f":"IF(AJ111=\"\",0,VAR(AJ$10:AJ112))","v":0},null,null,"",{"$f":"IF(AO112=\"\",0,AVERAGE(AO$10:AO112))","v":0},{"$f":"IF(AO111=\"\",0,VAR(AO$10:AO112))","v":0},null,null,"",{"$f":"IF(AT112=\"\",0,AVERAGE(AT$10:AT112))","v":0},{"$f":"IF(AT111=\"\",0,VAR(AT$10:AT112))","v":0},null,null,"",{"$f":"IF(AY112=\"\",0,AVERAGE(AY$10:AY112))","v":0},{"$f":"IF(AY111=\"\",0,VAR(AY$10:AY112))","v":0}]
[null,null,null,null,null,"",{"$f":"IF(F113=\"\",0,AVERAGE($F$10:F113))","v":0},{"$f":"IF(F112=\"\",0,VAR($F$10:F113))","v":0},null,null,"",{"$f":"IF(K113=\"\",0,AVERAGE($K$10:K113))","v":0},{"$f":"IF(K112=\"\",0,VAR($K$10:K113))","v":0},null,null,"",{"$f":"IF(P113=\"\",0,AVERAGE(P$10:P113))","v":0},{"$f":"IF(P112=\"\",0,VAR(P$10:P113))","v":0},null,null,"",{"$f":"IF(U113=\"\",0,AVERAGE(U$10:U113))","v":0},{"$f":"IF(U112=\"\",0,VAR(U$10:U113))","v":0},null,null,"",{"$f":"IF(Z113=\"\",0,AVERAGE(Z$10:Z113))","v":0},{"$f":"IF(Z112=\"\",0,VAR(Z$10:Z113))","v":0},null,null,"",{"$f":"IF(AE113=\"\",0,AVERAGE(AE$10:AE113))","v":0},{"$f":"IF(AE112=\"\",0,VAR(AE$10:AE113))","v":0},null,null,"",{"$f":"IF(AJ113=\"\",0,AVERAGE(AJ$10:AJ113))","v":0},{"$f":"IF(AJ112=\"\",0,VAR(AJ$10:AJ113))","v":0},null,null,"",{"$f":"IF(AO113=\"\",0,AVERAGE(AO$10:AO113))","v":0},{"$f":"IF(AO112=\"\",0,VAR(AO$10:AO113))","v":0},null,null,"",{"$f":"IF(AT113=\"\",0,AVERAGE(AT$10:AT113))","v":0},{"$f":"IF(AT112=\"\",0,VAR(AT$10:AT113))","v":0},null,null,"",{"$f":"IF(AY113=\"\",0,AVERAGE(AY$10:AY113))","v":0},{"$f":"IF(AY112=\"\",0,VAR(AY$10:AY113))","v":0}]
[null,null,null,null,null,null,{"$f":"IF(F114=\"\",0,AVERAGE($F$10:F114))","v":0},{"$f":"IF(F113=\"\",0,VAR($F$10:F114))","v":0},null,null,"",{"$f":"IF(K114=\"\",0,AVERAGE($K$10:K114))","v":0},{"$f":"IF(K113=\"\",0,VAR($K$10:K114))","v":0},null,null,"",{"$f":"IF(P114=\"\",0,AVERAGE(P$10:P114))","v":0},{"$f":"IF(P113=\"\",0,VAR(P$10:P114))","v":0},null,null,"",{"$f":"IF(U114=\"\",0,AVERAGE(U$10:U114))","v":0},{"$f":"IF(U113=\"\",0,VAR(U$10:U114))","v":0},null,null,"",{"$f":"IF(Z114=\"\",0,AVERAGE(Z$10:Z114))","v":0},{"$f":"IF(Z113=\"\",0,VAR(Z$10:Z114))","v":0},null,null,"",{"$f":"IF(AE114=\"\",0,AVERAGE(AE$10:AE114))","v":0},{"$f":"IF(AE113=\"\",0,VAR(AE$10:AE114))","v":0},null,null,"",{"$f":"IF(AJ114=\"\",0,AVERAGE(AJ$10:AJ114))","v":0},{"$f":"IF(AJ113=\"\",0,VAR(AJ$10:AJ114))","v":0},null,null,"",{"$f":"IF(AO114=\"\",0,AVERAGE(AO$10:AO114))","v":0},{"$f":"IF(AO113=\"\",0,VAR(AO$10:AO114))","v":0},null,null,"",{"$f":"IF(AT114=\"\",0,AVERAGE(AT$10:AT114))","v":0},{"$f":"IF(AT113=\"\",0,VAR(AT$10:AT114))","v":0},null,null,"",{"$f":"IF(AY114=\"\",0,AVERAGE(AY$10:AY114))","v":0},{"$f":"IF(AY113=\"\",0,VAR(AY$10:AY114))","v":0}]
[null,null,null,null,null,{"$f":"IF(E115=\"\",\"\",+(E115-E114)/E114)","v":""},{"$f":"IF(F115=\"\",0,AVERAGE($F$10:F115))","v":0},{"$f":"IF(F114=\"\",0,VAR($F$10:F115))","v":0},null,null,"",{"$f":"IF(K115=\"\",0,AVERAGE($K$10:K115))","v":0},{"$f":"IF(K114=\"\",0,VAR($K$10:K115))","v":0},null,null,"",{"$f":"IF(P115=\"\",0,AVERAGE(P$10:P115))","v":0},{"$f":"IF(P114=\"\",0,VAR(P$10:P115))","v":0},null,null,"",{"$f":"IF(U115=\"\",0,AVERAGE(U$10:U115))","v":0},{"$f":"IF(U114=\"\",0,VAR(U$10:U115))","v":0},null,null,"",{"$f":"IF(Z115=\"\",0,AVERAGE(Z$10:Z115))","v":0},{"$f":"IF(Z114=\"\",0,VAR(Z$10:Z115))","v":0},null,null,"",{"$f":"IF(AE115=\"\",0,AVERAGE(AE$10:AE115))","v":0},{"$f":"IF(AE114=\"\",0,VAR(AE$10:AE115))","v":0},null,null,"",{"$f":"IF(AJ115=\"\",0,AVERAGE(AJ$10:AJ115))","v":0},{"$f":"IF(AJ114=\"\",0,VAR(AJ$10:AJ115))","v":0},null,null,"",{"$f":"IF(AO115=\"\",0,AVERAGE(AO$10:AO115))","v":0},{"$f":"IF(AO114=\"\",0,VAR(AO$10:AO115))","v":0},null,null,"",{"$f":"IF(AT115=\"\",0,AVERAGE(AT$10:AT115))","v":0},{"$f":"IF(AT114=\"\",0,VAR(AT$10:AT115))","v":0},null,null,"",{"$f":"IF(AY115=\"\",0,AVERAGE(AY$10:AY115))","v":0},{"$f":"IF(AY114=\"\",0,VAR(AY$10:AY115))","v":0}]
[null,null,null,null,null,"",{"$f":"IF(F116=\"\",0,AVERAGE($F$10:F116))","v":0},{"$f":"IF(F115=\"\",0,VAR($F$10:F116))","v":0},null,null,"",{"$f":"IF(K116=\"\",0,AVERAGE($K$10:K116))","v":0},{"$f":"IF(K115=\"\",0,VAR($K$10:K116))","v":0},null,null,"",{"$f":"IF(P116=\"\",0,AVERAGE(P$10:P116))","v":0},{"$f":"IF(P115=\"\",0,VAR(P$10:P116))","v":0},null,null,"",{"$f":"IF(U116=\"\",0,AVERAGE(U$10:U116))","v":0},{"$f":"IF(U115=\"\",0,VAR(U$10:U116))","v":0},null,null,"",{"$f":"IF(Z116=\"\",0,AVERAGE(Z$10:Z116))","v":0},{"$f":"IF(Z115=\"\",0,VAR(Z$10:Z116))","v":0},null,null,"",{"$f":"IF(AE116=\"\",0,AVERAGE(AE$10:AE116))","v":0},{"$f":"IF(AE115=\"\",0,VAR(AE$10:AE116))","v":0},null,null,"",{"$f":"IF(AJ116=\"\",0,AVERAGE(AJ$10:AJ116))","v":0},{"$f":"IF(AJ115=\"\",0,VAR(AJ$10:AJ116))","v":0},null,null,"",{"$f":"IF(AO116=\"\",0,AVERAGE(AO$10:AO116))","v":0},{"$f":"IF(AO115=\"\",0,VAR(AO$10:AO116))","v":0},null,null,"",{"$f":"IF(AT116=\"\",0,AVERAGE(AT$10:AT116))","v":0},{"$f":"IF(AT115=\"\",0,VAR(AT$10:AT116))","v":0},null,null,"",{"$f":"IF(AY116=\"\",0,AVERAGE(AY$10:AY116))","v":0},{"$f":"IF(AY115=\"\",0,VAR(AY$10:AY116))","v":0}]
[null,null,null,null,null,null,{"$f":"IF(F117=\"\",0,AVERAGE($F$10:F117))","v":0},{"$f":"IF(F116=\"\",0,VAR($F$10:F117))","v":0},null,null,"",{"$f":"IF(K117=\"\",0,AVERAGE($K$10:K117))","v":0},{"$f":"IF(K116=\"\",0,VAR($K$10:K117))","v":0},null,null,"",{"$f":"IF(P117=\"\",0,AVERAGE(P$10:P117))","v":0},{"$f":"IF(P116=\"\",0,VAR(P$10:P117))","v":0},null,null,"",{"$f":"IF(U117=\"\",0,AVERAGE(U$10:U117))","v":0},{"$f":"IF(U116=\"\",0,VAR(U$10:U117))","v":0},null,null,"",{"$f":"IF(Z117=\"\",0,AVERAGE(Z$10:Z117))","v":0},{"$f":"IF(Z116=\"\",0,VAR(Z$10:Z117))","v":0},null,null,"",{"$f":"IF(AE117=\"\",0,AVERAGE(AE$10:AE117))","v":0},{"$f":"IF(AE116=\"\",0,VAR(AE$10:AE117))","v":0},null,null,"",{"$f":"IF(AJ117=\"\",0,AVERAGE(AJ$10:AJ117))","v":0},{"$f":"IF(AJ116=\"\",0,VAR(AJ$10:AJ117))","v":0},null,null,"",{"$f":"IF(AO117=\"\",0,AVERAGE(AO$10:AO117))","v":0},{"$f":"IF(AO116=\"\",0,VAR(AO$10:AO117))","v":0},null,null,"",{"$f":"IF(AT117=\"\",0,AVERAGE(AT$10:AT117))","v":0},{"$f":"IF(AT116=\"\",0,VAR(AT$10:AT117))","v":0},null,null,"",{"$f":"IF(AY117=\"\",0,AVERAGE(AY$10:AY117))","v":0},{"$f":"IF(AY116=\"\",0,VAR(AY$10:AY117))","v":0}]
[null,null,null,null,null,{"$f":"IF(E118=\"\",\"\",+(E118-E117)/E117)","v":""},{"$f":"IF(F118=\"\",0,AVERAGE($F$10:F118))","v":0},{"$f":"IF(F117=\"\",0,VAR($F$10:F118))","v":0},null,null,"",{"$f":"IF(K118=\"\",0,AVERAGE($K$10:K118))","v":0},{"$f":"IF(K117=\"\",0,VAR($K$10:K118))","v":0},null,null,"",{"$f":"IF(P118=\"\",0,AVERAGE(P$10:P118))","v":0},{"$f":"IF(P117=\"\",0,VAR(P$10:P118))","v":0},null,null,"",{"$f":"IF(U118=\"\",0,AVERAGE(U$10:U118))","v":0},{"$f":"IF(U117=\"\",0,VAR(U$10:U118))","v":0},null,null,"",{"$f":"IF(Z118=\"\",0,AVERAGE(Z$10:Z118))","v":0},{"$f":"IF(Z117=\"\",0,VAR(Z$10:Z118))","v":0},null,null,"",{"$f":"IF(AE118=\"\",0,AVERAGE(AE$10:AE118))","v":0},{"$f":"IF(AE117=\"\",0,VAR(AE$10:AE118))","v":0},null,null,"",{"$f":"IF(AJ118=\"\",0,AVERAGE(AJ$10:AJ118))","v":0},{"$f":"IF(AJ117=\"\",0,VAR(AJ$10:AJ118))","v":0},null,null,"",{"$f":"IF(AO118=\"\",0,AVERAGE(AO$10:AO118))","v":0},{"$f":"IF(AO117=\"\",0,VAR(AO$10:AO118))","v":0},null,null,"",{"$f":"IF(AT118=\"\",0,AVERAGE(AT$10:AT118))","v":0},{"$f":"IF(AT117=\"\",0,VAR(AT$10:AT118))","v":0},null,null,"",{"$f":"IF(AY118=\"\",0,AVERAGE(AY$10:AY118))","v":0},{"$f":"IF(AY117=\"\",0,VAR(AY$10:AY118))","v":0}]
[null,null,null,null,null,"",{"$f":"IF(F119=\"\",0,AVERAGE($F$10:F119))","v":0},{"$f":"IF(F118=\"\",0,VAR($F$10:F119))","v":0},null,null,"",{"$f":"IF(K119=\"\",0,AVERAGE($K$10:K119))","v":0},{"$f":"IF(K118=\"\",0,VAR($K$10:K119))","v":0},null,null,"",{"$f":"IF(P119=\"\",0,AVERAGE(P$10:P119))","v":0},{"$f":"IF(P118=\"\",0,VAR(P$10:P119))","v":0},null,null,"",{"$f":"IF(U119=\"\",0,AVERAGE(U$10:U119))","v":0},{"$f":"IF(U118=\"\",0,VAR(U$10:U119))","v":0},null,null,"",{"$f":"IF(Z119=\"\",0,AVERAGE(Z$10:Z119))","v":0},{"$f":"IF(Z118=\"\",0,VAR(Z$10:Z119))","v":0},null,null,"",{"$f":"IF(AE119=\"\",0,AVERAGE(AE$10:AE119))","v":0},{"$f":"IF(AE118=\"\",0,VAR(AE$10:AE119))","v":0},null,null,"",{"$f":"IF(AJ119=\"\",0,AVERAGE(AJ$10:AJ119))","v":0},{"$f":"IF(AJ118=\"\",0,VAR(AJ$10:AJ119))","v":0},null,null,"",{"$f":"IF(AO119=\"\",0,AVERAGE(AO$10:AO119))","v":0},{"$f":"IF(AO118=\"\",0,VAR(AO$10:AO119))","v":0},null,null,"",{"$f":"IF(AT119=\"\",0,AVERAGE(AT$10:AT119))","v":0},{"$f":"IF(AT118=\"\",0,VAR(AT$10:AT119))","v":0},null,null,"",{"$f":"IF(AY119=\"\",0,AVERAGE(AY$10:AY119))","v":0},{"$f":"IF(AY118=\"\",0,VAR(AY$10:AY119))","v":0}]
[null,null,null,null,null,null,{"$f":"IF(F120=\"\",0,AVERAGE($F$10:F120))","v":0},{"$f":"IF(F119=\"\",0,VAR($F$10:F120))","v":0},null,null,"",{"$f":"IF(K120=\"\",0,AVERAGE($K$10:K120))","v":0},{"$f":"IF(K119=\"\",0,VAR($K$10:K120))","v":0},null,null,"",{"$f":"IF(P120=\"\",0,AVERAGE(P$10:P120))","v":0},{"$f":"IF(P119=\"\",0,VAR(P$10:P120))","v":0},null,null,"",{"$f":"IF(U120=\"\",0,AVERAGE(U$10:U120))","v":0},{"$f":"IF(U119=\"\",0,VAR(U$10:U120))","v":0},null,null,"",{"$f":"IF(Z120=\"\",0,AVERAGE(Z$10:Z120))","v":0},{"$f":"IF(Z119=\"\",0,VAR(Z$10:Z120))","v":0},null,null,"",{"$f":"IF(AE120=\"\",0,AVERAGE(AE$10:AE120))","v":0},{"$f":"IF(AE119=\"\",0,VAR(AE$10:AE120))","v":0},null,null,"",{"$f":"IF(AJ120=\"\",0,AVERAGE(AJ$10:AJ120))","v":0},{"$f":"IF(AJ119=\"\",0,VAR(AJ$10:AJ120))","v":0},null,null,"",{"$f":"IF(AO120=\"\",0,AVERAGE(AO$10:AO120))","v":0},{"$f":"IF(AO119=\"\",0,VAR(AO$10:AO120))","v":0},null,null,"",{"$f":"IF(AT120=\"\",0,AVERAGE(AT$10:AT120))","v":0},{"$f":"IF(AT119=\"\",0,VAR(AT$10:AT120))","v":0},null,null,"",{"$f":"IF(AY120=\"\",0,AVERAGE(AY$10:AY120))","v":0},{"$f":"IF(AY119=\"\",0,VAR(AY$10:AY120))","v":0}]
[null,null,null,null,null,{"$f":"IF(E121=\"\",\"\",+(E121-E120)/E120)","v":""},{"$f":"IF(F121=\"\",0,AVERAGE($F$10:F121))","v":0},{"$f":"IF(F120=\"\",0,VAR($F$10:F121))","v":0},null,null,"",{"$f":"IF(K121=\"\",0,AVERAGE($K$10:K121))","v":0},{"$f":"IF(K120=\"\",0,VAR($K$10:K121))","v":0},null,null,"",{"$f":"IF(P121=\"\",0,AVERAGE(P$10:P121))","v":0},{"$f":"IF(P120=\"\",0,VAR(P$10:P121))","v":0},null,null,"",{"$f":"IF(U121=\"\",0,AVERAGE(U$10:U121))","v":0},{"$f":"IF(U120=\"\",0,VAR(U$10:U121))","v":0},null,null,"",{"$f":"IF(Z121=\"\",0,AVERAGE(Z$10:Z121))","v":0},{"$f":"IF(Z120=\"\",0,VAR(Z$10:Z121))","v":0},null,null,"",{"$f":"IF(AE121=\"\",0,AVERAGE(AE$10:AE121))","v":0},{"$f":"IF(AE120=\"\",0,VAR(AE$10:AE121))","v":0},null,null,"",{"$f":"IF(AJ121=\"\",0,AVERAGE(AJ$10:AJ121))","v":0},{"$f":"IF(AJ120=\"\",0,VAR(AJ$10:AJ121))","v":0},null,null,"",{"$f":"IF(AO121=\"\",0,AVERAGE(AO$10:AO121))","v":0},{"$f":"IF(AO120=\"\",0,VAR(AO$10:AO121))","v":0},null,null,"",{"$f":"IF(AT121=\"\",0,AVERAGE(AT$10:AT121))","v":0},{"$f":"IF(AT120=\"\",0,VAR(AT$10:AT121))","v":0},null,null,"",{"$f":"IF(AY121=\"\",0,AVERAGE(AY$10:AY121))","v":0},{"$f":"IF(AY120=\"\",0,VAR(AY$10:AY121))","v":0}]
[null,null,null,null,null,"",{"$f":"IF(F122=\"\",0,AVERAGE($F$10:F122))","v":0},{"$f":"IF(F121=\"\",0,VAR($F$10:F122))","v":0},null,null,"",{"$f":"IF(K122=\"\",0,AVERAGE($K$10:K122))","v":0},{"$f":"IF(K121=\"\",0,VAR($K$10:K122))","v":0},null,null,"",{"$f":"IF(P122=\"\",0,AVERAGE(P$10:P122))","v":0},{"$f":"IF(P121=\"\",0,VAR(P$10:P122))","v":0},null,null,"",{"$f":"IF(U122=\"\",0,AVERAGE(U$10:U122))","v":0},{"$f":"IF(U121=\"\",0,VAR(U$10:U122))","v":0},null,null,"",{"$f":"IF(Z122=\"\",0,AVERAGE(Z$10:Z122))","v":0},{"$f":"IF(Z121=\"\",0,VAR(Z$10:Z122))","v":0},null,null,"",{"$f":"IF(AE122=\"\",0,AVERAGE(AE$10:AE122))","v":0},{"$f":"IF(AE121=\"\",0,VAR(AE$10:AE122))","v":0},null,null,"",{"$f":"IF(AJ122=\"\",0,AVERAGE(AJ$10:AJ122))","v":0},{"$f":"IF(AJ121=\"\",0,VAR(AJ$10:AJ122))","v":0},null,null,"",{"$f":"IF(AO122=\"\",0,AVERAGE(AO$10:AO122))","v":0},{"$f":"IF(AO121=\"\",0,VAR(AO$10:AO122))","v":0},null,null,"",{"$f":"IF(AT122=\"\",0,AVERAGE(AT$10:AT122))","v":0},{"$f":"IF(AT121=\"\",0,VAR(AT$10:AT122))","v":0},null,null,"",{"$f":"IF(AY122=\"\",0,AVERAGE(AY$10:AY122))","v":0},{"$f":"IF(AY121=\"\",0,VAR(AY$10:AY122))","v":0}]
[null,null,null,null,null,null,{"$f":"IF(F123=\"\",0,AVERAGE($F$10:F123))","v":0},{"$f":"IF(F122=\"\",0,VAR($F$10:F123))","v":0},null,null,"",{"$f":"IF(K123=\"\",0,AVERAGE($K$10:K123))","v":0},{"$f":"IF(K122=\"\",0,VAR($K$10:K123))","v":0},null,null,"",{"$f":"IF(P123=\"\",0,AVERAGE(P$10:P123))","v":0},{"$f":"IF(P122=\"\",0,VAR(P$10:P123))","v":0},null,null,"",{"$f":"IF(U123=\"\",0,AVERAGE(U$10:U123))","v":0},{"$f":"IF(U122=\"\",0,VAR(U$10:U123))","v":0},null,null,"",{"$f":"IF(Z123=\"\",0,AVERAGE(Z$10:Z123))","v":0},{"$f":"IF(Z122=\"\",0,VAR(Z$10:Z123))","v":0},null,null,"",{"$f":"IF(AE123=\"\",0,AVERAGE(AE$10:AE123))","v":0},{"$f":"IF(AE122=\"\",0,VAR(AE$10:AE123))","v":0},null,null,"",{"$f":"IF(AJ123=\"\",0,AVERAGE(AJ$10:AJ123))","v":0},{"$f":"IF(AJ122=\"\",0,VAR(AJ$10:AJ123))","v":0},null,null,"",{"$f":"IF(AO123=\"\",0,AVERAGE(AO$10:AO123))","v":0},{"$f":"IF(AO122=\"\",0,VAR(AO$10:AO123))","v":0},null,null,"",{"$f":"IF(AT123=\"\",0,AVERAGE(AT$10:AT123))","v":0},{"$f":"IF(AT122=\"\",0,VAR(AT$10:AT123))","v":0},null,null,"",{"$f":"IF(AY123=\"\",0,AVERAGE(AY$10:AY123))","v":0},{"$f":"IF(AY122=\"\",0,VAR(AY$10:AY123))","v":0}]
[null,null,null,null,null,{"$f":"IF(E124=\"\",\"\",+(E124-E123)/E123)","v":""},{"$f":"IF(F124=\"\",0,AVERAGE($F$10:F124))","v":0},{"$f":"IF(F123=\"\",0,VAR($F$10:F124))","v":0},null,null,"",{"$f":"IF(K124=\"\",0,AVERAGE($K$10:K124))","v":0},{"$f":"IF(K123=\"\",0,VAR($K$10:K124))","v":0},null,null,"",{"$f":"IF(P124=\"\",0,AVERAGE(P$10:P124))","v":0},{"$f":"IF(P123=\"\",0,VAR(P$10:P124))","v":0},null,null,"",{"$f":"IF(U124=\"\",0,AVERAGE(U$10:U124))","v":0},{"$f":"IF(U123=\"\",0,VAR(U$10:U124))","v":0},null,null,"",{"$f":"IF(Z124=\"\",0,AVERAGE(Z$10:Z124))","v":0},{"$f":"IF(Z123=\"\",0,VAR(Z$10:Z124))","v":0},null,null,"",{"$f":"IF(AE124=\"\",0,AVERAGE(AE$10:AE124))","v":0},{"$f":"IF(AE123=\"\",0,VAR(AE$10:AE124))","v":0},null,null,"",{"$f":"IF(AJ124=\"\",0,AVERAGE(AJ$10:AJ124))","v":0},{"$f":"IF(AJ123=\"\",0,VAR(AJ$10:AJ124))","v":0},null,null,"",{"$f":"IF(AO124=\"\",0,AVERAGE(AO$10:AO124))","v":0},{"$f":"IF(AO123=\"\",0,VAR(AO$10:AO124))","v":0},null,null,"",{"$f":"IF(AT124=\"\",0,AVERAGE(AT$10:AT124))","v":0},{"$f":"IF(AT123=\"\",0,VAR(AT$10:AT124))","v":0},null,null,"",{"$f":"IF(AY124=\"\",0,AVERAGE(AY$10:AY124))","v":0},{"$f":"IF(AY123=\"\",0,VAR(AY$10:AY124))","v":0}]
[null,null,null,null,null,"",{"$f":"IF(F125=\"\",0,AVERAGE($F$10:F125))","v":0},{"$f":"IF(F124=\"\",0,VAR($F$10:F125))","v":0},null,null,"",{"$f":"IF(K125=\"\",0,AVERAGE($K$10:K125))","v":0},{"$f":"IF(K124=\"\",0,VAR($K$10:K125))","v":0},null,null,"",{"$f":"IF(P125=\"\",0,AVERAGE(P$10:P125))","v":0},{"$f":"IF(P124=\"\",0,VAR(P$10:P125))","v":0},null,null,"",{"$f":"IF(U125=\"\",0,AVERAGE(U$10:U125))","v":0},{"$f":"IF(U124=\"\",0,VAR(U$10:U125))","v":0},null,null,"",{"$f":"IF(Z125=\"\",0,AVERAGE(Z$10:Z125))","v":0},{"$f":"IF(Z124=\"\",0,VAR(Z$10:Z125))","v":0},null,null,"",{"$f":"IF(AE125=\"\",0,AVERAGE(AE$10:AE125))","v":0},{"$f":"IF(AE124=\"\",0,VAR(AE$10:AE125))","v":0},null,null,"",{"$f":"IF(AJ125=\"\",0,AVERAGE(AJ$10:AJ125))","v":0},{"$f":"IF(AJ124=\"\",0,VAR(AJ$10:AJ125))","v":0},null,null,"",{"$f":"IF(AO125=\"\",0,AVERAGE(AO$10:AO125))","v":0},{"$f":"IF(AO124=\"\",0,VAR(AO$10:AO125))","v":0},null,null,"",{"$f":"IF(AT125=\"\",0,AVERAGE(AT$10:AT125))","v":0},{"$f":"IF(AT124=\"\",0,VAR(AT$10:AT125))","v":0},null,null,"",{"$f":"IF(AY125=\"\",0,AVERAGE(AY$10:AY125))","v":0},{"$f":"IF(AY124=\"\",0,VAR(AY$10:AY125))","v":0}]
[null,null,null,null,null,null,{"$f":"IF(F126=\"\",0,AVERAGE($F$10:F126))","v":0},{"$f":"IF(F125=\"\",0,VAR($F$10:F126))","v":0},null,null,"",{"$f":"IF(K126=\"\",0,AVERAGE($K$10:K126))","v":0},{"$f":"IF(K125=\"\",0,VAR($K$10:K126))","v":0},null,null,"",{"$f":"IF(P126=\"\",0,AVERAGE(P$10:P126))","v":0},{"$f":"IF(P125=\"\",0,VAR(P$10:P126))","v":0},null,null,"",{"$f":"IF(U126=\"\",0,AVERAGE(U$10:U126))","v":0},{"$f":"IF(U125=\"\",0,VAR(U$10:U126))","v":0},null,null,"",{"$f":"IF(Z126=\"\",0,AVERAGE(Z$10:Z126))","v":0},{"$f":"IF(Z125=\"\",0,VAR(Z$10:Z126))","v":0},null,null,"",{"$f":"IF(AE126=\"\",0,AVERAGE(AE$10:AE126))","v":0},{"$f":"IF(AE125=\"\",0,VAR(AE$10:AE126))","v":0},null,null,"",{"$f":"IF(AJ126=\"\",0,AVERAGE(AJ$10:AJ126))","v":0},{"$f":"IF(AJ125=\"\",0,VAR(AJ$10:AJ126))","v":0},null,null,"",{"$f":"IF(AO126=\"\",0,AVERAGE(AO$10:AO126))","v":0},{"$f":"IF(AO125=\"\",0,VAR(AO$10:AO126))","v":0},null,null,"",{"$f":"IF(AT126=\"\",0,AVERAGE(AT$10:AT126))","v":0},{"$f":"IF(AT125=\"\",0,VAR(AT$10:AT126))","v":0},null,null,"",{"$f":"IF(AY126=\"\",0,AVERAGE(AY$10:AY126))","v":0},{"$f":"IF(AY125=\"\",0,VAR(AY$10:AY126))","v":0}]
[null,null,null,null,null,{"$f":"IF(E127=\"\",\"\",+(E127-E126)/E126)","v":""},{"$f":"IF(F127=\"\",0,AVERAGE($F$10:F127))","v":0},{"$f":"IF(F126=\"\",0,VAR($F$10:F127))","v":0},null,null,"",{"$f":"IF(K127=\"\",0,AVERAGE($K$10:K127))","v":0},{"$f":"IF(K126=\"\",0,VAR($K$10:K127))","v":0},null,null,"",{"$f":"IF(P127=\"\",0,AVERAGE(P$10:P127))","v":0},{"$f":"IF(P126=\"\",0,VAR(P$10:P127))","v":0},null,null,"",{"$f":"IF(U127=\"\",0,AVERAGE(U$10:U127))","v":0},{"$f":"IF(U126=\"\",0,VAR(U$10:U127))","v":0},null,null,"",{"$f":"IF(Z127=\"\",0,AVERAGE(Z$10:Z127))","v":0},{"$f":"IF(Z126=\"\",0,VAR(Z$10:Z127))","v":0},null,null,"",{"$f":"IF(AE127=\"\",0,AVERAGE(AE$10:AE127))","v":0},{"$f":"IF(AE126=\"\",0,VAR(AE$10:AE127))","v":0},null,null,"",{"$f":"IF(AJ127=\"\",0,AVERAGE(AJ$10:AJ127))","v":0},{"$f":"IF(AJ126=\"\",0,VAR(AJ$10:AJ127))","v":0},null,null,"",{"$f":"IF(AO127=\"\",0,AVERAGE(AO$10:AO127))","v":0},{"$f":"IF(AO126=\"\",0,VAR(AO$10:AO127))","v":0},null,null,"",{"$f":"IF(AT127=\"\",0,AVERAGE(AT$10:AT127))","v":0},{"$f":"IF(AT126=\"\",0,VAR(AT$10:AT127))","v":0},null,null,"",{"$f":"IF(AY127=\"\",0,AVERAGE(AY$10:AY127))","v":0},{"$f":"IF(AY126=\"\",0,VAR(AY$10:AY127))","v":0}]
[null,null,null,null,null,"",{"$f":"IF(F128=\"\",0,AVERAGE($F$10:F128))","v":0},{"$f":"IF(F127=\"\",0,VAR($F$10:F128))","v":0},null,null,"",{"$f":"IF(K128=\"\",0,AVERAGE($K$10:K128))","v":0},{"$f":"IF(K127=\"\",0,VAR($K$10:K128))","v":0},null,null,"",{"$f":"IF(P128=\"\",0,AVERAGE(P$10:P128))","v":0},{"$f":"IF(P127=\"\",0,VAR(P$10:P128))","v":0},null,null,"",{"$f":"IF(U128=\"\",0,AVERAGE(U$10:U128))","v":0},{"$f":"IF(U127=\"\",0,VAR(U$10:U128))","v":0},null,null,"",{"$f":"IF(Z128=\"\",0,AVERAGE(Z$10:Z128))","v":0},{"$f":"IF(Z127=\"\",0,VAR(Z$10:Z128))","v":0},null,null,"",{"$f":"IF(AE128=\"\",0,AVERAGE(AE$10:AE128))","v":0},{"$f":"IF(AE127=\"\",0,VAR(AE$10:AE128))","v":0},null,null,"",{"$f":"IF(AJ128=\"\",0,AVERAGE(AJ$10:AJ128))","v":0},{"$f":"IF(AJ127=\"\",0,VAR(AJ$10:AJ128))","v":0},null,null,"",{"$f":"IF(AO128=\"\",0,AVERAGE(AO$10:AO128))","v":0},{"$f":"IF(AO127=\"\",0,VAR(AO$10:AO128))","v":0},null,null,"",{"$f":"IF(AT128=\"\",0,AVERAGE(AT$10:AT128))","v":0},{"$f":"IF(AT127=\"\",0,VAR(AT$10:AT128))","v":0},null,null,"",{"$f":"IF(AY128=\"\",0,AVERAGE(AY$10:AY128))","v":0},{"$f":"IF(AY127=\"\",0,VAR(AY$10:AY128))","v":0}]
[null,null,null,null,null,null,{"$f":"IF(F129=\"\",0,AVERAGE($F$10:F129))","v":0},{"$f":"IF(F128=\"\",0,VAR($F$10:F129))","v":0},null,null,"",{"$f":"IF(K129=\"\",0,AVERAGE($K$10:K129))","v":0},{"$f":"IF(K128=\"\",0,VAR($K$10:K129))","v":0},null,null,"",{"$f":"IF(P129=\"\",0,AVERAGE(P$10:P129))","v":0},{"$f":"IF(P128=\"\",0,VAR(P$10:P129))","v":0},null,null,"",{"$f":"IF(U129=\"\",0,AVERAGE(U$10:U129))","v":0},{"$f":"IF(U128=\"\",0,VAR(U$10:U129))","v":0},null,null,"",{"$f":"IF(Z129=\"\",0,AVERAGE(Z$10:Z129))","v":0},{"$f":"IF(Z128=\"\",0,VAR(Z$10:Z129))","v":0},null,null,"",{"$f":"IF(AE129=\"\",0,AVERAGE(AE$10:AE129))","v":0},{"$f":"IF(AE128=\"\",0,VAR(AE$10:AE129))","v":0},null,null,"",{"$f":"IF(AJ129=\"\",0,AVERAGE(AJ$10:AJ129))","v":0},{"$f":"IF(AJ128=\"\",0,VAR(AJ$10:AJ129))","v":0},null,null,"",{"$f":"IF(AO129=\"\",0,AVERAGE(AO$10:AO129))","v":0},{"$f":"IF(AO128=\"\",0,VAR(AO$10:AO129))","v":0},null,null,"",{"$f":"IF(AT129=\"\",0,AVERAGE(AT$10:AT129))","v":0},{"$f":"IF(AT128=\"\",0,VAR(AT$10:AT129))","v":0},null,null,"",{"$f":"IF(AY129=\"\",0,AVERAGE(AY$10:AY129))","v":0},{"$f":"IF(AY128=\"\",0,VAR(AY$10:AY129))","v":0}]
[null,null,null,null,null,{"$f":"IF(E130=\"\",\"\",+(E130-E129)/E129)","v":""},{"$f":"IF(F130=\"\",0,AVERAGE($F$10:F130))","v":0},{"$f":"IF(F129=\"\",0,VAR($F$10:F130))","v":0},null,null,"",{"$f":"IF(K130=\"\",0,AVERAGE($K$10:K130))","v":0},{"$f":"IF(K129=\"\",0,VAR($K$10:K130))","v":0},null,null,"",{"$f":"IF(P130=\"\",0,AVERAGE(P$10:P130))","v":0},{"$f":"IF(P129=\"\",0,VAR(P$10:P130))","v":0},null,null,"",{"$f":"IF(U130=\"\",0,AVERAGE(U$10:U130))","v":0},{"$f":"IF(U129=\"\",0,VAR(U$10:U130))","v":0},null,null,"",{"$f":"IF(Z130=\"\",0,AVERAGE(Z$10:Z130))","v":0},{"$f":"IF(Z129=\"\",0,VAR(Z$10:Z130))","v":0},null,null,"",{"$f":"IF(AE130=\"\",0,AVERAGE(AE$10:AE130))","v":0},{"$f":"IF(AE129=\"\",0,VAR(AE$10:AE130))","v":0},null,null,"",{"$f":"IF(AJ130=\"\",0,AVERAGE(AJ$10:AJ130))","v":0},{"$f":"IF(AJ129=\"\",0,VAR(AJ$10:AJ130))","v":0},null,null,"",{"$f":"IF(AO130=\"\",0,AVERAGE(AO$10:AO130))","v":0},{"$f":"IF(AO129=\"\",0,VAR(AO$10:AO130))","v":0},null,null,"",{"$f":"IF(AT130=\"\",0,AVERAGE(AT$10:AT130))","v":0},{"$f":"IF(AT129=\"\",0,VAR(AT$10:AT130))","v":0},null,null,"",{"$f":"IF(AY130=\"\",0,AVERAGE(AY$10:AY130))","v":0},{"$f":"IF(AY129=\"\",0,VAR(AY$10:AY130))","v":0}]
[null,null,null,null,null,"",{"$f":"IF(F131=\"\",0,AVERAGE($F$10:F131))","v":0},{"$f":"IF(F130=\"\",0,VAR($F$10:F131))","v":0},null,null,"",{"$f":"IF(K131=\"\",0,AVERAGE($K$10:K131))","v":0},{"$f":"IF(K130=\"\",0,VAR($K$10:K131))","v":0},null,null,"",{"$f":"IF(P131=\"\",0,AVERAGE(P$10:P131))","v":0},{"$f":"IF(P130=\"\",0,VAR(P$10:P131))","v":0},null,null,"",{"$f":"IF(U131=\"\",0,AVERAGE(U$10:U131))","v":0},{"$f":"IF(U130=\"\",0,VAR(U$10:U131))","v":0},null,null,"",{"$f":"IF(Z131=\"\",0,AVERAGE(Z$10:Z131))","v":0},{"$f":"IF(Z130=\"\",0,VAR(Z$10:Z131))","v":0},null,null,"",{"$f":"IF(AE131=\"\",0,AVERAGE(AE$10:AE131))","v":0},{"$f":"IF(AE130=\"\",0,VAR(AE$10:AE131))","v":0},null,null,"",{"$f":"IF(AJ131=\"\",0,AVERAGE(AJ$10:AJ131))","v":0},{"$f":"IF(AJ130=\"\",0,VAR(AJ$10:AJ131))","v":0},null,null,"",{"$f":"IF(AO131=\"\",0,AVERAGE(AO$10:AO131))","v":0},{"$f":"IF(AO130=\"\",0,VAR(AO$10:AO131))","v":0},null,null,"",{"$f":"IF(AT131=\"\",0,AVERAGE(AT$10:AT131))","v":0},{"$f":"IF(AT130=\"\",0,VAR(AT$10:AT131))","v":0},null,null,"",{"$f":"IF(AY131=\"\",0,AVERAGE(AY$10:AY131))","v":0},{"$f":"IF(AY130=\"\",0,VAR(AY$10:AY131))","v":0}]
[null,null,null,null,null,null,{"$f":"IF(F132=\"\",0,AVERAGE($F$10:F132))","v":0},{"$f":"IF(F131=\"\",0,VAR($F$10:F132))","v":0},null,null,"",{"$f":"IF(K132=\"\",0,AVERAGE($K$10:K132))","v":0},{"$f":"IF(K131=\"\",0,VAR($K$10:K132))","v":0},null,null,"",{"$f":"IF(P132=\"\",0,AVERAGE(P$10:P132))","v":0},{"$f":"IF(P131=\"\",0,VAR(P$10:P132))","v":0},null,null,"",{"$f":"IF(U132=\"\",0,AVERAGE(U$10:U132))","v":0},{"$f":"IF(U131=\"\",0,VAR(U$10:U132))","v":0},null,null,"",{"$f":"IF(Z132=\"\",0,AVERAGE(Z$10:Z132))","v":0},{"$f":"IF(Z131=\"\",0,VAR(Z$10:Z132))","v":0},null,null,"",{"$f":"IF(AE132=\"\",0,AVERAGE(AE$10:AE132))","v":0},{"$f":"IF(AE131=\"\",0,VAR(AE$10:AE132))","v":0},null,null,"",{"$f":"IF(AJ132=\"\",0,AVERAGE(AJ$10:AJ132))","v":0},{"$f":"IF(AJ131=\"\",0,VAR(AJ$10:AJ132))","v":0},null,null,"",{"$f":"IF(AO132=\"\",0,AVERAGE(AO$10:AO132))","v":0},{"$f":"IF(AO131=\"\",0,VAR(AO$10:AO132))","v":0},null,null,"",{"$f":"IF(AT132=\"\",0,AVERAGE(AT$10:AT132))","v":0},{"$f":"IF(AT131=\"\",0,VAR(AT$10:AT132))","v":0},null,null,"",{"$f":"IF(AY132=\"\",0,AVERAGE(AY$10:AY132))","v":0},{"$f":"IF(AY131=\"\",0,VAR(AY$10:AY132))","v":0}]
[null,null,null,null,null,{"$f":"IF(E133=\"\",\"\",+(E133-E132)/E132)","v":""},{"$f":"IF(F133=\"\",0,AVERAGE($F$10:F133))","v":0},{"$f":"IF(F132=\"\",0,VAR($F$10:F133))","v":0},null,null,"",{"$f":"IF(K133=\"\",0,AVERAGE($K$10:K133))","v":0},{"$f":"IF(K132=\"\",0,VAR($K$10:K133))","v":0},null,null,"",{"$f":"IF(P133=\"\",0,AVERAGE(P$10:P133))","v":0},{"$f":"IF(P132=\"\",0,VAR(P$10:P133))","v":0},null,null,"",{"$f":"IF(U133=\"\",0,AVERAGE(U$10:U133))","v":0},{"$f":"IF(U132=\"\",0,VAR(U$10:U133))","v":0},null,null,"",{"$f":"IF(Z133=\"\",0,AVERAGE(Z$10:Z133))","v":0},{"$f":"IF(Z132=\"\",0,VAR(Z$10:Z133))","v":0},null,null,"",{"$f":"IF(AE133=\"\",0,AVERAGE(AE$10:AE133))","v":0},{"$f":"IF(AE132=\"\",0,VAR(AE$10:AE133))","v":0},null,null,"",{"$f":"IF(AJ133=\"\",0,AVERAGE(AJ$10:AJ133))","v":0},{"$f":"IF(AJ132=\"\",0,VAR(AJ$10:AJ133))","v":0},null,null,"",{"$f":"IF(AO133=\"\",0,AVERAGE(AO$10:AO133))","v":0},{"$f":"IF(AO132=\"\",0,VAR(AO$10:AO133))","v":0},null,null,"",{"$f":"IF(AT133=\"\",0,AVERAGE(AT$10:AT133))","v":0},{"$f":"IF(AT132=\"\",0,VAR(AT$10:AT133))","v":0},null,null,"",{"$f":"IF(AY133=\"\",0,AVERAGE(AY$10:AY133))","v":0},{"$f":"IF(AY132=\"\",0,VAR(AY$10:AY133))","v":0}]
[null,null,null,null,null,"",{"$f":"IF(F134=\"\",0,AVERAGE($F$10:F134))","v":0},{"$f":"IF(F133=\"\",0,VAR($F$10:F134))","v":0},null,null,"",{"$f":"IF(K134=\"\",0,AVERAGE($K$10:K134))","v":0},{"$f":"IF(K133=\"\",0,VAR($K$10:K134))","v":0},null,null,"",{"$f":"IF(P134=\"\",0,AVERAGE(P$10:P134))","v":0},{"$f":"IF(P133=\"\",0,VAR(P$10:P134))","v":0},null,null,"",{"$f":"IF(U134=\"\",0,AVERAGE(U$10:U134))","v":0},{"$f":"IF(U133=\"\",0,VAR(U$10:U134))","v":0},null,null,"",{"$f":"IF(Z134=\"\",0,AVERAGE(Z$10:Z134))","v":0},{"$f":"IF(Z133=\"\",0,VAR(Z$10:Z134))","v":0},null,null,"",{"$f":"IF(AE134=\"\",0,AVERAGE(AE$10:AE134))","v":0},{"$f":"IF(AE133=\"\",0,VAR(AE$10:AE134))","v":0},null,null,"",{"$f":"IF(AJ134=\"\",0,AVERAGE(AJ$10:AJ134))","v":0},{"$f":"IF(AJ133=\"\",0,VAR(AJ$10:AJ134))","v":0},null,null,"",{"$f":"IF(AO134=\"\",0,AVERAGE(AO$10:AO134))","v":0},{"$f":"IF(AO133=\"\",0,VAR(AO$10:AO134))","v":0},null,null,"",{"$f":"IF(AT134=\"\",0,AVERAGE(AT$10:AT134))","v":0},{"$f":"IF(AT133=\"\",0,VAR(AT$10:AT134))","v":0},null,null,"",{"$f":"IF(AY134=\"\",0,AVERAGE(AY$10:AY134))","v":0},{"$f":"IF(AY133=\"\",0,VAR(AY$10:AY134))","v":0}]
[null,null,null,null,null,null,{"$f":"IF(F135=\"\",0,AVERAGE($F$10:F135))","v":0},{"$f":"IF(F134=\"\",0,VAR($F$10:F135))","v":0},null,null,"",{"$f":"IF(K135=\"\",0,AVERAGE($K$10:K135))","v":0},{"$f":"IF(K134=\"\",0,VAR($K$10:K135))","v":0},null,null,"",{"$f":"IF(P135=\"\",0,AVERAGE(P$10:P135))","v":0},{"$f":"IF(P134=\"\",0,VAR(P$10:P135))","v":0},null,null,"",{"$f":"IF(U135=\"\",0,AVERAGE(U$10:U135))","v":0},{"$f":"IF(U134=\"\",0,VAR(U$10:U135))","v":0},null,null,"",{"$f":"IF(Z135=\"\",0,AVERAGE(Z$10:Z135))","v":0},{"$f":"IF(Z134=\"\",0,VAR(Z$10:Z135))","v":0},null,null,"",{"$f":"IF(AE135=\"\",0,AVERAGE(AE$10:AE135))","v":0},{"$f":"IF(AE134=\"\",0,VAR(AE$10:AE135))","v":0},null,null,"",{"$f":"IF(AJ135=\"\",0,AVERAGE(AJ$10:AJ135))","v":0},{"$f":"IF(AJ134=\"\",0,VAR(AJ$10:AJ135))","v":0},null,null,"",{"$f":"IF(AO135=\"\",0,AVERAGE(AO$10:AO135))","v":0},{"$f":"IF(AO134=\"\",0,VAR(AO$10:AO135))","v":0},null,null,"",{"$f":"IF(AT135=\"\",0,AVERAGE(AT$10:AT135))","v":0},{"$f":"IF(AT134=\"\",0,VAR(AT$10:AT135))","v":0},null,null,"",{"$f":"IF(AY135=\"\",0,AVERAGE(AY$10:AY135))","v":0},{"$f":"IF(AY134=\"\",0,VAR(AY$10:AY135))","v":0}]
[null,null,null,null,null,{"$f":"IF(E136=\"\",\"\",+(E136-E135)/E135)","v":""},{"$f":"IF(F136=\"\",0,AVERAGE($F$10:F136))","v":0},{"$f":"IF(F135=\"\",0,VAR($F$10:F136))","v":0},null,null,"",{"$f":"IF(K136=\"\",0,AVERAGE($K$10:K136))","v":0},{"$f":"IF(K135=\"\",0,VAR($K$10:K136))","v":0},null,null,"",{"$f":"IF(P136=\"\",0,AVERAGE(P$10:P136))","v":0},{"$f":"IF(P135=\"\",0,VAR(P$10:P136))","v":0},null,null,"",{"$f":"IF(U136=\"\",0,AVERAGE(U$10:U136))","v":0},{"$f":"IF(U135=\"\",0,VAR(U$10:U136))","v":0},null,null,"",{"$f":"IF(Z136=\"\",0,AVERAGE(Z$10:Z136))","v":0},{"$f":"IF(Z135=\"\",0,VAR(Z$10:Z136))","v":0},null,null,"",{"$f":"IF(AE136=\"\",0,AVERAGE(AE$10:AE136))","v":0},{"$f":"IF(AE135=\"\",0,VAR(AE$10:AE136))","v":0},null,null,"",{"$f":"IF(AJ136=\"\",0,AVERAGE(AJ$10:AJ136))","v":0},{"$f":"IF(AJ135=\"\",0,VAR(AJ$10:AJ136))","v":0},null,null,"",{"$f":"IF(AO136=\"\",0,AVERAGE(AO$10:AO136))","v":0},{"$f":"IF(AO135=\"\",0,VAR(AO$10:AO136))","v":0},null,null,"",{"$f":"IF(AT136=\"\",0,AVERAGE(AT$10:AT136))","v":0},{"$f":"IF(AT135=\"\",0,VAR(AT$10:AT136))","v":0},null,null,"",{"$f":"IF(AY136=\"\",0,AVERAGE(AY$10:AY136))","v":0},{"$f":"IF(AY135=\"\",0,VAR(AY$10:AY136))","v":0}]
[null,null,null,null,null,"",{"$f":"IF(F137=\"\",0,AVERAGE($F$10:F137))","v":0},{"$f":"IF(F136=\"\",0,VAR($F$10:F137))","v":0},null,null,"",{"$f":"IF(K137=\"\",0,AVERAGE($K$10:K137))","v":0},{"$f":"IF(K136=\"\",0,VAR($K$10:K137))","v":0},null,null,"",{"$f":"IF(P137=\"\",0,AVERAGE(P$10:P137))","v":0},{"$f":"IF(P136=\"\",0,VAR(P$10:P137))","v":0},null,null,"",{"$f":"IF(U137=\"\",0,AVERAGE(U$10:U137))","v":0},{"$f":"IF(U136=\"\",0,VAR(U$10:U137))","v":0},null,null,"",{"$f":"IF(Z137=\"\",0,AVERAGE(Z$10:Z137))","v":0},{"$f":"IF(Z136=\"\",0,VAR(Z$10:Z137))","v":0},null,null,"",{"$f":"IF(AE137=\"\",0,AVERAGE(AE$10:AE137))","v":0},{"$f":"IF(AE136=\"\",0,VAR(AE$10:AE137))","v":0},null,null,"",{"$f":"IF(AJ137=\"\",0,AVERAGE(AJ$10:AJ137))","v":0},{"$f":"IF(AJ136=\"\",0,VAR(AJ$10:AJ137))","v":0},null,null,"",{"$f":"IF(AO137=\"\",0,AVERAGE(AO$10:AO137))","v":0},{"$f":"IF(AO136=\"\",0,VAR(AO$10:AO137))","v":0},null,null,"",{"$f":"IF(AT137=\"\",0,AVERAGE(AT$10:AT137))","v":0},{"$f":"IF(AT136=\"\",0,VAR(AT$10:AT137))","v":0},null,null,"",{"$f":"IF(AY137=\"\",0,AVERAGE(AY$10:AY137))","v":0},{"$f":"IF(AY136=\"\",0,VAR(AY$10:AY137))","v":0}]
[null,null,null,null,null,null,{"$f":"IF(F138=\"\",0,AVERAGE($F$10:F138))","v":0},{"$f":"IF(F137=\"\",0,VAR($F$10:F138))","v":0},null,null,"",{"$f":"IF(K138=\"\",0,AVERAGE($K$10:K138))","v":0},{"$f":"IF(K137=\"\",0,VAR($K$10:K138))","v":0},null,null,"",{"$f":"IF(P138=\"\",0,AVERAGE(P$10:P138))","v":0},{"$f":"IF(P137=\"\",0,VAR(P$10:P138))","v":0},null,null,"",{"$f":"IF(U138=\"\",0,AVERAGE(U$10:U138))","v":0},{"$f":"IF(U137=\"\",0,VAR(U$10:U138))","v":0},null,null,"",{"$f":"IF(Z138=\"\",0,AVERAGE(Z$10:Z138))","v":0},{"$f":"IF(Z137=\"\",0,VAR(Z$10:Z138))","v":0},null,null,"",{"$f":"IF(AE138=\"\",0,AVERAGE(AE$10:AE138))","v":0},{"$f":"IF(AE137=\"\",0,VAR(AE$10:AE138))","v":0},null,null,"",{"$f":"IF(AJ138=\"\",0,AVERAGE(AJ$10:AJ138))","v":0},{"$f":"IF(AJ137=\"\",0,VAR(AJ$10:AJ138))","v":0},null,null,"",{"$f":"IF(AO138=\"\",0,AVERAGE(AO$10:AO138))","v":0},{"$f":"IF(AO137=\"\",0,VAR(AO$10:AO138))","v":0},null,null,"",{"$f":"IF(AT138=\"\",0,AVERAGE(AT$10:AT138))","v":0},{"$f":"IF(AT137=\"\",0,VAR(AT$10:AT138))","v":0},null,null,"",{"$f":"IF(AY138=\"\",0,AVERAGE(AY$10:AY138))","v":0},{"$f":"IF(AY137=\"\",0,VAR(AY$10:AY138))","v":0}]
[null,null,null,null,null,{"$f":"IF(E139=\"\",\"\",+(E139-E138)/E138)","v":""},{"$f":"IF(F139=\"\",0,AVERAGE($F$10:F139))","v":0},{"$f":"IF(F138=\"\",0,VAR($F$10:F139))","v":0},null,null,"",{"$f":"IF(K139=\"\",0,AVERAGE($K$10:K139))","v":0},{"$f":"IF(K138=\"\",0,VAR($K$10:K139))","v":0},null,null,"",{"$f":"IF(P139=\"\",0,AVERAGE(P$10:P139))","v":0},{"$f":"IF(P138=\"\",0,VAR(P$10:P139))","v":0},null,null,"",{"$f":"IF(U139=\"\",0,AVERAGE(U$10:U139))","v":0},{"$f":"IF(U138=\"\",0,VAR(U$10:U139))","v":0},null,null,"",{"$f":"IF(Z139=\"\",0,AVERAGE(Z$10:Z139))","v":0},{"$f":"IF(Z138=\"\",0,VAR(Z$10:Z139))","v":0},null,null,"",{"$f":"IF(AE139=\"\",0,AVERAGE(AE$10:AE139))","v":0},{"$f":"IF(AE138=\"\",0,VAR(AE$10:AE139))","v":0},null,null,"",{"$f":"IF(AJ139=\"\",0,AVERAGE(AJ$10:AJ139))","v":0},{"$f":"IF(AJ138=\"\",0,VAR(AJ$10:AJ139))","v":0},null,null,"",{"$f":"IF(AO139=\"\",0,AVERAGE(AO$10:AO139))","v":0},{"$f":"IF(AO138=\"\",0,VAR(AO$10:AO139))","v":0},null,null,"",{"$f":"IF(AT139=\"\",0,AVERAGE(AT$10:AT139))","v":0},{"$f":"IF(AT138=\"\",0,VAR(AT$10:AT139))","v":0},null,null,"",{"$f":"IF(AY139=\"\",0,AVERAGE(AY$10:AY139))","v":0},{"$f":"IF(AY138=\"\",0,VAR(AY$10:AY139))","v":0}]
[null,null,null,null,null,"",{"$f":"IF(F140=\"\",0,AVERAGE($F$10:F140))","v":0},{"$f":"IF(F139=\"\",0,VAR($F$10:F140))","v":0},null,null,{"$f":"IF(J140=\"\",\"\",+(J140-J139)/J139)","v":""},{"$f":"IF(K140=\"\",0,AVERAGE($K$10:K140))","v":0},{"$f":"IF(K139=\"\",0,VAR($K$10:K140))","v":0},null,null,{"$f":"IF(O140=\"\",\"\",+(O140-O139)/O139)","v":""},{"$f":"IF(P140=\"\",0,AVERAGE(P$10:P140))","v":0},{"$f":"IF(P139=\"\",0,VAR(P$10:P140))","v":0},null,null,"",{"$f":"IF(U140=\"\",0,AVERAGE(U$10:U140))","v":0},{"$f":"IF(U139=\"\",0,VAR(U$10:U140))","v":0},null,null,{"$f":"IF(Y140=\"\",\"\",+(Y140-Y139)/Y139)","v":""},{"$f":"IF(Z140=\"\",0,AVERAGE(Z$10:Z140))","v":0},{"$f":"IF(Z139=\"\",0,VAR(Z$10:Z140))","v":0},null,null,"",{"$f":"IF(AE140=\"\",0,AVERAGE(AE$10:AE140))","v":0},{"$f":"IF(AE139=\"\",0,VAR(AE$10:AE140))","v":0},null,null,"",{"$f":"IF(AJ140=\"\",0,AVERAGE(AJ$10:AJ140))","v":0},{"$f":"IF(AJ139=\"\",0,VAR(AJ$10:AJ140))","v":0},null,null,"",{"$f":"IF(AO140=\"\",0,AVERAGE(AO$10:AO140))","v":0},{"$f":"IF(AO139=\"\",0,VAR(AO$10:AO140))","v":0},null,null,"",{"$f":"IF(AT140=\"\",0,AVERAGE(AT$10:AT140))","v":0},{"$f":"IF(AT139=\"\",0,VAR(AT$10:AT140))","v":0},null,null,"",{"$f":"IF(AY140=\"\",0,AVERAGE(AY$10:AY140))","v":0},{"$f":"IF(AY139=\"\",0,VAR(AY$10:AY140))","v":0}]
[null,null,null,null,null,null,{"$f":"IF(F141=\"\",0,AVERAGE($F$10:F141))","v":0},{"$f":"IF(F140=\"\",0,VAR($F$10:F141))","v":0},null,null,"",{"$f":"IF(K141=\"\",0,AVERAGE($K$10:K141))","v":0},{"$f":"IF(K140=\"\",0,VAR($K$10:K141))","v":0},null,null,"",{"$f":"IF(P141=\"\",0,AVERAGE(P$10:P141))","v":0},{"$f":"IF(P140=\"\",0,VAR(P$10:P141))","v":0},null,null,"",{"$f":"IF(U141=\"\",0,AVERAGE(U$10:U141))","v":0},{"$f":"IF(U140=\"\",0,VAR(U$10:U141))","v":0},null,null,"",{"$f":"IF(Z141=\"\",0,AVERAGE(Z$10:Z141))","v":0},{"$f":"IF(Z140=\"\",0,VAR(Z$10:Z141))","v":0},null,null,"",{"$f":"IF(AE141=\"\",0,AVERAGE(AE$10:AE141))","v":0},{"$f":"IF(AE140=\"\",0,VAR(AE$10:AE141))","v":0},null,null,{"$f":"IF(AI141=\"\",\"\",+(AI141-AI140)/AI140)","v":""},{"$f":"IF(AJ141=\"\",0,AVERAGE(AJ$10:AJ141))","v":0},{"$f":"IF(AJ140=\"\",0,VAR(AJ$10:AJ141))","v":0},null,null,{"$f":"IF(AN141=\"\",\"\",+(AN141-AN140)/AN140)","v":""},{"$f":"IF(AO141=\"\",0,AVERAGE(AO$10:AO141))","v":0},{"$f":"IF(AO140=\"\",0,VAR(AO$10:AO141))","v":0},null,null,{"$f":"IF(AS141=\"\",\"\",+(AS141-AS140)/AS140)","v":""},{"$f":"IF(AT141=\"\",0,AVERAGE(AT$10:AT141))","v":0},{"$f":"IF(AT140=\"\",0,VAR(AT$10:AT141))","v":0},null,null,{"$f":"IF(AX141=\"\",\"\",+(AX141-AX140)/AX140)","v":""},{"$f":"IF(AY141=\"\",0,AVERAGE(AY$10:AY141))","v":0},{"$f":"IF(AY140=\"\",0,VAR(AY$10:AY141))","v":0}]
[null,null,null,null,null,{"$f":"IF(E142=\"\",\"\",+(E142-E141)/E141)","v":""},{"$f":"IF(F142=\"\",0,AVERAGE($F$10:F142))","v":0},{"$f":"IF(F141=\"\",0,VAR($F$10:F142))","v":0},null,null,"",{"$f":"IF(K142=\"\",0,AVERAGE($K$10:K142))","v":0},{"$f":"IF(K141=\"\",0,VAR($K$10:K142))","v":0},null,null,"",{"$f":"IF(P142=\"\",0,AVERAGE(P$10:P142))","v":0},{"$f":"IF(P141=\"\",0,VAR(P$10:P142))","v":0},null,null,{"$f":"IF(T142=\"\",\"\",+(T142-T141)/T141)","v":""},{"$f":"IF(U142=\"\",0,AVERAGE(U$10:U142))","v":0},{"$f":"IF(U141=\"\",0,VAR(U$10:U142))","v":0},null,null,"",{"$f":"IF(Z142=\"\",0,AVERAGE(Z$10:Z142))","v":0},{"$f":"IF(Z141=\"\",0,VAR(Z$10:Z142))","v":0},null,null,{"$f":"IF(AD142=\"\",\"\",+(AD142-AD141)/AD141)","v":""},{"$f":"IF(AE142=\"\",0,AVERAGE(AE$10:AE142))","v":0},{"$f":"IF(AE141=\"\",0,VAR(AE$10:AE142))","v":0},null,null,"",{"$f":"IF(AJ142=\"\",0,AVERAGE(AJ$10:AJ142))","v":0},{"$f":"IF(AJ141=\"\",0,VAR(AJ$10:AJ142))","v":0},null,null,"",{"$f":"IF(AO142=\"\",0,AVERAGE(AO$10:AO142))","v":0},{"$f":"IF(AO141=\"\",0,VAR(AO$10:AO142))","v":0},null,null,"",{"$f":"IF(AT142=\"\",0,AVERAGE(AT$10:AT142))","v":0},{"$f":"IF(AT141=\"\",0,VAR(AT$10:AT142))","v":0},null,null,"",{"$f":"IF(AY142=\"\",0,AVERAGE(AY$10:AY142))","v":0},{"$f":"IF(AY141=\"\",0,VAR(AY$10:AY142))","v":0}]
[null,null,null,null,null,"",{"$f":"IF(F143=\"\",0,AVERAGE($F$10:F143))","v":0},{"$f":"IF(F142=\"\",0,VAR($F$10:F143))","v":0},null,null,"",{"$f":"IF(K143=\"\",0,AVERAGE($K$10:K143))","v":0},{"$f":"IF(K142=\"\",0,VAR($K$10:K143))","v":0},null,null,"",{"$f":"IF(P143=\"\",0,AVERAGE(P$10:P143))","v":0},{"$f":"IF(P142=\"\",0,VAR(P$10:P143))","v":0},null,null,"",{"$f":"IF(U143=\"\",0,AVERAGE(U$10:U143))","v":0},{"$f":"IF(U142=\"\",0,VAR(U$10:U143))","v":0},null,null,"",{"$f":"IF(Z143=\"\",0,AVERAGE(Z$10:Z143))","v":0},{"$f":"IF(Z142=\"\",0,VAR(Z$10:Z143))","v":0},null,null,"",{"$f":"IF(AE143=\"\",0,AVERAGE(AE$10:AE143))","v":0},{"$f":"IF(AE142=\"\",0,VAR(AE$10:AE143))","v":0},null,null,"",{"$f":"IF(AJ143=\"\",0,AVERAGE(AJ$10:AJ143))","v":0},{"$f":"IF(AJ142=\"\",0,VAR(AJ$10:AJ143))","v":0},null,null,"",{"$f":"IF(AO143=\"\",0,AVERAGE(AO$10:AO143))","v":0},{"$f":"IF(AO142=\"\",0,VAR(AO$10:AO143))","v":0},null,null,"",{"$f":"IF(AT143=\"\",0,AVERAGE(AT$10:AT143))","v":0},{"$f":"IF(AT142=\"\",0,VAR(AT$10:AT143))","v":0},null,null,"",{"$f":"IF(AY143=\"\",0,AVERAGE(AY$10:AY143))","v":0},{"$f":"IF(AY142=\"\",0,VAR(AY$10:AY143))","v":0}]
[null,null,null,null,null,null,{"$f":"IF(F144=\"\",0,AVERAGE($F$10:F144))","v":0},{"$f":"IF(F143=\"\",0,VAR($F$10:F144))","v":0},null,null,"",{"$f":"IF(K144=\"\",0,AVERAGE($K$10:K144))","v":0},{"$f":"IF(K143=\"\",0,VAR($K$10:K144))","v":0},null,null,"",{"$f":"IF(P144=\"\",0,AVERAGE(P$10:P144))","v":0},{"$f":"IF(P143=\"\",0,VAR(P$10:P144))","v":0},null,null,"",{"$f":"IF(U144=\"\",0,AVERAGE(U$10:U144))","v":0},{"$f":"IF(U143=\"\",0,VAR(U$10:U144))","v":0},null,null,"",{"$f":"IF(Z144=\"\",0,AVERAGE(Z$10:Z144))","v":0},{"$f":"IF(Z143=\"\",0,VAR(Z$10:Z144))","v":0},null,null,"",{"$f":"IF(AE144=\"\",0,AVERAGE(AE$10:AE144))","v":0},{"$f":"IF(AE143=\"\",0,VAR(AE$10:AE144))","v":0},null,null,"",{"$f":"IF(AJ144=\"\",0,AVERAGE(AJ$10:AJ144))","v":0},{"$f":"IF(AJ143=\"\",0,VAR(AJ$10:AJ144))","v":0},null,null,"",{"$f":"IF(AO144=\"\",0,AVERAGE(AO$10:AO144))","v":0},{"$f":"IF(AO143=\"\",0,VAR(AO$10:AO144))","v":0},null,null,"",{"$f":"IF(AT144=\"\",0,AVERAGE(AT$10:AT144))","v":0},{"$f":"IF(AT143=\"\",0,VAR(AT$10:AT144))","v":0},null,null,"",{"$f":"IF(AY144=\"\",0,AVERAGE(AY$10:AY144))","v":0},{"$f":"IF(AY143=\"\",0,VAR(AY$10:AY144))","v":0}]
[null,null,null,null,null,{"$f":"IF(E145=\"\",\"\",+(E145-E144)/E144)","v":""},{"$f":"IF(F145=\"\",0,AVERAGE($F$10:F145))","v":0},{"$f":"IF(F144=\"\",0,VAR($F$10:F145))","v":0},null,null,"",{"$f":"IF(K145=\"\",0,AVERAGE($K$10:K145))","v":0},{"$f":"IF(K144=\"\",0,VAR($K$10:K145))","v":0},null,null,"",{"$f":"IF(P145=\"\",0,AVERAGE(P$10:P145))","v":0},{"$f":"IF(P144=\"\",0,VAR(P$10:P145))","v":0},null,null,"",{"$f":"IF(U145=\"\",0,AVERAGE(U$10:U145))","v":0},{"$f":"IF(U144=\"\",0,VAR(U$10:U145))","v":0},null,null,"",{"$f":"IF(Z145=\"\",0,AVERAGE(Z$10:Z145))","v":0},{"$f":"IF(Z144=\"\",0,VAR(Z$10:Z145))","v":0},null,null,"",{"$f":"IF(AE145=\"\",0,AVERAGE(AE$10:AE145))","v":0},{"$f":"IF(AE144=\"\",0,VAR(AE$10:AE145))","v":0},null,null,"",{"$f":"IF(AJ145=\"\",0,AVERAGE(AJ$10:AJ145))","v":0},{"$f":"IF(AJ144=\"\",0,VAR(AJ$10:AJ145))","v":0},null,null,"",{"$f":"IF(AO145=\"\",0,AVERAGE(AO$10:AO145))","v":0},{"$f":"IF(AO144=\"\",0,VAR(AO$10:AO145))","v":0},null,null,"",{"$f":"IF(AT145=\"\",0,AVERAGE(AT$10:AT145))","v":0},{"$f":"IF(AT144=\"\",0,VAR(AT$10:AT145))","v":0},null,null,"",{"$f":"IF(AY145=\"\",0,AVERAGE(AY$10:AY145))","v":0},{"$f":"IF(AY144=\"\",0,VAR(AY$10:AY145))","v":0}]
[null,null,null,null,null,"",{"$f":"IF(F146=\"\",0,AVERAGE($F$10:F146))","v":0},{"$f":"IF(F145=\"\",0,VAR($F$10:F146))","v":0},null,null,"",{"$f":"IF(K146=\"\",0,AVERAGE($K$10:K146))","v":0},{"$f":"IF(K145=\"\",0,VAR($K$10:K146))","v":0},null,null,"",{"$f":"IF(P146=\"\",0,AVERAGE(P$10:P146))","v":0},{"$f":"IF(P145=\"\",0,VAR(P$10:P146))","v":0},null,null,"",{"$f":"IF(U146=\"\",0,AVERAGE(U$10:U146))","v":0},{"$f":"IF(U145=\"\",0,VAR(U$10:U146))","v":0},null,null,"",{"$f":"IF(Z146=\"\",0,AVERAGE(Z$10:Z146))","v":0},{"$f":"IF(Z145=\"\",0,VAR(Z$10:Z146))","v":0},null,null,"",{"$f":"IF(AE146=\"\",0,AVERAGE(AE$10:AE146))","v":0},{"$f":"IF(AE145=\"\",0,VAR(AE$10:AE146))","v":0},null,null,"",{"$f":"IF(AJ146=\"\",0,AVERAGE(AJ$10:AJ146))","v":0},{"$f":"IF(AJ145=\"\",0,VAR(AJ$10:AJ146))","v":0},null,null,"",{"$f":"IF(AO146=\"\",0,AVERAGE(AO$10:AO146))","v":0},{"$f":"IF(AO145=\"\",0,VAR(AO$10:AO146))","v":0},null,null,"",{"$f":"IF(AT146=\"\",0,AVERAGE(AT$10:AT146))","v":0},{"$f":"IF(AT145=\"\",0,VAR(AT$10:AT146))","v":0},null,null,"",{"$f":"IF(AY146=\"\",0,AVERAGE(AY$10:AY146))","v":0},{"$f":"IF(AY145=\"\",0,VAR(AY$10:AY146))","v":0}]
[null,null,null,null,null,null,{"$f":"IF(F147=\"\",0,AVERAGE($F$10:F147))","v":0},{"$f":"IF(F146=\"\",0,VAR($F$10:F147))","v":0},null,null,"",{"$f":"IF(K147=\"\",0,AVERAGE($K$10:K147))","v":0},{"$f":"IF(K146=\"\",0,VAR($K$10:K147))","v":0},null,null,"",{"$f":"IF(P147=\"\",0,AVERAGE(P$10:P147))","v":0},{"$f":"IF(P146=\"\",0,VAR(P$10:P147))","v":0},null,null,"",{"$f":"IF(U147=\"\",0,AVERAGE(U$10:U147))","v":0},{"$f":"IF(U146=\"\",0,VAR(U$10:U147))","v":0},null,null,"",{"$f":"IF(Z147=\"\",0,AVERAGE(Z$10:Z147))","v":0},{"$f":"IF(Z146=\"\",0,VAR(Z$10:Z147))","v":0},null,null,"",{"$f":"IF(AE147=\"\",0,AVERAGE(AE$10:AE147))","v":0},{"$f":"IF(AE146=\"\",0,VAR(AE$10:AE147))","v":0},null,null,"",{"$f":"IF(AJ147=\"\",0,AVERAGE(AJ$10:AJ147))","v":0},{"$f":"IF(AJ146=\"\",0,VAR(AJ$10:AJ147))","v":0},null,null,"",{"$f":"IF(AO147=\"\",0,AVERAGE(AO$10:AO147))","v":0},{"$f":"IF(AO146=\"\",0,VAR(AO$10:AO147))","v":0},null,null,"",{"$f":"IF(AT147=\"\",0,AVERAGE(AT$10:AT147))","v":0},{"$f":"IF(AT146=\"\",0,VAR(AT$10:AT147))","v":0},null,null,"",{"$f":"IF(AY147=\"\",0,AVERAGE(AY$10:AY147))","v":0},{"$f":"IF(AY146=\"\",0,VAR(AY$10:AY147))","v":0}]
[null,null,null,null,null,{"$f":"IF(E148=\"\",\"\",+(E148-E147)/E147)","v":""},{"$f":"IF(F148=\"\",0,AVERAGE($F$10:F148))","v":0},{"$f":"IF(F147=\"\",0,VAR($F$10:F148))","v":0},null,null,"",{"$f":"IF(K148=\"\",0,AVERAGE($K$10:K148))","v":0},{"$f":"IF(K147=\"\",0,VAR($K$10:K148))","v":0},null,null,"",{"$f":"IF(P148=\"\",0,AVERAGE(P$10:P148))","v":0},{"$f":"IF(P147=\"\",0,VAR(P$10:P148))","v":0},null,null,"",{"$f":"IF(U148=\"\",0,AVERAGE(U$10:U148))","v":0},{"$f":"IF(U147=\"\",0,VAR(U$10:U148))","v":0},null,null,"",{"$f":"IF(Z148=\"\",0,AVERAGE(Z$10:Z148))","v":0},{"$f":"IF(Z147=\"\",0,VAR(Z$10:Z148))","v":0},null,null,"",{"$f":"IF(AE148=\"\",0,AVERAGE(AE$10:AE148))","v":0},{"$f":"IF(AE147=\"\",0,VAR(AE$10:AE148))","v":0},null,null,"",{"$f":"IF(AJ148=\"\",0,AVERAGE(AJ$10:AJ148))","v":0},{"$f":"IF(AJ147=\"\",0,VAR(AJ$10:AJ148))","v":0},null,null,"",{"$f":"IF(AO148=\"\",0,AVERAGE(AO$10:AO148))","v":0},{"$f":"IF(AO147=\"\",0,VAR(AO$10:AO148))","v":0},null,null,"",{"$f":"IF(AT148=\"\",0,AVERAGE(AT$10:AT148))","v":0},{"$f":"IF(AT147=\"\",0,VAR(AT$10:AT148))","v":0},null,null,"",{"$f":"IF(AY148=\"\",0,AVERAGE(AY$10:AY148))","v":0},{"$f":"IF(AY147=\"\",0,VAR(AY$10:AY148))","v":0}]
[null,null,null,null,null,"",{"$f":"IF(F149=\"\",0,AVERAGE($F$10:F149))","v":0},{"$f":"IF(F148=\"\",0,VAR($F$10:F149))","v":0},null,null,"",{"$f":"IF(K149=\"\",0,AVERAGE($K$10:K149))","v":0},{"$f":"IF(K148=\"\",0,VAR($K$10:K149))","v":0},null,null,"",{"$f":"IF(P149=\"\",0,AVERAGE(P$10:P149))","v":0},{"$f":"IF(P148=\"\",0,VAR(P$10:P149))","v":0},null,null,"",{"$f":"IF(U149=\"\",0,AVERAGE(U$10:U149))","v":0},{"$f":"IF(U148=\"\",0,VAR(U$10:U149))","v":0},null,null,"",{"$f":"IF(Z149=\"\",0,AVERAGE(Z$10:Z149))","v":0},{"$f":"IF(Z148=\"\",0,VAR(Z$10:Z149))","v":0},null,null,"",{"$f":"IF(AE149=\"\",0,AVERAGE(AE$10:AE149))","v":0},{"$f":"IF(AE148=\"\",0,VAR(AE$10:AE149))","v":0},null,null,"",{"$f":"IF(AJ149=\"\",0,AVERAGE(AJ$10:AJ149))","v":0},{"$f":"IF(AJ148=\"\",0,VAR(AJ$10:AJ149))","v":0},null,null,"",{"$f":"IF(AO149=\"\",0,AVERAGE(AO$10:AO149))","v":0},{"$f":"IF(AO148=\"\",0,VAR(AO$10:AO149))","v":0},null,null,"",{"$f":"IF(AT149=\"\",0,AVERAGE(AT$10:AT149))","v":0},{"$f":"IF(AT148=\"\",0,VAR(AT$10:AT149))","v":0},null,null,"",{"$f":"IF(AY149=\"\",0,AVERAGE(AY$10:AY149))","v":0},{"$f":"IF(AY148=\"\",0,VAR(AY$10:AY149))","v":0}]
[null,null,null,null,null,null,{"$f":"IF(F150=\"\",0,AVERAGE($F$10:F150))","v":0},{"$f":"IF(F149=\"\",0,VAR($F$10:F150))","v":0},null,null,"",{"$f":"IF(K150=\"\",0,AVERAGE($K$10:K150))","v":0},{"$f":"IF(K149=\"\",0,VAR($K$10:K150))","v":0},null,null,"",{"$f":"IF(P150=\"\",0,AVERAGE(P$10:P150))","v":0},{"$f":"IF(P149=\"\",0,VAR(P$10:P150))","v":0},null,null,"",{"$f":"IF(U150=\"\",0,AVERAGE(U$10:U150))","v":0},{"$f":"IF(U149=\"\",0,VAR(U$10:U150))","v":0},null,null,"",{"$f":"IF(Z150=\"\",0,AVERAGE(Z$10:Z150))","v":0},{"$f":"IF(Z149=\"\",0,VAR(Z$10:Z150))","v":0},null,null,"",{"$f":"IF(AE150=\"\",0,AVERAGE(AE$10:AE150))","v":0},{"$f":"IF(AE149=\"\",0,VAR(AE$10:AE150))","v":0},null,null,"",{"$f":"IF(AJ150=\"\",0,AVERAGE(AJ$10:AJ150))","v":0},{"$f":"IF(AJ149=\"\",0,VAR(AJ$10:AJ150))","v":0},null,null,"",{"$f":"IF(AO150=\"\",0,AVERAGE(AO$10:AO150))","v":0},{"$f":"IF(AO149=\"\",0,VAR(AO$10:AO150))","v":0},null,null,"",{"$f":"IF(AT150=\"\",0,AVERAGE(AT$10:AT150))","v":0},{"$f":"IF(AT149=\"\",0,VAR(AT$10:AT150))","v":0},null,null,"",{"$f":"IF(AY150=\"\",0,AVERAGE(AY$10:AY150))","v":0},{"$f":"IF(AY149=\"\",0,VAR(AY$10:AY150))","v":0}]
[null,null,null,null,null,{"$f":"IF(E151=\"\",\"\",+(E151-E150)/E150)","v":""},{"$f":"IF(F151=\"\",0,AVERAGE($F$10:F151))","v":0},{"$f":"IF(F150=\"\",0,VAR($F$10:F151))","v":0},null,null,"",{"$f":"IF(K151=\"\",0,AVERAGE($K$10:K151))","v":0},{"$f":"IF(K150=\"\",0,VAR($K$10:K151))","v":0},null,null,"",{"$f":"IF(P151=\"\",0,AVERAGE(P$10:P151))","v":0},{"$f":"IF(P150=\"\",0,VAR(P$10:P151))","v":0},null,null,"",{"$f":"IF(U151=\"\",0,AVERAGE(U$10:U151))","v":0},{"$f":"IF(U150=\"\",0,VAR(U$10:U151))","v":0},null,null,"",{"$f":"IF(Z151=\"\",0,AVERAGE(Z$10:Z151))","v":0},{"$f":"IF(Z150=\"\",0,VAR(Z$10:Z151))","v":0},null,null,"",{"$f":"IF(AE151=\"\",0,AVERAGE(AE$10:AE151))","v":0},{"$f":"IF(AE150=\"\",0,VAR(AE$10:AE151))","v":0},null,null,"",{"$f":"IF(AJ151=\"\",0,AVERAGE(AJ$10:AJ151))","v":0},{"$f":"IF(AJ150=\"\",0,VAR(AJ$10:AJ151))","v":0},null,null,"",{"$f":"IF(AO151=\"\",0,AVERAGE(AO$10:AO151))","v":0},{"$f":"IF(AO150=\"\",0,VAR(AO$10:AO151))","v":0},null,null,"",{"$f":"IF(AT151=\"\",0,AVERAGE(AT$10:AT151))","v":0},{"$f":"IF(AT150=\"\",0,VAR(AT$10:AT151))","v":0},null,null,"",{"$f":"IF(AY151=\"\",0,AVERAGE(AY$10:AY151))","v":0},{"$f":"IF(AY150=\"\",0,VAR(AY$10:AY151))","v":0}]
[null,null,null,null,null,"",{"$f":"IF(F152=\"\",0,AVERAGE($F$10:F152))","v":0},{"$f":"IF(F151=\"\",0,VAR($F$10:F152))","v":0},null,null,"",{"$f":"IF(K152=\"\",0,AVERAGE($K$10:K152))","v":0},{"$f":"IF(K151=\"\",0,VAR($K$10:K152))","v":0},null,null,"",{"$f":"IF(P152=\"\",0,AVERAGE(P$10:P152))","v":0},{"$f":"IF(P151=\"\",0,VAR(P$10:P152))","v":0},null,null,"",{"$f":"IF(U152=\"\",0,AVERAGE(U$10:U152))","v":0},{"$f":"IF(U151=\"\",0,VAR(U$10:U152))","v":0},null,null,"",{"$f":"IF(Z152=\"\",0,AVERAGE(Z$10:Z152))","v":0},{"$f":"IF(Z151=\"\",0,VAR(Z$10:Z152))","v":0},null,null,"",{"$f":"IF(AE152=\"\",0,AVERAGE(AE$10:AE152))","v":0},{"$f":"IF(AE151=\"\",0,VAR(AE$10:AE152))","v":0},null,null,"",{"$f":"IF(AJ152=\"\",0,AVERAGE(AJ$10:AJ152))","v":0},{"$f":"IF(AJ151=\"\",0,VAR(AJ$10:AJ152))","v":0},null,null,"",{"$f":"IF(AO152=\"\",0,AVERAGE(AO$10:AO152))","v":0},{"$f":"IF(AO151=\"\",0,VAR(AO$10:AO152))","v":0},null,null,"",{"$f":"IF(AT152=\"\",0,AVERAGE(AT$10:AT152))","v":0},{"$f":"IF(AT151=\"\",0,VAR(AT$10:AT152))","v":0},null,null,"",{"$f":"IF(AY152=\"\",0,AVERAGE(AY$10:AY152))","v":0},{"$f":"IF(AY151=\"\",0,VAR(AY$10:AY152))","v":0}]
[null,null,null,null,null,null,{"$f":"IF(F153=\"\",0,AVERAGE($F$10:F153))","v":0},{"$f":"IF(F152=\"\",0,VAR($F$10:F153))","v":0},null,null,"",{"$f":"IF(K153=\"\",0,AVERAGE($K$10:K153))","v":0},{"$f":"IF(K152=\"\",0,VAR($K$10:K153))","v":0},null,null,"",{"$f":"IF(P153=\"\",0,AVERAGE(P$10:P153))","v":0},{"$f":"IF(P152=\"\",0,VAR(P$10:P153))","v":0},null,null,"",{"$f":"IF(U153=\"\",0,AVERAGE(U$10:U153))","v":0},{"$f":"IF(U152=\"\",0,VAR(U$10:U153))","v":0},null,null,"",{"$f":"IF(Z153=\"\",0,AVERAGE(Z$10:Z153))","v":0},{"$f":"IF(Z152=\"\",0,VAR(Z$10:Z153))","v":0},null,null,"",{"$f":"IF(AE153=\"\",0,AVERAGE(AE$10:AE153))","v":0},{"$f":"IF(AE152=\"\",0,VAR(AE$10:AE153))","v":0},null,null,"",{"$f":"IF(AJ153=\"\",0,AVERAGE(AJ$10:AJ153))","v":0},{"$f":"IF(AJ152=\"\",0,VAR(AJ$10:AJ153))","v":0},null,null,"",{"$f":"IF(AO153=\"\",0,AVERAGE(AO$10:AO153))","v":0},{"$f":"IF(AO152=\"\",0,VAR(AO$10:AO153))","v":0},null,null,"",{"$f":"IF(AT153=\"\",0,AVERAGE(AT$10:AT153))","v":0},{"$f":"IF(AT152=\"\",0,VAR(AT$10:AT153))","v":0},null,null,"",{"$f":"IF(AY153=\"\",0,AVERAGE(AY$10:AY153))","v":0},{"$f":"IF(AY152=\"\",0,VAR(AY$10:AY153))","v":0}]
[null,null,null,null,null,{"$f":"IF(E154=\"\",\"\",+(E154-E153)/E153)","v":""},{"$f":"IF(F154=\"\",0,AVERAGE($F$10:F154))","v":0},{"$f":"IF(F153=\"\",0,VAR($F$10:F154))","v":0},null,null,"",{"$f":"IF(K154=\"\",0,AVERAGE($K$10:K154))","v":0},{"$f":"IF(K153=\"\",0,VAR($K$10:K154))","v":0},null,null,"",{"$f":"IF(P154=\"\",0,AVERAGE(P$10:P154))","v":0},{"$f":"IF(P153=\"\",0,VAR(P$10:P154))","v":0},null,null,"",{"$f":"IF(U154=\"\",0,AVERAGE(U$10:U154))","v":0},{"$f":"IF(U153=\"\",0,VAR(U$10:U154))","v":0},null,null,"",{"$f":"IF(Z154=\"\",0,AVERAGE(Z$10:Z154))","v":0},{"$f":"IF(Z153=\"\",0,VAR(Z$10:Z154))","v":0},null,null,"",{"$f":"IF(AE154=\"\",0,AVERAGE(AE$10:AE154))","v":0},{"$f":"IF(AE153=\"\",0,VAR(AE$10:AE154))","v":0},null,null,"",{"$f":"IF(AJ154=\"\",0,AVERAGE(AJ$10:AJ154))","v":0},{"$f":"IF(AJ153=\"\",0,VAR(AJ$10:AJ154))","v":0},null,null,"",{"$f":"IF(AO154=\"\",0,AVERAGE(AO$10:AO154))","v":0},{"$f":"IF(AO153=\"\",0,VAR(AO$10:AO154))","v":0},null,null,"",{"$f":"IF(AT154=\"\",0,AVERAGE(AT$10:AT154))","v":0},{"$f":"IF(AT153=\"\",0,VAR(AT$10:AT154))","v":0},null,null,"",{"$f":"IF(AY154=\"\",0,AVERAGE(AY$10:AY154))","v":0},{"$f":"IF(AY153=\"\",0,VAR(AY$10:AY154))","v":0}]
[null,null,null,null,null,"",{"$f":"IF(F155=\"\",0,AVERAGE($F$10:F155))","v":0},{"$f":"IF(F154=\"\",0,VAR($F$10:F155))","v":0},null,null,"",{"$f":"IF(K155=\"\",0,AVERAGE($K$10:K155))","v":0},{"$f":"IF(K154=\"\",0,VAR($K$10:K155))","v":0},null,null,"",{"$f":"IF(P155=\"\",0,AVERAGE(P$10:P155))","v":0},{"$f":"IF(P154=\"\",0,VAR(P$10:P155))","v":0},null,null,"",{"$f":"IF(U155=\"\",0,AVERAGE(U$10:U155))","v":0},{"$f":"IF(U154=\"\",0,VAR(U$10:U155))","v":0},null,null,"",{"$f":"IF(Z155=\"\",0,AVERAGE(Z$10:Z155))","v":0},{"$f":"IF(Z154=\"\",0,VAR(Z$10:Z155))","v":0},null,null,"",{"$f":"IF(AE155=\"\",0,AVERAGE(AE$10:AE155))","v":0},{"$f":"IF(AE154=\"\",0,VAR(AE$10:AE155))","v":0},null,null,"",{"$f":"IF(AJ155=\"\",0,AVERAGE(AJ$10:AJ155))","v":0},{"$f":"IF(AJ154=\"\",0,VAR(AJ$10:AJ155))","v":0},null,null,"",{"$f":"IF(AO155=\"\",0,AVERAGE(AO$10:AO155))","v":0},{"$f":"IF(AO154=\"\",0,VAR(AO$10:AO155))","v":0},null,null,"",{"$f":"IF(AT155=\"\",0,AVERAGE(AT$10:AT155))","v":0},{"$f":"IF(AT154=\"\",0,VAR(AT$10:AT155))","v":0},null,null,"",{"$f":"IF(AY155=\"\",0,AVERAGE(AY$10:AY155))","v":0},{"$f":"IF(AY154=\"\",0,VAR(AY$10:AY155))","v":0}]
[null,null,null,null,null,null,{"$f":"IF(F156=\"\",0,AVERAGE($F$10:F156))","v":0},{"$f":"IF(F155=\"\",0,VAR($F$10:F156))","v":0},null,null,"",{"$f":"IF(K156=\"\",0,AVERAGE($K$10:K156))","v":0},{"$f":"IF(K155=\"\",0,VAR($K$10:K156))","v":0},null,null,"",{"$f":"IF(P156=\"\",0,AVERAGE(P$10:P156))","v":0},{"$f":"IF(P155=\"\",0,VAR(P$10:P156))","v":0},null,null,"",{"$f":"IF(U156=\"\",0,AVERAGE(U$10:U156))","v":0},{"$f":"IF(U155=\"\",0,VAR(U$10:U156))","v":0},null,null,"",{"$f":"IF(Z156=\"\",0,AVERAGE(Z$10:Z156))","v":0},{"$f":"IF(Z155=\"\",0,VAR(Z$10:Z156))","v":0},null,null,"",{"$f":"IF(AE156=\"\",0,AVERAGE(AE$10:AE156))","v":0},{"$f":"IF(AE155=\"\",0,VAR(AE$10:AE156))","v":0},null,null,"",{"$f":"IF(AJ156=\"\",0,AVERAGE(AJ$10:AJ156))","v":0},{"$f":"IF(AJ155=\"\",0,VAR(AJ$10:AJ156))","v":0},null,null,"",{"$f":"IF(AO156=\"\",0,AVERAGE(AO$10:AO156))","v":0},{"$f":"IF(AO155=\"\",0,VAR(AO$10:AO156))","v":0},null,null,"",{"$f":"IF(AT156=\"\",0,AVERAGE(AT$10:AT156))","v":0},{"$f":"IF(AT155=\"\",0,VAR(AT$10:AT156))","v":0},null,null,"",{"$f":"IF(AY156=\"\",0,AVERAGE(AY$10:AY156))","v":0},{"$f":"IF(AY155=\"\",0,VAR(AY$10:AY156))","v":0}]
[null,null,null,null,null,{"$f":"IF(E157=\"\",\"\",+(E157-E156)/E156)","v":""},{"$f":"IF(F157=\"\",0,AVERAGE($F$10:F157))","v":0},{"$f":"IF(F156=\"\",0,VAR($F$10:F157))","v":0},null,null,"",{"$f":"IF(K157=\"\",0,AVERAGE($K$10:K157))","v":0},{"$f":"IF(K156=\"\",0,VAR($K$10:K157))","v":0},null,null,"",{"$f":"IF(P157=\"\",0,AVERAGE(P$10:P157))","v":0},{"$f":"IF(P156=\"\",0,VAR(P$10:P157))","v":0},null,null,"",{"$f":"IF(U157=\"\",0,AVERAGE(U$10:U157))","v":0},{"$f":"IF(U156=\"\",0,VAR(U$10:U157))","v":0},null,null,"",{"$f":"IF(Z157=\"\",0,AVERAGE(Z$10:Z157))","v":0},{"$f":"IF(Z156=\"\",0,VAR(Z$10:Z157))","v":0},null,null,"",{"$f":"IF(AE157=\"\",0,AVERAGE(AE$10:AE157))","v":0},{"$f":"IF(AE156=\"\",0,VAR(AE$10:AE157))","v":0},null,null,"",{"$f":"IF(AJ157=\"\",0,AVERAGE(AJ$10:AJ157))","v":0},{"$f":"IF(AJ156=\"\",0,VAR(AJ$10:AJ157))","v":0},null,null,"",{"$f":"IF(AO157=\"\",0,AVERAGE(AO$10:AO157))","v":0},{"$f":"IF(AO156=\"\",0,VAR(AO$10:AO157))","v":0},null,null,"",{"$f":"IF(AT157=\"\",0,AVERAGE(AT$10:AT157))","v":0},{"$f":"IF(AT156=\"\",0,VAR(AT$10:AT157))","v":0},null,null,"",{"$f":"IF(AY157=\"\",0,AVERAGE(AY$10:AY157))","v":0},{"$f":"IF(AY156=\"\",0,VAR(AY$10:AY157))","v":0}]
[null,null,null,null,null,"",{"$f":"IF(F158=\"\",0,AVERAGE($F$10:F158))","v":0},{"$f":"IF(F157=\"\",0,VAR($F$10:F158))","v":0},null,null,"",{"$f":"IF(K158=\"\",0,AVERAGE($K$10:K158))","v":0},{"$f":"IF(K157=\"\",0,VAR($K$10:K158))","v":0},null,null,"",{"$f":"IF(P158=\"\",0,AVERAGE(P$10:P158))","v":0},{"$f":"IF(P157=\"\",0,VAR(P$10:P158))","v":0},null,null,"",{"$f":"IF(U158=\"\",0,AVERAGE(U$10:U158))","v":0},{"$f":"IF(U157=\"\",0,VAR(U$10:U158))","v":0},null,null,"",{"$f":"IF(Z158=\"\",0,AVERAGE(Z$10:Z158))","v":0},{"$f":"IF(Z157=\"\",0,VAR(Z$10:Z158))","v":0},null,null,"",{"$f":"IF(AE158=\"\",0,AVERAGE(AE$10:AE158))","v":0},{"$f":"IF(AE157=\"\",0,VAR(AE$10:AE158))","v":0},null,null,"",{"$f":"IF(AJ158=\"\",0,AVERAGE(AJ$10:AJ158))","v":0},{"$f":"IF(AJ157=\"\",0,VAR(AJ$10:AJ158))","v":0},null,null,"",{"$f":"IF(AO158=\"\",0,AVERAGE(AO$10:AO158))","v":0},{"$f":"IF(AO157=\"\",0,VAR(AO$10:AO158))","v":0},null,null,"",{"$f":"IF(AT158=\"\",0,AVERAGE(AT$10:AT158))","v":0},{"$f":"IF(AT157=\"\",0,VAR(AT$10:AT158))","v":0},null,null,"",{"$f":"IF(AY158=\"\",0,AVERAGE(AY$10:AY158))","v":0},{"$f":"IF(AY157=\"\",0,VAR(AY$10:AY158))","v":0}]
[null,null,null,null,null,null,{"$f":"IF(F159=\"\",0,AVERAGE($F$10:F159))","v":0},{"$f":"IF(F158=\"\",0,VAR($F$10:F159))","v":0},null,null,"",{"$f":"IF(K159=\"\",0,AVERAGE($K$10:K159))","v":0},{"$f":"IF(K158=\"\",0,VAR($K$10:K159))","v":0},null,null,"",{"$f":"IF(P159=\"\",0,AVERAGE(P$10:P159))","v":0},{"$f":"IF(P158=\"\",0,VAR(P$10:P159))","v":0},null,null,"",{"$f":"IF(U159=\"\",0,AVERAGE(U$10:U159))","v":0},{"$f":"IF(U158=\"\",0,VAR(U$10:U159))","v":0},null,null,"",{"$f":"IF(Z159=\"\",0,AVERAGE(Z$10:Z159))","v":0},{"$f":"IF(Z158=\"\",0,VAR(Z$10:Z159))","v":0},null,null,"",{"$f":"IF(AE159=\"\",0,AVERAGE(AE$10:AE159))","v":0},{"$f":"IF(AE158=\"\",0,VAR(AE$10:AE159))","v":0},null,null,"",{"$f":"IF(AJ159=\"\",0,AVERAGE(AJ$10:AJ159))","v":0},{"$f":"IF(AJ158=\"\",0,VAR(AJ$10:AJ159))","v":0},null,null,"",{"$f":"IF(AO159=\"\",0,AVERAGE(AO$10:AO159))","v":0},{"$f":"IF(AO158=\"\",0,VAR(AO$10:AO159))","v":0},null,null,"",{"$f":"IF(AT159=\"\",0,AVERAGE(AT$10:AT159))","v":0},{"$f":"IF(AT158=\"\",0,VAR(AT$10:AT159))","v":0},null,null,"",{"$f":"IF(AY159=\"\",0,AVERAGE(AY$10:AY159))","v":0},{"$f":"IF(AY158=\"\",0,VAR(AY$10:AY159))","v":0}]
[null,null,null,null,null,{"$f":"IF(E160=\"\",\"\",+(E160-E159)/E159)","v":""},{"$f":"IF(F160=\"\",0,AVERAGE($F$10:F160))","v":0},{"$f":"IF(F159=\"\",0,VAR($F$10:F160))","v":0},null,null,"",{"$f":"IF(K160=\"\",0,AVERAGE($K$10:K160))","v":0},{"$f":"IF(K159=\"\",0,VAR($K$10:K160))","v":0},null,null,"",{"$f":"IF(P160=\"\",0,AVERAGE(P$10:P160))","v":0},{"$f":"IF(P159=\"\",0,VAR(P$10:P160))","v":0},null,null,"",{"$f":"IF(U160=\"\",0,AVERAGE(U$10:U160))","v":0},{"$f":"IF(U159=\"\",0,VAR(U$10:U160))","v":0},null,null,"",{"$f":"IF(Z160=\"\",0,AVERAGE(Z$10:Z160))","v":0},{"$f":"IF(Z159=\"\",0,VAR(Z$10:Z160))","v":0},null,null,"",{"$f":"IF(AE160=\"\",0,AVERAGE(AE$10:AE160))","v":0},{"$f":"IF(AE159=\"\",0,VAR(AE$10:AE160))","v":0},null,null,"",{"$f":"IF(AJ160=\"\",0,AVERAGE(AJ$10:AJ160))","v":0},{"$f":"IF(AJ159=\"\",0,VAR(AJ$10:AJ160))","v":0},null,null,"",{"$f":"IF(AO160=\"\",0,AVERAGE(AO$10:AO160))","v":0},{"$f":"IF(AO159=\"\",0,VAR(AO$10:AO160))","v":0},null,null,"",{"$f":"IF(AT160=\"\",0,AVERAGE(AT$10:AT160))","v":0},{"$f":"IF(AT159=\"\",0,VAR(AT$10:AT160))","v":0},null,null,"",{"$f":"IF(AY160=\"\",0,AVERAGE(AY$10:AY160))","v":0},{"$f":"IF(AY159=\"\",0,VAR(AY$10:AY160))","v":0}]
[null,null,null,null,null,"",{"$f":"IF(F161=\"\",0,AVERAGE($F$10:F161))","v":0},{"$f":"IF(F160=\"\",0,VAR($F$10:F161))","v":0},null,null,"",{"$f":"IF(K161=\"\",0,AVERAGE($K$10:K161))","v":0},{"$f":"IF(K160=\"\",0,VAR($K$10:K161))","v":0},null,null,"",{"$f":"IF(P161=\"\",0,AVERAGE(P$10:P161))","v":0},{"$f":"IF(P160=\"\",0,VAR(P$10:P161))","v":0},null,null,"",{"$f":"IF(U161=\"\",0,AVERAGE(U$10:U161))","v":0},{"$f":"IF(U160=\"\",0,VAR(U$10:U161))","v":0},null,null,"",{"$f":"IF(Z161=\"\",0,AVERAGE(Z$10:Z161))","v":0},{"$f":"IF(Z160=\"\",0,VAR(Z$10:Z161))","v":0},null,null,"",{"$f":"IF(AE161=\"\",0,AVERAGE(AE$10:AE161))","v":0},{"$f":"IF(AE160=\"\",0,VAR(AE$10:AE161))","v":0},null,null,"",{"$f":"IF(AJ161=\"\",0,AVERAGE(AJ$10:AJ161))","v":0},{"$f":"IF(AJ160=\"\",0,VAR(AJ$10:AJ161))","v":0},null,null,"",{"$f":"IF(AO161=\"\",0,AVERAGE(AO$10:AO161))","v":0},{"$f":"IF(AO160=\"\",0,VAR(AO$10:AO161))","v":0},null,null,"",{"$f":"IF(AT161=\"\",0,AVERAGE(AT$10:AT161))","v":0},{"$f":"IF(AT160=\"\",0,VAR(AT$10:AT161))","v":0},null,null,"",{"$f":"IF(AY161=\"\",0,AVERAGE(AY$10:AY161))","v":0},{"$f":"IF(AY160=\"\",0,VAR(AY$10:AY161))","v":0}]
[null,null,null,null,null,null,{"$f":"IF(F162=\"\",0,AVERAGE($F$10:F162))","v":0},{"$f":"IF(F161=\"\",0,VAR($F$10:F162))","v":0},null,null,"",{"$f":"IF(K162=\"\",0,AVERAGE($K$10:K162))","v":0},{"$f":"IF(K161=\"\",0,VAR($K$10:K162))","v":0},null,null,"",{"$f":"IF(P162=\"\",0,AVERAGE(P$10:P162))","v":0},{"$f":"IF(P161=\"\",0,VAR(P$10:P162))","v":0},null,null,"",{"$f":"IF(U162=\"\",0,AVERAGE(U$10:U162))","v":0},{"$f":"IF(U161=\"\",0,VAR(U$10:U162))","v":0},null,null,"",{"$f":"IF(Z162=\"\",0,AVERAGE(Z$10:Z162))","v":0},{"$f":"IF(Z161=\"\",0,VAR(Z$10:Z162))","v":0},null,null,"",{"$f":"IF(AE162=\"\",0,AVERAGE(AE$10:AE162))","v":0},{"$f":"IF(AE161=\"\",0,VAR(AE$10:AE162))","v":0},null,null,"",{"$f":"IF(AJ162=\"\",0,AVERAGE(AJ$10:AJ162))","v":0},{"$f":"IF(AJ161=\"\",0,VAR(AJ$10:AJ162))","v":0},null,null,"",{"$f":"IF(AO162=\"\",0,AVERAGE(AO$10:AO162))","v":0},{"$f":"IF(AO161=\"\",0,VAR(AO$10:AO162))","v":0},null,null,"",{"$f":"IF(AT162=\"\",0,AVERAGE(AT$10:AT162))","v":0},{"$f":"IF(AT161=\"\",0,VAR(AT$10:AT162))","v":0},null,null,"",{"$f":"IF(AY162=\"\",0,AVERAGE(AY$10:AY162))","v":0},{"$f":"IF(AY161=\"\",0,VAR(AY$10:AY162))","v":0}]
[null,null,null,null,null,{"$f":"IF(E163=\"\",\"\",+(E163-E162)/E162)","v":""},{"$f":"IF(F163=\"\",0,AVERAGE($F$10:F163))","v":0},{"$f":"IF(F162=\"\",0,VAR($F$10:F163))","v":0},null,null,"",{"$f":"IF(K163=\"\",0,AVERAGE($K$10:K163))","v":0},{"$f":"IF(K162=\"\",0,VAR($K$10:K163))","v":0},null,null,"",{"$f":"IF(P163=\"\",0,AVERAGE(P$10:P163))","v":0},{"$f":"IF(P162=\"\",0,VAR(P$10:P163))","v":0},null,null,"",{"$f":"IF(U163=\"\",0,AVERAGE(U$10:U163))","v":0},{"$f":"IF(U162=\"\",0,VAR(U$10:U163))","v":0},null,null,"",{"$f":"IF(Z163=\"\",0,AVERAGE(Z$10:Z163))","v":0},{"$f":"IF(Z162=\"\",0,VAR(Z$10:Z163))","v":0},null,null,"",{"$f":"IF(AE163=\"\",0,AVERAGE(AE$10:AE163))","v":0},{"$f":"IF(AE162=\"\",0,VAR(AE$10:AE163))","v":0},null,null,"",{"$f":"IF(AJ163=\"\",0,AVERAGE(AJ$10:AJ163))","v":0},{"$f":"IF(AJ162=\"\",0,VAR(AJ$10:AJ163))","v":0},null,null,"",{"$f":"IF(AO163=\"\",0,AVERAGE(AO$10:AO163))","v":0},{"$f":"IF(AO162=\"\",0,VAR(AO$10:AO163))","v":0},null,null,"",{"$f":"IF(AT163=\"\",0,AVERAGE(AT$10:AT163))","v":0},{"$f":"IF(AT162=\"\",0,VAR(AT$10:AT163))","v":0},null,null,"",{"$f":"IF(AY163=\"\",0,AVERAGE(AY$10:AY163))","v":0},{"$f":"IF(AY162=\"\",0,VAR(AY$10:AY163))","v":0}]
[null,null,null,null,null,"",{"$f":"IF(F164=\"\",0,AVERAGE($F$10:F164))","v":0},{"$f":"IF(F163=\"\",0,VAR($F$10:F164))","v":0},null,null,"",{"$f":"IF(K164=\"\",0,AVERAGE($K$10:K164))","v":0},{"$f":"IF(K163=\"\",0,VAR($K$10:K164))","v":0},null,null,"",{"$f":"IF(P164=\"\",0,AVERAGE(P$10:P164))","v":0},{"$f":"IF(P163=\"\",0,VAR(P$10:P164))","v":0},null,null,"",{"$f":"IF(U164=\"\",0,AVERAGE(U$10:U164))","v":0},{"$f":"IF(U163=\"\",0,VAR(U$10:U164))","v":0},null,null,"",{"$f":"IF(Z164=\"\",0,AVERAGE(Z$10:Z164))","v":0},{"$f":"IF(Z163=\"\",0,VAR(Z$10:Z164))","v":0},null,null,"",{"$f":"IF(AE164=\"\",0,AVERAGE(AE$10:AE164))","v":0},{"$f":"IF(AE163=\"\",0,VAR(AE$10:AE164))","v":0},null,null,"",{"$f":"IF(AJ164=\"\",0,AVERAGE(AJ$10:AJ164))","v":0},{"$f":"IF(AJ163=\"\",0,VAR(AJ$10:AJ164))","v":0},null,null,"",{"$f":"IF(AO164=\"\",0,AVERAGE(AO$10:AO164))","v":0},{"$f":"IF(AO163=\"\",0,VAR(AO$10:AO164))","v":0},null,null,"",{"$f":"IF(AT164=\"\",0,AVERAGE(AT$10:AT164))","v":0},{"$f":"IF(AT163=\"\",0,VAR(AT$10:AT164))","v":0},null,null,"",{"$f":"IF(AY164=\"\",0,AVERAGE(AY$10:AY164))","v":0},{"$f":"IF(AY163=\"\",0,VAR(AY$10:AY164))","v":0}]
[null,null,null,null,null,null,{"$f":"IF(F165=\"\",0,AVERAGE($F$10:F165))","v":0},{"$f":"IF(F164=\"\",0,VAR($F$10:F165))","v":0},null,null,"",{"$f":"IF(K165=\"\",0,AVERAGE($K$10:K165))","v":0},{"$f":"IF(K164=\"\",0,VAR($K$10:K165))","v":0},null,null,"",{"$f":"IF(P165=\"\",0,AVERAGE(P$10:P165))","v":0},{"$f":"IF(P164=\"\",0,VAR(P$10:P165))","v":0},null,null,"",{"$f":"IF(U165=\"\",0,AVERAGE(U$10:U165))","v":0},{"$f":"IF(U164=\"\",0,VAR(U$10:U165))","v":0},null,null,"",{"$f":"IF(Z165=\"\",0,AVERAGE(Z$10:Z165))","v":0},{"$f":"IF(Z164=\"\",0,VAR(Z$10:Z165))","v":0},null,null,"",{"$f":"IF(AE165=\"\",0,AVERAGE(AE$10:AE165))","v":0},{"$f":"IF(AE164=\"\",0,VAR(AE$10:AE165))","v":0},null,null,"",{"$f":"IF(AJ165=\"\",0,AVERAGE(AJ$10:AJ165))","v":0},{"$f":"IF(AJ164=\"\",0,VAR(AJ$10:AJ165))","v":0},null,null,"",{"$f":"IF(AO165=\"\",0,AVERAGE(AO$10:AO165))","v":0},{"$f":"IF(AO164=\"\",0,VAR(AO$10:AO165))","v":0},null,null,"",{"$f":"IF(AT165=\"\",0,AVERAGE(AT$10:AT165))","v":0},{"$f":"IF(AT164=\"\",0,VAR(AT$10:AT165))","v":0},null,null,"",{"$f":"IF(AY165=\"\",0,AVERAGE(AY$10:AY165))","v":0},{"$f":"IF(AY164=\"\",0,VAR(AY$10:AY165))","v":0}]
[null,null,null,null,null,{"$f":"IF(E166=\"\",\"\",+(E166-E165)/E165)","v":""},{"$f":"IF(F166=\"\",0,AVERAGE($F$10:F166))","v":0},{"$f":"IF(F165=\"\",0,VAR($F$10:F166))","v":0},null,null,"",{"$f":"IF(K166=\"\",0,AVERAGE($K$10:K166))","v":0},{"$f":"IF(K165=\"\",0,VAR($K$10:K166))","v":0},null,null,"",{"$f":"IF(P166=\"\",0,AVERAGE(P$10:P166))","v":0},{"$f":"IF(P165=\"\",0,VAR(P$10:P166))","v":0},null,null,"",{"$f":"IF(U166=\"\",0,AVERAGE(U$10:U166))","v":0},{"$f":"IF(U165=\"\",0,VAR(U$10:U166))","v":0},null,null,"",{"$f":"IF(Z166=\"\",0,AVERAGE(Z$10:Z166))","v":0},{"$f":"IF(Z165=\"\",0,VAR(Z$10:Z166))","v":0},null,null,"",{"$f":"IF(AE166=\"\",0,AVERAGE(AE$10:AE166))","v":0},{"$f":"IF(AE165=\"\",0,VAR(AE$10:AE166))","v":0},null,null,"",{"$f":"IF(AJ166=\"\",0,AVERAGE(AJ$10:AJ166))","v":0},{"$f":"IF(AJ165=\"\",0,VAR(AJ$10:AJ166))","v":0},null,null,"",{"$f":"IF(AO166=\"\",0,AVERAGE(AO$10:AO166))","v":0},{"$f":"IF(AO165=\"\",0,VAR(AO$10:AO166))","v":0},null,null,"",{"$f":"IF(AT166=\"\",0,AVERAGE(AT$10:AT166))","v":0},{"$f":"IF(AT165=\"\",0,VAR(AT$10:AT166))","v":0},null,null,"",{"$f":"IF(AY166=\"\",0,AVERAGE(AY$10:AY166))","v":0},{"$f":"IF(AY165=\"\",0,VAR(AY$10:AY166))","v":0}]
[null,null,null,null,null,"",{"$f":"IF(F167=\"\",0,AVERAGE($F$10:F167))","v":0},{"$f":"IF(F166=\"\",0,VAR($F$10:F167))","v":0},null,null,"",{"$f":"IF(K167=\"\",0,AVERAGE($K$10:K167))","v":0},{"$f":"IF(K166=\"\",0,VAR($K$10:K167))","v":0},null,null,"",{"$f":"IF(P167=\"\",0,AVERAGE(P$10:P167))","v":0},{"$f":"IF(P166=\"\",0,VAR(P$10:P167))","v":0},null,null,"",{"$f":"IF(U167=\"\",0,AVERAGE(U$10:U167))","v":0},{"$f":"IF(U166=\"\",0,VAR(U$10:U167))","v":0},null,null,"",{"$f":"IF(Z167=\"\",0,AVERAGE(Z$10:Z167))","v":0},{"$f":"IF(Z166=\"\",0,VAR(Z$10:Z167))","v":0},null,null,"",{"$f":"IF(AE167=\"\",0,AVERAGE(AE$10:AE167))","v":0},{"$f":"IF(AE166=\"\",0,VAR(AE$10:AE167))","v":0},null,null,"",{"$f":"IF(AJ167=\"\",0,AVERAGE(AJ$10:AJ167))","v":0},{"$f":"IF(AJ166=\"\",0,VAR(AJ$10:AJ167))","v":0},null,null,"",{"$f":"IF(AO167=\"\",0,AVERAGE(AO$10:AO167))","v":0},{"$f":"IF(AO166=\"\",0,VAR(AO$10:AO167))","v":0},null,null,"",{"$f":"IF(AT167=\"\",0,AVERAGE(AT$10:AT167))","v":0},{"$f":"IF(AT166=\"\",0,VAR(AT$10:AT167))","v":0},null,null,"",{"$f":"IF(AY167=\"\",0,AVERAGE(AY$10:AY167))","v":0},{"$f":"IF(AY166=\"\",0,VAR(AY$10:AY167))","v":0}]
[null,null,null,null,null,null,{"$f":"IF(F168=\"\",0,AVERAGE($F$10:F168))","v":0},{"$f":"IF(F167=\"\",0,VAR($F$10:F168))","v":0},null,null,"",{"$f":"IF(K168=\"\",0,AVERAGE($K$10:K168))","v":0},{"$f":"IF(K167=\"\",0,VAR($K$10:K168))","v":0},null,null,"",{"$f":"IF(P168=\"\",0,AVERAGE(P$10:P168))","v":0},{"$f":"IF(P167=\"\",0,VAR(P$10:P168))","v":0},null,null,"",{"$f":"IF(U168=\"\",0,AVERAGE(U$10:U168))","v":0},{"$f":"IF(U167=\"\",0,VAR(U$10:U168))","v":0},null,null,"",{"$f":"IF(Z168=\"\",0,AVERAGE(Z$10:Z168))","v":0},{"$f":"IF(Z167=\"\",0,VAR(Z$10:Z168))","v":0},null,null,"",{"$f":"IF(AE168=\"\",0,AVERAGE(AE$10:AE168))","v":0},{"$f":"IF(AE167=\"\",0,VAR(AE$10:AE168))","v":0},null,null,"",{"$f":"IF(AJ168=\"\",0,AVERAGE(AJ$10:AJ168))","v":0},{"$f":"IF(AJ167=\"\",0,VAR(AJ$10:AJ168))","v":0},null,null,"",{"$f":"IF(AO168=\"\",0,AVERAGE(AO$10:AO168))","v":0},{"$f":"IF(AO167=\"\",0,VAR(AO$10:AO168))","v":0},null,null,"",{"$f":"IF(AT168=\"\",0,AVERAGE(AT$10:AT168))","v":0},{"$f":"IF(AT167=\"\",0,VAR(AT$10:AT168))","v":0},null,null,"",{"$f":"IF(AY168=\"\",0,AVERAGE(AY$10:AY168))","v":0},{"$f":"IF(AY167=\"\",0,VAR(AY$10:AY168))","v":0}]
[null,null,null,null,null,{"$f":"IF(E169=\"\",\"\",+(E169-E168)/E168)","v":""},{"$f":"IF(F169=\"\",0,AVERAGE($F$10:F169))","v":0},{"$f":"IF(F168=\"\",0,VAR($F$10:F169))","v":0},null,null,"",{"$f":"IF(K169=\"\",0,AVERAGE($K$10:K169))","v":0},{"$f":"IF(K168=\"\",0,VAR($K$10:K169))","v":0},null,null,"",{"$f":"IF(P169=\"\",0,AVERAGE(P$10:P169))","v":0},{"$f":"IF(P168=\"\",0,VAR(P$10:P169))","v":0},null,null,"",{"$f":"IF(U169=\"\",0,AVERAGE(U$10:U169))","v":0},{"$f":"IF(U168=\"\",0,VAR(U$10:U169))","v":0},null,null,"",{"$f":"IF(Z169=\"\",0,AVERAGE(Z$10:Z169))","v":0},{"$f":"IF(Z168=\"\",0,VAR(Z$10:Z169))","v":0},null,null,"",{"$f":"IF(AE169=\"\",0,AVERAGE(AE$10:AE169))","v":0},{"$f":"IF(AE168=\"\",0,VAR(AE$10:AE169))","v":0},null,null,"",{"$f":"IF(AJ169=\"\",0,AVERAGE(AJ$10:AJ169))","v":0},{"$f":"IF(AJ168=\"\",0,VAR(AJ$10:AJ169))","v":0},null,null,"",{"$f":"IF(AO169=\"\",0,AVERAGE(AO$10:AO169))","v":0},{"$f":"IF(AO168=\"\",0,VAR(AO$10:AO169))","v":0},null,null,"",{"$f":"IF(AT169=\"\",0,AVERAGE(AT$10:AT169))","v":0},{"$f":"IF(AT168=\"\",0,VAR(AT$10:AT169))","v":0},null,null,"",{"$f":"IF(AY169=\"\",0,AVERAGE(AY$10:AY169))","v":0},{"$f":"IF(AY168=\"\",0,VAR(AY$10:AY169))","v":0}]
[null,null,null,null,null,"",{"$f":"IF(F170=\"\",0,AVERAGE($F$10:F170))","v":0},{"$f":"IF(F169=\"\",0,VAR($F$10:F170))","v":0},null,null,"",{"$f":"IF(K170=\"\",0,AVERAGE($K$10:K170))","v":0},{"$f":"IF(K169=\"\",0,VAR($K$10:K170))","v":0},null,null,"",{"$f":"IF(P170=\"\",0,AVERAGE(P$10:P170))","v":0},{"$f":"IF(P169=\"\",0,VAR(P$10:P170))","v":0},null,null,"",{"$f":"IF(U170=\"\",0,AVERAGE(U$10:U170))","v":0},{"$f":"IF(U169=\"\",0,VAR(U$10:U170))","v":0},null,null,"",{"$f":"IF(Z170=\"\",0,AVERAGE(Z$10:Z170))","v":0},{"$f":"IF(Z169=\"\",0,VAR(Z$10:Z170))","v":0},null,null,"",{"$f":"IF(AE170=\"\",0,AVERAGE(AE$10:AE170))","v":0},{"$f":"IF(AE169=\"\",0,VAR(AE$10:AE170))","v":0},null,null,"",{"$f":"IF(AJ170=\"\",0,AVERAGE(AJ$10:AJ170))","v":0},{"$f":"IF(AJ169=\"\",0,VAR(AJ$10:AJ170))","v":0},null,null,"",{"$f":"IF(AO170=\"\",0,AVERAGE(AO$10:AO170))","v":0},{"$f":"IF(AO169=\"\",0,VAR(AO$10:AO170))","v":0},null,null,"",{"$f":"IF(AT170=\"\",0,AVERAGE(AT$10:AT170))","v":0},{"$f":"IF(AT169=\"\",0,VAR(AT$10:AT170))","v":0},null,null,"",{"$f":"IF(AY170=\"\",0,AVERAGE(AY$10:AY170))","v":0},{"$f":"IF(AY169=\"\",0,VAR(AY$10:AY170))","v":0}]
[null,null,null,null,null,null,{"$f":"IF(F171=\"\",0,AVERAGE($F$10:F171))","v":0},{"$f":"IF(F170=\"\",0,VAR($F$10:F171))","v":0},null,null,"",{"$f":"IF(K171=\"\",0,AVERAGE($K$10:K171))","v":0},{"$f":"IF(K170=\"\",0,VAR($K$10:K171))","v":0},null,null,"",{"$f":"IF(P171=\"\",0,AVERAGE(P$10:P171))","v":0},{"$f":"IF(P170=\"\",0,VAR(P$10:P171))","v":0},null,null,"",{"$f":"IF(U171=\"\",0,AVERAGE(U$10:U171))","v":0},{"$f":"IF(U170=\"\",0,VAR(U$10:U171))","v":0},null,null,"",{"$f":"IF(Z171=\"\",0,AVERAGE(Z$10:Z171))","v":0},{"$f":"IF(Z170=\"\",0,VAR(Z$10:Z171))","v":0},null,null,"",{"$f":"IF(AE171=\"\",0,AVERAGE(AE$10:AE171))","v":0},{"$f":"IF(AE170=\"\",0,VAR(AE$10:AE171))","v":0},null,null,"",{"$f":"IF(AJ171=\"\",0,AVERAGE(AJ$10:AJ171))","v":0},{"$f":"IF(AJ170=\"\",0,VAR(AJ$10:AJ171))","v":0},null,null,"",{"$f":"IF(AO171=\"\",0,AVERAGE(AO$10:AO171))","v":0},{"$f":"IF(AO170=\"\",0,VAR(AO$10:AO171))","v":0},null,null,"",{"$f":"IF(AT171=\"\",0,AVERAGE(AT$10:AT171))","v":0},{"$f":"IF(AT170=\"\",0,VAR(AT$10:AT171))","v":0},null,null,"",{"$f":"IF(AY171=\"\",0,AVERAGE(AY$10:AY171))","v":0},{"$f":"IF(AY170=\"\",0,VAR(AY$10:AY171))","v":0}]
[null,null,null,null,null,{"$f":"IF(E172=\"\",\"\",+(E172-E171)/E171)","v":""},{"$f":"IF(F172=\"\",0,AVERAGE($F$10:F172))","v":0},{"$f":"IF(F171=\"\",0,VAR($F$10:F172))","v":0},null,null,"",{"$f":"IF(K172=\"\",0,AVERAGE($K$10:K172))","v":0},{"$f":"IF(K171=\"\",0,VAR($K$10:K172))","v":0},null,null,"",{"$f":"IF(P172=\"\",0,AVERAGE(P$10:P172))","v":0},{"$f":"IF(P171=\"\",0,VAR(P$10:P172))","v":0},null,null,"",{"$f":"IF(U172=\"\",0,AVERAGE(U$10:U172))","v":0},{"$f":"IF(U171=\"\",0,VAR(U$10:U172))","v":0},null,null,"",{"$f":"IF(Z172=\"\",0,AVERAGE(Z$10:Z172))","v":0},{"$f":"IF(Z171=\"\",0,VAR(Z$10:Z172))","v":0},null,null,"",{"$f":"IF(AE172=\"\",0,AVERAGE(AE$10:AE172))","v":0},{"$f":"IF(AE171=\"\",0,VAR(AE$10:AE172))","v":0},null,null,"",{"$f":"IF(AJ172=\"\",0,AVERAGE(AJ$10:AJ172))","v":0},{"$f":"IF(AJ171=\"\",0,VAR(AJ$10:AJ172))","v":0},null,null,"",{"$f":"IF(AO172=\"\",0,AVERAGE(AO$10:AO172))","v":0},{"$f":"IF(AO171=\"\",0,VAR(AO$10:AO172))","v":0},null,null,"",{"$f":"IF(AT172=\"\",0,AVERAGE(AT$10:AT172))","v":0},{"$f":"IF(AT171=\"\",0,VAR(AT$10:AT172))","v":0},null,null,"",{"$f":"IF(AY172=\"\",0,AVERAGE(AY$10:AY172))","v":0},{"$f":"IF(AY171=\"\",0,VAR(AY$10:AY172))","v":0}]
[null,null,null,null,null,"",{"$f":"IF(F173=\"\",0,AVERAGE($F$10:F173))","v":0},{"$f":"IF(F172=\"\",0,VAR($F$10:F173))","v":0},null,null,"",{"$f":"IF(K173=\"\",0,AVERAGE($K$10:K173))","v":0},{"$f":"IF(K172=\"\",0,VAR($K$10:K173))","v":0},null,null,"",{"$f":"IF(P173=\"\",0,AVERAGE(P$10:P173))","v":0},{"$f":"IF(P172=\"\",0,VAR(P$10:P173))","v":0},null,null,"",{"$f":"IF(U173=\"\",0,AVERAGE(U$10:U173))","v":0},{"$f":"IF(U172=\"\",0,VAR(U$10:U173))","v":0},null,null,"",{"$f":"IF(Z173=\"\",0,AVERAGE(Z$10:Z173))","v":0},{"$f":"IF(Z172=\"\",0,VAR(Z$10:Z173))","v":0},null,null,"",{"$f":"IF(AE173=\"\",0,AVERAGE(AE$10:AE173))","v":0},{"$f":"IF(AE172=\"\",0,VAR(AE$10:AE173))","v":0},null,null,"",{"$f":"IF(AJ173=\"\",0,AVERAGE(AJ$10:AJ173))","v":0},{"$f":"IF(AJ172=\"\",0,VAR(AJ$10:AJ173))","v":0},null,null,"",{"$f":"IF(AO173=\"\",0,AVERAGE(AO$10:AO173))","v":0},{"$f":"IF(AO172=\"\",0,VAR(AO$10:AO173))","v":0},null,null,"",{"$f":"IF(AT173=\"\",0,AVERAGE(AT$10:AT173))","v":0},{"$f":"IF(AT172=\"\",0,VAR(AT$10:AT173))","v":0},null,null,"",{"$f":"IF(AY173=\"\",0,AVERAGE(AY$10:AY173))","v":0},{"$f":"IF(AY172=\"\",0,VAR(AY$10:AY173))","v":0}]
[null,null,null,null,null,null,{"$f":"IF(F174=\"\",0,AVERAGE($F$10:F174))","v":0},{"$f":"IF(F173=\"\",0,VAR($F$10:F174))","v":0},null,null,"",{"$f":"IF(K174=\"\",0,AVERAGE($K$10:K174))","v":0},{"$f":"IF(K173=\"\",0,VAR($K$10:K174))","v":0},null,null,"",{"$f":"IF(P174=\"\",0,AVERAGE(P$10:P174))","v":0},{"$f":"IF(P173=\"\",0,VAR(P$10:P174))","v":0},null,null,"",{"$f":"IF(U174=\"\",0,AVERAGE(U$10:U174))","v":0},{"$f":"IF(U173=\"\",0,VAR(U$10:U174))","v":0},null,null,"",{"$f":"IF(Z174=\"\",0,AVERAGE(Z$10:Z174))","v":0},{"$f":"IF(Z173=\"\",0,VAR(Z$10:Z174))","v":0},null,null,"",{"$f":"IF(AE174=\"\",0,AVERAGE(AE$10:AE174))","v":0},{"$f":"IF(AE173=\"\",0,VAR(AE$10:AE174))","v":0},null,null,"",{"$f":"IF(AJ174=\"\",0,AVERAGE(AJ$10:AJ174))","v":0},{"$f":"IF(AJ173=\"\",0,VAR(AJ$10:AJ174))","v":0},null,null,"",{"$f":"IF(AO174=\"\",0,AVERAGE(AO$10:AO174))","v":0},{"$f":"IF(AO173=\"\",0,VAR(AO$10:AO174))","v":0},null,null,"",{"$f":"IF(AT174=\"\",0,AVERAGE(AT$10:AT174))","v":0},{"$f":"IF(AT173=\"\",0,VAR(AT$10:AT174))","v":0},null,null,"",{"$f":"IF(AY174=\"\",0,AVERAGE(AY$10:AY174))","v":0},{"$f":"IF(AY173=\"\",0,VAR(AY$10:AY174))","v":0}]
[null,null,null,null,null,{"$f":"IF(E175=\"\",\"\",+(E175-E174)/E174)","v":""},{"$f":"IF(F175=\"\",0,AVERAGE($F$10:F175))","v":0},{"$f":"IF(F174=\"\",0,VAR($F$10:F175))","v":0},null,null,"",{"$f":"IF(K175=\"\",0,AVERAGE($K$10:K175))","v":0},{"$f":"IF(K174=\"\",0,VAR($K$10:K175))","v":0},null,null,"",{"$f":"IF(P175=\"\",0,AVERAGE(P$10:P175))","v":0},{"$f":"IF(P174=\"\",0,VAR(P$10:P175))","v":0},null,null,"",{"$f":"IF(U175=\"\",0,AVERAGE(U$10:U175))","v":0},{"$f":"IF(U174=\"\",0,VAR(U$10:U175))","v":0},null,null,"",{"$f":"IF(Z175=\"\",0,AVERAGE(Z$10:Z175))","v":0},{"$f":"IF(Z174=\"\",0,VAR(Z$10:Z175))","v":0},null,null,"",{"$f":"IF(AE175=\"\",0,AVERAGE(AE$10:AE175))","v":0},{"$f":"IF(AE174=\"\",0,VAR(AE$10:AE175))","v":0},null,null,"",{"$f":"IF(AJ175=\"\",0,AVERAGE(AJ$10:AJ175))","v":0},{"$f":"IF(AJ174=\"\",0,VAR(AJ$10:AJ175))","v":0},null,null,"",{"$f":"IF(AO175=\"\",0,AVERAGE(AO$10:AO175))","v":0},{"$f":"IF(AO174=\"\",0,VAR(AO$10:AO175))","v":0},null,null,"",{"$f":"IF(AT175=\"\",0,AVERAGE(AT$10:AT175))","v":0},{"$f":"IF(AT174=\"\",0,VAR(AT$10:AT175))","v":0},null,null,"",{"$f":"IF(AY175=\"\",0,AVERAGE(AY$10:AY175))","v":0},{"$f":"IF(AY174=\"\",0,VAR(AY$10:AY175))","v":0}]
[null,null,null,null,null,"",{"$f":"IF(F176=\"\",0,AVERAGE($F$10:F176))","v":0},{"$f":"IF(F175=\"\",0,VAR($F$10:F176))","v":0},null,null,"",{"$f":"IF(K176=\"\",0,AVERAGE($K$10:K176))","v":0},{"$f":"IF(K175=\"\",0,VAR($K$10:K176))","v":0},null,null,"",{"$f":"IF(P176=\"\",0,AVERAGE(P$10:P176))","v":0},{"$f":"IF(P175=\"\",0,VAR(P$10:P176))","v":0},null,null,"",{"$f":"IF(U176=\"\",0,AVERAGE(U$10:U176))","v":0},{"$f":"IF(U175=\"\",0,VAR(U$10:U176))","v":0},null,null,"",{"$f":"IF(Z176=\"\",0,AVERAGE(Z$10:Z176))","v":0},{"$f":"IF(Z175=\"\",0,VAR(Z$10:Z176))","v":0},null,null,"",{"$f":"IF(AE176=\"\",0,AVERAGE(AE$10:AE176))","v":0},{"$f":"IF(AE175=\"\",0,VAR(AE$10:AE176))","v":0},null,null,"",{"$f":"IF(AJ176=\"\",0,AVERAGE(AJ$10:AJ176))","v":0},{"$f":"IF(AJ175=\"\",0,VAR(AJ$10:AJ176))","v":0},null,null,"",{"$f":"IF(AO176=\"\",0,AVERAGE(AO$10:AO176))","v":0},{"$f":"IF(AO175=\"\",0,VAR(AO$10:AO176))","v":0},null,null,"",{"$f":"IF(AT176=\"\",0,AVERAGE(AT$10:AT176))","v":0},{"$f":"IF(AT175=\"\",0,VAR(AT$10:AT176))","v":0},null,null,"",{"$f":"IF(AY176=\"\",0,AVERAGE(AY$10:AY176))","v":0},{"$f":"IF(AY175=\"\",0,VAR(AY$10:AY176))","v":0}]
[null,null,null,null,null,null,{"$f":"IF(F177=\"\",0,AVERAGE($F$10:F177))","v":0},{"$f":"IF(F176=\"\",0,VAR($F$10:F177))","v":0},null,null,"",{"$f":"IF(K177=\"\",0,AVERAGE($K$10:K177))","v":0},{"$f":"IF(K176=\"\",0,VAR($K$10:K177))","v":0},null,null,"",{"$f":"IF(P177=\"\",0,AVERAGE(P$10:P177))","v":0},{"$f":"IF(P176=\"\",0,VAR(P$10:P177))","v":0},null,null,"",{"$f":"IF(U177=\"\",0,AVERAGE(U$10:U177))","v":0},{"$f":"IF(U176=\"\",0,VAR(U$10:U177))","v":0},null,null,"",{"$f":"IF(Z177=\"\",0,AVERAGE(Z$10:Z177))","v":0},{"$f":"IF(Z176=\"\",0,VAR(Z$10:Z177))","v":0},null,null,"",{"$f":"IF(AE177=\"\",0,AVERAGE(AE$10:AE177))","v":0},{"$f":"IF(AE176=\"\",0,VAR(AE$10:AE177))","v":0},null,null,"",{"$f":"IF(AJ177=\"\",0,AVERAGE(AJ$10:AJ177))","v":0},{"$f":"IF(AJ176=\"\",0,VAR(AJ$10:AJ177))","v":0},null,null,"",{"$f":"IF(AO177=\"\",0,AVERAGE(AO$10:AO177))","v":0},{"$f":"IF(AO176=\"\",0,VAR(AO$10:AO177))","v":0},null,null,"",{"$f":"IF(AT177=\"\",0,AVERAGE(AT$10:AT177))","v":0},{"$f":"IF(AT176=\"\",0,VAR(AT$10:AT177))","v":0},null,null,"",{"$f":"IF(AY177=\"\",0,AVERAGE(AY$10:AY177))","v":0},{"$f":"IF(AY176=\"\",0,VAR(AY$10:AY177))","v":0}]
[null,null,null,null,null,{"$f":"IF(E178=\"\",\"\",+(E178-E177)/E177)","v":""},{"$f":"IF(F178=\"\",0,AVERAGE($F$10:F178))","v":0},{"$f":"IF(F177=\"\",0,VAR($F$10:F178))","v":0},null,null,"",{"$f":"IF(K178=\"\",0,AVERAGE($K$10:K178))","v":0},{"$f":"IF(K177=\"\",0,VAR($K$10:K178))","v":0},null,null,"",{"$f":"IF(P178=\"\",0,AVERAGE(P$10:P178))","v":0},{"$f":"IF(P177=\"\",0,VAR(P$10:P178))","v":0},null,null,"",{"$f":"IF(U178=\"\",0,AVERAGE(U$10:U178))","v":0},{"$f":"IF(U177=\"\",0,VAR(U$10:U178))","v":0},null,null,"",{"$f":"IF(Z178=\"\",0,AVERAGE(Z$10:Z178))","v":0},{"$f":"IF(Z177=\"\",0,VAR(Z$10:Z178))","v":0},null,null,"",{"$f":"IF(AE178=\"\",0,AVERAGE(AE$10:AE178))","v":0},{"$f":"IF(AE177=\"\",0,VAR(AE$10:AE178))","v":0},null,null,"",{"$f":"IF(AJ178=\"\",0,AVERAGE(AJ$10:AJ178))","v":0},{"$f":"IF(AJ177=\"\",0,VAR(AJ$10:AJ178))","v":0},null,null,"",{"$f":"IF(AO178=\"\",0,AVERAGE(AO$10:AO178))","v":0},{"$f":"IF(AO177=\"\",0,VAR(AO$10:AO178))","v":0},null,null,"",{"$f":"IF(AT178=\"\",0,AVERAGE(AT$10:AT178))","v":0},{"$f":"IF(AT177=\"\",0,VAR(AT$10:AT178))","v":0},null,null,"",{"$f":"IF(AY178=\"\",0,AVERAGE(AY$10:AY178))","v":0},{"$f":"IF(AY177=\"\",0,VAR(AY$10:AY178))","v":0}]
[null,null,null,null,null,"",{"$f":"IF(F179=\"\",0,AVERAGE($F$10:F179))","v":0},{"$f":"IF(F178=\"\",0,VAR($F$10:F179))","v":0},null,null,"",{"$f":"IF(K179=\"\",0,AVERAGE($K$10:K179))","v":0},{"$f":"IF(K178=\"\",0,VAR($K$10:K179))","v":0},null,null,"",{"$f":"IF(P179=\"\",0,AVERAGE(P$10:P179))","v":0},{"$f":"IF(P178=\"\",0,VAR(P$10:P179))","v":0},null,null,"",{"$f":"IF(U179=\"\",0,AVERAGE(U$10:U179))","v":0},{"$f":"IF(U178=\"\",0,VAR(U$10:U179))","v":0},null,null,"",{"$f":"IF(Z179=\"\",0,AVERAGE(Z$10:Z179))","v":0},{"$f":"IF(Z178=\"\",0,VAR(Z$10:Z179))","v":0},null,null,"",{"$f":"IF(AE179=\"\",0,AVERAGE(AE$10:AE179))","v":0},{"$f":"IF(AE178=\"\",0,VAR(AE$10:AE179))","v":0},null,null,"",{"$f":"IF(AJ179=\"\",0,AVERAGE(AJ$10:AJ179))","v":0},{"$f":"IF(AJ178=\"\",0,VAR(AJ$10:AJ179))","v":0},null,null,"",{"$f":"IF(AO179=\"\",0,AVERAGE(AO$10:AO179))","v":0},{"$f":"IF(AO178=\"\",0,VAR(AO$10:AO179))","v":0},null,null,"",{"$f":"IF(AT179=\"\",0,AVERAGE(AT$10:AT179))","v":0},{"$f":"IF(AT178=\"\",0,VAR(AT$10:AT179))","v":0},null,null,"",{"$f":"IF(AY179=\"\",0,AVERAGE(AY$10:AY179))","v":0},{"$f":"IF(AY178=\"\",0,VAR(AY$10:AY179))","v":0}]
[null,null,null,null,null,null,{"$f":"IF(F180=\"\",0,AVERAGE($F$10:F180))","v":0},{"$f":"IF(F179=\"\",0,VAR($F$10:F180))","v":0},null,null,"",{"$f":"IF(K180=\"\",0,AVERAGE($K$10:K180))","v":0},{"$f":"IF(K179=\"\",0,VAR($K$10:K180))","v":0},null,null,"",{"$f":"IF(P180=\"\",0,AVERAGE(P$10:P180))","v":0},{"$f":"IF(P179=\"\",0,VAR(P$10:P180))","v":0},null,null,"",{"$f":"IF(U180=\"\",0,AVERAGE(U$10:U180))","v":0},{"$f":"IF(U179=\"\",0,VAR(U$10:U180))","v":0},null,null,"",{"$f":"IF(Z180=\"\",0,AVERAGE(Z$10:Z180))","v":0},{"$f":"IF(Z179=\"\",0,VAR(Z$10:Z180))","v":0},null,null,"",{"$f":"IF(AE180=\"\",0,AVERAGE(AE$10:AE180))","v":0},{"$f":"IF(AE179=\"\",0,VAR(AE$10:AE180))","v":0},null,null,"",{"$f":"IF(AJ180=\"\",0,AVERAGE(AJ$10:AJ180))","v":0},{"$f":"IF(AJ179=\"\",0,VAR(AJ$10:AJ180))","v":0},null,null,"",{"$f":"IF(AO180=\"\",0,AVERAGE(AO$10:AO180))","v":0},{"$f":"IF(AO179=\"\",0,VAR(AO$10:AO180))","v":0},null,null,"",{"$f":"IF(AT180=\"\",0,AVERAGE(AT$10:AT180))","v":0},{"$f":"IF(AT179=\"\",0,VAR(AT$10:AT180))","v":0},null,null,"",{"$f":"IF(AY180=\"\",0,AVERAGE(AY$10:AY180))","v":0},{"$f":"IF(AY179=\"\",0,VAR(AY$10:AY180))","v":0}]
[null,null,null,null,null,{"$f":"IF(E181=\"\",\"\",+(E181-E180)/E180)","v":""},{"$f":"IF(F181=\"\",0,AVERAGE($F$10:F181))","v":0},{"$f":"IF(F180=\"\",0,VAR($F$10:F181))","v":0},null,null,"",{"$f":"IF(K181=\"\",0,AVERAGE($K$10:K181))","v":0},{"$f":"IF(K180=\"\",0,VAR($K$10:K181))","v":0},null,null,"",{"$f":"IF(P181=\"\",0,AVERAGE(P$10:P181))","v":0},{"$f":"IF(P180=\"\",0,VAR(P$10:P181))","v":0},null,null,"",{"$f":"IF(U181=\"\",0,AVERAGE(U$10:U181))","v":0},{"$f":"IF(U180=\"\",0,VAR(U$10:U181))","v":0},null,null,"",{"$f":"IF(Z181=\"\",0,AVERAGE(Z$10:Z181))","v":0},{"$f":"IF(Z180=\"\",0,VAR(Z$10:Z181))","v":0},null,null,"",{"$f":"IF(AE181=\"\",0,AVERAGE(AE$10:AE181))","v":0},{"$f":"IF(AE180=\"\",0,VAR(AE$10:AE181))","v":0},null,null,"",{"$f":"IF(AJ181=\"\",0,AVERAGE(AJ$10:AJ181))","v":0},{"$f":"IF(AJ180=\"\",0,VAR(AJ$10:AJ181))","v":0},null,null,"",{"$f":"IF(AO181=\"\",0,AVERAGE(AO$10:AO181))","v":0},{"$f":"IF(AO180=\"\",0,VAR(AO$10:AO181))","v":0},null,null,"",{"$f":"IF(AT181=\"\",0,AVERAGE(AT$10:AT181))","v":0},{"$f":"IF(AT180=\"\",0,VAR(AT$10:AT181))","v":0},null,null,"",{"$f":"IF(AY181=\"\",0,AVERAGE(AY$10:AY181))","v":0},{"$f":"IF(AY180=\"\",0,VAR(AY$10:AY181))","v":0}]
[null,null,null,null,null,"",{"$f":"IF(F182=\"\",0,AVERAGE($F$10:F182))","v":0},{"$f":"IF(F181=\"\",0,VAR($F$10:F182))","v":0},null,null,"",{"$f":"IF(K182=\"\",0,AVERAGE($K$10:K182))","v":0},{"$f":"IF(K181=\"\",0,VAR($K$10:K182))","v":0},null,null,"",{"$f":"IF(P182=\"\",0,AVERAGE(P$10:P182))","v":0},{"$f":"IF(P181=\"\",0,VAR(P$10:P182))","v":0},null,null,"",{"$f":"IF(U182=\"\",0,AVERAGE(U$10:U182))","v":0},{"$f":"IF(U181=\"\",0,VAR(U$10:U182))","v":0},null,null,"",{"$f":"IF(Z182=\"\",0,AVERAGE(Z$10:Z182))","v":0},{"$f":"IF(Z181=\"\",0,VAR(Z$10:Z182))","v":0},null,null,"",{"$f":"IF(AE182=\"\",0,AVERAGE(AE$10:AE182))","v":0},{"$f":"IF(AE181=\"\",0,VAR(AE$10:AE182))","v":0},null,null,"",{"$f":"IF(AJ182=\"\",0,AVERAGE(AJ$10:AJ182))","v":0},{"$f":"IF(AJ181=\"\",0,VAR(AJ$10:AJ182))","v":0},null,null,"",{"$f":"IF(AO182=\"\",0,AVERAGE(AO$10:AO182))","v":0},{"$f":"IF(AO181=\"\",0,VAR(AO$10:AO182))","v":0},null,null,"",{"$f":"IF(AT182=\"\",0,AVERAGE(AT$10:AT182))","v":0},{"$f":"IF(AT181=\"\",0,VAR(AT$10:AT182))","v":0},null,null,"",{"$f":"IF(AY182=\"\",0,AVERAGE(AY$10:AY182))","v":0},{"$f":"IF(AY181=\"\",0,VAR(AY$10:AY182))","v":0}]
[null,null,null,null,null,null,{"$f":"IF(F183=\"\",0,AVERAGE($F$10:F183))","v":0},{"$f":"IF(F182=\"\",0,VAR($F$10:F183))","v":0},null,null,"",{"$f":"IF(K183=\"\",0,AVERAGE($K$10:K183))","v":0},{"$f":"IF(K182=\"\",0,VAR($K$10:K183))","v":0},null,null,"",{"$f":"IF(P183=\"\",0,AVERAGE(P$10:P183))","v":0},{"$f":"IF(P182=\"\",0,VAR(P$10:P183))","v":0},null,null,"",{"$f":"IF(U183=\"\",0,AVERAGE(U$10:U183))","v":0},{"$f":"IF(U182=\"\",0,VAR(U$10:U183))","v":0},null,null,"",{"$f":"IF(Z183=\"\",0,AVERAGE(Z$10:Z183))","v":0},{"$f":"IF(Z182=\"\",0,VAR(Z$10:Z183))","v":0},null,null,"",{"$f":"IF(AE183=\"\",0,AVERAGE(AE$10:AE183))","v":0},{"$f":"IF(AE182=\"\",0,VAR(AE$10:AE183))","v":0},null,null,"",{"$f":"IF(AJ183=\"\",0,AVERAGE(AJ$10:AJ183))","v":0},{"$f":"IF(AJ182=\"\",0,VAR(AJ$10:AJ183))","v":0},null,null,"",{"$f":"IF(AO183=\"\",0,AVERAGE(AO$10:AO183))","v":0},{"$f":"IF(AO182=\"\",0,VAR(AO$10:AO183))","v":0},null,null,"",{"$f":"IF(AT183=\"\",0,AVERAGE(AT$10:AT183))","v":0},{"$f":"IF(AT182=\"\",0,VAR(AT$10:AT183))","v":0},null,null,"",{"$f":"IF(AY183=\"\",0,AVERAGE(AY$10:AY183))","v":0},{"$f":"IF(AY182=\"\",0,VAR(AY$10:AY183))","v":0}]
[null,null,null,null,null,{"$f":"IF(E184=\"\",\"\",+(E184-E183)/E183)","v":""},{"$f":"IF(F184=\"\",0,AVERAGE($F$10:F184))","v":0},{"$f":"IF(F183=\"\",0,VAR($F$10:F184))","v":0},null,null,"",{"$f":"IF(K184=\"\",0,AVERAGE($K$10:K184))","v":0},{"$f":"IF(K183=\"\",0,VAR($K$10:K184))","v":0},null,null,"",{"$f":"IF(P184=\"\",0,AVERAGE(P$10:P184))","v":0},{"$f":"IF(P183=\"\",0,VAR(P$10:P184))","v":0},null,null,"",{"$f":"IF(U184=\"\",0,AVERAGE(U$10:U184))","v":0},{"$f":"IF(U183=\"\",0,VAR(U$10:U184))","v":0},null,null,"",{"$f":"IF(Z184=\"\",0,AVERAGE(Z$10:Z184))","v":0},{"$f":"IF(Z183=\"\",0,VAR(Z$10:Z184))","v":0},null,null,"",{"$f":"IF(AE184=\"\",0,AVERAGE(AE$10:AE184))","v":0},{"$f":"IF(AE183=\"\",0,VAR(AE$10:AE184))","v":0},null,null,"",{"$f":"IF(AJ184=\"\",0,AVERAGE(AJ$10:AJ184))","v":0},{"$f":"IF(AJ183=\"\",0,VAR(AJ$10:AJ184))","v":0},null,null,"",{"$f":"IF(AO184=\"\",0,AVERAGE(AO$10:AO184))","v":0},{"$f":"IF(AO183=\"\",0,VAR(AO$10:AO184))","v":0},null,null,"",{"$f":"IF(AT184=\"\",0,AVERAGE(AT$10:AT184))","v":0},{"$f":"IF(AT183=\"\",0,VAR(AT$10:AT184))","v":0},null,null,"",{"$f":"IF(AY184=\"\",0,AVERAGE(AY$10:AY184))","v":0},{"$f":"IF(AY183=\"\",0,VAR(AY$10:AY184))","v":0}]
[null,null,null,null,null,"",{"$f":"IF(F185=\"\",0,AVERAGE($F$10:F185))","v":0},{"$f":"IF(F184=\"\",0,VAR($F$10:F185))","v":0},null,null,"",{"$f":"IF(K185=\"\",0,AVERAGE($K$10:K185))","v":0},{"$f":"IF(K184=\"\",0,VAR($K$10:K185))","v":0},null,null,"",{"$f":"IF(P185=\"\",0,AVERAGE(P$10:P185))","v":0},{"$f":"IF(P184=\"\",0,VAR(P$10:P185))","v":0},null,null,"",{"$f":"IF(U185=\"\",0,AVERAGE(U$10:U185))","v":0},{"$f":"IF(U184=\"\",0,VAR(U$10:U185))","v":0},null,null,"",{"$f":"IF(Z185=\"\",0,AVERAGE(Z$10:Z185))","v":0},{"$f":"IF(Z184=\"\",0,VAR(Z$10:Z185))","v":0},null,null,"",{"$f":"IF(AE185=\"\",0,AVERAGE(AE$10:AE185))","v":0},{"$f":"IF(AE184=\"\",0,VAR(AE$10:AE185))","v":0},null,null,"",{"$f":"IF(AJ185=\"\",0,AVERAGE(AJ$10:AJ185))","v":0},{"$f":"IF(AJ184=\"\",0,VAR(AJ$10:AJ185))","v":0},null,null,"",{"$f":"IF(AO185=\"\",0,AVERAGE(AO$10:AO185))","v":0},{"$f":"IF(AO184=\"\",0,VAR(AO$10:AO185))","v":0},null,null,"",{"$f":"IF(AT185=\"\",0,AVERAGE(AT$10:AT185))","v":0},{"$f":"IF(AT184=\"\",0,VAR(AT$10:AT185))","v":0},null,null,"",{"$f":"IF(AY185=\"\",0,AVERAGE(AY$10:AY185))","v":0},{"$f":"IF(AY184=\"\",0,VAR(AY$10:AY185))","v":0}]
[null,null,null,null,null,null,{"$f":"IF(F186=\"\",0,AVERAGE($F$10:F186))","v":0},{"$f":"IF(F185=\"\",0,VAR($F$10:F186))","v":0},null,null,"",{"$f":"IF(K186=\"\",0,AVERAGE($K$10:K186))","v":0},{"$f":"IF(K185=\"\",0,VAR($K$10:K186))","v":0},null,null,"",{"$f":"IF(P186=\"\",0,AVERAGE(P$10:P186))","v":0},{"$f":"IF(P185=\"\",0,VAR(P$10:P186))","v":0},null,null,"",{"$f":"IF(U186=\"\",0,AVERAGE(U$10:U186))","v":0},{"$f":"IF(U185=\"\",0,VAR(U$10:U186))","v":0},null,null,"",{"$f":"IF(Z186=\"\",0,AVERAGE(Z$10:Z186))","v":0},{"$f":"IF(Z185=\"\",0,VAR(Z$10:Z186))","v":0},null,null,"",{"$f":"IF(AE186=\"\",0,AVERAGE(AE$10:AE186))","v":0},{"$f":"IF(AE185=\"\",0,VAR(AE$10:AE186))","v":0},null,null,"",{"$f":"IF(AJ186=\"\",0,AVERAGE(AJ$10:AJ186))","v":0},{"$f":"IF(AJ185=\"\",0,VAR(AJ$10:AJ186))","v":0},null,null,"",{"$f":"IF(AO186=\"\",0,AVERAGE(AO$10:AO186))","v":0},{"$f":"IF(AO185=\"\",0,VAR(AO$10:AO186))","v":0},null,null,"",{"$f":"IF(AT186=\"\",0,AVERAGE(AT$10:AT186))","v":0},{"$f":"IF(AT185=\"\",0,VAR(AT$10:AT186))","v":0},null,null,"",{"$f":"IF(AY186=\"\",0,AVERAGE(AY$10:AY186))","v":0},{"$f":"IF(AY185=\"\",0,VAR(AY$10:AY186))","v":0}]
[null,null,null,null,null,{"$f":"IF(E187=\"\",\"\",+(E187-E186)/E186)","v":""},{"$f":"IF(F187=\"\",0,AVERAGE($F$10:F187))","v":0},{"$f":"IF(F186=\"\",0,VAR($F$10:F187))","v":0},null,null,"",{"$f":"IF(K187=\"\",0,AVERAGE($K$10:K187))","v":0},{"$f":"IF(K186=\"\",0,VAR($K$10:K187))","v":0},null,null,"",{"$f":"IF(P187=\"\",0,AVERAGE(P$10:P187))","v":0},{"$f":"IF(P186=\"\",0,VAR(P$10:P187))","v":0},null,null,"",{"$f":"IF(U187=\"\",0,AVERAGE(U$10:U187))","v":0},{"$f":"IF(U186=\"\",0,VAR(U$10:U187))","v":0},null,null,"",{"$f":"IF(Z187=\"\",0,AVERAGE(Z$10:Z187))","v":0},{"$f":"IF(Z186=\"\",0,VAR(Z$10:Z187))","v":0},null,null,"",{"$f":"IF(AE187=\"\",0,AVERAGE(AE$10:AE187))","v":0},{"$f":"IF(AE186=\"\",0,VAR(AE$10:AE187))","v":0},null,null,"",{"$f":"IF(AJ187=\"\",0,AVERAGE(AJ$10:AJ187))","v":0},{"$f":"IF(AJ186=\"\",0,VAR(AJ$10:AJ187))","v":0},null,null,"",{"$f":"IF(AO187=\"\",0,AVERAGE(AO$10:AO187))","v":0},{"$f":"IF(AO186=\"\",0,VAR(AO$10:AO187))","v":0},null,null,"",{"$f":"IF(AT187=\"\",0,AVERAGE(AT$10:AT187))","v":0},{"$f":"IF(AT186=\"\",0,VAR(AT$10:AT187))","v":0},null,null,"",{"$f":"IF(AY187=\"\",0,AVERAGE(AY$10:AY187))","v":0},{"$f":"IF(AY186=\"\",0,VAR(AY$10:AY187))","v":0}]
[null,null,null,null,null,"",{"$f":"IF(F188=\"\",0,AVERAGE($F$10:F188))","v":0},{"$f":"IF(F187=\"\",0,VAR($F$10:F188))","v":0},null,null,"",{"$f":"IF(K188=\"\",0,AVERAGE($K$10:K188))","v":0},{"$f":"IF(K187=\"\",0,VAR($K$10:K188))","v":0},null,null,"",{"$f":"IF(P188=\"\",0,AVERAGE(P$10:P188))","v":0},{"$f":"IF(P187=\"\",0,VAR(P$10:P188))","v":0},null,null,"",{"$f":"IF(U188=\"\",0,AVERAGE(U$10:U188))","v":0},{"$f":"IF(U187=\"\",0,VAR(U$10:U188))","v":0},null,null,"",{"$f":"IF(Z188=\"\",0,AVERAGE(Z$10:Z188))","v":0},{"$f":"IF(Z187=\"\",0,VAR(Z$10:Z188))","v":0},null,null,"",{"$f":"IF(AE188=\"\",0,AVERAGE(AE$10:AE188))","v":0},{"$f":"IF(AE187=\"\",0,VAR(AE$10:AE188))","v":0},null,null,"",{"$f":"IF(AJ188=\"\",0,AVERAGE(AJ$10:AJ188))","v":0},{"$f":"IF(AJ187=\"\",0,VAR(AJ$10:AJ188))","v":0},null,null,"",{"$f":"IF(AO188=\"\",0,AVERAGE(AO$10:AO188))","v":0},{"$f":"IF(AO187=\"\",0,VAR(AO$10:AO188))","v":0},null,null,"",{"$f":"IF(AT188=\"\",0,AVERAGE(AT$10:AT188))","v":0},{"$f":"IF(AT187=\"\",0,VAR(AT$10:AT188))","v":0},null,null,"",{"$f":"IF(AY188=\"\",0,AVERAGE(AY$10:AY188))","v":0},{"$f":"IF(AY187=\"\",0,VAR(AY$10:AY188))","v":0}]
[null,null,null,null,null,null,{"$f":"IF(F189=\"\",0,AVERAGE($F$10:F189))","v":0},{"$f":"IF(F188=\"\",0,VAR($F$10:F189))","v":0},null,null,"",{"$f":"IF(K189=\"\",0,AVERAGE($K$10:K189))","v":0},{"$f":"IF(K188=\"\",0,VAR($K$10:K189))","v":0},null,null,"",{"$f":"IF(P189=\"\",0,AVERAGE(P$10:P189))","v":0},{"$f":"IF(P188=\"\",0,VAR(P$10:P189))","v":0},null,null,"",{"$f":"IF(U189=\"\",0,AVERAGE(U$10:U189))","v":0},{"$f":"IF(U188=\"\",0,VAR(U$10:U189))","v":0},null,null,"",{"$f":"IF(Z189=\"\",0,AVERAGE(Z$10:Z189))","v":0},{"$f":"IF(Z188=\"\",0,VAR(Z$10:Z189))","v":0},null,null,"",{"$f":"IF(AE189=\"\",0,AVERAGE(AE$10:AE189))","v":0},{"$f":"IF(AE188=\"\",0,VAR(AE$10:AE189))","v":0},null,null,"",{"$f":"IF(AJ189=\"\",0,AVERAGE(AJ$10:AJ189))","v":0},{"$f":"IF(AJ188=\"\",0,VAR(AJ$10:AJ189))","v":0},null,null,"",{"$f":"IF(AO189=\"\",0,AVERAGE(AO$10:AO189))","v":0},{"$f":"IF(AO188=\"\",0,VAR(AO$10:AO189))","v":0},null,null,"",{"$f":"IF(AT189=\"\",0,AVERAGE(AT$10:AT189))","v":0},{"$f":"IF(AT188=\"\",0,VAR(AT$10:AT189))","v":0},null,null,"",{"$f":"IF(AY189=\"\",0,AVERAGE(AY$10:AY189))","v":0},{"$f":"IF(AY188=\"\",0,VAR(AY$10:AY189))","v":0}]
[null,null,null,null,null,{"$f":"IF(E190=\"\",\"\",+(E190-E189)/E189)","v":""},{"$f":"IF(F190=\"\",0,AVERAGE($F$10:F190))","v":0},{"$f":"IF(F189=\"\",0,VAR($F$10:F190))","v":0},null,null,"",{"$f":"IF(K190=\"\",0,AVERAGE($K$10:K190))","v":0},{"$f":"IF(K189=\"\",0,VAR($K$10:K190))","v":0},null,null,"",{"$f":"IF(P190=\"\",0,AVERAGE(P$10:P190))","v":0},{"$f":"IF(P189=\"\",0,VAR(P$10:P190))","v":0},null,null,"",{"$f":"IF(U190=\"\",0,AVERAGE(U$10:U190))","v":0},{"$f":"IF(U189=\"\",0,VAR(U$10:U190))","v":0},null,null,"",{"$f":"IF(Z190=\"\",0,AVERAGE(Z$10:Z190))","v":0},{"$f":"IF(Z189=\"\",0,VAR(Z$10:Z190))","v":0},null,null,"",{"$f":"IF(AE190=\"\",0,AVERAGE(AE$10:AE190))","v":0},{"$f":"IF(AE189=\"\",0,VAR(AE$10:AE190))","v":0},null,null,"",{"$f":"IF(AJ190=\"\",0,AVERAGE(AJ$10:AJ190))","v":0},{"$f":"IF(AJ189=\"\",0,VAR(AJ$10:AJ190))","v":0},null,null,"",{"$f":"IF(AO190=\"\",0,AVERAGE(AO$10:AO190))","v":0},{"$f":"IF(AO189=\"\",0,VAR(AO$10:AO190))","v":0},null,null,"",{"$f":"IF(AT190=\"\",0,AVERAGE(AT$10:AT190))","v":0},{"$f":"IF(AT189=\"\",0,VAR(AT$10:AT190))","v":0},null,null,"",{"$f":"IF(AY190=\"\",0,AVERAGE(AY$10:AY190))","v":0},{"$f":"IF(AY189=\"\",0,VAR(AY$10:AY190))","v":0}]
[null,null,null,null,null,"",{"$f":"IF(F191=\"\",0,AVERAGE($F$10:F191))","v":0},{"$f":"IF(F190=\"\",0,VAR($F$10:F191))","v":0},null,null,"",{"$f":"IF(K191=\"\",0,AVERAGE($K$10:K191))","v":0},{"$f":"IF(K190=\"\",0,VAR($K$10:K191))","v":0},null,null,"",{"$f":"IF(P191=\"\",0,AVERAGE(P$10:P191))","v":0},{"$f":"IF(P190=\"\",0,VAR(P$10:P191))","v":0},null,null,"",{"$f":"IF(U191=\"\",0,AVERAGE(U$10:U191))","v":0},{"$f":"IF(U190=\"\",0,VAR(U$10:U191))","v":0},null,null,"",{"$f":"IF(Z191=\"\",0,AVERAGE(Z$10:Z191))","v":0},{"$f":"IF(Z190=\"\",0,VAR(Z$10:Z191))","v":0},null,null,"",{"$f":"IF(AE191=\"\",0,AVERAGE(AE$10:AE191))","v":0},{"$f":"IF(AE190=\"\",0,VAR(AE$10:AE191))","v":0},null,null,"",{"$f":"IF(AJ191=\"\",0,AVERAGE(AJ$10:AJ191))","v":0},{"$f":"IF(AJ190=\"\",0,VAR(AJ$10:AJ191))","v":0},null,null,"",{"$f":"IF(AO191=\"\",0,AVERAGE(AO$10:AO191))","v":0},{"$f":"IF(AO190=\"\",0,VAR(AO$10:AO191))","v":0},null,null,"",{"$f":"IF(AT191=\"\",0,AVERAGE(AT$10:AT191))","v":0},{"$f":"IF(AT190=\"\",0,VAR(AT$10:AT191))","v":0},null,null,"",{"$f":"IF(AY191=\"\",0,AVERAGE(AY$10:AY191))","v":0},{"$f":"IF(AY190=\"\",0,VAR(AY$10:AY191))","v":0}]
[null,null,null,null,null,null,{"$f":"IF(F192=\"\",0,AVERAGE($F$10:F192))","v":0},{"$f":"IF(F191=\"\",0,VAR($F$10:F192))","v":0},null,null,"",{"$f":"IF(K192=\"\",0,AVERAGE($K$10:K192))","v":0},{"$f":"IF(K191=\"\",0,VAR($K$10:K192))","v":0},null,null,"",{"$f":"IF(P192=\"\",0,AVERAGE(P$10:P192))","v":0},{"$f":"IF(P191=\"\",0,VAR(P$10:P192))","v":0},null,null,"",{"$f":"IF(U192=\"\",0,AVERAGE(U$10:U192))","v":0},{"$f":"IF(U191=\"\",0,VAR(U$10:U192))","v":0},null,null,"",{"$f":"IF(Z192=\"\",0,AVERAGE(Z$10:Z192))","v":0},{"$f":"IF(Z191=\"\",0,VAR(Z$10:Z192))","v":0},null,null,"",{"$f":"IF(AE192=\"\",0,AVERAGE(AE$10:AE192))","v":0},{"$f":"IF(AE191=\"\",0,VAR(AE$10:AE192))","v":0},null,null,"",{"$f":"IF(AJ192=\"\",0,AVERAGE(AJ$10:AJ192))","v":0},{"$f":"IF(AJ191=\"\",0,VAR(AJ$10:AJ192))","v":0},null,null,"",{"$f":"IF(AO192=\"\",0,AVERAGE(AO$10:AO192))","v":0},{"$f":"IF(AO191=\"\",0,VAR(AO$10:AO192))","v":0},null,null,"",{"$f":"IF(AT192=\"\",0,AVERAGE(AT$10:AT192))","v":0},{"$f":"IF(AT191=\"\",0,VAR(AT$10:AT192))","v":0},null,null,"",{"$f":"IF(AY192=\"\",0,AVERAGE(AY$10:AY192))","v":0},{"$f":"IF(AY191=\"\",0,VAR(AY$10:AY192))","v":0}]
[null,null,null,null,null,{"$f":"IF(E193=\"\",\"\",+(E193-E192)/E192)","v":""},{"$f":"IF(F193=\"\",0,AVERAGE($F$10:F193))","v":0},{"$f":"IF(F192=\"\",0,VAR($F$10:F193))","v":0},null,null,"",{"$f":"IF(K193=\"\",0,AVERAGE($K$10:K193))","v":0},{"$f":"IF(K192=\"\",0,VAR($K$10:K193))","v":0},null,null,"",{"$f":"IF(P193=\"\",0,AVERAGE(P$10:P193))","v":0},{"$f":"IF(P192=\"\",0,VAR(P$10:P193))","v":0},null,null,"",{"$f":"IF(U193=\"\",0,AVERAGE(U$10:U193))","v":0},{"$f":"IF(U192=\"\",0,VAR(U$10:U193))","v":0},null,null,"",{"$f":"IF(Z193=\"\",0,AVERAGE(Z$10:Z193))","v":0},{"$f":"IF(Z192=\"\",0,VAR(Z$10:Z193))","v":0},null,null,"",{"$f":"IF(AE193=\"\",0,AVERAGE(AE$10:AE193))","v":0},{"$f":"IF(AE192=\"\",0,VAR(AE$10:AE193))","v":0},null,null,"",{"$f":"IF(AJ193=\"\",0,AVERAGE(AJ$10:AJ193))","v":0},{"$f":"IF(AJ192=\"\",0,VAR(AJ$10:AJ193))","v":0},null,null,"",{"$f":"IF(AO193=\"\",0,AVERAGE(AO$10:AO193))","v":0},{"$f":"IF(AO192=\"\",0,VAR(AO$10:AO193))","v":0},null,null,"",{"$f":"IF(AT193=\"\",0,AVERAGE(AT$10:AT193))","v":0},{"$f":"IF(AT192=\"\",0,VAR(AT$10:AT193))","v":0},null,null,"",{"$f":"IF(AY193=\"\",0,AVERAGE(AY$10:AY193))","v":0},{"$f":"IF(AY192=\"\",0,VAR(AY$10:AY193))","v":0}]
[null,null,null,null,null,"",{"$f":"IF(F194=\"\",0,AVERAGE($F$10:F194))","v":0},{"$f":"IF(F193=\"\",0,VAR($F$10:F194))","v":0},null,null,"",{"$f":"IF(K194=\"\",0,AVERAGE($K$10:K194))","v":0},{"$f":"IF(K193=\"\",0,VAR($K$10:K194))","v":0},null,null,"",{"$f":"IF(P194=\"\",0,AVERAGE(P$10:P194))","v":0},{"$f":"IF(P193=\"\",0,VAR(P$10:P194))","v":0},null,null,"",{"$f":"IF(U194=\"\",0,AVERAGE(U$10:U194))","v":0},{"$f":"IF(U193=\"\",0,VAR(U$10:U194))","v":0},null,null,"",{"$f":"IF(Z194=\"\",0,AVERAGE(Z$10:Z194))","v":0},{"$f":"IF(Z193=\"\",0,VAR(Z$10:Z194))","v":0},null,null,"",{"$f":"IF(AE194=\"\",0,AVERAGE(AE$10:AE194))","v":0},{"$f":"IF(AE193=\"\",0,VAR(AE$10:AE194))","v":0},null,null,"",{"$f":"IF(AJ194=\"\",0,AVERAGE(AJ$10:AJ194))","v":0},{"$f":"IF(AJ193=\"\",0,VAR(AJ$10:AJ194))","v":0},null,null,"",{"$f":"IF(AO194=\"\",0,AVERAGE(AO$10:AO194))","v":0},{"$f":"IF(AO193=\"\",0,VAR(AO$10:AO194))","v":0},null,null,"",{"$f":"IF(AT194=\"\",0,AVERAGE(AT$10:AT194))","v":0},{"$f":"IF(AT193=\"\",0,VAR(AT$10:AT194))","v":0},null,null,"",{"$f":"IF(AY194=\"\",0,AVERAGE(AY$10:AY194))","v":0},{"$f":"IF(AY193=\"\",0,VAR(AY$10:AY194))","v":0}]
[null,null,null,null,null,null,{"$f":"IF(F195=\"\",0,AVERAGE($F$10:F195))","v":0},{"$f":"IF(F194=\"\",0,VAR($F$10:F195))","v":0},null,null,"",{"$f":"IF(K195=\"\",0,AVERAGE($K$10:K195))","v":0},{"$f":"IF(K194=\"\",0,VAR($K$10:K195))","v":0},null,null,"",{"$f":"IF(P195=\"\",0,AVERAGE(P$10:P195))","v":0},{"$f":"IF(P194=\"\",0,VAR(P$10:P195))","v":0},null,null,"",{"$f":"IF(U195=\"\",0,AVERAGE(U$10:U195))","v":0},{"$f":"IF(U194=\"\",0,VAR(U$10:U195))","v":0},null,null,"",{"$f":"IF(Z195=\"\",0,AVERAGE(Z$10:Z195))","v":0},{"$f":"IF(Z194=\"\",0,VAR(Z$10:Z195))","v":0},null,null,"",{"$f":"IF(AE195=\"\",0,AVERAGE(AE$10:AE195))","v":0},{"$f":"IF(AE194=\"\",0,VAR(AE$10:AE195))","v":0},null,null,"",{"$f":"IF(AJ195=\"\",0,AVERAGE(AJ$10:AJ195))","v":0},{"$f":"IF(AJ194=\"\",0,VAR(AJ$10:AJ195))","v":0},null,null,"",{"$f":"IF(AO195=\"\",0,AVERAGE(AO$10:AO195))","v":0},{"$f":"IF(AO194=\"\",0,VAR(AO$10:AO195))","v":0},null,null,"",{"$f":"IF(AT195=\"\",0,AVERAGE(AT$10:AT195))","v":0},{"$f":"IF(AT194=\"\",0,VAR(AT$10:AT195))","v":0},null,null,"",{"$f":"IF(AY195=\"\",0,AVERAGE(AY$10:AY195))","v":0},{"$f":"IF(AY194=\"\",0,VAR(AY$10:AY195))","v":0}]
[null,null,null,null,null,{"$f":"IF(E196=\"\",\"\",+(E196-E195)/E195)","v":""},{"$f":"IF(F196=\"\",0,AVERAGE($F$10:F196))","v":0},{"$f":"IF(F195=\"\",0,VAR($F$10:F196))","v":0},null,null,"",{"$f":"IF(K196=\"\",0,AVERAGE($K$10:K196))","v":0},{"$f":"IF(K195=\"\",0,VAR($K$10:K196))","v":0},null,null,"",{"$f":"IF(P196=\"\",0,AVERAGE(P$10:P196))","v":0},{"$f":"IF(P195=\"\",0,VAR(P$10:P196))","v":0},null,null,"",{"$f":"IF(U196=\"\",0,AVERAGE(U$10:U196))","v":0},{"$f":"IF(U195=\"\",0,VAR(U$10:U196))","v":0},null,null,"",{"$f":"IF(Z196=\"\",0,AVERAGE(Z$10:Z196))","v":0},{"$f":"IF(Z195=\"\",0,VAR(Z$10:Z196))","v":0},null,null,"",{"$f":"IF(AE196=\"\",0,AVERAGE(AE$10:AE196))","v":0},{"$f":"IF(AE195=\"\",0,VAR(AE$10:AE196))","v":0},null,null,"",{"$f":"IF(AJ196=\"\",0,AVERAGE(AJ$10:AJ196))","v":0},{"$f":"IF(AJ195=\"\",0,VAR(AJ$10:AJ196))","v":0},null,null,"",{"$f":"IF(AO196=\"\",0,AVERAGE(AO$10:AO196))","v":0},{"$f":"IF(AO195=\"\",0,VAR(AO$10:AO196))","v":0},null,null,"",{"$f":"IF(AT196=\"\",0,AVERAGE(AT$10:AT196))","v":0},{"$f":"IF(AT195=\"\",0,VAR(AT$10:AT196))","v":0},null,null,"",{"$f":"IF(AY196=\"\",0,AVERAGE(AY$10:AY196))","v":0},{"$f":"IF(AY195=\"\",0,VAR(AY$10:AY196))","v":0}]
[null,null,null,null,null,"",{"$f":"IF(F197=\"\",0,AVERAGE($F$10:F197))","v":0},{"$f":"IF(F196=\"\",0,VAR($F$10:F197))","v":0},null,null,"",{"$f":"IF(K197=\"\",0,AVERAGE($K$10:K197))","v":0},{"$f":"IF(K196=\"\",0,VAR($K$10:K197))","v":0},null,null,"",{"$f":"IF(P197=\"\",0,AVERAGE(P$10:P197))","v":0},{"$f":"IF(P196=\"\",0,VAR(P$10:P197))","v":0},null,null,"",{"$f":"IF(U197=\"\",0,AVERAGE(U$10:U197))","v":0},{"$f":"IF(U196=\"\",0,VAR(U$10:U197))","v":0},null,null,"",{"$f":"IF(Z197=\"\",0,AVERAGE(Z$10:Z197))","v":0},{"$f":"IF(Z196=\"\",0,VAR(Z$10:Z197))","v":0},null,null,"",{"$f":"IF(AE197=\"\",0,AVERAGE(AE$10:AE197))","v":0},{"$f":"IF(AE196=\"\",0,VAR(AE$10:AE197))","v":0},null,null,"",{"$f":"IF(AJ197=\"\",0,AVERAGE(AJ$10:AJ197))","v":0},{"$f":"IF(AJ196=\"\",0,VAR(AJ$10:AJ197))","v":0},null,null,"",{"$f":"IF(AO197=\"\",0,AVERAGE(AO$10:AO197))","v":0},{"$f":"IF(AO196=\"\",0,VAR(AO$10:AO197))","v":0},null,null,"",{"$f":"IF(AT197=\"\",0,AVERAGE(AT$10:AT197))","v":0},{"$f":"IF(AT196=\"\",0,VAR(AT$10:AT197))","v":0},null,null,"",{"$f":"IF(AY197=\"\",0,AVERAGE(AY$10:AY197))","v":0},{"$f":"IF(AY196=\"\",0,VAR(AY$10:AY197))","v":0}]
[null,null,null,null,null,null,{"$f":"IF(F198=\"\",0,AVERAGE($F$10:F198))","v":0},{"$f":"IF(F197=\"\",0,VAR($F$10:F198))","v":0},null,null,"",{"$f":"IF(K198=\"\",0,AVERAGE($K$10:K198))","v":0},{"$f":"IF(K197=\"\",0,VAR($K$10:K198))","v":0},null,null,"",{"$f":"IF(P198=\"\",0,AVERAGE(P$10:P198))","v":0},{"$f":"IF(P197=\"\",0,VAR(P$10:P198))","v":0},null,null,"",{"$f":"IF(U198=\"\",0,AVERAGE(U$10:U198))","v":0},{"$f":"IF(U197=\"\",0,VAR(U$10:U198))","v":0},null,null,"",{"$f":"IF(Z198=\"\",0,AVERAGE(Z$10:Z198))","v":0},{"$f":"IF(Z197=\"\",0,VAR(Z$10:Z198))","v":0},null,null,"",{"$f":"IF(AE198=\"\",0,AVERAGE(AE$10:AE198))","v":0},{"$f":"IF(AE197=\"\",0,VAR(AE$10:AE198))","v":0},null,null,"",{"$f":"IF(AJ198=\"\",0,AVERAGE(AJ$10:AJ198))","v":0},{"$f":"IF(AJ197=\"\",0,VAR(AJ$10:AJ198))","v":0},null,null,"",{"$f":"IF(AO198=\"\",0,AVERAGE(AO$10:AO198))","v":0},{"$f":"IF(AO197=\"\",0,VAR(AO$10:AO198))","v":0},null,null,"",{"$f":"IF(AT198=\"\",0,AVERAGE(AT$10:AT198))","v":0},{"$f":"IF(AT197=\"\",0,VAR(AT$10:AT198))","v":0},null,null,"",{"$f":"IF(AY198=\"\",0,AVERAGE(AY$10:AY198))","v":0},{"$f":"IF(AY197=\"\",0,VAR(AY$10:AY198))","v":0}]
[null,null,null,null,null,{"$f":"IF(E199=\"\",\"\",+(E199-E198)/E198)","v":""},{"$f":"IF(F199=\"\",0,AVERAGE($F$10:F199))","v":0},{"$f":"IF(F198=\"\",0,VAR($F$10:F199))","v":0},null,null,"",{"$f":"IF(K199=\"\",0,AVERAGE($K$10:K199))","v":0},{"$f":"IF(K198=\"\",0,VAR($K$10:K199))","v":0},null,null,"",{"$f":"IF(P199=\"\",0,AVERAGE(P$10:P199))","v":0},{"$f":"IF(P198=\"\",0,VAR(P$10:P199))","v":0},null,null,"",{"$f":"IF(U199=\"\",0,AVERAGE(U$10:U199))","v":0},{"$f":"IF(U198=\"\",0,VAR(U$10:U199))","v":0},null,null,"",{"$f":"IF(Z199=\"\",0,AVERAGE(Z$10:Z199))","v":0},{"$f":"IF(Z198=\"\",0,VAR(Z$10:Z199))","v":0},null,null,"",{"$f":"IF(AE199=\"\",0,AVERAGE(AE$10:AE199))","v":0},{"$f":"IF(AE198=\"\",0,VAR(AE$10:AE199))","v":0},null,null,"",{"$f":"IF(AJ199=\"\",0,AVERAGE(AJ$10:AJ199))","v":0},{"$f":"IF(AJ198=\"\",0,VAR(AJ$10:AJ199))","v":0},null,null,"",{"$f":"IF(AO199=\"\",0,AVERAGE(AO$10:AO199))","v":0},{"$f":"IF(AO198=\"\",0,VAR(AO$10:AO199))","v":0},null,null,"",{"$f":"IF(AT199=\"\",0,AVERAGE(AT$10:AT199))","v":0},{"$f":"IF(AT198=\"\",0,VAR(AT$10:AT199))","v":0},null,null,"",{"$f":"IF(AY199=\"\",0,AVERAGE(AY$10:AY199))","v":0},{"$f":"IF(AY198=\"\",0,VAR(AY$10:AY199))","v":0}]
[null,null,null,null,null,"",{"$f":"IF(F200=\"\",0,AVERAGE($F$10:F200))","v":0},{"$f":"IF(F199=\"\",0,VAR($F$10:F200))","v":0},null,null,"",{"$f":"IF(K200=\"\",0,AVERAGE($K$10:K200))","v":0},{"$f":"IF(K199=\"\",0,VAR($K$10:K200))","v":0},null,null,"",{"$f":"IF(P200=\"\",0,AVERAGE(P$10:P200))","v":0},{"$f":"IF(P199=\"\",0,VAR(P$10:P200))","v":0},null,null,"",{"$f":"IF(U200=\"\",0,AVERAGE(U$10:U200))","v":0},{"$f":"IF(U199=\"\",0,VAR(U$10:U200))","v":0},null,null,"",{"$f":"IF(Z200=\"\",0,AVERAGE(Z$10:Z200))","v":0},{"$f":"IF(Z199=\"\",0,VAR(Z$10:Z200))","v":0},null,null,"",{"$f":"IF(AE200=\"\",0,AVERAGE(AE$10:AE200))","v":0},{"$f":"IF(AE199=\"\",0,VAR(AE$10:AE200))","v":0},null,null,"",{"$f":"IF(AJ200=\"\",0,AVERAGE(AJ$10:AJ200))","v":0},{"$f":"IF(AJ199=\"\",0,VAR(AJ$10:AJ200))","v":0},null,null,"",{"$f":"IF(AO200=\"\",0,AVERAGE(AO$10:AO200))","v":0},{"$f":"IF(AO199=\"\",0,VAR(AO$10:AO200))","v":0},null,null,"",{"$f":"IF(AT200=\"\",0,AVERAGE(AT$10:AT200))","v":0},{"$f":"IF(AT199=\"\",0,VAR(AT$10:AT200))","v":0},null,null,"",{"$f":"IF(AY200=\"\",0,AVERAGE(AY$10:AY200))","v":0},{"$f":"IF(AY199=\"\",0,VAR(AY$10:AY200))","v":0}]
[null,null,null,null,null,null,{"$f":"IF(F201=\"\",0,AVERAGE($F$10:F201))","v":0},{"$f":"IF(F200=\"\",0,VAR($F$10:F201))","v":0},null,null,"",{"$f":"IF(K201=\"\",0,AVERAGE($K$10:K201))","v":0},{"$f":"IF(K200=\"\",0,VAR($K$10:K201))","v":0},null,null,"",{"$f":"IF(P201=\"\",0,AVERAGE(P$10:P201))","v":0},{"$f":"IF(P200=\"\",0,VAR(P$10:P201))","v":0},null,null,"",{"$f":"IF(U201=\"\",0,AVERAGE(U$10:U201))","v":0},{"$f":"IF(U200=\"\",0,VAR(U$10:U201))","v":0},null,null,"",{"$f":"IF(Z201=\"\",0,AVERAGE(Z$10:Z201))","v":0},{"$f":"IF(Z200=\"\",0,VAR(Z$10:Z201))","v":0},null,null,"",{"$f":"IF(AE201=\"\",0,AVERAGE(AE$10:AE201))","v":0},{"$f":"IF(AE200=\"\",0,VAR(AE$10:AE201))","v":0},null,null,"",{"$f":"IF(AJ201=\"\",0,AVERAGE(AJ$10:AJ201))","v":0},{"$f":"IF(AJ200=\"\",0,VAR(AJ$10:AJ201))","v":0},null,null,"",{"$f":"IF(AO201=\"\",0,AVERAGE(AO$10:AO201))","v":0},{"$f":"IF(AO200=\"\",0,VAR(AO$10:AO201))","v":0},null,null,"",{"$f":"IF(AT201=\"\",0,AVERAGE(AT$10:AT201))","v":0},{"$f":"IF(AT200=\"\",0,VAR(AT$10:AT201))","v":0},null,null,"",{"$f":"IF(AY201=\"\",0,AVERAGE(AY$10:AY201))","v":0},{"$f":"IF(AY200=\"\",0,VAR(AY$10:AY201))","v":0}]
[null,null,null,null,null,{"$f":"IF(E202=\"\",\"\",+(E202-E201)/E201)","v":""},{"$f":"IF(F202=\"\",0,AVERAGE($F$10:F202))","v":0},{"$f":"IF(F201=\"\",0,VAR($F$10:F202))","v":0},null,null,"",{"$f":"IF(K202=\"\",0,AVERAGE($K$10:K202))","v":0},{"$f":"IF(K201=\"\",0,VAR($K$10:K202))","v":0},null,null,"",{"$f":"IF(P202=\"\",0,AVERAGE(P$10:P202))","v":0},{"$f":"IF(P201=\"\",0,VAR(P$10:P202))","v":0},null,null,"",{"$f":"IF(U202=\"\",0,AVERAGE(U$10:U202))","v":0},{"$f":"IF(U201=\"\",0,VAR(U$10:U202))","v":0},null,null,"",{"$f":"IF(Z202=\"\",0,AVERAGE(Z$10:Z202))","v":0},{"$f":"IF(Z201=\"\",0,VAR(Z$10:Z202))","v":0},null,null,"",{"$f":"IF(AE202=\"\",0,AVERAGE(AE$10:AE202))","v":0},{"$f":"IF(AE201=\"\",0,VAR(AE$10:AE202))","v":0},null,null,"",{"$f":"IF(AJ202=\"\",0,AVERAGE(AJ$10:AJ202))","v":0},{"$f":"IF(AJ201=\"\",0,VAR(AJ$10:AJ202))","v":0},null,null,"",{"$f":"IF(AO202=\"\",0,AVERAGE(AO$10:AO202))","v":0},{"$f":"IF(AO201=\"\",0,VAR(AO$10:AO202))","v":0},null,null,"",{"$f":"IF(AT202=\"\",0,AVERAGE(AT$10:AT202))","v":0},{"$f":"IF(AT201=\"\",0,VAR(AT$10:AT202))","v":0},null,null,"",{"$f":"IF(AY202=\"\",0,AVERAGE(AY$10:AY202))","v":0},{"$f":"IF(AY201=\"\",0,VAR(AY$10:AY202))","v":0}]
[null,null,null,null,null,"",{"$f":"IF(F203=\"\",0,AVERAGE($F$10:F203))","v":0},{"$f":"IF(F202=\"\",0,VAR($F$10:F203))","v":0},null,null,"",{"$f":"IF(K203=\"\",0,AVERAGE($K$10:K203))","v":0},{"$f":"IF(K202=\"\",0,VAR($K$10:K203))","v":0},null,null,"",{"$f":"IF(P203=\"\",0,AVERAGE(P$10:P203))","v":0},{"$f":"IF(P202=\"\",0,VAR(P$10:P203))","v":0},null,null,"",{"$f":"IF(U203=\"\",0,AVERAGE(U$10:U203))","v":0},{"$f":"IF(U202=\"\",0,VAR(U$10:U203))","v":0},null,null,"",{"$f":"IF(Z203=\"\",0,AVERAGE(Z$10:Z203))","v":0},{"$f":"IF(Z202=\"\",0,VAR(Z$10:Z203))","v":0},null,null,"",{"$f":"IF(AE203=\"\",0,AVERAGE(AE$10:AE203))","v":0},{"$f":"IF(AE202=\"\",0,VAR(AE$10:AE203))","v":0},null,null,"",{"$f":"IF(AJ203=\"\",0,AVERAGE(AJ$10:AJ203))","v":0},{"$f":"IF(AJ202=\"\",0,VAR(AJ$10:AJ203))","v":0},null,null,"",{"$f":"IF(AO203=\"\",0,AVERAGE(AO$10:AO203))","v":0},{"$f":"IF(AO202=\"\",0,VAR(AO$10:AO203))","v":0},null,null,"",{"$f":"IF(AT203=\"\",0,AVERAGE(AT$10:AT203))","v":0},{"$f":"IF(AT202=\"\",0,VAR(AT$10:AT203))","v":0},null,null,"",{"$f":"IF(AY203=\"\",0,AVERAGE(AY$10:AY203))","v":0},{"$f":"IF(AY202=\"\",0,VAR(AY$10:AY203))","v":0}]
[null,null,null,null,null,null,{"$f":"IF(F204=\"\",0,AVERAGE($F$10:F204))","v":0},{"$f":"IF(F203=\"\",0,VAR($F$10:F204))","v":0},null,null,{"$f":"IF(J204=\"\",\"\",+(J204-J203)/J203)","v":""},{"$f":"IF(K204=\"\",0,AVERAGE($K$10:K204))","v":0},{"$f":"IF(K203=\"\",0,VAR($K$10:K204))","v":0},null,null,{"$f":"IF(O204=\"\",\"\",+(O204-O203)/O203)","v":""},{"$f":"IF(P204=\"\",0,AVERAGE(P$10:P204))","v":0},{"$f":"IF(P203=\"\",0,VAR(P$10:P204))","v":0},null,null,"",{"$f":"IF(U204=\"\",0,AVERAGE(U$10:U204))","v":0},{"$f":"IF(U203=\"\",0,VAR(U$10:U204))","v":0},null,null,{"$f":"IF(Y204=\"\",\"\",+(Y204-Y203)/Y203)","v":""},{"$f":"IF(Z204=\"\",0,AVERAGE(Z$10:Z204))","v":0},{"$f":"IF(Z203=\"\",0,VAR(Z$10:Z204))","v":0},null,null,"",{"$f":"IF(AE204=\"\",0,AVERAGE(AE$10:AE204))","v":0},{"$f":"IF(AE203=\"\",0,VAR(AE$10:AE204))","v":0},null,null,"",{"$f":"IF(AJ204=\"\",0,AVERAGE(AJ$10:AJ204))","v":0},{"$f":"IF(AJ203=\"\",0,VAR(AJ$10:AJ204))","v":0},null,null,"",{"$f":"IF(AO204=\"\",0,AVERAGE(AO$10:AO204))","v":0},{"$f":"IF(AO203=\"\",0,VAR(AO$10:AO204))","v":0},null,null,"",{"$f":"IF(AT204=\"\",0,AVERAGE(AT$10:AT204))","v":0},{"$f":"IF(AT203=\"\",0,VAR(AT$10:AT204))","v":0},null,null,"",{"$f":"IF(AY204=\"\",0,AVERAGE(AY$10:AY204))","v":0},{"$f":"IF(AY203=\"\",0,VAR(AY$10:AY204))","v":0}]
[null,null,null,null,null,{"$f":"IF(E205=\"\",\"\",+(E205-E204)/E204)","v":""},{"$f":"IF(F205=\"\",0,AVERAGE($F$10:F205))","v":0},{"$f":"IF(F204=\"\",0,VAR($F$10:F205))","v":0},null,null,"",{"$f":"IF(K205=\"\",0,AVERAGE($K$10:K205))","v":0},{"$f":"IF(K204=\"\",0,VAR($K$10:K205))","v":0},null,null,"",{"$f":"IF(P205=\"\",0,AVERAGE(P$10:P205))","v":0},{"$f":"IF(P204=\"\",0,VAR(P$10:P205))","v":0},null,null,"",{"$f":"IF(U205=\"\",0,AVERAGE(U$10:U205))","v":0},{"$f":"IF(U204=\"\",0,VAR(U$10:U205))","v":0},null,null,"",{"$f":"IF(Z205=\"\",0,AVERAGE(Z$10:Z205))","v":0},{"$f":"IF(Z204=\"\",0,VAR(Z$10:Z205))","v":0},null,null,"",{"$f":"IF(AE205=\"\",0,AVERAGE(AE$10:AE205))","v":0},{"$f":"IF(AE204=\"\",0,VAR(AE$10:AE205))","v":0},null,null,{"$f":"IF(AI205=\"\",\"\",+(AI205-AI204)/AI204)","v":""},{"$f":"IF(AJ205=\"\",0,AVERAGE(AJ$10:AJ205))","v":0},{"$f":"IF(AJ204=\"\",0,VAR(AJ$10:AJ205))","v":0},null,null,{"$f":"IF(AN205=\"\",\"\",+(AN205-AN204)/AN204)","v":""},{"$f":"IF(AO205=\"\",0,AVERAGE(AO$10:AO205))","v":0},{"$f":"IF(AO204=\"\",0,VAR(AO$10:AO205))","v":0},null,null,{"$f":"IF(AS205=\"\",\"\",+(AS205-AS204)/AS204)","v":""},{"$f":"IF(AT205=\"\",0,AVERAGE(AT$10:AT205))","v":0},{"$f":"IF(AT204=\"\",0,VAR(AT$10:AT205))","v":0},null,null,{"$f":"IF(AX205=\"\",\"\",+(AX205-AX204)/AX204)","v":""},{"$f":"IF(AY205=\"\",0,AVERAGE(AY$10:AY205))","v":0},{"$f":"IF(AY204=\"\",0,VAR(AY$10:AY205))","v":0}]
[null,null,null,null,null,"",{"$f":"IF(F206=\"\",0,AVERAGE($F$10:F206))","v":0},{"$f":"IF(F205=\"\",0,VAR($F$10:F206))","v":0},null,null,"",{"$f":"IF(K206=\"\",0,AVERAGE($K$10:K206))","v":0},{"$f":"IF(K205=\"\",0,VAR($K$10:K206))","v":0},null,null,"",{"$f":"IF(P206=\"\",0,AVERAGE(P$10:P206))","v":0},{"$f":"IF(P205=\"\",0,VAR(P$10:P206))","v":0},null,null,{"$f":"IF(T206=\"\",\"\",+(T206-T205)/T205)","v":""},{"$f":"IF(U206=\"\",0,AVERAGE(U$10:U206))","v":0},{"$f":"IF(U205=\"\",0,VAR(U$10:U206))","v":0},null,null,"",{"$f":"IF(Z206=\"\",0,AVERAGE(Z$10:Z206))","v":0},{"$f":"IF(Z205=\"\",0,VAR(Z$10:Z206))","v":0},null,null,{"$f":"IF(AD206=\"\",\"\",+(AD206-AD205)/AD205)","v":""},{"$f":"IF(AE206=\"\",0,AVERAGE(AE$10:AE206))","v":0},{"$f":"IF(AE205=\"\",0,VAR(AE$10:AE206))","v":0},null,null,"",{"$f":"IF(AJ206=\"\",0,AVERAGE(AJ$10:AJ206))","v":0},{"$f":"IF(AJ205=\"\",0,VAR(AJ$10:AJ206))","v":0},null,null,"",{"$f":"IF(AO206=\"\",0,AVERAGE(AO$10:AO206))","v":0},{"$f":"IF(AO205=\"\",0,VAR(AO$10:AO206))","v":0},null,null,"",{"$f":"IF(AT206=\"\",0,AVERAGE(AT$10:AT206))","v":0},{"$f":"IF(AT205=\"\",0,VAR(AT$10:AT206))","v":0},null,null,"",{"$f":"IF(AY206=\"\",0,AVERAGE(AY$10:AY206))","v":0},{"$f":"IF(AY205=\"\",0,VAR(AY$10:AY206))","v":0}]
[null,null,null,null,null,null,{"$f":"IF(F207=\"\",0,AVERAGE($F$10:F207))","v":0},{"$f":"IF(F206=\"\",0,VAR($F$10:F207))","v":0},null,null,"",{"$f":"IF(K207=\"\",0,AVERAGE($K$10:K207))","v":0},{"$f":"IF(K206=\"\",0,VAR($K$10:K207))","v":0},null,null,"",{"$f":"IF(P207=\"\",0,AVERAGE(P$10:P207))","v":0},{"$f":"IF(P206=\"\",0,VAR(P$10:P207))","v":0},null,null,"",{"$f":"IF(U207=\"\",0,AVERAGE(U$10:U207))","v":0},{"$f":"IF(U206=\"\",0,VAR(U$10:U207))","v":0},null,null,"",{"$f":"IF(Z207=\"\",0,AVERAGE(Z$10:Z207))","v":0},{"$f":"IF(Z206=\"\",0,VAR(Z$10:Z207))","v":0},null,null,"",{"$f":"IF(AE207=\"\",0,AVERAGE(AE$10:AE207))","v":0},{"$f":"IF(AE206=\"\",0,VAR(AE$10:AE207))","v":0},null,null,"",{"$f":"IF(AJ207=\"\",0,AVERAGE(AJ$10:AJ207))","v":0},{"$f":"IF(AJ206=\"\",0,VAR(AJ$10:AJ207))","v":0},null,null,"",{"$f":"IF(AO207=\"\",0,AVERAGE(AO$10:AO207))","v":0},{"$f":"IF(AO206=\"\",0,VAR(AO$10:AO207))","v":0},null,null,"",{"$f":"IF(AT207=\"\",0,AVERAGE(AT$10:AT207))","v":0},{"$f":"IF(AT206=\"\",0,VAR(AT$10:AT207))","v":0},null,null,"",{"$f":"IF(AY207=\"\",0,AVERAGE(AY$10:AY207))","v":0},{"$f":"IF(AY206=\"\",0,VAR(AY$10:AY207))","v":0}]
[null,null,null,null,null,{"$f":"IF(E208=\"\",\"\",+(E208-E207)/E207)","v":""},{"$f":"IF(F208=\"\",0,AVERAGE($F$10:F208))","v":0},{"$f":"IF(F207=\"\",0,VAR($F$10:F208))","v":0},null,null,"",{"$f":"IF(K208=\"\",0,AVERAGE($K$10:K208))","v":0},{"$f":"IF(K207=\"\",0,VAR($K$10:K208))","v":0},null,null,"",{"$f":"IF(P208=\"\",0,AVERAGE(P$10:P208))","v":0},{"$f":"IF(P207=\"\",0,VAR(P$10:P208))","v":0},null,null,"",{"$f":"IF(U208=\"\",0,AVERAGE(U$10:U208))","v":0},{"$f":"IF(U207=\"\",0,VAR(U$10:U208))","v":0},null,null,"",{"$f":"IF(Z208=\"\",0,AVERAGE(Z$10:Z208))","v":0},{"$f":"IF(Z207=\"\",0,VAR(Z$10:Z208))","v":0},null,null,"",{"$f":"IF(AE208=\"\",0,AVERAGE(AE$10:AE208))","v":0},{"$f":"IF(AE207=\"\",0,VAR(AE$10:AE208))","v":0},null,null,"",{"$f":"IF(AJ208=\"\",0,AVERAGE(AJ$10:AJ208))","v":0},{"$f":"IF(AJ207=\"\",0,VAR(AJ$10:AJ208))","v":0},null,null,"",{"$f":"IF(AO208=\"\",0,AVERAGE(AO$10:AO208))","v":0},{"$f":"IF(AO207=\"\",0,VAR(AO$10:AO208))","v":0},null,null,"",{"$f":"IF(AT208=\"\",0,AVERAGE(AT$10:AT208))","v":0},{"$f":"IF(AT207=\"\",0,VAR(AT$10:AT208))","v":0},null,null,"",{"$f":"IF(AY208=\"\",0,AVERAGE(AY$10:AY208))","v":0},{"$f":"IF(AY207=\"\",0,VAR(AY$10:AY208))","v":0}]
[null,null,null,null,null,"",{"$f":"IF(F209=\"\",0,AVERAGE($F$10:F209))","v":0},{"$f":"IF(F208=\"\",0,VAR($F$10:F209))","v":0},null,null,"",{"$f":"IF(K209=\"\",0,AVERAGE($K$10:K209))","v":0},{"$f":"IF(K208=\"\",0,VAR($K$10:K209))","v":0},null,null,"",{"$f":"IF(P209=\"\",0,AVERAGE(P$10:P209))","v":0},{"$f":"IF(P208=\"\",0,VAR(P$10:P209))","v":0},null,null,"",{"$f":"IF(U209=\"\",0,AVERAGE(U$10:U209))","v":0},{"$f":"IF(U208=\"\",0,VAR(U$10:U209))","v":0},null,null,"",{"$f":"IF(Z209=\"\",0,AVERAGE(Z$10:Z209))","v":0},{"$f":"IF(Z208=\"\",0,VAR(Z$10:Z209))","v":0},null,null,"",{"$f":"IF(AE209=\"\",0,AVERAGE(AE$10:AE209))","v":0},{"$f":"IF(AE208=\"\",0,VAR(AE$10:AE209))","v":0},null,null,"",{"$f":"IF(AJ209=\"\",0,AVERAGE(AJ$10:AJ209))","v":0},{"$f":"IF(AJ208=\"\",0,VAR(AJ$10:AJ209))","v":0},null,null,"",{"$f":"IF(AO209=\"\",0,AVERAGE(AO$10:AO209))","v":0},{"$f":"IF(AO208=\"\",0,VAR(AO$10:AO209))","v":0},null,null,"",{"$f":"IF(AT209=\"\",0,AVERAGE(AT$10:AT209))","v":0},{"$f":"IF(AT208=\"\",0,VAR(AT$10:AT209))","v":0},null,null,"",{"$f":"IF(AY209=\"\",0,AVERAGE(AY$10:AY209))","v":0},{"$f":"IF(AY208=\"\",0,VAR(AY$10:AY209))","v":0}]
[null,null,null,null,null,null,{"$f":"IF(F210=\"\",0,AVERAGE($F$10:F210))","v":0},{"$f":"IF(F209=\"\",0,VAR($F$10:F210))","v":0},null,null,"",{"$f":"IF(K210=\"\",0,AVERAGE($K$10:K210))","v":0},{"$f":"IF(K209=\"\",0,VAR($K$10:K210))","v":0},null,null,"",{"$f":"IF(P210=\"\",0,AVERAGE(P$10:P210))","v":0},{"$f":"IF(P209=\"\",0,VAR(P$10:P210))","v":0},null,null,"",{"$f":"IF(U210=\"\",0,AVERAGE(U$10:U210))","v":0},{"$f":"IF(U209=\"\",0,VAR(U$10:U210))","v":0},null,null,"",{"$f":"IF(Z210=\"\",0,AVERAGE(Z$10:Z210))","v":0},{"$f":"IF(Z209=\"\",0,VAR(Z$10:Z210))","v":0},null,null,"",{"$f":"IF(AE210=\"\",0,AVERAGE(AE$10:AE210))","v":0},{"$f":"IF(AE209=\"\",0,VAR(AE$10:AE210))","v":0},null,null,"",{"$f":"IF(AJ210=\"\",0,AVERAGE(AJ$10:AJ210))","v":0},{"$f":"IF(AJ209=\"\",0,VAR(AJ$10:AJ210))","v":0},null,null,"",{"$f":"IF(AO210=\"\",0,AVERAGE(AO$10:AO210))","v":0},{"$f":"IF(AO209=\"\",0,VAR(AO$10:AO210))","v":0},null,null,"",{"$f":"IF(AT210=\"\",0,AVERAGE(AT$10:AT210))","v":0},{"$f":"IF(AT209=\"\",0,VAR(AT$10:AT210))","v":0},null,null,"",{"$f":"IF(AY210=\"\",0,AVERAGE(AY$10:AY210))","v":0},{"$f":"IF(AY209=\"\",0,VAR(AY$10:AY210))","v":0}]
[null,null,null,null,null,{"$f":"IF(E211=\"\",\"\",+(E211-E210)/E210)","v":""},{"$f":"IF(F211=\"\",0,AVERAGE($F$10:F211))","v":0},{"$f":"IF(F210=\"\",0,VAR($F$10:F211))","v":0},null,null,"",{"$f":"IF(K211=\"\",0,AVERAGE($K$10:K211))","v":0},{"$f":"IF(K210=\"\",0,VAR($K$10:K211))","v":0},null,null,"",{"$f":"IF(P211=\"\",0,AVERAGE(P$10:P211))","v":0},{"$f":"IF(P210=\"\",0,VAR(P$10:P211))","v":0},null,null,"",{"$f":"IF(U211=\"\",0,AVERAGE(U$10:U211))","v":0},{"$f":"IF(U210=\"\",0,VAR(U$10:U211))","v":0},null,null,"",{"$f":"IF(Z211=\"\",0,AVERAGE(Z$10:Z211))","v":0},{"$f":"IF(Z210=\"\",0,VAR(Z$10:Z211))","v":0},null,null,"",{"$f":"IF(AE211=\"\",0,AVERAGE(AE$10:AE211))","v":0},{"$f":"IF(AE210=\"\",0,VAR(AE$10:AE211))","v":0},null,null,"",{"$f":"IF(AJ211=\"\",0,AVERAGE(AJ$10:AJ211))","v":0},{"$f":"IF(AJ210=\"\",0,VAR(AJ$10:AJ211))","v":0},null,null,"",{"$f":"IF(AO211=\"\",0,AVERAGE(AO$10:AO211))","v":0},{"$f":"IF(AO210=\"\",0,VAR(AO$10:AO211))","v":0},null,null,"",{"$f":"IF(AT211=\"\",0,AVERAGE(AT$10:AT211))","v":0},{"$f":"IF(AT210=\"\",0,VAR(AT$10:AT211))","v":0},null,null,"",{"$f":"IF(AY211=\"\",0,AVERAGE(AY$10:AY211))","v":0},{"$f":"IF(AY210=\"\",0,VAR(AY$10:AY211))","v":0}]
[null,null,null,null,null,"",{"$f":"IF(F212=\"\",0,AVERAGE($F$10:F212))","v":0},{"$f":"IF(F211=\"\",0,VAR($F$10:F212))","v":0},null,null,"",{"$f":"IF(K212=\"\",0,AVERAGE($K$10:K212))","v":0},{"$f":"IF(K211=\"\",0,VAR($K$10:K212))","v":0},null,null,"",{"$f":"IF(P212=\"\",0,AVERAGE(P$10:P212))","v":0},{"$f":"IF(P211=\"\",0,VAR(P$10:P212))","v":0},null,null,"",{"$f":"IF(U212=\"\",0,AVERAGE(U$10:U212))","v":0},{"$f":"IF(U211=\"\",0,VAR(U$10:U212))","v":0},null,null,"",{"$f":"IF(Z212=\"\",0,AVERAGE(Z$10:Z212))","v":0},{"$f":"IF(Z211=\"\",0,VAR(Z$10:Z212))","v":0},null,null,"",{"$f":"IF(AE212=\"\",0,AVERAGE(AE$10:AE212))","v":0},{"$f":"IF(AE211=\"\",0,VAR(AE$10:AE212))","v":0},null,null,"",{"$f":"IF(AJ212=\"\",0,AVERAGE(AJ$10:AJ212))","v":0},{"$f":"IF(AJ211=\"\",0,VAR(AJ$10:AJ212))","v":0},null,null,"",{"$f":"IF(AO212=\"\",0,AVERAGE(AO$10:AO212))","v":0},{"$f":"IF(AO211=\"\",0,VAR(AO$10:AO212))","v":0},null,null,"",{"$f":"IF(AT212=\"\",0,AVERAGE(AT$10:AT212))","v":0},{"$f":"IF(AT211=\"\",0,VAR(AT$10:AT212))","v":0},null,null,"",{"$f":"IF(AY212=\"\",0,AVERAGE(AY$10:AY212))","v":0},{"$f":"IF(AY211=\"\",0,VAR(AY$10:AY212))","v":0}]
[null,null,null,null,null,null,{"$f":"IF(F213=\"\",0,AVERAGE($F$10:F213))","v":0},{"$f":"IF(F212=\"\",0,VAR($F$10:F213))","v":0},null,null,"",{"$f":"IF(K213=\"\",0,AVERAGE($K$10:K213))","v":0},{"$f":"IF(K212=\"\",0,VAR($K$10:K213))","v":0},null,null,"",{"$f":"IF(P213=\"\",0,AVERAGE(P$10:P213))","v":0},{"$f":"IF(P212=\"\",0,VAR(P$10:P213))","v":0},null,null,"",{"$f":"IF(U213=\"\",0,AVERAGE(U$10:U213))","v":0},{"$f":"IF(U212=\"\",0,VAR(U$10:U213))","v":0},null,null,"",{"$f":"IF(Z213=\"\",0,AVERAGE(Z$10:Z213))","v":0},{"$f":"IF(Z212=\"\",0,VAR(Z$10:Z213))","v":0},null,null,"",{"$f":"IF(AE213=\"\",0,AVERAGE(AE$10:AE213))","v":0},{"$f":"IF(AE212=\"\",0,VAR(AE$10:AE213))","v":0},null,null,"",{"$f":"IF(AJ213=\"\",0,AVERAGE(AJ$10:AJ213))","v":0},{"$f":"IF(AJ212=\"\",0,VAR(AJ$10:AJ213))","v":0},null,null,"",{"$f":"IF(AO213=\"\",0,AVERAGE(AO$10:AO213))","v":0},{"$f":"IF(AO212=\"\",0,VAR(AO$10:AO213))","v":0},null,null,"",{"$f":"IF(AT213=\"\",0,AVERAGE(AT$10:AT213))","v":0},{"$f":"IF(AT212=\"\",0,VAR(AT$10:AT213))","v":0},null,null,"",{"$f":"IF(AY213=\"\",0,AVERAGE(AY$10:AY213))","v":0},{"$f":"IF(AY212=\"\",0,VAR(AY$10:AY213))","v":0}]
[null,null,null,null,null,{"$f":"IF(E214=\"\",\"\",+(E214-E213)/E213)","v":""},{"$f":"IF(F214=\"\",0,AVERAGE($F$10:F214))","v":0},{"$f":"IF(F213=\"\",0,VAR($F$10:F214))","v":0},null,null,"",{"$f":"IF(K214=\"\",0,AVERAGE($K$10:K214))","v":0},{"$f":"IF(K213=\"\",0,VAR($K$10:K214))","v":0},null,null,"",{"$f":"IF(P214=\"\",0,AVERAGE(P$10:P214))","v":0},{"$f":"IF(P213=\"\",0,VAR(P$10:P214))","v":0},null,null,"",{"$f":"IF(U214=\"\",0,AVERAGE(U$10:U214))","v":0},{"$f":"IF(U213=\"\",0,VAR(U$10:U214))","v":0},null,null,"",{"$f":"IF(Z214=\"\",0,AVERAGE(Z$10:Z214))","v":0},{"$f":"IF(Z213=\"\",0,VAR(Z$10:Z214))","v":0},null,null,"",{"$f":"IF(AE214=\"\",0,AVERAGE(AE$10:AE214))","v":0},{"$f":"IF(AE213=\"\",0,VAR(AE$10:AE214))","v":0},null,null,"",{"$f":"IF(AJ214=\"\",0,AVERAGE(AJ$10:AJ214))","v":0},{"$f":"IF(AJ213=\"\",0,VAR(AJ$10:AJ214))","v":0},null,null,"",{"$f":"IF(AO214=\"\",0,AVERAGE(AO$10:AO214))","v":0},{"$f":"IF(AO213=\"\",0,VAR(AO$10:AO214))","v":0},null,null,"",{"$f":"IF(AT214=\"\",0,AVERAGE(AT$10:AT214))","v":0},{"$f":"IF(AT213=\"\",0,VAR(AT$10:AT214))","v":0},null,null,"",{"$f":"IF(AY214=\"\",0,AVERAGE(AY$10:AY214))","v":0},{"$f":"IF(AY213=\"\",0,VAR(AY$10:AY214))","v":0}]
[null,null,null,null,null,"",{"$f":"IF(F215=\"\",0,AVERAGE($F$10:F215))","v":0},{"$f":"IF(F214=\"\",0,VAR($F$10:F215))","v":0},null,null,"",{"$f":"IF(K215=\"\",0,AVERAGE($K$10:K215))","v":0},{"$f":"IF(K214=\"\",0,VAR($K$10:K215))","v":0},null,null,"",{"$f":"IF(P215=\"\",0,AVERAGE(P$10:P215))","v":0},{"$f":"IF(P214=\"\",0,VAR(P$10:P215))","v":0},null,null,"",{"$f":"IF(U215=\"\",0,AVERAGE(U$10:U215))","v":0},{"$f":"IF(U214=\"\",0,VAR(U$10:U215))","v":0},null,null,"",{"$f":"IF(Z215=\"\",0,AVERAGE(Z$10:Z215))","v":0},{"$f":"IF(Z214=\"\",0,VAR(Z$10:Z215))","v":0},null,null,"",{"$f":"IF(AE215=\"\",0,AVERAGE(AE$10:AE215))","v":0},{"$f":"IF(AE214=\"\",0,VAR(AE$10:AE215))","v":0},null,null,"",{"$f":"IF(AJ215=\"\",0,AVERAGE(AJ$10:AJ215))","v":0},{"$f":"IF(AJ214=\"\",0,VAR(AJ$10:AJ215))","v":0},null,null,"",{"$f":"IF(AO215=\"\",0,AVERAGE(AO$10:AO215))","v":0},{"$f":"IF(AO214=\"\",0,VAR(AO$10:AO215))","v":0},null,null,"",{"$f":"IF(AT215=\"\",0,AVERAGE(AT$10:AT215))","v":0},{"$f":"IF(AT214=\"\",0,VAR(AT$10:AT215))","v":0},null,null,"",{"$f":"IF(AY215=\"\",0,AVERAGE(AY$10:AY215))","v":0},{"$f":"IF(AY214=\"\",0,VAR(AY$10:AY215))","v":0}]
[null,null,null,null,null,null,{"$f":"IF(F216=\"\",0,AVERAGE($F$10:F216))","v":0},{"$f":"IF(F215=\"\",0,VAR($F$10:F216))","v":0},null,null,"",{"$f":"IF(K216=\"\",0,AVERAGE($K$10:K216))","v":0},{"$f":"IF(K215=\"\",0,VAR($K$10:K216))","v":0},null,null,"",{"$f":"IF(P216=\"\",0,AVERAGE(P$10:P216))","v":0},{"$f":"IF(P215=\"\",0,VAR(P$10:P216))","v":0},null,null,"",{"$f":"IF(U216=\"\",0,AVERAGE(U$10:U216))","v":0},{"$f":"IF(U215=\"\",0,VAR(U$10:U216))","v":0},null,null,"",{"$f":"IF(Z216=\"\",0,AVERAGE(Z$10:Z216))","v":0},{"$f":"IF(Z215=\"\",0,VAR(Z$10:Z216))","v":0},null,null,"",{"$f":"IF(AE216=\"\",0,AVERAGE(AE$10:AE216))","v":0},{"$f":"IF(AE215=\"\",0,VAR(AE$10:AE216))","v":0},null,null,"",{"$f":"IF(AJ216=\"\",0,AVERAGE(AJ$10:AJ216))","v":0},{"$f":"IF(AJ215=\"\",0,VAR(AJ$10:AJ216))","v":0},null,null,"",{"$f":"IF(AO216=\"\",0,AVERAGE(AO$10:AO216))","v":0},{"$f":"IF(AO215=\"\",0,VAR(AO$10:AO216))","v":0},null,null,"",{"$f":"IF(AT216=\"\",0,AVERAGE(AT$10:AT216))","v":0},{"$f":"IF(AT215=\"\",0,VAR(AT$10:AT216))","v":0},null,null,"",{"$f":"IF(AY216=\"\",0,AVERAGE(AY$10:AY216))","v":0},{"$f":"IF(AY215=\"\",0,VAR(AY$10:AY216))","v":0}]
[null,null,null,null,null,{"$f":"IF(E217=\"\",\"\",+(E217-E216)/E216)","v":""},{"$f":"IF(F217=\"\",0,AVERAGE($F$10:F217))","v":0},{"$f":"IF(F216=\"\",0,VAR($F$10:F217))","v":0},null,null,"",{"$f":"IF(K217=\"\",0,AVERAGE($K$10:K217))","v":0},{"$f":"IF(K216=\"\",0,VAR($K$10:K217))","v":0},null,null,"",{"$f":"IF(P217=\"\",0,AVERAGE(P$10:P217))","v":0},{"$f":"IF(P216=\"\",0,VAR(P$10:P217))","v":0},null,null,"",{"$f":"IF(U217=\"\",0,AVERAGE(U$10:U217))","v":0},{"$f":"IF(U216=\"\",0,VAR(U$10:U217))","v":0},null,null,"",{"$f":"IF(Z217=\"\",0,AVERAGE(Z$10:Z217))","v":0},{"$f":"IF(Z216=\"\",0,VAR(Z$10:Z217))","v":0},null,null,"",{"$f":"IF(AE217=\"\",0,AVERAGE(AE$10:AE217))","v":0},{"$f":"IF(AE216=\"\",0,VAR(AE$10:AE217))","v":0},null,null,"",{"$f":"IF(AJ217=\"\",0,AVERAGE(AJ$10:AJ217))","v":0},{"$f":"IF(AJ216=\"\",0,VAR(AJ$10:AJ217))","v":0},null,null,"",{"$f":"IF(AO217=\"\",0,AVERAGE(AO$10:AO217))","v":0},{"$f":"IF(AO216=\"\",0,VAR(AO$10:AO217))","v":0},null,null,"",{"$f":"IF(AT217=\"\",0,AVERAGE(AT$10:AT217))","v":0},{"$f":"IF(AT216=\"\",0,VAR(AT$10:AT217))","v":0},null,null,"",{"$f":"IF(AY217=\"\",0,AVERAGE(AY$10:AY217))","v":0},{"$f":"IF(AY216=\"\",0,VAR(AY$10:AY217))","v":0}]
[null,null,null,null,null,"",{"$f":"IF(F218=\"\",0,AVERAGE($F$10:F218))","v":0},{"$f":"IF(F217=\"\",0,VAR($F$10:F218))","v":0},null,null,"",{"$f":"IF(K218=\"\",0,AVERAGE($K$10:K218))","v":0},{"$f":"IF(K217=\"\",0,VAR($K$10:K218))","v":0},null,null,"",{"$f":"IF(P218=\"\",0,AVERAGE(P$10:P218))","v":0},{"$f":"IF(P217=\"\",0,VAR(P$10:P218))","v":0},null,null,"",{"$f":"IF(U218=\"\",0,AVERAGE(U$10:U218))","v":0},{"$f":"IF(U217=\"\",0,VAR(U$10:U218))","v":0},null,null,"",{"$f":"IF(Z218=\"\",0,AVERAGE(Z$10:Z218))","v":0},{"$f":"IF(Z217=\"\",0,VAR(Z$10:Z218))","v":0},null,null,"",{"$f":"IF(AE218=\"\",0,AVERAGE(AE$10:AE218))","v":0},{"$f":"IF(AE217=\"\",0,VAR(AE$10:AE218))","v":0},null,null,"",{"$f":"IF(AJ218=\"\",0,AVERAGE(AJ$10:AJ218))","v":0},{"$f":"IF(AJ217=\"\",0,VAR(AJ$10:AJ218))","v":0},null,null,"",{"$f":"IF(AO218=\"\",0,AVERAGE(AO$10:AO218))","v":0},{"$f":"IF(AO217=\"\",0,VAR(AO$10:AO218))","v":0},null,null,"",{"$f":"IF(AT218=\"\",0,AVERAGE(AT$10:AT218))","v":0},{"$f":"IF(AT217=\"\",0,VAR(AT$10:AT218))","v":0},null,null,"",{"$f":"IF(AY218=\"\",0,AVERAGE(AY$10:AY218))","v":0},{"$f":"IF(AY217=\"\",0,VAR(AY$10:AY218))","v":0}]
[null,null,null,null,null,null,{"$f":"IF(F219=\"\",0,AVERAGE($F$10:F219))","v":0},{"$f":"IF(F218=\"\",0,VAR($F$10:F219))","v":0},null,null,"",{"$f":"IF(K219=\"\",0,AVERAGE($K$10:K219))","v":0},{"$f":"IF(K218=\"\",0,VAR($K$10:K219))","v":0},null,null,"",{"$f":"IF(P219=\"\",0,AVERAGE(P$10:P219))","v":0},{"$f":"IF(P218=\"\",0,VAR(P$10:P219))","v":0},null,null,"",{"$f":"IF(U219=\"\",0,AVERAGE(U$10:U219))","v":0},{"$f":"IF(U218=\"\",0,VAR(U$10:U219))","v":0},null,null,"",{"$f":"IF(Z219=\"\",0,AVERAGE(Z$10:Z219))","v":0},{"$f":"IF(Z218=\"\",0,VAR(Z$10:Z219))","v":0},null,null,"",{"$f":"IF(AE219=\"\",0,AVERAGE(AE$10:AE219))","v":0},{"$f":"IF(AE218=\"\",0,VAR(AE$10:AE219))","v":0},null,null,"",{"$f":"IF(AJ219=\"\",0,AVERAGE(AJ$10:AJ219))","v":0},{"$f":"IF(AJ218=\"\",0,VAR(AJ$10:AJ219))","v":0},null,null,"",{"$f":"IF(AO219=\"\",0,AVERAGE(AO$10:AO219))","v":0},{"$f":"IF(AO218=\"\",0,VAR(AO$10:AO219))","v":0},null,null,"",{"$f":"IF(AT219=\"\",0,AVERAGE(AT$10:AT219))","v":0},{"$f":"IF(AT218=\"\",0,VAR(AT$10:AT219))","v":0},null,null,"",{"$f":"IF(AY219=\"\",0,AVERAGE(AY$10:AY219))","v":0},{"$f":"IF(AY218=\"\",0,VAR(AY$10:AY219))","v":0}]
[null,null,null,null,null,{"$f":"IF(E220=\"\",\"\",+(E220-E219)/E219)","v":""},{"$f":"IF(F220=\"\",0,AVERAGE($F$10:F220))","v":0},{"$f":"IF(F219=\"\",0,VAR($F$10:F220))","v":0},null,null,"",{"$f":"IF(K220=\"\",0,AVERAGE($K$10:K220))","v":0},{"$f":"IF(K219=\"\",0,VAR($K$10:K220))","v":0},null,null,"",{"$f":"IF(P220=\"\",0,AVERAGE(P$10:P220))","v":0},{"$f":"IF(P219=\"\",0,VAR(P$10:P220))","v":0},null,null,"",{"$f":"IF(U220=\"\",0,AVERAGE(U$10:U220))","v":0},{"$f":"IF(U219=\"\",0,VAR(U$10:U220))","v":0},null,null,"",{"$f":"IF(Z220=\"\",0,AVERAGE(Z$10:Z220))","v":0},{"$f":"IF(Z219=\"\",0,VAR(Z$10:Z220))","v":0},null,null,"",{"$f":"IF(AE220=\"\",0,AVERAGE(AE$10:AE220))","v":0},{"$f":"IF(AE219=\"\",0,VAR(AE$10:AE220))","v":0},null,null,"",{"$f":"IF(AJ220=\"\",0,AVERAGE(AJ$10:AJ220))","v":0},{"$f":"IF(AJ219=\"\",0,VAR(AJ$10:AJ220))","v":0},null,null,"",{"$f":"IF(AO220=\"\",0,AVERAGE(AO$10:AO220))","v":0},{"$f":"IF(AO219=\"\",0,VAR(AO$10:AO220))","v":0},null,null,"",{"$f":"IF(AT220=\"\",0,AVERAGE(AT$10:AT220))","v":0},{"$f":"IF(AT219=\"\",0,VAR(AT$10:AT220))","v":0},null,null,"",{"$f":"IF(AY220=\"\",0,AVERAGE(AY$10:AY220))","v":0},{"$f":"IF(AY219=\"\",0,VAR(AY$10:AY220))","v":0}]
[null,null,null,null,null,"",{"$f":"IF(F221=\"\",0,AVERAGE($F$10:F221))","v":0},{"$f":"IF(F220=\"\",0,VAR($F$10:F221))","v":0},null,null,"",{"$f":"IF(K221=\"\",0,AVERAGE($K$10:K221))","v":0},{"$f":"IF(K220=\"\",0,VAR($K$10:K221))","v":0},null,null,"",{"$f":"IF(P221=\"\",0,AVERAGE(P$10:P221))","v":0},{"$f":"IF(P220=\"\",0,VAR(P$10:P221))","v":0},null,null,"",{"$f":"IF(U221=\"\",0,AVERAGE(U$10:U221))","v":0},{"$f":"IF(U220=\"\",0,VAR(U$10:U221))","v":0},null,null,"",{"$f":"IF(Z221=\"\",0,AVERAGE(Z$10:Z221))","v":0},{"$f":"IF(Z220=\"\",0,VAR(Z$10:Z221))","v":0},null,null,"",{"$f":"IF(AE221=\"\",0,AVERAGE(AE$10:AE221))","v":0},{"$f":"IF(AE220=\"\",0,VAR(AE$10:AE221))","v":0},null,null,"",{"$f":"IF(AJ221=\"\",0,AVERAGE(AJ$10:AJ221))","v":0},{"$f":"IF(AJ220=\"\",0,VAR(AJ$10:AJ221))","v":0},null,null,"",{"$f":"IF(AO221=\"\",0,AVERAGE(AO$10:AO221))","v":0},{"$f":"IF(AO220=\"\",0,VAR(AO$10:AO221))","v":0},null,null,"",{"$f":"IF(AT221=\"\",0,AVERAGE(AT$10:AT221))","v":0},{"$f":"IF(AT220=\"\",0,VAR(AT$10:AT221))","v":0},null,null,"",{"$f":"IF(AY221=\"\",0,AVERAGE(AY$10:AY221))","v":0},{"$f":"IF(AY220=\"\",0,VAR(AY$10:AY221))","v":0}]
[null,null,null,null,null,null,{"$f":"IF(F222=\"\",0,AVERAGE($F$10:F222))","v":0},{"$f":"IF(F221=\"\",0,VAR($F$10:F222))","v":0},null,null,"",{"$f":"IF(K222=\"\",0,AVERAGE($K$10:K222))","v":0},{"$f":"IF(K221=\"\",0,VAR($K$10:K222))","v":0},null,null,"",{"$f":"IF(P222=\"\",0,AVERAGE(P$10:P222))","v":0},{"$f":"IF(P221=\"\",0,VAR(P$10:P222))","v":0},null,null,"",{"$f":"IF(U222=\"\",0,AVERAGE(U$10:U222))","v":0},{"$f":"IF(U221=\"\",0,VAR(U$10:U222))","v":0},null,null,"",{"$f":"IF(Z222=\"\",0,AVERAGE(Z$10:Z222))","v":0},{"$f":"IF(Z221=\"\",0,VAR(Z$10:Z222))","v":0},null,null,"",{"$f":"IF(AE222=\"\",0,AVERAGE(AE$10:AE222))","v":0},{"$f":"IF(AE221=\"\",0,VAR(AE$10:AE222))","v":0},null,null,"",{"$f":"IF(AJ222=\"\",0,AVERAGE(AJ$10:AJ222))","v":0},{"$f":"IF(AJ221=\"\",0,VAR(AJ$10:AJ222))","v":0},null,null,"",{"$f":"IF(AO222=\"\",0,AVERAGE(AO$10:AO222))","v":0},{"$f":"IF(AO221=\"\",0,VAR(AO$10:AO222))","v":0},null,null,"",{"$f":"IF(AT222=\"\",0,AVERAGE(AT$10:AT222))","v":0},{"$f":"IF(AT221=\"\",0,VAR(AT$10:AT222))","v":0},null,null,"",{"$f":"IF(AY222=\"\",0,AVERAGE(AY$10:AY222))","v":0},{"$f":"IF(AY221=\"\",0,VAR(AY$10:AY222))","v":0}]
[null,null,null,null,null,{"$f":"IF(E223=\"\",\"\",+(E223-E222)/E222)","v":""},{"$f":"IF(F223=\"\",0,AVERAGE($F$10:F223))","v":0},{"$f":"IF(F222=\"\",0,VAR($F$10:F223))","v":0},null,null,"",{"$f":"IF(K223=\"\",0,AVERAGE($K$10:K223))","v":0},{"$f":"IF(K222=\"\",0,VAR($K$10:K223))","v":0},null,null,"",{"$f":"IF(P223=\"\",0,AVERAGE(P$10:P223))","v":0},{"$f":"IF(P222=\"\",0,VAR(P$10:P223))","v":0},null,null,"",{"$f":"IF(U223=\"\",0,AVERAGE(U$10:U223))","v":0},{"$f":"IF(U222=\"\",0,VAR(U$10:U223))","v":0},null,null,"",{"$f":"IF(Z223=\"\",0,AVERAGE(Z$10:Z223))","v":0},{"$f":"IF(Z222=\"\",0,VAR(Z$10:Z223))","v":0},null,null,"",{"$f":"IF(AE223=\"\",0,AVERAGE(AE$10:AE223))","v":0},{"$f":"IF(AE222=\"\",0,VAR(AE$10:AE223))","v":0},null,null,"",{"$f":"IF(AJ223=\"\",0,AVERAGE(AJ$10:AJ223))","v":0},{"$f":"IF(AJ222=\"\",0,VAR(AJ$10:AJ223))","v":0},null,null,"",{"$f":"IF(AO223=\"\",0,AVERAGE(AO$10:AO223))","v":0},{"$f":"IF(AO222=\"\",0,VAR(AO$10:AO223))","v":0},null,null,"",{"$f":"IF(AT223=\"\",0,AVERAGE(AT$10:AT223))","v":0},{"$f":"IF(AT222=\"\",0,VAR(AT$10:AT223))","v":0},null,null,"",{"$f":"IF(AY223=\"\",0,AVERAGE(AY$10:AY223))","v":0},{"$f":"IF(AY222=\"\",0,VAR(AY$10:AY223))","v":0}]
[null,null,null,null,null,"",{"$f":"IF(F224=\"\",0,AVERAGE($F$10:F224))","v":0},{"$f":"IF(F223=\"\",0,VAR($F$10:F224))","v":0},null,null,"",{"$f":"IF(K224=\"\",0,AVERAGE($K$10:K224))","v":0},{"$f":"IF(K223=\"\",0,VAR($K$10:K224))","v":0},null,null,"",{"$f":"IF(P224=\"\",0,AVERAGE(P$10:P224))","v":0},{"$f":"IF(P223=\"\",0,VAR(P$10:P224))","v":0},null,null,"",{"$f":"IF(U224=\"\",0,AVERAGE(U$10:U224))","v":0},{"$f":"IF(U223=\"\",0,VAR(U$10:U224))","v":0},null,null,"",{"$f":"IF(Z224=\"\",0,AVERAGE(Z$10:Z224))","v":0},{"$f":"IF(Z223=\"\",0,VAR(Z$10:Z224))","v":0},null,null,"",{"$f":"IF(AE224=\"\",0,AVERAGE(AE$10:AE224))","v":0},{"$f":"IF(AE223=\"\",0,VAR(AE$10:AE224))","v":0},null,null,"",{"$f":"IF(AJ224=\"\",0,AVERAGE(AJ$10:AJ224))","v":0},{"$f":"IF(AJ223=\"\",0,VAR(AJ$10:AJ224))","v":0},null,null,"",{"$f":"IF(AO224=\"\",0,AVERAGE(AO$10:AO224))","v":0},{"$f":"IF(AO223=\"\",0,VAR(AO$10:AO224))","v":0},null,null,"",{"$f":"IF(AT224=\"\",0,AVERAGE(AT$10:AT224))","v":0},{"$f":"IF(AT223=\"\",0,VAR(AT$10:AT224))","v":0},null,null,"",{"$f":"IF(AY224=\"\",0,AVERAGE(AY$10:AY224))","v":0},{"$f":"IF(AY223=\"\",0,VAR(AY$10:AY224))","v":0}]
[null,null,null,null,null,null,{"$f":"IF(F225=\"\",0,AVERAGE($F$10:F225))","v":0},{"$f":"IF(F224=\"\",0,VAR($F$10:F225))","v":0},null,null,"",{"$f":"IF(K225=\"\",0,AVERAGE($K$10:K225))","v":0},{"$f":"IF(K224=\"\",0,VAR($K$10:K225))","v":0},null,null,"",{"$f":"IF(P225=\"\",0,AVERAGE(P$10:P225))","v":0},{"$f":"IF(P224=\"\",0,VAR(P$10:P225))","v":0},null,null,"",{"$f":"IF(U225=\"\",0,AVERAGE(U$10:U225))","v":0},{"$f":"IF(U224=\"\",0,VAR(U$10:U225))","v":0},null,null,"",{"$f":"IF(Z225=\"\",0,AVERAGE(Z$10:Z225))","v":0},{"$f":"IF(Z224=\"\",0,VAR(Z$10:Z225))","v":0},null,null,"",{"$f":"IF(AE225=\"\",0,AVERAGE(AE$10:AE225))","v":0},{"$f":"IF(AE224=\"\",0,VAR(AE$10:AE225))","v":0},null,null,"",{"$f":"IF(AJ225=\"\",0,AVERAGE(AJ$10:AJ225))","v":0},{"$f":"IF(AJ224=\"\",0,VAR(AJ$10:AJ225))","v":0},null,null,"",{"$f":"IF(AO225=\"\",0,AVERAGE(AO$10:AO225))","v":0},{"$f":"IF(AO224=\"\",0,VAR(AO$10:AO225))","v":0},null,null,"",{"$f":"IF(AT225=\"\",0,AVERAGE(AT$10:AT225))","v":0},{"$f":"IF(AT224=\"\",0,VAR(AT$10:AT225))","v":0},null,null,"",{"$f":"IF(AY225=\"\",0,AVERAGE(AY$10:AY225))","v":0},{"$f":"IF(AY224=\"\",0,VAR(AY$10:AY225))","v":0}]
[null,null,null,null,null,{"$f":"IF(E226=\"\",\"\",+(E226-E225)/E225)","v":""},{"$f":"IF(F226=\"\",0,AVERAGE($F$10:F226))","v":0},{"$f":"IF(F225=\"\",0,VAR($F$10:F226))","v":0},null,null,"",{"$f":"IF(K226=\"\",0,AVERAGE($K$10:K226))","v":0},{"$f":"IF(K225=\"\",0,VAR($K$10:K226))","v":0},null,null,"",{"$f":"IF(P226=\"\",0,AVERAGE(P$10:P226))","v":0},{"$f":"IF(P225=\"\",0,VAR(P$10:P226))","v":0},null,null,"",{"$f":"IF(U226=\"\",0,AVERAGE(U$10:U226))","v":0},{"$f":"IF(U225=\"\",0,VAR(U$10:U226))","v":0},null,null,"",{"$f":"IF(Z226=\"\",0,AVERAGE(Z$10:Z226))","v":0},{"$f":"IF(Z225=\"\",0,VAR(Z$10:Z226))","v":0},null,null,"",{"$f":"IF(AE226=\"\",0,AVERAGE(AE$10:AE226))","v":0},{"$f":"IF(AE225=\"\",0,VAR(AE$10:AE226))","v":0},null,null,"",{"$f":"IF(AJ226=\"\",0,AVERAGE(AJ$10:AJ226))","v":0},{"$f":"IF(AJ225=\"\",0,VAR(AJ$10:AJ226))","v":0},null,null,"",{"$f":"IF(AO226=\"\",0,AVERAGE(AO$10:AO226))","v":0},{"$f":"IF(AO225=\"\",0,VAR(AO$10:AO226))","v":0},null,null,"",{"$f":"IF(AT226=\"\",0,AVERAGE(AT$10:AT226))","v":0},{"$f":"IF(AT225=\"\",0,VAR(AT$10:AT226))","v":0},null,null,"",{"$f":"IF(AY226=\"\",0,AVERAGE(AY$10:AY226))","v":0},{"$f":"IF(AY225=\"\",0,VAR(AY$10:AY226))","v":0}]
[null,null,null,null,null,"",{"$f":"IF(F227=\"\",0,AVERAGE($F$10:F227))","v":0},{"$f":"IF(F226=\"\",0,VAR($F$10:F227))","v":0},null,null,"",{"$f":"IF(K227=\"\",0,AVERAGE($K$10:K227))","v":0},{"$f":"IF(K226=\"\",0,VAR($K$10:K227))","v":0},null,null,"",{"$f":"IF(P227=\"\",0,AVERAGE(P$10:P227))","v":0},{"$f":"IF(P226=\"\",0,VAR(P$10:P227))","v":0},null,null,"",{"$f":"IF(U227=\"\",0,AVERAGE(U$10:U227))","v":0},{"$f":"IF(U226=\"\",0,VAR(U$10:U227))","v":0},null,null,"",{"$f":"IF(Z227=\"\",0,AVERAGE(Z$10:Z227))","v":0},{"$f":"IF(Z226=\"\",0,VAR(Z$10:Z227))","v":0},null,null,"",{"$f":"IF(AE227=\"\",0,AVERAGE(AE$10:AE227))","v":0},{"$f":"IF(AE226=\"\",0,VAR(AE$10:AE227))","v":0},null,null,"",{"$f":"IF(AJ227=\"\",0,AVERAGE(AJ$10:AJ227))","v":0},{"$f":"IF(AJ226=\"\",0,VAR(AJ$10:AJ227))","v":0},null,null,"",{"$f":"IF(AO227=\"\",0,AVERAGE(AO$10:AO227))","v":0},{"$f":"IF(AO226=\"\",0,VAR(AO$10:AO227))","v":0},null,null,"",{"$f":"IF(AT227=\"\",0,AVERAGE(AT$10:AT227))","v":0},{"$f":"IF(AT226=\"\",0,VAR(AT$10:AT227))","v":0},null,null,"",{"$f":"IF(AY227=\"\",0,AVERAGE(AY$10:AY227))","v":0},{"$f":"IF(AY226=\"\",0,VAR(AY$10:AY227))","v":0}]
[null,null,null,null,null,null,{"$f":"IF(F228=\"\",0,AVERAGE($F$10:F228))","v":0},{"$f":"IF(F227=\"\",0,VAR($F$10:F228))","v":0},null,null,"",{"$f":"IF(K228=\"\",0,AVERAGE($K$10:K228))","v":0},{"$f":"IF(K227=\"\",0,VAR($K$10:K228))","v":0},null,null,"",{"$f":"IF(P228=\"\",0,AVERAGE(P$10:P228))","v":0},{"$f":"IF(P227=\"\",0,VAR(P$10:P228))","v":0},null,null,"",{"$f":"IF(U228=\"\",0,AVERAGE(U$10:U228))","v":0},{"$f":"IF(U227=\"\",0,VAR(U$10:U228))","v":0},null,null,"",{"$f":"IF(Z228=\"\",0,AVERAGE(Z$10:Z228))","v":0},{"$f":"IF(Z227=\"\",0,VAR(Z$10:Z228))","v":0},null,null,"",{"$f":"IF(AE228=\"\",0,AVERAGE(AE$10:AE228))","v":0},{"$f":"IF(AE227=\"\",0,VAR(AE$10:AE228))","v":0},null,null,"",{"$f":"IF(AJ228=\"\",0,AVERAGE(AJ$10:AJ228))","v":0},{"$f":"IF(AJ227=\"\",0,VAR(AJ$10:AJ228))","v":0},null,null,"",{"$f":"IF(AO228=\"\",0,AVERAGE(AO$10:AO228))","v":0},{"$f":"IF(AO227=\"\",0,VAR(AO$10:AO228))","v":0},null,null,"",{"$f":"IF(AT228=\"\",0,AVERAGE(AT$10:AT228))","v":0},{"$f":"IF(AT227=\"\",0,VAR(AT$10:AT228))","v":0},null,null,"",{"$f":"IF(AY228=\"\",0,AVERAGE(AY$10:AY228))","v":0},{"$f":"IF(AY227=\"\",0,VAR(AY$10:AY228))","v":0}]
[null,null,null,null,null,{"$f":"IF(E229=\"\",\"\",+(E229-E228)/E228)","v":""},{"$f":"IF(F229=\"\",0,AVERAGE($F$10:F229))","v":0},{"$f":"IF(F228=\"\",0,VAR($F$10:F229))","v":0},null,null,"",{"$f":"IF(K229=\"\",0,AVERAGE($K$10:K229))","v":0},{"$f":"IF(K228=\"\",0,VAR($K$10:K229))","v":0},null,null,"",{"$f":"IF(P229=\"\",0,AVERAGE(P$10:P229))","v":0},{"$f":"IF(P228=\"\",0,VAR(P$10:P229))","v":0},null,null,"",{"$f":"IF(U229=\"\",0,AVERAGE(U$10:U229))","v":0},{"$f":"IF(U228=\"\",0,VAR(U$10:U229))","v":0},null,null,"",{"$f":"IF(Z229=\"\",0,AVERAGE(Z$10:Z229))","v":0},{"$f":"IF(Z228=\"\",0,VAR(Z$10:Z229))","v":0},null,null,"",{"$f":"IF(AE229=\"\",0,AVERAGE(AE$10:AE229))","v":0},{"$f":"IF(AE228=\"\",0,VAR(AE$10:AE229))","v":0},null,null,"",{"$f":"IF(AJ229=\"\",0,AVERAGE(AJ$10:AJ229))","v":0},{"$f":"IF(AJ228=\"\",0,VAR(AJ$10:AJ229))","v":0},null,null,"",{"$f":"IF(AO229=\"\",0,AVERAGE(AO$10:AO229))","v":0},{"$f":"IF(AO228=\"\",0,VAR(AO$10:AO229))","v":0},null,null,"",{"$f":"IF(AT229=\"\",0,AVERAGE(AT$10:AT229))","v":0},{"$f":"IF(AT228=\"\",0,VAR(AT$10:AT229))","v":0},null,null,"",{"$f":"IF(AY229=\"\",0,AVERAGE(AY$10:AY229))","v":0},{"$f":"IF(AY228=\"\",0,VAR(AY$10:AY229))","v":0}]
[null,null,null,null,null,"",{"$f":"IF(F230=\"\",0,AVERAGE($F$10:F230))","v":0},{"$f":"IF(F229=\"\",0,VAR($F$10:F230))","v":0},null,null,"",{"$f":"IF(K230=\"\",0,AVERAGE($K$10:K230))","v":0},{"$f":"IF(K229=\"\",0,VAR($K$10:K230))","v":0},null,null,"",{"$f":"IF(P230=\"\",0,AVERAGE(P$10:P230))","v":0},{"$f":"IF(P229=\"\",0,VAR(P$10:P230))","v":0},null,null,"",{"$f":"IF(U230=\"\",0,AVERAGE(U$10:U230))","v":0},{"$f":"IF(U229=\"\",0,VAR(U$10:U230))","v":0},null,null,"",{"$f":"IF(Z230=\"\",0,AVERAGE(Z$10:Z230))","v":0},{"$f":"IF(Z229=\"\",0,VAR(Z$10:Z230))","v":0},null,null,"",{"$f":"IF(AE230=\"\",0,AVERAGE(AE$10:AE230))","v":0},{"$f":"IF(AE229=\"\",0,VAR(AE$10:AE230))","v":0},null,null,"",{"$f":"IF(AJ230=\"\",0,AVERAGE(AJ$10:AJ230))","v":0},{"$f":"IF(AJ229=\"\",0,VAR(AJ$10:AJ230))","v":0},null,null,"",{"$f":"IF(AO230=\"\",0,AVERAGE(AO$10:AO230))","v":0},{"$f":"IF(AO229=\"\",0,VAR(AO$10:AO230))","v":0},null,null,"",{"$f":"IF(AT230=\"\",0,AVERAGE(AT$10:AT230))","v":0},{"$f":"IF(AT229=\"\",0,VAR(AT$10:AT230))","v":0},null,null,"",{"$f":"IF(AY230=\"\",0,AVERAGE(AY$10:AY230))","v":0},{"$f":"IF(AY229=\"\",0,VAR(AY$10:AY230))","v":0}]
[null,null,null,null,null,null,{"$f":"IF(F231=\"\",0,AVERAGE($F$10:F231))","v":0},{"$f":"IF(F230=\"\",0,VAR($F$10:F231))","v":0},null,null,"",{"$f":"IF(K231=\"\",0,AVERAGE($K$10:K231))","v":0},{"$f":"IF(K230=\"\",0,VAR($K$10:K231))","v":0},null,null,"",{"$f":"IF(P231=\"\",0,AVERAGE(P$10:P231))","v":0},{"$f":"IF(P230=\"\",0,VAR(P$10:P231))","v":0},null,null,"",{"$f":"IF(U231=\"\",0,AVERAGE(U$10:U231))","v":0},{"$f":"IF(U230=\"\",0,VAR(U$10:U231))","v":0},null,null,"",{"$f":"IF(Z231=\"\",0,AVERAGE(Z$10:Z231))","v":0},{"$f":"IF(Z230=\"\",0,VAR(Z$10:Z231))","v":0},null,null,"",{"$f":"IF(AE231=\"\",0,AVERAGE(AE$10:AE231))","v":0},{"$f":"IF(AE230=\"\",0,VAR(AE$10:AE231))","v":0},null,null,"",{"$f":"IF(AJ231=\"\",0,AVERAGE(AJ$10:AJ231))","v":0},{"$f":"IF(AJ230=\"\",0,VAR(AJ$10:AJ231))","v":0},null,null,"",{"$f":"IF(AO231=\"\",0,AVERAGE(AO$10:AO231))","v":0},{"$f":"IF(AO230=\"\",0,VAR(AO$10:AO231))","v":0},null,null,"",{"$f":"IF(AT231=\"\",0,AVERAGE(AT$10:AT231))","v":0},{"$f":"IF(AT230=\"\",0,VAR(AT$10:AT231))","v":0},null,null,"",{"$f":"IF(AY231=\"\",0,AVERAGE(AY$10:AY231))","v":0},{"$f":"IF(AY230=\"\",0,VAR(AY$10:AY231))","v":0}]
[null,null,null,null,null,{"$f":"IF(E232=\"\",\"\",+(E232-E231)/E231)","v":""},{"$f":"IF(F232=\"\",0,AVERAGE($F$10:F232))","v":0},{"$f":"IF(F231=\"\",0,VAR($F$10:F232))","v":0},null,null,"",{"$f":"IF(K232=\"\",0,AVERAGE($K$10:K232))","v":0},{"$f":"IF(K231=\"\",0,VAR($K$10:K232))","v":0},null,null,"",{"$f":"IF(P232=\"\",0,AVERAGE(P$10:P232))","v":0},{"$f":"IF(P231=\"\",0,VAR(P$10:P232))","v":0},null,null,"",{"$f":"IF(U232=\"\",0,AVERAGE(U$10:U232))","v":0},{"$f":"IF(U231=\"\",0,VAR(U$10:U232))","v":0},null,null,"",{"$f":"IF(Z232=\"\",0,AVERAGE(Z$10:Z232))","v":0},{"$f":"IF(Z231=\"\",0,VAR(Z$10:Z232))","v":0},null,null,"",{"$f":"IF(AE232=\"\",0,AVERAGE(AE$10:AE232))","v":0},{"$f":"IF(AE231=\"\",0,VAR(AE$10:AE232))","v":0},null,null,"",{"$f":"IF(AJ232=\"\",0,AVERAGE(AJ$10:AJ232))","v":0},{"$f":"IF(AJ231=\"\",0,VAR(AJ$10:AJ232))","v":0},null,null,"",{"$f":"IF(AO232=\"\",0,AVERAGE(AO$10:AO232))","v":0},{"$f":"IF(AO231=\"\",0,VAR(AO$10:AO232))","v":0},null,null,"",{"$f":"IF(AT232=\"\",0,AVERAGE(AT$10:AT232))","v":0},{"$f":"IF(AT231=\"\",0,VAR(AT$10:AT232))","v":0},null,null,"",{"$f":"IF(AY232=\"\",0,AVERAGE(AY$10:AY232))","v":0},{"$f":"IF(AY231=\"\",0,VAR(AY$10:AY232))","v":0}]
[null,null,null,null,null,"",{"$f":"IF(F233=\"\",0,AVERAGE($F$10:F233))","v":0},{"$f":"IF(F232=\"\",0,VAR($F$10:F233))","v":0},null,null,"",{"$f":"IF(K233=\"\",0,AVERAGE($K$10:K233))","v":0},{"$f":"IF(K232=\"\",0,VAR($K$10:K233))","v":0},null,null,"",{"$f":"IF(P233=\"\",0,AVERAGE(P$10:P233))","v":0},{"$f":"IF(P232=\"\",0,VAR(P$10:P233))","v":0},null,null,"",{"$f":"IF(U233=\"\",0,AVERAGE(U$10:U233))","v":0},{"$f":"IF(U232=\"\",0,VAR(U$10:U233))","v":0},null,null,"",{"$f":"IF(Z233=\"\",0,AVERAGE(Z$10:Z233))","v":0},{"$f":"IF(Z232=\"\",0,VAR(Z$10:Z233))","v":0},null,null,"",{"$f":"IF(AE233=\"\",0,AVERAGE(AE$10:AE233))","v":0},{"$f":"IF(AE232=\"\",0,VAR(AE$10:AE233))","v":0},null,null,"",{"$f":"IF(AJ233=\"\",0,AVERAGE(AJ$10:AJ233))","v":0},{"$f":"IF(AJ232=\"\",0,VAR(AJ$10:AJ233))","v":0},null,null,"",{"$f":"IF(AO233=\"\",0,AVERAGE(AO$10:AO233))","v":0},{"$f":"IF(AO232=\"\",0,VAR(AO$10:AO233))","v":0},null,null,"",{"$f":"IF(AT233=\"\",0,AVERAGE(AT$10:AT233))","v":0},{"$f":"IF(AT232=\"\",0,VAR(AT$10:AT233))","v":0},null,null,"",{"$f":"IF(AY233=\"\",0,AVERAGE(AY$10:AY233))","v":0},{"$f":"IF(AY232=\"\",0,VAR(AY$10:AY233))","v":0}]
[null,null,null,null,null,null,{"$f":"IF(F234=\"\",0,AVERAGE($F$10:F234))","v":0},{"$f":"IF(F233=\"\",0,VAR($F$10:F234))","v":0},null,null,"",{"$f":"IF(K234=\"\",0,AVERAGE($K$10:K234))","v":0},{"$f":"IF(K233=\"\",0,VAR($K$10:K234))","v":0},null,null,"",{"$f":"IF(P234=\"\",0,AVERAGE(P$10:P234))","v":0},{"$f":"IF(P233=\"\",0,VAR(P$10:P234))","v":0},null,null,"",{"$f":"IF(U234=\"\",0,AVERAGE(U$10:U234))","v":0},{"$f":"IF(U233=\"\",0,VAR(U$10:U234))","v":0},null,null,"",{"$f":"IF(Z234=\"\",0,AVERAGE(Z$10:Z234))","v":0},{"$f":"IF(Z233=\"\",0,VAR(Z$10:Z234))","v":0},null,null,"",{"$f":"IF(AE234=\"\",0,AVERAGE(AE$10:AE234))","v":0},{"$f":"IF(AE233=\"\",0,VAR(AE$10:AE234))","v":0},null,null,"",{"$f":"IF(AJ234=\"\",0,AVERAGE(AJ$10:AJ234))","v":0},{"$f":"IF(AJ233=\"\",0,VAR(AJ$10:AJ234))","v":0},null,null,"",{"$f":"IF(AO234=\"\",0,AVERAGE(AO$10:AO234))","v":0},{"$f":"IF(AO233=\"\",0,VAR(AO$10:AO234))","v":0},null,null,"",{"$f":"IF(AT234=\"\",0,AVERAGE(AT$10:AT234))","v":0},{"$f":"IF(AT233=\"\",0,VAR(AT$10:AT234))","v":0},null,null,"",{"$f":"IF(AY234=\"\",0,AVERAGE(AY$10:AY234))","v":0},{"$f":"IF(AY233=\"\",0,VAR(AY$10:AY234))","v":0}]
[null,null,null,null,null,{"$f":"IF(E235=\"\",\"\",+(E235-E234)/E234)","v":""},{"$f":"IF(F235=\"\",0,AVERAGE($F$10:F235))","v":0},{"$f":"IF(F234=\"\",0,VAR($F$10:F235))","v":0},null,null,"",{"$f":"IF(K235=\"\",0,AVERAGE($K$10:K235))","v":0},{"$f":"IF(K234=\"\",0,VAR($K$10:K235))","v":0},null,null,"",{"$f":"IF(P235=\"\",0,AVERAGE(P$10:P235))","v":0},{"$f":"IF(P234=\"\",0,VAR(P$10:P235))","v":0},null,null,"",{"$f":"IF(U235=\"\",0,AVERAGE(U$10:U235))","v":0},{"$f":"IF(U234=\"\",0,VAR(U$10:U235))","v":0},null,null,"",{"$f":"IF(Z235=\"\",0,AVERAGE(Z$10:Z235))","v":0},{"$f":"IF(Z234=\"\",0,VAR(Z$10:Z235))","v":0},null,null,"",{"$f":"IF(AE235=\"\",0,AVERAGE(AE$10:AE235))","v":0},{"$f":"IF(AE234=\"\",0,VAR(AE$10:AE235))","v":0},null,null,"",{"$f":"IF(AJ235=\"\",0,AVERAGE(AJ$10:AJ235))","v":0},{"$f":"IF(AJ234=\"\",0,VAR(AJ$10:AJ235))","v":0},null,null,"",{"$f":"IF(AO235=\"\",0,AVERAGE(AO$10:AO235))","v":0},{"$f":"IF(AO234=\"\",0,VAR(AO$10:AO235))","v":0},null,null,"",{"$f":"IF(AT235=\"\",0,AVERAGE(AT$10:AT235))","v":0},{"$f":"IF(AT234=\"\",0,VAR(AT$10:AT235))","v":0},null,null,"",{"$f":"IF(AY235=\"\",0,AVERAGE(AY$10:AY235))","v":0},{"$f":"IF(AY234=\"\",0,VAR(AY$10:AY235))","v":0}]
[null,null,null,null,null,"",{"$f":"IF(F236=\"\",0,AVERAGE($F$10:F236))","v":0},{"$f":"IF(F235=\"\",0,VAR($F$10:F236))","v":0},null,null,"",{"$f":"IF(K236=\"\",0,AVERAGE($K$10:K236))","v":0},{"$f":"IF(K235=\"\",0,VAR($K$10:K236))","v":0},null,null,"",{"$f":"IF(P236=\"\",0,AVERAGE(P$10:P236))","v":0},{"$f":"IF(P235=\"\",0,VAR(P$10:P236))","v":0},null,null,"",{"$f":"IF(U236=\"\",0,AVERAGE(U$10:U236))","v":0},{"$f":"IF(U235=\"\",0,VAR(U$10:U236))","v":0},null,null,"",{"$f":"IF(Z236=\"\",0,AVERAGE(Z$10:Z236))","v":0},{"$f":"IF(Z235=\"\",0,VAR(Z$10:Z236))","v":0},null,null,"",{"$f":"IF(AE236=\"\",0,AVERAGE(AE$10:AE236))","v":0},{"$f":"IF(AE235=\"\",0,VAR(AE$10:AE236))","v":0},null,null,"",{"$f":"IF(AJ236=\"\",0,AVERAGE(AJ$10:AJ236))","v":0},{"$f":"IF(AJ235=\"\",0,VAR(AJ$10:AJ236))","v":0},null,null,"",{"$f":"IF(AO236=\"\",0,AVERAGE(AO$10:AO236))","v":0},{"$f":"IF(AO235=\"\",0,VAR(AO$10:AO236))","v":0},null,null,"",{"$f":"IF(AT236=\"\",0,AVERAGE(AT$10:AT236))","v":0},{"$f":"IF(AT235=\"\",0,VAR(AT$10:AT236))","v":0},null,null,"",{"$f":"IF(AY236=\"\",0,AVERAGE(AY$10:AY236))","v":0},{"$f":"IF(AY235=\"\",0,VAR(AY$10:AY236))","v":0}]
[null,null,null,null,null,null,{"$f":"IF(F237=\"\",0,AVERAGE($F$10:F237))","v":0},{"$f":"IF(F236=\"\",0,VAR($F$10:F237))","v":0},null,null,"",{"$f":"IF(K237=\"\",0,AVERAGE($K$10:K237))","v":0},{"$f":"IF(K236=\"\",0,VAR($K$10:K237))","v":0},null,null,"",{"$f":"IF(P237=\"\",0,AVERAGE(P$10:P237))","v":0},{"$f":"IF(P236=\"\",0,VAR(P$10:P237))","v":0},null,null,"",{"$f":"IF(U237=\"\",0,AVERAGE(U$10:U237))","v":0},{"$f":"IF(U236=\"\",0,VAR(U$10:U237))","v":0},null,null,"",{"$f":"IF(Z237=\"\",0,AVERAGE(Z$10:Z237))","v":0},{"$f":"IF(Z236=\"\",0,VAR(Z$10:Z237))","v":0},null,null,"",{"$f":"IF(AE237=\"\",0,AVERAGE(AE$10:AE237))","v":0},{"$f":"IF(AE236=\"\",0,VAR(AE$10:AE237))","v":0},null,null,"",{"$f":"IF(AJ237=\"\",0,AVERAGE(AJ$10:AJ237))","v":0},{"$f":"IF(AJ236=\"\",0,VAR(AJ$10:AJ237))","v":0},null,null,"",{"$f":"IF(AO237=\"\",0,AVERAGE(AO$10:AO237))","v":0},{"$f":"IF(AO236=\"\",0,VAR(AO$10:AO237))","v":0},null,null,"",{"$f":"IF(AT237=\"\",0,AVERAGE(AT$10:AT237))","v":0},{"$f":"IF(AT236=\"\",0,VAR(AT$10:AT237))","v":0},null,null,"",{"$f":"IF(AY237=\"\",0,AVERAGE(AY$10:AY237))","v":0},{"$f":"IF(AY236=\"\",0,VAR(AY$10:AY237))","v":0}]
[null,null,null,null,null,{"$f":"IF(E238=\"\",\"\",+(E238-E237)/E237)","v":""},{"$f":"IF(F238=\"\",0,AVERAGE($F$10:F238))","v":0},{"$f":"IF(F237=\"\",0,VAR($F$10:F238))","v":0},null,null,"",{"$f":"IF(K238=\"\",0,AVERAGE($K$10:K238))","v":0},{"$f":"IF(K237=\"\",0,VAR($K$10:K238))","v":0},null,null,"",{"$f":"IF(P238=\"\",0,AVERAGE(P$10:P238))","v":0},{"$f":"IF(P237=\"\",0,VAR(P$10:P238))","v":0},null,null,"",{"$f":"IF(U238=\"\",0,AVERAGE(U$10:U238))","v":0},{"$f":"IF(U237=\"\",0,VAR(U$10:U238))","v":0},null,null,"",{"$f":"IF(Z238=\"\",0,AVERAGE(Z$10:Z238))","v":0},{"$f":"IF(Z237=\"\",0,VAR(Z$10:Z238))","v":0},null,null,"",{"$f":"IF(AE238=\"\",0,AVERAGE(AE$10:AE238))","v":0},{"$f":"IF(AE237=\"\",0,VAR(AE$10:AE238))","v":0},null,null,"",{"$f":"IF(AJ238=\"\",0,AVERAGE(AJ$10:AJ238))","v":0},{"$f":"IF(AJ237=\"\",0,VAR(AJ$10:AJ238))","v":0},null,null,"",{"$f":"IF(AO238=\"\",0,AVERAGE(AO$10:AO238))","v":0},{"$f":"IF(AO237=\"\",0,VAR(AO$10:AO238))","v":0},null,null,"",{"$f":"IF(AT238=\"\",0,AVERAGE(AT$10:AT238))","v":0},{"$f":"IF(AT237=\"\",0,VAR(AT$10:AT238))","v":0},null,null,"",{"$f":"IF(AY238=\"\",0,AVERAGE(AY$10:AY238))","v":0},{"$f":"IF(AY237=\"\",0,VAR(AY$10:AY238))","v":0}]
[null,null,null,null,null,"",{"$f":"IF(F239=\"\",0,AVERAGE($F$10:F239))","v":0},{"$f":"IF(F238=\"\",0,VAR($F$10:F239))","v":0},null,null,"",{"$f":"IF(K239=\"\",0,AVERAGE($K$10:K239))","v":0},{"$f":"IF(K238=\"\",0,VAR($K$10:K239))","v":0},null,null,"",{"$f":"IF(P239=\"\",0,AVERAGE(P$10:P239))","v":0},{"$f":"IF(P238=\"\",0,VAR(P$10:P239))","v":0},null,null,"",{"$f":"IF(U239=\"\",0,AVERAGE(U$10:U239))","v":0},{"$f":"IF(U238=\"\",0,VAR(U$10:U239))","v":0},null,null,"",{"$f":"IF(Z239=\"\",0,AVERAGE(Z$10:Z239))","v":0},{"$f":"IF(Z238=\"\",0,VAR(Z$10:Z239))","v":0},null,null,"",{"$f":"IF(AE239=\"\",0,AVERAGE(AE$10:AE239))","v":0},{"$f":"IF(AE238=\"\",0,VAR(AE$10:AE239))","v":0},null,null,"",{"$f":"IF(AJ239=\"\",0,AVERAGE(AJ$10:AJ239))","v":0},{"$f":"IF(AJ238=\"\",0,VAR(AJ$10:AJ239))","v":0},null,null,"",{"$f":"IF(AO239=\"\",0,AVERAGE(AO$10:AO239))","v":0},{"$f":"IF(AO238=\"\",0,VAR(AO$10:AO239))","v":0},null,null,"",{"$f":"IF(AT239=\"\",0,AVERAGE(AT$10:AT239))","v":0},{"$f":"IF(AT238=\"\",0,VAR(AT$10:AT239))","v":0},null,null,"",{"$f":"IF(AY239=\"\",0,AVERAGE(AY$10:AY239))","v":0},{"$f":"IF(AY238=\"\",0,VAR(AY$10:AY239))","v":0}]
[null,null,null,null,null,null,{"$f":"IF(F240=\"\",0,AVERAGE($F$10:F240))","v":0},{"$f":"IF(F239=\"\",0,VAR($F$10:F240))","v":0},null,null,"",{"$f":"IF(K240=\"\",0,AVERAGE($K$10:K240))","v":0},{"$f":"IF(K239=\"\",0,VAR($K$10:K240))","v":0},null,null,"",{"$f":"IF(P240=\"\",0,AVERAGE(P$10:P240))","v":0},{"$f":"IF(P239=\"\",0,VAR(P$10:P240))","v":0},null,null,"",{"$f":"IF(U240=\"\",0,AVERAGE(U$10:U240))","v":0},{"$f":"IF(U239=\"\",0,VAR(U$10:U240))","v":0},null,null,"",{"$f":"IF(Z240=\"\",0,AVERAGE(Z$10:Z240))","v":0},{"$f":"IF(Z239=\"\",0,VAR(Z$10:Z240))","v":0},null,null,"",{"$f":"IF(AE240=\"\",0,AVERAGE(AE$10:AE240))","v":0},{"$f":"IF(AE239=\"\",0,VAR(AE$10:AE240))","v":0},null,null,"",{"$f":"IF(AJ240=\"\",0,AVERAGE(AJ$10:AJ240))","v":0},{"$f":"IF(AJ239=\"\",0,VAR(AJ$10:AJ240))","v":0},null,null,"",{"$f":"IF(AO240=\"\",0,AVERAGE(AO$10:AO240))","v":0},{"$f":"IF(AO239=\"\",0,VAR(AO$10:AO240))","v":0},null,null,"",{"$f":"IF(AT240=\"\",0,AVERAGE(AT$10:AT240))","v":0},{"$f":"IF(AT239=\"\",0,VAR(AT$10:AT240))","v":0},null,null,"",{"$f":"IF(AY240=\"\",0,AVERAGE(AY$10:AY240))","v":0},{"$f":"IF(AY239=\"\",0,VAR(AY$10:AY240))","v":0}]
[null,null,null,null,null,{"$f":"IF(E241=\"\",\"\",+(E241-E240)/E240)","v":""},{"$f":"IF(F241=\"\",0,AVERAGE($F$10:F241))","v":0},{"$f":"IF(F240=\"\",0,VAR($F$10:F241))","v":0},null,null,"",{"$f":"IF(K241=\"\",0,AVERAGE($K$10:K241))","v":0},{"$f":"IF(K240=\"\",0,VAR($K$10:K241))","v":0},null,null,"",{"$f":"IF(P241=\"\",0,AVERAGE(P$10:P241))","v":0},{"$f":"IF(P240=\"\",0,VAR(P$10:P241))","v":0},null,null,"",{"$f":"IF(U241=\"\",0,AVERAGE(U$10:U241))","v":0},{"$f":"IF(U240=\"\",0,VAR(U$10:U241))","v":0},null,null,"",{"$f":"IF(Z241=\"\",0,AVERAGE(Z$10:Z241))","v":0},{"$f":"IF(Z240=\"\",0,VAR(Z$10:Z241))","v":0},null,null,"",{"$f":"IF(AE241=\"\",0,AVERAGE(AE$10:AE241))","v":0},{"$f":"IF(AE240=\"\",0,VAR(AE$10:AE241))","v":0},null,null,"",{"$f":"IF(AJ241=\"\",0,AVERAGE(AJ$10:AJ241))","v":0},{"$f":"IF(AJ240=\"\",0,VAR(AJ$10:AJ241))","v":0},null,null,"",{"$f":"IF(AO241=\"\",0,AVERAGE(AO$10:AO241))","v":0},{"$f":"IF(AO240=\"\",0,VAR(AO$10:AO241))","v":0},null,null,"",{"$f":"IF(AT241=\"\",0,AVERAGE(AT$10:AT241))","v":0},{"$f":"IF(AT240=\"\",0,VAR(AT$10:AT241))","v":0},null,null,"",{"$f":"IF(AY241=\"\",0,AVERAGE(AY$10:AY241))","v":0},{"$f":"IF(AY240=\"\",0,VAR(AY$10:AY241))","v":0}]
[null,null,null,null,null,"",{"$f":"IF(F242=\"\",0,AVERAGE($F$10:F242))","v":0},{"$f":"IF(F241=\"\",0,VAR($F$10:F242))","v":0},null,null,"",{"$f":"IF(K242=\"\",0,AVERAGE($K$10:K242))","v":0},{"$f":"IF(K241=\"\",0,VAR($K$10:K242))","v":0},null,null,"",{"$f":"IF(P242=\"\",0,AVERAGE(P$10:P242))","v":0},{"$f":"IF(P241=\"\",0,VAR(P$10:P242))","v":0},null,null,"",{"$f":"IF(U242=\"\",0,AVERAGE(U$10:U242))","v":0},{"$f":"IF(U241=\"\",0,VAR(U$10:U242))","v":0},null,null,"",{"$f":"IF(Z242=\"\",0,AVERAGE(Z$10:Z242))","v":0},{"$f":"IF(Z241=\"\",0,VAR(Z$10:Z242))","v":0},null,null,"",{"$f":"IF(AE242=\"\",0,AVERAGE(AE$10:AE242))","v":0},{"$f":"IF(AE241=\"\",0,VAR(AE$10:AE242))","v":0},null,null,"",{"$f":"IF(AJ242=\"\",0,AVERAGE(AJ$10:AJ242))","v":0},{"$f":"IF(AJ241=\"\",0,VAR(AJ$10:AJ242))","v":0},null,null,"",{"$f":"IF(AO242=\"\",0,AVERAGE(AO$10:AO242))","v":0},{"$f":"IF(AO241=\"\",0,VAR(AO$10:AO242))","v":0},null,null,"",{"$f":"IF(AT242=\"\",0,AVERAGE(AT$10:AT242))","v":0},{"$f":"IF(AT241=\"\",0,VAR(AT$10:AT242))","v":0},null,null,"",{"$f":"IF(AY242=\"\",0,AVERAGE(AY$10:AY242))","v":0},{"$f":"IF(AY241=\"\",0,VAR(AY$10:AY242))","v":0}]
[null,null,null,null,null,null,{"$f":"IF(F243=\"\",0,AVERAGE($F$10:F243))","v":0},{"$f":"IF(F242=\"\",0,VAR($F$10:F243))","v":0},null,null,"",{"$f":"IF(K243=\"\",0,AVERAGE($K$10:K243))","v":0},{"$f":"IF(K242=\"\",0,VAR($K$10:K243))","v":0},null,null,"",{"$f":"IF(P243=\"\",0,AVERAGE(P$10:P243))","v":0},{"$f":"IF(P242=\"\",0,VAR(P$10:P243))","v":0},null,null,"",{"$f":"IF(U243=\"\",0,AVERAGE(U$10:U243))","v":0},{"$f":"IF(U242=\"\",0,VAR(U$10:U243))","v":0},null,null,"",{"$f":"IF(Z243=\"\",0,AVERAGE(Z$10:Z243))","v":0},{"$f":"IF(Z242=\"\",0,VAR(Z$10:Z243))","v":0},null,null,"",{"$f":"IF(AE243=\"\",0,AVERAGE(AE$10:AE243))","v":0},{"$f":"IF(AE242=\"\",0,VAR(AE$10:AE243))","v":0},null,null,"",{"$f":"IF(AJ243=\"\",0,AVERAGE(AJ$10:AJ243))","v":0},{"$f":"IF(AJ242=\"\",0,VAR(AJ$10:AJ243))","v":0},null,null,"",{"$f":"IF(AO243=\"\",0,AVERAGE(AO$10:AO243))","v":0},{"$f":"IF(AO242=\"\",0,VAR(AO$10:AO243))","v":0},null,null,"",{"$f":"IF(AT243=\"\",0,AVERAGE(AT$10:AT243))","v":0},{"$f":"IF(AT242=\"\",0,VAR(AT$10:AT243))","v":0},null,null,"",{"$f":"IF(AY243=\"\",0,AVERAGE(AY$10:AY243))","v":0},{"$f":"IF(AY242=\"\",0,VAR(AY$10:AY243))","v":0}]
[null,null,null,null,null,{"$f":"IF(E244=\"\",\"\",+(E244-E243)/E243)","v":""},{"$f":"IF(F244=\"\",0,AVERAGE($F$10:F244))","v":0},{"$f":"IF(F243=\"\",0,VAR($F$10:F244))","v":0},null,null,"",{"$f":"IF(K244=\"\",0,AVERAGE($K$10:K244))","v":0},{"$f":"IF(K243=\"\",0,VAR($K$10:K244))","v":0},null,null,"",{"$f":"IF(P244=\"\",0,AVERAGE(P$10:P244))","v":0},{"$f":"IF(P243=\"\",0,VAR(P$10:P244))","v":0},null,null,"",{"$f":"IF(U244=\"\",0,AVERAGE(U$10:U244))","v":0},{"$f":"IF(U243=\"\",0,VAR(U$10:U244))","v":0},null,null,"",{"$f":"IF(Z244=\"\",0,AVERAGE(Z$10:Z244))","v":0},{"$f":"IF(Z243=\"\",0,VAR(Z$10:Z244))","v":0},null,null,"",{"$f":"IF(AE244=\"\",0,AVERAGE(AE$10:AE244))","v":0},{"$f":"IF(AE243=\"\",0,VAR(AE$10:AE244))","v":0},null,null,"",{"$f":"IF(AJ244=\"\",0,AVERAGE(AJ$10:AJ244))","v":0},{"$f":"IF(AJ243=\"\",0,VAR(AJ$10:AJ244))","v":0},null,null,"",{"$f":"IF(AO244=\"\",0,AVERAGE(AO$10:AO244))","v":0},{"$f":"IF(AO243=\"\",0,VAR(AO$10:AO244))","v":0},null,null,"",{"$f":"IF(AT244=\"\",0,AVERAGE(AT$10:AT244))","v":0},{"$f":"IF(AT243=\"\",0,VAR(AT$10:AT244))","v":0},null,null,"",{"$f":"IF(AY244=\"\",0,AVERAGE(AY$10:AY244))","v":0},{"$f":"IF(AY243=\"\",0,VAR(AY$10:AY244))","v":0}]
[null,null,null,null,null,"",{"$f":"IF(F245=\"\",0,AVERAGE($F$10:F245))","v":0},{"$f":"IF(F244=\"\",0,VAR($F$10:F245))","v":0},null,null,"",{"$f":"IF(K245=\"\",0,AVERAGE($K$10:K245))","v":0},{"$f":"IF(K244=\"\",0,VAR($K$10:K245))","v":0},null,null,"",{"$f":"IF(P245=\"\",0,AVERAGE(P$10:P245))","v":0},{"$f":"IF(P244=\"\",0,VAR(P$10:P245))","v":0},null,null,"",{"$f":"IF(U245=\"\",0,AVERAGE(U$10:U245))","v":0},{"$f":"IF(U244=\"\",0,VAR(U$10:U245))","v":0},null,null,"",{"$f":"IF(Z245=\"\",0,AVERAGE(Z$10:Z245))","v":0},{"$f":"IF(Z244=\"\",0,VAR(Z$10:Z245))","v":0},null,null,"",{"$f":"IF(AE245=\"\",0,AVERAGE(AE$10:AE245))","v":0},{"$f":"IF(AE244=\"\",0,VAR(AE$10:AE245))","v":0},null,null,"",{"$f":"IF(AJ245=\"\",0,AVERAGE(AJ$10:AJ245))","v":0},{"$f":"IF(AJ244=\"\",0,VAR(AJ$10:AJ245))","v":0},null,null,"",{"$f":"IF(AO245=\"\",0,AVERAGE(AO$10:AO245))","v":0},{"$f":"IF(AO244=\"\",0,VAR(AO$10:AO245))","v":0},null,null,"",{"$f":"IF(AT245=\"\",0,AVERAGE(AT$10:AT245))","v":0},{"$f":"IF(AT244=\"\",0,VAR(AT$10:AT245))","v":0},null,null,"",{"$f":"IF(AY245=\"\",0,AVERAGE(AY$10:AY245))","v":0},{"$f":"IF(AY244=\"\",0,VAR(AY$10:AY245))","v":0}]
[null,null,null,null,null,null,{"$f":"IF(F246=\"\",0,AVERAGE($F$10:F246))","v":0},{"$f":"IF(F245=\"\",0,VAR($F$10:F246))","v":0},null,null,"",{"$f":"IF(K246=\"\",0,AVERAGE($K$10:K246))","v":0},{"$f":"IF(K245=\"\",0,VAR($K$10:K246))","v":0},null,null,"",{"$f":"IF(P246=\"\",0,AVERAGE(P$10:P246))","v":0},{"$f":"IF(P245=\"\",0,VAR(P$10:P246))","v":0},null,null,"",{"$f":"IF(U246=\"\",0,AVERAGE(U$10:U246))","v":0},{"$f":"IF(U245=\"\",0,VAR(U$10:U246))","v":0},null,null,"",{"$f":"IF(Z246=\"\",0,AVERAGE(Z$10:Z246))","v":0},{"$f":"IF(Z245=\"\",0,VAR(Z$10:Z246))","v":0},null,null,"",{"$f":"IF(AE246=\"\",0,AVERAGE(AE$10:AE246))","v":0},{"$f":"IF(AE245=\"\",0,VAR(AE$10:AE246))","v":0},null,null,"",{"$f":"IF(AJ246=\"\",0,AVERAGE(AJ$10:AJ246))","v":0},{"$f":"IF(AJ245=\"\",0,VAR(AJ$10:AJ246))","v":0},null,null,"",{"$f":"IF(AO246=\"\",0,AVERAGE(AO$10:AO246))","v":0},{"$f":"IF(AO245=\"\",0,VAR(AO$10:AO246))","v":0},null,null,"",{"$f":"IF(AT246=\"\",0,AVERAGE(AT$10:AT246))","v":0},{"$f":"IF(AT245=\"\",0,VAR(AT$10:AT246))","v":0},null,null,"",{"$f":"IF(AY246=\"\",0,AVERAGE(AY$10:AY246))","v":0},{"$f":"IF(AY245=\"\",0,VAR(AY$10:AY246))","v":0}]
[null,null,null,null,null,{"$f":"IF(E247=\"\",\"\",+(E247-E246)/E246)","v":""},{"$f":"IF(F247=\"\",0,AVERAGE($F$10:F247))","v":0},{"$f":"IF(F246=\"\",0,VAR($F$10:F247))","v":0},null,null,"",{"$f":"IF(K247=\"\",0,AVERAGE($K$10:K247))","v":0},{"$f":"IF(K246=\"\",0,VAR($K$10:K247))","v":0},null,null,"",{"$f":"IF(P247=\"\",0,AVERAGE(P$10:P247))","v":0},{"$f":"IF(P246=\"\",0,VAR(P$10:P247))","v":0},null,null,"",{"$f":"IF(U247=\"\",0,AVERAGE(U$10:U247))","v":0},{"$f":"IF(U246=\"\",0,VAR(U$10:U247))","v":0},null,null,"",{"$f":"IF(Z247=\"\",0,AVERAGE(Z$10:Z247))","v":0},{"$f":"IF(Z246=\"\",0,VAR(Z$10:Z247))","v":0},null,null,"",{"$f":"IF(AE247=\"\",0,AVERAGE(AE$10:AE247))","v":0},{"$f":"IF(AE246=\"\",0,VAR(AE$10:AE247))","v":0},null,null,"",{"$f":"IF(AJ247=\"\",0,AVERAGE(AJ$10:AJ247))","v":0},{"$f":"IF(AJ246=\"\",0,VAR(AJ$10:AJ247))","v":0},null,null,"",{"$f":"IF(AO247=\"\",0,AVERAGE(AO$10:AO247))","v":0},{"$f":"IF(AO246=\"\",0,VAR(AO$10:AO247))","v":0},null,null,"",{"$f":"IF(AT247=\"\",0,AVERAGE(AT$10:AT247))","v":0},{"$f":"IF(AT246=\"\",0,VAR(AT$10:AT247))","v":0},null,null,"",{"$f":"IF(AY247=\"\",0,AVERAGE(AY$10:AY247))","v":0},{"$f":"IF(AY246=\"\",0,VAR(AY$10:AY247))","v":0}]
[null,null,null,null,null,"",{"$f":"IF(F248=\"\",0,AVERAGE($F$10:F248))","v":0},{"$f":"IF(F247=\"\",0,VAR($F$10:F248))","v":0},null,null,"",{"$f":"IF(K248=\"\",0,AVERAGE($K$10:K248))","v":0},{"$f":"IF(K247=\"\",0,VAR($K$10:K248))","v":0},null,null,"",{"$f":"IF(P248=\"\",0,AVERAGE(P$10:P248))","v":0},{"$f":"IF(P247=\"\",0,VAR(P$10:P248))","v":0},null,null,"",{"$f":"IF(U248=\"\",0,AVERAGE(U$10:U248))","v":0},{"$f":"IF(U247=\"\",0,VAR(U$10:U248))","v":0},null,null,"",{"$f":"IF(Z248=\"\",0,AVERAGE(Z$10:Z248))","v":0},{"$f":"IF(Z247=\"\",0,VAR(Z$10:Z248))","v":0},null,null,"",{"$f":"IF(AE248=\"\",0,AVERAGE(AE$10:AE248))","v":0},{"$f":"IF(AE247=\"\",0,VAR(AE$10:AE248))","v":0},null,null,"",{"$f":"IF(AJ248=\"\",0,AVERAGE(AJ$10:AJ248))","v":0},{"$f":"IF(AJ247=\"\",0,VAR(AJ$10:AJ248))","v":0},null,null,"",{"$f":"IF(AO248=\"\",0,AVERAGE(AO$10:AO248))","v":0},{"$f":"IF(AO247=\"\",0,VAR(AO$10:AO248))","v":0},null,null,"",{"$f":"IF(AT248=\"\",0,AVERAGE(AT$10:AT248))","v":0},{"$f":"IF(AT247=\"\",0,VAR(AT$10:AT248))","v":0},null,null,"",{"$f":"IF(AY248=\"\",0,AVERAGE(AY$10:AY248))","v":0},{"$f":"IF(AY247=\"\",0,VAR(AY$10:AY248))","v":0}]
[null,null,null,null,null,null,{"$f":"IF(F249=\"\",0,AVERAGE($F$10:F249))","v":0},{"$f":"IF(F248=\"\",0,VAR($F$10:F249))","v":0},null,null,"",{"$f":"IF(K249=\"\",0,AVERAGE($K$10:K249))","v":0},{"$f":"IF(K248=\"\",0,VAR($K$10:K249))","v":0},null,null,"",{"$f":"IF(P249=\"\",0,AVERAGE(P$10:P249))","v":0},{"$f":"IF(P248=\"\",0,VAR(P$10:P249))","v":0},null,null,"",{"$f":"IF(U249=\"\",0,AVERAGE(U$10:U249))","v":0},{"$f":"IF(U248=\"\",0,VAR(U$10:U249))","v":0},null,null,"",{"$f":"IF(Z249=\"\",0,AVERAGE(Z$10:Z249))","v":0},{"$f":"IF(Z248=\"\",0,VAR(Z$10:Z249))","v":0},null,null,"",{"$f":"IF(AE249=\"\",0,AVERAGE(AE$10:AE249))","v":0},{"$f":"IF(AE248=\"\",0,VAR(AE$10:AE249))","v":0},null,null,"",{"$f":"IF(AJ249=\"\",0,AVERAGE(AJ$10:AJ249))","v":0},{"$f":"IF(AJ248=\"\",0,VAR(AJ$10:AJ249))","v":0},null,null,"",{"$f":"IF(AO249=\"\",0,AVERAGE(AO$10:AO249))","v":0},{"$f":"IF(AO248=\"\",0,VAR(AO$10:AO249))","v":0},null,null,"",{"$f":"IF(AT249=\"\",0,AVERAGE(AT$10:AT249))","v":0},{"$f":"IF(AT248=\"\",0,VAR(AT$10:AT249))","v":0},null,null,"",{"$f":"IF(AY249=\"\",0,AVERAGE(AY$10:AY249))","v":0},{"$f":"IF(AY248=\"\",0,VAR(AY$10:AY249))","v":0}]
[null,null,null,null,null,{"$f":"IF(E250=\"\",\"\",+(E250-E249)/E249)","v":""},{"$f":"IF(F250=\"\",0,AVERAGE($F$10:F250))","v":0},{"$f":"IF(F249=\"\",0,VAR($F$10:F250))","v":0},null,null,"",{"$f":"IF(K250=\"\",0,AVERAGE($K$10:K250))","v":0},{"$f":"IF(K249=\"\",0,VAR($K$10:K250))","v":0},null,null,"",{"$f":"IF(P250=\"\",0,AVERAGE(P$10:P250))","v":0},{"$f":"IF(P249=\"\",0,VAR(P$10:P250))","v":0},null,null,"",{"$f":"IF(U250=\"\",0,AVERAGE(U$10:U250))","v":0},{"$f":"IF(U249=\"\",0,VAR(U$10:U250))","v":0},null,null,"",{"$f":"IF(Z250=\"\",0,AVERAGE(Z$10:Z250))","v":0},{"$f":"IF(Z249=\"\",0,VAR(Z$10:Z250))","v":0},null,null,"",{"$f":"IF(AE250=\"\",0,AVERAGE(AE$10:AE250))","v":0},{"$f":"IF(AE249=\"\",0,VAR(AE$10:AE250))","v":0},null,null,"",{"$f":"IF(AJ250=\"\",0,AVERAGE(AJ$10:AJ250))","v":0},{"$f":"IF(AJ249=\"\",0,VAR(AJ$10:AJ250))","v":0},null,null,"",{"$f":"IF(AO250=\"\",0,AVERAGE(AO$10:AO250))","v":0},{"$f":"IF(AO249=\"\",0,VAR(AO$10:AO250))","v":0},null,null,"",{"$f":"IF(AT250=\"\",0,AVERAGE(AT$10:AT250))","v":0},{"$f":"IF(AT249=\"\",0,VAR(AT$10:AT250))","v":0},null,null,"",{"$f":"IF(AY250=\"\",0,AVERAGE(AY$10:AY250))","v":0},{"$f":"IF(AY249=\"\",0,VAR(AY$10:AY250))","v":0}]
[null,null,null,null,null,"",{"$f":"IF(F251=\"\",0,AVERAGE($F$10:F251))","v":0},{"$f":"IF(F250=\"\",0,VAR($F$10:F251))","v":0},null,null,"",{"$f":"IF(K251=\"\",0,AVERAGE($K$10:K251))","v":0},{"$f":"IF(K250=\"\",0,VAR($K$10:K251))","v":0},null,null,"",{"$f":"IF(P251=\"\",0,AVERAGE(P$10:P251))","v":0},{"$f":"IF(P250=\"\",0,VAR(P$10:P251))","v":0},null,null,"",{"$f":"IF(U251=\"\",0,AVERAGE(U$10:U251))","v":0},{"$f":"IF(U250=\"\",0,VAR(U$10:U251))","v":0},null,null,"",{"$f":"IF(Z251=\"\",0,AVERAGE(Z$10:Z251))","v":0},{"$f":"IF(Z250=\"\",0,VAR(Z$10:Z251))","v":0},null,null,"",{"$f":"IF(AE251=\"\",0,AVERAGE(AE$10:AE251))","v":0},{"$f":"IF(AE250=\"\",0,VAR(AE$10:AE251))","v":0},null,null,"",{"$f":"IF(AJ251=\"\",0,AVERAGE(AJ$10:AJ251))","v":0},{"$f":"IF(AJ250=\"\",0,VAR(AJ$10:AJ251))","v":0},null,null,"",{"$f":"IF(AO251=\"\",0,AVERAGE(AO$10:AO251))","v":0},{"$f":"IF(AO250=\"\",0,VAR(AO$10:AO251))","v":0},null,null,"",{"$f":"IF(AT251=\"\",0,AVERAGE(AT$10:AT251))","v":0},{"$f":"IF(AT250=\"\",0,VAR(AT$10:AT251))","v":0},null,null,"",{"$f":"IF(AY251=\"\",0,AVERAGE(AY$10:AY251))","v":0},{"$f":"IF(AY250=\"\",0,VAR(AY$10:AY251))","v":0}]
[null,null,null,null,null,null,{"$f":"IF(F252=\"\",0,AVERAGE($F$10:F252))","v":0},{"$f":"IF(F251=\"\",0,VAR($F$10:F252))","v":0},null,null,"",{"$f":"IF(K252=\"\",0,AVERAGE($K$10:K252))","v":0},{"$f":"IF(K251=\"\",0,VAR($K$10:K252))","v":0},null,null,"",{"$f":"IF(P252=\"\",0,AVERAGE(P$10:P252))","v":0},{"$f":"IF(P251=\"\",0,VAR(P$10:P252))","v":0},null,null,"",{"$f":"IF(U252=\"\",0,AVERAGE(U$10:U252))","v":0},{"$f":"IF(U251=\"\",0,VAR(U$10:U252))","v":0},null,null,"",{"$f":"IF(Z252=\"\",0,AVERAGE(Z$10:Z252))","v":0},{"$f":"IF(Z251=\"\",0,VAR(Z$10:Z252))","v":0},null,null,"",{"$f":"IF(AE252=\"\",0,AVERAGE(AE$10:AE252))","v":0},{"$f":"IF(AE251=\"\",0,VAR(AE$10:AE252))","v":0},null,null,"",{"$f":"IF(AJ252=\"\",0,AVERAGE(AJ$10:AJ252))","v":0},{"$f":"IF(AJ251=\"\",0,VAR(AJ$10:AJ252))","v":0},null,null,"",{"$f":"IF(AO252=\"\",0,AVERAGE(AO$10:AO252))","v":0},{"$f":"IF(AO251=\"\",0,VAR(AO$10:AO252))","v":0},null,null,"",{"$f":"IF(AT252=\"\",0,AVERAGE(AT$10:AT252))","v":0},{"$f":"IF(AT251=\"\",0,VAR(AT$10:AT252))","v":0},null,null,"",{"$f":"IF(AY252=\"\",0,AVERAGE(AY$10:AY252))","v":0},{"$f":"IF(AY251=\"\",0,VAR(AY$10:AY252))","v":0}]
[null,null,null,null,null,{"$f":"IF(E253=\"\",\"\",+(E253-E252)/E252)","v":""},{"$f":"IF(F253=\"\",0,AVERAGE($F$10:F253))","v":0},{"$f":"IF(F252=\"\",0,VAR($F$10:F253))","v":0},null,null,"",{"$f":"IF(K253=\"\",0,AVERAGE($K$10:K253))","v":0},{"$f":"IF(K252=\"\",0,VAR($K$10:K253))","v":0},null,null,"",{"$f":"IF(P253=\"\",0,AVERAGE(P$10:P253))","v":0},{"$f":"IF(P252=\"\",0,VAR(P$10:P253))","v":0},null,null,"",{"$f":"IF(U253=\"\",0,AVERAGE(U$10:U253))","v":0},{"$f":"IF(U252=\"\",0,VAR(U$10:U253))","v":0},null,null,"",{"$f":"IF(Z253=\"\",0,AVERAGE(Z$10:Z253))","v":0},{"$f":"IF(Z252=\"\",0,VAR(Z$10:Z253))","v":0},null,null,"",{"$f":"IF(AE253=\"\",0,AVERAGE(AE$10:AE253))","v":0},{"$f":"IF(AE252=\"\",0,VAR(AE$10:AE253))","v":0},null,null,"",{"$f":"IF(AJ253=\"\",0,AVERAGE(AJ$10:AJ253))","v":0},{"$f":"IF(AJ252=\"\",0,VAR(AJ$10:AJ253))","v":0},null,null,"",{"$f":"IF(AO253=\"\",0,AVERAGE(AO$10:AO253))","v":0},{"$f":"IF(AO252=\"\",0,VAR(AO$10:AO253))","v":0},null,null,"",{"$f":"IF(AT253=\"\",0,AVERAGE(AT$10:AT253))","v":0},{"$f":"IF(AT252=\"\",0,VAR(AT$10:AT253))","v":0},null,null,"",{"$f":"IF(AY253=\"\",0,AVERAGE(AY$10:AY253))","v":0},{"$f":"IF(AY252=\"\",0,VAR(AY$10:AY253))","v":0}]
[null,null,null,null,null,"",{"$f":"IF(F254=\"\",0,AVERAGE($F$10:F254))","v":0},{"$f":"IF(F253=\"\",0,VAR($F$10:F254))","v":0},null,null,"",{"$f":"IF(K254=\"\",0,AVERAGE($K$10:K254))","v":0},{"$f":"IF(K253=\"\",0,VAR($K$10:K254))","v":0},null,null,"",{"$f":"IF(P254=\"\",0,AVERAGE(P$10:P254))","v":0},{"$f":"IF(P253=\"\",0,VAR(P$10:P254))","v":0},null,null,"",{"$f":"IF(U254=\"\",0,AVERAGE(U$10:U254))","v":0},{"$f":"IF(U253=\"\",0,VAR(U$10:U254))","v":0},null,null,"",{"$f":"IF(Z254=\"\",0,AVERAGE(Z$10:Z254))","v":0},{"$f":"IF(Z253=\"\",0,VAR(Z$10:Z254))","v":0},null,null,"",{"$f":"IF(AE254=\"\",0,AVERAGE(AE$10:AE254))","v":0},{"$f":"IF(AE253=\"\",0,VAR(AE$10:AE254))","v":0},null,null,"",{"$f":"IF(AJ254=\"\",0,AVERAGE(AJ$10:AJ254))","v":0},{"$f":"IF(AJ253=\"\",0,VAR(AJ$10:AJ254))","v":0},null,null,"",{"$f":"IF(AO254=\"\",0,AVERAGE(AO$10:AO254))","v":0},{"$f":"IF(AO253=\"\",0,VAR(AO$10:AO254))","v":0},null,null,"",{"$f":"IF(AT254=\"\",0,AVERAGE(AT$10:AT254))","v":0},{"$f":"IF(AT253=\"\",0,VAR(AT$10:AT254))","v":0},null,null,"",{"$f":"IF(AY254=\"\",0,AVERAGE(AY$10:AY254))","v":0},{"$f":"IF(AY253=\"\",0,VAR(AY$10:AY254))","v":0}]
[null,null,null,null,null,null,{"$f":"IF(F255=\"\",0,AVERAGE($F$10:F255))","v":0},{"$f":"IF(F254=\"\",0,VAR($F$10:F255))","v":0},null,null,"",{"$f":"IF(K255=\"\",0,AVERAGE($K$10:K255))","v":0},{"$f":"IF(K254=\"\",0,VAR($K$10:K255))","v":0},null,null,"",{"$f":"IF(P255=\"\",0,AVERAGE(P$10:P255))","v":0},{"$f":"IF(P254=\"\",0,VAR(P$10:P255))","v":0},null,null,"",{"$f":"IF(U255=\"\",0,AVERAGE(U$10:U255))","v":0},{"$f":"IF(U254=\"\",0,VAR(U$10:U255))","v":0},null,null,"",{"$f":"IF(Z255=\"\",0,AVERAGE(Z$10:Z255))","v":0},{"$f":"IF(Z254=\"\",0,VAR(Z$10:Z255))","v":0},null,null,"",{"$f":"IF(AE255=\"\",0,AVERAGE(AE$10:AE255))","v":0},{"$f":"IF(AE254=\"\",0,VAR(AE$10:AE255))","v":0},null,null,"",{"$f":"IF(AJ255=\"\",0,AVERAGE(AJ$10:AJ255))","v":0},{"$f":"IF(AJ254=\"\",0,VAR(AJ$10:AJ255))","v":0},null,null,"",{"$f":"IF(AO255=\"\",0,AVERAGE(AO$10:AO255))","v":0},{"$f":"IF(AO254=\"\",0,VAR(AO$10:AO255))","v":0},null,null,"",{"$f":"IF(AT255=\"\",0,AVERAGE(AT$10:AT255))","v":0},{"$f":"IF(AT254=\"\",0,VAR(AT$10:AT255))","v":0},null,null,"",{"$f":"IF(AY255=\"\",0,AVERAGE(AY$10:AY255))","v":0},{"$f":"IF(AY254=\"\",0,VAR(AY$10:AY255))","v":0}]
[null,null,null,null,null,{"$f":"IF(E256=\"\",\"\",+(E256-E255)/E255)","v":""},{"$f":"IF(F256=\"\",0,AVERAGE($F$10:F256))","v":0},{"$f":"IF(F255=\"\",0,VAR($F$10:F256))","v":0},null,null,"",{"$f":"IF(K256=\"\",0,AVERAGE($K$10:K256))","v":0},{"$f":"IF(K255=\"\",0,VAR($K$10:K256))","v":0},null,null,"",{"$f":"IF(P256=\"\",0,AVERAGE(P$10:P256))","v":0},{"$f":"IF(P255=\"\",0,VAR(P$10:P256))","v":0},null,null,"",{"$f":"IF(U256=\"\",0,AVERAGE(U$10:U256))","v":0},{"$f":"IF(U255=\"\",0,VAR(U$10:U256))","v":0},null,null,"",{"$f":"IF(Z256=\"\",0,AVERAGE(Z$10:Z256))","v":0},{"$f":"IF(Z255=\"\",0,VAR(Z$10:Z256))","v":0},null,null,"",{"$f":"IF(AE256=\"\",0,AVERAGE(AE$10:AE256))","v":0},{"$f":"IF(AE255=\"\",0,VAR(AE$10:AE256))","v":0},null,null,"",{"$f":"IF(AJ256=\"\",0,AVERAGE(AJ$10:AJ256))","v":0},{"$f":"IF(AJ255=\"\",0,VAR(AJ$10:AJ256))","v":0},null,null,"",{"$f":"IF(AO256=\"\",0,AVERAGE(AO$10:AO256))","v":0},{"$f":"IF(AO255=\"\",0,VAR(AO$10:AO256))","v":0},null,null,"",{"$f":"IF(AT256=\"\",0,AVERAGE(AT$10:AT256))","v":0},{"$f":"IF(AT255=\"\",0,VAR(AT$10:AT256))","v":0},null,null,"",{"$f":"IF(AY256=\"\",0,AVERAGE(AY$10:AY256))","v":0},{"$f":"IF(AY255=\"\",0,VAR(AY$10:AY256))","v":0}]
[null,null,null,null,null,"",{"$f":"IF(F257=\"\",0,AVERAGE($F$10:F257))","v":0},{"$f":"IF(F256=\"\",0,VAR($F$10:F257))","v":0},null,null,"",{"$f":"IF(K257=\"\",0,AVERAGE($K$10:K257))","v":0},{"$f":"IF(K256=\"\",0,VAR($K$10:K257))","v":0},null,null,"",{"$f":"IF(P257=\"\",0,AVERAGE(P$10:P257))","v":0},{"$f":"IF(P256=\"\",0,VAR(P$10:P257))","v":0},null,null,"",{"$f":"IF(U257=\"\",0,AVERAGE(U$10:U257))","v":0},{"$f":"IF(U256=\"\",0,VAR(U$10:U257))","v":0},null,null,"",{"$f":"IF(Z257=\"\",0,AVERAGE(Z$10:Z257))","v":0},{"$f":"IF(Z256=\"\",0,VAR(Z$10:Z257))","v":0},null,null,"",{"$f":"IF(AE257=\"\",0,AVERAGE(AE$10:AE257))","v":0},{"$f":"IF(AE256=\"\",0,VAR(AE$10:AE257))","v":0},null,null,"",{"$f":"IF(AJ257=\"\",0,AVERAGE(AJ$10:AJ257))","v":0},{"$f":"IF(AJ256=\"\",0,VAR(AJ$10:AJ257))","v":0},null,null,"",{"$f":"IF(AO257=\"\",0,AVERAGE(AO$10:AO257))","v":0},{"$f":"IF(AO256=\"\",0,VAR(AO$10:AO257))","v":0},null,null,"",{"$f":"IF(AT257=\"\",0,AVERAGE(AT$10:AT257))","v":0},{"$f":"IF(AT256=\"\",0,VAR(AT$10:AT257))","v":0},null,null,"",{"$f":"IF(AY257=\"\",0,AVERAGE(AY$10:AY257))","v":0},{"$f":"IF(AY256=\"\",0,VAR(AY$10:AY257))","v":0}]
[null,null,null,null,null,null,{"$f":"IF(F258=\"\",0,AVERAGE($F$10:F258))","v":0},{"$f":"IF(F257=\"\",0,VAR($F$10:F258))","v":0},null,null,"",{"$f":"IF(K258=\"\",0,AVERAGE($K$10:K258))","v":0},{"$f":"IF(K257=\"\",0,VAR($K$10:K258))","v":0},null,null,"",{"$f":"IF(P258=\"\",0,AVERAGE(P$10:P258))","v":0},{"$f":"IF(P257=\"\",0,VAR(P$10:P258))","v":0},null,null,"",{"$f":"IF(U258=\"\",0,AVERAGE(U$10:U258))","v":0},{"$f":"IF(U257=\"\",0,VAR(U$10:U258))","v":0},null,null,"",{"$f":"IF(Z258=\"\",0,AVERAGE(Z$10:Z258))","v":0},{"$f":"IF(Z257=\"\",0,VAR(Z$10:Z258))","v":0},null,null,"",{"$f":"IF(AE258=\"\",0,AVERAGE(AE$10:AE258))","v":0},{"$f":"IF(AE257=\"\",0,VAR(AE$10:AE258))","v":0},null,null,"",{"$f":"IF(AJ258=\"\",0,AVERAGE(AJ$10:AJ258))","v":0},{"$f":"IF(AJ257=\"\",0,VAR(AJ$10:AJ258))","v":0},null,null,"",{"$f":"IF(AO258=\"\",0,AVERAGE(AO$10:AO258))","v":0},{"$f":"IF(AO257=\"\",0,VAR(AO$10:AO258))","v":0},null,null,"",{"$f":"IF(AT258=\"\",0,AVERAGE(AT$10:AT258))","v":0},{"$f":"IF(AT257=\"\",0,VAR(AT$10:AT258))","v":0},null,null,"",{"$f":"IF(AY258=\"\",0,AVERAGE(AY$10:AY258))","v":0},{"$f":"IF(AY257=\"\",0,VAR(AY$10:AY258))","v":0}]
[null,null,null,null,null,{"$f":"IF(E259=\"\",\"\",+(E259-E258)/E258)","v":""},{"$f":"IF(F259=\"\",0,AVERAGE($F$10:F259))","v":0},{"$f":"IF(F258=\"\",0,VAR($F$10:F259))","v":0},null,null,"",{"$f":"IF(K259=\"\",0,AVERAGE($K$10:K259))","v":0},{"$f":"IF(K258=\"\",0,VAR($K$10:K259))","v":0},null,null,"",{"$f":"IF(P259=\"\",0,AVERAGE(P$10:P259))","v":0},{"$f":"IF(P258=\"\",0,VAR(P$10:P259))","v":0},null,null,"",{"$f":"IF(U259=\"\",0,AVERAGE(U$10:U259))","v":0},{"$f":"IF(U258=\"\",0,VAR(U$10:U259))","v":0},null,null,"",{"$f":"IF(Z259=\"\",0,AVERAGE(Z$10:Z259))","v":0},{"$f":"IF(Z258=\"\",0,VAR(Z$10:Z259))","v":0},null,null,"",{"$f":"IF(AE259=\"\",0,AVERAGE(AE$10:AE259))","v":0},{"$f":"IF(AE258=\"\",0,VAR(AE$10:AE259))","v":0},null,null,"",{"$f":"IF(AJ259=\"\",0,AVERAGE(AJ$10:AJ259))","v":0},{"$f":"IF(AJ258=\"\",0,VAR(AJ$10:AJ259))","v":0},null,null,"",{"$f":"IF(AO259=\"\",0,AVERAGE(AO$10:AO259))","v":0},{"$f":"IF(AO258=\"\",0,VAR(AO$10:AO259))","v":0},null,null,"",{"$f":"IF(AT259=\"\",0,AVERAGE(AT$10:AT259))","v":0},{"$f":"IF(AT258=\"\",0,VAR(AT$10:AT259))","v":0},null,null,"",{"$f":"IF(AY259=\"\",0,AVERAGE(AY$10:AY259))","v":0},{"$f":"IF(AY258=\"\",0,VAR(AY$10:AY259))","v":0}]
[null,null,null,null,null,"",{"$f":"IF(F260=\"\",0,AVERAGE($F$10:F260))","v":0},{"$f":"IF(F259=\"\",0,VAR($F$10:F260))","v":0},null,null,"",{"$f":"IF(K260=\"\",0,AVERAGE($K$10:K260))","v":0},{"$f":"IF(K259=\"\",0,VAR($K$10:K260))","v":0},null,null,"",{"$f":"IF(P260=\"\",0,AVERAGE(P$10:P260))","v":0},{"$f":"IF(P259=\"\",0,VAR(P$10:P260))","v":0},null,null,"",{"$f":"IF(U260=\"\",0,AVERAGE(U$10:U260))","v":0},{"$f":"IF(U259=\"\",0,VAR(U$10:U260))","v":0},null,null,"",{"$f":"IF(Z260=\"\",0,AVERAGE(Z$10:Z260))","v":0},{"$f":"IF(Z259=\"\",0,VAR(Z$10:Z260))","v":0},null,null,"",{"$f":"IF(AE260=\"\",0,AVERAGE(AE$10:AE260))","v":0},{"$f":"IF(AE259=\"\",0,VAR(AE$10:AE260))","v":0},null,null,"",{"$f":"IF(AJ260=\"\",0,AVERAGE(AJ$10:AJ260))","v":0},{"$f":"IF(AJ259=\"\",0,VAR(AJ$10:AJ260))","v":0},null,null,"",{"$f":"IF(AO260=\"\",0,AVERAGE(AO$10:AO260))","v":0},{"$f":"IF(AO259=\"\",0,VAR(AO$10:AO260))","v":0},null,null,"",{"$f":"IF(AT260=\"\",0,AVERAGE(AT$10:AT260))","v":0},{"$f":"IF(AT259=\"\",0,VAR(AT$10:AT260))","v":0},null,null,"",{"$f":"IF(AY260=\"\",0,AVERAGE(AY$10:AY260))","v":0},{"$f":"IF(AY259=\"\",0,VAR(AY$10:AY260))","v":0}]
[null,null,null,null,null,null,{"$f":"IF(F261=\"\",0,AVERAGE($F$10:F261))","v":0},{"$f":"IF(F260=\"\",0,VAR($F$10:F261))","v":0},null,null,"",{"$f":"IF(K261=\"\",0,AVERAGE($K$10:K261))","v":0},{"$f":"IF(K260=\"\",0,VAR($K$10:K261))","v":0},null,null,"",{"$f":"IF(P261=\"\",0,AVERAGE(P$10:P261))","v":0},{"$f":"IF(P260=\"\",0,VAR(P$10:P261))","v":0},null,null,"",{"$f":"IF(U261=\"\",0,AVERAGE(U$10:U261))","v":0},{"$f":"IF(U260=\"\",0,VAR(U$10:U261))","v":0},null,null,"",{"$f":"IF(Z261=\"\",0,AVERAGE(Z$10:Z261))","v":0},{"$f":"IF(Z260=\"\",0,VAR(Z$10:Z261))","v":0},null,null,"",{"$f":"IF(AE261=\"\",0,AVERAGE(AE$10:AE261))","v":0},{"$f":"IF(AE260=\"\",0,VAR(AE$10:AE261))","v":0},null,null,"",{"$f":"IF(AJ261=\"\",0,AVERAGE(AJ$10:AJ261))","v":0},{"$f":"IF(AJ260=\"\",0,VAR(AJ$10:AJ261))","v":0},null,null,"",{"$f":"IF(AO261=\"\",0,AVERAGE(AO$10:AO261))","v":0},{"$f":"IF(AO260=\"\",0,VAR(AO$10:AO261))","v":0},null,null,"",{"$f":"IF(AT261=\"\",0,AVERAGE(AT$10:AT261))","v":0},{"$f":"IF(AT260=\"\",0,VAR(AT$10:AT261))","v":0},null,null,"",{"$f":"IF(AY261=\"\",0,AVERAGE(AY$10:AY261))","v":0},{"$f":"IF(AY260=\"\",0,VAR(AY$10:AY261))","v":0}]
[null,null,null,null,null,{"$f":"IF(E262=\"\",\"\",+(E262-E261)/E261)","v":""},{"$f":"IF(F262=\"\",0,AVERAGE($F$10:F262))","v":0},{"$f":"IF(F261=\"\",0,VAR($F$10:F262))","v":0},null,null,"",{"$f":"IF(K262=\"\",0,AVERAGE($K$10:K262))","v":0},{"$f":"IF(K261=\"\",0,VAR($K$10:K262))","v":0},null,null,"",{"$f":"IF(P262=\"\",0,AVERAGE(P$10:P262))","v":0},{"$f":"IF(P261=\"\",0,VAR(P$10:P262))","v":0},null,null,"",{"$f":"IF(U262=\"\",0,AVERAGE(U$10:U262))","v":0},{"$f":"IF(U261=\"\",0,VAR(U$10:U262))","v":0},null,null,"",{"$f":"IF(Z262=\"\",0,AVERAGE(Z$10:Z262))","v":0},{"$f":"IF(Z261=\"\",0,VAR(Z$10:Z262))","v":0},null,null,"",{"$f":"IF(AE262=\"\",0,AVERAGE(AE$10:AE262))","v":0},{"$f":"IF(AE261=\"\",0,VAR(AE$10:AE262))","v":0},null,null,"",{"$f":"IF(AJ262=\"\",0,AVERAGE(AJ$10:AJ262))","v":0},{"$f":"IF(AJ261=\"\",0,VAR(AJ$10:AJ262))","v":0},null,null,"",{"$f":"IF(AO262=\"\",0,AVERAGE(AO$10:AO262))","v":0},{"$f":"IF(AO261=\"\",0,VAR(AO$10:AO262))","v":0},null,null,"",{"$f":"IF(AT262=\"\",0,AVERAGE(AT$10:AT262))","v":0},{"$f":"IF(AT261=\"\",0,VAR(AT$10:AT262))","v":0},null,null,"",{"$f":"IF(AY262=\"\",0,AVERAGE(AY$10:AY262))","v":0},{"$f":"IF(AY261=\"\",0,VAR(AY$10:AY262))","v":0}]
[null,null,null,null,null,"",{"$f":"IF(F263=\"\",0,AVERAGE($F$10:F263))","v":0},{"$f":"IF(F262=\"\",0,VAR($F$10:F263))","v":0},null,null,"",{"$f":"IF(K263=\"\",0,AVERAGE($K$10:K263))","v":0},{"$f":"IF(K262=\"\",0,VAR($K$10:K263))","v":0},null,null,"",{"$f":"IF(P263=\"\",0,AVERAGE(P$10:P263))","v":0},{"$f":"IF(P262=\"\",0,VAR(P$10:P263))","v":0},null,null,"",{"$f":"IF(U263=\"\",0,AVERAGE(U$10:U263))","v":0},{"$f":"IF(U262=\"\",0,VAR(U$10:U263))","v":0},null,null,"",{"$f":"IF(Z263=\"\",0,AVERAGE(Z$10:Z263))","v":0},{"$f":"IF(Z262=\"\",0,VAR(Z$10:Z263))","v":0},null,null,"",{"$f":"IF(AE263=\"\",0,AVERAGE(AE$10:AE263))","v":0},{"$f":"IF(AE262=\"\",0,VAR(AE$10:AE263))","v":0},null,null,"",{"$f":"IF(AJ263=\"\",0,AVERAGE(AJ$10:AJ263))","v":0},{"$f":"IF(AJ262=\"\",0,VAR(AJ$10:AJ263))","v":0},null,null,"",{"$f":"IF(AO263=\"\",0,AVERAGE(AO$10:AO263))","v":0},{"$f":"IF(AO262=\"\",0,VAR(AO$10:AO263))","v":0},null,null,"",{"$f":"IF(AT263=\"\",0,AVERAGE(AT$10:AT263))","v":0},{"$f":"IF(AT262=\"\",0,VAR(AT$10:AT263))","v":0},null,null,"",{"$f":"IF(AY263=\"\",0,AVERAGE(AY$10:AY263))","v":0},{"$f":"IF(AY262=\"\",0,VAR(AY$10:AY263))","v":0}]
[null,null,null,null,null,null,{"$f":"IF(F264=\"\",0,AVERAGE($F$10:F264))","v":0},{"$f":"IF(F263=\"\",0,VAR($F$10:F264))","v":0},null,null,"",{"$f":"IF(K264=\"\",0,AVERAGE($K$10:K264))","v":0},{"$f":"IF(K263=\"\",0,VAR($K$10:K264))","v":0},null,null,"",{"$f":"IF(P264=\"\",0,AVERAGE(P$10:P264))","v":0},{"$f":"IF(P263=\"\",0,VAR(P$10:P264))","v":0},null,null,"",{"$f":"IF(U264=\"\",0,AVERAGE(U$10:U264))","v":0},{"$f":"IF(U263=\"\",0,VAR(U$10:U264))","v":0},null,null,"",{"$f":"IF(Z264=\"\",0,AVERAGE(Z$10:Z264))","v":0},{"$f":"IF(Z263=\"\",0,VAR(Z$10:Z264))","v":0},null,null,"",{"$f":"IF(AE264=\"\",0,AVERAGE(AE$10:AE264))","v":0},{"$f":"IF(AE263=\"\",0,VAR(AE$10:AE264))","v":0},null,null,"",{"$f":"IF(AJ264=\"\",0,AVERAGE(AJ$10:AJ264))","v":0},{"$f":"IF(AJ263=\"\",0,VAR(AJ$10:AJ264))","v":0},null,null,"",{"$f":"IF(AO264=\"\",0,AVERAGE(AO$10:AO264))","v":0},{"$f":"IF(AO263=\"\",0,VAR(AO$10:AO264))","v":0},null,null,"",{"$f":"IF(AT264=\"\",0,AVERAGE(AT$10:AT264))","v":0},{"$f":"IF(AT263=\"\",0,VAR(AT$10:AT264))","v":0},null,null,"",{"$f":"IF(AY264=\"\",0,AVERAGE(AY$10:AY264))","v":0},{"$f":"IF(AY263=\"\",0,VAR(AY$10:AY264))","v":0}]
[null,null,null,null,null,{"$f":"IF(E265=\"\",\"\",+(E265-E264)/E264)","v":""},{"$f":"IF(F265=\"\",0,AVERAGE($F$10:F265))","v":0},{"$f":"IF(F264=\"\",0,VAR($F$10:F265))","v":0},null,null,"",{"$f":"IF(K265=\"\",0,AVERAGE($K$10:K265))","v":0},{"$f":"IF(K264=\"\",0,VAR($K$10:K265))","v":0},null,null,"",{"$f":"IF(P265=\"\",0,AVERAGE(P$10:P265))","v":0},{"$f":"IF(P264=\"\",0,VAR(P$10:P265))","v":0},null,null,"",{"$f":"IF(U265=\"\",0,AVERAGE(U$10:U265))","v":0},{"$f":"IF(U264=\"\",0,VAR(U$10:U265))","v":0},null,null,"",{"$f":"IF(Z265=\"\",0,AVERAGE(Z$10:Z265))","v":0},{"$f":"IF(Z264=\"\",0,VAR(Z$10:Z265))","v":0},null,null,"",{"$f":"IF(AE265=\"\",0,AVERAGE(AE$10:AE265))","v":0},{"$f":"IF(AE264=\"\",0,VAR(AE$10:AE265))","v":0},null,null,"",{"$f":"IF(AJ265=\"\",0,AVERAGE(AJ$10:AJ265))","v":0},{"$f":"IF(AJ264=\"\",0,VAR(AJ$10:AJ265))","v":0},null,null,"",{"$f":"IF(AO265=\"\",0,AVERAGE(AO$10:AO265))","v":0},{"$f":"IF(AO264=\"\",0,VAR(AO$10:AO265))","v":0},null,null,"",{"$f":"IF(AT265=\"\",0,AVERAGE(AT$10:AT265))","v":0},{"$f":"IF(AT264=\"\",0,VAR(AT$10:AT265))","v":0},null,null,"",{"$f":"IF(AY265=\"\",0,AVERAGE(AY$10:AY265))","v":0},{"$f":"IF(AY264=\"\",0,VAR(AY$10:AY265))","v":0}]
[null,null,null,null,null,"",{"$f":"IF(F266=\"\",0,AVERAGE($F$10:F266))","v":0},{"$f":"IF(F265=\"\",0,VAR($F$10:F266))","v":0},null,null,"",{"$f":"IF(K266=\"\",0,AVERAGE($K$10:K266))","v":0},{"$f":"IF(K265=\"\",0,VAR($K$10:K266))","v":0},null,null,"",{"$f":"IF(P266=\"\",0,AVERAGE(P$10:P266))","v":0},{"$f":"IF(P265=\"\",0,VAR(P$10:P266))","v":0},null,null,"",{"$f":"IF(U266=\"\",0,AVERAGE(U$10:U266))","v":0},{"$f":"IF(U265=\"\",0,VAR(U$10:U266))","v":0},null,null,"",{"$f":"IF(Z266=\"\",0,AVERAGE(Z$10:Z266))","v":0},{"$f":"IF(Z265=\"\",0,VAR(Z$10:Z266))","v":0},null,null,"",{"$f":"IF(AE266=\"\",0,AVERAGE(AE$10:AE266))","v":0},{"$f":"IF(AE265=\"\",0,VAR(AE$10:AE266))","v":0},null,null,"",{"$f":"IF(AJ266=\"\",0,AVERAGE(AJ$10:AJ266))","v":0},{"$f":"IF(AJ265=\"\",0,VAR(AJ$10:AJ266))","v":0},null,null,"",{"$f":"IF(AO266=\"\",0,AVERAGE(AO$10:AO266))","v":0},{"$f":"IF(AO265=\"\",0,VAR(AO$10:AO266))","v":0},null,null,"",{"$f":"IF(AT266=\"\",0,AVERAGE(AT$10:AT266))","v":0},{"$f":"IF(AT265=\"\",0,VAR(AT$10:AT266))","v":0},null,null,"",{"$f":"IF(AY266=\"\",0,AVERAGE(AY$10:AY266))","v":0},{"$f":"IF(AY265=\"\",0,VAR(AY$10:AY266))","v":0}]
[null,null,null,null,null,null,{"$f":"IF(F267=\"\",0,AVERAGE($F$10:F267))","v":0},{"$f":"IF(F266=\"\",0,VAR($F$10:F267))","v":0},null,null,"",{"$f":"IF(K267=\"\",0,AVERAGE($K$10:K267))","v":0},{"$f":"IF(K266=\"\",0,VAR($K$10:K267))","v":0},null,null,"",{"$f":"IF(P267=\"\",0,AVERAGE(P$10:P267))","v":0},{"$f":"IF(P266=\"\",0,VAR(P$10:P267))","v":0},null,null,"",{"$f":"IF(U267=\"\",0,AVERAGE(U$10:U267))","v":0},{"$f":"IF(U266=\"\",0,VAR(U$10:U267))","v":0},null,null,"",{"$f":"IF(Z267=\"\",0,AVERAGE(Z$10:Z267))","v":0},{"$f":"IF(Z266=\"\",0,VAR(Z$10:Z267))","v":0},null,null,"",{"$f":"IF(AE267=\"\",0,AVERAGE(AE$10:AE267))","v":0},{"$f":"IF(AE266=\"\",0,VAR(AE$10:AE267))","v":0},null,null,"",{"$f":"IF(AJ267=\"\",0,AVERAGE(AJ$10:AJ267))","v":0},{"$f":"IF(AJ266=\"\",0,VAR(AJ$10:AJ267))","v":0},null,null,"",{"$f":"IF(AO267=\"\",0,AVERAGE(AO$10:AO267))","v":0},{"$f":"IF(AO266=\"\",0,VAR(AO$10:AO267))","v":0},null,null,"",{"$f":"IF(AT267=\"\",0,AVERAGE(AT$10:AT267))","v":0},{"$f":"IF(AT266=\"\",0,VAR(AT$10:AT267))","v":0},null,null,"",{"$f":"IF(AY267=\"\",0,AVERAGE(AY$10:AY267))","v":0},{"$f":"IF(AY266=\"\",0,VAR(AY$10:AY267))","v":0}]
[null,null,null,null,null,{"$f":"IF(E268=\"\",\"\",+(E268-E267)/E267)","v":""},{"$f":"IF(F268=\"\",0,AVERAGE($F$10:F268))","v":0},{"$f":"IF(F267=\"\",0,VAR($F$10:F268))","v":0},null,null,{"$f":"IF(J268=\"\",\"\",+(J268-J267)/J267)","v":""},{"$f":"IF(K268=\"\",0,AVERAGE($K$10:K268))","v":0},{"$f":"IF(K267=\"\",0,VAR($K$10:K268))","v":0},null,null,{"$f":"IF(O268=\"\",\"\",+(O268-O267)/O267)","v":""},{"$f":"IF(P268=\"\",0,AVERAGE(P$10:P268))","v":0},{"$f":"IF(P267=\"\",0,VAR(P$10:P268))","v":0},null,null,"",{"$f":"IF(U268=\"\",0,AVERAGE(U$10:U268))","v":0},{"$f":"IF(U267=\"\",0,VAR(U$10:U268))","v":0},null,null,{"$f":"IF(Y268=\"\",\"\",+(Y268-Y267)/Y267)","v":""},{"$f":"IF(Z268=\"\",0,AVERAGE(Z$10:Z268))","v":0},{"$f":"IF(Z267=\"\",0,VAR(Z$10:Z268))","v":0},null,null,"",{"$f":"IF(AE268=\"\",0,AVERAGE(AE$10:AE268))","v":0},{"$f":"IF(AE267=\"\",0,VAR(AE$10:AE268))","v":0},null,null,"",{"$f":"IF(AJ268=\"\",0,AVERAGE(AJ$10:AJ268))","v":0},{"$f":"IF(AJ267=\"\",0,VAR(AJ$10:AJ268))","v":0},null,null,"",{"$f":"IF(AO268=\"\",0,AVERAGE(AO$10:AO268))","v":0},{"$f":"IF(AO267=\"\",0,VAR(AO$10:AO268))","v":0},null,null,"",{"$f":"IF(AT268=\"\",0,AVERAGE(AT$10:AT268))","v":0},{"$f":"IF(AT267=\"\",0,VAR(AT$10:AT268))","v":0},null,null,"",{"$f":"IF(AY268=\"\",0,AVERAGE(AY$10:AY268))","v":0},{"$f":"IF(AY267=\"\",0,VAR(AY$10:AY268))","v":0}]
[null,null,null,null,null,"",{"$f":"IF(F269=\"\",0,AVERAGE($F$10:F269))","v":0},{"$f":"IF(F268=\"\",0,VAR($F$10:F269))","v":0},null,null,"",{"$f":"IF(K269=\"\",0,AVERAGE($K$10:K269))","v":0},{"$f":"IF(K268=\"\",0,VAR($K$10:K269))","v":0},null,null,"",{"$f":"IF(P269=\"\",0,AVERAGE(P$10:P269))","v":0},{"$f":"IF(P268=\"\",0,VAR(P$10:P269))","v":0},null,null,"",{"$f":"IF(U269=\"\",0,AVERAGE(U$10:U269))","v":0},{"$f":"IF(U268=\"\",0,VAR(U$10:U269))","v":0},null,null,"",{"$f":"IF(Z269=\"\",0,AVERAGE(Z$10:Z269))","v":0},{"$f":"IF(Z268=\"\",0,VAR(Z$10:Z269))","v":0},null,null,"",{"$f":"IF(AE269=\"\",0,AVERAGE(AE$10:AE269))","v":0},{"$f":"IF(AE268=\"\",0,VAR(AE$10:AE269))","v":0},null,null,{"$f":"IF(AI269=\"\",\"\",+(AI269-AI268)/AI268)","v":""},{"$f":"IF(AJ269=\"\",0,AVERAGE(AJ$10:AJ269))","v":0},{"$f":"IF(AJ268=\"\",0,VAR(AJ$10:AJ269))","v":0},null,null,{"$f":"IF(AN269=\"\",\"\",+(AN269-AN268)/AN268)","v":""},{"$f":"IF(AO269=\"\",0,AVERAGE(AO$10:AO269))","v":0},{"$f":"IF(AO268=\"\",0,VAR(AO$10:AO269))","v":0},null,null,{"$f":"IF(AS269=\"\",\"\",+(AS269-AS268)/AS268)","v":""},{"$f":"IF(AT269=\"\",0,AVERAGE(AT$10:AT269))","v":0},{"$f":"IF(AT268=\"\",0,VAR(AT$10:AT269))","v":0},null,null,{"$f":"IF(AX269=\"\",\"\",+(AX269-AX268)/AX268)","v":""},{"$f":"IF(AY269=\"\",0,AVERAGE(AY$10:AY269))","v":0},{"$f":"IF(AY268=\"\",0,VAR(AY$10:AY269))","v":0}]
[null,null,null,null,null,null,{"$f":"IF(F270=\"\",0,AVERAGE($F$10:F270))","v":0},{"$f":"IF(F269=\"\",0,VAR($F$10:F270))","v":0},null,null,"",{"$f":"IF(K270=\"\",0,AVERAGE($K$10:K270))","v":0},{"$f":"IF(K269=\"\",0,VAR($K$10:K270))","v":0},null,null,"",{"$f":"IF(P270=\"\",0,AVERAGE(P$10:P270))","v":0},{"$f":"IF(P269=\"\",0,VAR(P$10:P270))","v":0},null,null,{"$f":"IF(T270=\"\",\"\",+(T270-T269)/T269)","v":""},{"$f":"IF(U270=\"\",0,AVERAGE(U$10:U270))","v":0},{"$f":"IF(U269=\"\",0,VAR(U$10:U270))","v":0},null,null,"",{"$f":"IF(Z270=\"\",0,AVERAGE(Z$10:Z270))","v":0},{"$f":"IF(Z269=\"\",0,VAR(Z$10:Z270))","v":0},null,null,{"$f":"IF(AD270=\"\",\"\",+(AD270-AD269)/AD269)","v":""},{"$f":"IF(AE270=\"\",0,AVERAGE(AE$10:AE270))","v":0},{"$f":"IF(AE269=\"\",0,VAR(AE$10:AE270))","v":0},null,null,"",{"$f":"IF(AJ270=\"\",0,AVERAGE(AJ$10:AJ270))","v":0},{"$f":"IF(AJ269=\"\",0,VAR(AJ$10:AJ270))","v":0},null,null,"",{"$f":"IF(AO270=\"\",0,AVERAGE(AO$10:AO270))","v":0},{"$f":"IF(AO269=\"\",0,VAR(AO$10:AO270))","v":0},null,null,"",{"$f":"IF(AT270=\"\",0,AVERAGE(AT$10:AT270))","v":0},{"$f":"IF(AT269=\"\",0,VAR(AT$10:AT270))","v":0},null,null,"",{"$f":"IF(AY270=\"\",0,AVERAGE(AY$10:AY270))","v":0},{"$f":"IF(AY269=\"\",0,VAR(AY$10:AY270))","v":0}]
[null,null,null,null,null,{"$f":"IF(E271=\"\",\"\",+(E271-E270)/E270)","v":""},{"$f":"IF(F271=\"\",0,AVERAGE($F$10:F271))","v":0},{"$f":"IF(F270=\"\",0,VAR($F$10:F271))","v":0},null,null,"",{"$f":"IF(K271=\"\",0,AVERAGE($K$10:K271))","v":0},{"$f":"IF(K270=\"\",0,VAR($K$10:K271))","v":0},null,null,"",{"$f":"IF(P271=\"\",0,AVERAGE(P$10:P271))","v":0},{"$f":"IF(P270=\"\",0,VAR(P$10:P271))","v":0},null,null,"",{"$f":"IF(U271=\"\",0,AVERAGE(U$10:U271))","v":0},{"$f":"IF(U270=\"\",0,VAR(U$10:U271))","v":0},null,null,"",{"$f":"IF(Z271=\"\",0,AVERAGE(Z$10:Z271))","v":0},{"$f":"IF(Z270=\"\",0,VAR(Z$10:Z271))","v":0},null,null,"",{"$f":"IF(AE271=\"\",0,AVERAGE(AE$10:AE271))","v":0},{"$f":"IF(AE270=\"\",0,VAR(AE$10:AE271))","v":0},null,null,"",{"$f":"IF(AJ271=\"\",0,AVERAGE(AJ$10:AJ271))","v":0},{"$f":"IF(AJ270=\"\",0,VAR(AJ$10:AJ271))","v":0},null,null,"",{"$f":"IF(AO271=\"\",0,AVERAGE(AO$10:AO271))","v":0},{"$f":"IF(AO270=\"\",0,VAR(AO$10:AO271))","v":0},null,null,"",{"$f":"IF(AT271=\"\",0,AVERAGE(AT$10:AT271))","v":0},{"$f":"IF(AT270=\"\",0,VAR(AT$10:AT271))","v":0},null,null,"",{"$f":"IF(AY271=\"\",0,AVERAGE(AY$10:AY271))","v":0},{"$f":"IF(AY270=\"\",0,VAR(AY$10:AY271))","v":0}]
[null,null,null,null,null,"",{"$f":"IF(F272=\"\",0,AVERAGE($F$10:F272))","v":0},{"$f":"IF(F271=\"\",0,VAR($F$10:F272))","v":0},null,null,"",{"$f":"IF(K272=\"\",0,AVERAGE($K$10:K272))","v":0},{"$f":"IF(K271=\"\",0,VAR($K$10:K272))","v":0},null,null,"",{"$f":"IF(P272=\"\",0,AVERAGE(P$10:P272))","v":0},{"$f":"IF(P271=\"\",0,VAR(P$10:P272))","v":0},null,null,"",{"$f":"IF(U272=\"\",0,AVERAGE(U$10:U272))","v":0},{"$f":"IF(U271=\"\",0,VAR(U$10:U272))","v":0},null,null,"",{"$f":"IF(Z272=\"\",0,AVERAGE(Z$10:Z272))","v":0},{"$f":"IF(Z271=\"\",0,VAR(Z$10:Z272))","v":0},null,null,"",{"$f":"IF(AE272=\"\",0,AVERAGE(AE$10:AE272))","v":0},{"$f":"IF(AE271=\"\",0,VAR(AE$10:AE272))","v":0},null,null,"",{"$f":"IF(AJ272=\"\",0,AVERAGE(AJ$10:AJ272))","v":0},{"$f":"IF(AJ271=\"\",0,VAR(AJ$10:AJ272))","v":0},null,null,"",{"$f":"IF(AO272=\"\",0,AVERAGE(AO$10:AO272))","v":0},{"$f":"IF(AO271=\"\",0,VAR(AO$10:AO272))","v":0},null,null,"",{"$f":"IF(AT272=\"\",0,AVERAGE(AT$10:AT272))","v":0},{"$f":"IF(AT271=\"\",0,VAR(AT$10:AT272))","v":0},null,null,"",{"$f":"IF(AY272=\"\",0,AVERAGE(AY$10:AY272))","v":0},{"$f":"IF(AY271=\"\",0,VAR(AY$10:AY272))","v":0}]
[null,null,null,null,null,null,{"$f":"IF(F273=\"\",0,AVERAGE($F$10:F273))","v":0},{"$f":"IF(F272=\"\",0,VAR($F$10:F273))","v":0},null,null,"",{"$f":"IF(K273=\"\",0,AVERAGE($K$10:K273))","v":0},{"$f":"IF(K272=\"\",0,VAR($K$10:K273))","v":0},null,null,"",{"$f":"IF(P273=\"\",0,AVERAGE(P$10:P273))","v":0},{"$f":"IF(P272=\"\",0,VAR(P$10:P273))","v":0},null,null,"",{"$f":"IF(U273=\"\",0,AVERAGE(U$10:U273))","v":0},{"$f":"IF(U272=\"\",0,VAR(U$10:U273))","v":0},null,null,"",{"$f":"IF(Z273=\"\",0,AVERAGE(Z$10:Z273))","v":0},{"$f":"IF(Z272=\"\",0,VAR(Z$10:Z273))","v":0},null,null,"",{"$f":"IF(AE273=\"\",0,AVERAGE(AE$10:AE273))","v":0},{"$f":"IF(AE272=\"\",0,VAR(AE$10:AE273))","v":0},null,null,"",{"$f":"IF(AJ273=\"\",0,AVERAGE(AJ$10:AJ273))","v":0},{"$f":"IF(AJ272=\"\",0,VAR(AJ$10:AJ273))","v":0},null,null,"",{"$f":"IF(AO273=\"\",0,AVERAGE(AO$10:AO273))","v":0},{"$f":"IF(AO272=\"\",0,VAR(AO$10:AO273))","v":0},null,null,"",{"$f":"IF(AT273=\"\",0,AVERAGE(AT$10:AT273))","v":0},{"$f":"IF(AT272=\"\",0,VAR(AT$10:AT273))","v":0},null,null,"",{"$f":"IF(AY273=\"\",0,AVERAGE(AY$10:AY273))","v":0},{"$f":"IF(AY272=\"\",0,VAR(AY$10:AY273))","v":0}]
[null,null,null,null,null,{"$f":"IF(E274=\"\",\"\",+(E274-E273)/E273)","v":""},{"$f":"IF(F274=\"\",0,AVERAGE($F$10:F274))","v":0},{"$f":"IF(F273=\"\",0,VAR($F$10:F274))","v":0},null,null,"",{"$f":"IF(K274=\"\",0,AVERAGE($K$10:K274))","v":0},{"$f":"IF(K273=\"\",0,VAR($K$10:K274))","v":0},null,null,"",{"$f":"IF(P274=\"\",0,AVERAGE(P$10:P274))","v":0},{"$f":"IF(P273=\"\",0,VAR(P$10:P274))","v":0},null,null,"",{"$f":"IF(U274=\"\",0,AVERAGE(U$10:U274))","v":0},{"$f":"IF(U273=\"\",0,VAR(U$10:U274))","v":0},null,null,"",{"$f":"IF(Z274=\"\",0,AVERAGE(Z$10:Z274))","v":0},{"$f":"IF(Z273=\"\",0,VAR(Z$10:Z274))","v":0},null,null,"",{"$f":"IF(AE274=\"\",0,AVERAGE(AE$10:AE274))","v":0},{"$f":"IF(AE273=\"\",0,VAR(AE$10:AE274))","v":0},null,null,"",{"$f":"IF(AJ274=\"\",0,AVERAGE(AJ$10:AJ274))","v":0},{"$f":"IF(AJ273=\"\",0,VAR(AJ$10:AJ274))","v":0},null,null,"",{"$f":"IF(AO274=\"\",0,AVERAGE(AO$10:AO274))","v":0},{"$f":"IF(AO273=\"\",0,VAR(AO$10:AO274))","v":0},null,null,"",{"$f":"IF(AT274=\"\",0,AVERAGE(AT$10:AT274))","v":0},{"$f":"IF(AT273=\"\",0,VAR(AT$10:AT274))","v":0},null,null,"",{"$f":"IF(AY274=\"\",0,AVERAGE(AY$10:AY274))","v":0},{"$f":"IF(AY273=\"\",0,VAR(AY$10:AY274))","v":0}]
[null,null,null,null,null,"",{"$f":"IF(F275=\"\",0,AVERAGE($F$10:F275))","v":0},{"$f":"IF(F274=\"\",0,VAR($F$10:F275))","v":0},null,null,"",{"$f":"IF(K275=\"\",0,AVERAGE($K$10:K275))","v":0},{"$f":"IF(K274=\"\",0,VAR($K$10:K275))","v":0},null,null,"",{"$f":"IF(P275=\"\",0,AVERAGE(P$10:P275))","v":0},{"$f":"IF(P274=\"\",0,VAR(P$10:P275))","v":0},null,null,"",{"$f":"IF(U275=\"\",0,AVERAGE(U$10:U275))","v":0},{"$f":"IF(U274=\"\",0,VAR(U$10:U275))","v":0},null,null,"",{"$f":"IF(Z275=\"\",0,AVERAGE(Z$10:Z275))","v":0},{"$f":"IF(Z274=\"\",0,VAR(Z$10:Z275))","v":0},null,null,"",{"$f":"IF(AE275=\"\",0,AVERAGE(AE$10:AE275))","v":0},{"$f":"IF(AE274=\"\",0,VAR(AE$10:AE275))","v":0},null,null,"",{"$f":"IF(AJ275=\"\",0,AVERAGE(AJ$10:AJ275))","v":0},{"$f":"IF(AJ274=\"\",0,VAR(AJ$10:AJ275))","v":0},null,null,"",{"$f":"IF(AO275=\"\",0,AVERAGE(AO$10:AO275))","v":0},{"$f":"IF(AO274=\"\",0,VAR(AO$10:AO275))","v":0},null,null,"",{"$f":"IF(AT275=\"\",0,AVERAGE(AT$10:AT275))","v":0},{"$f":"IF(AT274=\"\",0,VAR(AT$10:AT275))","v":0},null,null,"",{"$f":"IF(AY275=\"\",0,AVERAGE(AY$10:AY275))","v":0},{"$f":"IF(AY274=\"\",0,VAR(AY$10:AY275))","v":0}]
[null,null,null,null,null,null,{"$f":"IF(F276=\"\",0,AVERAGE($F$10:F276))","v":0},{"$f":"IF(F275=\"\",0,VAR($F$10:F276))","v":0},null,null,"",{"$f":"IF(K276=\"\",0,AVERAGE($K$10:K276))","v":0},{"$f":"IF(K275=\"\",0,VAR($K$10:K276))","v":0},null,null,"",{"$f":"IF(P276=\"\",0,AVERAGE(P$10:P276))","v":0},{"$f":"IF(P275=\"\",0,VAR(P$10:P276))","v":0},null,null,"",{"$f":"IF(U276=\"\",0,AVERAGE(U$10:U276))","v":0},{"$f":"IF(U275=\"\",0,VAR(U$10:U276))","v":0},null,null,"",{"$f":"IF(Z276=\"\",0,AVERAGE(Z$10:Z276))","v":0},{"$f":"IF(Z275=\"\",0,VAR(Z$10:Z276))","v":0},null,null,"",{"$f":"IF(AE276=\"\",0,AVERAGE(AE$10:AE276))","v":0},{"$f":"IF(AE275=\"\",0,VAR(AE$10:AE276))","v":0},null,null,"",{"$f":"IF(AJ276=\"\",0,AVERAGE(AJ$10:AJ276))","v":0},{"$f":"IF(AJ275=\"\",0,VAR(AJ$10:AJ276))","v":0},null,null,"",{"$f":"IF(AO276=\"\",0,AVERAGE(AO$10:AO276))","v":0},{"$f":"IF(AO275=\"\",0,VAR(AO$10:AO276))","v":0},null,null,"",{"$f":"IF(AT276=\"\",0,AVERAGE(AT$10:AT276))","v":0},{"$f":"IF(AT275=\"\",0,VAR(AT$10:AT276))","v":0},null,null,"",{"$f":"IF(AY276=\"\",0,AVERAGE(AY$10:AY276))","v":0},{"$f":"IF(AY275=\"\",0,VAR(AY$10:AY276))","v":0}]
[null,null,null,null,null,{"$f":"IF(E277=\"\",\"\",+(E277-E276)/E276)","v":""},{"$f":"IF(F277=\"\",0,AVERAGE($F$10:F277))","v":0},{"$f":"IF(F276=\"\",0,VAR($F$10:F277))","v":0},null,null,"",{"$f":"IF(K277=\"\",0,AVERAGE($K$10:K277))","v":0},{"$f":"IF(K276=\"\",0,VAR($K$10:K277))","v":0},null,null,"",{"$f":"IF(P277=\"\",0,AVERAGE(P$10:P277))","v":0},{"$f":"IF(P276=\"\",0,VAR(P$10:P277))","v":0},null,null,"",{"$f":"IF(U277=\"\",0,AVERAGE(U$10:U277))","v":0},{"$f":"IF(U276=\"\",0,VAR(U$10:U277))","v":0},null,null,"",{"$f":"IF(Z277=\"\",0,AVERAGE(Z$10:Z277))","v":0},{"$f":"IF(Z276=\"\",0,VAR(Z$10:Z277))","v":0},null,null,"",{"$f":"IF(AE277=\"\",0,AVERAGE(AE$10:AE277))","v":0},{"$f":"IF(AE276=\"\",0,VAR(AE$10:AE277))","v":0},null,null,"",{"$f":"IF(AJ277=\"\",0,AVERAGE(AJ$10:AJ277))","v":0},{"$f":"IF(AJ276=\"\",0,VAR(AJ$10:AJ277))","v":0},null,null,"",{"$f":"IF(AO277=\"\",0,AVERAGE(AO$10:AO277))","v":0},{"$f":"IF(AO276=\"\",0,VAR(AO$10:AO277))","v":0},null,null,"",{"$f":"IF(AT277=\"\",0,AVERAGE(AT$10:AT277))","v":0},{"$f":"IF(AT276=\"\",0,VAR(AT$10:AT277))","v":0},null,null,"",{"$f":"IF(AY277=\"\",0,AVERAGE(AY$10:AY277))","v":0},{"$f":"IF(AY276=\"\",0,VAR(AY$10:AY277))","v":0}]
[null,null,null,null,null,"",{"$f":"IF(F278=\"\",0,AVERAGE($F$10:F278))","v":0},{"$f":"IF(F277=\"\",0,VAR($F$10:F278))","v":0},null,null,"",{"$f":"IF(K278=\"\",0,AVERAGE($K$10:K278))","v":0},{"$f":"IF(K277=\"\",0,VAR($K$10:K278))","v":0},null,null,"",{"$f":"IF(P278=\"\",0,AVERAGE(P$10:P278))","v":0},{"$f":"IF(P277=\"\",0,VAR(P$10:P278))","v":0},null,null,"",{"$f":"IF(U278=\"\",0,AVERAGE(U$10:U278))","v":0},{"$f":"IF(U277=\"\",0,VAR(U$10:U278))","v":0},null,null,"",{"$f":"IF(Z278=\"\",0,AVERAGE(Z$10:Z278))","v":0},{"$f":"IF(Z277=\"\",0,VAR(Z$10:Z278))","v":0},null,null,"",{"$f":"IF(AE278=\"\",0,AVERAGE(AE$10:AE278))","v":0},{"$f":"IF(AE277=\"\",0,VAR(AE$10:AE278))","v":0},null,null,"",{"$f":"IF(AJ278=\"\",0,AVERAGE(AJ$10:AJ278))","v":0},{"$f":"IF(AJ277=\"\",0,VAR(AJ$10:AJ278))","v":0},null,null,"",{"$f":"IF(AO278=\"\",0,AVERAGE(AO$10:AO278))","v":0},{"$f":"IF(AO277=\"\",0,VAR(AO$10:AO278))","v":0},null,null,"",{"$f":"IF(AT278=\"\",0,AVERAGE(AT$10:AT278))","v":0},{"$f":"IF(AT277=\"\",0,VAR(AT$10:AT278))","v":0},null,null,"",{"$f":"IF(AY278=\"\",0,AVERAGE(AY$10:AY278))","v":0},{"$f":"IF(AY277=\"\",0,VAR(AY$10:AY278))","v":0}]
[null,null,null,null,null,null,{"$f":"IF(F279=\"\",0,AVERAGE($F$10:F279))","v":0},{"$f":"IF(F278=\"\",0,VAR($F$10:F279))","v":0},null,null,"",{"$f":"IF(K279=\"\",0,AVERAGE($K$10:K279))","v":0},{"$f":"IF(K278=\"\",0,VAR($K$10:K279))","v":0},null,null,"",{"$f":"IF(P279=\"\",0,AVERAGE(P$10:P279))","v":0},{"$f":"IF(P278=\"\",0,VAR(P$10:P279))","v":0},null,null,"",{"$f":"IF(U279=\"\",0,AVERAGE(U$10:U279))","v":0},{"$f":"IF(U278=\"\",0,VAR(U$10:U279))","v":0},null,null,"",{"$f":"IF(Z279=\"\",0,AVERAGE(Z$10:Z279))","v":0},{"$f":"IF(Z278=\"\",0,VAR(Z$10:Z279))","v":0},null,null,"",{"$f":"IF(AE279=\"\",0,AVERAGE(AE$10:AE279))","v":0},{"$f":"IF(AE278=\"\",0,VAR(AE$10:AE279))","v":0},null,null,"",{"$f":"IF(AJ279=\"\",0,AVERAGE(AJ$10:AJ279))","v":0},{"$f":"IF(AJ278=\"\",0,VAR(AJ$10:AJ279))","v":0},null,null,"",{"$f":"IF(AO279=\"\",0,AVERAGE(AO$10:AO279))","v":0},{"$f":"IF(AO278=\"\",0,VAR(AO$10:AO279))","v":0},null,null,"",{"$f":"IF(AT279=\"\",0,AVERAGE(AT$10:AT279))","v":0},{"$f":"IF(AT278=\"\",0,VAR(AT$10:AT279))","v":0},null,null,"",{"$f":"IF(AY279=\"\",0,AVERAGE(AY$10:AY279))","v":0},{"$f":"IF(AY278=\"\",0,VAR(AY$10:AY279))","v":0}]
[null,null,null,null,null,{"$f":"IF(E280=\"\",\"\",+(E280-E279)/E279)","v":""},{"$f":"IF(F280=\"\",0,AVERAGE($F$10:F280))","v":0},{"$f":"IF(F279=\"\",0,VAR($F$10:F280))","v":0},null,null,"",{"$f":"IF(K280=\"\",0,AVERAGE($K$10:K280))","v":0},{"$f":"IF(K279=\"\",0,VAR($K$10:K280))","v":0},null,null,"",{"$f":"IF(P280=\"\",0,AVERAGE(P$10:P280))","v":0},{"$f":"IF(P279=\"\",0,VAR(P$10:P280))","v":0},null,null,"",{"$f":"IF(U280=\"\",0,AVERAGE(U$10:U280))","v":0},{"$f":"IF(U279=\"\",0,VAR(U$10:U280))","v":0},null,null,"",{"$f":"IF(Z280=\"\",0,AVERAGE(Z$10:Z280))","v":0},{"$f":"IF(Z279=\"\",0,VAR(Z$10:Z280))","v":0},null,null,"",{"$f":"IF(AE280=\"\",0,AVERAGE(AE$10:AE280))","v":0},{"$f":"IF(AE279=\"\",0,VAR(AE$10:AE280))","v":0},null,null,"",{"$f":"IF(AJ280=\"\",0,AVERAGE(AJ$10:AJ280))","v":0},{"$f":"IF(AJ279=\"\",0,VAR(AJ$10:AJ280))","v":0},null,null,"",{"$f":"IF(AO280=\"\",0,AVERAGE(AO$10:AO280))","v":0},{"$f":"IF(AO279=\"\",0,VAR(AO$10:AO280))","v":0},null,null,"",{"$f":"IF(AT280=\"\",0,AVERAGE(AT$10:AT280))","v":0},{"$f":"IF(AT279=\"\",0,VAR(AT$10:AT280))","v":0},null,null,"",{"$f":"IF(AY280=\"\",0,AVERAGE(AY$10:AY280))","v":0},{"$f":"IF(AY279=\"\",0,VAR(AY$10:AY280))","v":0}]
[null,null,null,null,null,"",{"$f":"IF(F281=\"\",0,AVERAGE($F$10:F281))","v":0},{"$f":"IF(F280=\"\",0,VAR($F$10:F281))","v":0},null,null,"",{"$f":"IF(K281=\"\",0,AVERAGE($K$10:K281))","v":0},{"$f":"IF(K280=\"\",0,VAR($K$10:K281))","v":0},null,null,"",{"$f":"IF(P281=\"\",0,AVERAGE(P$10:P281))","v":0},{"$f":"IF(P280=\"\",0,VAR(P$10:P281))","v":0},null,null,"",{"$f":"IF(U281=\"\",0,AVERAGE(U$10:U281))","v":0},{"$f":"IF(U280=\"\",0,VAR(U$10:U281))","v":0},null,null,"",{"$f":"IF(Z281=\"\",0,AVERAGE(Z$10:Z281))","v":0},{"$f":"IF(Z280=\"\",0,VAR(Z$10:Z281))","v":0},null,null,"",{"$f":"IF(AE281=\"\",0,AVERAGE(AE$10:AE281))","v":0},{"$f":"IF(AE280=\"\",0,VAR(AE$10:AE281))","v":0},null,null,"",{"$f":"IF(AJ281=\"\",0,AVERAGE(AJ$10:AJ281))","v":0},{"$f":"IF(AJ280=\"\",0,VAR(AJ$10:AJ281))","v":0},null,null,"",{"$f":"IF(AO281=\"\",0,AVERAGE(AO$10:AO281))","v":0},{"$f":"IF(AO280=\"\",0,VAR(AO$10:AO281))","v":0},null,null,"",{"$f":"IF(AT281=\"\",0,AVERAGE(AT$10:AT281))","v":0},{"$f":"IF(AT280=\"\",0,VAR(AT$10:AT281))","v":0},null,null,"",{"$f":"IF(AY281=\"\",0,AVERAGE(AY$10:AY281))","v":0},{"$f":"IF(AY280=\"\",0,VAR(AY$10:AY281))","v":0}]
[null,null,null,null,null,null,{"$f":"IF(F282=\"\",0,AVERAGE($F$10:F282))","v":0},{"$f":"IF(F281=\"\",0,VAR($F$10:F282))","v":0},null,null,"",{"$f":"IF(K282=\"\",0,AVERAGE($K$10:K282))","v":0},{"$f":"IF(K281=\"\",0,VAR($K$10:K282))","v":0},null,null,"",{"$f":"IF(P282=\"\",0,AVERAGE(P$10:P282))","v":0},{"$f":"IF(P281=\"\",0,VAR(P$10:P282))","v":0},null,null,"",{"$f":"IF(U282=\"\",0,AVERAGE(U$10:U282))","v":0},{"$f":"IF(U281=\"\",0,VAR(U$10:U282))","v":0},null,null,"",{"$f":"IF(Z282=\"\",0,AVERAGE(Z$10:Z282))","v":0},{"$f":"IF(Z281=\"\",0,VAR(Z$10:Z282))","v":0},null,null,"",{"$f":"IF(AE282=\"\",0,AVERAGE(AE$10:AE282))","v":0},{"$f":"IF(AE281=\"\",0,VAR(AE$10:AE282))","v":0},null,null,"",{"$f":"IF(AJ282=\"\",0,AVERAGE(AJ$10:AJ282))","v":0},{"$f":"IF(AJ281=\"\",0,VAR(AJ$10:AJ282))","v":0},null,null,"",{"$f":"IF(AO282=\"\",0,AVERAGE(AO$10:AO282))","v":0},{"$f":"IF(AO281=\"\",0,VAR(AO$10:AO282))","v":0},null,null,"",{"$f":"IF(AT282=\"\",0,AVERAGE(AT$10:AT282))","v":0},{"$f":"IF(AT281=\"\",0,VAR(AT$10:AT282))","v":0},null,null,"",{"$f":"IF(AY282=\"\",0,AVERAGE(AY$10:AY282))","v":0},{"$f":"IF(AY281=\"\",0,VAR(AY$10:AY282))","v":0}]
[null,null,null,null,null,{"$f":"IF(E283=\"\",\"\",+(E283-E282)/E282)","v":""},{"$f":"IF(F283=\"\",0,AVERAGE($F$10:F283))","v":0},{"$f":"IF(F282=\"\",0,VAR($F$10:F283))","v":0},null,null,"",{"$f":"IF(K283=\"\",0,AVERAGE($K$10:K283))","v":0},{"$f":"IF(K282=\"\",0,VAR($K$10:K283))","v":0},null,null,"",{"$f":"IF(P283=\"\",0,AVERAGE(P$10:P283))","v":0},{"$f":"IF(P282=\"\",0,VAR(P$10:P283))","v":0},null,null,"",{"$f":"IF(U283=\"\",0,AVERAGE(U$10:U283))","v":0},{"$f":"IF(U282=\"\",0,VAR(U$10:U283))","v":0},null,null,"",{"$f":"IF(Z283=\"\",0,AVERAGE(Z$10:Z283))","v":0},{"$f":"IF(Z282=\"\",0,VAR(Z$10:Z283))","v":0},null,null,"",{"$f":"IF(AE283=\"\",0,AVERAGE(AE$10:AE283))","v":0},{"$f":"IF(AE282=\"\",0,VAR(AE$10:AE283))","v":0},null,null,"",{"$f":"IF(AJ283=\"\",0,AVERAGE(AJ$10:AJ283))","v":0},{"$f":"IF(AJ282=\"\",0,VAR(AJ$10:AJ283))","v":0},null,null,"",{"$f":"IF(AO283=\"\",0,AVERAGE(AO$10:AO283))","v":0},{"$f":"IF(AO282=\"\",0,VAR(AO$10:AO283))","v":0},null,null,"",{"$f":"IF(AT283=\"\",0,AVERAGE(AT$10:AT283))","v":0},{"$f":"IF(AT282=\"\",0,VAR(AT$10:AT283))","v":0},null,null,"",{"$f":"IF(AY283=\"\",0,AVERAGE(AY$10:AY283))","v":0},{"$f":"IF(AY282=\"\",0,VAR(AY$10:AY283))","v":0}]
[null,null,null,null,null,"",{"$f":"IF(F284=\"\",0,AVERAGE($F$10:F284))","v":0},{"$f":"IF(F283=\"\",0,VAR($F$10:F284))","v":0},null,null,"",{"$f":"IF(K284=\"\",0,AVERAGE($K$10:K284))","v":0},{"$f":"IF(K283=\"\",0,VAR($K$10:K284))","v":0},null,null,"",{"$f":"IF(P284=\"\",0,AVERAGE(P$10:P284))","v":0},{"$f":"IF(P283=\"\",0,VAR(P$10:P284))","v":0},null,null,"",{"$f":"IF(U284=\"\",0,AVERAGE(U$10:U284))","v":0},{"$f":"IF(U283=\"\",0,VAR(U$10:U284))","v":0},null,null,"",{"$f":"IF(Z284=\"\",0,AVERAGE(Z$10:Z284))","v":0},{"$f":"IF(Z283=\"\",0,VAR(Z$10:Z284))","v":0},null,null,"",{"$f":"IF(AE284=\"\",0,AVERAGE(AE$10:AE284))","v":0},{"$f":"IF(AE283=\"\",0,VAR(AE$10:AE284))","v":0},null,null,"",{"$f":"IF(AJ284=\"\",0,AVERAGE(AJ$10:AJ284))","v":0},{"$f":"IF(AJ283=\"\",0,VAR(AJ$10:AJ284))","v":0},null,null,"",{"$f":"IF(AO284=\"\",0,AVERAGE(AO$10:AO284))","v":0},{"$f":"IF(AO283=\"\",0,VAR(AO$10:AO284))","v":0},null,null,"",{"$f":"IF(AT284=\"\",0,AVERAGE(AT$10:AT284))","v":0},{"$f":"IF(AT283=\"\",0,VAR(AT$10:AT284))","v":0},null,null,"",{"$f":"IF(AY284=\"\",0,AVERAGE(AY$10:AY284))","v":0},{"$f":"IF(AY283=\"\",0,VAR(AY$10:AY284))","v":0}]
[null,null,null,null,null,null,{"$f":"IF(F285=\"\",0,AVERAGE($F$10:F285))","v":0},{"$f":"IF(F284=\"\",0,VAR($F$10:F285))","v":0},null,null,"",{"$f":"IF(K285=\"\",0,AVERAGE($K$10:K285))","v":0},{"$f":"IF(K284=\"\",0,VAR($K$10:K285))","v":0},null,null,"",{"$f":"IF(P285=\"\",0,AVERAGE(P$10:P285))","v":0},{"$f":"IF(P284=\"\",0,VAR(P$10:P285))","v":0},null,null,"",{"$f":"IF(U285=\"\",0,AVERAGE(U$10:U285))","v":0},{"$f":"IF(U284=\"\",0,VAR(U$10:U285))","v":0},null,null,"",{"$f":"IF(Z285=\"\",0,AVERAGE(Z$10:Z285))","v":0},{"$f":"IF(Z284=\"\",0,VAR(Z$10:Z285))","v":0},null,null,"",{"$f":"IF(AE285=\"\",0,AVERAGE(AE$10:AE285))","v":0},{"$f":"IF(AE284=\"\",0,VAR(AE$10:AE285))","v":0},null,null,"",{"$f":"IF(AJ285=\"\",0,AVERAGE(AJ$10:AJ285))","v":0},{"$f":"IF(AJ284=\"\",0,VAR(AJ$10:AJ285))","v":0},null,null,"",{"$f":"IF(AO285=\"\",0,AVERAGE(AO$10:AO285))","v":0},{"$f":"IF(AO284=\"\",0,VAR(AO$10:AO285))","v":0},null,null,"",{"$f":"IF(AT285=\"\",0,AVERAGE(AT$10:AT285))","v":0},{"$f":"IF(AT284=\"\",0,VAR(AT$10:AT285))","v":0},null,null,"",{"$f":"IF(AY285=\"\",0,AVERAGE(AY$10:AY285))","v":0},{"$f":"IF(AY284=\"\",0,VAR(AY$10:AY285))","v":0}]
[null,null,null,null,null,{"$f":"IF(E286=\"\",\"\",+(E286-E285)/E285)","v":""},{"$f":"IF(F286=\"\",0,AVERAGE($F$10:F286))","v":0},{"$f":"IF(F285=\"\",0,VAR($F$10:F286))","v":0},null,null,"",{"$f":"IF(K286=\"\",0,AVERAGE($K$10:K286))","v":0},{"$f":"IF(K285=\"\",0,VAR($K$10:K286))","v":0},null,null,"",{"$f":"IF(P286=\"\",0,AVERAGE(P$10:P286))","v":0},{"$f":"IF(P285=\"\",0,VAR(P$10:P286))","v":0},null,null,"",{"$f":"IF(U286=\"\",0,AVERAGE(U$10:U286))","v":0},{"$f":"IF(U285=\"\",0,VAR(U$10:U286))","v":0},null,null,"",{"$f":"IF(Z286=\"\",0,AVERAGE(Z$10:Z286))","v":0},{"$f":"IF(Z285=\"\",0,VAR(Z$10:Z286))","v":0},null,null,"",{"$f":"IF(AE286=\"\",0,AVERAGE(AE$10:AE286))","v":0},{"$f":"IF(AE285=\"\",0,VAR(AE$10:AE286))","v":0},null,null,"",{"$f":"IF(AJ286=\"\",0,AVERAGE(AJ$10:AJ286))","v":0},{"$f":"IF(AJ285=\"\",0,VAR(AJ$10:AJ286))","v":0},null,null,"",{"$f":"IF(AO286=\"\",0,AVERAGE(AO$10:AO286))","v":0},{"$f":"IF(AO285=\"\",0,VAR(AO$10:AO286))","v":0},null,null,"",{"$f":"IF(AT286=\"\",0,AVERAGE(AT$10:AT286))","v":0},{"$f":"IF(AT285=\"\",0,VAR(AT$10:AT286))","v":0},null,null,"",{"$f":"IF(AY286=\"\",0,AVERAGE(AY$10:AY286))","v":0},{"$f":"IF(AY285=\"\",0,VAR(AY$10:AY286))","v":0}]
[null,null,null,null,null,"",{"$f":"IF(F287=\"\",0,AVERAGE($F$10:F287))","v":0},{"$f":"IF(F286=\"\",0,VAR($F$10:F287))","v":0},null,null,"",{"$f":"IF(K287=\"\",0,AVERAGE($K$10:K287))","v":0},{"$f":"IF(K286=\"\",0,VAR($K$10:K287))","v":0},null,null,"",{"$f":"IF(P287=\"\",0,AVERAGE(P$10:P287))","v":0},{"$f":"IF(P286=\"\",0,VAR(P$10:P287))","v":0},null,null,"",{"$f":"IF(U287=\"\",0,AVERAGE(U$10:U287))","v":0},{"$f":"IF(U286=\"\",0,VAR(U$10:U287))","v":0},null,null,"",{"$f":"IF(Z287=\"\",0,AVERAGE(Z$10:Z287))","v":0},{"$f":"IF(Z286=\"\",0,VAR(Z$10:Z287))","v":0},null,null,"",{"$f":"IF(AE287=\"\",0,AVERAGE(AE$10:AE287))","v":0},{"$f":"IF(AE286=\"\",0,VAR(AE$10:AE287))","v":0},null,null,"",{"$f":"IF(AJ287=\"\",0,AVERAGE(AJ$10:AJ287))","v":0},{"$f":"IF(AJ286=\"\",0,VAR(AJ$10:AJ287))","v":0},null,null,"",{"$f":"IF(AO287=\"\",0,AVERAGE(AO$10:AO287))","v":0},{"$f":"IF(AO286=\"\",0,VAR(AO$10:AO287))","v":0},null,null,"",{"$f":"IF(AT287=\"\",0,AVERAGE(AT$10:AT287))","v":0},{"$f":"IF(AT286=\"\",0,VAR(AT$10:AT287))","v":0},null,null,"",{"$f":"IF(AY287=\"\",0,AVERAGE(AY$10:AY287))","v":0},{"$f":"IF(AY286=\"\",0,VAR(AY$10:AY287))","v":0}]
[null,null,null,null,null,null,{"$f":"IF(F288=\"\",0,AVERAGE($F$10:F288))","v":0},{"$f":"IF(F287=\"\",0,VAR($F$10:F288))","v":0},null,null,"",{"$f":"IF(K288=\"\",0,AVERAGE($K$10:K288))","v":0},{"$f":"IF(K287=\"\",0,VAR($K$10:K288))","v":0},null,null,"",{"$f":"IF(P288=\"\",0,AVERAGE(P$10:P288))","v":0},{"$f":"IF(P287=\"\",0,VAR(P$10:P288))","v":0},null,null,"",{"$f":"IF(U288=\"\",0,AVERAGE(U$10:U288))","v":0},{"$f":"IF(U287=\"\",0,VAR(U$10:U288))","v":0},null,null,"",{"$f":"IF(Z288=\"\",0,AVERAGE(Z$10:Z288))","v":0},{"$f":"IF(Z287=\"\",0,VAR(Z$10:Z288))","v":0},null,null,"",{"$f":"IF(AE288=\"\",0,AVERAGE(AE$10:AE288))","v":0},{"$f":"IF(AE287=\"\",0,VAR(AE$10:AE288))","v":0},null,null,"",{"$f":"IF(AJ288=\"\",0,AVERAGE(AJ$10:AJ288))","v":0},{"$f":"IF(AJ287=\"\",0,VAR(AJ$10:AJ288))","v":0},null,null,"",{"$f":"IF(AO288=\"\",0,AVERAGE(AO$10:AO288))","v":0},{"$f":"IF(AO287=\"\",0,VAR(AO$10:AO288))","v":0},null,null,"",{"$f":"IF(AT288=\"\",0,AVERAGE(AT$10:AT288))","v":0},{"$f":"IF(AT287=\"\",0,VAR(AT$10:AT288))","v":0},null,null,"",{"$f":"IF(AY288=\"\",0,AVERAGE(AY$10:AY288))","v":0},{"$f":"IF(AY287=\"\",0,VAR(AY$10:AY288))","v":0}]
[null,null,null,null,null,{"$f":"IF(E289=\"\",\"\",+(E289-E288)/E288)","v":""},{"$f":"IF(F289=\"\",0,AVERAGE($F$10:F289))","v":0},{"$f":"IF(F288=\"\",0,VAR($F$10:F289))","v":0},null,null,"",{"$f":"IF(K289=\"\",0,AVERAGE($K$10:K289))","v":0},{"$f":"IF(K288=\"\",0,VAR($K$10:K289))","v":0},null,null,"",{"$f":"IF(P289=\"\",0,AVERAGE(P$10:P289))","v":0},{"$f":"IF(P288=\"\",0,VAR(P$10:P289))","v":0},null,null,"",{"$f":"IF(U289=\"\",0,AVERAGE(U$10:U289))","v":0},{"$f":"IF(U288=\"\",0,VAR(U$10:U289))","v":0},null,null,"",{"$f":"IF(Z289=\"\",0,AVERAGE(Z$10:Z289))","v":0},{"$f":"IF(Z288=\"\",0,VAR(Z$10:Z289))","v":0},null,null,"",{"$f":"IF(AE289=\"\",0,AVERAGE(AE$10:AE289))","v":0},{"$f":"IF(AE288=\"\",0,VAR(AE$10:AE289))","v":0},null,null,"",{"$f":"IF(AJ289=\"\",0,AVERAGE(AJ$10:AJ289))","v":0},{"$f":"IF(AJ288=\"\",0,VAR(AJ$10:AJ289))","v":0},null,null,"",{"$f":"IF(AO289=\"\",0,AVERAGE(AO$10:AO289))","v":0},{"$f":"IF(AO288=\"\",0,VAR(AO$10:AO289))","v":0},null,null,"",{"$f":"IF(AT289=\"\",0,AVERAGE(AT$10:AT289))","v":0},{"$f":"IF(AT288=\"\",0,VAR(AT$10:AT289))","v":0},null,null,"",{"$f":"IF(AY289=\"\",0,AVERAGE(AY$10:AY289))","v":0},{"$f":"IF(AY288=\"\",0,VAR(AY$10:AY289))","v":0}]
[null,null,null,null,null,"",{"$f":"IF(F290=\"\",0,AVERAGE($F$10:F290))","v":0},{"$f":"IF(F289=\"\",0,VAR($F$10:F290))","v":0},null,null,"",{"$f":"IF(K290=\"\",0,AVERAGE($K$10:K290))","v":0},{"$f":"IF(K289=\"\",0,VAR($K$10:K290))","v":0},null,null,"",{"$f":"IF(P290=\"\",0,AVERAGE(P$10:P290))","v":0},{"$f":"IF(P289=\"\",0,VAR(P$10:P290))","v":0},null,null,"",{"$f":"IF(U290=\"\",0,AVERAGE(U$10:U290))","v":0},{"$f":"IF(U289=\"\",0,VAR(U$10:U290))","v":0},null,null,"",{"$f":"IF(Z290=\"\",0,AVERAGE(Z$10:Z290))","v":0},{"$f":"IF(Z289=\"\",0,VAR(Z$10:Z290))","v":0},null,null,"",{"$f":"IF(AE290=\"\",0,AVERAGE(AE$10:AE290))","v":0},{"$f":"IF(AE289=\"\",0,VAR(AE$10:AE290))","v":0},null,null,"",{"$f":"IF(AJ290=\"\",0,AVERAGE(AJ$10:AJ290))","v":0},{"$f":"IF(AJ289=\"\",0,VAR(AJ$10:AJ290))","v":0},null,null,"",{"$f":"IF(AO290=\"\",0,AVERAGE(AO$10:AO290))","v":0},{"$f":"IF(AO289=\"\",0,VAR(AO$10:AO290))","v":0},null,null,"",{"$f":"IF(AT290=\"\",0,AVERAGE(AT$10:AT290))","v":0},{"$f":"IF(AT289=\"\",0,VAR(AT$10:AT290))","v":0},null,null,"",{"$f":"IF(AY290=\"\",0,AVERAGE(AY$10:AY290))","v":0},{"$f":"IF(AY289=\"\",0,VAR(AY$10:AY290))","v":0}]
[null,null,null,null,null,null,{"$f":"IF(F291=\"\",0,AVERAGE($F$10:F291))","v":0},{"$f":"IF(F290=\"\",0,VAR($F$10:F291))","v":0},null,null,"",{"$f":"IF(K291=\"\",0,AVERAGE($K$10:K291))","v":0},{"$f":"IF(K290=\"\",0,VAR($K$10:K291))","v":0},null,null,"",{"$f":"IF(P291=\"\",0,AVERAGE(P$10:P291))","v":0},{"$f":"IF(P290=\"\",0,VAR(P$10:P291))","v":0},null,null,"",{"$f":"IF(U291=\"\",0,AVERAGE(U$10:U291))","v":0},{"$f":"IF(U290=\"\",0,VAR(U$10:U291))","v":0},null,null,"",{"$f":"IF(Z291=\"\",0,AVERAGE(Z$10:Z291))","v":0},{"$f":"IF(Z290=\"\",0,VAR(Z$10:Z291))","v":0},null,null,"",{"$f":"IF(AE291=\"\",0,AVERAGE(AE$10:AE291))","v":0},{"$f":"IF(AE290=\"\",0,VAR(AE$10:AE291))","v":0},null,null,"",{"$f":"IF(AJ291=\"\",0,AVERAGE(AJ$10:AJ291))","v":0},{"$f":"IF(AJ290=\"\",0,VAR(AJ$10:AJ291))","v":0},null,null,"",{"$f":"IF(AO291=\"\",0,AVERAGE(AO$10:AO291))","v":0},{"$f":"IF(AO290=\"\",0,VAR(AO$10:AO291))","v":0},null,null,"",{"$f":"IF(AT291=\"\",0,AVERAGE(AT$10:AT291))","v":0},{"$f":"IF(AT290=\"\",0,VAR(AT$10:AT291))","v":0},null,null,"",{"$f":"IF(AY291=\"\",0,AVERAGE(AY$10:AY291))","v":0},{"$f":"IF(AY290=\"\",0,VAR(AY$10:AY291))","v":0}]
[null,null,null,null,null,{"$f":"IF(E292=\"\",\"\",+(E292-E291)/E291)","v":""},{"$f":"IF(F292=\"\",0,AVERAGE($F$10:F292))","v":0},{"$f":"IF(F291=\"\",0,VAR($F$10:F292))","v":0},null,null,"",{"$f":"IF(K292=\"\",0,AVERAGE($K$10:K292))","v":0},{"$f":"IF(K291=\"\",0,VAR($K$10:K292))","v":0},null,null,"",{"$f":"IF(P292=\"\",0,AVERAGE(P$10:P292))","v":0},{"$f":"IF(P291=\"\",0,VAR(P$10:P292))","v":0},null,null,"",{"$f":"IF(U292=\"\",0,AVERAGE(U$10:U292))","v":0},{"$f":"IF(U291=\"\",0,VAR(U$10:U292))","v":0},null,null,"",{"$f":"IF(Z292=\"\",0,AVERAGE(Z$10:Z292))","v":0},{"$f":"IF(Z291=\"\",0,VAR(Z$10:Z292))","v":0},null,null,"",{"$f":"IF(AE292=\"\",0,AVERAGE(AE$10:AE292))","v":0},{"$f":"IF(AE291=\"\",0,VAR(AE$10:AE292))","v":0},null,null,"",{"$f":"IF(AJ292=\"\",0,AVERAGE(AJ$10:AJ292))","v":0},{"$f":"IF(AJ291=\"\",0,VAR(AJ$10:AJ292))","v":0},null,null,"",{"$f":"IF(AO292=\"\",0,AVERAGE(AO$10:AO292))","v":0},{"$f":"IF(AO291=\"\",0,VAR(AO$10:AO292))","v":0},null,null,"",{"$f":"IF(AT292=\"\",0,AVERAGE(AT$10:AT292))","v":0},{"$f":"IF(AT291=\"\",0,VAR(AT$10:AT292))","v":0},null,null,"",{"$f":"IF(AY292=\"\",0,AVERAGE(AY$10:AY292))","v":0},{"$f":"IF(AY291=\"\",0,VAR(AY$10:AY292))","v":0}]
[null,null,null,null,null,"",{"$f":"IF(F293=\"\",0,AVERAGE($F$10:F293))","v":0},{"$f":"IF(F292=\"\",0,VAR($F$10:F293))","v":0},null,null,"",{"$f":"IF(K293=\"\",0,AVERAGE($K$10:K293))","v":0},{"$f":"IF(K292=\"\",0,VAR($K$10:K293))","v":0},null,null,"",{"$f":"IF(P293=\"\",0,AVERAGE(P$10:P293))","v":0},{"$f":"IF(P292=\"\",0,VAR(P$10:P293))","v":0},null,null,"",{"$f":"IF(U293=\"\",0,AVERAGE(U$10:U293))","v":0},{"$f":"IF(U292=\"\",0,VAR(U$10:U293))","v":0},null,null,"",{"$f":"IF(Z293=\"\",0,AVERAGE(Z$10:Z293))","v":0},{"$f":"IF(Z292=\"\",0,VAR(Z$10:Z293))","v":0},null,null,"",{"$f":"IF(AE293=\"\",0,AVERAGE(AE$10:AE293))","v":0},{"$f":"IF(AE292=\"\",0,VAR(AE$10:AE293))","v":0},null,null,"",{"$f":"IF(AJ293=\"\",0,AVERAGE(AJ$10:AJ293))","v":0},{"$f":"IF(AJ292=\"\",0,VAR(AJ$10:AJ293))","v":0},null,null,"",{"$f":"IF(AO293=\"\",0,AVERAGE(AO$10:AO293))","v":0},{"$f":"IF(AO292=\"\",0,VAR(AO$10:AO293))","v":0},null,null,"",{"$f":"IF(AT293=\"\",0,AVERAGE(AT$10:AT293))","v":0},{"$f":"IF(AT292=\"\",0,VAR(AT$10:AT293))","v":0},null,null,"",{"$f":"IF(AY293=\"\",0,AVERAGE(AY$10:AY293))","v":0},{"$f":"IF(AY292=\"\",0,VAR(AY$10:AY293))","v":0}]
[null,null,null,null,null,null,{"$f":"IF(F294=\"\",0,AVERAGE($F$10:F294))","v":0},{"$f":"IF(F293=\"\",0,VAR($F$10:F294))","v":0},null,null,"",{"$f":"IF(K294=\"\",0,AVERAGE($K$10:K294))","v":0},{"$f":"IF(K293=\"\",0,VAR($K$10:K294))","v":0},null,null,"",{"$f":"IF(P294=\"\",0,AVERAGE(P$10:P294))","v":0},{"$f":"IF(P293=\"\",0,VAR(P$10:P294))","v":0},null,null,"",{"$f":"IF(U294=\"\",0,AVERAGE(U$10:U294))","v":0},{"$f":"IF(U293=\"\",0,VAR(U$10:U294))","v":0},null,null,"",{"$f":"IF(Z294=\"\",0,AVERAGE(Z$10:Z294))","v":0},{"$f":"IF(Z293=\"\",0,VAR(Z$10:Z294))","v":0},null,null,"",{"$f":"IF(AE294=\"\",0,AVERAGE(AE$10:AE294))","v":0},{"$f":"IF(AE293=\"\",0,VAR(AE$10:AE294))","v":0},null,null,"",{"$f":"IF(AJ294=\"\",0,AVERAGE(AJ$10:AJ294))","v":0},{"$f":"IF(AJ293=\"\",0,VAR(AJ$10:AJ294))","v":0},null,null,"",{"$f":"IF(AO294=\"\",0,AVERAGE(AO$10:AO294))","v":0},{"$f":"IF(AO293=\"\",0,VAR(AO$10:AO294))","v":0},null,null,"",{"$f":"IF(AT294=\"\",0,AVERAGE(AT$10:AT294))","v":0},{"$f":"IF(AT293=\"\",0,VAR(AT$10:AT294))","v":0},null,null,"",{"$f":"IF(AY294=\"\",0,AVERAGE(AY$10:AY294))","v":0},{"$f":"IF(AY293=\"\",0,VAR(AY$10:AY294))","v":0}]
[null,null,null,null,null,{"$f":"IF(E295=\"\",\"\",+(E295-E294)/E294)","v":""},{"$f":"IF(F295=\"\",0,AVERAGE($F$10:F295))","v":0},{"$f":"IF(F294=\"\",0,VAR($F$10:F295))","v":0},null,null,"",{"$f":"IF(K295=\"\",0,AVERAGE($K$10:K295))","v":0},{"$f":"IF(K294=\"\",0,VAR($K$10:K295))","v":0},null,null,"",{"$f":"IF(P295=\"\",0,AVERAGE(P$10:P295))","v":0},{"$f":"IF(P294=\"\",0,VAR(P$10:P295))","v":0},null,null,"",{"$f":"IF(U295=\"\",0,AVERAGE(U$10:U295))","v":0},{"$f":"IF(U294=\"\",0,VAR(U$10:U295))","v":0},null,null,"",{"$f":"IF(Z295=\"\",0,AVERAGE(Z$10:Z295))","v":0},{"$f":"IF(Z294=\"\",0,VAR(Z$10:Z295))","v":0},null,null,"",{"$f":"IF(AE295=\"\",0,AVERAGE(AE$10:AE295))","v":0},{"$f":"IF(AE294=\"\",0,VAR(AE$10:AE295))","v":0},null,null,"",{"$f":"IF(AJ295=\"\",0,AVERAGE(AJ$10:AJ295))","v":0},{"$f":"IF(AJ294=\"\",0,VAR(AJ$10:AJ295))","v":0},null,null,"",{"$f":"IF(AO295=\"\",0,AVERAGE(AO$10:AO295))","v":0},{"$f":"IF(AO294=\"\",0,VAR(AO$10:AO295))","v":0},null,null,"",{"$f":"IF(AT295=\"\",0,AVERAGE(AT$10:AT295))","v":0},{"$f":"IF(AT294=\"\",0,VAR(AT$10:AT295))","v":0},null,null,"",{"$f":"IF(AY295=\"\",0,AVERAGE(AY$10:AY295))","v":0},{"$f":"IF(AY294=\"\",0,VAR(AY$10:AY295))","v":0}]
[null,null,null,null,null,"",{"$f":"IF(F296=\"\",0,AVERAGE($F$10:F296))","v":0},{"$f":"IF(F295=\"\",0,VAR($F$10:F296))","v":0},null,null,"",{"$f":"IF(K296=\"\",0,AVERAGE($K$10:K296))","v":0},{"$f":"IF(K295=\"\",0,VAR($K$10:K296))","v":0},null,null,"",{"$f":"IF(P296=\"\",0,AVERAGE(P$10:P296))","v":0},{"$f":"IF(P295=\"\",0,VAR(P$10:P296))","v":0},null,null,"",{"$f":"IF(U296=\"\",0,AVERAGE(U$10:U296))","v":0},{"$f":"IF(U295=\"\",0,VAR(U$10:U296))","v":0},null,null,"",{"$f":"IF(Z296=\"\",0,AVERAGE(Z$10:Z296))","v":0},{"$f":"IF(Z295=\"\",0,VAR(Z$10:Z296))","v":0},null,null,"",{"$f":"IF(AE296=\"\",0,AVERAGE(AE$10:AE296))","v":0},{"$f":"IF(AE295=\"\",0,VAR(AE$10:AE296))","v":0},null,null,"",{"$f":"IF(AJ296=\"\",0,AVERAGE(AJ$10:AJ296))","v":0},{"$f":"IF(AJ295=\"\",0,VAR(AJ$10:AJ296))","v":0},null,null,"",{"$f":"IF(AO296=\"\",0,AVERAGE(AO$10:AO296))","v":0},{"$f":"IF(AO295=\"\",0,VAR(AO$10:AO296))","v":0},null,null,"",{"$f":"IF(AT296=\"\",0,AVERAGE(AT$10:AT296))","v":0},{"$f":"IF(AT295=\"\",0,VAR(AT$10:AT296))","v":0},null,null,"",{"$f":"IF(AY296=\"\",0,AVERAGE(AY$10:AY296))","v":0},{"$f":"IF(AY295=\"\",0,VAR(AY$10:AY296))","v":0}]
[null,null,null,null,null,null,{"$f":"IF(F297=\"\",0,AVERAGE($F$10:F297))","v":0},{"$f":"IF(F296=\"\",0,VAR($F$10:F297))","v":0},null,null,"",{"$f":"IF(K297=\"\",0,AVERAGE($K$10:K297))","v":0},{"$f":"IF(K296=\"\",0,VAR($K$10:K297))","v":0},null,null,"",{"$f":"IF(P297=\"\",0,AVERAGE(P$10:P297))","v":0},{"$f":"IF(P296=\"\",0,VAR(P$10:P297))","v":0},null,null,"",{"$f":"IF(U297=\"\",0,AVERAGE(U$10:U297))","v":0},{"$f":"IF(U296=\"\",0,VAR(U$10:U297))","v":0},null,null,"",{"$f":"IF(Z297=\"\",0,AVERAGE(Z$10:Z297))","v":0},{"$f":"IF(Z296=\"\",0,VAR(Z$10:Z297))","v":0},null,null,"",{"$f":"IF(AE297=\"\",0,AVERAGE(AE$10:AE297))","v":0},{"$f":"IF(AE296=\"\",0,VAR(AE$10:AE297))","v":0},null,null,"",{"$f":"IF(AJ297=\"\",0,AVERAGE(AJ$10:AJ297))","v":0},{"$f":"IF(AJ296=\"\",0,VAR(AJ$10:AJ297))","v":0},null,null,"",{"$f":"IF(AO297=\"\",0,AVERAGE(AO$10:AO297))","v":0},{"$f":"IF(AO296=\"\",0,VAR(AO$10:AO297))","v":0},null,null,"",{"$f":"IF(AT297=\"\",0,AVERAGE(AT$10:AT297))","v":0},{"$f":"IF(AT296=\"\",0,VAR(AT$10:AT297))","v":0},null,null,"",{"$f":"IF(AY297=\"\",0,AVERAGE(AY$10:AY297))","v":0},{"$f":"IF(AY296=\"\",0,VAR(AY$10:AY297))","v":0}]
[null,null,null,null,null,{"$f":"IF(E298=\"\",\"\",+(E298-E297)/E297)","v":""},{"$f":"IF(F298=\"\",0,AVERAGE($F$10:F298))","v":0},{"$f":"IF(F297=\"\",0,VAR($F$10:F298))","v":0},null,null,"",{"$f":"IF(K298=\"\",0,AVERAGE($K$10:K298))","v":0},{"$f":"IF(K297=\"\",0,VAR($K$10:K298))","v":0},null,null,"",{"$f":"IF(P298=\"\",0,AVERAGE(P$10:P298))","v":0},{"$f":"IF(P297=\"\",0,VAR(P$10:P298))","v":0},null,null,"",{"$f":"IF(U298=\"\",0,AVERAGE(U$10:U298))","v":0},{"$f":"IF(U297=\"\",0,VAR(U$10:U298))","v":0},null,null,"",{"$f":"IF(Z298=\"\",0,AVERAGE(Z$10:Z298))","v":0},{"$f":"IF(Z297=\"\",0,VAR(Z$10:Z298))","v":0},null,null,"",{"$f":"IF(AE298=\"\",0,AVERAGE(AE$10:AE298))","v":0},{"$f":"IF(AE297=\"\",0,VAR(AE$10:AE298))","v":0},null,null,"",{"$f":"IF(AJ298=\"\",0,AVERAGE(AJ$10:AJ298))","v":0},{"$f":"IF(AJ297=\"\",0,VAR(AJ$10:AJ298))","v":0},null,null,"",{"$f":"IF(AO298=\"\",0,AVERAGE(AO$10:AO298))","v":0},{"$f":"IF(AO297=\"\",0,VAR(AO$10:AO298))","v":0},null,null,"",{"$f":"IF(AT298=\"\",0,AVERAGE(AT$10:AT298))","v":0},{"$f":"IF(AT297=\"\",0,VAR(AT$10:AT298))","v":0},null,null,"",{"$f":"IF(AY298=\"\",0,AVERAGE(AY$10:AY298))","v":0},{"$f":"IF(AY297=\"\",0,VAR(AY$10:AY298))","v":0}]
[null,null,null,null,null,"",{"$f":"IF(F299=\"\",0,AVERAGE($F$10:F299))","v":0},{"$f":"IF(F298=\"\",0,VAR($F$10:F299))","v":0},null,null,"",{"$f":"IF(K299=\"\",0,AVERAGE($K$10:K299))","v":0},{"$f":"IF(K298=\"\",0,VAR($K$10:K299))","v":0},null,null,"",{"$f":"IF(P299=\"\",0,AVERAGE(P$10:P299))","v":0},{"$f":"IF(P298=\"\",0,VAR(P$10:P299))","v":0},null,null,"",{"$f":"IF(U299=\"\",0,AVERAGE(U$10:U299))","v":0},{"$f":"IF(U298=\"\",0,VAR(U$10:U299))","v":0},null,null,"",{"$f":"IF(Z299=\"\",0,AVERAGE(Z$10:Z299))","v":0},{"$f":"IF(Z298=\"\",0,VAR(Z$10:Z299))","v":0},null,null,"",{"$f":"IF(AE299=\"\",0,AVERAGE(AE$10:AE299))","v":0},{"$f":"IF(AE298=\"\",0,VAR(AE$10:AE299))","v":0},null,null,"",{"$f":"IF(AJ299=\"\",0,AVERAGE(AJ$10:AJ299))","v":0},{"$f":"IF(AJ298=\"\",0,VAR(AJ$10:AJ299))","v":0},null,null,"",{"$f":"IF(AO299=\"\",0,AVERAGE(AO$10:AO299))","v":0},{"$f":"IF(AO298=\"\",0,VAR(AO$10:AO299))","v":0},null,null,"",{"$f":"IF(AT299=\"\",0,AVERAGE(AT$10:AT299))","v":0},{"$f":"IF(AT298=\"\",0,VAR(AT$10:AT299))","v":0},null,null,"",{"$f":"IF(AY299=\"\",0,AVERAGE(AY$10:AY299))","v":0},{"$f":"IF(AY298=\"\",0,VAR(AY$10:AY299))","v":0}]
[null,null,null,null,null,null,{"$f":"IF(F300=\"\",0,AVERAGE($F$10:F300))","v":0},{"$f":"IF(F299=\"\",0,VAR($F$10:F300))","v":0},null,null,"",{"$f":"IF(K300=\"\",0,AVERAGE($K$10:K300))","v":0},{"$f":"IF(K299=\"\",0,VAR($K$10:K300))","v":0},null,null,"",{"$f":"IF(P300=\"\",0,AVERAGE(P$10:P300))","v":0},{"$f":"IF(P299=\"\",0,VAR(P$10:P300))","v":0},null,null,"",{"$f":"IF(U300=\"\",0,AVERAGE(U$10:U300))","v":0},{"$f":"IF(U299=\"\",0,VAR(U$10:U300))","v":0},null,null,"",{"$f":"IF(Z300=\"\",0,AVERAGE(Z$10:Z300))","v":0},{"$f":"IF(Z299=\"\",0,VAR(Z$10:Z300))","v":0},null,null,"",{"$f":"IF(AE300=\"\",0,AVERAGE(AE$10:AE300))","v":0},{"$f":"IF(AE299=\"\",0,VAR(AE$10:AE300))","v":0},null,null,"",{"$f":"IF(AJ300=\"\",0,AVERAGE(AJ$10:AJ300))","v":0},{"$f":"IF(AJ299=\"\",0,VAR(AJ$10:AJ300))","v":0},null,null,"",{"$f":"IF(AO300=\"\",0,AVERAGE(AO$10:AO300))","v":0},{"$f":"IF(AO299=\"\",0,VAR(AO$10:AO300))","v":0},null,null,"",{"$f":"IF(AT300=\"\",0,AVERAGE(AT$10:AT300))","v":0},{"$f":"IF(AT299=\"\",0,VAR(AT$10:AT300))","v":0},null,null,"",{"$f":"IF(AY300=\"\",0,AVERAGE(AY$10:AY300))","v":0},{"$f":"IF(AY299=\"\",0,VAR(AY$10:AY300))","v":0}]
[null,null,null,null,null,{"$f":"IF(E301=\"\",\"\",+(E301-E300)/E300)","v":""},{"$f":"IF(F301=\"\",0,AVERAGE($F$10:F301))","v":0},{"$f":"IF(F300=\"\",0,VAR($F$10:F301))","v":0},null,null,"",{"$f":"IF(K301=\"\",0,AVERAGE($K$10:K301))","v":0},{"$f":"IF(K300=\"\",0,VAR($K$10:K301))","v":0},null,null,"",{"$f":"IF(P301=\"\",0,AVERAGE(P$10:P301))","v":0},{"$f":"IF(P300=\"\",0,VAR(P$10:P301))","v":0},null,null,"",{"$f":"IF(U301=\"\",0,AVERAGE(U$10:U301))","v":0},{"$f":"IF(U300=\"\",0,VAR(U$10:U301))","v":0},null,null,"",{"$f":"IF(Z301=\"\",0,AVERAGE(Z$10:Z301))","v":0},{"$f":"IF(Z300=\"\",0,VAR(Z$10:Z301))","v":0},null,null,"",{"$f":"IF(AE301=\"\",0,AVERAGE(AE$10:AE301))","v":0},{"$f":"IF(AE300=\"\",0,VAR(AE$10:AE301))","v":0},null,null,"",{"$f":"IF(AJ301=\"\",0,AVERAGE(AJ$10:AJ301))","v":0},{"$f":"IF(AJ300=\"\",0,VAR(AJ$10:AJ301))","v":0},null,null,"",{"$f":"IF(AO301=\"\",0,AVERAGE(AO$10:AO301))","v":0},{"$f":"IF(AO300=\"\",0,VAR(AO$10:AO301))","v":0},null,null,"",{"$f":"IF(AT301=\"\",0,AVERAGE(AT$10:AT301))","v":0},{"$f":"IF(AT300=\"\",0,VAR(AT$10:AT301))","v":0},null,null,"",{"$f":"IF(AY301=\"\",0,AVERAGE(AY$10:AY301))","v":0},{"$f":"IF(AY300=\"\",0,VAR(AY$10:AY301))","v":0}]
[null,null,null,null,null,"",{"$f":"IF(F302=\"\",0,AVERAGE($F$10:F302))","v":0},{"$f":"IF(F301=\"\",0,VAR($F$10:F302))","v":0},null,null,"",{"$f":"IF(K302=\"\",0,AVERAGE($K$10:K302))","v":0},{"$f":"IF(K301=\"\",0,VAR($K$10:K302))","v":0},null,null,"",{"$f":"IF(P302=\"\",0,AVERAGE(P$10:P302))","v":0},{"$f":"IF(P301=\"\",0,VAR(P$10:P302))","v":0},null,null,"",{"$f":"IF(U302=\"\",0,AVERAGE(U$10:U302))","v":0},{"$f":"IF(U301=\"\",0,VAR(U$10:U302))","v":0},null,null,"",{"$f":"IF(Z302=\"\",0,AVERAGE(Z$10:Z302))","v":0},{"$f":"IF(Z301=\"\",0,VAR(Z$10:Z302))","v":0},null,null,"",{"$f":"IF(AE302=\"\",0,AVERAGE(AE$10:AE302))","v":0},{"$f":"IF(AE301=\"\",0,VAR(AE$10:AE302))","v":0},null,null,"",{"$f":"IF(AJ302=\"\",0,AVERAGE(AJ$10:AJ302))","v":0},{"$f":"IF(AJ301=\"\",0,VAR(AJ$10:AJ302))","v":0},null,null,"",{"$f":"IF(AO302=\"\",0,AVERAGE(AO$10:AO302))","v":0},{"$f":"IF(AO301=\"\",0,VAR(AO$10:AO302))","v":0},null,null,"",{"$f":"IF(AT302=\"\",0,AVERAGE(AT$10:AT302))","v":0},{"$f":"IF(AT301=\"\",0,VAR(AT$10:AT302))","v":0},null,null,"",{"$f":"IF(AY302=\"\",0,AVERAGE(AY$10:AY302))","v":0},{"$f":"IF(AY301=\"\",0,VAR(AY$10:AY302))","v":0}]
[null,null,null,null,null,null,{"$f":"IF(F303=\"\",0,AVERAGE($F$10:F303))","v":0},{"$f":"IF(F302=\"\",0,VAR($F$10:F303))","v":0},null,null,"",{"$f":"IF(K303=\"\",0,AVERAGE($K$10:K303))","v":0},{"$f":"IF(K302=\"\",0,VAR($K$10:K303))","v":0},null,null,"",{"$f":"IF(P303=\"\",0,AVERAGE(P$10:P303))","v":0},{"$f":"IF(P302=\"\",0,VAR(P$10:P303))","v":0},null,null,"",{"$f":"IF(U303=\"\",0,AVERAGE(U$10:U303))","v":0},{"$f":"IF(U302=\"\",0,VAR(U$10:U303))","v":0},null,null,"",{"$f":"IF(Z303=\"\",0,AVERAGE(Z$10:Z303))","v":0},{"$f":"IF(Z302=\"\",0,VAR(Z$10:Z303))","v":0},null,null,"",{"$f":"IF(AE303=\"\",0,AVERAGE(AE$10:AE303))","v":0},{"$f":"IF(AE302=\"\",0,VAR(AE$10:AE303))","v":0},null,null,"",{"$f":"IF(AJ303=\"\",0,AVERAGE(AJ$10:AJ303))","v":0},{"$f":"IF(AJ302=\"\",0,VAR(AJ$10:AJ303))","v":0},null,null,"",{"$f":"IF(AO303=\"\",0,AVERAGE(AO$10:AO303))","v":0},{"$f":"IF(AO302=\"\",0,VAR(AO$10:AO303))","v":0},null,null,"",{"$f":"IF(AT303=\"\",0,AVERAGE(AT$10:AT303))","v":0},{"$f":"IF(AT302=\"\",0,VAR(AT$10:AT303))","v":0},null,null,"",{"$f":"IF(AY303=\"\",0,AVERAGE(AY$10:AY303))","v":0},{"$f":"IF(AY302=\"\",0,VAR(AY$10:AY303))","v":0}]
[null,null,null,null,null,{"$f":"IF(E304=\"\",\"\",+(E304-E303)/E303)","v":""},{"$f":"IF(F304=\"\",0,AVERAGE($F$10:F304))","v":0},{"$f":"IF(F303=\"\",0,VAR($F$10:F304))","v":0},null,null,"",{"$f":"IF(K304=\"\",0,AVERAGE($K$10:K304))","v":0},{"$f":"IF(K303=\"\",0,VAR($K$10:K304))","v":0},null,null,"",{"$f":"IF(P304=\"\",0,AVERAGE(P$10:P304))","v":0},{"$f":"IF(P303=\"\",0,VAR(P$10:P304))","v":0},null,null,"",{"$f":"IF(U304=\"\",0,AVERAGE(U$10:U304))","v":0},{"$f":"IF(U303=\"\",0,VAR(U$10:U304))","v":0},null,null,"",{"$f":"IF(Z304=\"\",0,AVERAGE(Z$10:Z304))","v":0},{"$f":"IF(Z303=\"\",0,VAR(Z$10:Z304))","v":0},null,null,"",{"$f":"IF(AE304=\"\",0,AVERAGE(AE$10:AE304))","v":0},{"$f":"IF(AE303=\"\",0,VAR(AE$10:AE304))","v":0},null,null,"",{"$f":"IF(AJ304=\"\",0,AVERAGE(AJ$10:AJ304))","v":0},{"$f":"IF(AJ303=\"\",0,VAR(AJ$10:AJ304))","v":0},null,null,"",{"$f":"IF(AO304=\"\",0,AVERAGE(AO$10:AO304))","v":0},{"$f":"IF(AO303=\"\",0,VAR(AO$10:AO304))","v":0},null,null,"",{"$f":"IF(AT304=\"\",0,AVERAGE(AT$10:AT304))","v":0},{"$f":"IF(AT303=\"\",0,VAR(AT$10:AT304))","v":0},null,null,"",{"$f":"IF(AY304=\"\",0,AVERAGE(AY$10:AY304))","v":0},{"$f":"IF(AY303=\"\",0,VAR(AY$10:AY304))","v":0}]

{"sheet":"Riesgo Mínimo","index":2,"n_rows":28,"n_cols":17,"rows_kept":28,"cut":false,"hidden":false,"merged":[[25,13,25,14],[27,13,27,14],[5,2,5,7],[8,4,10,4],[8,12,10,12],[26,13,26,14],[25,2,25,3],[26,2,26,3],[24,2,24,4],[6,5,6,7],[8,5,10,5],[8,7,10,7],[5,10,5,17],[8,15,10,15],[8,16,10,16],[6,13,6,15],[8,13,10,13],[24,13,24,15],[24,7,24,9]]}
[]
[]
[]
[]
[]
[null,null,"Cartera Actual",null,null,null,null,null,null,null,"Cartera Óptima Minimizando el riesgo"]
[null,null,"Fecha de Cartera","2015-11-17",null,null,null,null,null,null,"Fecha de Cartera",{"$f":"D7","v":"2015-11-17"}]
[]
[null,null,null,null,"Participación  en la cartera","Rendimiento Promedio",null,null,null,null,null,null,"Participación  en la cartera","Rendimiento Promedio",null,"Porcentaje de Participación Mínimo","Porcentaje de Participación Máxima"]
[null,null,null,null,null,null,"Riesgo",null,null,null,null,null,"en la",null,"Riesgo"]
[null,null,null,null,null,null,null,null,null,null,null,null,"Cartera"]
[null,null,null,{"$f":"L12","v":"Tenaris"},0.8,{"$f":"IF(D7=\"\",0,VLOOKUP($L$7,Cotizaciones,5,FALSE))","v":9.7572585367749105E-3},{"$f":"IF($L$7=\"\",0,VLOOKUP($L$7,Cotizaciones,6,FALSE))","v":1.5106221924611498E-8},null,null,null,null,{"$f":"'Cantidad de Acciones'!D6","v":"Tenaris"},0.92000099999999996,{"$f":"IF(L7=\"\",0,VLOOKUP($L$7,Cotizaciones,5,FALSE))","v":9.7572585367749105E-3},{"$f":"IF($L$7=\"\",0,VLOOKUP($L$7,Cotizaciones,6,FALSE))","v":1.5106221924611498E-8},0.9,1]
[null,null,null,"Galicia",0.2,{"$f":"IF(D7=\"\",0,VLOOKUP($L$7,Cotizaciones,10,FALSE))","v":0.15788568257491675},{"$f":"IF($L$7=\"\",0,VLOOKUP($L$7,Cotizaciones,11,FALSE))","v":0.11852357461532603},null,null,null,null,{"$f":"'Cantidad de Acciones'!D7","v":"Galicia"},0.08,{"$f":"IF(L7=\"\",0,VLOOKUP($L$7,Cotizaciones,10,FALSE))","v":0.15788568257491675},{"$f":"IF($L$7=\"\",0,VLOOKUP($L$7,Cotizaciones,11,FALSE))","v":0.11852357461532603},0.08,1]
[null,null,null,"YPF",0,{"$f":"IF(D7=\"\",0,VLOOKUP($L$7,Cotizaciones,15,FALSE))","v":0},{"$f":"IF($L$7=\"\",0,VLOOKUP($L$7,Cotizaciones,16,FALSE))","v":0},null,null,null,null,{"$f":"'Cantidad de Acciones'!D8","v":"YPF"},0,{"$f":"IF(L7=\"\",0,VLOOKUP($L$7,Cotizaciones,15,FALSE))","v":0},{"$f":"IF($L$7=\"\",0,VLOOKUP($L$7,Cotizaciones,16,FALSE))","v":0},0,0]
[null,null,null,"Edenor",0,{"$f":"IF(D7=\"\",0,VLOOKUP($L$7,Cotizaciones,20,FALSE))","v":0},{"$f":"IF($L$7=\"\",0,VLOOKUP($L$7,Cotizaciones,21,FALSE))","v":0},null,null,null,null,{"$f":"'Cantidad de Acciones'!D9","v":"Edenor"},0,{"$f":"IF(L7=\"\",0,VLOOKUP($L$7,Cotizaciones,20,FALSE))","v":0},{"$f":"IF($L$7=\"\",0,VLOOKUP($L$7,Cotizaciones,21,FALSE))","v":0},0,0]
[null,null,null,"PESA",0,{"$f":"IF($L$7=\"\",0,VLOOKUP($L$7,Cotizaciones,25,FALSE))","v":0},{"$f":"IF($L$7=\"\",0,VLOOKUP($L$7,Cotizaciones,26,FALSE))","v":0},null,null,null,null,{"$f":"'Cantidad de Acciones'!D10","v":"PESA"},0,{"$f":"IF($L$7=\"\",0,VLOOKUP($L$7,Cotizaciones,25,FALSE))","v":0},{"$f":"IF($L$7=\"\",0,VLOOKUP($L$7,Cotizaciones,26,FALSE))","v":0},0,0]
[null,null,null,6,0,{"$f":"IF($L$7=\"\",0,VLOOKUP($L$7,Cotizaciones,30,FALSE))","v":0},{"$f":"IF($L$7=\"\",0,VLOOKUP($L$7,Cotizaciones,31,FALSE))","v":0},null,null,null,null,{"$f":"'Cantidad de Acciones'!D11","v":6},0,{"$f":"IF($L$7=\"\",0,VLOOKUP($L$7,Cotizaciones,30,FALSE))","v":0},{"$f":"IF($L$7=\"\",0,VLOOKUP($L$7,Cotizaciones,31,FALSE))","v":0},0,0]
[null,null,null,7,0,{"$f":"IF($L$7=\"\",0,VLOOKUP($L$7,Cotizaciones,35,FALSE))","v":0},{"$f":"IF($L$7=\"\",0,VLOOKUP($L$7,Cotizaciones,36,FALSE))","v":0},null,null,null,null,{"$f":"'Cantidad de Acciones'!D12","v":7},0,{"$f":"IF($L$7=\"\",0,VLOOKUP($L$7,Cotizaciones,35,FALSE))","v":0},{"$f":"IF($L$7=\"\",0,VLOOKUP($L$7,Cotizaciones,36,FALSE))","v":0},0,0]
[null,null,null,8,0,{"$f":"IF($L$7=\"\",0,VLOOKUP($L$7,Cotizaciones,40,FALSE))","v":0},{"$f":"IF($L$7=\"\",0,VLOOKUP($L$7,Cotizaciones,41,FALSE))","v":0},null,null,null,null,{"$f":"'Cantidad de Acciones'!D13","v":8},0,{"$f":"IF($L$7=\"\",0,VLOOKUP($L$7,Cotizaciones,40,FALSE))","v":0},{"$f":"IF($L$7=\"\",0,VLOOKUP($L$7,Cotizaciones,41,FALSE))","v":0},0,0]
[null,null,null,9,0,{"$f":"IF($L$7=\"\",0,VLOOKUP($L$7,Cotizaciones,45,FALSE))","v":0},{"$f":"IF($L$7=\"\",0,VLOOKUP($L$7,Cotizaciones,46,FALSE))","v":0},null,null,null,null,{"$f":"'Cantidad de Acciones'!D14","v":9},0,{"$f":"IF($L$7=\"\",0,VLOOKUP($L$7,Cotizaciones,45,FALSE))","v":0},{"$f":"IF($L$7=\"\",0,VLOOKUP($L$7,Cotizaciones,46,FALSE))","v":0},0,0]
[null,null,null,10,0,{"$f":"IF($L$7=\"\",0,VLOOKUP($L$7,Cotizaciones,50,FALSE))","v":0},{"$f":"IF($L$7=\"\",0,VLOOKUP($L$7,Cotizaciones,51,FALSE))","v":0},null,null,null,null,{"$f":"'Cantidad de Acciones'!D15","v":10},0,{"$f":"IF($L$7=\"\",0,VLOOKUP($L$7,Cotizaciones,50,FALSE))","v":0},{"$f":"IF($L$7=\"\",0,VLOOKUP($L$7,Cotizaciones,51,FALSE))","v":0},0,0]
[null,null,null,null,null,null,null,null,null,null,null,null,{"$f":"SUM(M12:M21)","v":1.0000009999999999},1]
[]
[]
[null,null,"Rendimiento Actual  de la Cartera",null,null,null,null,"Diferencias",null,null,null,null,null,"Rendimiento Óptimo de Cartera minimizando el Riesgo"]
[null,null,"Rendimiento del Portafolio",null,{"$f":"IF(D7=\"\",\"\",SUMPRODUCT(E12:E21,F12:F21))","v":3.938294334440328E-2},null,null,"Rendimiento",{"$f":"P26-E26","v":-1.7775401127318485E-2},{"$f":"IF(I26>0,\"La cartera optima tiene mayor rendimiento que la actual\", \"La cartera actual tiene mayor rendimiento que la óptïma\")","v":"La cartera actual tiene mayor rendimiento que la óptïma"},null,null,null,"Rendimiento de la cartera",null,{"$f":"IF(L7=\"\",\"\",SUMPRODUCT(M12:M21,N12:N21))","v":2.1607542217084795E-2}]
[null,null,"Mínimo Riesgo",null,{"$f":"IF(D7=\"\",\"\",IF(ISERROR((E12^2)*G12+(E13^2)*G13+(E14^2)*G14+(E15^2)*G15+(E16^2)*G16+(E17^2)*G17+(E18^2)*G18+(E19^2)*G19+(E20^2)*G20+(E21^2)*G21),\"\",(E12^2)*G12+(E13^2)*G13+(E14^2)*G14+(E15^2)*G15+(E16^2)*G16+(E17^2)*G17+(E18^2)*G18+(E19^2)*G19+(E20^2)*G20+(E21^2)*G21))","v":4.740952652595074E-3},null,null,"Riesgo",{"$f":"P27-E27","v":-3.9823889891229553E-3},{"$f":"IF(I27>0,\"La cartera optima tiene mayor menor riesgo que la actual\", \"La cartera actual tiene mayor riesgo que la óptïma\")","v":"La cartera actual tiene mayor riesgo que la óptïma"},null,null,null,"Mínimo Riesgo",null,{"$f":"IF(L7=\"\",\"\",IF(ISERROR((M12^2)*O12+(M13^2)*O13+(M14^2)*O14+(M15^2)*O15+(M16^2)*O16+(M17^2)*O17+(M18^2)*O18+(M19^2)*O19+(M20^2)*O20+(M21^2)*O21),\"\",(M12^2)*O12+(M13^2)*O13+(M14^2)*O14+(M15^2)*O15+(M16^2)*O16+(M17^2)*O17+(M18^2)*O18+(M19^2)*O19+(M20^2)*O20+(M21^2)*O21))","v":7.5856366347211912E-4}]
[null,null,null,null,null,null,null,null,null,null,null,null,null,"Rendimiento Mínimo Tolerable",null,0.01]

{"sheet":"Rendimiento Máximo","index":3,"n_rows":28,"n_cols":17,"rows_kept":28,"cut":false,"hidden":false,"merged":[[26,2,26,3],[26,13,26,14],[27,13,27,14],[8,16,10,16],[24,2,24,4],[24,7,24,9],[24,13,24,15],[25,2,25,3],[25,13,25,14],[5,2,5,7],[5,10,5,17],[6,5,6,7],[6,13,6,15],[8,4,10,4],[8,5,10,5],[8,7,10,7],[8,12,10,12],[8,13,10,13],[8,15,10,15]]}
[]
[]
[]
[]
[]
[null,null,"Cartera Actual",null,null,null,null,null,null,null,"Cartera Óptima Maximizando el Rendimiento"]
[null,null,"Fecha de Cartera","2015-11-17",null,null,null,null,null,null,"Fecha de Cartera",{"$f":"D7","v":"2015-11-17"}]
[]
[null,null,null,null,"Participación  en la cartera","Rendimiento Promedio",null,null,null,null,null,null,"Participación  en la cartera","Rendimiento Promedio",null,"Porcentaje de Participación Mínimo","Porcentaje de Participación Máxima"]
[null,null,null,null,null,null,"Riesgo",null,null,null,null,null,"en la",null,"Riesgo"]
[null,null,null,null,null,null,null,null,null,null,null,null,"Cartera"]
[null,null,null,{"$f":"L12","v":"Tenaris"},0.5,{"$f":"IF(D7=\"\",0,VLOOKUP($L$7,Cotizaciones,5,FALSE))","v":9.7572585367749105E-3},{"$f":"IF($L$7=\"\",0,VLOOKUP($L$7,Cotizaciones,6,FALSE))","v":1.5106221924611498E-8},null,null,null,null,{"$f":"'Cantidad de Acciones'!D6","v":"Tenaris"},0.35049024011784891,{"$f":"IF(L7=\"\",0,VLOOKUP($L$7,Cotizaciones,5,FALSE))","v":9.7572585367749105E-3},{"$f":"IF($L$7=\"\",0,VLOOKUP($L$7,Cotizaciones,6,FALSE))","v":1.5106221924611498E-8},0.3,1]
[null,null,null,"Galicia",0.5,{"$f":"IF(D7=\"\",0,VLOOKUP($L$7,Cotizaciones,10,FALSE))","v":0.15788568257491675},{"$f":"IF($L$7=\"\",0,VLOOKUP($L$7,Cotizaciones,11,FALSE))","v":0.11852357461532603},null,null,null,null,{"$f":"'Cantidad de Acciones'!D7","v":"Galicia"},0.64950975988215121,{"$f":"IF(L7=\"\",0,VLOOKUP($L$7,Cotizaciones,10,FALSE))","v":0.15788568257491675},{"$f":"IF($L$7=\"\",0,VLOOKUP($L$7,Cotizaciones,11,FALSE))","v":0.11852357461532603},0.08,1]
[null,null,null,"YPF",0,{"$f":"IF(D7=\"\",0,VLOOKUP($L$7,Cotizaciones,15,FALSE))","v":0},{"$f":"IF($L$7=\"\",0,VLOOKUP($L$7,Cotizaciones,16,FALSE))","v":0},null,null,null,null,{"$f":"'Cantidad de Acciones'!D8","v":"YPF"},0,{"$f":"IF(L7=\"\",0,VLOOKUP($L$7,Cotizaciones,15,FALSE))","v":0},{"$f":"IF($L$7=\"\",0,VLOOKUP($L$7,Cotizaciones,16,FALSE))","v":0},0,0]
[null,null,null,"Edenor",0,{"$f":"IF(D7=\"\",0,VLOOKUP($L$7,Cotizaciones,20,FALSE))","v":0},{"$f":"IF($L$7=\"\",0,VLOOKUP($L$7,Cotizaciones,21,FALSE))","v":0},null,null,null,null,{"$f":"'Cantidad de Acciones'!D9","v":"Edenor"},0,{"$f":"IF(L7=\"\",0,VLOOKUP($L$7,Cotizaciones,20,FALSE))","v":0},{"$f":"IF($L$7=\"\",0,VLOOKUP($L$7,Cotizaciones,21,FALSE))","v":0},0,0]
[null,null,null,"PESA",0,{"$f":"IF($L$7=\"\",0,VLOOKUP($L$7,Cotizaciones,25,FALSE))","v":0},{"$f":"IF($L$7=\"\",0,VLOOKUP($L$7,Cotizaciones,26,FALSE))","v":0},null,null,null,null,{"$f":"'Cantidad de Acciones'!D10","v":"PESA"},0,{"$f":"IF($L$7=\"\",0,VLOOKUP($L$7,Cotizaciones,25,FALSE))","v":0},{"$f":"IF($L$7=\"\",0,VLOOKUP($L$7,Cotizaciones,26,FALSE))","v":0},0,0]
[null,null,null,6,0,{"$f":"IF($L$7=\"\",0,VLOOKUP($L$7,Cotizaciones,30,FALSE))","v":0},{"$f":"IF($L$7=\"\",0,VLOOKUP($L$7,Cotizaciones,31,FALSE))","v":0},null,null,null,null,{"$f":"'Cantidad de Acciones'!D11","v":6},0,{"$f":"IF($L$7=\"\",0,VLOOKUP($L$7,Cotizaciones,30,FALSE))","v":0},{"$f":"IF($L$7=\"\",0,VLOOKUP($L$7,Cotizaciones,31,FALSE))","v":0},0,0]
[null,null,null,7,0,{"$f":"IF($L$7=\"\",0,VLOOKUP($L$7,Cotizaciones,35,FALSE))","v":0},{"$f":"IF($L$7=\"\",0,VLOOKUP($L$7,Cotizaciones,36,FALSE))","v":0},null,null,null,null,{"$f":"'Cantidad de Acciones'!D12","v":7},0,{"$f":"IF($L$7=\"\",0,VLOOKUP($L$7,Cotizaciones,35,FALSE))","v":0},{"$f":"IF($L$7=\"\",0,VLOOKUP($L$7,Cotizaciones,36,FALSE))","v":0},0,0]
[null,null,null,8,0,{"$f":"IF($L$7=\"\",0,VLOOKUP($L$7,Cotizaciones,40,FALSE))","v":0},{"$f":"IF($L$7=\"\",0,VLOOKUP($L$7,Cotizaciones,41,FALSE))","v":0},null,null,null,null,{"$f":"'Cantidad de Acciones'!D13","v":8},0,{"$f":"IF($L$7=\"\",0,VLOOKUP($L$7,Cotizaciones,40,FALSE))","v":0},{"$f":"IF($L$7=\"\",0,VLOOKUP($L$7,Cotizaciones,41,FALSE))","v":0},0,0]
[null,null,null,9,0,{"$f":"IF($L$7=\"\",0,VLOOKUP($L$7,Cotizaciones,45,FALSE))","v":0},{"$f":"IF($L$7=\"\",0,VLOOKUP($L$7,Cotizaciones,46,FALSE))","v":0},null,null,null,null,{"$f":"'Cantidad de Acciones'!D14","v":9},0,{"$f":"IF($L$7=\"\",0,VLOOKUP($L$7,Cotizaciones,45,FALSE))","v":0},{"$f":"IF($L$7=\"\",0,VLOOKUP($L$7,Cotizaciones,46,FALSE))","v":0},0,0]
[null,null,null,10,0,{"$f":"IF($L$7=\"\",0,VLOOKUP($L$7,Cotizaciones,50,FALSE))","v":0},{"$f":"IF($L$7=\"\",0,VLOOKUP($L$7,Cotizaciones,51,FALSE))","v":0},null,null,null,null,{"$f":"'Cantidad de Acciones'!D15","v":10},0,{"$f":"IF($L$7=\"\",0,VLOOKUP($L$7,Cotizaciones,50,FALSE))","v":0},{"$f":"IF($L$7=\"\",0,VLOOKUP($L$7,Cotizaciones,51,FALSE))","v":0},0,0]
[null,null,null,null,null,null,null,null,null,null,null,null,{"$f":"SUM(M12:M21)","v":1},1]
[]
[]
[null,null,"Rendimiento Actual  de la Cartera",null,null,null,null,"Diferencias",null,null,null,null,null,"Rendimiento Óptimo de Cartera Max. el rendimiento"]
[null,null,"Rendimiento de la Cartera",null,{"$f":"IF(D7=\"\",\"\",SUMPRODUCT(E12:E21,F12:F21))","v":8.3821470555845837E-2},null,null,"Rendimiento",{"$f":"P26-E26","v":2.2146645109664062E-2},{"$f":"IF(I26>0,\"La cartera optima tiene mayor rendimiento que la actual\", \"La cartera actual tiene mayor rendimiento que la óptïma\")","v":"La cartera optima tiene mayor rendimiento que la actual"},null,null,null,"Rendimiento Máximo de la Cartera",null,{"$f":"IF(L7=\"\",\"\",SUMPRODUCT(M12:M21,N12:N21))","v":0.1059681156655099}]
[null,null,"Riesgo",null,{"$f":"IF(D7=\"\",\"\",IF(ISERROR((E12^2)*G12+(E13^2)*G13+(E14^2)*G14+(E15^2)*G15+(E16^2)*G16+(E17^2)*G17+(E18^2)*G18+(E19^2)*G19+(E20^2)*G20+(E21^2)*G21),\"\",(E12^2)*G12+(E13^2)*G13+(E14^2)*G14+(E15^2)*G15+(E16^2)*G16+(E17^2)*G17+(E18^2)*G18+(E19^2)*G19+(E20^2)*G20+(E21^2)*G21))","v":2.963089743038699E-2},null,null,"Riesgo",{"$f":"P27-E27","v":2.0369806671152114E-2},{"$f":"IF(I27>0,\"La cartera optima tiene mayor menor riesgo que la actual\", \"La cartera actual tiene mayor riesgo que la óptïma\")","v":"La cartera optima tiene mayor menor riesgo que la actual"},null,null,null,"Riesgo de la Cartera",null,{"$f":"IF(L7=\"\",\"\",IF(ISERROR((M12^2)*O12+(M13^2)*O13+(M14^2)*O14+(M15^2)*O15+(M16^2)*O16+(M17^2)*O17+(M18^2)*O18+(M19^2)*O19+(M20^2)*O20+(M21^2)*O21),\"\",(M12^2)*O12+(M13^2)*O13+(M14^2)*O14+(M15^2)*O15+(M16^2)*O16+(M17^2)*O17+(M18^2)*O18+(M19^2)*O19+(M20^2)*O20+(M21^2)*O21))","v":5.0000704101539103E-2}]
[null,null,null,null,null,null,null,null,null,null,null,null,null,"Riesgo Máximo Tolerado",null,0.05]