{"text_format":"1","workbook":"xlsx","n_sheets":15,"sheets":["Instrucciones","Resumen","01 Enero","02 Febrero","03 Marzo","04 Abril","05 Mayo","06 Junio","07 Julio","08 Agosto","09 Septiembre","10 Octubre","11 Noviembre","12 Diciembre","Categorias"],"not_rendered":{"charts":0,"images":2,"macros":1,"external_links":0,"defined_names":24,"comments":0,"pivot_tables":0},"unopened":[],"bounds":{"document_bytes":16777216,"sheet_cells":100000,"rows_first":2000,"rows_last":500,"rows_between":2000,"halvings":0,"cell_chars":16384,"cell_head_chars":4096},"cells_cut":0,"cells_raw":0,"read":"whole","date_system":"1900"}

{"sheet":"Instrucciones","index":0,"n_rows":0,"n_cols":0,"rows_kept":0,"cut":false,"hidden":false,"merged":[[3,1,3,11],[5,1,5,11],[7,1,7,11]]}

{"sheet":"Resumen","index":1,"n_rows":83,"n_cols":15,"rows_kept":83,"cut":false,"hidden":false,"merged":[[3,2,3,13],[3,1,4,1],[3,14,4,14]]}
[]
[]
[]
[null,"CONCEPTOS",2016,null,null,null,null,null,null,null,null,null,null,null,"TOTALES"]
[null,null,"ENERO","FEBRERO","MARZO","ABRIL","MAYO","JUNIO","JULIO","AGOSTO","SEPTIEMBRE","OCTUBRE","NOVIEMBRE","DICIEMBRE"]
[null,"Supermercado",{"$f":"SUMIF('01 Enero'!$B$10:$B$1002,$B6,'01 Enero'!$F$10:$F$1002)","v":0},{"$f":"SUMIF('02 Febrero'!$B$10:$B$1002,$B6,'02 Febrero'!$F$10:$F$1002)","v":0},{"$f":"SUMIF('03 Marzo'!$B$10:$B$1002,$B6,'03 Marzo'!$F$10:$F$1002)","v":0},{"$f":"SUMIF('04 Abril'!$B$10:$B$1002,$B6,'04 Abril'!$F$10:$F$1002)","v":0},{"$f":"SUMIF('05 Mayo'!$B$10:$B$1000,$B6,'05 Mayo'!$F$10:$F$1000)","v":0},{"$f":"SUMIF('06 Junio'!$B$10:$B$1002,$B6,'06 Junio'!$F$10:$F$1002)","v":0},{"$f":"SUMIF('07 Julio'!$B$10:$B$1002,$B6,'07 Julio'!$F$10:$F$1002)","v":0},{"$f":"SUMIF('08 Agosto'!$B$10:$B$1002,$B6,'08 Agosto'!$F$10:$F$1002)","v":0},{"$f":"SUMIF('09 Septiembre'!$B$10:$B$1002,$B6,'09 Septiembre'!$F$10:$F$1002)","v":0},{"$f":"SUMIF('10 Octubre'!$B$10:$B$1002,$B6,'10 Octubre'!$F$10:$F$1002)","v":0},{"$f":"SUMIF('11 Noviembre'!$B$10:$B$1002,$B6,'11 Noviembre'!$F$10:$F$1002)","v":0},{"$f":"SUMIF('12 Diciembre'!$B$10:$B$1002,$B6,'12 Diciembre'!$F$10:$F$1002)","v":0},{"$f":"SUM(C6:N6)","v":0}]
[null,"Alimentación",{"$f":"SUMIF('01 Enero'!$C$10:$C$1002,$B7,'01 Enero'!$F$10:$F$1002)","v":0},{"$f":"SUMIF('02 Febrero'!$C$10:$C$1002,$B7,'02 Febrero'!$F$10:$F$1002)","v":0},{"$f":"SUMIF('03 Marzo'!$C$10:$C$1002,$B7,'03 Marzo'!$F$10:$F$1002)","v":0},{"$f":"SUMIF('04 Abril'!$C$10:$C$1002,$B7,'04 Abril'!$F$10:$F$1002)","v":0},{"$f":"SUMIF('05 Mayo'!$C$10:$C$1000,$B7,'05 Mayo'!$F$10:$F$1000)","v":0},{"$f":"SUMIF('06 Junio'!$C$10:$C$1002,$B7,'06 Junio'!$F$10:$F$1002)","v":0},{"$f":"SUMIF('07 Julio'!$C$10:$C$1002,$B7,'07 Julio'!$F$10:$F$1002)","v":0},{"$f":"SUMIF('08 Agosto'!$C$10:$C$1002,$B7,'08 Agosto'!$F$10:$F$1002)","v":0},{"$f":"SUMIF('09 Septiembre'!$C$10:$C$1002,$B7,'09 Septiembre'!$F$10:$F$1002)","v":0},{"$f":"SUMIF('10 Octubre'!$C$10:$C$1002,$B7,'10 Octubre'!$F$10:$F$1002)","v":0},{"$f":"SUMIF('11 Noviembre'!$C$10:$C$1002,$B7,'11 Noviembre'!$F$10:$F$1002)","v":0},{"$f":"SUMIF('12 Diciembre'!$C$10:$C$1002,$B7,'12 Diciembre'!$F$10:$F$1002)","v":0},0]
[null,"Limpieza",{"$f":"SUMIF('01 Enero'!$C$10:$C$1002,$B8,'01 Enero'!$F$10:$F$1002)","v":0},{"$f":"SUMIF('02 Febrero'!$C$10:$C$1002,$B8,'02 Febrero'!$F$10:$F$1002)","v":0},{"$f":"SUMIF('03 Marzo'!$C$10:$C$1002,$B8,'03 Marzo'!$F$10:$F$1002)","v":0},{"$f":"SUMIF('04 Abril'!$C$10:$C$1002,$B8,'04 Abril'!$F$10:$F$1002)","v":0},{"$f":"SUMIF('05 Mayo'!$C$10:$C$1000,$B8,'05 Mayo'!$F$10:$F$1000)","v":0},{"$f":"SUMIF('06 Junio'!$C$10:$C$1002,$B8,'06 Junio'!$F$10:$F$1002)","v":0},{"$f":"SUMIF('07 Julio'!$C$10:$C$1002,$B8,'07 Julio'!$F$10:$F$1002)","v":0},{"$f":"SUMIF('08 Agosto'!$C$10:$C$1002,$B8,'08 Agosto'!$F$10:$F$1002)","v":0},{"$f":"SUMIF('09 Septiembre'!$C$10:$C$1002,$B8,'09 Septiembre'!$F$10:$F$1002)","v":0},{"$f":"SUMIF('10 Octubre'!$C$10:$C$1002,$B8,'10 Octubre'!$F$10:$F$1002)","v":0},{"$f":"SUMIF('11 Noviembre'!$C$10:$C$1002,$B8,'11 Noviembre'!$F$10:$F$1002)","v":0},{"$f":"SUMIF('12 Diciembre'!$C$10:$C$1002,$B8,'12 Diciembre'!$F$10:$F$1002)","v":0},0]
[null,"Perfumería",{"$f":"SUMIF('01 Enero'!$C$10:$C$1002,$B9,'01 Enero'!$F$10:$F$1002)","v":0},{"$f":"SUMIF('02 Febrero'!$C$10:$C$1002,$B9,'02 Febrero'!$F$10:$F$1002)","v":0},{"$f":"SUMIF('03 Marzo'!$C$10:$C$1002,$B9,'03 Marzo'!$F$10:$F$1002)","v":0},{"$f":"SUMIF('04 Abril'!$C$10:$C$1002,$B9,'04 Abril'!$F$10:$F$1002)","v":0},{"$f":"SUMIF('05 Mayo'!$C$10:$C$1000,$B9,'05 Mayo'!$F$10:$F$1000)","v":0},{"$f":"SUMIF('06 Junio'!$C$10:$C$1002,$B9,'06 Junio'!$F$10:$F$1002)","v":0},{"$f":"SUMIF('07 Julio'!$C$10:$C$1002,$B9,'07 Julio'!$F$10:$F$1002)","v":0},{"$f":"SUMIF('08 Agosto'!$C$10:$C$1002,$B9,'08 Agosto'!$F$10:$F$1002)","v":0},{"$f":"SUMIF('09 Septiembre'!$C$10:$C$1002,$B9,'09 Septiembre'!$F$10:$F$1002)","v":0},{"$f":"SUMIF('10 Octubre'!$C$10:$C$1002,$B9,'10 Octubre'!$F$10:$F$1002)","v":0},{"$f":"SUMIF('11 Noviembre'!$C$10:$C$1002,$B9,'11 Noviembre'!$F$10:$F$1002)","v":0},{"$f":"SUMIF('12 Diciembre'!$C$10:$C$1002,$B9,'12 Diciembre'!$F$10:$F$1002)","v":0},0]
[null,"Hogar y Menaje",{"$f":"SUMIF('01 Enero'!$C$10:$C$1002,$B10,'01 Enero'!$F$10:$F$1002)","v":0},{"$f":"SUMIF('02 Febrero'!$C$10:$C$1002,$B10,'02 Febrero'!$F$10:$F$1002)","v":0},{"$f":"SUMIF('03 Marzo'!$C$10:$C$1002,$B10,'03 Marzo'!$F$10:$F$1002)","v":0},{"$f":"SUMIF('04 Abril'!$C$10:$C$1002,$B10,'04 Abril'!$F$10:$F$1002)","v":0},{"$f":"SUMIF('05 Mayo'!$C$10:$C$1000,$B10,'05 Mayo'!$F$10:$F$1000)","v":0},{"$f":"SUMIF('06 Junio'!$C$10:$C$1002,$B10,'06 Junio'!$F$10:$F$1002)","v":0},{"$f":"SUMIF('07 Julio'!$C$10:$C$1002,$B10,'07 Julio'!$F$10:$F$1002)","v":0},{"$f":"SUMIF('08 Agosto'!$C$10:$C$1002,$B10,'08 Agosto'!$F$10:$F$1002)","v":0},{"$f":"SUMIF('09 Septiembre'!$C$10:$C$1002,$B10,'09 Septiembre'!$F$10:$F$1002)","v":0},{"$f":"SUMIF('10 Octubre'!$C$10:$C$1002,$B10,'10 Octubre'!$F$10:$F$1002)","v":0},{"$f":"SUMIF('11 Noviembre'!$C$10:$C$1002,$B10,'11 Noviembre'!$F$10:$F$1002)","v":0},{"$f":"SUMIF('12 Diciembre'!$C$10:$C$1002,$B10,'12 Diciembre'!$F$10:$F$1002)","v":0},0]
[null,"Ropa",{"$f":"SUMIF('01 Enero'!$C$10:$C$1002,$B11,'01 Enero'!$F$10:$F$1002)","v":0},{"$f":"SUMIF('02 Febrero'!$C$10:$C$1002,$B11,'02 Febrero'!$F$10:$F$1002)","v":0},{"$f":"SUMIF('03 Marzo'!$C$10:$C$1002,$B11,'03 Marzo'!$F$10:$F$1002)","v":0},{"$f":"SUMIF('04 Abril'!$C$10:$C$1002,$B11,'04 Abril'!$F$10:$F$1002)","v":0},{"$f":"SUMIF('05 Mayo'!$C$10:$C$1000,$B11,'05 Mayo'!$F$10:$F$1000)","v":0},{"$f":"SUMIF('06 Junio'!$C$10:$C$1002,$B11,'06 Junio'!$F$10:$F$1002)","v":0},{"$f":"SUMIF('07 Julio'!$C$10:$C$1002,$B11,'07 Julio'!$F$10:$F$1002)","v":0},{"$f":"SUMIF('08 Agosto'!$C$10:$C$1002,$B11,'08 Agosto'!$F$10:$F$1002)","v":0},{"$f":"SUMIF('09 Septiembre'!$C$10:$C$1002,$B11,'09 Septiembre'!$F$10:$F$1002)","v":0},{"$f":"SUMIF('10 Octubre'!$C$10:$C$1002,$B11,'10 Octubre'!$F$10:$F$1002)","v":0},{"$f":"SUMIF('11 Noviembre'!$C$10:$C$1002,$B11,'11 Noviembre'!$F$10:$F$1002)","v":0},{"$f":"SUMIF('12 Diciembre'!$C$10:$C$1002,$B11,'12 Diciembre'!$F$10:$F$1002)","v":0},0]
[null,"Calzado",{"$f":"SUMIF('01 Enero'!$C$10:$C$1002,$B12,'01 Enero'!$F$10:$F$1002)","v":0},{"$f":"SUMIF('02 Febrero'!$C$10:$C$1002,$B12,'02 Febrero'!$F$10:$F$1002)","v":0},{"$f":"SUMIF('03 Marzo'!$C$10:$C$1002,$B12,'03 Marzo'!$F$10:$F$1002)","v":0},{"$f":"SUMIF('04 Abril'!$C$10:$C$1002,$B12,'04 Abril'!$F$10:$F$1002)","v":0},{"$f":"SUMIF('05 Mayo'!$C$10:$C$1000,$B12,'05 Mayo'!$F$10:$F$1000)","v":0},{"$f":"SUMIF('06 Junio'!$C$10:$C$1002,$B12,'06 Junio'!$F$10:$F$1002)","v":0},{"$f":"SUMIF('07 Julio'!$C$10:$C$1002,$B12,'07 Julio'!$F$10:$F$1002)","v":0},{"$f":"SUMIF('08 Agosto'!$C$10:$C$1002,$B12,'08 Agosto'!$F$10:$F$1002)","v":0},{"$f":"SUMIF('09 Septiembre'!$C$10:$C$1002,$B12,'09 Septiembre'!$F$10:$F$1002)","v":0},{"$f":"SUMIF('10 Octubre'!$C$10:$C$1002,$B12,'10 Octubre'!$F$10:$F$1002)","v":0},{"$f":"SUMIF('11 Noviembre'!$C$10:$C$1002,$B12,'11 Noviembre'!$F$10:$F$1002)","v":0},{"$f":"SUMIF('12 Diciembre'!$C$10:$C$1002,$B12,'12 Diciembre'!$F$10:$F$1002)","v":0},0]
[null,"Informática",{"$f":"SUMIF('01 Enero'!$C$10:$C$1002,$B13,'01 Enero'!$F$10:$F$1002)","v":0},{"$f":"SUMIF('02 Febrero'!$C$10:$C$1002,$B13,'02 Febrero'!$F$10:$F$1002)","v":0},{"$f":"SUMIF('03 Marzo'!$C$10:$C$1002,$B13,'03 Marzo'!$F$10:$F$1002)","v":0},{"$f":"SUMIF('04 Abril'!$C$10:$C$1002,$B13,'04 Abril'!$F$10:$F$1002)","v":0},{"$f":"SUMIF('05 Mayo'!$C$10:$C$1000,$B13,'05 Mayo'!$F$10:$F$1000)","v":0},{"$f":"SUMIF('06 Junio'!$C$10:$C$1002,$B13,'06 Junio'!$F$10:$F$1002)","v":0},{"$f":"SUMIF('07 Julio'!$C$10:$C$1002,$B13,'07 Julio'!$F$10:$F$1002)","v":0},{"$f":"SUMIF('08 Agosto'!$C$10:$C$1002,$B13,'08 Agosto'!$F$10:$F$1002)","v":0},{"$f":"SUMIF('09 Septiembre'!$C$10:$C$1002,$B13,'09 Septiembre'!$F$10:$F$1002)","v":0},{"$f":"SUMIF('10 Octubre'!$C$10:$C$1002,$B13,'10 Octubre'!$F$10:$F$1002)","v":0},{"$f":"SUMIF('11 Noviembre'!$C$10:$C$1002,$B13,'11 Noviembre'!$F$10:$F$1002)","v":0},{"$f":"SUMIF('12 Diciembre'!$C$10:$C$1002,$B13,'12 Diciembre'!$F$10:$F$1002)","v":0},0]
[null,"Regalos",{"$f":"SUMIF('01 Enero'!$C$10:$C$1002,$B14,'01 Enero'!$F$10:$F$1002)","v":0},{"$f":"SUMIF('02 Febrero'!$C$10:$C$1002,$B14,'02 Febrero'!$F$10:$F$1002)","v":0},{"$f":"SUMIF('03 Marzo'!$C$10:$C$1002,$B14,'03 Marzo'!$F$10:$F$1002)","v":0},{"$f":"SUMIF('04 Abril'!$C$10:$C$1002,$B14,'04 Abril'!$F$10:$F$1002)","v":0},{"$f":"SUMIF('05 Mayo'!$C$10:$C$1000,$B14,'05 Mayo'!$F$10:$F$1000)","v":0},{"$f":"SUMIF('06 Junio'!$C$10:$C$1002,$B14,'06 Junio'!$F$10:$F$1002)","v":0},{"$f":"SUMIF('07 Julio'!$C$10:$C$1002,$B14,'07 Julio'!$F$10:$F$1002)","v":0},{"$f":"SUMIF('08 Agosto'!$C$10:$C$1002,$B14,'08 Agosto'!$F$10:$F$1002)","v":0},{"$f":"SUMIF('09 Septiembre'!$C$10:$C$1002,$B14,'09 Septiembre'!$F$10:$F$1002)","v":0},{"$f":"SUMIF('10 Octubre'!$C$10:$C$1002,$B14,'10 Octubre'!$F$10:$F$1002)","v":0},{"$f":"SUMIF('11 Noviembre'!$C$10:$C$1002,$B14,'11 Noviembre'!$F$10:$F$1002)","v":0},{"$f":"SUMIF('12 Diciembre'!$C$10:$C$1002,$B14,'12 Diciembre'!$F$10:$F$1002)","v":0},0]
[null,"T - Varios",{"$f":"SUMIF('01 Enero'!$C$10:$C$1002,$B15,'01 Enero'!$F$10:$F$1002)","v":0},{"$f":"SUMIF('02 Febrero'!$C$10:$C$1002,$B15,'02 Febrero'!$F$10:$F$1002)","v":0},{"$f":"SUMIF('03 Marzo'!$C$10:$C$1002,$B15,'03 Marzo'!$F$10:$F$1002)","v":0},{"$f":"SUMIF('04 Abril'!$C$10:$C$1002,$B15,'04 Abril'!$F$10:$F$1002)","v":0},{"$f":"SUMIF('05 Mayo'!$C$10:$C$1000,$B15,'05 Mayo'!$F$10:$F$1000)","v":0},{"$f":"SUMIF('06 Junio'!$C$10:$C$1002,$B15,'06 Junio'!$F$10:$F$1002)","v":0},{"$f":"SUMIF('07 Julio'!$C$10:$C$1002,$B15,'07 Julio'!$F$10:$F$1002)","v":0},{"$f":"SUMIF('08 Agosto'!$C$10:$C$1002,$B15,'08 Agosto'!$F$10:$F$1002)","v":0},{"$f":"SUMIF('09 Septiembre'!$C$10:$C$1002,$B15,'09 Septiembre'!$F$10:$F$1002)","v":0},{"$f":"SUMIF('10 Octubre'!$C$10:$C$1002,$B15,'10 Octubre'!$F$10:$F$1002)","v":0},{"$f":"SUMIF('11 Noviembre'!$C$10:$C$1002,$B15,'11 Noviembre'!$F$10:$F$1002)","v":0},{"$f":"SUMIF('12 Diciembre'!$C$10:$C$1002,$B15,'12 Diciembre'!$F$10:$F$1002)","v":0},0]
[null,"Gastos_Fijos",{"$f":"SUMIF('01 Enero'!$B$10:$B$1002,$B16,'01 Enero'!$F$10:$F$1002)","v":0},{"$f":"SUMIF('02 Febrero'!B$10:B$1004,B16,'02 Febrero'!F$10:F$1004)","v":0},{"$f":"SUMIF('03 Marzo'!$B$10:$B$1002,$B16,'03 Marzo'!$F$10:$F$1002)","v":0},{"$f":"SUMIF('04 Abril'!$B$10:$B$1002,$B16,'04 Abril'!$F$10:$F$1002)","v":0},{"$f":"SUMIF('05 Mayo'!$B$10:$B$1000,$B16,'05 Mayo'!$F$10:$F$1000)","v":0},{"$f":"SUMIF('06 Junio'!$B$10:$B$1002,$B16,'06 Junio'!$F$10:$F$1002)","v":0},{"$f":"SUMIF('07 Julio'!$B$10:$B$1002,$B16,'07 Julio'!$F$10:$F$1002)","v":0},{"$f":"SUMIF('08 Agosto'!$B$10:$B$1002,$B16,'08 Agosto'!$F$10:$F$1002)","v":0},{"$f":"SUMIF('09 Septiembre'!$B$10:$B$1002,$B16,'09 Septiembre'!$F$10:$F$1002)","v":0},{"$f":"SUMIF('10 Octubre'!$B$10:$B$1002,$B16,'10 Octubre'!$F$10:$F$1002)","v":0},{"$f":"SUMIF('11 Noviembre'!$B$10:$B$1002,$B16,'11 Noviembre'!$F$10:$F$1002)","v":0},{"$f":"SUMIF('12 Diciembre'!$B$10:$B$1002,$B16,'12 Diciembre'!$F$10:$F$1002)","v":0},0]
[null,"Agua",{"$f":"SUMIF('01 Enero'!$C$10:$C$1002,$B17,'01 Enero'!$F$10:$F$1002)","v":0},{"$f":"SUMIF('02 Febrero'!$C$10:$C$1002,$B17,'02 Febrero'!$F$10:$F$1002)","v":0},{"$f":"SUMIF('03 Marzo'!$C$10:$C$1002,$B17,'03 Marzo'!$F$10:$F$1002)","v":0},{"$f":"SUMIF('04 Abril'!$C$10:$C$1002,$B17,'04 Abril'!$F$10:$F$1002)","v":0},{"$f":"SUMIF('05 Mayo'!$C$10:$C$1000,$B17,'05 Mayo'!$F$10:$F$1000)","v":0},{"$f":"SUMIF('06 Junio'!$C$10:$C$1002,$B17,'06 Junio'!$F$10:$F$1002)","v":0},{"$f":"SUMIF('07 Julio'!$C$10:$C$1002,$B17,'07 Julio'!$F$10:$F$1002)","v":0},{"$f":"SUMIF('08 Agosto'!$C$10:$C$1002,$B17,'08 Agosto'!$F$10:$F$1002)","v":0},{"$f":"SUMIF('09 Septiembre'!$C$10:$C$1002,$B17,'09 Septiembre'!$F$10:$F$1002)","v":0},{"$f":"SUMIF('10 Octubre'!$C$10:$C$1002,$B17,'10 Octubre'!$F$10:$F$1002)","v":0},{"$f":"SUMIF('11 Noviembre'!$C$10:$C$1002,$B17,'11 Noviembre'!$F$10:$F$1002)","v":0},{"$f":"SUMIF('12 Diciembre'!$C$10:$C$1002,$B17,'12 Diciembre'!$F$10:$F$1002)","v":0},0]
[null,"Luz",{"$f":"SUMIF('01 Enero'!$C$10:$C$1002,$B18,'01 Enero'!$F$10:$F$1002)","v":0},{"$f":"SUMIF('02 Febrero'!$C$10:$C$1002,$B18,'02 Febrero'!$F$10:$F$1002)","v":0},{"$f":"SUMIF('03 Marzo'!$C$10:$C$1002,$B18,'03 Marzo'!$F$10:$F$1002)","v":0},{"$f":"SUMIF('04 Abril'!$C$10:$C$1002,$B18,'04 Abril'!$F$10:$F$1002)","v":0},{"$f":"SUMIF('05 Mayo'!$C$10:$C$1000,$B18,'05 Mayo'!$F$10:$F$1000)","v":0},{"$f":"SUMIF('06 Junio'!$C$10:$C$1002,$B18,'06 Junio'!$F$10:$F$1002)","v":0},{"$f":"SUMIF('07 Julio'!$C$10:$C$1002,$B18,'07 Julio'!$F$10:$F$1002)","v":0},{"$f":"SUMIF('08 Agosto'!$C$10:$C$1002,$B18,'08 Agosto'!$F$10:$F$1002)","v":0},{"$f":"SUMIF('09 Septiembre'!$C$10:$C$1002,$B18,'09 Septiembre'!$F$10:$F$1002)","v":0},{"$f":"SUMIF('10 Octubre'!$C$10:$C$1002,$B18,'10 Octubre'!$F$10:$F$1002)","v":0},{"$f":"SUMIF('11 Noviembre'!$C$10:$C$1002,$B18,'11 Noviembre'!$F$10:$F$1002)","v":0},{"$f":"SUMIF('12 Diciembre'!$C$10:$C$1002,$B18,'12 Diciembre'!$F$10:$F$1002)","v":0},0]
[null,"Gas ",{"$f":"SUMIF('01 Enero'!$C$10:$C$1002,$B19,'01 Enero'!$F$10:$F$1002)","v":0},{"$f":"SUMIF('02 Febrero'!$C$10:$C$1002,$B19,'02 Febrero'!$F$10:$F$1002)","v":0},{"$f":"SUMIF('03 Marzo'!$C$10:$C$1002,$B19,'03 Marzo'!$F$10:$F$1002)","v":0},{"$f":"SUMIF('04 Abril'!$C$10:$C$1002,$B19,'04 Abril'!$F$10:$F$1002)","v":0},{"$f":"SUMIF('05 Mayo'!$C$10:$C$1000,$B19,'05 Mayo'!$F$10:$F$1000)","v":0},{"$f":"SUMIF('06 Junio'!$C$10:$C$1002,$B19,'06 Junio'!$F$10:$F$1002)","v":0},{"$f":"SUMIF('07 Julio'!$C$10:$C$1002,$B19,'07 Julio'!$F$10:$F$1002)","v":0},{"$f":"SUMIF('08 Agosto'!$C$10:$C$1002,$B19,'08 Agosto'!$F$10:$F$1002)","v":0},{"$f":"SUMIF('09 Septiembre'!$C$10:$C$1002,$B19,'09 Septiembre'!$F$10:$F$1002)","v":0},{"$f":"SUMIF('10 Octubre'!$C$10:$C$1002,$B19,'10 Octubre'!$F$10:$F$1002)","v":0},{"$f":"SUMIF('11 Noviembre'!$C$10:$C$1002,$B19,'11 Noviembre'!$F$10:$F$1002)","v":0},{"$f":"SUMIF('12 Diciembre'!$C$10:$C$1002,$B19,'12 Diciembre'!$F$10:$F$1002)","v":0},0]
[null,"Teléfono",{"$f":"SUMIF('01 Enero'!$C$10:$C$1002,$B20,'01 Enero'!$F$10:$F$1002)","v":0},{"$f":"SUMIF('02 Febrero'!$C$10:$C$1002,$B20,'02 Febrero'!$F$10:$F$1002)","v":0},{"$f":"SUMIF('03 Marzo'!$C$10:$C$1002,$B20,'03 Marzo'!$F$10:$F$1002)","v":0},{"$f":"SUMIF('04 Abril'!$C$10:$C$1002,$B20,'04 Abril'!$F$10:$F$1002)","v":0},{"$f":"SUMIF('05 Mayo'!$C$10:$C$1000,$B20,'05 Mayo'!$F$10:$F$1000)","v":0},{"$f":"SUMIF('06 Junio'!$C$10:$C$1002,$B20,'06 Junio'!$F$10:$F$1002)","v":0},{"$f":"SUMIF('07 Julio'!$C$10:$C$1002,$B20,'07 Julio'!$F$10:$F$1002)","v":0},{"$f":"SUMIF('08 Agosto'!$C$10:$C$1002,$B20,'08 Agosto'!$F$10:$F$1002)","v":0},{"$f":"SUMIF('09 Septiembre'!$C$10:$C$1002,$B20,'09 Septiembre'!$F$10:$F$1002)","v":0},{"$f":"SUMIF('10 Octubre'!$C$10:$C$1002,$B20,'10 Octubre'!$F$10:$F$1002)","v":0},{"$f":"SUMIF('11 Noviembre'!$C$10:$C$1002,$B20,'11 Noviembre'!$F$10:$F$1002)","v":0},{"$f":"SUMIF('12 Diciembre'!$C$10:$C$1002,$B20,'12 Diciembre'!$F$10:$F$1002)","v":0},0]
[null,"Comunidad",{"$f":"SUMIF('01 Enero'!$C$10:$C$1002,$B21,'01 Enero'!$F$10:$F$1002)","v":0},{"$f":"SUMIF('02 Febrero'!$C$10:$C$1002,$B21,'02 Febrero'!$F$10:$F$1002)","v":0},{"$f":"SUMIF('03 Marzo'!$C$10:$C$1002,$B21,'03 Marzo'!$F$10:$F$1002)","v":0},{"$f":"SUMIF('04 Abril'!$C$10:$C$1002,$B21,'04 Abril'!$F$10:$F$1002)","v":0},{"$f":"SUMIF('05 Mayo'!$C$10:$C$1000,$B21,'05 Mayo'!$F$10:$F$1000)","v":0},{"$f":"SUMIF('06 Junio'!$C$10:$C$1002,$B21,'06 Junio'!$F$10:$F$1002)","v":0},{"$f":"SUMIF('07 Julio'!$C$10:$C$1002,$B21,'07 Julio'!$F$10:$F$1002)","v":0},{"$f":"SUMIF('08 Agosto'!$C$10:$C$1002,$B21,'08 Agosto'!$F$10:$F$1002)","v":0},{"$f":"SUMIF('09 Septiembre'!$C$10:$C$1002,$B21,'09 Septiembre'!$F$10:$F$1002)","v":0},{"$f":"SUMIF('10 Octubre'!$C$10:$C$1002,$B21,'10 Octubre'!$F$10:$F$1002)","v":0},{"$f":"SUMIF('11 Noviembre'!$C$10:$C$1002,$B21,'11 Noviembre'!$F$10:$F$1002)","v":0},{"$f":"SUMIF('12 Diciembre'!$C$10:$C$1002,$B21,'12 Diciembre'!$F$10:$F$1002)","v":0},0]
[null,"Servicio",{"$f":"SUMIF('01 Enero'!$C$10:$C$1002,$B22,'01 Enero'!$F$10:$F$1002)","v":0},{"$f":"SUMIF('02 Febrero'!$C$10:$C$1002,$B22,'02 Febrero'!$F$10:$F$1002)","v":0},{"$f":"SUMIF('03 Marzo'!$C$10:$C$1002,$B22,'03 Marzo'!$F$10:$F$1002)","v":0},{"$f":"SUMIF('04 Abril'!$C$10:$C$1002,$B22,'04 Abril'!$F$10:$F$1002)","v":0},{"$f":"SUMIF('05 Mayo'!$C$10:$C$1000,$B22,'05 Mayo'!$F$10:$F$1000)","v":0},{"$f":"SUMIF('06 Junio'!$C$10:$C$1002,$B22,'06 Junio'!$F$10:$F$1002)","v":0},{"$f":"SUMIF('07 Julio'!$C$10:$C$1002,$B22,'07 Julio'!$F$10:$F$1002)","v":0},{"$f":"SUMIF('08 Agosto'!$C$10:$C$1002,$B22,'08 Agosto'!$F$10:$F$1002)","v":0},{"$f":"SUMIF('09 Septiembre'!$C$10:$C$1002,$B22,'09 Septiembre'!$F$10:$F$1002)","v":0},{"$f":"SUMIF('10 Octubre'!$C$10:$C$1002,$B22,'10 Octubre'!$F$10:$F$1002)","v":0},{"$f":"SUMIF('11 Noviembre'!$C$10:$C$1002,$B22,'11 Noviembre'!$F$10:$F$1002)","v":0},{"$f":"SUMIF('12 Diciembre'!$C$10:$C$1002,$B22,'12 Diciembre'!$F$10:$F$1002)","v":0},0]
[null,"Televisión",{"$f":"SUMIF('01 Enero'!$C$10:$C$1002,$B23,'01 Enero'!$F$10:$F$1002)","v":0},{"$f":"SUMIF('02 Febrero'!$C$10:$C$1002,$B23,'02 Febrero'!$F$10:$F$1002)","v":0},{"$f":"SUMIF('03 Marzo'!$C$10:$C$1002,$B23,'03 Marzo'!$F$10:$F$1002)","v":0},{"$f":"SUMIF('04 Abril'!$C$10:$C$1002,$B23,'04 Abril'!$F$10:$F$1002)","v":0},{"$f":"SUMIF('05 Mayo'!$C$10:$C$1000,$B23,'05 Mayo'!$F$10:$F$1000)","v":0},{"$f":"SUMIF('06 Junio'!$C$10:$C$1002,$B23,'06 Junio'!$F$10:$F$1002)","v":0},{"$f":"SUMIF('07 Julio'!$C$10:$C$1002,$B23,'07 Julio'!$F$10:$F$1002)","v":0},{"$f":"SUMIF('08 Agosto'!$C$10:$C$1002,$B23,'08 Agosto'!$F$10:$F$1002)","v":0},{"$f":"SUMIF('09 Septiembre'!$C$10:$C$1002,$B23,'09 Septiembre'!$F$10:$F$1002)","v":0},{"$f":"SUMIF('10 Octubre'!$C$10:$C$1002,$B23,'10 Octubre'!$F$10:$F$1002)","v":0},{"$f":"SUMIF('11 Noviembre'!$C$10:$C$1002,$B23,'11 Noviembre'!$F$10:$F$1002)","v":0},{"$f":"SUMIF('12 Diciembre'!$C$10:$C$1002,$B23,'12 Diciembre'!$F$10:$F$1002)","v":0},0]
[null,"G - Otros",{"$f":"SUMIF('01 Enero'!$C$10:$C$1002,$B24,'01 Enero'!$F$10:$F$1002)","v":0},{"$f":"SUMIF('02 Febrero'!$C$10:$C$1002,$B24,'02 Febrero'!$F$10:$F$1002)","v":0},{"$f":"SUMIF('03 Marzo'!$C$10:$C$1002,$B24,'03 Marzo'!$F$10:$F$1002)","v":0},{"$f":"SUMIF('04 Abril'!$C$10:$C$1002,$B24,'04 Abril'!$F$10:$F$1002)","v":0},{"$f":"SUMIF('05 Mayo'!$C$10:$C$1000,$B24,'05 Mayo'!$F$10:$F$1000)","v":0},{"$f":"SUMIF('06 Junio'!$C$10:$C$1002,$B24,'06 Junio'!$F$10:$F$1002)","v":0},{"$f":"SUMIF('07 Julio'!$C$10:$C$1002,$B24,'07 Julio'!$F$10:$F$1002)","v":0},{"$f":"SUMIF('08 Agosto'!$C$10:$C$1002,$B24,'08 Agosto'!$F$10:$F$1002)","v":0},{"$f":"SUMIF('09 Septiembre'!$C$10:$C$1002,$B24,'09 Septiembre'!$F$10:$F$1002)","v":0},{"$f":"SUMIF('10 Octubre'!$C$10:$C$1002,$B24,'10 Octubre'!$F$10:$F$1002)","v":0},{"$f":"SUMIF('11 Noviembre'!$C$10:$C$1002,$B24,'11 Noviembre'!$F$10:$F$1002)","v":0},{"$f":"SUMIF('12 Diciembre'!$C$10:$C$1002,$B24,'12 Diciembre'!$F$10:$F$1002)","v":0},0]
[null,"Formación",{"$f":"SUMIF('01 Enero'!$B$10:$B$1002,$B25,'01 Enero'!$F$10:$F$1002)","v":0},{"$f":"SUMIF('02 Febrero'!$C$10:$C$1002,$B25,'02 Febrero'!$F$10:$F$1002)","v":0},{"$f":"SUMIF('03 Marzo'!$B$10:$B$1002,$B25,'03 Marzo'!$F$10:$F$1002)","v":0},{"$f":"SUMIF('04 Abril'!$B$10:$B$1002,$B25,'04 Abril'!$F$10:$F$1002)","v":0},{"$f":"SUMIF('05 Mayo'!$B$10:$B$1000,$B25,'05 Mayo'!$F$10:$F$1000)","v":0},{"$f":"SUMIF('06 Junio'!$B$10:$B$1002,$B25,'06 Junio'!$F$10:$F$1002)","v":0},{"$f":"SUMIF('07 Julio'!$B$10:$B$1002,$B25,'07 Julio'!$F$10:$F$1002)","v":0},{"$f":"SUMIF('08 Agosto'!$B$10:$B$1002,$B25,'08 Agosto'!$F$10:$F$1002)","v":0},{"$f":"SUMIF('09 Septiembre'!$B$10:$B$1002,$B25,'09 Septiembre'!$F$10:$F$1002)","v":0},{"$f":"SUMIF('10 Octubre'!$B$10:$B$1002,$B25,'10 Octubre'!$F$10:$F$1002)","v":0},{"$f":"SUMIF('11 Noviembre'!$B$10:$B$1002,$B25,'11 Noviembre'!$F$10:$F$1002)","v":0},{"$f":"SUMIF('12 Diciembre'!$B$10:$B$1002,$B25,'12 Diciembre'!$F$10:$F$1002)","v":0},0]
[null,"Colegio",{"$f":"SUMIF('01 Enero'!$C$10:$C$1002,$B26,'01 Enero'!$F$10:$F$1002)","v":0},{"$f":"SUMIF('02 Febrero'!$C$10:$C$1002,$B26,'02 Febrero'!$F$10:$F$1002)","v":0},{"$f":"SUMIF('03 Marzo'!$C$10:$C$1002,$B26,'03 Marzo'!$F$10:$F$1002)","v":0},{"$f":"SUMIF('04 Abril'!$C$10:$C$1002,$B26,'04 Abril'!$F$10:$F$1002)","v":0},{"$f":"SUMIF('05 Mayo'!$C$10:$C$1000,$B26,'05 Mayo'!$F$10:$F$1000)","v":0},{"$f":"SUMIF('06 Junio'!$C$10:$C$1002,$B26,'06 Junio'!$F$10:$F$1002)","v":0},{"$f":"SUMIF('07 Julio'!$C$10:$C$1002,$B26,'07 Julio'!$F$10:$F$1002)","v":0},{"$f":"SUMIF('08 Agosto'!$C$10:$C$1002,$B26,'08 Agosto'!$F$10:$F$1002)","v":0},{"$f":"SUMIF('09 Septiembre'!$C$10:$C$1002,$B26,'09 Septiembre'!$F$10:$F$1002)","v":0},{"$f":"SUMIF('10 Octubre'!$C$10:$C$1002,$B26,'10 Octubre'!$F$10:$F$1002)","v":0},{"$f":"SUMIF('11 Noviembre'!$C$10:$C$1002,$B26,'11 Noviembre'!$F$10:$F$1002)","v":0},{"$f":"SUMIF('12 Diciembre'!$C$10:$C$1002,$B26,'12 Diciembre'!$F$10:$F$1002)","v":0},0]
[null,"Extraescolares",{"$f":"SUMIF('01 Enero'!$C$10:$C$1002,$B27,'01 Enero'!$F$10:$F$1002)","v":0},{"$f":"SUMIF('02 Febrero'!$C$10:$C$1002,$B27,'02 Febrero'!$F$10:$F$1002)","v":0},{"$f":"SUMIF('03 Marzo'!$C$10:$C$1002,$B27,'03 Marzo'!$F$10:$F$1002)","v":0},{"$f":"SUMIF('04 Abril'!$C$10:$C$1002,$B27,'04 Abril'!$F$10:$F$1002)","v":0},{"$f":"SUMIF('05 Mayo'!$C$10:$C$1000,$B27,'05 Mayo'!$F$10:$F$1000)","v":0},{"$f":"SUMIF('06 Junio'!$C$10:$C$1002,$B27,'06 Junio'!$F$10:$F$1002)","v":0},{"$f":"SUMIF('07 Julio'!$C$10:$C$1002,$B27,'07 Julio'!$F$10:$F$1002)","v":0},{"$f":"SUMIF('08 Agosto'!$C$10:$C$1002,$B27,'08 Agosto'!$F$10:$F$1002)","v":0},{"$f":"SUMIF('09 Septiembre'!$C$10:$C$1002,$B27,'09 Septiembre'!$F$10:$F$1002)","v":0},{"$f":"SUMIF('10 Octubre'!$C$10:$C$1002,$B27,'10 Octubre'!$F$10:$F$1002)","v":0},{"$f":"SUMIF('11 Noviembre'!$C$10:$C$1002,$B27,'11 Noviembre'!$F$10:$F$1002)","v":0},{"$f":"SUMIF('12 Diciembre'!$C$10:$C$1002,$B27,'12 Diciembre'!$F$10:$F$1002)","v":0},0]
[null,"Libros",{"$f":"SUMIF('01 Enero'!$C$10:$C$1002,$B28,'01 Enero'!$F$10:$F$1002)","v":0},{"$f":"SUMIF('02 Febrero'!$C$10:$C$1002,$B28,'02 Febrero'!$F$10:$F$1002)","v":0},{"$f":"SUMIF('03 Marzo'!$C$10:$C$1002,$B28,'03 Marzo'!$F$10:$F$1002)","v":0},{"$f":"SUMIF('04 Abril'!$C$10:$C$1002,$B28,'04 Abril'!$F$10:$F$1002)","v":0},{"$f":"SUMIF('05 Mayo'!$C$10:$C$1000,$B28,'05 Mayo'!$F$10:$F$1000)","v":0},{"$f":"SUMIF('06 Junio'!$C$10:$C$1002,$B28,'06 Junio'!$F$10:$F$1002)","v":0},{"$f":"SUMIF('07 Julio'!$C$10:$C$1002,$B28,'07 Julio'!$F$10:$F$1002)","v":0},{"$f":"SUMIF('08 Agosto'!$C$10:$C$1002,$B28,'08 Agosto'!$F$10:$F$1002)","v":0},{"$f":"SUMIF('09 Septiembre'!$C$10:$C$1002,$B28,'09 Septiembre'!$F$10:$F$1002)","v":0},{"$f":"SUMIF('10 Octubre'!$C$10:$C$1002,$B28,'10 Octubre'!$F$10:$F$1002)","v":0},{"$f":"SUMIF('11 Noviembre'!$C$10:$C$1002,$B28,'11 Noviembre'!$F$10:$F$1002)","v":0},{"$f":"SUMIF('12 Diciembre'!$C$10:$C$1002,$B28,'12 Diciembre'!$F$10:$F$1002)","v":0},0]
[null,"Excursiones",{"$f":"SUMIF('01 Enero'!$C$10:$C$1002,$B29,'01 Enero'!$F$10:$F$1002)","v":0},{"$f":"SUMIF('02 Febrero'!$C$10:$C$1002,$B29,'02 Febrero'!$F$10:$F$1002)","v":0},{"$f":"SUMIF('03 Marzo'!$C$10:$C$1002,$B29,'03 Marzo'!$F$10:$F$1002)","v":0},{"$f":"SUMIF('04 Abril'!$C$10:$C$1002,$B29,'04 Abril'!$F$10:$F$1002)","v":0},{"$f":"SUMIF('05 Mayo'!$C$10:$C$1000,$B29,'05 Mayo'!$F$10:$F$1000)","v":0},{"$f":"SUMIF('06 Junio'!$C$10:$C$1002,$B29,'06 Junio'!$F$10:$F$1002)","v":0},{"$f":"SUMIF('07 Julio'!$C$10:$C$1002,$B29,'07 Julio'!$F$10:$F$1002)","v":0},{"$f":"SUMIF('08 Agosto'!$C$10:$C$1002,$B29,'08 Agosto'!$F$10:$F$1002)","v":0},{"$f":"SUMIF('09 Septiembre'!$C$10:$C$1002,$B29,'09 Septiembre'!$F$10:$F$1002)","v":0},{"$f":"SUMIF('10 Octubre'!$C$10:$C$1002,$B29,'10 Octubre'!$F$10:$F$1002)","v":0},{"$f":"SUMIF('11 Noviembre'!$C$10:$C$1002,$B29,'11 Noviembre'!$F$10:$F$1002)","v":0},{"$f":"SUMIF('12 Diciembre'!$C$10:$C$1002,$B29,'12 Diciembre'!$F$10:$F$1002)","v":0},0]
[null,"Cursos",{"$f":"SUMIF('01 Enero'!$C$10:$C$1002,$B30,'01 Enero'!$F$10:$F$1002)","v":0},{"$f":"SUMIF('02 Febrero'!$C$10:$C$1002,$B30,'02 Febrero'!$F$10:$F$1002)","v":0},{"$f":"SUMIF('03 Marzo'!$C$10:$C$1002,$B30,'03 Marzo'!$F$10:$F$1002)","v":0},{"$f":"SUMIF('04 Abril'!$C$10:$C$1002,$B30,'04 Abril'!$F$10:$F$1002)","v":0},{"$f":"SUMIF('05 Mayo'!$C$10:$C$1000,$B30,'05 Mayo'!$F$10:$F$1000)","v":0},{"$f":"SUMIF('06 Junio'!$C$10:$C$1002,$B30,'06 Junio'!$F$10:$F$1002)","v":0},{"$f":"SUMIF('07 Julio'!$C$10:$C$1002,$B30,'07 Julio'!$F$10:$F$1002)","v":0},{"$f":"SUMIF('08 Agosto'!$C$10:$C$1002,$B30,'08 Agosto'!$F$10:$F$1002)","v":0},{"$f":"SUMIF('09 Septiembre'!$C$10:$C$1002,$B30,'09 Septiembre'!$F$10:$F$1002)","v":0},{"$f":"SUMIF('10 Octubre'!$C$10:$C$1002,$B30,'10 Octubre'!$F$10:$F$1002)","v":0},{"$f":"SUMIF('11 Noviembre'!$C$10:$C$1002,$B30,'11 Noviembre'!$F$10:$F$1002)","v":0},{"$f":"SUMIF('12 Diciembre'!$C$10:$C$1002,$B30,'12 Diciembre'!$F$10:$F$1002)","v":0},0]
[null,"F - Varios",{"$f":"SUMIF('01 Enero'!$C$10:$C$1002,$B31,'01 Enero'!$F$10:$F$1002)","v":0},{"$f":"SUMIF('02 Febrero'!$C$10:$C$1002,$B31,'02 Febrero'!$F$10:$F$1002)","v":0},{"$f":"SUMIF('03 Marzo'!$C$10:$C$1002,$B31,'03 Marzo'!$F$10:$F$1002)","v":0},{"$f":"SUMIF('04 Abril'!$C$10:$C$1002,$B31,'04 Abril'!$F$10:$F$1002)","v":0},{"$f":"SUMIF('05 Mayo'!$C$10:$C$1000,$B31,'05 Mayo'!$F$10:$F$1000)","v":0},{"$f":"SUMIF('06 Junio'!$C$10:$C$1002,$B31,'06 Junio'!$F$10:$F$1002)","v":0},{"$f":"SUMIF('07 Julio'!$C$10:$C$1002,$B31,'07 Julio'!$F$10:$F$1002)","v":0},{"$f":"SUMIF('08 Agosto'!$C$10:$C$1002,$B31,'08 Agosto'!$F$10:$F$1002)","v":0},{"$f":"SUMIF('09 Septiembre'!$C$10:$C$1002,$B31,'09 Septiembre'!$F$10:$F$1002)","v":0},{"$f":"SUMIF('10 Octubre'!$C$10:$C$1002,$B31,'10 Octubre'!$F$10:$F$1002)","v":0},{"$f":"SUMIF('11 Noviembre'!$C$10:$C$1002,$B31,'11 Noviembre'!$F$10:$F$1002)","v":0},{"$f":"SUMIF('12 Diciembre'!$C$10:$C$1002,$B31,'12 Diciembre'!$F$10:$F$1002)","v":0},0]
[null,"Ocio",{"$f":"SUMIF('01 Enero'!$B$10:$B$1002,$B32,'01 Enero'!$F$10:$F$1002)","v":0},{"$f":"SUMIF('02 Febrero'!$B$10:$B$1002,$B32,'02 Febrero'!$F$10:$F$1002)","v":0},{"$f":"SUMIF('03 Marzo'!$B$10:$B$1002,$B32,'03 Marzo'!$F$10:$F$1002)","v":0},{"$f":"SUMIF('04 Abril'!B$10:B$1004,$B32,'04 Abril'!F$10:F$1004)","v":0},{"$f":"SUMIF('05 Mayo'!$B$10:$B$1000,$B32,'05 Mayo'!$F$10:$F$1000)","v":0},{"$f":"SUMIF('06 Junio'!$B$10:$B$1002,$B32,'06 Junio'!$F$10:$F$1002)","v":0},{"$f":"SUMIF('07 Julio'!$B$10:$B$1002,$B32,'07 Julio'!$F$10:$F$1002)","v":0},{"$f":"SUMIF('08 Agosto'!$B$10:$B$1002,$B32,'08 Agosto'!$F$10:$F$1002)","v":0},{"$f":"SUMIF('09 Septiembre'!$B$10:$B$1002,$B32,'09 Septiembre'!$F$10:$F$1002)","v":0},{"$f":"SUMIF('10 Octubre'!$B$10:$B$1002,$B32,'10 Octubre'!$F$10:$F$1002)","v":0},{"$f":"SUMIF('11 Noviembre'!$B$10:$B$1002,$B32,'11 Noviembre'!$F$10:$F$1002)","v":0},{"$f":"SUMIF('12 Diciembre'!$B$10:$B$1002,$B32,'12 Diciembre'!$F$10:$F$1002)","v":0},0]
[null,"Vacaciones",{"$f":"SUMIF('01 Enero'!$C$10:$C$1002,$B33,'01 Enero'!$F$10:$F$1002)","v":0},{"$f":"SUMIF('02 Febrero'!$C$10:$C$1002,$B33,'02 Febrero'!$F$10:$F$1002)","v":0},{"$f":"SUMIF('03 Marzo'!$C$10:$C$1002,$B33,'03 Marzo'!$F$10:$F$1002)","v":0},{"$f":"SUMIF('04 Abril'!$C$10:$C$1002,$B33,'04 Abril'!$F$10:$F$1002)","v":0},{"$f":"SUMIF('05 Mayo'!$C$10:$C$1000,$B33,'05 Mayo'!$F$10:$F$1000)","v":0},{"$f":"SUMIF('06 Junio'!$C$10:$C$1002,$B33,'06 Junio'!$F$10:$F$1002)","v":0},{"$f":"SUMIF('07 Julio'!$C$10:$C$1002,$B33,'07 Julio'!$F$10:$F$1002)","v":0},{"$f":"SUMIF('08 Agosto'!$C$10:$C$1002,$B33,'08 Agosto'!$F$10:$F$1002)","v":0},{"$f":"SUMIF('09 Septiembre'!$C$10:$C$1002,$B33,'09 Septiembre'!$F$10:$F$1002)","v":0},{"$f":"SUMIF('10 Octubre'!$C$10:$C$1002,$B33,'10 Octubre'!$F$10:$F$1002)","v":0},{"$f":"SUMIF('11 Noviembre'!$C$10:$C$1002,$B33,'11 Noviembre'!$F$10:$F$1002)","v":0},{"$f":"SUMIF('12 Diciembre'!$C$10:$C$1002,$B33,'12 Diciembre'!$F$10:$F$1002)","v":0},0]
[null,"Paseos",{"$f":"SUMIF('01 Enero'!$C$10:$C$1002,$B34,'01 Enero'!$F$10:$F$1002)","v":0},{"$f":"SUMIF('02 Febrero'!$C$10:$C$1002,$B34,'02 Febrero'!$F$10:$F$1002)","v":0},{"$f":"SUMIF('03 Marzo'!$C$10:$C$1002,$B34,'03 Marzo'!$F$10:$F$1002)","v":0},{"$f":"SUMIF('04 Abril'!$C$10:$C$1002,$B34,'04 Abril'!$F$10:$F$1002)","v":0},{"$f":"SUMIF('05 Mayo'!$C$10:$C$1000,$B34,'05 Mayo'!$F$10:$F$1000)","v":0},{"$f":"SUMIF('06 Junio'!$C$10:$C$1002,$B34,'06 Junio'!$F$10:$F$1002)","v":0},{"$f":"SUMIF('07 Julio'!$C$10:$C$1002,$B34,'07 Julio'!$F$10:$F$1002)","v":0},{"$f":"SUMIF('08 Agosto'!$C$10:$C$1002,$B34,'08 Agosto'!$F$10:$F$1002)","v":0},{"$f":"SUMIF('09 Septiembre'!$C$10:$C$1002,$B34,'09 Septiembre'!$F$10:$F$1002)","v":0},{"$f":"SUMIF('10 Octubre'!$C$10:$C$1002,$B34,'10 Octubre'!$F$10:$F$1002)","v":0},{"$f":"SUMIF('11 Noviembre'!$C$10:$C$1002,$B34,'11 Noviembre'!$F$10:$F$1002)","v":0},{"$f":"SUMIF('12 Diciembre'!$C$10:$C$1002,$B34,'12 Diciembre'!$F$10:$F$1002)","v":0},0]
[null,"Espectáculos",{"$f":"SUMIF('01 Enero'!$C$10:$C$1002,$B35,'01 Enero'!$F$10:$F$1002)","v":0},{"$f":"SUMIF('02 Febrero'!$C$10:$C$1002,$B35,'02 Febrero'!$F$10:$F$1002)","v":0},{"$f":"SUMIF('03 Marzo'!$C$10:$C$1002,$B35,'03 Marzo'!$F$10:$F$1002)","v":0},{"$f":"SUMIF('04 Abril'!$C$10:$C$1002,$B35,'04 Abril'!$F$10:$F$1002)","v":0},{"$f":"SUMIF('05 Mayo'!$C$10:$C$1000,$B35,'05 Mayo'!$F$10:$F$1000)","v":0},{"$f":"SUMIF('06 Junio'!$C$10:$C$1002,$B35,'06 Junio'!$F$10:$F$1002)","v":0},{"$f":"SUMIF('07 Julio'!$C$10:$C$1002,$B35,'07 Julio'!$F$10:$F$1002)","v":0},{"$f":"SUMIF('08 Agosto'!$C$10:$C$1002,$B35,'08 Agosto'!$F$10:$F$1002)","v":0},{"$f":"SUMIF('09 Septiembre'!$C$10:$C$1002,$B35,'09 Septiembre'!$F$10:$F$1002)","v":0},{"$f":"SUMIF('10 Octubre'!$C$10:$C$1002,$B35,'10 Octubre'!$F$10:$F$1002)","v":0},{"$f":"SUMIF('11 Noviembre'!$C$10:$C$1002,$B35,'11 Noviembre'!$F$10:$F$1002)","v":0},{"$f":"SUMIF('12 Diciembre'!$C$10:$C$1002,$B35,'12 Diciembre'!$F$10:$F$1002)","v":0},0]
[null,"Deporte",{"$f":"SUMIF('01 Enero'!$C$10:$C$1002,$B36,'01 Enero'!$F$10:$F$1002)","v":0},{"$f":"SUMIF('02 Febrero'!$C$10:$C$1002,$B36,'02 Febrero'!$F$10:$F$1002)","v":0},{"$f":"SUMIF('03 Marzo'!$C$10:$C$1002,$B36,'03 Marzo'!$F$10:$F$1002)","v":0},{"$f":"SUMIF('04 Abril'!$C$10:$C$1002,$B36,'04 Abril'!$F$10:$F$1002)","v":0},{"$f":"SUMIF('05 Mayo'!$C$10:$C$1000,$B36,'05 Mayo'!$F$10:$F$1000)","v":0},{"$f":"SUMIF('06 Junio'!$C$10:$C$1002,$B36,'06 Junio'!$F$10:$F$1002)","v":0},{"$f":"SUMIF('07 Julio'!$C$10:$C$1002,$B36,'07 Julio'!$F$10:$F$1002)","v":0},{"$f":"SUMIF('08 Agosto'!$C$10:$C$1002,$B36,'08 Agosto'!$F$10:$F$1002)","v":0},{"$f":"SUMIF('09 Septiembre'!$C$10:$C$1002,$B36,'09 Septiembre'!$F$10:$F$1002)","v":0},{"$f":"SUMIF('10 Octubre'!$C$10:$C$1002,$B36,'10 Octubre'!$F$10:$F$1002)","v":0},{"$f":"SUMIF('11 Noviembre'!$C$10:$C$1002,$B36,'11 Noviembre'!$F$10:$F$1002)","v":0},{"$f":"SUMIF('12 Diciembre'!$C$10:$C$1002,$B36,'12 Diciembre'!$F$10:$F$1002)","v":0},0]
[null,"Restaurantes",{"$f":"SUMIF('01 Enero'!$C$10:$C$1002,$B37,'01 Enero'!$F$10:$F$1002)","v":0},{"$f":"SUMIF('02 Febrero'!$C$10:$C$1002,$B37,'02 Febrero'!$F$10:$F$1002)","v":0},{"$f":"SUMIF('03 Marzo'!$C$10:$C$1002,$B37,'03 Marzo'!$F$10:$F$1002)","v":0},{"$f":"SUMIF('04 Abril'!$C$10:$C$1002,$B37,'04 Abril'!$F$10:$F$1002)","v":0},{"$f":"SUMIF('05 Mayo'!$C$10:$C$1000,$B37,'05 Mayo'!$F$10:$F$1000)","v":0},{"$f":"SUMIF('06 Junio'!$C$10:$C$1002,$B37,'06 Junio'!$F$10:$F$1002)","v":0},{"$f":"SUMIF('07 Julio'!$C$10:$C$1002,$B37,'07 Julio'!$F$10:$F$1002)","v":0},{"$f":"SUMIF('08 Agosto'!$C$10:$C$1002,$B37,'08 Agosto'!$F$10:$F$1002)","v":0},{"$f":"SUMIF('09 Septiembre'!$C$10:$C$1002,$B37,'09 Septiembre'!$F$10:$F$1002)","v":0},{"$f":"SUMIF('10 Octubre'!$C$10:$C$1002,$B37,'10 Octubre'!$F$10:$F$1002)","v":0},{"$f":"SUMIF('11 Noviembre'!$C$10:$C$1002,$B37,'11 Noviembre'!$F$10:$F$1002)","v":0},{"$f":"SUMIF('12 Diciembre'!$C$10:$C$1002,$B37,'12 Diciembre'!$F$10:$F$1002)","v":0},0]
[null,"Bares",{"$f":"SUMIF('01 Enero'!$C$10:$C$1002,$B38,'01 Enero'!$F$10:$F$1002)","v":0},{"$f":"SUMIF('02 Febrero'!$C$10:$C$1002,$B38,'02 Febrero'!$F$10:$F$1002)","v":0},{"$f":"SUMIF('03 Marzo'!$C$10:$C$1002,$B38,'03 Marzo'!$F$10:$F$1002)","v":0},{"$f":"SUMIF('04 Abril'!$C$10:$C$1002,$B38,'04 Abril'!$F$10:$F$1002)","v":0},{"$f":"SUMIF('05 Mayo'!$C$10:$C$1000,$B38,'05 Mayo'!$F$10:$F$1000)","v":0},{"$f":"SUMIF('06 Junio'!$C$10:$C$1002,$B38,'06 Junio'!$F$10:$F$1002)","v":0},{"$f":"SUMIF('07 Julio'!$C$10:$C$1002,$B38,'07 Julio'!$F$10:$F$1002)","v":0},{"$f":"SUMIF('08 Agosto'!$C$10:$C$1002,$B38,'08 Agosto'!$F$10:$F$1002)","v":0},{"$f":"SUMIF('09 Septiembre'!$C$10:$C$1002,$B38,'09 Septiembre'!$F$10:$F$1002)","v":0},{"$f":"SUMIF('10 Octubre'!$C$10:$C$1002,$B38,'10 Octubre'!$F$10:$F$1002)","v":0},{"$f":"SUMIF('11 Noviembre'!$C$10:$C$1002,$B38,'11 Noviembre'!$F$10:$F$1002)","v":0},{"$f":"SUMIF('12 Diciembre'!$C$10:$C$1002,$B38,'12 Diciembre'!$F$10:$F$1002)","v":0},0]
[null,"Libros y Revistas",{"$f":"SUMIF('01 Enero'!$C$10:$C$1002,$B39,'01 Enero'!$F$10:$F$1002)","v":0},{"$f":"SUMIF('02 Febrero'!$C$10:$C$1002,$B39,'02 Febrero'!$F$10:$F$1002)","v":0},{"$f":"SUMIF('03 Marzo'!$C$10:$C$1002,$B39,'03 Marzo'!$F$10:$F$1002)","v":0},{"$f":"SUMIF('04 Abril'!$C$10:$C$1002,$B39,'04 Abril'!$F$10:$F$1002)","v":0},{"$f":"SUMIF('05 Mayo'!$C$10:$C$1000,$B39,'05 Mayo'!$F$10:$F$1000)","v":0},{"$f":"SUMIF('06 Junio'!$C$10:$C$1002,$B39,'06 Junio'!$F$10:$F$1002)","v":0},{"$f":"SUMIF('07 Julio'!$C$10:$C$1002,$B39,'07 Julio'!$F$10:$F$1002)","v":0},{"$f":"SUMIF('08 Agosto'!$C$10:$C$1002,$B39,'08 Agosto'!$F$10:$F$1002)","v":0},{"$f":"SUMIF('09 Septiembre'!$C$10:$C$1002,$B39,'09 Septiembre'!$F$10:$F$1002)","v":0},{"$f":"SUMIF('10 Octubre'!$C$10:$C$1002,$B39,'10 Octubre'!$F$10:$F$1002)","v":0},{"$f":"SUMIF('11 Noviembre'!$C$10:$C$1002,$B39,'11 Noviembre'!$F$10:$F$1002)","v":0},{"$f":"SUMIF('12 Diciembre'!$C$10:$C$1002,$B39,'12 Diciembre'!$F$10:$F$1002)","v":0},0]
[null,"Juegos",{"$f":"SUMIF('01 Enero'!$C$10:$C$1002,$B40,'01 Enero'!$F$10:$F$1002)","v":0},{"$f":"SUMIF('02 Febrero'!$C$10:$C$1002,$B40,'02 Febrero'!$F$10:$F$1002)","v":0},{"$f":"SUMIF('03 Marzo'!$C$10:$C$1002,$B40,'03 Marzo'!$F$10:$F$1002)","v":0},{"$f":"SUMIF('04 Abril'!$C$10:$C$1002,$B40,'04 Abril'!$F$10:$F$1002)","v":0},{"$f":"SUMIF('05 Mayo'!$C$10:$C$1000,$B40,'05 Mayo'!$F$10:$F$1000)","v":0},{"$f":"SUMIF('06 Junio'!$C$10:$C$1002,$B40,'06 Junio'!$F$10:$F$1002)","v":0},{"$f":"SUMIF('07 Julio'!$C$10:$C$1002,$B40,'07 Julio'!$F$10:$F$1002)","v":0},{"$f":"SUMIF('08 Agosto'!$C$10:$C$1002,$B40,'08 Agosto'!$F$10:$F$1002)","v":0},{"$f":"SUMIF('09 Septiembre'!$C$10:$C$1002,$B40,'09 Septiembre'!$F$10:$F$1002)","v":0},{"$f":"SUMIF('10 Octubre'!$C$10:$C$1002,$B40,'10 Octubre'!$F$10:$F$1002)","v":0},{"$f":"SUMIF('11 Noviembre'!$C$10:$C$1002,$B40,'11 Noviembre'!$F$10:$F$1002)","v":0},{"$f":"SUMIF('12 Diciembre'!$C$10:$C$1002,$B40,'12 Diciembre'!$F$10:$F$1002)","v":0},0]
[null,"Música",{"$f":"SUMIF('01 Enero'!$C$10:$C$1002,$B41,'01 Enero'!$F$10:$F$1002)","v":0},{"$f":"SUMIF('02 Febrero'!$C$10:$C$1002,$B41,'02 Febrero'!$F$10:$F$1002)","v":0},{"$f":"SUMIF('03 Marzo'!$C$10:$C$1002,$B41,'03 Marzo'!$F$10:$F$1002)","v":0},{"$f":"SUMIF('04 Abril'!$C$10:$C$1002,$B41,'04 Abril'!$F$10:$F$1002)","v":0},{"$f":"SUMIF('05 Mayo'!$C$10:$C$1000,$B41,'05 Mayo'!$F$10:$F$1000)","v":0},{"$f":"SUMIF('06 Junio'!$C$10:$C$1002,$B41,'06 Junio'!$F$10:$F$1002)","v":0},{"$f":"SUMIF('07 Julio'!$C$10:$C$1002,$B41,'07 Julio'!$F$10:$F$1002)","v":0},{"$f":"SUMIF('08 Agosto'!$C$10:$C$1002,$B41,'08 Agosto'!$F$10:$F$1002)","v":0},{"$f":"SUMIF('09 Septiembre'!$C$10:$C$1002,$B41,'09 Septiembre'!$F$10:$F$1002)","v":0},{"$f":"SUMIF('10 Octubre'!$C$10:$C$1002,$B41,'10 Octubre'!$F$10:$F$1002)","v":0},{"$f":"SUMIF('11 Noviembre'!$C$10:$C$1002,$B41,'11 Noviembre'!$F$10:$F$1002)","v":0},{"$f":"SUMIF('12 Diciembre'!$C$10:$C$1002,$B41,'12 Diciembre'!$F$10:$F$1002)","v":0},0]
[null,"O - Otros",{"$f":"SUMIF('01 Enero'!$C$10:$C$1002,$B42,'01 Enero'!$F$10:$F$1002)","v":0},{"$f":"SUMIF('02 Febrero'!$C$10:$C$1002,$B42,'02 Febrero'!$F$10:$F$1002)","v":0},{"$f":"SUMIF('03 Marzo'!$C$10:$C$1002,$B42,'03 Marzo'!$F$10:$F$1002)","v":0},{"$f":"SUMIF('04 Abril'!$C$10:$C$1002,$B42,'04 Abril'!$F$10:$F$1002)","v":0},{"$f":"SUMIF('05 Mayo'!$C$10:$C$1000,$B42,'05 Mayo'!$F$10:$F$1000)","v":0},{"$f":"SUMIF('06 Junio'!$C$10:$C$1002,$B42,'06 Junio'!$F$10:$F$1002)","v":0},{"$f":"SUMIF('07 Julio'!$C$10:$C$1002,$B42,'07 Julio'!$F$10:$F$1002)","v":0},{"$f":"SUMIF('08 Agosto'!$C$10:$C$1002,$B42,'08 Agosto'!$F$10:$F$1002)","v":0},{"$f":"SUMIF('09 Septiembre'!$C$10:$C$1002,$B42,'09 Septiembre'!$F$10:$F$1002)","v":0},{"$f":"SUMIF('10 Octubre'!$C$10:$C$1002,$B42,'10 Octubre'!$F$10:$F$1002)","v":0},{"$f":"SUMIF('11 Noviembre'!$C$10:$C$1002,$B42,'11 Noviembre'!$F$10:$F$1002)","v":0},{"$f":"SUMIF('12 Diciembre'!$C$10:$C$1002,$B42,'12 Diciembre'!$F$10:$F$1002)","v":0},0]
[null,"Transporte",{"$f":"SUMIF('01 Enero'!$B$10:$B$1002,$B43,'01 Enero'!$F$10:$F$1002)","v":0},{"$f":"SUMIF('02 Febrero'!$B$10:$C$1002,$B43,'02 Febrero'!$F$10:$F$1002)","v":0},{"$f":"SUMIF('03 Marzo'!$B$10:$B$1002,$B43,'03 Marzo'!$F$10:$F$1002)","v":0},{"$f":"SUMIF('04 Abril'!$B$10:$C$1002,$B43,'04 Abril'!$F$10:$F$1002)","v":0},{"$f":"SUMIF('05 Mayo'!$B$10:$B$1000,$B43,'05 Mayo'!$F$10:$F$1000)","v":0},{"$f":"SUMIF('06 Junio'!$B$10:$B$1002,$B43,'06 Junio'!$F$10:$F$1002)","v":0},{"$f":"SUMIF('07 Julio'!$B$10:$B$1002,$B43,'07 Julio'!$F$10:$F$1002)","v":0},{"$f":"SUMIF('08 Agosto'!$B$10:$B$1002,$B43,'08 Agosto'!$F$10:$F$1002)","v":0},{"$f":"SUMIF('09 Septiembre'!$B$10:$B$1002,$B43,'09 Septiembre'!$F$10:$F$1002)","v":0},{"$f":"SUMIF('10 Octubre'!$B$10:$B$1002,$B43,'10 Octubre'!$F$10:$F$1002)","v":0},{"$f":"SUMIF('11 Noviembre'!$B$10:$B$1002,$B43,'11 Noviembre'!$F$10:$F$1002)","v":0},{"$f":"SUMIF('12 Diciembre'!$B$10:$B$1002,$B43,'12 Diciembre'!$F$10:$F$1002)","v":0},0]
[null,"Taller",{"$f":"SUMIF('01 Enero'!$C$10:$C$1002,$B44,'01 Enero'!$F$10:$F$1002)","v":0},{"$f":"SUMIF('02 Febrero'!$C$10:$C$1002,$B44,'02 Febrero'!$F$10:$F$1002)","v":0},{"$f":"SUMIF('03 Marzo'!$C$10:$C$1002,$B44,'03 Marzo'!$F$10:$F$1002)","v":0},{"$f":"SUMIF('04 Abril'!$C$10:$C$1002,$B44,'04 Abril'!$F$10:$F$1002)","v":0},{"$f":"SUMIF('05 Mayo'!$C$10:$C$1000,$B44,'05 Mayo'!$F$10:$F$1000)","v":0},{"$f":"SUMIF('06 Junio'!$C$10:$C$1002,$B44,'06 Junio'!$F$10:$F$1002)","v":0},{"$f":"SUMIF('07 Julio'!$C$10:$C$1002,$B44,'07 Julio'!$F$10:$F$1002)","v":0},{"$f":"SUMIF('08 Agosto'!$C$10:$C$1002,$B44,'08 Agosto'!$F$10:$F$1002)","v":0},{"$f":"SUMIF('09 Septiembre'!$C$10:$C$1002,$B44,'09 Septiembre'!$F$10:$F$1002)","v":0},{"$f":"SUMIF('10 Octubre'!$C$10:$C$1002,$B44,'10 Octubre'!$F$10:$F$1002)","v":0},{"$f":"SUMIF('11 Noviembre'!$C$10:$C$1002,$B44,'11 Noviembre'!$F$10:$F$1002)","v":0},{"$f":"SUMIF('12 Diciembre'!$C$10:$C$1002,$B44,'12 Diciembre'!$F$10:$F$1002)","v":0},0]
[null,"Combustible",{"$f":"SUMIF('01 Enero'!$C$10:$C$1002,$B45,'01 Enero'!$F$10:$F$1002)","v":0},{"$f":"SUMIF('02 Febrero'!$C$10:$C$1002,$B45,'02 Febrero'!$F$10:$F$1002)","v":0},{"$f":"SUMIF('03 Marzo'!$C$10:$C$1002,$B45,'03 Marzo'!$F$10:$F$1002)","v":0},{"$f":"SUMIF('04 Abril'!$C$10:$C$1002,$B45,'04 Abril'!$F$10:$F$1002)","v":0},{"$f":"SUMIF('05 Mayo'!$C$10:$C$1000,$B45,'05 Mayo'!$F$10:$F$1000)","v":0},{"$f":"SUMIF('06 Junio'!$C$10:$C$1002,$B45,'06 Junio'!$F$10:$F$1002)","v":0},{"$f":"SUMIF('07 Julio'!$C$10:$C$1002,$B45,'07 Julio'!$F$10:$F$1002)","v":0},{"$f":"SUMIF('08 Agosto'!$C$10:$C$1002,$B45,'08 Agosto'!$F$10:$F$1002)","v":0},{"$f":"SUMIF('09 Septiembre'!$C$10:$C$1002,$B45,'09 Septiembre'!$F$10:$F$1002)","v":0},{"$f":"SUMIF('10 Octubre'!$C$10:$C$1002,$B45,'10 Octubre'!$F$10:$F$1002)","v":0},{"$f":"SUMIF('11 Noviembre'!$C$10:$C$1002,$B45,'11 Noviembre'!$F$10:$F$1002)","v":0},{"$f":"SUMIF('12 Diciembre'!$C$10:$C$1002,$B45,'12 Diciembre'!$F$10:$F$1002)","v":0},0]
[null,"Seguros",{"$f":"SUMIF('01 Enero'!$C$10:$C$1002,$B46,'01 Enero'!$F$10:$F$1002)","v":0},{"$f":"SUMIF('02 Febrero'!$C$10:$C$1002,$B46,'02 Febrero'!$F$10:$F$1002)","v":0},{"$f":"SUMIF('03 Marzo'!$C$10:$C$1002,$B46,'03 Marzo'!$F$10:$F$1002)","v":0},{"$f":"SUMIF('04 Abril'!$C$10:$C$1002,$B46,'04 Abril'!$F$10:$F$1002)","v":0},{"$f":"SUMIF('05 Mayo'!$C$10:$C$1000,$B46,'05 Mayo'!$F$10:$F$1000)","v":0},{"$f":"SUMIF('06 Junio'!$C$10:$C$1002,$B46,'06 Junio'!$F$10:$F$1002)","v":0},{"$f":"SUMIF('07 Julio'!$C$10:$C$1002,$B46,'07 Julio'!$F$10:$F$1002)","v":0},{"$f":"SUMIF('08 Agosto'!$C$10:$C$1002,$B46,'08 Agosto'!$F$10:$F$1002)","v":0},{"$f":"SUMIF('09 Septiembre'!$C$10:$C$1002,$B46,'09 Septiembre'!$F$10:$F$1002)","v":0},{"$f":"SUMIF('10 Octubre'!$C$10:$C$1002,$B46,'10 Octubre'!$F$10:$F$1002)","v":0},{"$f":"SUMIF('11 Noviembre'!$C$10:$C$1002,$B46,'11 Noviembre'!$F$10:$F$1002)","v":0},{"$f":"SUMIF('12 Diciembre'!$C$10:$C$1002,$B46,'12 Diciembre'!$F$10:$F$1002)","v":0},0]
[null,"Multas",{"$f":"SUMIF('01 Enero'!$C$10:$C$1002,$B47,'01 Enero'!$F$10:$F$1002)","v":0},{"$f":"SUMIF('02 Febrero'!$C$10:$C$1002,$B47,'02 Febrero'!$F$10:$F$1002)","v":0},{"$f":"SUMIF('03 Marzo'!$C$10:$C$1002,$B47,'03 Marzo'!$F$10:$F$1002)","v":0},{"$f":"SUMIF('04 Abril'!$C$10:$C$1002,$B47,'04 Abril'!$F$10:$F$1002)","v":0},{"$f":"SUMIF('05 Mayo'!$C$10:$C$1000,$B47,'05 Mayo'!$F$10:$F$1000)","v":0},{"$f":"SUMIF('06 Junio'!$C$10:$C$1002,$B47,'06 Junio'!$F$10:$F$1002)","v":0},{"$f":"SUMIF('07 Julio'!$C$10:$C$1002,$B47,'07 Julio'!$F$10:$F$1002)","v":0},{"$f":"SUMIF('08 Agosto'!$C$10:$C$1002,$B47,'08 Agosto'!$F$10:$F$1002)","v":0},{"$f":"SUMIF('09 Septiembre'!$C$10:$C$1002,$B47,'09 Septiembre'!$F$10:$F$1002)","v":0},{"$f":"SUMIF('10 Octubre'!$C$10:$C$1002,$B47,'10 Octubre'!$F$10:$F$1002)","v":0},{"$f":"SUMIF('11 Noviembre'!$C$10:$C$1002,$B47,'11 Noviembre'!$F$10:$F$1002)","v":0},{"$f":"SUMIF('12 Diciembre'!$C$10:$C$1002,$B47,'12 Diciembre'!$F$10:$F$1002)","v":0},0]
[null,"Impuestos",{"$f":"SUMIF('01 Enero'!$C$10:$C$1002,$B48,'01 Enero'!$F$10:$F$1002)","v":0},{"$f":"SUMIF('02 Febrero'!$C$10:$C$1002,$B48,'02 Febrero'!$F$10:$F$1002)","v":0},{"$f":"SUMIF('03 Marzo'!$C$10:$C$1002,$B48,'03 Marzo'!$F$10:$F$1002)","v":0},{"$f":"SUMIF('04 Abril'!$C$10:$C$1002,$B48,'04 Abril'!$F$10:$F$1002)","v":0},{"$f":"SUMIF('05 Mayo'!$C$10:$C$1000,$B48,'05 Mayo'!$F$10:$F$1000)","v":0},{"$f":"SUMIF('06 Junio'!$C$10:$C$1002,$B48,'06 Junio'!$F$10:$F$1002)","v":0},{"$f":"SUMIF('07 Julio'!$C$10:$C$1002,$B48,'07 Julio'!$F$10:$F$1002)","v":0},{"$f":"SUMIF('08 Agosto'!$C$10:$C$1002,$B48,'08 Agosto'!$F$10:$F$1002)","v":0},{"$f":"SUMIF('09 Septiembre'!$C$10:$C$1002,$B48,'09 Septiembre'!$F$10:$F$1002)","v":0},{"$f":"SUMIF('10 Octubre'!$C$10:$C$1002,$B48,'10 Octubre'!$F$10:$F$1002)","v":0},{"$f":"SUMIF('11 Noviembre'!$C$10:$C$1002,$B48,'11 Noviembre'!$F$10:$F$1002)","v":0},{"$f":"SUMIF('12 Diciembre'!$C$10:$C$1002,$B48,'12 Diciembre'!$F$10:$F$1002)","v":0},0]
[null,"Público",{"$f":"SUMIF('01 Enero'!$C$10:$C$1002,$B49,'01 Enero'!$F$10:$F$1002)","v":0},{"$f":"SUMIF('02 Febrero'!$C$10:$C$1002,$B49,'02 Febrero'!$F$10:$F$1002)","v":0},{"$f":"SUMIF('03 Marzo'!$C$10:$C$1002,$B49,'03 Marzo'!$F$10:$F$1002)","v":0},{"$f":"SUMIF('04 Abril'!$C$10:$C$1002,$B49,'04 Abril'!$F$10:$F$1002)","v":0},{"$f":"SUMIF('05 Mayo'!$C$10:$C$1000,$B49,'05 Mayo'!$F$10:$F$1000)","v":0},{"$f":"SUMIF('06 Junio'!$C$10:$C$1002,$B49,'06 Junio'!$F$10:$F$1002)","v":0},{"$f":"SUMIF('07 Julio'!$C$10:$C$1002,$B49,'07 Julio'!$F$10:$F$1002)","v":0},{"$f":"SUMIF('08 Agosto'!$C$10:$C$1002,$B49,'08 Agosto'!$F$10:$F$1002)","v":0},{"$f":"SUMIF('09 Septiembre'!$C$10:$C$1002,$B49,'09 Septiembre'!$F$10:$F$1002)","v":0},{"$f":"SUMIF('10 Octubre'!$C$10:$C$1002,$B49,'10 Octubre'!$F$10:$F$1002)","v":0},{"$f":"SUMIF('11 Noviembre'!$C$10:$C$1002,$B49,'11 Noviembre'!$F$10:$F$1002)","v":0},{"$f":"SUMIF('12 Diciembre'!$C$10:$C$1002,$B49,'12 Diciembre'!$F$10:$F$1002)","v":0},0]
[null,"Correos",null,null,null,null,null,null,null,null,null,null,null,{"$f":"SUMIF('12 Diciembre'!$C$10:$C$1002,$B50,'12 Diciembre'!$F$10:$F$1002)","v":0}]
[null,"T - Otros",{"$f":"SUMIF('01 Enero'!$C$10:$C$1002,$B51,'01 Enero'!$F$10:$F$1002)","v":0},{"$f":"SUMIF('02 Febrero'!$C$10:$C$1002,$B51,'02 Febrero'!$F$10:$F$1002)","v":0},{"$f":"SUMIF('03 Marzo'!$C$10:$C$1002,$B51,'03 Marzo'!$F$10:$F$1002)","v":0},{"$f":"SUMIF('04 Abril'!$C$10:$C$1002,$B51,'04 Abril'!$F$10:$F$1002)","v":0},{"$f":"SUMIF('05 Mayo'!$C$10:$C$1000,$B51,'05 Mayo'!$F$10:$F$1000)","v":0},{"$f":"SUMIF('06 Junio'!$C$10:$C$1002,$B51,'06 Junio'!$F$10:$F$1002)","v":0},{"$f":"SUMIF('07 Julio'!$C$10:$C$1002,$B51,'07 Julio'!$F$10:$F$1002)","v":0},{"$f":"SUMIF('08 Agosto'!$C$10:$C$1002,$B51,'08 Agosto'!$F$10:$F$1002)","v":0},{"$f":"SUMIF('09 Septiembre'!$C$10:$C$1002,$B51,'09 Septiembre'!$F$10:$F$1002)","v":0},{"$f":"SUMIF('10 Octubre'!$C$10:$C$1002,$B51,'10 Octubre'!$F$10:$F$1002)","v":0},{"$f":"SUMIF('11 Noviembre'!$C$10:$C$1002,$B51,'11 Noviembre'!$F$10:$F$1002)","v":0},{"$f":"SUMIF('12 Diciembre'!$C$10:$C$1002,$B51,'12 Diciembre'!$F$10:$F$1002)","v":0},{"$f":"SUM(C51:N51)","v":0}]
[null,"Vivienda",{"$f":"SUMIF('01 Enero'!$B$10:$B$1002,$B52,'01 Enero'!$F$10:$F$1002)","v":0},{"$f":"SUMIF('02 Febrero'!$B$10:$B$1002,$B52,'02 Febrero'!$F$10:$F$1002)","v":0},{"$f":"SUMIF('03 Marzo'!$B$10:$B$1002,$B52,'03 Marzo'!$F$10:$F$1002)","v":0},{"$f":"SUMIF('04 Abril'!$B$10:$C$1002,$B52,'04 Abril'!$F$10:$F$1002)","v":0},{"$f":"SUMIF('05 Mayo'!$B$10:$B$1000,$B52,'05 Mayo'!$F$10:$F$1000)","v":0},{"$f":"SUMIF('06 Junio'!$B$10:$B$1002,$B52,'06 Junio'!$F$10:$F$1002)","v":0},{"$f":"SUMIF('07 Julio'!$B$10:$B$1002,$B52,'07 Julio'!$F$10:$F$1002)","v":0},{"$f":"SUMIF('08 Agosto'!$B$10:$B$1002,$B52,'08 Agosto'!$F$10:$F$1002)","v":0},{"$f":"SUMIF('09 Septiembre'!$B$10:$B$1002,$B52,'09 Septiembre'!$F$10:$F$1002)","v":0},{"$f":"SUMIF('10 Octubre'!$B$10:$B$1002,$B52,'10 Octubre'!$F$10:$F$1002)","v":0},{"$f":"SUMIF('11 Noviembre'!$B$10:$B$1002,$B52,'11 Noviembre'!$F$10:$F$1002)","v":0},{"$f":"SUMIF('12 Diciembre'!$B$10:$B$1002,$B52,'12 Diciembre'!$F$10:$F$1002)","v":0},0]
[null,"Muebles",{"$f":"SUMIF('01 Enero'!$C$10:$C$1002,$B53,'01 Enero'!$F$10:$F$1002)","v":0},{"$f":"SUMIF('02 Febrero'!$C$10:$C$1002,$B53,'02 Febrero'!$F$10:$F$1002)","v":0},{"$f":"SUMIF('03 Marzo'!$C$10:$C$1002,$B53,'03 Marzo'!$F$10:$F$1002)","v":0},{"$f":"SUMIF('04 Abril'!$C$10:$C$1002,$B53,'04 Abril'!$F$10:$F$1002)","v":0},{"$f":"SUMIF('05 Mayo'!$C$10:$C$1000,$B53,'05 Mayo'!$F$10:$F$1000)","v":0},{"$f":"SUMIF('06 Junio'!$C$10:$C$1002,$B53,'06 Junio'!$F$10:$F$1002)","v":0},{"$f":"SUMIF('07 Julio'!$C$10:$C$1002,$B53,'07 Julio'!$F$10:$F$1002)","v":0},{"$f":"SUMIF('08 Agosto'!$C$10:$C$1002,$B53,'08 Agosto'!$F$10:$F$1002)","v":0},{"$f":"SUMIF('09 Septiembre'!$C$10:$C$1002,$B53,'09 Septiembre'!$F$10:$F$1002)","v":0},{"$f":"SUMIF('10 Octubre'!$C$10:$C$1002,$B53,'10 Octubre'!$F$10:$F$1002)","v":0},{"$f":"SUMIF('11 Noviembre'!$C$10:$C$1002,$B53,'11 Noviembre'!$F$10:$F$1002)","v":0},{"$f":"SUMIF('12 Diciembre'!$C$10:$C$1002,$B53,'12 Diciembre'!$F$10:$F$1002)","v":0},0]
[null,"Electrodomesticos",{"$f":"SUMIF('01 Enero'!$C$10:$C$1002,$B54,'01 Enero'!$F$10:$F$1002)","v":0},{"$f":"SUMIF('02 Febrero'!$C$10:$C$1002,$B54,'02 Febrero'!$F$10:$F$1002)","v":0},{"$f":"SUMIF('03 Marzo'!$C$10:$C$1002,$B54,'03 Marzo'!$F$10:$F$1002)","v":0},{"$f":"SUMIF('04 Abril'!$C$10:$C$1002,$B54,'04 Abril'!$F$10:$F$1002)","v":0},{"$f":"SUMIF('05 Mayo'!$C$10:$C$1000,$B54,'05 Mayo'!$F$10:$F$1000)","v":0},{"$f":"SUMIF('06 Junio'!$C$10:$C$1002,$B54,'06 Junio'!$F$10:$F$1002)","v":0},{"$f":"SUMIF('07 Julio'!$C$10:$C$1002,$B54,'07 Julio'!$F$10:$F$1002)","v":0},{"$f":"SUMIF('08 Agosto'!$C$10:$C$1002,$B54,'08 Agosto'!$F$10:$F$1002)","v":0},{"$f":"SUMIF('09 Septiembre'!$C$10:$C$1002,$B54,'09 Septiembre'!$F$10:$F$1002)","v":0},{"$f":"SUMIF('10 Octubre'!$C$10:$C$1002,$B54,'10 Octubre'!$F$10:$F$1002)","v":0},{"$f":"SUMIF('11 Noviembre'!$C$10:$C$1002,$B54,'11 Noviembre'!$F$10:$F$1002)","v":0},{"$f":"SUMIF('12 Diciembre'!$C$10:$C$1002,$B54,'12 Diciembre'!$F$10:$F$1002)","v":0},0]
[null,"Reparaciones",{"$f":"SUMIF('01 Enero'!$C$10:$C$1002,$B55,'01 Enero'!$F$10:$F$1002)","v":0},{"$f":"SUMIF('02 Febrero'!$C$10:$C$1002,$B55,'02 Febrero'!$F$10:$F$1002)","v":0},{"$f":"SUMIF('03 Marzo'!$C$10:$C$1002,$B55,'03 Marzo'!$F$10:$F$1002)","v":0},{"$f":"SUMIF('04 Abril'!$C$10:$C$1002,$B55,'04 Abril'!$F$10:$F$1002)","v":0},{"$f":"SUMIF('05 Mayo'!$C$10:$C$1000,$B55,'05 Mayo'!$F$10:$F$1000)","v":0},{"$f":"SUMIF('06 Junio'!$C$10:$C$1002,$B55,'06 Junio'!$F$10:$F$1002)","v":0},{"$f":"SUMIF('07 Julio'!$C$10:$C$1002,$B55,'07 Julio'!$F$10:$F$1002)","v":0},{"$f":"SUMIF('08 Agosto'!$C$10:$C$1002,$B55,'08 Agosto'!$F$10:$F$1002)","v":0},{"$f":"SUMIF('09 Septiembre'!$C$10:$C$1002,$B55,'09 Septiembre'!$F$10:$F$1002)","v":0},{"$f":"SUMIF('10 Octubre'!$C$10:$C$1002,$B55,'10 Octubre'!$F$10:$F$1002)","v":0},{"$f":"SUMIF('11 Noviembre'!$C$10:$C$1002,$B55,'11 Noviembre'!$F$10:$F$1002)","v":0},{"$f":"SUMIF('12 Diciembre'!$C$10:$C$1002,$B55,'12 Diciembre'!$F$10:$F$1002)","v":0},0]
[null,"V-Informática",{"$f":"SUMIF('01 Enero'!$C$10:$C$1002,$B56,'01 Enero'!$F$10:$F$1002)","v":0},{"$f":"SUMIF('02 Febrero'!$C$10:$C$1002,$B56,'02 Febrero'!$F$10:$F$1002)","v":0},{"$f":"SUMIF('03 Marzo'!$C$10:$C$1002,$B56,'03 Marzo'!$F$10:$F$1002)","v":0},{"$f":"SUMIF('04 Abril'!$C$10:$C$1002,$B56,'04 Abril'!$F$10:$F$1002)","v":0},{"$f":"SUMIF('05 Mayo'!$C$10:$C$1000,$B56,'05 Mayo'!$F$10:$F$1000)","v":0},{"$f":"SUMIF('06 Junio'!$C$10:$C$1002,$B56,'06 Junio'!$F$10:$F$1002)","v":0},{"$f":"SUMIF('07 Julio'!$C$10:$C$1002,$B56,'07 Julio'!$F$10:$F$1002)","v":0},{"$f":"SUMIF('08 Agosto'!$C$10:$C$1002,$B56,'08 Agosto'!$F$10:$F$1002)","v":0},{"$f":"SUMIF('09 Septiembre'!$C$10:$C$1002,$B56,'09 Septiembre'!$F$10:$F$1002)","v":0},{"$f":"SUMIF('10 Octubre'!$C$10:$C$1002,$B56,'10 Octubre'!$F$10:$F$1002)","v":0},{"$f":"SUMIF('11 Noviembre'!$C$10:$C$1002,$B56,'11 Noviembre'!$F$10:$F$1002)","v":0},{"$f":"SUMIF('12 Diciembre'!$C$10:$C$1002,$B56,'12 Diciembre'!$F$10:$F$1002)","v":0},0]
[null,"Impuestos",{"$f":"SUMIF('01 Enero'!$C$10:$C$1002,$B57,'01 Enero'!$F$10:$F$1002)","v":0},{"$f":"SUMIF('02 Febrero'!$C$10:$C$1002,$B57,'02 Febrero'!$F$10:$F$1002)","v":0},{"$f":"SUMIF('03 Marzo'!$C$10:$C$1002,$B57,'03 Marzo'!$F$10:$F$1002)","v":0},{"$f":"SUMIF('04 Abril'!$C$10:$C$1002,$B57,'04 Abril'!$F$10:$F$1002)","v":0},{"$f":"SUMIF('05 Mayo'!$C$10:$C$1000,$B57,'05 Mayo'!$F$10:$F$1000)","v":0},{"$f":"SUMIF('06 Junio'!$C$10:$C$1002,$B57,'06 Junio'!$F$10:$F$1002)","v":0},{"$f":"SUMIF('07 Julio'!$C$10:$C$1002,$B57,'07 Julio'!$F$10:$F$1002)","v":0},{"$f":"SUMIF('08 Agosto'!$C$10:$C$1002,$B57,'08 Agosto'!$F$10:$F$1002)","v":0},{"$f":"SUMIF('09 Septiembre'!$C$10:$C$1002,$B57,'09 Septiembre'!$F$10:$F$1002)","v":0},{"$f":"SUMIF('10 Octubre'!$C$10:$C$1002,$B57,'10 Octubre'!$F$10:$F$1002)","v":0},{"$f":"SUMIF('11 Noviembre'!$C$10:$C$1002,$B57,'11 Noviembre'!$F$10:$F$1002)","v":0},{"$f":"SUMIF('12 Diciembre'!$C$10:$C$1002,$B57,'12 Diciembre'!$F$10:$F$1002)","v":0},0]
[null,"V - Otros",{"$f":"SUMIF('01 Enero'!$C$10:$C$1002,$B58,'01 Enero'!$F$10:$F$1002)","v":0},{"$f":"SUMIF('02 Febrero'!$C$10:$C$1002,$B58,'02 Febrero'!$F$10:$F$1002)","v":0},{"$f":"SUMIF('03 Marzo'!$C$10:$C$1002,$B58,'03 Marzo'!$F$10:$F$1002)","v":0},{"$f":"SUMIF('04 Abril'!$C$10:$C$1002,$B58,'04 Abril'!$F$10:$F$1002)","v":0},{"$f":"SUMIF('05 Mayo'!$C$10:$C$1000,$B58,'05 Mayo'!$F$10:$F$1000)","v":0},{"$f":"SUMIF('06 Junio'!$C$10:$C$1002,$B58,'06 Junio'!$F$10:$F$1002)","v":0},{"$f":"SUMIF('07 Julio'!$C$10:$C$1002,$B58,'07 Julio'!$F$10:$F$1002)","v":0},{"$f":"SUMIF('08 Agosto'!$C$10:$C$1002,$B58,'08 Agosto'!$F$10:$F$1002)","v":0},{"$f":"SUMIF('09 Septiembre'!$C$10:$C$1002,$B58,'09 Septiembre'!$F$10:$F$1002)","v":0},{"$f":"SUMIF('10 Octubre'!$C$10:$C$1002,$B58,'10 Octubre'!$F$10:$F$1002)","v":0},{"$f":"SUMIF('11 Noviembre'!$C$10:$C$1002,$B58,'11 Noviembre'!$F$10:$F$1002)","v":0},{"$f":"SUMIF('12 Diciembre'!$C$10:$C$1002,$B58,'12 Diciembre'!$F$10:$F$1002)","v":0},0]
[null,"Salud_Bienestar",{"$f":"SUMIF('01 Enero'!$B$10:$B$1002,$B59,'01 Enero'!$F$10:$F$1002)","v":0},{"$f":"SUMIF('02 Febrero'!$B$10:$C$1002,$B59,'02 Febrero'!$F$10:$F$1002)","v":0},{"$f":"SUMIF('03 Marzo'!$B$10:$B$1002,$B59,'03 Marzo'!$F$10:$F$1002)","v":0},{"$f":"SUMIF('04 Abril'!$B$10:$C$1002,$B59,'04 Abril'!$F$10:$F$1002)","v":0},{"$f":"SUMIF('05 Mayo'!$B$10:$B$1000,$B59,'05 Mayo'!$F$10:$F$1000)","v":0},{"$f":"SUMIF('06 Junio'!$B$10:$B$1002,$B59,'06 Junio'!$F$10:$F$1002)","v":0},{"$f":"SUMIF('07 Julio'!$B$10:$B$1002,$B59,'07 Julio'!$F$10:$F$1002)","v":0},{"$f":"SUMIF('08 Agosto'!$B$10:$B$1002,$B59,'08 Agosto'!$F$10:$F$1002)","v":0},{"$f":"SUMIF('09 Septiembre'!$B$10:$B$1002,$B59,'09 Septiembre'!$F$10:$F$1002)","v":0},{"$f":"SUMIF('10 Octubre'!$B$10:$B$1002,$B59,'10 Octubre'!$F$10:$F$1002)","v":0},{"$f":"SUMIF('11 Noviembre'!$B$10:$B$1002,$B59,'11 Noviembre'!$F$10:$F$1002)","v":0},{"$f":"SUMIF('12 Diciembre'!$B$10:$B$1002,$B59,'12 Diciembre'!$F$10:$F$1002)","v":0},0]
[null,"Médicos",{"$f":"SUMIF('01 Enero'!$C$10:$C$1002,$B60,'01 Enero'!$F$10:$F$1002)","v":0},{"$f":"SUMIF('02 Febrero'!$C$10:$C$1002,$B60,'02 Febrero'!$F$10:$F$1002)","v":0},{"$f":"SUMIF('03 Marzo'!$C$10:$C$1002,$B60,'03 Marzo'!$F$10:$F$1002)","v":0},{"$f":"SUMIF('04 Abril'!$C$10:$C$1002,$B60,'04 Abril'!$F$10:$F$1002)","v":0},{"$f":"SUMIF('05 Mayo'!$C$10:$C$1000,$B60,'05 Mayo'!$F$10:$F$1000)","v":0},{"$f":"SUMIF('06 Junio'!$C$10:$C$1002,$B60,'06 Junio'!$F$10:$F$1002)","v":0},{"$f":"SUMIF('07 Julio'!$C$10:$C$1002,$B60,'07 Julio'!$F$10:$F$1002)","v":0},{"$f":"SUMIF('08 Agosto'!$C$10:$C$1002,$B60,'08 Agosto'!$F$10:$F$1002)","v":0},{"$f":"SUMIF('09 Septiembre'!$C$10:$C$1002,$B60,'09 Septiembre'!$F$10:$F$1002)","v":0},{"$f":"SUMIF('10 Octubre'!$C$10:$C$1002,$B60,'10 Octubre'!$F$10:$F$1002)","v":0},{"$f":"SUMIF('11 Noviembre'!$C$10:$C$1002,$B60,'11 Noviembre'!$F$10:$F$1002)","v":0},{"$f":"SUMIF('12 Diciembre'!$C$10:$C$1002,$B60,'12 Diciembre'!$F$10:$F$1002)","v":0},0]
[null,"Farmacia",{"$f":"SUMIF('01 Enero'!$C$10:$C$1002,$B61,'01 Enero'!$F$10:$F$1002)","v":0},{"$f":"SUMIF('02 Febrero'!$C$10:$C$1002,$B61,'02 Febrero'!$F$10:$F$1002)","v":0},{"$f":"SUMIF('03 Marzo'!$C$10:$C$1002,$B61,'03 Marzo'!$F$10:$F$1002)","v":0},{"$f":"SUMIF('04 Abril'!$C$10:$C$1002,$B61,'04 Abril'!$F$10:$F$1002)","v":0},{"$f":"SUMIF('05 Mayo'!$C$10:$C$1000,$B61,'05 Mayo'!$F$10:$F$1000)","v":0},{"$f":"SUMIF('06 Junio'!$C$10:$C$1002,$B61,'06 Junio'!$F$10:$F$1002)","v":0},{"$f":"SUMIF('07 Julio'!$C$10:$C$1002,$B61,'07 Julio'!$F$10:$F$1002)","v":0},{"$f":"SUMIF('08 Agosto'!$C$10:$C$1002,$B61,'08 Agosto'!$F$10:$F$1002)","v":0},{"$f":"SUMIF('09 Septiembre'!$C$10:$C$1002,$B61,'09 Septiembre'!$F$10:$F$1002)","v":0},{"$f":"SUMIF('10 Octubre'!$C$10:$C$1002,$B61,'10 Octubre'!$F$10:$F$1002)","v":0},{"$f":"SUMIF('11 Noviembre'!$C$10:$C$1002,$B61,'11 Noviembre'!$F$10:$F$1002)","v":0},{"$f":"SUMIF('12 Diciembre'!$C$10:$C$1002,$B61,'12 Diciembre'!$F$10:$F$1002)","v":0},0]
[null,"S - Otros",{"$f":"SUMIF('01 Enero'!$C$10:$C$1002,$B62,'01 Enero'!$F$10:$F$1002)","v":0},{"$f":"SUMIF('02 Febrero'!$C$10:$C$1002,$B62,'02 Febrero'!$F$10:$F$1002)","v":0},{"$f":"SUMIF('03 Marzo'!$C$10:$C$1002,$B62,'03 Marzo'!$F$10:$F$1002)","v":0},{"$f":"SUMIF('04 Abril'!$C$10:$C$1002,$B62,'04 Abril'!$F$10:$F$1002)","v":0},{"$f":"SUMIF('05 Mayo'!$C$10:$C$1000,$B62,'05 Mayo'!$F$10:$F$1000)","v":0},{"$f":"SUMIF('06 Junio'!$C$10:$C$1002,$B62,'06 Junio'!$F$10:$F$1002)","v":0},{"$f":"SUMIF('07 Julio'!$C$10:$C$1002,$B62,'07 Julio'!$F$10:$F$1002)","v":0},{"$f":"SUMIF('08 Agosto'!$C$10:$C$1002,$B62,'08 Agosto'!$F$10:$F$1002)","v":0},{"$f":"SUMIF('09 Septiembre'!$C$10:$C$1002,$B62,'09 Septiembre'!$F$10:$F$1002)","v":0},{"$f":"SUMIF('10 Octubre'!$C$10:$C$1002,$B62,'10 Octubre'!$F$10:$F$1002)","v":0},{"$f":"SUMIF('11 Noviembre'!$C$10:$C$1002,$B62,'11 Noviembre'!$F$10:$F$1002)","v":0},{"$f":"SUMIF('12 Diciembre'!$C$10:$C$1002,$B62,'12 Diciembre'!$F$10:$F$1002)","v":0},0]
[null,"Cuidado Personal",{"$f":"SUMIF('01 Enero'!$C$10:$C$1002,$B63,'01 Enero'!$F$10:$F$1002)","v":0},{"$f":"SUMIF('02 Febrero'!$C$10:$C$1002,$B63,'02 Febrero'!$F$10:$F$1002)","v":0},{"$f":"SUMIF('03 Marzo'!$C$10:$C$1002,$B63,'03 Marzo'!$F$10:$F$1002)","v":0},{"$f":"SUMIF('04 Abril'!$C$10:$C$1002,$B63,'04 Abril'!$F$10:$F$1002)","v":0},{"$f":"SUMIF('05 Mayo'!$C$10:$C$1000,$B63,'05 Mayo'!$F$10:$F$1000)","v":0},{"$f":"SUMIF('06 Junio'!$C$10:$C$1002,$B63,'06 Junio'!$F$10:$F$1002)","v":0},{"$f":"SUMIF('07 Julio'!$C$10:$C$1002,$B63,'07 Julio'!$F$10:$F$1002)","v":0},{"$f":"SUMIF('08 Agosto'!$C$10:$C$1002,$B63,'08 Agosto'!$F$10:$F$1002)","v":0},{"$f":"SUMIF('09 Septiembre'!$C$10:$C$1002,$B63,'09 Septiembre'!$F$10:$F$1002)","v":0},{"$f":"SUMIF('10 Octubre'!$C$10:$C$1002,$B63,'10 Octubre'!$F$10:$F$1002)","v":0},{"$f":"SUMIF('11 Noviembre'!$C$10:$C$1002,$B63,'11 Noviembre'!$F$10:$F$1002)","v":0},{"$f":"SUMIF('12 Diciembre'!$C$10:$C$1002,$B63,'12 Diciembre'!$F$10:$F$1002)","v":0},0]
[null,"Seguros",{"$f":"SUMIF('01 Enero'!$B$10:$B$1002,$B64,'01 Enero'!$F$10:$F$1002)","v":0},{"$f":"SUMIF('02 Febrero'!$B$10:$C$1002,$B64,'02 Febrero'!$F$10:$F$1002)","v":0},{"$f":"SUMIF('03 Marzo'!$B$10:$B$1002,$B64,'03 Marzo'!$F$10:$F$1002)","v":0},{"$f":"SUMIF('04 Abril'!$B$10:$C$1002,$B64,'04 Abril'!$F$10:$F$1002)","v":0},{"$f":"SUMIF('05 Mayo'!$B$10:$B$1000,$B64,'05 Mayo'!$F$10:$F$1000)","v":0},{"$f":"SUMIF('06 Junio'!$B$10:$B$1002,$B64,'06 Junio'!$F$10:$F$1002)","v":0},{"$f":"SUMIF('07 Julio'!$B$10:$B$1002,$B64,'07 Julio'!$F$10:$F$1002)","v":0},{"$f":"SUMIF('08 Agosto'!$B$10:$B$1002,$B64,'08 Agosto'!$F$10:$F$1002)","v":0},{"$f":"SUMIF('09 Septiembre'!$B$10:$B$1002,$B64,'09 Septiembre'!$F$10:$F$1002)","v":0},{"$f":"SUMIF('10 Octubre'!$B$10:$B$1002,$B64,'10 Octubre'!$F$10:$F$1002)","v":0},{"$f":"SUMIF('11 Noviembre'!$B$10:$B$1002,$B64,'11 Noviembre'!$F$10:$F$1002)","v":0},{"$f":"SUMIF('12 Diciembre'!$B$10:$B$1002,$B64,'12 Diciembre'!$F$10:$F$1002)","v":0},0]
[null,"Vivienda",{"$f":"SUMIF('01 Enero'!$C$10:$C$1002,$B65,'01 Enero'!$F$10:$F$1002)","v":0},{"$f":"SUMIF('02 Febrero'!$C$10:$C$1002,$B65,'02 Febrero'!$F$10:$F$1002)","v":0},{"$f":"SUMIF('03 Marzo'!$C$10:$C$1002,$B65,'03 Marzo'!$F$10:$F$1002)","v":0},{"$f":"SUMIF('04 Abril'!$C$10:$C$1002,$B65,'04 Abril'!$F$10:$F$1002)","v":0},{"$f":"SUMIF('05 Mayo'!$C$10:$C$1000,$B65,'05 Mayo'!$F$10:$F$1000)","v":0},{"$f":"SUMIF('06 Junio'!$C$10:$C$1002,$B65,'06 Junio'!$F$10:$F$1002)","v":0},{"$f":"SUMIF('07 Julio'!$C$10:$C$1002,$B65,'07 Julio'!$F$10:$F$1002)","v":0},{"$f":"SUMIF('08 Agosto'!$C$10:$C$1002,$B65,'08 Agosto'!$F$10:$F$1002)","v":0},{"$f":"SUMIF('09 Septiembre'!$C$10:$C$1002,$B65,'09 Septiembre'!$F$10:$F$1002)","v":0},{"$f":"SUMIF('10 Octubre'!$C$10:$C$1002,$B65,'10 Octubre'!$F$10:$F$1002)","v":0},{"$f":"SUMIF('11 Noviembre'!$C$10:$C$1002,$B65,'11 Noviembre'!$F$10:$F$1002)","v":0},{"$f":"SUMIF('12 Diciembre'!$C$10:$C$1002,$B65,'12 Diciembre'!$F$10:$F$1002)","v":0},0]
[null,"Vida",{"$f":"SUMIF('01 Enero'!$C$10:$C$1002,$B66,'01 Enero'!$F$10:$F$1002)","v":0},{"$f":"SUMIF('02 Febrero'!$C$10:$C$1002,$B66,'02 Febrero'!$F$10:$F$1002)","v":0},{"$f":"SUMIF('03 Marzo'!$C$10:$C$1002,$B66,'03 Marzo'!$F$10:$F$1002)","v":0},{"$f":"SUMIF('04 Abril'!$C$10:$C$1002,$B66,'04 Abril'!$F$10:$F$1002)","v":0},{"$f":"SUMIF('05 Mayo'!$C$10:$C$1000,$B66,'05 Mayo'!$F$10:$F$1000)","v":0},{"$f":"SUMIF('06 Junio'!$C$10:$C$1002,$B66,'06 Junio'!$F$10:$F$1002)","v":0},{"$f":"SUMIF('07 Julio'!$C$10:$C$1002,$B66,'07 Julio'!$F$10:$F$1002)","v":0},{"$f":"SUMIF('08 Agosto'!$C$10:$C$1002,$B66,'08 Agosto'!$F$10:$F$1002)","v":0},{"$f":"SUMIF('09 Septiembre'!$C$10:$C$1002,$B66,'09 Septiembre'!$F$10:$F$1002)","v":0},{"$f":"SUMIF('10 Octubre'!$C$10:$C$1002,$B66,'10 Octubre'!$F$10:$F$1002)","v":0},{"$f":"SUMIF('11 Noviembre'!$C$10:$C$1002,$B66,'11 Noviembre'!$F$10:$F$1002)","v":0},{"$f":"SUMIF('12 Diciembre'!$C$10:$C$1002,$B66,'12 Diciembre'!$F$10:$F$1002)","v":0},0]
[null,"Jubilación",{"$f":"SUMIF('01 Enero'!$C$10:$C$1002,$B67,'01 Enero'!$F$10:$F$1002)","v":0},{"$f":"SUMIF('02 Febrero'!$C$10:$C$1002,$B67,'02 Febrero'!$F$10:$F$1002)","v":0},{"$f":"SUMIF('03 Marzo'!$C$10:$C$1002,$B67,'03 Marzo'!$F$10:$F$1002)","v":0},{"$f":"SUMIF('04 Abril'!$C$10:$C$1002,$B67,'04 Abril'!$F$10:$F$1002)","v":0},{"$f":"SUMIF('05 Mayo'!$C$10:$C$1000,$B67,'05 Mayo'!$F$10:$F$1000)","v":0},{"$f":"SUMIF('06 Junio'!$C$10:$C$1002,$B67,'06 Junio'!$F$10:$F$1002)","v":0},{"$f":"SUMIF('07 Julio'!$C$10:$C$1002,$B67,'07 Julio'!$F$10:$F$1002)","v":0},{"$f":"SUMIF('08 Agosto'!$C$10:$C$1002,$B67,'08 Agosto'!$F$10:$F$1002)","v":0},{"$f":"SUMIF('09 Septiembre'!$C$10:$C$1002,$B67,'09 Septiembre'!$F$10:$F$1002)","v":0},{"$f":"SUMIF('10 Octubre'!$C$10:$C$1002,$B67,'10 Octubre'!$F$10:$F$1002)","v":0},{"$f":"SUMIF('11 Noviembre'!$C$10:$C$1002,$B67,'11 Noviembre'!$F$10:$F$1002)","v":0},{"$f":"SUMIF('12 Diciembre'!$C$10:$C$1002,$B67,'12 Diciembre'!$F$10:$F$1002)","v":0},0]
[null,"Electrodomesticos",{"$f":"SUMIF('01 Enero'!$C$10:$C$1002,$B68,'01 Enero'!$F$10:$F$1002)","v":0},{"$f":"SUMIF('02 Febrero'!$C$10:$C$1002,$B68,'02 Febrero'!$F$10:$F$1002)","v":0},{"$f":"SUMIF('03 Marzo'!$C$10:$C$1002,$B68,'03 Marzo'!$F$10:$F$1002)","v":0},{"$f":"SUMIF('04 Abril'!$C$10:$C$1002,$B68,'04 Abril'!$F$10:$F$1002)","v":0},{"$f":"SUMIF('05 Mayo'!$C$10:$C$1000,$B68,'05 Mayo'!$F$10:$F$1000)","v":0},{"$f":"SUMIF('06 Junio'!$C$10:$C$1002,$B68,'06 Junio'!$F$10:$F$1002)","v":0},{"$f":"SUMIF('07 Julio'!$C$10:$C$1002,$B68,'07 Julio'!$F$10:$F$1002)","v":0},{"$f":"SUMIF('08 Agosto'!$C$10:$C$1002,$B68,'08 Agosto'!$F$10:$F$1002)","v":0},{"$f":"SUMIF('09 Septiembre'!$C$10:$C$1002,$B68,'09 Septiembre'!$F$10:$F$1002)","v":0},{"$f":"SUMIF('10 Octubre'!$C$10:$C$1002,$B68,'10 Octubre'!$F$10:$F$1002)","v":0},{"$f":"SUMIF('11 Noviembre'!$C$10:$C$1002,$B68,'11 Noviembre'!$F$10:$F$1002)","v":0},{"$f":"SUMIF('12 Diciembre'!$C$10:$C$1002,$B68,'12 Diciembre'!$F$10:$F$1002)","v":0},0]
[null,"Chalet",{"$f":"SUMIF('01 Enero'!$B$10:$B$1002,$B69,'01 Enero'!$F$10:$F$1002)","v":0},{"$f":"SUMIF('02 Febrero'!$B$10:$C$1002,$B69,'02 Febrero'!$F$10:$F$1002)","v":0},{"$f":"SUMIF('03 Marzo'!$B$10:$B$1002,$B69,'03 Marzo'!$F$10:$F$1002)","v":0},{"$f":"SUMIF('04 Abril'!$B$10:$C$1002,$B69,'04 Abril'!$F$10:$F$1002)","v":0},{"$f":"SUMIF('05 Mayo'!$B$10:$B$1000,$B69,'05 Mayo'!$F$10:$F$1000)","v":0},{"$f":"SUMIF('06 Junio'!$B$10:$B$1002,$B69,'06 Junio'!$F$10:$F$1002)","v":0},{"$f":"SUMIF('07 Julio'!$B$10:$B$1002,$B69,'07 Julio'!$F$10:$F$1002)","v":0},{"$f":"SUMIF('08 Agosto'!$B$10:$B$1002,$B69,'08 Agosto'!$F$10:$F$1002)","v":0},{"$f":"SUMIF('09 Septiembre'!$B$10:$B$1002,$B69,'09 Septiembre'!$F$10:$F$1002)","v":0},{"$f":"SUMIF('10 Octubre'!$B$10:$B$1002,$B69,'10 Octubre'!$F$10:$F$1002)","v":0},{"$f":"SUMIF('11 Noviembre'!$B$10:$B$1002,$B69,'11 Noviembre'!$F$10:$F$1002)","v":0},{"$f":"SUMIF('12 Diciembre'!$B$10:$B$1002,$B69,'12 Diciembre'!$F$10:$F$1002)","v":0},0]
[null,"Luz_Chalet",{"$f":"SUMIF('01 Enero'!$C$10:$C$1002,$B70,'01 Enero'!$F$10:$F$1002)","v":0},{"$f":"SUMIF('02 Febrero'!$C$10:$C$1002,$B70,'02 Febrero'!$F$10:$F$1002)","v":0},{"$f":"SUMIF('03 Marzo'!$C$10:$C$1002,$B70,'03 Marzo'!$F$10:$F$1002)","v":0},{"$f":"SUMIF('04 Abril'!$C$10:$C$1002,$B70,'04 Abril'!$F$10:$F$1002)","v":0},{"$f":"SUMIF('05 Mayo'!$C$10:$C$1000,$B70,'05 Mayo'!$F$10:$F$1000)","v":0},{"$f":"SUMIF('06 Junio'!$C$10:$C$1002,$B70,'06 Junio'!$F$10:$F$1002)","v":0},{"$f":"SUMIF('07 Julio'!$C$10:$C$1002,$B70,'07 Julio'!$F$10:$F$1002)","v":0},{"$f":"SUMIF('08 Agosto'!$C$10:$C$1002,$B70,'08 Agosto'!$F$10:$F$1002)","v":0},{"$f":"SUMIF('09 Septiembre'!$C$10:$C$1002,$B70,'09 Septiembre'!$F$10:$F$1002)","v":0},{"$f":"SUMIF('10 Octubre'!$C$10:$C$1002,$B70,'10 Octubre'!$F$10:$F$1002)","v":0},{"$f":"SUMIF('11 Noviembre'!$C$10:$C$1002,$B70,'11 Noviembre'!$F$10:$F$1002)","v":0},{"$f":"SUMIF('12 Diciembre'!$C$10:$C$1002,$B70,'12 Diciembre'!$F$10:$F$1002)","v":0},0]
[null,"Agua y Basura",{"$f":"SUMIF('01 Enero'!$C$10:$C$1002,$B71,'01 Enero'!$F$10:$F$1002)","v":0},{"$f":"SUMIF('02 Febrero'!$C$10:$C$1002,$B71,'02 Febrero'!$F$10:$F$1002)","v":0},{"$f":"SUMIF('03 Marzo'!$C$10:$C$1002,$B71,'03 Marzo'!$F$10:$F$1002)","v":0},{"$f":"SUMIF('04 Abril'!$C$10:$C$1002,$B71,'04 Abril'!$F$10:$F$1002)","v":0},{"$f":"SUMIF('05 Mayo'!$C$10:$C$1000,$B71,'05 Mayo'!$F$10:$F$1000)","v":0},{"$f":"SUMIF('06 Junio'!$C$10:$C$1002,$B71,'06 Junio'!$F$10:$F$1002)","v":0},{"$f":"SUMIF('07 Julio'!$C$10:$C$1002,$B71,'07 Julio'!$F$10:$F$1002)","v":0},{"$f":"SUMIF('08 Agosto'!$C$10:$C$1002,$B71,'08 Agosto'!$F$10:$F$1002)","v":0},{"$f":"SUMIF('09 Septiembre'!$C$10:$C$1002,$B71,'09 Septiembre'!$F$10:$F$1002)","v":0},{"$f":"SUMIF('10 Octubre'!$C$10:$C$1002,$B71,'10 Octubre'!$F$10:$F$1002)","v":0},{"$f":"SUMIF('11 Noviembre'!$C$10:$C$1002,$B71,'11 Noviembre'!$F$10:$F$1002)","v":0},{"$f":"SUMIF('12 Diciembre'!$C$10:$C$1002,$B71,'12 Diciembre'!$F$10:$F$1002)","v":0},0]
[null,"Gasoleo",{"$f":"SUMIF('01 Enero'!$C$10:$C$1002,$B72,'01 Enero'!$F$10:$F$1002)","v":0},{"$f":"SUMIF('02 Febrero'!$C$10:$C$1002,$B72,'02 Febrero'!$F$10:$F$1002)","v":0},{"$f":"SUMIF('03 Marzo'!$C$10:$C$1002,$B72,'03 Marzo'!$F$10:$F$1002)","v":0},{"$f":"SUMIF('04 Abril'!$C$10:$C$1002,$B72,'04 Abril'!$F$10:$F$1002)","v":0},{"$f":"SUMIF('05 Mayo'!$C$10:$C$1000,$B72,'05 Mayo'!$F$10:$F$1000)","v":0},{"$f":"SUMIF('06 Junio'!$C$10:$C$1002,$B72,'06 Junio'!$F$10:$F$1002)","v":0},{"$f":"SUMIF('07 Julio'!$C$10:$C$1002,$B72,'07 Julio'!$F$10:$F$1002)","v":0},{"$f":"SUMIF('08 Agosto'!$C$10:$C$1002,$B72,'08 Agosto'!$F$10:$F$1002)","v":0},{"$f":"SUMIF('09 Septiembre'!$C$10:$C$1002,$B72,'09 Septiembre'!$F$10:$F$1002)","v":0},{"$f":"SUMIF('10 Octubre'!$C$10:$C$1002,$B72,'10 Octubre'!$F$10:$F$1002)","v":0},{"$f":"SUMIF('11 Noviembre'!$C$10:$C$1002,$B72,'11 Noviembre'!$F$10:$F$1002)","v":0},{"$f":"SUMIF('12 Diciembre'!$C$10:$C$1002,$B72,'12 Diciembre'!$F$10:$F$1002)","v":0},0]
[null,"Impuestos",{"$f":"SUMIF('01 Enero'!$C$10:$C$1002,$B73,'01 Enero'!$F$10:$F$1002)","v":0},{"$f":"SUMIF('02 Febrero'!$C$10:$C$1002,$B73,'02 Febrero'!$F$10:$F$1002)","v":0},{"$f":"SUMIF('03 Marzo'!$C$10:$C$1002,$B73,'03 Marzo'!$F$10:$F$1002)","v":0},{"$f":"SUMIF('04 Abril'!$C$10:$C$1002,$B73,'04 Abril'!$F$10:$F$1002)","v":0},{"$f":"SUMIF('05 Mayo'!$C$10:$C$1000,$B73,'05 Mayo'!$F$10:$F$1000)","v":0},{"$f":"SUMIF('06 Junio'!$C$10:$C$1002,$B73,'06 Junio'!$F$10:$F$1002)","v":0},{"$f":"SUMIF('07 Julio'!$C$10:$C$1002,$B73,'07 Julio'!$F$10:$F$1002)","v":0},{"$f":"SUMIF('08 Agosto'!$C$10:$C$1002,$B73,'08 Agosto'!$F$10:$F$1002)","v":0},{"$f":"SUMIF('09 Septiembre'!$C$10:$C$1002,$B73,'09 Septiembre'!$F$10:$F$1002)","v":0},{"$f":"SUMIF('10 Octubre'!$C$10:$C$1002,$B73,'10 Octubre'!$F$10:$F$1002)","v":0},{"$f":"SUMIF('11 Noviembre'!$C$10:$C$1002,$B73,'11 Noviembre'!$F$10:$F$1002)","v":0},{"$f":"SUMIF('12 Diciembre'!$C$10:$C$1002,$B73,'12 Diciembre'!$F$10:$F$1002)","v":0},0]
[null,"Mantenimiento",{"$f":"SUMIF('01 Enero'!$C$10:$C$1002,$B74,'01 Enero'!$F$10:$F$1002)","v":0},{"$f":"SUMIF('02 Febrero'!$C$10:$C$1002,$B74,'02 Febrero'!$F$10:$F$1002)","v":0},{"$f":"SUMIF('03 Marzo'!$C$10:$C$1002,$B74,'03 Marzo'!$F$10:$F$1002)","v":0},{"$f":"SUMIF('04 Abril'!$C$10:$C$1002,$B74,'04 Abril'!$F$10:$F$1002)","v":0},{"$f":"SUMIF('05 Mayo'!$C$10:$C$1000,$B74,'05 Mayo'!$F$10:$F$1000)","v":0},{"$f":"SUMIF('06 Junio'!$C$10:$C$1002,$B74,'06 Junio'!$F$10:$F$1002)","v":0},{"$f":"SUMIF('07 Julio'!$C$10:$C$1002,$B74,'07 Julio'!$F$10:$F$1002)","v":0},{"$f":"SUMIF('08 Agosto'!$C$10:$C$1002,$B74,'08 Agosto'!$F$10:$F$1002)","v":0},{"$f":"SUMIF('09 Septiembre'!$C$10:$C$1002,$B74,'09 Septiembre'!$F$10:$F$1002)","v":0},{"$f":"SUMIF('10 Octubre'!$C$10:$C$1002,$B74,'10 Octubre'!$F$10:$F$1002)","v":0},{"$f":"SUMIF('11 Noviembre'!$C$10:$C$1002,$B74,'11 Noviembre'!$F$10:$F$1002)","v":0},{"$f":"SUMIF('12 Diciembre'!$C$10:$C$1002,$B74,'12 Diciembre'!$F$10:$F$1002)","v":0},0]
[null,"Jardinería",{"$f":"SUMIF('01 Enero'!$C$10:$C$1002,$B75,'01 Enero'!$F$10:$F$1002)","v":0},{"$f":"SUMIF('02 Febrero'!$C$10:$C$1002,$B75,'02 Febrero'!$F$10:$F$1002)","v":0},{"$f":"SUMIF('03 Marzo'!$C$10:$C$1002,$B75,'03 Marzo'!$F$10:$F$1002)","v":0},{"$f":"SUMIF('04 Abril'!$C$10:$C$1002,$B75,'04 Abril'!$F$10:$F$1002)","v":0},{"$f":"SUMIF('05 Mayo'!$C$10:$C$1000,$B75,'05 Mayo'!$F$10:$F$1000)","v":0},{"$f":"SUMIF('06 Junio'!$C$10:$C$1002,$B75,'06 Junio'!$F$10:$F$1002)","v":0},{"$f":"SUMIF('07 Julio'!$C$10:$C$1002,$B75,'07 Julio'!$F$10:$F$1002)","v":0},{"$f":"SUMIF('08 Agosto'!$C$10:$C$1002,$B75,'08 Agosto'!$F$10:$F$1002)","v":0},{"$f":"SUMIF('09 Septiembre'!$C$10:$C$1002,$B75,'09 Septiembre'!$F$10:$F$1002)","v":0},{"$f":"SUMIF('10 Octubre'!$C$10:$C$1002,$B75,'10 Octubre'!$F$10:$F$1002)","v":0},{"$f":"SUMIF('11 Noviembre'!$C$10:$C$1002,$B75,'11 Noviembre'!$F$10:$F$1002)","v":0},{"$f":"SUMIF('12 Diciembre'!$C$10:$C$1002,$B75,'12 Diciembre'!$F$10:$F$1002)","v":0},0]
[null,"C - Otros",{"$f":"SUMIF('01 Enero'!$C$10:$C$1002,$B76,'01 Enero'!$F$10:$F$1002)","v":0},{"$f":"SUMIF('02 Febrero'!$C$10:$C$1002,$B76,'02 Febrero'!$F$10:$F$1002)","v":0},{"$f":"SUMIF('03 Marzo'!$C$10:$C$1002,$B76,'03 Marzo'!$F$10:$F$1002)","v":0},{"$f":"SUMIF('04 Abril'!$C$10:$C$1002,$B76,'04 Abril'!$F$10:$F$1002)","v":0},{"$f":"SUMIF('05 Mayo'!$C$10:$C$1000,$B76,'05 Mayo'!$F$10:$F$1000)","v":0},{"$f":"SUMIF('06 Junio'!$C$10:$C$1002,$B76,'06 Junio'!$F$10:$F$1002)","v":0},{"$f":"SUMIF('07 Julio'!$C$10:$C$1002,$B76,'07 Julio'!$F$10:$F$1002)","v":0},{"$f":"SUMIF('08 Agosto'!$C$10:$C$1002,$B76,'08 Agosto'!$F$10:$F$1002)","v":0},{"$f":"SUMIF('09 Septiembre'!$C$10:$C$1002,$B76,'09 Septiembre'!$F$10:$F$1002)","v":0},{"$f":"SUMIF('10 Octubre'!$C$10:$C$1002,$B76,'10 Octubre'!$F$10:$F$1002)","v":0},{"$f":"SUMIF('11 Noviembre'!$C$10:$C$1002,$B76,'11 Noviembre'!$F$10:$F$1002)","v":0},{"$f":"SUMIF('12 Diciembre'!$C$10:$C$1002,$B76,'12 Diciembre'!$F$10:$F$1002)","v":0},0]
[null,"Mascotas",{"$f":"SUMIF('01 Enero'!$B$10:$B$1002,$B77,'01 Enero'!$F$10:$F$1002)","v":0},{"$f":"SUMIF('02 Febrero'!$B$10:$C$1002,$B77,'02 Febrero'!$F$10:$F$1002)","v":0},{"$f":"SUMIF('03 Marzo'!$B$10:$C$1002,$B77,'03 Marzo'!$F$10:$F$1002)","v":0},{"$f":"SUMIF('04 Abril'!$B$10:$C$1002,$B77,'04 Abril'!$F$10:$F$1002)","v":0},{"$f":"SUMIF('05 Mayo'!$B$10:$B$1001,$B77,'05 Mayo'!$F$10:$F$1001)","v":0},{"$f":"SUMIF('06 Junio'!$B$10:$B$1002,$B77,'06 Junio'!$F$10:$F$1002)","v":0},{"$f":"SUMIF('07 Julio'!$B$10:$B$1002,$B77,'07 Julio'!$F$10:$F$1002)","v":0},{"$f":"SUMIF('08 Agosto'!$B$10:$B$1002,$B77,'08 Agosto'!$F$10:$F$1002)","v":0},{"$f":"SUMIF('09 Septiembre'!$B$10:$B$1002,$B77,'09 Septiembre'!$F$10:$F$1002)","v":0},{"$f":"SUMIF('10 Octubre'!$B$10:$B$1002,$B77,'10 Octubre'!$F$10:$F$1002)","v":0},{"$f":"SUMIF('11 Noviembre'!$B$10:$B$1002,$B77,'11 Noviembre'!$F$10:$F$1002)","v":0},{"$f":"SUMIF('12 Diciembre'!$B$10:$B$1002,$B77,'12 Diciembre'!$F$10:$F$1002)","v":0},0]
[null,"Alimentos",{"$f":"SUMIF('01 Enero'!$C$10:$C$1002,$B78,'01 Enero'!$F$10:$F$1002)","v":0},{"$f":"SUMIF('02 Febrero'!$C$10:$C$1002,$B78,'02 Febrero'!$F$10:$F$1002)","v":0},{"$f":"SUMIF('03 Marzo'!$C$10:$C$1002,$B78,'03 Marzo'!$F$10:$F$1002)","v":0},{"$f":"SUMIF('04 Abril'!$C$10:$C$1002,$B78,'04 Abril'!$F$10:$F$1002)","v":0},{"$f":"SUMIF('05 Mayo'!$C$10:$C$1000,$B78,'05 Mayo'!$F$10:$F$1000)","v":0},{"$f":"SUMIF('06 Junio'!$C$10:$C$1002,$B78,'06 Junio'!$F$10:$F$1002)","v":0},{"$f":"SUMIF('07 Julio'!$C$10:$C$1002,$B78,'07 Julio'!$F$10:$F$1002)","v":0},{"$f":"SUMIF('08 Agosto'!$C$10:$C$1002,$B78,'08 Agosto'!$F$10:$F$1002)","v":0},{"$f":"SUMIF('09 Septiembre'!$C$10:$C$1002,$B78,'09 Septiembre'!$F$10:$F$1002)","v":0},{"$f":"SUMIF('10 Octubre'!$C$10:$C$1002,$B78,'10 Octubre'!$F$10:$F$1002)","v":0},{"$f":"SUMIF('11 Noviembre'!$C$10:$C$1002,$B78,'11 Noviembre'!$F$10:$F$1002)","v":0},{"$f":"SUMIF('12 Diciembre'!$C$10:$C$1002,$B78,'12 Diciembre'!$F$10:$F$1002)","v":0},0]
[null,"Salud",{"$f":"SUMIF('01 Enero'!$C$10:$C$1002,$B79,'01 Enero'!$F$10:$F$1002)","v":0},{"$f":"SUMIF('02 Febrero'!$C$10:$C$1002,$B79,'02 Febrero'!$F$10:$F$1002)","v":0},{"$f":"SUMIF('03 Marzo'!$C$10:$C$1002,$B79,'03 Marzo'!$F$10:$F$1002)","v":0},{"$f":"SUMIF('04 Abril'!$C$10:$C$1002,$B79,'04 Abril'!$F$10:$F$1002)","v":0},{"$f":"SUMIF('05 Mayo'!$C$10:$C$1000,$B79,'05 Mayo'!$F$10:$F$1000)","v":0},{"$f":"SUMIF('06 Junio'!$C$10:$C$1002,$B79,'06 Junio'!$F$10:$F$1002)","v":0},{"$f":"SUMIF('07 Julio'!$C$10:$C$1002,$B79,'07 Julio'!$F$10:$F$1002)","v":0},{"$f":"SUMIF('08 Agosto'!$C$10:$C$1002,$B79,'08 Agosto'!$F$10:$F$1002)","v":0},{"$f":"SUMIF('09 Septiembre'!$C$10:$C$1002,$B79,'09 Septiembre'!$F$10:$F$1002)","v":0},{"$f":"SUMIF('10 Octubre'!$C$10:$C$1002,$B79,'10 Octubre'!$F$10:$F$1002)","v":0},{"$f":"SUMIF('11 Noviembre'!$C$10:$C$1002,$B79,'11 Noviembre'!$F$10:$F$1002)","v":0},{"$f":"SUMIF('12 Diciembre'!$C$10:$C$1002,$B79,'12 Diciembre'!$F$10:$F$1002)","v":0},0]
[null,"Juguetes",{"$f":"SUMIF('01 Enero'!$C$10:$C$1002,$B80,'01 Enero'!$F$10:$F$1002)","v":0},{"$f":"SUMIF('02 Febrero'!$C$10:$C$1002,$B80,'02 Febrero'!$F$10:$F$1002)","v":0},{"$f":"SUMIF('03 Marzo'!$C$10:$C$1002,$B80,'03 Marzo'!$F$10:$F$1002)","v":0},{"$f":"SUMIF('04 Abril'!$C$10:$C$1002,$B80,'04 Abril'!$F$10:$F$1002)","v":0},{"$f":"SUMIF('05 Mayo'!$C$10:$C$1000,$B80,'05 Mayo'!$F$10:$F$1000)","v":0},{"$f":"SUMIF('06 Junio'!$C$10:$C$1002,$B80,'06 Junio'!$F$10:$F$1002)","v":0},{"$f":"SUMIF('07 Julio'!$C$10:$C$1002,$B80,'07 Julio'!$F$10:$F$1002)","v":0},{"$f":"SUMIF('08 Agosto'!$C$10:$C$1002,$B80,'08 Agosto'!$F$10:$F$1002)","v":0},{"$f":"SUMIF('09 Septiembre'!$C$10:$C$1002,$B80,'09 Septiembre'!$F$10:$F$1002)","v":0},{"$f":"SUMIF('10 Octubre'!$C$10:$C$1002,$B80,'10 Octubre'!$F$10:$F$1002)","v":0},{"$f":"SUMIF('11 Noviembre'!$C$10:$C$1002,$B80,'11 Noviembre'!$F$10:$F$1002)","v":0},{"$f":"SUMIF('12 Diciembre'!$C$10:$C$1002,$B80,'12 Diciembre'!$F$10:$F$1002)","v":0},0]
[null,"M - Otros",{"$f":"SUMIF('01 Enero'!$C$10:$C$1002,$B81,'01 Enero'!$F$10:$F$1002)","v":0},{"$f":"SUMIF('02 Febrero'!$C$10:$C$1002,$B81,'02 Febrero'!$F$10:$F$1002)","v":0},{"$f":"SUMIF('03 Marzo'!$C$10:$C$1002,$B81,'03 Marzo'!$F$10:$F$1002)","v":0},{"$f":"SUMIF('04 Abril'!$C$10:$C$1002,$B81,'04 Abril'!$F$10:$F$1002)","v":0},{"$f":"SUMIF('05 Mayo'!$C$10:$C$1000,$B81,'05 Mayo'!$F$10:$F$1000)","v":0},{"$f":"SUMIF('06 Junio'!$C$10:$C$1002,$B81,'06 Junio'!$F$10:$F$1002)","v":0},{"$f":"SUMIF('07 Julio'!$C$10:$C$1002,$B81,'07 Julio'!$F$10:$F$1002)","v":0},{"$f":"SUMIF('08 Agosto'!$C$10:$C$1002,$B81,'08 Agosto'!$F$10:$F$1002)","v":0},{"$f":"SUMIF('09 Septiembre'!$C$10:$C$1002,$B81,'09 Septiembre'!$F$10:$F$1002)","v":0},{"$f":"SUMIF('10 Octubre'!$C$10:$C$1002,$B81,'10 Octubre'!$F$10:$F$1002)","v":0},{"$f":"SUMIF('11 Noviembre'!$C$10:$C$1002,$B81,'11 Noviembre'!$F$10:$F$1002)","v":0},{"$f":"SUMIF('12 Diciembre'!$C$10:$C$1002,$B81,'12 Diciembre'!$F$10:$F$1002)","v":0},0]
[]
[null,"TOTALES",{"$f":"SUM(C7:C15,C17:C24,C26:C31,C33:C42,C44:C51,C53:C58,C60:C62,C65:C68,C70:C76,C78:C81)","v":0},{"$f":"SUM(D7:D15,D17:D24,D26:D31,D33:D42,D44:D51,D53:D58,D60:D62,D65:D68,D70:D76,D78:D81)","v":0},0,0,0,0,0,0,0,0,0,0,{"$f":"SUM(O7:O15,O17:O24,O26:O31,O33:O42,O44:O51,O53:O58,O60:O62,O65:O68,O70:O76,O78:O81)","v":0}]

{"sheet":"01 Enero","index":2,"n_rows":9,"n_cols":6,"rows_kept":9,"cut":false,"hidden":false,"merged":[]}
[]
[]
[]
[null,"Apuntes de Gastos",null,null,null,"Enero "]
[]
[null,null,null,null,"Saldo Actual =",{"$f":"SUM(F10:F1002)","v":0}]
[]
[]
[null,"GRUPO","CONCEPTO","Fecha","DETALLE","IMPORTE"]

{"sheet":"02 Febrero","index":3,"n_rows":9,"n_cols":6,"rows_kept":9,"cut":false,"hidden":false,"merged":[]}
[]
[]
[]
[null,"Apuntes de Gastos",null,null,null,"Febrero"]
[]
[null,null,null,null,"Saldo Actual =",{"$f":"SUM(F10:F1002)","v":0}]
[]
[]
[null,"GRUPO","CONCEPTO","Fecha","DETALLE","IMPORTE"]

{"sheet":"03 Marzo","index":4,"n_rows":9,"n_cols":6,"rows_kept":9,"cut":false,"hidden":false,"merged":[]}
[]
[]
[]
[null,"Apuntes de Gastos",null,null,null,"Marzo"]
[]
[null,null,null,null,"Saldo Actual =",{"$f":"SUM(F10:F1002)","v":0}]
[]
[]
[null,"GRUPO","CONCEPTO","Fecha","DETALLE","IMPORTE"]

{"sheet":"04 Abril","index":5,"n_rows":9,"n_cols":6,"rows_kept":9,"cut":false,"hidden":false,"merged":[]}
[]
[]
[]
[null,"Apuntes de Gastos",null,null,null,"Abril"]
[]
[null,null,null,null,"Saldo Actual =",{"$f":"SUM(F10:F1002)","v":0}]
[]
[]
[null,"GRUPO","CONCEPTO","Fecha","DETALLE","IMPORTE"]

{"sheet":"05 Mayo","index":6,"n_rows":9,"n_cols":6,"rows_kept":9,"cut":false,"hidden":false,"merged":[]}
[]
[]
[]
[null,"Apuntes de Gastos",null,null,null,"Mayo"]
[]
[null,null,null,null,"Saldo Actual =",{"$f":"SUM(F10:F1000)","v":0}]
[]
[]
[null,"GRUPO","CONCEPTO","Fecha","DETALLE","IMPORTE"]

{"sheet":"06 Junio","index":7,"n_rows":9,"n_cols":6,"rows_kept":9,"cut":false,"hidden":false,"merged":[]}
[]
[]
[]
[null,"Apuntes de Gastos",null,null,null,"Junio"]
[]
[null,null,null,null,"Saldo Actual =",{"$f":"SUM(F10:F1002)","v":0}]
[]
[]
[null,"GRUPO","CONCEPTO","Fecha","DETALLE","IMPORTE"]

{"sheet":"07 Julio","index":8,"n_rows":9,"n_cols":6,"rows_kept":9,"cut":false,"hidden":false,"merged":[]}
[]
[]
[]
[null,"Apuntes de Gastos",null,null,null,"Julio"]
[]
[null,null,null,null,"Saldo Actual =",{"$f":"SUM(F10:F1002)","v":0}]
[]
[]
[null,"GRUPO","CONCEPTO","Fecha","DETALLE","IMPORTE"]

{"sheet":"08 Agosto","index":9,"n_rows":9,"n_cols":6,"rows_kept":9,"cut":false,"hidden":false,"merged":[]}
[]
[]
[]
[null,"Apuntes de Gastos",null,null,null,"Agosto"]
[]
[null,null,null,null,"Saldo Actual =",{"$f":"SUM(F10:F1002)","v":0}]
[]
[]
[null,"GRUPO","CONCEPTO","Fecha","DETALLE","IMPORTE"]

{"sheet":"09 Septiembre","index":10,"n_rows":9,"n_cols":6,"rows_kept":9,"cut":false,"hidden":false,"merged":[]}
[]
[]
[]
[null,"Apuntes de Gastos",null,null,null,"Septiembre"]
[]
[null,null,null,null,"Saldo Actual =",{"$f":"SUM(F10:F1002)","v":0}]
[]
[]
[null,"GRUPO","CONCEPTO","Fecha","DETALLE","IMPORTE"]

{"sheet":"10 Octubre","index":11,"n_rows":9,"n_cols":6,"rows_kept":9,"cut":false,"hidden":false,"merged":[]}
[]
[]
[]
[null,"Apuntes de Gastos",null,null,null,"Octubre"]
[]
[null,null,null,null,"Saldo Actual =",{"$f":"SUM(F10:F1002)","v":0}]
[]
[]
[null,"GRUPO","CONCEPTO","Fecha","DETALLE","IMPORTE"]

{"sheet":"11 Noviembre","index":12,"n_rows":9,"n_cols":6,"rows_kept":9,"cut":false,"hidden":false,"merged":[]}
[]
[]
[]
[null,"Apuntes de Gastos",null,null,null,"Noviembre"]
[]
[null,null,null,null,"Saldo Actual =",{"$f":"SUM(F10:F1002)","v":0}]
[]
[]
[null,"GRUPO","CONCEPTO","Fecha","DETALLE","IMPORTE"]

{"sheet":"12 Diciembre","index":13,"n_rows":9,"n_cols":6,"rows_kept":9,"cut":false,"hidden":false,"merged":[]}
[]
[]
[]
[null,"Apuntes de Gastos",null,null,null,"Diciembre"]
[]
[null,null,null,null,"Saldo Actual =",{"$f":"SUM(F10:F1002)","v":0}]
[]
[]
[null,"GRUPO","CONCEPTO","Fecha","DETALLE","IMPORTE"]

{"sheet":"Categorias","index":14,"n_rows":19,"n_cols":13,"rows_kept":19,"cut":false,"hidden":false,"merged":[[6,3,6,12]]}
[]
[]
[]
[]
[]
[]
[null,null,null,"CONCEPTOS"]
[null,"Segmentos",null,"Supermercado","Gastos_Fijos","Formación","Ocio","Transporte","Vivienda","Salud_Bienestar","Seguros","Chalet","Mascotas"]
[]
[null,"Supermercado",null,"Alimentación","Agua","Colegio","Vacaciones","Vehículos","Muebles","Médicos","Vivienda","Luz_Chalet","Alimentos"]
[null,"Gastos_Fijos",null,"Limpieza","Luz","Extraescolares","Paseos","Taller","Electrodomesticos","Farmacia","Vida","Agua y Basura","Salud"]
[null,"Formación",null,"Perfumería","Gas ","Libros","Espectáculos","Combustible","Reparaciones","Cuidado Personal","Jubilación","Gasoleo","Juguetes"]
[null,"Ocio",null,"Hogar y Menaje","Teléfono","Excursiones","Deporte","Seguros","V-Informática",null,"Electrodomésticos","Impuestos","M - Otros"]
[null,"Transporte",null,"Ropa","Comunidad","Cursos","Restaurantes","Multas","Impuestos",null,null,"Mantenimiento"]
[null,"Vivienda",null,"Calzado","Servicio","Material Escolar","Bares","Impuestos","V - Otros",null,null,"Jardinería"]
[null,"Salud_Bienestar",null,"Informática","Televisión","F - Varios","Libros y Revistas","Público",null,null,null,"C - Otros"]
[null,"Seguros",null,"Regalos","G - Otros",null,"Juegos","Correo"]
[null,"Chalet",null,"T - Varios",null,null,"Música","T - Otros"]
[null,"Mascotas",null,null,null,null,"O - Otros"]